{"text_format":"1","workbook":"xlsx","n_sheets":9,"sheets":["Instructions","CostCalculator","PropDMG_Custom","AAR Parts","Injuries_WorkMissed","Freight_Cargo","Lookup Tables","Dropdown Lists","DataExtract"],"not_rendered":{"charts":0,"images":6,"macros":1,"external_links":0,"defined_names":3,"comments":2,"pivot_tables":1},"unopened":[],"bounds":{"document_bytes":16777216,"sheet_cells":100000,"rows_first":2000,"rows_last":500,"rows_between":2000,"halvings":0,"cell_chars":16384,"cell_head_chars":4096},"cells_cut":0,"cells_raw":0,"read":"whole","date_system":"1900"}

{"sheet":"Instructions","index":0,"n_rows":14,"n_cols":9,"rows_kept":14,"cut":false,"hidden":false,"merged":[[7,8,7,9],[13,2,13,6],[7,2,7,6],[6,2,6,6],[1,0,2,6],[3,0,4,6],[10,2,10,6],[8,2,8,6],[9,2,9,6],[11,2,11,6],[12,2,12,6]]}
[]
["Comprehensive Cost of Rail Incidents: Cost Tool"]
[]
["Tool Instructions & Definitions"]
[]
[]
["No.","Analysis Category","Description"]
[1,"General\nTool Architecture","The Comprehensive Cost of Rail Incidents Cost Tool was built to estimate the wide spectrum of costs that occur as a result of a rail incident. This tool appraises the costs associated with four (4) primary cost components that are incurred during an incident. These include: \n          1) Property Damage (rail and highway rolling stock, vehicles, and infrastructure)\n          2) Casualties (injuries and fatalities)\n          3) Delay and Rerouting\n                    a. Passenger Train Delay and Rerouting\n                    b. Freight Train Delay & Rerouting\n                    c. Additional Operating Costs\n                    d. Emissions Costs\n          4) First Responder and Emergency Management (personnel and equipment)",null,null,null,null,null,"Password to Unlock Sheets in Workbook is \"NCDOT\""]
[2,"General \nUsing the Tool","The \"CostCalculator\" tab houses the excel application that can be used to estimate the costs associated from a give rail incident. It provides recommended values based on historic incident data or research and allows for the user to tailor their estimates with custom values, based on specific context-specific information.\n\nWithin the tool, yellow cells denote locations where a value should be either selected from a dropdown menu or entered into a cell. A good way to remember this is to \"follow the yellow brick road.\" The dropdown menus will have recommended values for instances where you do not have incident-specific data available. In instances where you do have specific information, you can enter it as a custom value. \n\nBefore getting started, video guides for each of the four cost components can be viewed.\n          1) Property Damage Cost Guide. Link: Will be completed by mid-January\n          2) Casualty Cost Guide. Link: Will be completed by mid-January\n          3) Delay and Rerouting Cost Guide. Link: Will be completed by mid-January\n          4) First Responder and Emergency Management Cost Guide. Link: Will be completed by mid-January"]
[3,"General \nDrilling Down for More Granularity","The \"PropDMG_Custom\" tab and the \"AAR Parts\" tab support the Property Damage Cost Analysis and can be used to provide more granularity to this component of the analysis. The \"Injuries_WorkMissed\" tab can be used to provide more depth to the Casualties Cost Analysis. The \"Freight_Cargo\" tab can be used to customize the freight commodity, which is used in the Delay and Rerouting Cost Analysis. The \"Lookup Tables\" tab can be viewed to reference historic data or values obtained in the research.  "]
[4,"Property Damage \nGuidance","The Property Damage Cost Analysis is denoted by cells with a navy blue color in the \"CostCalculator\" tab. A general estimate can be made using the \"CostCalculator\" tab (rows 8-15), or an fully tailored estimated can be made using the \"PropDMG_Custom\" tab (rows 9-56). The AAR Parts tab can be used to identify maintenance and replacement costs for train parts as part of the estimate using the \"PropDMG_Custom\" tab."]
[5,"Casualties \nGuidance","The Casualty Cost Analysis is denoted by green cells in the \"CostCalculator\" tab (rows 21-44). Maxium abbreviated injury scale (MAIS) and the National Safety Council's KABCO scale are available for appraising injury and fatality costs. The \"Injuries_WorkMissed\" supports the Casualty Cost Analysis by estimating loss in productivity costs associated with worked days missed due to injury. "]
[6,"Delay and Rerouting \nGuidance","The Delay and Rerouting Analysis is denoted by red shades for passsenger rail and blue shades for freight rail in the \"CostCalculator\" tab (rows 50-242). There are three primary categories of delay and rerouting costs that are estimated, which include: \n          1) Passenger rail delay and upstream passenger rail delay costs. These include value of time costs for passengers and crew members, rerouting costs for passengers and \n               Amtrak, and upstream costs associated with delay including costs for additional wait-time, rerouting, or cancellations. \n          2)  Freight rail delay and upstream costs. These include value of time costs for freight train staff, shipper costs associated with delay (i.e. opportunity, spoilage, and useful life \n                costs), cargo replacement costs, and upstream freight train costs. \n          3) Additional operating and emissions costs from increased idling or engine run-time are also estimated within this tool. \n\nThe \"Freight_Cargo\" tab allows for a customized commodity mix to be created and integrated into the freight cost analysis. "]
[7,"First and Emergency Response \nGuidance","The First and Emergency Response Analysis is shown through shades of brown in the \"CostCalculator\" tab (rows 247-326). There are two primary categories of first and emergency response costs that are estimated, including: \n          1) Emergency Personnel Costs (the value of time for first and emergency responders)\n          2) Emergency Equipment Costs (the cost to use equipment as part of a railroad incident response effort) "]

{"sheet":"CostCalculator","index":1,"n_rows":365,"n_cols":28,"rows_kept":365,"cut":false,"hidden":false,"merged":[[56,8,56,16],[100,0,100,4],[163,23,163,27],[107,0,107,4],[114,0,114,4],[200,8,200,10],[123,0,123,6],[124,1,124,5],[82,1,82,5],[90,8,90,9],[90,11,90,13],[100,8,100,17],[90,15,90,17],[92,1,92,3],[113,1,113,3],[105,1,105,3],[121,1,121,3],[115,8,115,10],[115,12,115,14],[86,8,86,17],[172,9,172,21],[172,8,173,8],[163,8,164,8],[115,0,115,4],[355,0,355,1],[219,1,219,3],[243,0,244,1],[222,0,222,4],[240,0,240,4],[49,0,49,3],[50,1,50,3],[51,1,51,3],[52,1,52,3],[182,0,182,4],[196,0,196,4],[197,1,197,3],[188,1,188,3],[194,1,194,3],[84,0,84,4],[231,0,231,4],[207,1,207,3],[216,1,216,3],[229,1,229,3],[97,0,98,4],[99,0,99,4],[106,0,106,4],[238,1,238,3],[336,0,336,3],[338,0,338,3],[340,0,340,3],[352,0,352,3],[172,0,172,4],[168,0,168,4],[169,1,169,3],[179,0,179,4],[180,1,180,3],[181,0,181,4],[317,2,318,2],[299,2,299,4],[209,0,209,4],[334,0,334,3],[331,0,332,1],[328,0,328,4],[329,1,329,3],[317,0,318,0],[317,1,318,1],[298,0,298,4],[248,0,251,0],[200,0,200,4],[309,14,309,15],[310,14,310,15],[311,14,311,15],[312,14,312,15],[313,14,313,15],[314,14,314,15],[315,14,315,15],[308,6,308,10],[308,14,308,18],[313,6,313,7],[314,6,314,7],[290,6,290,12],[273,6,273,12],[257,2,257,4],[290,2,290,4],[265,2,265,4],[273,1,274,1],[273,2,273,4],[281,0,282,0],[281,1,282,1],[267,6,267,7],[268,6,268,7],[265,6,265,12],[266,6,266,7],[281,2,282,2],[265,0,266,0],[265,1,266,1],[273,0,274,0],[257,0,258,0],[257,1,258,1],[290,0,291,0],[290,1,291,1],[259,6,259,7],[260,6,260,7],[291,6,291,7],[273,14,273,20],[274,14,274,15],[275,14,275,15],[276,14,276,15],[277,14,277,15],[278,14,278,15],[279,14,279,15],[269,6,269,7],[270,6,270,7],[271,6,271,7],[274,6,274,7],[275,6,275,7],[276,6,276,7],[277,6,277,7],[278,6,278,7],[279,6,279,7],[20,0,20,5],[21,0,21,5],[23,8,23,17],[23,0,23,5],[16,0,17,1],[132,8,132,12],[159,9,159,23],[159,8,160,8],[163,22,164,22],[163,15,164,15],[163,16,163,20],[60,0,60,6],[44,19,44,22],[46,0,47,1],[60,8,60,12],[56,0,56,4],[41,1,41,4],[94,0,94,6],[95,1,95,5],[132,0,132,6],[155,0,155,6],[159,0,159,4],[156,1,156,5],[42,19,42,22],[43,19,43,22],[7,8,7,17],[23,19,23,22],[39,19,39,22],[20,19,20,22],[21,19,21,22],[27,19,27,22],[28,19,28,22],[29,19,29,22],[30,19,30,22],[33,19,33,22],[38,19,38,22],[34,19,34,22],[22,19,22,22],[32,19,32,22],[7,19,7,21],[8,1,8,3],[9,1,9,3],[10,1,10,3],[7,0,7,3],[13,0,13,3],[246,0,247,0],[246,1,246,4],[4,0,5,1],[19,19,19,26],[32,0,32,4],[43,0,43,4],[25,0,25,4],[29,8,29,17],[24,19,24,22],[25,19,25,22],[26,19,26,22],[35,19,35,22],[36,19,36,22],[37,19,37,22],[40,19,40,22],[31,19,31,22],[10,8,10,17],[40,1,40,4],[41,19,41,22],[292,6,292,7],[293,6,293,7],[294,6,294,7],[295,6,295,7],[296,6,296,7],[297,6,297,7],[300,6,300,7],[301,6,301,7],[302,6,302,7],[303,6,303,7],[304,6,304,7],[305,6,305,7],[306,6,306,7],[315,6,315,7],[307,0,307,4],[316,0,316,4],[299,6,299,12],[309,6,309,7],[310,6,310,7],[311,6,311,7],[312,6,312,7],[299,0,300,0],[299,1,300,1],[308,0,309,0],[308,1,309,1],[308,2,308,4],[261,6,261,7],[262,6,262,7],[263,6,263,7],[258,6,258,7],[257,6,257,12],[127,0,127,4],[127,8,127,13],[163,9,163,13],[166,0,166,4],[218,0,218,4],[241,1,241,3],[247,1,247,4],[248,1,248,4],[249,1,249,4],[250,1,250,4],[251,1,251,4],[182,8,182,17],[207,8,207,9],[223,8,223,9]]}
[]
[null,null,"NCDOT Rail Division",null,null,null,null,null,null,null,null,null,null,null,null,null,"NCDOT Rail Division"]
[null,null,"Comprehensive Cost of Rail Incidents: Cost Tool",null,null,null,null,null,null,null,null,null,null,null,null,null,"Comprehensive Cost of Rail Incidents Cost Tool"]
[]
["Part I: Property Damage Model Inputs"]
[]
[]
["Property Damage Input Guidance",null,null,null,"Dropdown Menu","Total Damages Incurred",null,null,"Table 1: Summary Property Damage Cost Statistics of Rail Events in North Carolina (in $2022)",null,null,null,null,null,null,null,null,null,null,"CPI Inflation Calculator"]
["Option A","If rail incident damage costs are unknown, select from a set of default values from the dropdown menu",null,null,null,{"$f":"IF(E9=I9,I10,IF(E9=J9,J10,IF(E9=K9,K10,IF(E9=L9,L10,IF(E9=M9,M10,IF(E9=N9,N10,IF(E9=O9,O10,IF(E9=P9,P10,IF(E9=Q9,Q10,\"--From Dropdown Menu to Left--\")))))))))","v":"--From Dropdown Menu to Left--"},null,null,"Minimum","Percentile (10)","Percentile (25)","Mean","Median*","Mode","Percentile (75)","Percentile (90)","Maximum","No. of Observations",null,"Year Event Occurred","Costs in Event Year Dollars","Costs in $2022"]
["Option B","If costs are known, enter the total dollar value (in $2022) of property damages incurred the during incident.1",null,null,null,null,null,null,{"$f":"ROUND('Lookup Tables'!A13,-1)","v":3840},{"$f":"ROUND('Lookup Tables'!B13,-1)","v":14170},{"$f":"ROUND('Lookup Tables'!C13,-1)","v":18930},{"$f":"ROUND('Lookup Tables'!D13,-1)","v":133110},{"$f":"ROUND('Lookup Tables'!E13,-1)","v":34790},{"$f":"ROUND('Lookup Tables'!F13,-1)","v":52340},{"$f":"ROUND('Lookup Tables'!G13,-1)","v":87000},{"$f":"ROUND('Lookup Tables'!H13,-1)","v":241250},{"$f":"ROUND('Lookup Tables'!I13,-1)","v":8578020},{"$f":"'Lookup Tables'!J13","v":1125},null,null,null,{"$f":"IF(ISBLANK(T10),\"--enter values to left--\",VLOOKUP(T10,'Lookup Tables'!$Q$11:$R$64,2,FALSE)*U10)","v":"--enter values to left--"}]
["Option C","Build a more in-depth custom estimate of incurred damages via the \"PropDMG_Custom\" Tab",null,null,null,{"$f":"IF(PropDMG_Custom!F56<>3840,PropDMG_Custom!F56,\"--From PropDMG_Custom Tab--\")","v":"--From PropDMG_Custom Tab--"},null,null,"*Due to the skewed distribution of property damages incurred, it is recommended that the median value is selected when choosing a generalized estimate for damages incurred"]
["1Convert costs into 2020 dollars using the Bureau of Labor Statistics CPI Inflation Calculator (https://www.bls.gov/data/inflation_calculator.htm), or use the converter located in cell T8 - V10."]
[]
["Step by Step Guidance",null,null,null,"Property Damage Subtotal"]
["Based on the information provided in Options A, B, or C, the Total Property Damage tabulated for Part I of the model is...",null,null,null,{"$f":"IF(AND(ISNUMBER(F9),ISNUMBER(F10)),\"--input values for one option only--\",IF(AND(ISNUMBER(F9),ISNUMBER(F10),ISNUMBER(F11)),\"--input values for one option only--\",IF(AND(ISNUMBER(F9),ISNUMBER(F11)),\"--input values for one option only--\",IF(AND(ISNUMBER(F10),ISNUMBER(F11)),\"--input values for one option only--\",IF(SUM(F9:F11)=0,\"--Enter Values Above--\",SUM(F9:F11))))))","v":"--Enter Values Above--"}]
[]
["Part II: Casualty Input Values"]
[]
[]
[null,null,null,null,null,null,null,null,null,null,null,null,null,null,null,null,null,null,null,"Table 4: Casualty Statistics (Ten-Year Average)"]
["Step by Step Guidance",null,null,null,null,null,null,null,null,null,null,null,null,null,null,null,null,null,null,"Casualty Statistic",null,null,null,"NC (1999-2000)","NC (2000-2009)","NC (2010-2019)","NC (All Years)"]
["Enter the number of fatalities and injury by type that have occurred during a rail incident. Rail casualty statistics can be found in Tables 2, 3, and 4 may be used as benchmarks.",null,null,null,null,null,null,null,null,null,null,null,null,null,null,null,null,null,null,"Average Annual No. of Rail Events: Casualty & Non-Casualty",null,null,null,{"$f":"DataExtract!AN3","v":315.39999999999998},{"$f":"DataExtract!AZ3","v":205.4},187,{"$f":"DataExtract!BM3","v":235.93333333333334}]
[null,null,null,null,null,null,null,null,null,null,null,null,null,null,null,null,null,null,null,"Highway Rail Crossing Events",null,null,null,{"$f":"DataExtract!AN43","v":145.9},{"$f":"DataExtract!AZ43","v":75.099999999999994},{"$f":"DataExtract!BL43","v":50.6},{"$f":"DataExtract!BM43","v":90.533333333333331}]
["Casualty Charactertistics for a Rail Incident",null,null,null,null,null,null,null,"Table 2: Summary Statistics for No. of Injuries That Have Occurred During  Rail Events in North Carolina1",null,null,null,null,null,null,null,null,null,null,"All Other Events / Incidents",null,null,null,{"$f":"DataExtract!AN48+DataExtract!AN18","v":169.5},{"$f":"DataExtract!AZ48+DataExtract!AZ18","v":130.30000000000001},{"$f":"DataExtract!BL48+DataExtract!BL18","v":136.4},{"$f":"DataExtract!BM48+DataExtract!BM18","v":145.4}]
["Step","Casualty Type","Fraction of VSL","No. of Occurances","Monetized Injury Cost in $2022","Total Casualty Cost Incurred",null,null,"Minimum","Percentile (10)","Percentile (25)","Mean","Median*","Mode","Percentile (75)","Percentile (90)","Maximum","No. of Observations",null,"Average Annual No. of Rail Events: Casualty Events",null,null,null,{"$f":"X31+X28","v":217.7},{"$f":"Y31+Y28","v":135.9},{"$f":"Z31+Z28","v":153.80000000000001},{"$f":"AA31+AA28","v":169.13333333333333}]
["MAIS Scale",null,null,null,null,null,null,null,{"$f":"'Lookup Tables'!F82","v":0},{"$f":"'Lookup Tables'!G82","v":1},{"$f":"'Lookup Tables'!H82","v":2},{"$f":"'Lookup Tables'!I82","v":9.0416666666666661},{"$f":"'Lookup Tables'!J82","v":4},{"$f":"'Lookup Tables'!K82","v":2},{"$f":"'Lookup Tables'!L82","v":8},{"$f":"'Lookup Tables'!M82","v":25.90000000000002},{"$f":"'Lookup Tables'!N82","v":87},{"$f":"'Lookup Tables'!O82","v":1109},null,"Highway Rail Crossing Events",null,null,null,{"$f":"X32+X29","v":64.7},32.700000000000003,38.5,45.300000000000004]
["2.A","Fatality ($10,833,000 | 1.000 VSL)",1,null,{"$f":"'Lookup Tables'!D83","v":10883000},{"$f":"IF(ISBLANK(D27),\"--\",(D27*E27))","v":"--"},null,null,"1Values were obtained from FRA Form 6180.54 records that resulted in an injury event. Only injury events were evaluated; however, zero is provided in the table to demonstrate the true lower bound.",null,null,null,null,null,null,null,null,null,null,"Other Events / Incidents",null,null,null,153,103.2,115.30000000000001,123.83333333333333]
["2.B","Injury: Minor, MAIS Level 1 ($33,000 | 0.003 VSL)",3.0000000000000001E-3,null,{"$f":"'Lookup Tables'!D84","v":33000},"--",null,null,null,null,null,null,null,null,null,null,null,null,null,"Average Annual No. of Rail Events: Fatalities",null,null,null,{"$f":"DataExtract!AN4","v":35},{"$f":"DataExtract!AZ4","v":25.6},{"$f":"DataExtract!BL4","v":22.3},{"$f":"DataExtract!BM4","v":27.633333333333333}]
["2.C","Injury: Moderate, MAIS Level 2 ($511,200 | 0.047 VSL)",4.7E-2,null,{"$f":"'Lookup Tables'!D85","v":511000},"--",null,null,null,null,null,null,null,null,null,null,null,null,null,"Highway Rail Crossing Events",null,null,null,{"$f":"DataExtract!AN44","v":12.3},{"$f":"DataExtract!AZ44","v":7.4},{"$f":"DataExtract!BL44","v":5.3},{"$f":"DataExtract!BM44","v":8.3333333333333339}]
["2.E","Injury: Serious, MAIS Level 3 ($1,143,000 | 0.105 VSL)",0.105,null,{"$f":"'Lookup Tables'!D86","v":1143000},"--",null,null,"Table 3: Summary Statistics for No. of Fatalities That Have Occurred During  Rail Events in North Carolina1",null,null,null,null,null,null,null,null,null,null,"All Other Events / Incidents",null,null,null,{"$f":"DataExtract!AN49+DataExtract!AN19","v":22.700000000000003},{"$f":"DataExtract!AZ49+DataExtract!AZ19","v":18.200000000000003},{"$f":"DataExtract!BL49+DataExtract!BL19","v":17},{"$f":"DataExtract!BM49+DataExtract!BM19","v":19.3}]
["2.F","Injury: Severe, MAIS Level 4 ($2,895,000 | 0.266 VSL)",0.26600000000000001,null,{"$f":"'Lookup Tables'!D87","v":2895000},"--",null,null,"Minimum","Percentile (10)","Percentile (25)","Mean","Median*","Mode","Percentile (75)","Percentile (90)","Maximum","No. of Observations",null,"Average Annual No. of Rail Events: Injuries",null,null,null,{"$f":"DataExtract!AN5","v":182.7},{"$f":"DataExtract!AZ5","v":110.3},{"$f":"DataExtract!BL5","v":131.5},{"$f":"DataExtract!BM5","v":141.5}]
["2.G","Injury: Critical, MAIS Level 5 ($6,205,000 | 0.593 VSL)",0.59299999999999997,null,{"$f":"'Lookup Tables'!D88","v":6205000},"--",null,null,{"$f":"'Lookup Tables'!F86","v":0},{"$f":"'Lookup Tables'!G86","v":1},{"$f":"'Lookup Tables'!H86","v":1},{"$f":"'Lookup Tables'!I86","v":2.1714285714285713},{"$f":"'Lookup Tables'!J86","v":2},{"$f":"'Lookup Tables'!K86","v":2},{"$f":"'Lookup Tables'!L86","v":2},{"$f":"'Lookup Tables'!M86","v":4},{"$f":"'Lookup Tables'!N86","v":6},{"$f":"'Lookup Tables'!O86","v":1109},null,"Highway Rail Crossing Events",null,null,null,{"$f":"DataExtract!AN45","v":52.4},{"$f":"DataExtract!AZ45","v":25.3},{"$f":"DataExtract!BL45","v":33.200000000000003},{"$f":"DataExtract!BM45","v":36.966666666666669}]
["KABCO Scale",null,null,null,null,null,null,null,"1Values were obtained from FRA Form 6180.54 records that resulted in a fatality event. Only fatality events were evaluated; however, zero is provided in the table to demonstrate the true lower bound.",null,null,null,null,null,null,null,null,null,null,"All Other Events / Incidents",null,null,null,{"$f":"DataExtract!AN50+DataExtract!AN20","v":130.30000000000001},{"$f":"DataExtract!AZ50+DataExtract!AZ20","v":85},{"$f":"DataExtract!BL50+DataExtract!BL20","v":98.300000000000011},{"$f":"DataExtract!BM50+DataExtract!BM20","v":104.53333333333333}]
["2.E","Injury (KABCO): O - No Injury ($4,000)",null,null,{"$f":"'Lookup Tables'!D90","v":4000},{"$f":"IF(ISBLANK(D34),\"--\",(D34*E34))","v":"--"},null,null,"Monetized casualty costs come from the USDOT benefit cost analysis guidance. Values have been adjusted from $2018 to $2020.",null,null,null,null,null,null,null,null,null,null,"Fatality Incidence Per Rail Event: Casualty & Non-Casualty",null,null,null,{"$f":"X28/$X$22","v":0.11097019657577679},{"$f":"Y28/$Y$22","v":0.12463485881207401},{"$f":"Z28/$Z$22","v":0.11925133689839573},{"$f":"AA28/$AA$22","v":0.11712348120938118}]
["2.F","Injury (KABCO): C - Possible Injury ($84,000)",null,null,{"$f":"'Lookup Tables'!D91","v":84000},"--",null,null,null,null,null,null,null,null,null,null,null,null,null,"Highway Rail Crossing Events",null,null,null,{"$f":"X29/$X$22","v":3.899809765377299E-2},{"$f":"Y29/$Y$22","v":3.6027263875365145E-2},{"$f":"Z29/$Z$22","v":2.834224598930481E-2},{"$f":"AA29/$AA$22","v":3.5320712065555246E-2}]
["2.G","Injury (KABCO): B - Non-Incapacitating ($165,000)",null,null,{"$f":"'Lookup Tables'!D92","v":165000},"--",null,null,null,null,null,null,null,null,null,null,null,null,null,"All Other Events / Incidents",null,null,null,{"$f":"X30/$X$22","v":7.1972098922003819E-2},{"$f":"Y30/$Y$22","v":8.8607594936708875E-2},{"$f":"Z30/$Z$22","v":9.0909090909090912E-2},{"$f":"AA30/$AA$22","v":8.1802769143825935E-2}]
["2.H","Injury (KABCO): A - Incapacitating ($605,000)",null,null,{"$f":"'Lookup Tables'!D93","v":605000},"--",null,null,null,null,null,null,null,null,null,null,null,null,null,"Fatality Incidence Per Rail Event: Casualty",null,null,null,{"$f":"X28/$X$25","v":0.16077170418006431},{"$f":"Y28/$Y$25","v":0.188373804267844},{"$f":"Z28/$Z$25","v":0.14499349804941483},{"$f":"AA28/$AA$25","v":0.16338194718171067}]
["2.I","Injury (KABCO): K - Killed ($12,644,000)",null,null,{"$f":"'Lookup Tables'!D94","v":12644000},"--",null,null,null,null,null,null,null,null,null,null,null,null,null,"Highway Rail Crossing Events",null,null,null,{"$f":"X29/$X$25","v":5.6499770326136893E-2},{"$f":"Y29/$Y$25","v":5.4451802796173655E-2},{"$f":"Z29/$Z$25","v":3.4460338101430427E-2},{"$f":"AA29/$AA$25","v":4.9270792274339774E-2}]
["2.J","Injury (KABCO): U - Unknown if Injured ($174,000)",null,null,{"$f":"'Lookup Tables'!D95","v":174000},"--",null,null,null,null,null,null,null,null,null,null,null,null,null,"All Other Events / Incidents",null,null,null,{"$f":"X30/$X$25","v":0.10427193385392744},{"$f":"Y30/$Y$25","v":0.13392200147167035},{"$f":"Z30/$Z$25","v":0.11053315994798439},{"$f":"AA30/$AA$25","v":0.11411115490737092}]
[null,null,null,null,null,null,null,null,null,null,null,null,null,null,null,null,null,null,null,"Injury Incidence Per Rail Event: Casualty & Non-Casualty",null,null,null,{"$f":"X31/$X$22","v":0.57926442612555484},{"$f":"Y31/$Y$22","v":0.53700097370983446},{"$f":"Z31/$Z$22","v":0.70320855614973266},{"$f":"AA31/$AA$22","v":0.59974569087312801}]
["Step","Monetized Loss In Business Productivity",null,null,null,null,null,null,null,null,null,null,null,null,null,null,null,null,null,"Highway Rail Crossing Events",null,null,null,{"$f":"X32/$X$22","v":0.16613823715916298},{"$f":"Y32/$Y$22","v":0.12317429406037},{"$f":"Z32/$Z$22","v":0.17754010695187167},{"$f":"AA32/$AA$22","v":0.15668267872280306}]
["2.K","Use the \"Injuries_WorkMissed\" Tab to Determine Costs Associated with Loss in Business Productivity due to Injury Absence ",null,null,null,{"$f":"IF(Injuries_WorkMissed!J10=0,\"--\",Injuries_WorkMissed!J10)","v":"--"},null,null,null,null,null,null,null,null,null,null,null,null,null,"All Other Events / Incidents",null,null,null,{"$f":"X33/$X$22","v":0.41312618896639197},{"$f":"Y33/$Y$22","v":0.41382667964946446},{"$f":"Z33/$Z$22","v":0.52566844919786104},{"$f":"AA33/$AA$22","v":0.44306301215032495}]
[null,null,null,null,null,null,null,null,null,null,null,null,null,null,null,null,null,null,null,"Injury Incidence Per Rail Event: Casualty",null,null,null,{"$f":"X31/$X$25","v":0.83922829581993563},{"$f":"Y31/$Y$25","v":0.811626195732156},{"$f":"Z31/$Z$25","v":0.85500650195058514},{"$f":"AA31/$AA$25","v":0.83661805281828938}]
["Total Estimated Monetized Casualty Costs",null,null,null,null,{"$f":"IF(SUM(F27:F42)=0,\"--Enter Values Above--\",SUM(F27:F42))","v":"--Enter Values Above--"},null,null,null,null,null,null,null,null,null,null,null,null,null,"Highway Rail Crossing Events",null,null,null,{"$f":"X32/$X$25","v":0.24069820854386773},{"$f":"Y32/$Y$25","v":0.18616629874908019},{"$f":"Z32/$Z$25","v":0.21586475942782835},{"$f":"AA32/$AA$25","v":0.21856523452897125}]
[null,null,null,null,null,null,null,null,null,null,null,null,null,null,null,null,null,null,null,"All Other Events / Incidents",null,null,null,{"$f":"X33/$X$25","v":0.59853008727606805},{"$f":"Y33/$Y$25","v":0.6254598969830758},{"$f":"Z33/$Z$25","v":0.63914174252275691},{"$f":"AA33/$AA$25","v":0.61805281828931813}]
[null,null,null,null,null,null,null,null,null,null,null,null,null,null,null,null,null,null,null,"Source: FRA. Table 1.12 (NC Data Extract)"]
["Part III: Delay and Supply Chain Costs"]
[]
[]
["Delay and Supply Chain Cost Guidance"]
["Step","Guidance on the Components of the Analysis                   "]
["3.A - 3.H","Passenger rail delay and upstream costs are tabulated in the red tables."]
["3.I - 3.Q","Freight delay and upstream costs are tabulated in the blue tables."]
["3.R-3.W","Operating & emissions costs associated with passenger or freight train delays are tabulated in the purple tables. "]
[]
[]
["Passenger Rail: Time of Delay Experienced by Passengers Onboard or People Waiting for Train",null,null,null,null,null,null,null,"Passenger Train Delay Associated with a Rail Incident on an Amtrak Line (Time is Provided in Minutes)"]
["Step","Monetization Factor","Value Section","Minutes of Delay","Custom Value (Minutes of Delay)",null,null,null,"Minimum","10th Percentile","25th Percentile","Median","Mode","75th Percentile","90th Percentile","Maximum","No. of Observations"]
["3.A.1","Total Minutes of Delay",null,{"$f":"IF(C59=I58,I59,IF(C59=J58,J59,IF(C59=K58,K59,IF(C59=L58,L59,IF(C59=M58,M59,IF(C59=N58,N59,IF(C59=O58,O59,IF(C59=P58,P59,IF(C59=\"Add Custom Value\",\"Add Value\",\"--\")))))))))","v":"--"},null,null,null,null,{"$f":"'Lookup Tables'!C131","v":15.000000000000107},{"$f":"'Lookup Tables'!D131","v":23.999999999999915},{"$f":"'Lookup Tables'!E131","v":35.000000000000036},{"$f":"'Lookup Tables'!F131","v":74.000000000000057},{"$f":"'Lookup Tables'!G131","v":48.999999999999986},{"$f":"'Lookup Tables'!H131","v":109.99999999999993},{"$f":"'Lookup Tables'!I131","v":174.00000000000017},{"$f":"'Lookup Tables'!J131","v":334},{"$f":"'Lookup Tables'!B131","v":119}]
[]
["Onboard Passengers and People Waiting to Board Train Delay Costs: Occupational Information",null,null,null,null,null,null,null,"Table 2: Hourly Wage By Occupation"]
["Step","Delayed Human Type","Value of Time Selection","Value","Custom","Incidence (No. of This Type)","Total VOT Costs",null,"10th Percentile","25th Percentile","Median","75th Percentile","90th Percentile"]
["3.B.1",null,null,{"$f":"IF(ISBLANK(C63),\"--\",IF(C63=$I$62,I63,IF(C63=$J$62,J63,IF(C63=$K$62,K63,IF(C63=$L$62,L63,IF(C63=$M$62,M63,IF(C63=\"Enter Custom Value\",\"Add Value\",\"--\")))))))","v":"--"},null,null,{"$f":"IF(ISNUMBER(D63),(MAX(D63,E63)*F63*(MAX($D$59,$E$59)/60)),IF(ISNUMBER(E63),(MAX(D63,E63)*F63*(MAX($D$59,$E$59)/60)),\"--\"))","v":"--"},null,{"$f":"IF(ISBLANK(B63),\"--\",VLOOKUP(B63,Injuries_WorkMissed!$B$109:$G$863,2,FALSE))","v":"--"},{"$f":"IF(ISBLANK(B63),\"--\",VLOOKUP(B63,Injuries_WorkMissed!$B$109:$G$863,3,FALSE))","v":"--"},{"$f":"IF(ISBLANK(B63),\"--\",VLOOKUP(B63,Injuries_WorkMissed!$B$109:$G$863,4,FALSE))","v":"--"},{"$f":"IF(ISBLANK(B63),\"--\",VLOOKUP(B63,Injuries_WorkMissed!$B$109:$G$863,5,FALSE))","v":"--"},{"$f":"IF(ISBLANK(B63),\"--\",VLOOKUP(B63,Injuries_WorkMissed!$B$109:$G$863,6,FALSE))","v":"--"}]
["3.B.2",null,null,{"$f":"IF(ISBLANK(C64),\"--\",IF(C64=$I$62,I64,IF(C64=$J$62,J64,IF(C64=$K$62,K64,IF(C64=$L$62,L64,IF(C64=$M$62,M64,IF(C64=\"Enter Custom Value\",\"Add Value\",\"--\")))))))","v":"--"},null,null,{"$f":"IF(ISNUMBER(D64),(MAX(D64,E64)*F64*(MAX($D$59,$E$59)/60)),IF(ISNUMBER(E64),(MAX(D64,E64)*F64*(MAX($D$59,$E$59)/60)),\"--\"))","v":"--"},null,{"$f":"IF(ISBLANK(B64),\"--\",VLOOKUP(B64,Injuries_WorkMissed!$B$109:$G$863,2,FALSE))","v":"--"},{"$f":"IF(ISBLANK(B64),\"--\",VLOOKUP(B64,Injuries_WorkMissed!$B$109:$G$863,3,FALSE))","v":"--"},{"$f":"IF(ISBLANK(B64),\"--\",VLOOKUP(B64,Injuries_WorkMissed!$B$109:$G$863,4,FALSE))","v":"--"},{"$f":"IF(ISBLANK(B64),\"--\",VLOOKUP(B64,Injuries_WorkMissed!$B$109:$G$863,5,FALSE))","v":"--"},{"$f":"IF(ISBLANK(B64),\"--\",VLOOKUP(B64,Injuries_WorkMissed!$B$109:$G$863,6,FALSE))","v":"--"}]
["3.B.3",null,null,"--",null,null,{"$f":"IF(ISNUMBER(D65),(MAX(D65,E65)*F65*(MAX($D$59,$E$59)/60)),IF(ISNUMBER(E65),(MAX(D65,E65)*F65*(MAX($D$59,$E$59)/60)),\"--\"))","v":"--"},null,{"$f":"IF(ISBLANK(B65),\"--\",VLOOKUP(B65,Injuries_WorkMissed!$B$109:$G$863,2,FALSE))","v":"--"},{"$f":"IF(ISBLANK(B65),\"--\",VLOOKUP(B65,Injuries_WorkMissed!$B$109:$G$863,3,FALSE))","v":"--"},{"$f":"IF(ISBLANK(B65),\"--\",VLOOKUP(B65,Injuries_WorkMissed!$B$109:$G$863,4,FALSE))","v":"--"},{"$f":"IF(ISBLANK(B65),\"--\",VLOOKUP(B65,Injuries_WorkMissed!$B$109:$G$863,5,FALSE))","v":"--"},{"$f":"IF(ISBLANK(B65),\"--\",VLOOKUP(B65,Injuries_WorkMissed!$B$109:$G$863,6,FALSE))","v":"--"}]
["3.B.4",null,null,"--",null,null,"--",null,{"$f":"IF(ISBLANK(B66),\"--\",VLOOKUP(B66,Injuries_WorkMissed!$B$109:$G$863,2,FALSE))","v":"--"},{"$f":"IF(ISBLANK(B66),\"--\",VLOOKUP(B66,Injuries_WorkMissed!$B$109:$G$863,3,FALSE))","v":"--"},{"$f":"IF(ISBLANK(B66),\"--\",VLOOKUP(B66,Injuries_WorkMissed!$B$109:$G$863,4,FALSE))","v":"--"},{"$f":"IF(ISBLANK(B66),\"--\",VLOOKUP(B66,Injuries_WorkMissed!$B$109:$G$863,5,FALSE))","v":"--"},{"$f":"IF(ISBLANK(B66),\"--\",VLOOKUP(B66,Injuries_WorkMissed!$B$109:$G$863,6,FALSE))","v":"--"}]
["3.B.5",null,null,"--",null,null,"--",null,{"$f":"IF(ISBLANK(B67),\"--\",VLOOKUP(B67,Injuries_WorkMissed!$B$109:$G$863,2,FALSE))","v":"--"},{"$f":"IF(ISBLANK(B67),\"--\",VLOOKUP(B67,Injuries_WorkMissed!$B$109:$G$863,3,FALSE))","v":"--"},{"$f":"IF(ISBLANK(B67),\"--\",VLOOKUP(B67,Injuries_WorkMissed!$B$109:$G$863,4,FALSE))","v":"--"},{"$f":"IF(ISBLANK(B67),\"--\",VLOOKUP(B67,Injuries_WorkMissed!$B$109:$G$863,5,FALSE))","v":"--"},{"$f":"IF(ISBLANK(B67),\"--\",VLOOKUP(B67,Injuries_WorkMissed!$B$109:$G$863,6,FALSE))","v":"--"}]
["3.B.6",null,null,"--",null,null,{"$f":"IF(ISNUMBER(D68),(MAX(D68,E68)*F68*(MAX($D$59,$E$59)/60)),IF(ISNUMBER(E68),(MAX(D68,E68)*F68*(MAX($D$59,$E$59)/60)),\"--\"))","v":"--"},null,{"$f":"IF(ISBLANK(B68),\"--\",VLOOKUP(B68,Injuries_WorkMissed!$B$109:$G$863,2,FALSE))","v":"--"},{"$f":"IF(ISBLANK(B68),\"--\",VLOOKUP(B68,Injuries_WorkMissed!$B$109:$G$863,3,FALSE))","v":"--"},{"$f":"IF(ISBLANK(B68),\"--\",VLOOKUP(B68,Injuries_WorkMissed!$B$109:$G$863,4,FALSE))","v":"--"},{"$f":"IF(ISBLANK(B68),\"--\",VLOOKUP(B68,Injuries_WorkMissed!$B$109:$G$863,5,FALSE))","v":"--"},{"$f":"IF(ISBLANK(B68),\"--\",VLOOKUP(B68,Injuries_WorkMissed!$B$109:$G$863,6,FALSE))","v":"--"}]
["3.B.7",null,null,"--",null,null,"--",null,{"$f":"IF(ISBLANK(B69),\"--\",VLOOKUP(B69,Injuries_WorkMissed!$B$109:$G$863,2,FALSE))","v":"--"},{"$f":"IF(ISBLANK(B69),\"--\",VLOOKUP(B69,Injuries_WorkMissed!$B$109:$G$863,3,FALSE))","v":"--"},{"$f":"IF(ISBLANK(B69),\"--\",VLOOKUP(B69,Injuries_WorkMissed!$B$109:$G$863,4,FALSE))","v":"--"},{"$f":"IF(ISBLANK(B69),\"--\",VLOOKUP(B69,Injuries_WorkMissed!$B$109:$G$863,5,FALSE))","v":"--"},{"$f":"IF(ISBLANK(B69),\"--\",VLOOKUP(B69,Injuries_WorkMissed!$B$109:$G$863,6,FALSE))","v":"--"}]
["3.B.8",null,null,"--",null,null,"--",null,{"$f":"IF(ISBLANK(B70),\"--\",VLOOKUP(B70,Injuries_WorkMissed!$B$109:$G$863,2,FALSE))","v":"--"},{"$f":"IF(ISBLANK(B70),\"--\",VLOOKUP(B70,Injuries_WorkMissed!$B$109:$G$863,3,FALSE))","v":"--"},{"$f":"IF(ISBLANK(B70),\"--\",VLOOKUP(B70,Injuries_WorkMissed!$B$109:$G$863,4,FALSE))","v":"--"},{"$f":"IF(ISBLANK(B70),\"--\",VLOOKUP(B70,Injuries_WorkMissed!$B$109:$G$863,5,FALSE))","v":"--"},{"$f":"IF(ISBLANK(B70),\"--\",VLOOKUP(B70,Injuries_WorkMissed!$B$109:$G$863,6,FALSE))","v":"--"}]
["3.B.9",null,null,"--",null,null,"--",null,{"$f":"IF(ISBLANK(B71),\"--\",VLOOKUP(B71,Injuries_WorkMissed!$B$109:$G$863,2,FALSE))","v":"--"},{"$f":"IF(ISBLANK(B71),\"--\",VLOOKUP(B71,Injuries_WorkMissed!$B$109:$G$863,3,FALSE))","v":"--"},{"$f":"IF(ISBLANK(B71),\"--\",VLOOKUP(B71,Injuries_WorkMissed!$B$109:$G$863,4,FALSE))","v":"--"},{"$f":"IF(ISBLANK(B71),\"--\",VLOOKUP(B71,Injuries_WorkMissed!$B$109:$G$863,5,FALSE))","v":"--"},{"$f":"IF(ISBLANK(B71),\"--\",VLOOKUP(B71,Injuries_WorkMissed!$B$109:$G$863,6,FALSE))","v":"--"}]
["3.B.10",null,null,"--",null,null,"--",null,{"$f":"IF(ISBLANK(B72),\"--\",VLOOKUP(B72,Injuries_WorkMissed!$B$109:$G$863,2,FALSE))","v":"--"},{"$f":"IF(ISBLANK(B72),\"--\",VLOOKUP(B72,Injuries_WorkMissed!$B$109:$G$863,3,FALSE))","v":"--"},{"$f":"IF(ISBLANK(B72),\"--\",VLOOKUP(B72,Injuries_WorkMissed!$B$109:$G$863,4,FALSE))","v":"--"},{"$f":"IF(ISBLANK(B72),\"--\",VLOOKUP(B72,Injuries_WorkMissed!$B$109:$G$863,5,FALSE))","v":"--"},{"$f":"IF(ISBLANK(B72),\"--\",VLOOKUP(B72,Injuries_WorkMissed!$B$109:$G$863,6,FALSE))","v":"--"}]
["3.B.11",null,null,"--",null,null,"--",null,{"$f":"IF(ISBLANK(B73),\"--\",VLOOKUP(B73,Injuries_WorkMissed!$B$109:$G$863,2,FALSE))","v":"--"},{"$f":"IF(ISBLANK(B73),\"--\",VLOOKUP(B73,Injuries_WorkMissed!$B$109:$G$863,3,FALSE))","v":"--"},{"$f":"IF(ISBLANK(B73),\"--\",VLOOKUP(B73,Injuries_WorkMissed!$B$109:$G$863,4,FALSE))","v":"--"},{"$f":"IF(ISBLANK(B73),\"--\",VLOOKUP(B73,Injuries_WorkMissed!$B$109:$G$863,5,FALSE))","v":"--"},{"$f":"IF(ISBLANK(B73),\"--\",VLOOKUP(B73,Injuries_WorkMissed!$B$109:$G$863,6,FALSE))","v":"--"}]
["3.B.12",null,null,"--",null,null,{"$f":"IF(ISNUMBER(D74),(MAX(D74,E74)*F74*(MAX($D$59,$E$59)/60)),IF(ISNUMBER(E74),(MAX(D74,E74)*F74*(MAX($D$59,$E$59)/60)),\"--\"))","v":"--"},null,{"$f":"IF(ISBLANK(B74),\"--\",VLOOKUP(B74,Injuries_WorkMissed!$B$109:$G$863,2,FALSE))","v":"--"},{"$f":"IF(ISBLANK(B74),\"--\",VLOOKUP(B74,Injuries_WorkMissed!$B$109:$G$863,3,FALSE))","v":"--"},{"$f":"IF(ISBLANK(B74),\"--\",VLOOKUP(B74,Injuries_WorkMissed!$B$109:$G$863,4,FALSE))","v":"--"},{"$f":"IF(ISBLANK(B74),\"--\",VLOOKUP(B74,Injuries_WorkMissed!$B$109:$G$863,5,FALSE))","v":"--"},{"$f":"IF(ISBLANK(B74),\"--\",VLOOKUP(B74,Injuries_WorkMissed!$B$109:$G$863,6,FALSE))","v":"--"}]
["3.B.13",null,null,"--",null,null,"--",null,{"$f":"IF(ISBLANK(B75),\"--\",VLOOKUP(B75,Injuries_WorkMissed!$B$109:$G$863,2,FALSE))","v":"--"},{"$f":"IF(ISBLANK(B75),\"--\",VLOOKUP(B75,Injuries_WorkMissed!$B$109:$G$863,3,FALSE))","v":"--"},{"$f":"IF(ISBLANK(B75),\"--\",VLOOKUP(B75,Injuries_WorkMissed!$B$109:$G$863,4,FALSE))","v":"--"},{"$f":"IF(ISBLANK(B75),\"--\",VLOOKUP(B75,Injuries_WorkMissed!$B$109:$G$863,5,FALSE))","v":"--"},{"$f":"IF(ISBLANK(B75),\"--\",VLOOKUP(B75,Injuries_WorkMissed!$B$109:$G$863,6,FALSE))","v":"--"}]
["3.B.14",null,null,"--",null,null,"--",null,{"$f":"IF(ISBLANK(B76),\"--\",VLOOKUP(B76,Injuries_WorkMissed!$B$109:$G$863,2,FALSE))","v":"--"},{"$f":"IF(ISBLANK(B76),\"--\",VLOOKUP(B76,Injuries_WorkMissed!$B$109:$G$863,3,FALSE))","v":"--"},{"$f":"IF(ISBLANK(B76),\"--\",VLOOKUP(B76,Injuries_WorkMissed!$B$109:$G$863,4,FALSE))","v":"--"},{"$f":"IF(ISBLANK(B76),\"--\",VLOOKUP(B76,Injuries_WorkMissed!$B$109:$G$863,5,FALSE))","v":"--"},{"$f":"IF(ISBLANK(B76),\"--\",VLOOKUP(B76,Injuries_WorkMissed!$B$109:$G$863,6,FALSE))","v":"--"}]
["3.B.15",null,null,"--",null,null,"--",null,{"$f":"IF(ISBLANK(B77),\"--\",VLOOKUP(B77,Injuries_WorkMissed!$B$109:$G$863,2,FALSE))","v":"--"},{"$f":"IF(ISBLANK(B77),\"--\",VLOOKUP(B77,Injuries_WorkMissed!$B$109:$G$863,3,FALSE))","v":"--"},{"$f":"IF(ISBLANK(B77),\"--\",VLOOKUP(B77,Injuries_WorkMissed!$B$109:$G$863,4,FALSE))","v":"--"},{"$f":"IF(ISBLANK(B77),\"--\",VLOOKUP(B77,Injuries_WorkMissed!$B$109:$G$863,5,FALSE))","v":"--"},{"$f":"IF(ISBLANK(B77),\"--\",VLOOKUP(B77,Injuries_WorkMissed!$B$109:$G$863,6,FALSE))","v":"--"}]
["3.B.16",null,null,"--",null,null,"--",null,{"$f":"IF(ISBLANK(B78),\"--\",VLOOKUP(B78,Injuries_WorkMissed!$B$109:$G$863,2,FALSE))","v":"--"},{"$f":"IF(ISBLANK(B78),\"--\",VLOOKUP(B78,Injuries_WorkMissed!$B$109:$G$863,3,FALSE))","v":"--"},{"$f":"IF(ISBLANK(B78),\"--\",VLOOKUP(B78,Injuries_WorkMissed!$B$109:$G$863,4,FALSE))","v":"--"},{"$f":"IF(ISBLANK(B78),\"--\",VLOOKUP(B78,Injuries_WorkMissed!$B$109:$G$863,5,FALSE))","v":"--"},{"$f":"IF(ISBLANK(B78),\"--\",VLOOKUP(B78,Injuries_WorkMissed!$B$109:$G$863,6,FALSE))","v":"--"}]
["3.B.17",null,null,"--",null,null,"--",null,{"$f":"IF(ISBLANK(B79),\"--\",VLOOKUP(B79,Injuries_WorkMissed!$B$109:$G$863,2,FALSE))","v":"--"},{"$f":"IF(ISBLANK(B79),\"--\",VLOOKUP(B79,Injuries_WorkMissed!$B$109:$G$863,3,FALSE))","v":"--"},{"$f":"IF(ISBLANK(B79),\"--\",VLOOKUP(B79,Injuries_WorkMissed!$B$109:$G$863,4,FALSE))","v":"--"},{"$f":"IF(ISBLANK(B79),\"--\",VLOOKUP(B79,Injuries_WorkMissed!$B$109:$G$863,5,FALSE))","v":"--"},{"$f":"IF(ISBLANK(B79),\"--\",VLOOKUP(B79,Injuries_WorkMissed!$B$109:$G$863,6,FALSE))","v":"--"}]
["3.B.18",null,null,"--",null,null,"--",null,{"$f":"IF(ISBLANK(B80),\"--\",VLOOKUP(B80,Injuries_WorkMissed!$B$109:$G$863,2,FALSE))","v":"--"},{"$f":"IF(ISBLANK(B80),\"--\",VLOOKUP(B80,Injuries_WorkMissed!$B$109:$G$863,3,FALSE))","v":"--"},{"$f":"IF(ISBLANK(B80),\"--\",VLOOKUP(B80,Injuries_WorkMissed!$B$109:$G$863,4,FALSE))","v":"--"},{"$f":"IF(ISBLANK(B80),\"--\",VLOOKUP(B80,Injuries_WorkMissed!$B$109:$G$863,5,FALSE))","v":"--"},{"$f":"IF(ISBLANK(B80),\"--\",VLOOKUP(B80,Injuries_WorkMissed!$B$109:$G$863,6,FALSE))","v":"--"}]
["3.B.19",null,null,"--",null,null,"--",null,{"$f":"IF(ISBLANK(B81),\"--\",VLOOKUP(B81,Injuries_WorkMissed!$B$109:$G$863,2,FALSE))","v":"--"},{"$f":"IF(ISBLANK(B81),\"--\",VLOOKUP(B81,Injuries_WorkMissed!$B$109:$G$863,3,FALSE))","v":"--"},{"$f":"IF(ISBLANK(B81),\"--\",VLOOKUP(B81,Injuries_WorkMissed!$B$109:$G$863,4,FALSE))","v":"--"},{"$f":"IF(ISBLANK(B81),\"--\",VLOOKUP(B81,Injuries_WorkMissed!$B$109:$G$863,5,FALSE))","v":"--"},{"$f":"IF(ISBLANK(B81),\"--\",VLOOKUP(B81,Injuries_WorkMissed!$B$109:$G$863,6,FALSE))","v":"--"}]
["3.B.20",null,null,"--",null,null,"--",null,{"$f":"IF(ISBLANK(B82),\"--\",VLOOKUP(B82,Injuries_WorkMissed!$B$109:$G$863,2,FALSE))","v":"--"},{"$f":"IF(ISBLANK(B82),\"--\",VLOOKUP(B82,Injuries_WorkMissed!$B$109:$G$863,3,FALSE))","v":"--"},{"$f":"IF(ISBLANK(B82),\"--\",VLOOKUP(B82,Injuries_WorkMissed!$B$109:$G$863,4,FALSE))","v":"--"},{"$f":"IF(ISBLANK(B82),\"--\",VLOOKUP(B82,Injuries_WorkMissed!$B$109:$G$863,5,FALSE))","v":"--"},{"$f":"IF(ISBLANK(B82),\"--\",VLOOKUP(B82,Injuries_WorkMissed!$B$109:$G$863,6,FALSE))","v":"--"}]
["3.B.21","Onboard Passengers and People Waiting to Board Train Delay Cost Subtotal",null,null,null,null,{"$f":"IF(AND(ISTEXT(G63),ISTEXT(G64),ISTEXT(G65),ISTEXT(G66),ISTEXT(G67),ISTEXT(G68),ISTEXT(G69),ISTEXT(G70),ISTEXT(G71),ISTEXT(G72),ISTEXT(G73),ISTEXT(G74),ISTEXT(G75),ISTEXT(G76),ISTEXT(G77),ISTEXT(G78),ISTEXT(G79),ISTEXT(G80),ISTEXT(G81),ISTEXT(G82)),\"--\",SUM(G63:G82))","v":"--"}]
[]
["Passenger Rail: Trip Rerouting Costs Via Bus - En Route Change"]
["Step","Category","Selection","Value","Custom Value"]
["3.C.1","Passenger Train Occupancy",null,{"$f":"IF(C87=J88,J89,IF(C87=K88,K89,IF(C87=L88,L89,IF(C87=M88,M89,IF(C87=N88,N89,IF(C87=O88,O89,IF(C87=P88,P89,IF(C87=Q88,Q89,IF(C87=\"Custom\",\"Add Value\",\"--\")))))))))","v":"--"},null,null,null,null,"Passenger Rail Occupancy",null,null,null,null,null,null,null,null,null,null,"Bus Lookup Values"]
["3.C.2","Number of Buses Required for Reroute",null,{"$f":"IF(C88=\"Default\",T88,IF(C88=\"Custom\",\"Add Value\",\"--\"))","v":"--"},null,null,null,null,"Category","Minimum","10th Percentile","25th Percentile","Median","Mode","75th Percentile","90th Percentile","Maximum","Count",null,{"$f":"IF(MAX(CostCalculator!D87,CostCalculator!E87)>420,8,IF(MAX(CostCalculator!D87,CostCalculator!E87)>360,7,IF(MAX(CostCalculator!D87,CostCalculator!E87)>300,6,IF(MAX(CostCalculator!D87,CostCalculator!E87)>240,5,IF(MAX(CostCalculator!D87,CostCalculator!E87)>180,4,IF(MAX(CostCalculator!D87,CostCalculator!E87)>120,3,IF(MAX(CostCalculator!D87,CostCalculator!E87)>60,2,IF(MAX(CostCalculator!D87,CostCalculator!E87)>0.1,1,\"--\"))))))))","v":"--"}]
["3.C.3","Bus Operating Costs per Mile",null,{"$f":"IF(C89=\"Default\",J92,IF(C89=\"Custom\",\"Add Value\",\"--\"))","v":"--"},null,null,null,null,"Passenger Train Occupancy (No. Pax)",{"$f":"'Lookup Tables'!A103","v":6},{"$f":"'Lookup Tables'!B103","v":13.054355400696863},{"$f":"'Lookup Tables'!C103","v":14.161527841693511},{"$f":"'Lookup Tables'!D103","v":16.673239436619717},{"$f":"'Lookup Tables'!E103","v":14},{"$f":"'Lookup Tables'!F103","v":20.6875},{"$f":"'Lookup Tables'!G103","v":25.201100833269628},{"$f":"'Lookup Tables'!H103","v":275},{"$f":"'Lookup Tables'!I103","v":3100},null,{"$f":"IF(MAX(CostCalculator!D110,CostCalculator!E110)>420,8,IF(MAX(CostCalculator!D110,CostCalculator!E110)>360,7,IF(MAX(CostCalculator!D110,CostCalculator!E110)>300,6,IF(MAX(CostCalculator!D110,CostCalculator!E110)>240,5,IF(MAX(CostCalculator!D110,CostCalculator!E110)>180,4,IF(MAX(CostCalculator!D110,CostCalculator!E110)>120,3,IF(MAX(CostCalculator!D110,CostCalculator!E110)>60,2,IF(MAX(CostCalculator!D110,CostCalculator!E110)>0.1,1,\"--\"))))))))","v":"--"}]
["3.C.4","Number of Miles Rerouted via Bus",null,{"$f":"IF(C90=L92,L93,IF(C90=M92,M93,IF(C90=N92,N93,IF(C90=\"Custom\",\"Add Value\",\"--\"))))","v":"--"}]
["3.C.5","Net Additional Delay for Passengers (minutes)",null,{"$f":"IF(C91=P92,P93,IF(C91=Q92,Q93,IF(C91=R92,R93,IF(C91=\"Custom\",\"Add Value\",\"--\"))))","v":"--"},null,null,null,null,"Delay Costs",null,null,"Train Rerouting Distances Via Bus (miles)",null,null,null,"Net Additioanl Delay for Passengers with Bus Reroute (minutes)"]
["3.C.6","Passenger VOT Costs per Minute of Delay ",null,{"$f":"IF(C92=\"Default\",J93,IF(C92=\"Custom\",\"Add Value\",\"--\"))","v":"--"},null,null,null,null,"Bus Operating Cost per mile",{"$f":"'Lookup Tables'!B110","v":1.24},null,"Minimum","Recommended","Max",null,"Low","Recommended","High"]
["3.C.7","Bus Operating and Passenger VOT Costs",null,null,{"$f":"IF(OR(D87=\"--\",D88=\"--\",D89=\"--\",D90=\"--\",D91=\"--\",D92=\"--\"),\"--\",(MAX(D87,E87)*MAX(D91,E91)*MAX(D92,E92))+(MAX(D88,E88)*MAX(D89,E89)*MAX(D90,E90)))","v":"--"},null,null,null,"VOT costs per minute",{"$f":"'Lookup Tables'!AA113","v":0.32245833333333335},null,{"$f":"'Lookup Tables'!Z103","v":31.000000000000004},{"$f":"'Lookup Tables'!AA103","v":121.54545454545455},{"$f":"'Lookup Tables'!AB103","v":589},null,{"$f":"'Lookup Tables'!Z108","v":15},{"$f":"'Lookup Tables'!AA108","v":30},{"$f":"'Lookup Tables'!AB108","v":60}]
[]
["Passenger Train Delay Costs"]
["3.D"," Subtotal of Human Delay Costs >>>",null,null,null,null,{"$f":"IF(AND(G83=\"--\",E93=\"--\"),\"--Enter Values Above--\",(SUM(G83,E93)))","v":"--Enter Values Above--"}]
[]
["Upstream and Downstream Effects - Complete Either Option A, B, or C based on Passenger Train Policy Undertaken\n(If up/downstream effects are unknown, complete Option A as it is anticipated to be the most likely occurance)"]
[]
[]
["OPTION A:  Estimated Delay Costs for Next Passenger Train (Next train operates, but with a delay)",null,null,null,null,null,null,null,"Passenger Rail: Delay Upstream Effects Guideposts"]
["Step","Category","Selection","Value","Custom Value",null,null,null,"Category","Minimum","10th Percentile","25th Percentile","Median","Mode","75th Percentile","90th Percentile","Maximum","No. of Observations"]
["3.E.1","Minutes of Train Delay (For Next Frequency)",null,{"$f":"IF(C103=J102,J103,IF(C103=K102,K103,IF(C103=L102,L103,IF(C103=M102,M103,IF(C103=N102,N103,IF(C103=O102,O103,IF(C103=P102,P103,IF(C103=Q102,Q103,IF(C103=\"Custom\",\"Add Value\",\"--\")))))))))","v":"--"},null,null,null,null,"Minutes of Delay for Next Frequency",{"$f":"'Lookup Tables'!C133","v":15.999999999999943},{"$f":"'Lookup Tables'!D133","v":16.999999999999957},{"$f":"'Lookup Tables'!E133","v":18.999999999999972},{"$f":"'Lookup Tables'!F133","v":26.000000000000068},{"$f":"'Lookup Tables'!G133","v":26.000000000000068},{"$f":"'Lookup Tables'!H133","v":39.000000000000021},{"$f":"'Lookup Tables'!I133","v":64.000000000000057},{"$f":"'Lookup Tables'!J133","v":149.00000000000011},{"$f":"'Lookup Tables'!B133","v":40}]
["3.E.2","Passenger Train Occupancy",null,{"$f":"IF(C104=J102,J104,IF(C104=K102,K104,IF(C104=L102,L104,IF(C104=M102,M104,IF(C104=N102,N104,IF(C104=O102,O104,IF(C104=P102,P104,IF(C104=Q102,Q104,IF(C104=\"Custom\",\"Add Value\",\"--\")))))))))","v":"--"},null,null,null,null,"Passenger Train Occupancy (No. Pax)",{"$f":"'Lookup Tables'!A103","v":6},{"$f":"'Lookup Tables'!B103","v":13.054355400696863},{"$f":"'Lookup Tables'!C103","v":14.161527841693511},{"$f":"'Lookup Tables'!D103","v":16.673239436619717},{"$f":"'Lookup Tables'!E103","v":14},{"$f":"'Lookup Tables'!F103","v":20.6875},{"$f":"'Lookup Tables'!G103","v":25.201100833269628},{"$f":"'Lookup Tables'!H103","v":275},{"$f":"'Lookup Tables'!I103","v":3100}]
["3.E.3","Passenger VOT Costs per Minute",null,{"$f":"IF(C105=\"Default\",J93,IF(C105=\"Custom\",\"Add Value\",\"--\"))","v":"--"}]
["3.E.4","OPTION A: Upstream and Downstream Costs",null,null,{"$f":"IF(OR(D103=\"--\",D104=\"--\",D105=\"--\"),\"--\",(MAX(D103:E103)*MAX(D104:E104)*MAX(D105:E105)))","v":"--"}]
[]
["OPTION B: Passenger Rail Trip Reroute of Next Passenger Train Using Bus - Estimated Costs for Rerouting"]
["Step","Category","Selection","Value","Custom Value"]
["3.F.1","Passenger Train Occupancy",null,{"$f":"IF(C110=J102,J104,IF(C110=K102,K104,IF(C110=L102,L104,IF(C110=M102,M104,IF(C110=N102,N104,IF(C110=O102,O104,IF(C110=P102,P104,IF(C110=Q102,Q104,IF(C110=\"Custom\",\"Add Value\",\"--\")))))))))","v":"--"}]
["3.F.2","Number of Buses Required for Reroute",null,{"$f":"IF(C111=\"Default\",T89,IF(C111=\"Custom\",\"Add Value\",\"--\"))","v":"--"}]
["3.F.3","Bus Operating Costs per Mile",null,{"$f":"IF(C112=\"Default\",J92,IF(C112=\"Custom\",\"Add Value\",\"--\"))","v":"--"}]
["3.F.4","Number of Miles Rerouted via Bus",null,{"$f":"IF(C113=L92,L93,IF(C113=M92,M93,IF(C113=N92,N93,IF(C113=\"Custom\",\"Add Value\",\"--\"))))","v":"--"}]
["3.F.5","OPTION B: Upstream and Downstream Costs",null,null,{"$f":"IF(OR(D110=\"--\",D111=\"--\",D112=\"--\",D113=\"--\"),\"--\",(MAX(D110,E110)*MAX(D111,E111)*MAX(D112,E112)*MAX(D113,E113)))","v":"--"}]
[]
["OPTION C: Passenger Rail Trip Cancellation Costs - No Reroute Via Bus Offered",null,null,null,null,null,null,null,"New Trip Planning Time (minutes)",null,null,null,"Travel Costs for Alternative Mode of Transport"]
["Step","Category","Selection","Value","Custom Value",null,null,null,"Low","Recommended","High",null,"Low","Recommended","High"]
["3.G.1","Passenger Train Occupancy",null,{"$f":"IF(C118=J102,J104,IF(C118=K102,K104,IF(C118=L102,L104,IF(C118=M102,M104,IF(C118=N102,N104,IF(C118=O102,O104,IF(C118=P102,P104,IF(C118=Q102,Q104,IF(C118=\"Custom\",\"Add Value\",\"--\")))))))))","v":"--"},null,null,null,null,{"$f":"'Lookup Tables'!E109","v":15},{"$f":"'Lookup Tables'!F109","v":45},{"$f":"'Lookup Tables'!G109","v":60},null,{"$f":"'Lookup Tables'!L130","v":51.400160306454168},{"$f":"'Lookup Tables'!M130","v":61.680192367745008},{"$f":"'Lookup Tables'!N130","v":82.240256490326672}]
["3.G.2","Time required to plan new trip (minutes)",null,{"$f":"IF(C119=\"Low\",I118,IF(C119=\"Recommended\",J118,IF(C119=\"High\",K118,IF(C119=\"Custom\",\"Add Value\",\"--\"))))","v":"--"}]
["3.G.3","VOT cost per minute of planning new trip",null,{"$f":"IF(C120=\"Default\",J93,IF(C120=\"Custom\",\"Add Value\",\"--\"))","v":"--"}]
["3.G.4","Transport costs for alternate method of travel",null,{"$f":"IF(C121=\"Low\",M118,IF(C121=\"Recommended\",N118,IF(C121=\"High\",O118,IF(C121=\"Custom\",\"Add Value\",\"--\"))))","v":"--"}]
["3.G.5","OPTION C: Upstream Costs",null,null,{"$f":"IF(OR(D118=\"--\",D119=\"--\",D121=\"--\"),\"--\",(MAX(D118,E118)*MAX(D119,E119)*MAX(D120,E120)+(MAX(D118,E118)*MAX(D121,E121))))","v":"--"}]
[]
["Upstream and Downstream Passenger Train Delay Costs"]
["3.H"," Subtotal of Passenger Rail Upstream Delay Costs >>>",null,null,null,null,{"$f":"IF(AND(E106=\"--\",E114=\"--\",E122=\"--\"),\"--\",(SUM(E106,E114,E122)))","v":"--"}]
[]
[]
["Freight Train Delay (Time in Minutes)",null,null,null,null,null,null,null,"Freight Train Delay Associated with a Rail Incident (Time is Provided in Minutes)"]
["Step","Monetization Factor","Value Section","Minutes of Delay","Custom Value (Minutes of Delay)",null,null,null,"Low","Medium","High","Injury Event","Fatality Event","Rare, Very High Impact"]
["3.I","Total Minutes of Delay",null,{"$f":"IF(C130='Dropdown Lists'!O27,I130,IF(C130='Dropdown Lists'!O28,J130,IF(C130='Dropdown Lists'!O29,K130,IF(C130='Dropdown Lists'!O30,L130,IF(C130='Dropdown Lists'!O31,M130,IF(C130='Dropdown Lists'!O32,N130,IF(C130=\"Custom\",\"Add Value\",\"--\")))))))","v":"--"},null,null,null,null,{"$f":"'Lookup Tables'!A119","v":35.308333333333337},{"$f":"'Lookup Tables'!B119","v":42.927777777777777},{"$f":"'Lookup Tables'!C119","v":84.353333333333325},{"$f":"'Lookup Tables'!D119","v":83},{"$f":"'Lookup Tables'!E119","v":284},{"$f":"'Lookup Tables'!F119","v":924.99999999999989}]
[]
[]
["Freight Train Delay: Human Worker Costs",null,null,null,null,null,null,null,"Table 2: Hourly Wage By Occupation"]
["Step","Delayed Human Type","Value of Time Selection","Value","Custom","Incidence (No. of This Type)","Total VOT Costs",null,"10th Percentile","25th Percentile","Median","75th Percentile","90th Percentile"]
["3.J.1",null,null,{"$f":"IF(ISBLANK(C135),\"--\",IF(C135=$I$134,I135,IF(C135=$J$134,J135,IF(C135=$K$134,K135,IF(C135=$L$134,L135,IF(C135=$M$134,M135,IF(C135=\"Enter Custom Value\",\"Add Value\",\"--\")))))))","v":"--"},null,null,{"$f":"IF(ISNUMBER(D135),(MAX(D135,E135)*F135*(MAX($D$130,$E$130)/60)),IF(ISNUMBER(E135),(MAX(D135,E135)*F135*(MAX($D$130,$E$130)/60)),\"--\"))","v":"--"},null,{"$f":"IF(ISBLANK(B135),\"--\",VLOOKUP(B135,Injuries_WorkMissed!$B$109:$G$863,2,FALSE))","v":"--"},{"$f":"IF(ISBLANK(B135),\"--\",VLOOKUP(B135,Injuries_WorkMissed!$B$109:$G$863,3,FALSE))","v":"--"},{"$f":"IF(ISBLANK(B135),\"--\",VLOOKUP(B135,Injuries_WorkMissed!$B$109:$G$863,4,FALSE))","v":"--"},{"$f":"IF(ISBLANK(B135),\"--\",VLOOKUP(B135,Injuries_WorkMissed!$B$109:$G$863,5,FALSE))","v":"--"},{"$f":"IF(ISBLANK(B135),\"--\",VLOOKUP(B135,Injuries_WorkMissed!$B$109:$G$863,6,FALSE))","v":"--"}]
["3.J.2",null,null,{"$f":"IF(ISBLANK(C136),\"--\",IF(C136=$I$134,I136,IF(C136=$J$134,J136,IF(C136=$K$134,K136,IF(C136=$L$134,L136,IF(C136=$M$134,M136,IF(C136=\"Enter Custom Value\",\"Add Value\",\"--\")))))))","v":"--"},null,null,{"$f":"IF(ISNUMBER(D136),(MAX(D136,E136)*F136*(MAX($D$130,$E$130)/60)),IF(ISNUMBER(E136),(MAX(D136,E136)*F136*(MAX($D$130,$E$130)/60)),\"--\"))","v":"--"},null,{"$f":"IF(ISBLANK(B136),\"--\",VLOOKUP(B136,Injuries_WorkMissed!$B$109:$G$863,2,FALSE))","v":"--"},{"$f":"IF(ISBLANK(B136),\"--\",VLOOKUP(B136,Injuries_WorkMissed!$B$109:$G$863,3,FALSE))","v":"--"},{"$f":"IF(ISBLANK(B136),\"--\",VLOOKUP(B136,Injuries_WorkMissed!$B$109:$G$863,4,FALSE))","v":"--"},{"$f":"IF(ISBLANK(B136),\"--\",VLOOKUP(B136,Injuries_WorkMissed!$B$109:$G$863,5,FALSE))","v":"--"},{"$f":"IF(ISBLANK(B136),\"--\",VLOOKUP(B136,Injuries_WorkMissed!$B$109:$G$863,6,FALSE))","v":"--"}]
["3.J.3",null,null,"--",null,null,"--",null,{"$f":"IF(ISBLANK(B137),\"--\",VLOOKUP(B137,Injuries_WorkMissed!$B$109:$G$863,2,FALSE))","v":"--"},{"$f":"IF(ISBLANK(B137),\"--\",VLOOKUP(B137,Injuries_WorkMissed!$B$109:$G$863,3,FALSE))","v":"--"},{"$f":"IF(ISBLANK(B137),\"--\",VLOOKUP(B137,Injuries_WorkMissed!$B$109:$G$863,4,FALSE))","v":"--"},{"$f":"IF(ISBLANK(B137),\"--\",VLOOKUP(B137,Injuries_WorkMissed!$B$109:$G$863,5,FALSE))","v":"--"},{"$f":"IF(ISBLANK(B137),\"--\",VLOOKUP(B137,Injuries_WorkMissed!$B$109:$G$863,6,FALSE))","v":"--"}]
["3.J.4",null,null,"--",null,null,"--",null,{"$f":"IF(ISBLANK(B138),\"--\",VLOOKUP(B138,Injuries_WorkMissed!$B$109:$G$863,2,FALSE))","v":"--"},{"$f":"IF(ISBLANK(B138),\"--\",VLOOKUP(B138,Injuries_WorkMissed!$B$109:$G$863,3,FALSE))","v":"--"},{"$f":"IF(ISBLANK(B138),\"--\",VLOOKUP(B138,Injuries_WorkMissed!$B$109:$G$863,4,FALSE))","v":"--"},{"$f":"IF(ISBLANK(B138),\"--\",VLOOKUP(B138,Injuries_WorkMissed!$B$109:$G$863,5,FALSE))","v":"--"},{"$f":"IF(ISBLANK(B138),\"--\",VLOOKUP(B138,Injuries_WorkMissed!$B$109:$G$863,6,FALSE))","v":"--"}]
["3.J.5",null,null,"--",null,null,"--",null,{"$f":"IF(ISBLANK(B139),\"--\",VLOOKUP(B139,Injuries_WorkMissed!$B$109:$G$863,2,FALSE))","v":"--"},{"$f":"IF(ISBLANK(B139),\"--\",VLOOKUP(B139,Injuries_WorkMissed!$B$109:$G$863,3,FALSE))","v":"--"},{"$f":"IF(ISBLANK(B139),\"--\",VLOOKUP(B139,Injuries_WorkMissed!$B$109:$G$863,4,FALSE))","v":"--"},{"$f":"IF(ISBLANK(B139),\"--\",VLOOKUP(B139,Injuries_WorkMissed!$B$109:$G$863,5,FALSE))","v":"--"},{"$f":"IF(ISBLANK(B139),\"--\",VLOOKUP(B139,Injuries_WorkMissed!$B$109:$G$863,6,FALSE))","v":"--"}]
["3.J.6",null,null,"--",null,null,"--",null,{"$f":"IF(ISBLANK(B140),\"--\",VLOOKUP(B140,Injuries_WorkMissed!$B$109:$G$863,2,FALSE))","v":"--"},{"$f":"IF(ISBLANK(B140),\"--\",VLOOKUP(B140,Injuries_WorkMissed!$B$109:$G$863,3,FALSE))","v":"--"},{"$f":"IF(ISBLANK(B140),\"--\",VLOOKUP(B140,Injuries_WorkMissed!$B$109:$G$863,4,FALSE))","v":"--"},{"$f":"IF(ISBLANK(B140),\"--\",VLOOKUP(B140,Injuries_WorkMissed!$B$109:$G$863,5,FALSE))","v":"--"},{"$f":"IF(ISBLANK(B140),\"--\",VLOOKUP(B140,Injuries_WorkMissed!$B$109:$G$863,6,FALSE))","v":"--"}]
["3.J.7",null,null,"--",null,null,"--",null,{"$f":"IF(ISBLANK(B141),\"--\",VLOOKUP(B141,Injuries_WorkMissed!$B$109:$G$863,2,FALSE))","v":"--"},{"$f":"IF(ISBLANK(B141),\"--\",VLOOKUP(B141,Injuries_WorkMissed!$B$109:$G$863,3,FALSE))","v":"--"},{"$f":"IF(ISBLANK(B141),\"--\",VLOOKUP(B141,Injuries_WorkMissed!$B$109:$G$863,4,FALSE))","v":"--"},{"$f":"IF(ISBLANK(B141),\"--\",VLOOKUP(B141,Injuries_WorkMissed!$B$109:$G$863,5,FALSE))","v":"--"},{"$f":"IF(ISBLANK(B141),\"--\",VLOOKUP(B141,Injuries_WorkMissed!$B$109:$G$863,6,FALSE))","v":"--"}]
["3.J.8",null,null,"--",null,null,"--",null,{"$f":"IF(ISBLANK(B142),\"--\",VLOOKUP(B142,Injuries_WorkMissed!$B$109:$G$863,2,FALSE))","v":"--"},{"$f":"IF(ISBLANK(B142),\"--\",VLOOKUP(B142,Injuries_WorkMissed!$B$109:$G$863,3,FALSE))","v":"--"},{"$f":"IF(ISBLANK(B142),\"--\",VLOOKUP(B142,Injuries_WorkMissed!$B$109:$G$863,4,FALSE))","v":"--"},{"$f":"IF(ISBLANK(B142),\"--\",VLOOKUP(B142,Injuries_WorkMissed!$B$109:$G$863,5,FALSE))","v":"--"},{"$f":"IF(ISBLANK(B142),\"--\",VLOOKUP(B142,Injuries_WorkMissed!$B$109:$G$863,6,FALSE))","v":"--"}]
["3.J.9",null,null,"--",null,null,"--",null,{"$f":"IF(ISBLANK(B143),\"--\",VLOOKUP(B143,Injuries_WorkMissed!$B$109:$G$863,2,FALSE))","v":"--"},{"$f":"IF(ISBLANK(B143),\"--\",VLOOKUP(B143,Injuries_WorkMissed!$B$109:$G$863,3,FALSE))","v":"--"},{"$f":"IF(ISBLANK(B143),\"--\",VLOOKUP(B143,Injuries_WorkMissed!$B$109:$G$863,4,FALSE))","v":"--"},{"$f":"IF(ISBLANK(B143),\"--\",VLOOKUP(B143,Injuries_WorkMissed!$B$109:$G$863,5,FALSE))","v":"--"},{"$f":"IF(ISBLANK(B143),\"--\",VLOOKUP(B143,Injuries_WorkMissed!$B$109:$G$863,6,FALSE))","v":"--"}]
["3.J.10",null,null,"--",null,null,"--",null,{"$f":"IF(ISBLANK(B144),\"--\",VLOOKUP(B144,Injuries_WorkMissed!$B$109:$G$863,2,FALSE))","v":"--"},{"$f":"IF(ISBLANK(B144),\"--\",VLOOKUP(B144,Injuries_WorkMissed!$B$109:$G$863,3,FALSE))","v":"--"},{"$f":"IF(ISBLANK(B144),\"--\",VLOOKUP(B144,Injuries_WorkMissed!$B$109:$G$863,4,FALSE))","v":"--"},{"$f":"IF(ISBLANK(B144),\"--\",VLOOKUP(B144,Injuries_WorkMissed!$B$109:$G$863,5,FALSE))","v":"--"},{"$f":"IF(ISBLANK(B144),\"--\",VLOOKUP(B144,Injuries_WorkMissed!$B$109:$G$863,6,FALSE))","v":"--"}]
["3.J.11",null,null,"--",null,null,"--",null,{"$f":"IF(ISBLANK(B145),\"--\",VLOOKUP(B145,Injuries_WorkMissed!$B$109:$G$863,2,FALSE))","v":"--"},{"$f":"IF(ISBLANK(B145),\"--\",VLOOKUP(B145,Injuries_WorkMissed!$B$109:$G$863,3,FALSE))","v":"--"},{"$f":"IF(ISBLANK(B145),\"--\",VLOOKUP(B145,Injuries_WorkMissed!$B$109:$G$863,4,FALSE))","v":"--"},{"$f":"IF(ISBLANK(B145),\"--\",VLOOKUP(B145,Injuries_WorkMissed!$B$109:$G$863,5,FALSE))","v":"--"},{"$f":"IF(ISBLANK(B145),\"--\",VLOOKUP(B145,Injuries_WorkMissed!$B$109:$G$863,6,FALSE))","v":"--"}]
["3.J.12",null,null,"--",null,null,"--",null,{"$f":"IF(ISBLANK(B146),\"--\",VLOOKUP(B146,Injuries_WorkMissed!$B$109:$G$863,2,FALSE))","v":"--"},{"$f":"IF(ISBLANK(B146),\"--\",VLOOKUP(B146,Injuries_WorkMissed!$B$109:$G$863,3,FALSE))","v":"--"},{"$f":"IF(ISBLANK(B146),\"--\",VLOOKUP(B146,Injuries_WorkMissed!$B$109:$G$863,4,FALSE))","v":"--"},{"$f":"IF(ISBLANK(B146),\"--\",VLOOKUP(B146,Injuries_WorkMissed!$B$109:$G$863,5,FALSE))","v":"--"},{"$f":"IF(ISBLANK(B146),\"--\",VLOOKUP(B146,Injuries_WorkMissed!$B$109:$G$863,6,FALSE))","v":"--"}]
["3.J.13",null,null,"--",null,null,"--",null,{"$f":"IF(ISBLANK(B147),\"--\",VLOOKUP(B147,Injuries_WorkMissed!$B$109:$G$863,2,FALSE))","v":"--"},{"$f":"IF(ISBLANK(B147),\"--\",VLOOKUP(B147,Injuries_WorkMissed!$B$109:$G$863,3,FALSE))","v":"--"},{"$f":"IF(ISBLANK(B147),\"--\",VLOOKUP(B147,Injuries_WorkMissed!$B$109:$G$863,4,FALSE))","v":"--"},{"$f":"IF(ISBLANK(B147),\"--\",VLOOKUP(B147,Injuries_WorkMissed!$B$109:$G$863,5,FALSE))","v":"--"},{"$f":"IF(ISBLANK(B147),\"--\",VLOOKUP(B147,Injuries_WorkMissed!$B$109:$G$863,6,FALSE))","v":"--"}]
["3.J.14",null,null,"--",null,null,"--",null,{"$f":"IF(ISBLANK(B148),\"--\",VLOOKUP(B148,Injuries_WorkMissed!$B$109:$G$863,2,FALSE))","v":"--"},{"$f":"IF(ISBLANK(B148),\"--\",VLOOKUP(B148,Injuries_WorkMissed!$B$109:$G$863,3,FALSE))","v":"--"},{"$f":"IF(ISBLANK(B148),\"--\",VLOOKUP(B148,Injuries_WorkMissed!$B$109:$G$863,4,FALSE))","v":"--"},{"$f":"IF(ISBLANK(B148),\"--\",VLOOKUP(B148,Injuries_WorkMissed!$B$109:$G$863,5,FALSE))","v":"--"},{"$f":"IF(ISBLANK(B148),\"--\",VLOOKUP(B148,Injuries_WorkMissed!$B$109:$G$863,6,FALSE))","v":"--"}]
["3.J.15",null,null,"--",null,null,"--",null,{"$f":"IF(ISBLANK(B149),\"--\",VLOOKUP(B149,Injuries_WorkMissed!$B$109:$G$863,2,FALSE))","v":"--"},{"$f":"IF(ISBLANK(B149),\"--\",VLOOKUP(B149,Injuries_WorkMissed!$B$109:$G$863,3,FALSE))","v":"--"},{"$f":"IF(ISBLANK(B149),\"--\",VLOOKUP(B149,Injuries_WorkMissed!$B$109:$G$863,4,FALSE))","v":"--"},{"$f":"IF(ISBLANK(B149),\"--\",VLOOKUP(B149,Injuries_WorkMissed!$B$109:$G$863,5,FALSE))","v":"--"},{"$f":"IF(ISBLANK(B149),\"--\",VLOOKUP(B149,Injuries_WorkMissed!$B$109:$G$863,6,FALSE))","v":"--"}]
["3.J.16",null,null,"--",null,null,"--",null,{"$f":"IF(ISBLANK(B150),\"--\",VLOOKUP(B150,Injuries_WorkMissed!$B$109:$G$863,2,FALSE))","v":"--"},{"$f":"IF(ISBLANK(B150),\"--\",VLOOKUP(B150,Injuries_WorkMissed!$B$109:$G$863,3,FALSE))","v":"--"},{"$f":"IF(ISBLANK(B150),\"--\",VLOOKUP(B150,Injuries_WorkMissed!$B$109:$G$863,4,FALSE))","v":"--"},{"$f":"IF(ISBLANK(B150),\"--\",VLOOKUP(B150,Injuries_WorkMissed!$B$109:$G$863,5,FALSE))","v":"--"},{"$f":"IF(ISBLANK(B150),\"--\",VLOOKUP(B150,Injuries_WorkMissed!$B$109:$G$863,6,FALSE))","v":"--"}]
["3.J.17",null,null,"--",null,null,"--",null,{"$f":"IF(ISBLANK(B151),\"--\",VLOOKUP(B151,Injuries_WorkMissed!$B$109:$G$863,2,FALSE))","v":"--"},{"$f":"IF(ISBLANK(B151),\"--\",VLOOKUP(B151,Injuries_WorkMissed!$B$109:$G$863,3,FALSE))","v":"--"},{"$f":"IF(ISBLANK(B151),\"--\",VLOOKUP(B151,Injuries_WorkMissed!$B$109:$G$863,4,FALSE))","v":"--"},{"$f":"IF(ISBLANK(B151),\"--\",VLOOKUP(B151,Injuries_WorkMissed!$B$109:$G$863,5,FALSE))","v":"--"},{"$f":"IF(ISBLANK(B151),\"--\",VLOOKUP(B151,Injuries_WorkMissed!$B$109:$G$863,6,FALSE))","v":"--"}]
["3.J.18",null,null,"--",null,null,"--",null,{"$f":"IF(ISBLANK(B152),\"--\",VLOOKUP(B152,Injuries_WorkMissed!$B$109:$G$863,2,FALSE))","v":"--"},{"$f":"IF(ISBLANK(B152),\"--\",VLOOKUP(B152,Injuries_WorkMissed!$B$109:$G$863,3,FALSE))","v":"--"},{"$f":"IF(ISBLANK(B152),\"--\",VLOOKUP(B152,Injuries_WorkMissed!$B$109:$G$863,4,FALSE))","v":"--"},{"$f":"IF(ISBLANK(B152),\"--\",VLOOKUP(B152,Injuries_WorkMissed!$B$109:$G$863,5,FALSE))","v":"--"},{"$f":"IF(ISBLANK(B152),\"--\",VLOOKUP(B152,Injuries_WorkMissed!$B$109:$G$863,6,FALSE))","v":"--"}]
["3.J.19",null,null,"--",null,null,"--",null,{"$f":"IF(ISBLANK(B153),\"--\",VLOOKUP(B153,Injuries_WorkMissed!$B$109:$G$863,2,FALSE))","v":"--"},{"$f":"IF(ISBLANK(B153),\"--\",VLOOKUP(B153,Injuries_WorkMissed!$B$109:$G$863,3,FALSE))","v":"--"},{"$f":"IF(ISBLANK(B153),\"--\",VLOOKUP(B153,Injuries_WorkMissed!$B$109:$G$863,4,FALSE))","v":"--"},{"$f":"IF(ISBLANK(B153),\"--\",VLOOKUP(B153,Injuries_WorkMissed!$B$109:$G$863,5,FALSE))","v":"--"},{"$f":"IF(ISBLANK(B153),\"--\",VLOOKUP(B153,Injuries_WorkMissed!$B$109:$G$863,6,FALSE))","v":"--"}]
["3.J.20",null,null,"--",null,null,"--",null,{"$f":"IF(ISBLANK(B154),\"--\",VLOOKUP(B154,Injuries_WorkMissed!$B$109:$G$863,2,FALSE))","v":"--"},{"$f":"IF(ISBLANK(B154),\"--\",VLOOKUP(B154,Injuries_WorkMissed!$B$109:$G$863,3,FALSE))","v":"--"},{"$f":"IF(ISBLANK(B154),\"--\",VLOOKUP(B154,Injuries_WorkMissed!$B$109:$G$863,4,FALSE))","v":"--"},{"$f":"IF(ISBLANK(B154),\"--\",VLOOKUP(B154,Injuries_WorkMissed!$B$109:$G$863,5,FALSE))","v":"--"},{"$f":"IF(ISBLANK(B154),\"--\",VLOOKUP(B154,Injuries_WorkMissed!$B$109:$G$863,6,FALSE))","v":"--"}]
[]
["Freight Train Delay: Human Worker Costs"]
["3.K"," Subtotal of Human Delay Costs >>>",null,null,null,null,{"$f":"IF(SUM(G135:G154)=0,\"--Enter Values Above--\",SUM(G135:G154))","v":"--Enter Values Above--"}]
[]
[]
["Freight Train Delay: Shipper Costs (Opportunity, Spoilage, Useful Life)",null,null,null,null,null,null,null,"Factor","Table X: Commodity Mix (Value per Ton in $2020)"]
["Step","Monetization Factor","Value Section","Value","Custom",null,null,null,null,"10th Percentile","20th Percentile","30th Percentile","40th Percentile","50th Percentile","60th Percentile","70th Percentile","80th Percentile","90th Percentile","NCHRP 755","NC Freight Plan","Waybill (NS H Line)","Waybill (NS Main Line)","Waybill (CSX A Line)","Waybill (Aggregated)"]
["3.L.1","Value of Freight Cargo per Ton",null,{"$f":"IF(C162='Dropdown Lists'!M4,CostCalculator!T162,IF(C162=CostCalculator!J161,CostCalculator!J162,IF(C162=CostCalculator!K161,CostCalculator!K162,IF(C162=CostCalculator!L161,CostCalculator!L162,IF(C162=CostCalculator!M161,CostCalculator!M162, IF(C162=CostCalculator!N161,CostCalculator!N162,IF(C162=CostCalculator!O161,CostCalculator!O162,IF(C162=CostCalculator!P161,CostCalculator!P162,IF(C162=CostCalculator!Q161,CostCalculator!Q162,IF(C162=CostCalculator!R161,CostCalculator!R162,IF(C162=CostCalculator!S161,CostCalculator!S162,IF(C162=CostCalculator!T161,CostCalculator!T162,IF(C162=CostCalculator!U161,CostCalculator!U162,IF(C162=CostCalculator!V161,CostCalculator!V162,IF(C162=CostCalculator!W161,CostCalculator!W162,IF(C162=CostCalculator!X161,CostCalculator!X162,IF(C162=\"Custom\",\"Add Value\",\"--\")))))))))))))))))","v":"--"},null,null,null,null,"Value of Cargo per Ton",{"$f":"'Lookup Tables'!I181","v":217.48371288221017},{"$f":"'Lookup Tables'!I182","v":414.84651983254446},{"$f":"'Lookup Tables'!I183","v":890.38362377708859},{"$f":"'Lookup Tables'!I184","v":1254.9288291785547},{"$f":"'Lookup Tables'!I185","v":3403.2489017772541},{"$f":"'Lookup Tables'!I186","v":3698.9788235733695},{"$f":"'Lookup Tables'!I187","v":7046.28821539214},{"$f":"'Lookup Tables'!I188","v":8416.0998785571264},{"$f":"'Lookup Tables'!I189","v":13446.866363995263},{"$f":"'Lookup Tables'!F182","v":1914.912},{"$f":"'Lookup Tables'!F181","v":2200.5176470588235},{"$f":"'Lookup Tables'!F184","v":2463.6666740748096},{"$f":"'Lookup Tables'!F185","v":2538.4691695280326},{"$f":"'Lookup Tables'!F186","v":2137.4941712453178},{"$f":"'Lookup Tables'!F187","v":2343.2443002850055}]
["3.L.2","Freight Tons per Carload",null,{"$f":"IF(C163=J165,J166,IF(C163=K165,K166,IF(C163=L165,L166,IF(C163=M165,M166,IF(C163=N165,N166,IF(C163=\"Custom\",\"Add Value\",IF(C163=\"Default Value\",K166,\"--\")))))))","v":"--"},null,null,null,null,null,null,null,null,null,null,null,null,null,null,null,"*Default Value"]
["3.L.3","Freight Carloads per Train",null,{"$f":"IF(C164=Q165,Q166,IF(C164=R165,R166,IF(C164=S165,S166,IF(C164=T165,T166,IF(C164=U165,U166,IF(C164=\"Custom\",\"Add Value\", IF(C164=\"Default Value\",R166,\"--\")))))))","v":"--"},null,null,null,null,"Factor","Freight Tons Per Carload (Payload Only; Not Including Tare Weight)",null,null,null,null,null,"Factor","Freight Cars Per Train",null,null,null,null,null,"Factor","Discount Rate by Freight Cargo (Rate per Minute. (Only Applied to Delays > 60 minutes)"]
["3.L.4","Total Minutes of Cargo Delay",null,{"$f":"IF(C165=\"Same as 3.I\",MAX(D130,E130),IF(C165=\"Custom\",\"Add Value\",\"--\"))","v":"--"},null,null,null,null,null,"Average Box Car","Freight Car Unspecified","Covered Hopper","Max Load (Source A)","Max Load (Source B)",null,null,"Double Stack","FRA Sample","Manifest","Grain","Coal, Sulphur, & Potash",null,null,"Perishable","Bulk","Other","NC Waybill Commodity Mix","NCHRP 755"]
["3.L.5","Shipper Costs (Cargo Disc. Rate Per Minute)",null,{"$f":"IF(C166=\"Default\",AA166,IF(C166=X165,X166,IF(C166=Y165,Y166,IF(C166=Z165,Z166,IF(C166=AA165,AA166,IF(C166=AB165,AB166,IF(C166=\"Custom\",\"Add Value\",\"--\")))))))","v":"--"},null,null,null,null,"Freight Tons per Carload",{"$f":"'Lookup Tables'!E196","v":45},{"$f":"'Lookup Tables'!E198","v":65},{"$f":"'Lookup Tables'!E197","v":100},{"$f":"'Lookup Tables'!E195","v":100},{"$f":"'Lookup Tables'!E194","v":125.5},null,"Freight Cars per Train",{"$f":"'Lookup Tables'!D205","v":33.594209523809525},{"$f":"'Lookup Tables'!B213","v":25.594669117647058},{"$f":"'Lookup Tables'!D206","v":57.390107936507931},{"$f":"'Lookup Tables'!D207","v":69.288057142857141},{"$f":"'Lookup Tables'!D208","v":71.387695238095233},null,"Cargo Discount Rate",{"$f":"'Lookup Tables'!D479","v":1.0416666666666666E-4},{"$f":"'Lookup Tables'!D480","v":3.4722222222222222E-5},{"$f":"'Lookup Tables'!D481","v":6.9444444444444444E-5},{"$f":"'Lookup Tables'!D482","v":6.6189236111111104E-5},{"$f":"'Lookup Tables'!D483","v":6.666666666666667E-5}]
["The \"Freight_Cargo\" tab can be used to develop a custom Commodity Mix to estimate the value of freight cargo",null,null,null,null,null,null,null,null,null,"*Default Value",null,null,null,null,null,null,"*Default Value",null,null,null,null,null,null,null,null,"*Default Value"]
[]
["Freight Train Delay: Opportunity, Spoilage, Useful Life Costs Cost Summary"]
["3.M"," Subtotal of Shipper Costs >>>",null,null,{"$f":"IF(OR(D162=\"--\",D163=\"--\",D164=\"--\",D165=\"--\",D166=\"--\"),\"--Enter Values Above--\",(IF(MAX(D165,E165)>=60,(MAX(D162,E162)*MAX(D163,E163)*MAX(D164,E164)*MAX(D165,E165)*MAX(D166,E166)),\"No Shipper Costs Applied\")))","v":"--Enter Values Above--"}]
[]
[]
["Freight Train Delay: Replacement for Damaged or Destroyed Cargo",null,null,null,null,null,null,null,"Factor","Freight Cars Damaged per Rail Incident Type of Event (Non-Zero Freight Car Damage Events Only)"]
["Step","Monetization Factor","Value Section","Value","Custom",null,null,null,null,"Default Event","Broken train collision","Derailment","Explosion-detonation","Fire/violent rupture","Head on collision","Highway-rail crossing","Obstruction","Raking collision","Rear end collision","Side collision","Other","No. Of Observations"]
["3.N.1","Value of Freight Cargo per Ton",null,{"$f":"IF(C175=\"Same as 3.L.1\",MAX(D162,E162),IF(C175=\"Custom\",\"Add Value\",\"--\"))","v":"--"},null,null,null,null,"Damaged Freight Cars per Event Type",0.24759889472116361,0.21717171717171718,0.32426622431361929,0.47826086956521741,4.0899795501022499E-3,0.11314984709480122,4.2930402930402928E-2,4.8818287485470749E-2,0.21331316187594554,0.1111111111111111,0.16212964355542187,0.16103472384059661,1088]
["3.N.2","Freight Tons per Carload",null,{"$f":"IF(C176=\"Same as 3.L.2\",MAX(D163,E163),IF(C176=\"Custom\",\"Add Value\",\"--\"))","v":"--"}]
["3.N.3","Damaged Freight Cars per Incident Type",null,{"$f":"IF(C177=J174,J175,IF(C177=K174,K175,IF(C177=L174,L175,IF(C177=M174,M175,IF(C177=N174,N175,IF(C177=O174,O175,IF(C177=P174,P175,IF(C177=Q174,Q175,IF(C177=R174,R175,IF(C177=S174,S175,IF(C177=T174,T175,IF(C177=U174,U175,IF(C177=\"Custom\",\"Add Value\",\"--\")))))))))))))","v":"--"}]
["3.N.4","Cargo Useful Life Remaining",null,{"$f":"IF(C178=\"Default\",0.5,IF(C178=\"Custom\",\"Add Value\",\"--\"))","v":"--"}]
[]
["Freight Train Delay:  Replacement for Damaged or Destroyed Cargo Cost Summary"]
["3.O"," Subtotal of Replacement Costs >>>",null,null,{"$f":"IF(OR(D175=\"--\",D176=\"--\",D177=\"--\",D178=\"--\"),\"--Enter Values Above--\",(MAX(D175,E175)*MAX(D176,E175)*MAX(D177,E177)*MAX(D178,E178)))","v":"--Enter Values Above--"}]
[]
["Freight Train Delay: Upstream Effects",null,null,null,null,null,null,null,"Delay: Upstream Effects Guideposts* "]
["Step","Monetization Factor","Value Section","Value","Custom",null,null,null,"Category","Minimum","10th Percentile","25th Percentile","Median","Mode","75th Percentile","90th Percentile","Maximum","No. of Observations"]
["3.P.1","Total Minutes of Delay Upstream",null,{"$f":"IF(C185=J184,J185,IF(C185=K184,K185,IF(C185=L184,L185,IF(C185=M184,M185,IF(C185=N184,N185,IF(C185=O184,O185,IF(C185=P184,P185,IF(C185=Q184,Q185,IF(C185=\"Custom\",\"Add Value\",\"--\")))))))))","v":"--"},null,null,null,null,"Minutes of Delay for Next Frequency",{"$f":"J103","v":15.999999999999943},16.999999999999957,18.999999999999972,26.000000000000068,26.000000000000068,39.000000000000021,64.000000000000057,149.00000000000011,40]
[]
["3.P.2","Crew Size",null,{"$f":"IF(C187=\"Default\",'Lookup Tables'!L478,IF(C187=\"Custom\",\"Add Value\",\"--\"))","v":"--"},null,null,null,null,"*Upstream delay data were only available for Amtrak trains. These data are likely to differ from upstream delay experienced by freight rail. These values should only be considered as guideposts for an upstream analysis. "]
["3.P.3","Crew Size Value of Time per hour",null,{"$f":"IF(C188=\"Default\",'Lookup Tables'!L479,IF(C188=\"Custom\",\"Add Value\",\"--\"))","v":"--"}]
["3.P.4","Upstream and Downstream Crew Delay Costs",null,null,{"$f":"IF(OR(D185=\"--\",D187=\"--\",D188=\"--\"),\"--\",(MAX(D185,E185)*(MAX(D187,E187)/60)*MAX(D188,E188)))","v":"--"}]
[]
["3.P.5","Value of Freight Cargo per Ton",null,{"$f":"IF(C191=\"Default\",'Lookup Tables'!L480,IF(C191=\"Custom\",\"Add Value\",\"--\"))","v":"--"}]
["3.P.6","Freight Tons per Carload",null,{"$f":"IF(C192=\"Default\",'Lookup Tables'!L481,IF(C192=\"Custom\",\"Add Value\",\"--\"))","v":"--"}]
["3.P.7","Freight Carloads per Train",null,{"$f":"IF(C193=\"Default\",'Lookup Tables'!L482,IF(C193=\"Custom\",\"Add Value\",\"--\"))","v":"--"}]
["3.P.8","Shipper Costs (Cargo Disc. Rate Per Minute)1",null,{"$f":"IF(C194=\"Default\",'Lookup Tables'!L484,IF(C194=\"Custom\",\"Add Value\",\"--\"))","v":"--"}]
["3.P.9","Upstream and Downstream Shipper Costs (only tabulated if delay is greater than 60 minutes)",null,null,{"$f":"IF(MAX(D185,E185)>=60,(MAX(D185,E185)*MAX(D191,E191)*MAX(D192,E192)*MAX(D193,E193)*MAX(D194,E194)),\"--\")","v":"--"}]
[]
["Freight Train Delay: Upstream Effects"]
["3.Q"," Subtotal of Upstream Freight Costs >>>",null,null,{"$f":"IF(AND(E189=\"--\",E195=\"--\"),\"--Enter Values Above--\",SUM(E189,E195))","v":"--Enter Values Above--"}]
[]
[]
[" Railroad Operating Costs: FOR PASSENGER TRAIN INCIDENTS",null,null,null,null,null,null,null,"Railroad Operating Costs"]
["Step","Monetization Factor","Value Section","Value per Minute","Custom",null,null,null,"Factor","Value per Hour","Value per Minute"]
["3.R.1","Locomotive Ownership / Leasing",null,{"$f":"IF(C203=\"Default\",K203,IF(C203=\"Loco Lease Default\",K204,IF(C203=\"Loco Ownership Default\",K203,IF(C203=\"Custom\",\"Add Value\",\"--\"))))","v":"--"},null,null,null,null,"Locomotive Ownership",{"$f":"'Lookup Tables'!C471","v":35.628176000000003},{"$f":"J203/60","v":0.59380293333333334}]
["3.R.2","Locomotive Units",null,{"$f":"IF(C204=\"Default\",J211,IF(C204=\"Custom\",\"Add Value\",\"--\"))","v":"--"},null,null,null,null,"Locomotive Leasing",{"$f":"'Lookup Tables'!C472","v":90.192268000000013},{"$f":"J204/60","v":1.5032044666666668}]
["3.R.3","Locomotive Fuel (per-locomotive minute)",null,{"$f":"IF(C205=\"Default\",K205,IF(C205=\"Custom\",\"Add Value\",\"--\"))","v":"--"},null,null,null,null,"Locomotive Fuel",{"$f":"'Lookup Tables'!C473","v":250.04600000000002},{"$f":"J205/60","v":4.1674333333333333}]
["3.R.4","Other Car Cost (per car-minute)",null,{"$f":"IF(C206=\"Default\",K206,IF(C206=\"Custom\",\"Add Value\",\"--\"))","v":"--"},null,null,null,null,"Other Train Car Costs",{"$f":"'Lookup Tables'!C474","v":0.78392799999999996},{"$f":"J206/60","v":1.3065466666666666E-2}]
["3.R.5","Minutes of Delay Occuring from Rail Incident",null,{"$f":"IF(C207=\"Same as 3.A\",MAX(D59,E59),IF(C207=\"Custom\",\"Add Value\",\"--\"))","v":"--"}]
["3.R.6","Additional Operating Costs: Passenger Rail",null,null,{"$f":"IF(OR(D203=\"--\",D205=\"--\",D206=\"--\",D207=\"--\"),\"--\",(MAX(D203,E203)*MAX(D204,E204)*MAX(D207,E207))+(MAX(D204,E204)*MAX(D205,E205)*MAX(D207,E207))+(MAX(D206,E206)*MAX(D207,E207)))","v":"--"},null,null,null,"Locomotive Units by Train Type"]
[null,null,null,null,null,null,null,null,"Train Type","Ave. of Number of Locomotives"]
["Railroad Operating Costs: FOR FREIGHT TRAIN INCIDENTS",null,null,null,null,null,null,null,"Freight Train",2.319628647214854]
["Step","Monetization Factor","Value Section","Value per Minute","Custom",null,null,null,"Passenger Train",1.5185185185185186]
["3.S.1","Locomotive Ownership / Leasing",null,{"$f":"IF(C212=\"Default\",K203,IF(C212=\"Loco Lease Default\",K204,IF(C212=\"Loco Ownership Default\",K203,IF(C212=\"Custom\",\"Add Value\",\"--\"))))","v":"--"}]
["3.S.2","Locomotive Units",null,{"$f":"IF(C213=\"Default\",J210,IF(C213=\"Custom\",\"Add Value\",\"--\"))","v":"--"}]
["3.S.3","Locomotive Fuel (per-locomotive minute)",null,{"$f":"IF(C214=\"Default\",K205,IF(C214=\"Custom\",\"Add Value\",\"--\"))","v":"--"}]
["3.S.4","Other Car Cost (per car-minute)",null,{"$f":"IF(C215=\"Default\",K206,IF(C215=\"Custom\",\"Add Value\",\"--\"))","v":"--"}]
["3.S.5","Minutes of Delay Occuring from Rail Incident",null,{"$f":"IF(C216=\"Same as 3.I\",MAX(D130,E130),IF(C216=\"Custom\",\"Add Value\",\"--\"))","v":"--"}]
["3.S.6","Additional Operating Costs: Freight Rail",null,null,{"$f":"IF(OR(D212=\"--\",D214=\"--\",D215=\"--\",D216=\"--\"),\"--\",(MAX(D212,E212)*MAX(D213,E213)*MAX(D216,E216))+(MAX(D213,E213)*MAX(D214,E214)*MAX(D216,E216))+(MAX(D215,E215)*MAX(D216,E216)))","v":"--"}]
[]
["Freight Train Delay: Railroad Operating Costs"]
["3.T"," Subtotal of Rail Operating Costs >>>",null,null,{"$f":"IF(AND(E208=\"--\",E217=\"--\"),\"--\",SUM(E208,E217))","v":"--"}]
[]
[]
["Environmental Emissions Costs (costs per minute of delay) - PASSENGER TRAIN"]
["Step","Monetization Factor","Value Section","Value","Custom",null,null,null,"Emissions Costs For Locomotive Runtime"]
["3.U.1","Additional Idle/Running Time",null,{"$f":"IF(C225=\"Same as 3.A\",MAX(D59,E59),IF(C225=\"Custom\",\"Add Value\",\"--\"))","v":"--"},null,null,null,null,"Pollutant","Cost per Minute"]
["3.U.2","Number of Locomotives per train",null,{"$f":"IF(C226=\"Default\",J211,IF(C226=\"Custom\",\"Add Value\",\"--\"))","v":"--"},null,null,null,null,"CO2",{"$f":"'Lookup Tables'!D487","v":0.55263000000000007}]
["3.U.3","CO2 (cost per locomotive minute)",null,{"$f":"IF(C227=\"Default\",J226,IF(C227=\"Custom\",\"Add Value\",\"--\"))","v":"--"},null,null,null,null,"NOx",{"$f":"'Lookup Tables'!D488","v":2.2458359999999997}]
["3.U.4","Nox (cost per locomotive minute)",null,{"$f":"IF(C228=\"Default\",J227,IF(C228=\"Custom\",\"Add Value\",\"--\"))","v":"--"},null,null,null,null,"PM",{"$f":"'Lookup Tables'!D489","v":3.8241560000000003}]
["3.U.5","PM (cost per locomotive minute)",null,{"$f":"IF(C229=\"Default\",J228,IF(C229=\"Custom\",\"Add Value\",\"--\"))","v":"--"},null,null,null,null,"Total",{"$f":"'Lookup Tables'!D490","v":6.6226219999999989}]
["3.U.6","Environmental Costs: Passenger Rail Delay",null,null,{"$f":"IF(OR(D225=\"--\",D226=\"--\",D227=\"--\",D228=\"--\",D229=\"--\"),\"--\",((MAX(D225,E225)*MAX(D226,E226)*MAX(D227,E227)+(MAX(D225,E225)*MAX(D226,E226)*MAX(D228,E228))+(MAX(D225,E225)*MAX(D226,E226)*MAX(D229,E229)))))","v":"--"},null,null,null,"Source: Lovett, A., Dick, C., Barkan, C. \"Determining Freight Train Delay Costs on Railroad Lines in North American.\" 2015. Online: https://railtec.illinois.edu/wp/wp-content/uploads/2019/01/Lovett-et-al-2015-IAROR.pdf"]
[]
["Environmental Emissions Costs (costs per minute of delay) - FREIGHT TRAIN"]
["Step","Monetization Factor","Value Section","Value ","Custom"]
["3.V.1","Additional Idle/Running Time",null,{"$f":"IF(C234=\"Same as 3.I\",MAX(D130,E130),IF(C234=\"Custom\",\"Add Value\",\"--\"))","v":"--"}]
["3.V.2","Number of Locomotives per train",null,{"$f":"IF(C235=\"Default\",J210,IF(C235=\"Custom\",\"Add Value\",\"--\"))","v":"--"}]
["3.V.3","CO2 (cost per locomotive minute)",null,{"$f":"IF(C236=\"Default\",J226,IF(C236=\"Custom\",\"Add Value\",\"--\"))","v":"--"}]
["3.V.4","Nox (cost per locomotive minute)",null,{"$f":"IF(C237=\"Default\",J227,IF(C237=\"Custom\",\"Add Value\",\"--\"))","v":"--"}]
["3.V.5","PM (cost per locomotive minute)",null,{"$f":"IF(C238=\"Default\",J228,IF(C238=\"Custom\",\"Add Value\",\"--\"))","v":"--"}]
["3.V.6","Environmental Costs: Passenger Rail Delay",null,null,{"$f":"IF(OR(D234=\"--\",D235=\"--\",D236=\"--\",D237=\"--\",D238=\"--\"),\"--\",((MAX(D234,E234)*MAX(D235,E235)*MAX(D236,E236)+(MAX(D234,E234)*MAX(D235,E235)*MAX(D237,E237))+(MAX(D234,E234)*MAX(D235,E235)*MAX(D238,E238)))))","v":"--"}]
[]
["Environmental Emissions Costs"]
["3.W"," Subtotal of Rail Emissions Costs >>>",null,null,{"$f":"IF(AND(E230=\"--\",E239=\"--\"),\"--\",SUM(E230,E239))","v":"--"}]
[]
["Part IV: First Responder & Emergency Costs"]
[]
[]
["Step","Magnitude of Rail Event Definitions"]
[null,"Definitions for Cost Tool Determinations"]
["4.A","Low Impact: No injuries or fatalities are reported or anticipated. The train, its crew, and any passengers are minimally affected by the incident, which may include: brush or spot fires, a non-vehicle object struck on tracks, a vehicular crash with a positive ID of no-one in the vehicle, first response, or other incidents expected to have a minimal property damage outcome. "]
[null,"Medium Impact: Based on 911 caller information the rail event could result in injuries, or the magnitude of the event is unknown. This may include events such as, derailments, train to vehicle collisions, train fires, or other incidents expected to have property damage outcomes that could result in injuries."]
[null,"High Impact: Based on 911 caller information the rail event is likely to result in injuries or fatalities. This could include a derailment, a collision, a pedestrian strike, a vehicle strike, an explosion or detonation, a Hazmat spill, or other incidents that are likely to result in significant property damage and likely injuries or fatalities. "]
[null,"Very High Impact: A very high impact event goes above and beyond a high impact event. Catastrophic injuries or fatalities are reported or anticipated. An example of a catastrophic event includes the 1986 collision between an Amtrak passenger train and three Conrail locomotives. During this event 400 victims were assessed at secondary triage, 177 were transported to 11 hospitals and 22 were admitted. A total of 37 fire and rescue department vehicles, and 7 private ambulances transported the casualties."]
[]
["Step","Select Event Magnitude (see definitions above)"]
["4.A"]
[]
[]
["Step","First Responder and Emegency Personnel","No. of Individuals Dispatched",null,null,null,{"$f":"CONCATENATE(\"Number of Indiviudals Responding to Event by Type |  Impact Category: \",B255)","v":"Number of Indiviudals Responding to Event by Type |  Impact Category: "}]
[null,null,"Dropdown Selection","Value","Custom Value",null,"Incident Response Type",null,"Minimum","Mean","Maximum","Mode","No. of Observations"]
["4.B.1","Law Enforcement / Sheriff's Office / State Highway Patrol",null,{"$f":"IF(C260=\"Minimum\",I260,IF(C260=\"Mean\",J260,IF(C260=\"Maximum\",K260,IF(C260=\"Mode\",L260,IF(C260=\"Custom\",\"Add Value\",\"--\")))))","v":"--"},null,null,"Law Enforcement / Sheriff's Office / State Highway Patrol",null,{"$f":"IF($B$255=\"Low Impact\",'Lookup Tables'!C499, IF($B$255=\"Medium Impact\",'Lookup Tables'!C508,IF($B$255=\"High Impact\",'Lookup Tables'!C517, IF($B$255=\"Very High Impact\",'Lookup Tables'!C526,IF($B$255=\"Custom\",\"Add Custom Value\",\"--\")))))","v":"--"},{"$f":"IF($B$255=\"Low Impact\",'Lookup Tables'!D499, IF($B$255=\"Medium Impact\",'Lookup Tables'!D508,IF($B$255=\"High Impact\",'Lookup Tables'!D517, IF($B$255=\"Very High Impact\",'Lookup Tables'!D526,IF($B$255=\"Custom\",\"Add Custom Value\",\"--\")))))","v":"--"},{"$f":"IF($B$255=\"Low Impact\",'Lookup Tables'!E499, IF($B$255=\"Medium Impact\",'Lookup Tables'!E508,IF($B$255=\"High Impact\",'Lookup Tables'!E517, IF($B$255=\"Very High Impact\",'Lookup Tables'!E526,IF($B$255=\"Custom\",\"Add Custom Value\",\"--\")))))","v":"--"},{"$f":"IF($B$255=\"Low Impact\",'Lookup Tables'!F499, IF($B$255=\"Medium Impact\",'Lookup Tables'!F508,IF($B$255=\"High Impact\",'Lookup Tables'!F517, IF($B$255=\"Very High Impact\",'Lookup Tables'!F526,IF($B$255=\"Custom\",\"Add Custom Value\",\"--\")))))","v":"--"},{"$f":"IF($B$255=\"Low Impact\",'Lookup Tables'!G499, IF($B$255=\"Medium Impact\",'Lookup Tables'!G508,IF($B$255=\"High Impact\",'Lookup Tables'!G517, IF($B$255=\"Very High Impact\",'Lookup Tables'!G526,IF($B$255=\"Custom\",\"Input Values\",\"--\")))))","v":"--"}]
["4.B.2","EMS / Medic / County Rescue",null,{"$f":"IF(C261=\"Minimum\",I261,IF(C261=\"Mean\",J261,IF(C261=\"Maximum\",K261,IF(C261=\"Mode\",L261,IF(C261=\"Custom\",\"Add Value\",\"--\")))))","v":"--"},null,null,"EMS / Medic / County Rescue",null,{"$f":"IF($B$255=\"Low Impact\",'Lookup Tables'!C500, IF($B$255=\"Medium Impact\",'Lookup Tables'!C509,IF($B$255=\"High Impact\",'Lookup Tables'!C518, IF($B$255=\"Very High Impact\",'Lookup Tables'!C527,IF($B$255=\"Custom\",\"Add Custom Value\",\"--\")))))","v":"--"},{"$f":"IF($B$255=\"Low Impact\",'Lookup Tables'!D500, IF($B$255=\"Medium Impact\",'Lookup Tables'!D509,IF($B$255=\"High Impact\",'Lookup Tables'!D518, IF($B$255=\"Very High Impact\",'Lookup Tables'!D527,IF($B$255=\"Custom\",\"Add Custom Value\",\"--\")))))","v":"--"},{"$f":"IF($B$255=\"Low Impact\",'Lookup Tables'!E500, IF($B$255=\"Medium Impact\",'Lookup Tables'!E509,IF($B$255=\"High Impact\",'Lookup Tables'!E518, IF($B$255=\"Very High Impact\",'Lookup Tables'!E527,IF($B$255=\"Custom\",\"Add Custom Value\",\"--\")))))","v":"--"},{"$f":"IF($B$255=\"Low Impact\",'Lookup Tables'!F500, IF($B$255=\"Medium Impact\",'Lookup Tables'!F509,IF($B$255=\"High Impact\",'Lookup Tables'!F518, IF($B$255=\"Very High Impact\",'Lookup Tables'!F527,IF($B$255=\"Custom\",\"Add Custom Value\",\"--\")))))","v":"--"},{"$f":"IF($B$255=\"Low Impact\",'Lookup Tables'!G500, IF($B$255=\"Medium Impact\",'Lookup Tables'!G509,IF($B$255=\"High Impact\",'Lookup Tables'!G518, IF($B$255=\"Very High Impact\",'Lookup Tables'!G527,IF($B$255=\"Custom\",\"Input Values\",\"--\")))))","v":"--"}]
["4.B.3","Fire Response",null,{"$f":"IF(C262=\"Minimum\",I262,IF(C262=\"Mean\",J262,IF(C262=\"Maximum\",K262,IF(C262=\"Mode\",L262,IF(C262=\"Custom\",\"Add Value\",\"--\")))))","v":"--"},null,null,"Fire Department",null,{"$f":"IF($B$255=\"Low Impact\",'Lookup Tables'!C501, IF($B$255=\"Medium Impact\",'Lookup Tables'!C510,IF($B$255=\"High Impact\",'Lookup Tables'!C519, IF($B$255=\"Very High Impact\",'Lookup Tables'!C528,IF($B$255=\"Custom\",\"Add Custom Value\",\"--\")))))","v":"--"},{"$f":"IF($B$255=\"Low Impact\",'Lookup Tables'!D501, IF($B$255=\"Medium Impact\",'Lookup Tables'!D510,IF($B$255=\"High Impact\",'Lookup Tables'!D519, IF($B$255=\"Very High Impact\",'Lookup Tables'!D528,IF($B$255=\"Custom\",\"Add Custom Value\",\"--\")))))","v":"--"},{"$f":"IF($B$255=\"Low Impact\",'Lookup Tables'!E501, IF($B$255=\"Medium Impact\",'Lookup Tables'!E510,IF($B$255=\"High Impact\",'Lookup Tables'!E519, IF($B$255=\"Very High Impact\",'Lookup Tables'!E528,IF($B$255=\"Custom\",\"Add Custom Value\",\"--\")))))","v":"--"},{"$f":"IF($B$255=\"Low Impact\",'Lookup Tables'!F501, IF($B$255=\"Medium Impact\",'Lookup Tables'!F510,IF($B$255=\"High Impact\",'Lookup Tables'!F519, IF($B$255=\"Very High Impact\",'Lookup Tables'!F528,IF($B$255=\"Custom\",\"Add Custom Value\",\"--\")))))","v":"--"},{"$f":"IF($B$255=\"Low Impact\",'Lookup Tables'!G501, IF($B$255=\"Medium Impact\",'Lookup Tables'!G510,IF($B$255=\"High Impact\",'Lookup Tables'!G519, IF($B$255=\"Very High Impact\",'Lookup Tables'!G528,IF($B$255=\"Custom\",\"Input Values\",\"--\")))))","v":"--"}]
["4.B.4","Contract Workers or Other Safety Response Personnel",null,{"$f":"IF(C263=\"Minimum\",I263,IF(C263=\"Mean\",J263,IF(C263=\"Maximum\",K263,IF(C263=\"Mode\",L263,IF(C263=\"Custom\",\"Add Value\",\"--\")))))","v":"--"},null,null,"Contract Workers or Other Safety Response Personnel",null,{"$f":"IF($B$255=\"Low Impact\",'Lookup Tables'!C502, IF($B$255=\"Medium Impact\",'Lookup Tables'!C511,IF($B$255=\"High Impact\",'Lookup Tables'!C520, IF($B$255=\"Very High Impact\",'Lookup Tables'!C529,IF($B$255=\"Custom\",\"Add Custom Value\",\"--\")))))","v":"--"},{"$f":"IF($B$255=\"Low Impact\",'Lookup Tables'!D502, IF($B$255=\"Medium Impact\",'Lookup Tables'!D511,IF($B$255=\"High Impact\",'Lookup Tables'!D520, IF($B$255=\"Very High Impact\",'Lookup Tables'!D529,IF($B$255=\"Custom\",\"Add Custom Value\",\"--\")))))","v":"--"},{"$f":"IF($B$255=\"Low Impact\",'Lookup Tables'!E502, IF($B$255=\"Medium Impact\",'Lookup Tables'!E511,IF($B$255=\"High Impact\",'Lookup Tables'!E520, IF($B$255=\"Very High Impact\",'Lookup Tables'!E529,IF($B$255=\"Custom\",\"Add Custom Value\",\"--\")))))","v":"--"},{"$f":"IF($B$255=\"Low Impact\",'Lookup Tables'!F502, IF($B$255=\"Medium Impact\",'Lookup Tables'!F511,IF($B$255=\"High Impact\",'Lookup Tables'!F520, IF($B$255=\"Very High Impact\",'Lookup Tables'!F529,IF($B$255=\"Custom\",\"Add Custom Value\",\"--\")))))","v":"--"},{"$f":"IF($B$255=\"Low Impact\",'Lookup Tables'!G502, IF($B$255=\"Medium Impact\",'Lookup Tables'!G511,IF($B$255=\"High Impact\",'Lookup Tables'!G520, IF($B$255=\"Very High Impact\",'Lookup Tables'!G529,IF($B$255=\"Custom\",\"Input Values\",\"--\")))))","v":"--"}]
["4.B.5","Hazmat Team",null,{"$f":"IF(C264=\"Minimum\",I264,IF(C264=\"Mean\",J264,IF(C264=\"Maximum\",K264,IF(C264=\"Mode\",L264,IF(C264=\"Custom\",\"Add Value\",\"--\")))))","v":"--"},null,null,"Hazmat Team",null,{"$f":"IF($B$255=\"Low Impact\",'Lookup Tables'!C503, IF($B$255=\"Medium Impact\",'Lookup Tables'!C512,IF($B$255=\"High Impact\",'Lookup Tables'!C521, IF($B$255=\"Very High Impact\",'Lookup Tables'!C530,IF($B$255=\"Custom\",\"Add Custom Value\",\"--\")))))","v":"--"},{"$f":"IF($B$255=\"Low Impact\",'Lookup Tables'!D503, IF($B$255=\"Medium Impact\",'Lookup Tables'!D512,IF($B$255=\"High Impact\",'Lookup Tables'!D521, IF($B$255=\"Very High Impact\",'Lookup Tables'!D530,IF($B$255=\"Custom\",\"Add Custom Value\",\"--\")))))","v":"--"},{"$f":"IF($B$255=\"Low Impact\",'Lookup Tables'!E503, IF($B$255=\"Medium Impact\",'Lookup Tables'!E512,IF($B$255=\"High Impact\",'Lookup Tables'!E521, IF($B$255=\"Very High Impact\",'Lookup Tables'!E530,IF($B$255=\"Custom\",\"Add Custom Value\",\"--\")))))","v":"--"},{"$f":"IF($B$255=\"Low Impact\",'Lookup Tables'!F503, IF($B$255=\"Medium Impact\",'Lookup Tables'!F512,IF($B$255=\"High Impact\",'Lookup Tables'!F521, IF($B$255=\"Very High Impact\",'Lookup Tables'!F530,IF($B$255=\"Custom\",\"Add Custom Value\",\"--\")))))","v":"--"},{"$f":"IF($B$255=\"Low Impact\",'Lookup Tables'!G503, IF($B$255=\"Medium Impact\",'Lookup Tables'!G512,IF($B$255=\"High Impact\",'Lookup Tables'!G521, IF($B$255=\"Very High Impact\",'Lookup Tables'!G530,IF($B$255=\"Custom\",\"Input Values\",\"--\")))))","v":"--"}]
[]
["Step","First Responder and Emegency Personnel","Total Time Involved (Minutes)",null,null,null,{"$f":"CONCATENATE(\"Time Involved in Minutes |   Impact Category: \",B255)","v":"Time Involved in Minutes |   Impact Category: "}]
[null,null,"Total Time Involved","Value","Custom Value",null,"Incident Response Type",null,"Minimum","Mean","Maximum","Mode","No. of Observations"]
["4.C.1","Law Enforcement / Sheriff's Office / State Highway Patrol",null,{"$f":"IF(C268=\"Minimum\",I268,IF(C268=\"Mean\",J268,IF(C268=\"Maximum\",K268,IF(C268=\"Mode\",L268,IF(C268=\"Custom\",\"Add Value\",\"--\")))))","v":"--"},null,null,"Law Enforcement / Sheriff's Office / State Highway Patrol",null,{"$f":"IF($B$255=\"Low Impact\",'Lookup Tables'!J537,IF($B$255=\"Medium Impact\",'Lookup Tables'!J546,IF($B$255=\"High Impact\",'Lookup Tables'!J555,IF($B$255=\"Very High Impact\",'Lookup Tables'!J564,IF($B$255=\"Custom\",\"Add Custom Value\",\"--\")))))","v":"--"},{"$f":"IF($B$255=\"Low Impact\",'Lookup Tables'!K537,IF($B$255=\"Medium Impact\",'Lookup Tables'!K546,IF($B$255=\"High Impact\",'Lookup Tables'!K555,IF($B$255=\"Very High Impact\",'Lookup Tables'!K564,IF($B$255=\"Custom\",\"Add Custom Value\",\"--\")))))","v":"--"},{"$f":"IF($B$255=\"Low Impact\",'Lookup Tables'!L537,IF($B$255=\"Medium Impact\",'Lookup Tables'!L546,IF($B$255=\"High Impact\",'Lookup Tables'!L555,IF($B$255=\"Very High Impact\",'Lookup Tables'!L564,IF($B$255=\"Custom\",\"Add Custom Value\",\"--\")))))","v":"--"},{"$f":"IF($B$255=\"Low Impact\",'Lookup Tables'!M537,IF($B$255=\"Medium Impact\",'Lookup Tables'!M546,IF($B$255=\"High Impact\",'Lookup Tables'!M555,IF($B$255=\"Very High Impact\",'Lookup Tables'!M564,IF($B$255=\"Custom\",\"Add Custom Value\",\"--\")))))","v":"--"},{"$f":"IF($B$255=\"Low Impact\",'Lookup Tables'!N537,IF($B$255=\"Medium Impact\",'Lookup Tables'!N546,IF($B$255=\"High Impact\",'Lookup Tables'!N555,IF($B$255=\"Very High Impact\",'Lookup Tables'!N564,IF($B$255=\"Custom\",\"Input Values\",\"--\")))))","v":"--"}]
["4.C.2","EMS / Medic / County Rescue",null,{"$f":"IF(C269=\"Minimum\",I269,IF(C269=\"Mean\",J269,IF(C269=\"Maximum\",K269,IF(C269=\"Mode\",L269,IF(C269=\"Custom\",\"Add Value\",\"--\")))))","v":"--"},null,null,"EMS / Medic / County Rescue",null,{"$f":"IF($B$255=\"Low Impact\",'Lookup Tables'!J538,IF($B$255=\"Medium Impact\",'Lookup Tables'!J547,IF($B$255=\"High Impact\",'Lookup Tables'!J556,IF($B$255=\"Very High Impact\",'Lookup Tables'!J565,IF($B$255=\"Custom\",\"Add Custom Value\",\"--\")))))","v":"--"},{"$f":"IF($B$255=\"Low Impact\",'Lookup Tables'!K538,IF($B$255=\"Medium Impact\",'Lookup Tables'!K547,IF($B$255=\"High Impact\",'Lookup Tables'!K556,IF($B$255=\"Very High Impact\",'Lookup Tables'!K565,IF($B$255=\"Custom\",\"Add Custom Value\",\"--\")))))","v":"--"},{"$f":"IF($B$255=\"Low Impact\",'Lookup Tables'!L538,IF($B$255=\"Medium Impact\",'Lookup Tables'!L547,IF($B$255=\"High Impact\",'Lookup Tables'!L556,IF($B$255=\"Very High Impact\",'Lookup Tables'!L565,IF($B$255=\"Custom\",\"Add Custom Value\",\"--\")))))","v":"--"},{"$f":"IF($B$255=\"Low Impact\",'Lookup Tables'!M538,IF($B$255=\"Medium Impact\",'Lookup Tables'!M547,IF($B$255=\"High Impact\",'Lookup Tables'!M556,IF($B$255=\"Very High Impact\",'Lookup Tables'!M565,IF($B$255=\"Custom\",\"Add Custom Value\",\"--\")))))","v":"--"},{"$f":"IF($B$255=\"Low Impact\",'Lookup Tables'!N538,IF($B$255=\"Medium Impact\",'Lookup Tables'!N547,IF($B$255=\"High Impact\",'Lookup Tables'!N556,IF($B$255=\"Very High Impact\",'Lookup Tables'!N565,IF($B$255=\"Custom\",\"Input Values\",\"--\")))))","v":"--"}]
["4.C.3","Fire Response",null,{"$f":"IF(C270=\"Minimum\",I270,IF(C270=\"Mean\",J270,IF(C270=\"Maximum\",K270,IF(C270=\"Mode\",L270,IF(C270=\"Custom\",\"Add Value\",\"--\")))))","v":"--"},null,null,"Fire Department",null,{"$f":"IF($B$255=\"Low Impact\",'Lookup Tables'!J539,IF($B$255=\"Medium Impact\",'Lookup Tables'!J548,IF($B$255=\"High Impact\",'Lookup Tables'!J557,IF($B$255=\"Very High Impact\",'Lookup Tables'!J566,IF($B$255=\"Custom\",\"Add Custom Value\",\"--\")))))","v":"--"},{"$f":"IF($B$255=\"Low Impact\",'Lookup Tables'!K539,IF($B$255=\"Medium Impact\",'Lookup Tables'!K548,IF($B$255=\"High Impact\",'Lookup Tables'!K557,IF($B$255=\"Very High Impact\",'Lookup Tables'!K566,IF($B$255=\"Custom\",\"Add Custom Value\",\"--\")))))","v":"--"},{"$f":"IF($B$255=\"Low Impact\",'Lookup Tables'!L539,IF($B$255=\"Medium Impact\",'Lookup Tables'!L548,IF($B$255=\"High Impact\",'Lookup Tables'!L557,IF($B$255=\"Very High Impact\",'Lookup Tables'!L566,IF($B$255=\"Custom\",\"Add Custom Value\",\"--\")))))","v":"--"},{"$f":"IF($B$255=\"Low Impact\",'Lookup Tables'!M539,IF($B$255=\"Medium Impact\",'Lookup Tables'!M548,IF($B$255=\"High Impact\",'Lookup Tables'!M557,IF($B$255=\"Very High Impact\",'Lookup Tables'!M566,IF($B$255=\"Custom\",\"Add Custom Value\",\"--\")))))","v":"--"},{"$f":"IF($B$255=\"Low Impact\",'Lookup Tables'!N539,IF($B$255=\"Medium Impact\",'Lookup Tables'!N548,IF($B$255=\"High Impact\",'Lookup Tables'!N557,IF($B$255=\"Very High Impact\",'Lookup Tables'!N566,IF($B$255=\"Custom\",\"Input Values\",\"--\")))))","v":"--"}]
["4.C.4","Contract Workers or Other Safety Response Personnel",null,{"$f":"IF(C271=\"Minimum\",I271,IF(C271=\"Mean\",J271,IF(C271=\"Maximum\",K271,IF(C271=\"Mode\",L271,IF(C271=\"Custom\",\"Add Value\",\"--\")))))","v":"--"},null,null,"Contract Workers or Other Safety Response Personnel",null,{"$f":"IF($B$255=\"Low Impact\",'Lookup Tables'!J540,IF($B$255=\"Medium Impact\",'Lookup Tables'!J549,IF($B$255=\"High Impact\",'Lookup Tables'!J558,IF($B$255=\"Very High Impact\",'Lookup Tables'!J567,IF($B$255=\"Custom\",\"Add Custom Value\",\"--\")))))","v":"--"},{"$f":"IF($B$255=\"Low Impact\",'Lookup Tables'!K540,IF($B$255=\"Medium Impact\",'Lookup Tables'!K549,IF($B$255=\"High Impact\",'Lookup Tables'!K558,IF($B$255=\"Very High Impact\",'Lookup Tables'!K567,IF($B$255=\"Custom\",\"Add Custom Value\",\"--\")))))","v":"--"},{"$f":"IF($B$255=\"Low Impact\",'Lookup Tables'!L540,IF($B$255=\"Medium Impact\",'Lookup Tables'!L549,IF($B$255=\"High Impact\",'Lookup Tables'!L558,IF($B$255=\"Very High Impact\",'Lookup Tables'!L567,IF($B$255=\"Custom\",\"Add Custom Value\",\"--\")))))","v":"--"},{"$f":"IF($B$255=\"Low Impact\",'Lookup Tables'!M540,IF($B$255=\"Medium Impact\",'Lookup Tables'!M549,IF($B$255=\"High Impact\",'Lookup Tables'!M558,IF($B$255=\"Very High Impact\",'Lookup Tables'!M567,IF($B$255=\"Custom\",\"Add Custom Value\",\"--\")))))","v":"--"},{"$f":"IF($B$255=\"Low Impact\",'Lookup Tables'!N540,IF($B$255=\"Medium Impact\",'Lookup Tables'!N549,IF($B$255=\"High Impact\",'Lookup Tables'!N558,IF($B$255=\"Very High Impact\",'Lookup Tables'!N567,IF($B$255=\"Custom\",\"Input Values\",\"--\")))))","v":"--"}]
["4.C.5","Hazmat Team",null,{"$f":"IF(C272=\"Minimum\",I272,IF(C272=\"Mean\",J272,IF(C272=\"Maximum\",K272,IF(C272=\"Mode\",L272,IF(C272=\"Custom\",\"Add Value\",\"--\")))))","v":"--"},null,null,"Hazmat Team",null,{"$f":"IF($B$255=\"Low Impact\",'Lookup Tables'!J541,IF($B$255=\"Medium Impact\",'Lookup Tables'!J550,IF($B$255=\"High Impact\",'Lookup Tables'!J559,IF($B$255=\"Very High Impact\",'Lookup Tables'!J568,IF($B$255=\"Custom\",\"Add Custom Value\",\"--\")))))","v":"--"},{"$f":"IF($B$255=\"Low Impact\",'Lookup Tables'!K541,IF($B$255=\"Medium Impact\",'Lookup Tables'!K550,IF($B$255=\"High Impact\",'Lookup Tables'!K559,IF($B$255=\"Very High Impact\",'Lookup Tables'!K568,IF($B$255=\"Custom\",\"Add Custom Value\",\"--\")))))","v":"--"},{"$f":"IF($B$255=\"Low Impact\",'Lookup Tables'!L541,IF($B$255=\"Medium Impact\",'Lookup Tables'!L550,IF($B$255=\"High Impact\",'Lookup Tables'!L559,IF($B$255=\"Very High Impact\",'Lookup Tables'!L568,IF($B$255=\"Custom\",\"Add Custom Value\",\"--\")))))","v":"--"},{"$f":"IF($B$255=\"Low Impact\",'Lookup Tables'!M541,IF($B$255=\"Medium Impact\",'Lookup Tables'!M550,IF($B$255=\"High Impact\",'Lookup Tables'!M559,IF($B$255=\"Very High Impact\",'Lookup Tables'!M568,IF($B$255=\"Custom\",\"Add Custom Value\",\"--\")))))","v":"--"},{"$f":"IF($B$255=\"Low Impact\",'Lookup Tables'!N541,IF($B$255=\"Medium Impact\",'Lookup Tables'!N550,IF($B$255=\"High Impact\",'Lookup Tables'!N559,IF($B$255=\"Very High Impact\",'Lookup Tables'!N568,IF($B$255=\"Custom\",\"Input Values\",\"--\")))))","v":"--"}]
[]
["Step","First Responder and Emegency Personnel","Personnel Time Costs Accrued per Minute",null,null,null,{"$f":"CONCATENATE(\"Personnel Time Costs per Minute | \",B255)","v":"Personnel Time Costs per Minute | "},null,null,null,null,null,null,null,"Personnel Time Costs per Hour (For Reference Purposes)"]
[null,null,"Total Time Involved","Value","Custom Value",null,"Incident Response Type",null,"10th Percentile","25th Percentile","Median","75th Percentile","90th Percentile",null,"Incident Response Type",null,"10th Percentile","25th Percentile","Median","75th Percentile","90th Percentile"]
["4.D.1","Law Enforcement / Sheriff's Office / State Highway Patrol",null,{"$f":"IF(C276=$I$275,I276,IF(C276=$J$275,J276,IF(C276=$K$275,K276,IF(C276=$L$275,L276,IF(C276=$M$275,M276,IF(C276=\"Custom\",\"Add Value\",\"--\"))))))","v":"--"},null,null,"Law Enforcement / Sheriff's Office / State Highway Patrol",null,{"$f":"'Lookup Tables'!J577/60","v":0.28994000000000003},{"$f":"'Lookup Tables'!K577/60","v":0.32954333333333335},{"$f":"'Lookup Tables'!L577/60","v":0.39694166666666675},{"$f":"'Lookup Tables'!M577/60","v":0.48668499999999998},{"$f":"'Lookup Tables'!N577/60","v":0.57443},null,"Law Enforcement / Sheriff's Office / State Highway Patrol",null,{"$f":"'Lookup Tables'!J577","v":17.396400000000003},{"$f":"'Lookup Tables'!K577","v":19.772600000000001},{"$f":"'Lookup Tables'!L577","v":23.816500000000005},{"$f":"'Lookup Tables'!M577","v":29.2011},{"$f":"'Lookup Tables'!N577","v":34.465800000000002}]
["4.D.2","EMS / Medic / County Rescue",null,{"$f":"IF(C277=$I$275,I277,IF(C277=$J$275,J277,IF(C277=$K$275,K277,IF(C277=$L$275,L277,IF(C277=$M$275,M277,IF(C277=\"Custom\",\"Add Value\",\"--\"))))))","v":"--"},null,null,"EMS / Medic / County Rescue",null,{"$f":"'Lookup Tables'!J578/60","v":0.22599333333333332},{"$f":"'Lookup Tables'!K578/60","v":0.26269000000000003},{"$f":"'Lookup Tables'!L578/60","v":0.3168266666666667},{"$f":"'Lookup Tables'!M578/60","v":0.38585999999999998},{"$f":"'Lookup Tables'!N578/60","v":0.4510783333333333},null,"EMS / Medic / County Rescue",null,{"$f":"'Lookup Tables'!J578","v":13.5596},{"$f":"'Lookup Tables'!K578","v":15.761400000000002},{"$f":"'Lookup Tables'!L578","v":19.009600000000002},{"$f":"'Lookup Tables'!M578","v":23.151599999999998},{"$f":"'Lookup Tables'!N578","v":27.064699999999998}]
["4.D.3","Fire Response",null,{"$f":"IF(C278=$I$275,I278,IF(C278=$J$275,J278,IF(C278=$K$275,K278,IF(C278=$L$275,L278,IF(C278=$M$275,M278,IF(C278=\"Custom\",\"Add Value\",\"--\"))))))","v":"--"},null,null,"Fire Department",null,{"$f":"'Lookup Tables'!J579/60","v":0.18493666666666667},{"$f":"'Lookup Tables'!K579/60","v":0.22108833333333336},{"$f":"'Lookup Tables'!L579/60","v":0.27395333333333333},{"$f":"'Lookup Tables'!M579/60","v":0.35570333333333332},{"$f":"'Lookup Tables'!N579/60","v":0.44799},null,"Fire Department",null,{"$f":"'Lookup Tables'!J579","v":11.0962},{"$f":"'Lookup Tables'!K579","v":13.265300000000002},{"$f":"'Lookup Tables'!L579","v":16.437200000000001},{"$f":"'Lookup Tables'!M579","v":21.342199999999998},{"$f":"'Lookup Tables'!N579","v":26.8794}]
["4.D.4","Contract Workers or Other Safety Response Personnel",null,{"$f":"IF(C279=$I$275,I279,IF(C279=$J$275,J279,IF(C279=$K$275,K279,IF(C279=$L$275,L279,IF(C279=$M$275,M279,IF(C279=\"Custom\",\"Add Value\",\"--\"))))))","v":"--"},null,null,"Contract Workers or Other Safety Response Personnel",null,{"$f":"'Lookup Tables'!J580/60","v":0.17603500000000002},{"$f":"'Lookup Tables'!K580/60","v":0.19383833333333333},{"$f":"'Lookup Tables'!L580/60","v":0.23998166666666668},{"$f":"'Lookup Tables'!M580/60","v":0.29938666666666669},{"$f":"'Lookup Tables'!N580/60","v":0.32936166666666666},null,"Contract Workers or Other Safety Response Personnel",null,{"$f":"'Lookup Tables'!J580","v":10.562100000000001},{"$f":"'Lookup Tables'!K580","v":11.6303},{"$f":"'Lookup Tables'!L580","v":14.398900000000001},{"$f":"'Lookup Tables'!M580","v":17.963200000000001},{"$f":"'Lookup Tables'!N580","v":19.761700000000001}]
["4.D.5","Hazmat Team",null,{"$f":"IF(C280=$I$275,I280,IF(C280=$J$275,J280,IF(C280=$K$275,K280,IF(C280=$L$275,L280,IF(C280=$M$275,M280,IF(C280=\"Custom\",\"Add Value\",\"--\"))))))","v":"--"},null,null,"Hazmat Team",null,{"$f":"'Lookup Tables'!J581/60","v":0.22599333333333332},{"$f":"'Lookup Tables'!K581/60","v":0.26269000000000003},{"$f":"'Lookup Tables'!L581/60","v":0.3168266666666667},{"$f":"'Lookup Tables'!M581/60","v":0.38585999999999998},{"$f":"'Lookup Tables'!N581/60","v":0.4510783333333333},null,"Hazmat Team",null,{"$f":"'Lookup Tables'!J581","v":13.5596},{"$f":"'Lookup Tables'!K581","v":15.761400000000002},{"$f":"'Lookup Tables'!L581","v":19.009600000000002},{"$f":"'Lookup Tables'!M581","v":23.151599999999998},{"$f":"'Lookup Tables'!N581","v":27.064699999999998}]
[]
["Step","First Responder & Emegency Personnel","Emergency Personnel Costs Accrued"]
[]
["4.E.1","Law Enforcement / Sheriff's Office / State Highway Patrol",{"$f":"IF(OR(D260=\"--\",D268=\"--\",D276=\"--\"),\"--\",(MAX(D260,E260)*MAX(D268,E268)*MAX(D276,E276)))","v":"--"}]
["4.E.2","EMS / Medic / County Rescue",{"$f":"IF(OR(D261=\"--\",D269=\"--\",D277=\"--\"),\"--\",(MAX(D261,E261)*MAX(D269,E269)*MAX(D277,E277)))","v":"--"}]
["4.E.3","Fire Response",{"$f":"IF(OR(D262=\"--\",D270=\"--\",D278=\"--\"),\"--\",(MAX(D262,E262)*MAX(D270,E270)*MAX(D278,E278)))","v":"--"}]
["4.E.4","Contract Workers or Other Safety Response Personnel",{"$f":"IF(OR(D263=\"--\",D271=\"--\",D279=\"--\"),\"--\",(MAX(D263,E263)*MAX(D271,E271)*MAX(D279,E279)))","v":"--"}]
["4.E.5","Hazmat Team",{"$f":"IF(OR(D264=\"--\",D272=\"--\",D280=\"--\"),\"--\",(MAX(D264,E264)*MAX(D272,E272)*MAX(D280,E280)))","v":"--"}]
["4.E.6","Total Emergency Personnel Costs",{"$f":"IF(AND(C284=\"--\",C285=\"--\",C286=\"--\",C287=\"--\",C288=\"--\"),\"--\",SUM(C284:C287))","v":"--"}]
[]
["Step","First Responder and Emegency Vehicles","No. of Units Dispatched",null,null,null,{"$f":"CONCATENATE(\"Number of Vehicles Responding to Event by Type |  Impact Category: \",B255)","v":"Number of Vehicles Responding to Event by Type |  Impact Category: "}]
[null,null,"Dropdown Selection","Value","Custom Value",null,"Emergency Response Vehicle",null,"Minimum","Mean","Maximum","Mode","No. of Observations"]
["4.F.1","Ambulance / EMS",null,{"$f":"IF(C293=\"Minimum\",I293,IF(C293=\"Mean\",J293,IF(C293=\"Maximum\",K293,IF(C293=\"Mode\",L293,IF(C293=\"Custom\",\"Add Value\",\"--\")))))","v":"--"},null,null,"Ambulance / EMS",null,{"$f":"IF($B$255=\"Low Impact\",'Lookup Tables'!S499,IF($B$255=\"Medium Impact\",'Lookup Tables'!S509,IF($B$255=\"High Impact\",'Lookup Tables'!S519,IF($B$255=\"Very High Impact\",'Lookup Tables'!S529,IF($B$255=\"Custom\",\"Add Custom Value\",\"--\")))))","v":"--"},{"$f":"IF($B$255=\"Low Impact\",'Lookup Tables'!T499,IF($B$255=\"Medium Impact\",'Lookup Tables'!T509,IF($B$255=\"High Impact\",'Lookup Tables'!T519,IF($B$255=\"Very High Impact\",'Lookup Tables'!T529,IF($B$255=\"Custom\",\"Add Custom Value\",\"--\")))))","v":"--"},{"$f":"IF($B$255=\"Low Impact\",'Lookup Tables'!U499,IF($B$255=\"Medium Impact\",'Lookup Tables'!U509,IF($B$255=\"High Impact\",'Lookup Tables'!U519,IF($B$255=\"Very High Impact\",'Lookup Tables'!U529,IF($B$255=\"Custom\",\"Add Custom Value\",\"--\")))))","v":"--"},{"$f":"IF($B$255=\"Low Impact\",'Lookup Tables'!V499,IF($B$255=\"Medium Impact\",'Lookup Tables'!V509,IF($B$255=\"High Impact\",'Lookup Tables'!V519,IF($B$255=\"Very High Impact\",'Lookup Tables'!V529,IF($B$255=\"Custom\",\"Add Custom Value\",\"--\")))))","v":"--"},{"$f":"IF($B$255=\"Low Impact\",'Lookup Tables'!W499,IF($B$255=\"Medium Impact\",'Lookup Tables'!W509,IF($B$255=\"High Impact\",'Lookup Tables'!W519,IF($B$255=\"Very High Impact\",'Lookup Tables'!W529,IF($B$255=\"Custom\",\"Add Custom Value\",\"--\")))))","v":"--"}]
["4.F.2","Fire Engine",null,"--",null,null,"Fire Engine",null,{"$f":"IF($B$255=\"Low Impact\",'Lookup Tables'!S500,IF($B$255=\"Medium Impact\",'Lookup Tables'!S510,IF($B$255=\"High Impact\",'Lookup Tables'!S520,IF($B$255=\"Very High Impact\",'Lookup Tables'!S530,IF($B$255=\"Custom\",\"Add Custom Value\",\"--\")))))","v":"--"},{"$f":"IF($B$255=\"Low Impact\",'Lookup Tables'!T500,IF($B$255=\"Medium Impact\",'Lookup Tables'!T510,IF($B$255=\"High Impact\",'Lookup Tables'!T520,IF($B$255=\"Very High Impact\",'Lookup Tables'!T530,IF($B$255=\"Custom\",\"Add Custom Value\",\"--\")))))","v":"--"},{"$f":"IF($B$255=\"Low Impact\",'Lookup Tables'!U500,IF($B$255=\"Medium Impact\",'Lookup Tables'!U510,IF($B$255=\"High Impact\",'Lookup Tables'!U520,IF($B$255=\"Very High Impact\",'Lookup Tables'!U530,IF($B$255=\"Custom\",\"Add Custom Value\",\"--\")))))","v":"--"},{"$f":"IF($B$255=\"Low Impact\",'Lookup Tables'!V500,IF($B$255=\"Medium Impact\",'Lookup Tables'!V510,IF($B$255=\"High Impact\",'Lookup Tables'!V520,IF($B$255=\"Very High Impact\",'Lookup Tables'!V530,IF($B$255=\"Custom\",\"Add Custom Value\",\"--\")))))","v":"--"},{"$f":"IF($B$255=\"Low Impact\",'Lookup Tables'!W500,IF($B$255=\"Medium Impact\",'Lookup Tables'!W510,IF($B$255=\"High Impact\",'Lookup Tables'!W520,IF($B$255=\"Very High Impact\",'Lookup Tables'!W530,IF($B$255=\"Custom\",\"Add Custom Value\",\"--\")))))","v":"--"}]
["4.F.3","Fire Rescue Truck",null,{"$f":"IF(C295=\"Minimum\",I295,IF(C295=\"Mean\",J295,IF(C295=\"Maximum\",K295,IF(C295=\"Mode\",L295,IF(C295=\"Custom\",\"Add Value\",\"--\")))))","v":"--"},null,null,"Fire Rescue Truck (Ladder Truck)",null,{"$f":"IF($B$255=\"Low Impact\",'Lookup Tables'!S501,IF($B$255=\"Medium Impact\",'Lookup Tables'!S511,IF($B$255=\"High Impact\",'Lookup Tables'!S521,IF($B$255=\"Very High Impact\",'Lookup Tables'!S531,IF($B$255=\"Custom\",\"Add Custom Value\",\"--\")))))","v":"--"},{"$f":"IF($B$255=\"Low Impact\",'Lookup Tables'!T501,IF($B$255=\"Medium Impact\",'Lookup Tables'!T511,IF($B$255=\"High Impact\",'Lookup Tables'!T521,IF($B$255=\"Very High Impact\",'Lookup Tables'!T531,IF($B$255=\"Custom\",\"Add Custom Value\",\"--\")))))","v":"--"},{"$f":"IF($B$255=\"Low Impact\",'Lookup Tables'!U501,IF($B$255=\"Medium Impact\",'Lookup Tables'!U511,IF($B$255=\"High Impact\",'Lookup Tables'!U521,IF($B$255=\"Very High Impact\",'Lookup Tables'!U531,IF($B$255=\"Custom\",\"Add Custom Value\",\"--\")))))","v":"--"},{"$f":"IF($B$255=\"Low Impact\",'Lookup Tables'!V501,IF($B$255=\"Medium Impact\",'Lookup Tables'!V511,IF($B$255=\"High Impact\",'Lookup Tables'!V521,IF($B$255=\"Very High Impact\",'Lookup Tables'!V531,IF($B$255=\"Custom\",\"Add Custom Value\",\"--\")))))","v":"--"},{"$f":"IF($B$255=\"Low Impact\",'Lookup Tables'!W501,IF($B$255=\"Medium Impact\",'Lookup Tables'!W511,IF($B$255=\"High Impact\",'Lookup Tables'!W521,IF($B$255=\"Very High Impact\",'Lookup Tables'!W531,IF($B$255=\"Custom\",\"Add Custom Value\",\"--\")))))","v":"--"}]
["4.F.4","Police Cars",null,"--",null,null,"Police Cars",null,{"$f":"IF($B$255=\"Low Impact\",'Lookup Tables'!S502,IF($B$255=\"Medium Impact\",'Lookup Tables'!S512,IF($B$255=\"High Impact\",'Lookup Tables'!S522,IF($B$255=\"Very High Impact\",'Lookup Tables'!S532,IF($B$255=\"Custom\",\"Add Custom Value\",\"--\")))))","v":"--"},{"$f":"IF($B$255=\"Low Impact\",'Lookup Tables'!T502,IF($B$255=\"Medium Impact\",'Lookup Tables'!T512,IF($B$255=\"High Impact\",'Lookup Tables'!T522,IF($B$255=\"Very High Impact\",'Lookup Tables'!T532,IF($B$255=\"Custom\",\"Add Custom Value\",\"--\")))))","v":"--"},{"$f":"IF($B$255=\"Low Impact\",'Lookup Tables'!U502,IF($B$255=\"Medium Impact\",'Lookup Tables'!U512,IF($B$255=\"High Impact\",'Lookup Tables'!U522,IF($B$255=\"Very High Impact\",'Lookup Tables'!U532,IF($B$255=\"Custom\",\"Add Custom Value\",\"--\")))))","v":"--"},{"$f":"IF($B$255=\"Low Impact\",'Lookup Tables'!V502,IF($B$255=\"Medium Impact\",'Lookup Tables'!V512,IF($B$255=\"High Impact\",'Lookup Tables'!V522,IF($B$255=\"Very High Impact\",'Lookup Tables'!V532,IF($B$255=\"Custom\",\"Add Custom Value\",\"--\")))))","v":"--"},{"$f":"IF($B$255=\"Low Impact\",'Lookup Tables'!W502,IF($B$255=\"Medium Impact\",'Lookup Tables'!W512,IF($B$255=\"High Impact\",'Lookup Tables'!W522,IF($B$255=\"Very High Impact\",'Lookup Tables'!W532,IF($B$255=\"Custom\",\"Add Custom Value\",\"--\")))))","v":"--"}]
["4.F.5","Helicopter",null,"--",null,null,"Helicopter",null,{"$f":"IF($B$255=\"Low Impact\",'Lookup Tables'!S503,IF($B$255=\"Medium Impact\",'Lookup Tables'!S513,IF($B$255=\"High Impact\",'Lookup Tables'!S523,IF($B$255=\"Very High Impact\",'Lookup Tables'!S533,IF($B$255=\"Custom\",\"Add Custom Value\",\"--\")))))","v":"--"},{"$f":"IF($B$255=\"Low Impact\",'Lookup Tables'!T503,IF($B$255=\"Medium Impact\",'Lookup Tables'!T513,IF($B$255=\"High Impact\",'Lookup Tables'!T523,IF($B$255=\"Very High Impact\",'Lookup Tables'!T533,IF($B$255=\"Custom\",\"Add Custom Value\",\"--\")))))","v":"--"},{"$f":"IF($B$255=\"Low Impact\",'Lookup Tables'!U503,IF($B$255=\"Medium Impact\",'Lookup Tables'!U513,IF($B$255=\"High Impact\",'Lookup Tables'!U523,IF($B$255=\"Very High Impact\",'Lookup Tables'!U533,IF($B$255=\"Custom\",\"Add Custom Value\",\"--\")))))","v":"--"},{"$f":"IF($B$255=\"Low Impact\",'Lookup Tables'!V503,IF($B$255=\"Medium Impact\",'Lookup Tables'!V513,IF($B$255=\"High Impact\",'Lookup Tables'!V523,IF($B$255=\"Very High Impact\",'Lookup Tables'!V533,IF($B$255=\"Custom\",\"Add Custom Value\",\"--\")))))","v":"--"},{"$f":"IF($B$255=\"Low Impact\",'Lookup Tables'!W503,IF($B$255=\"Medium Impact\",'Lookup Tables'!W513,IF($B$255=\"High Impact\",'Lookup Tables'!W523,IF($B$255=\"Very High Impact\",'Lookup Tables'!W533,IF($B$255=\"Custom\",\"Add Custom Value\",\"--\")))))","v":"--"}]
["4.F.6","All Other Vehicles",null,"--",null,null,"All Other Vehicles",null,{"$f":"IF($B$255=\"Low Impact\",'Lookup Tables'!S504,IF($B$255=\"Medium Impact\",'Lookup Tables'!S514,IF($B$255=\"High Impact\",'Lookup Tables'!S524,IF($B$255=\"Very High Impact\",'Lookup Tables'!S534,IF($B$255=\"Custom\",\"Add Custom Value\",\"--\")))))","v":"--"},{"$f":"IF($B$255=\"Low Impact\",'Lookup Tables'!T504,IF($B$255=\"Medium Impact\",'Lookup Tables'!T514,IF($B$255=\"High Impact\",'Lookup Tables'!T524,IF($B$255=\"Very High Impact\",'Lookup Tables'!T534,IF($B$255=\"Custom\",\"Add Custom Value\",\"--\")))))","v":"--"},{"$f":"IF($B$255=\"Low Impact\",'Lookup Tables'!U504,IF($B$255=\"Medium Impact\",'Lookup Tables'!U514,IF($B$255=\"High Impact\",'Lookup Tables'!U524,IF($B$255=\"Very High Impact\",'Lookup Tables'!U534,IF($B$255=\"Custom\",\"Add Custom Value\",\"--\")))))","v":"--"},{"$f":"IF($B$255=\"Low Impact\",'Lookup Tables'!V504,IF($B$255=\"Medium Impact\",'Lookup Tables'!V514,IF($B$255=\"High Impact\",'Lookup Tables'!V524,IF($B$255=\"Very High Impact\",'Lookup Tables'!V534,IF($B$255=\"Custom\",\"Add Custom Value\",\"--\")))))","v":"--"},{"$f":"IF($B$255=\"Low Impact\",'Lookup Tables'!W504,IF($B$255=\"Medium Impact\",'Lookup Tables'!W514,IF($B$255=\"High Impact\",'Lookup Tables'!W524,IF($B$255=\"Very High Impact\",'Lookup Tables'!W534,IF($B$255=\"Custom\",\"Add Custom Value\",\"--\")))))","v":"--"}]
[]
["Step","First Responder and Emegency Vehicles","Total Time in Use (Minutes)",null,null,null,{"$f":"CONCATENATE(\"Vehicle Time Involved in Minutes |  Impact Category: \",B255)","v":"Vehicle Time Involved in Minutes |  Impact Category: "}]
[null,null,"Dropdown Selection","Value","Custom Value",null,"Emergency Response Vehicle",null,"Minimum","Mean","Maximum","Mode","No. of Observations"]
["4.G.1","Ambulance / EMS",null,{"$f":"IF(C302=\"Minimum\",I302,IF(C302=\"Mean\",J302,IF(C302=\"Maximum\",K302,IF(C302=\"Mode\",L302,IF(C302=\"Custom\",\"Add Value\",\"--\")))))","v":"--"},null,null,"Ambulance / EMS",null,{"$f":"IF($B$255=\"Low Impact\",'Lookup Tables'!AA544,IF($B$255=\"Medium Impact\",'Lookup Tables'!AA554,IF($B$255=\"High Impact\",'Lookup Tables'!AA564,IF($B$255=\"Very High Impact\",'Lookup Tables'!AA574,IF($B$255=\"Custom\",\"Add Custom Value\",\"--\")))))","v":"--"},{"$f":"IF($B$255=\"Low Impact\",'Lookup Tables'!AB544,IF($B$255=\"Medium Impact\",'Lookup Tables'!AB554,IF($B$255=\"High Impact\",'Lookup Tables'!AB564,IF($B$255=\"Very High Impact\",'Lookup Tables'!AB574,IF($B$255=\"Custom\",\"Add Custom Value\",\"--\")))))","v":"--"},{"$f":"IF($B$255=\"Low Impact\",'Lookup Tables'!AC544,IF($B$255=\"Medium Impact\",'Lookup Tables'!AC554,IF($B$255=\"High Impact\",'Lookup Tables'!AC564,IF($B$255=\"Very High Impact\",'Lookup Tables'!AC574,IF($B$255=\"Custom\",\"Add Custom Value\",\"--\")))))","v":"--"},{"$f":"IF($B$255=\"Low Impact\",'Lookup Tables'!AD499,IF($B$255=\"Medium Impact\",'Lookup Tables'!AD509,IF($B$255=\"High Impact\",'Lookup Tables'!AD519,IF($B$255=\"Very High Impact\",'Lookup Tables'!AD529,IF($B$255=\"Custom\",\"Add Custom Value\",\"--\")))))","v":"--"},{"$f":"IF($B$255=\"Low Impact\",'Lookup Tables'!AE499,IF($B$255=\"Medium Impact\",'Lookup Tables'!AE509,IF($B$255=\"High Impact\",'Lookup Tables'!AE519,IF($B$255=\"Very High Impact\",'Lookup Tables'!AE529,IF($B$255=\"Custom\",\"Add Custom Value\",\"--\")))))","v":"--"}]
["4.G.2","Fire Engine",null,"--",null,null,"Fire Engine",null,{"$f":"IF($B$255=\"Low Impact\",'Lookup Tables'!AA545,IF($B$255=\"Medium Impact\",'Lookup Tables'!AA555,IF($B$255=\"High Impact\",'Lookup Tables'!AA565,IF($B$255=\"Very High Impact\",'Lookup Tables'!AA575,IF($B$255=\"Custom\",\"Add Custom Value\",\"--\")))))","v":"--"},{"$f":"IF($B$255=\"Low Impact\",'Lookup Tables'!AB545,IF($B$255=\"Medium Impact\",'Lookup Tables'!AB555,IF($B$255=\"High Impact\",'Lookup Tables'!AB565,IF($B$255=\"Very High Impact\",'Lookup Tables'!AB575,IF($B$255=\"Custom\",\"Add Custom Value\",\"--\")))))","v":"--"},{"$f":"IF($B$255=\"Low Impact\",'Lookup Tables'!AC545,IF($B$255=\"Medium Impact\",'Lookup Tables'!AC555,IF($B$255=\"High Impact\",'Lookup Tables'!AC565,IF($B$255=\"Very High Impact\",'Lookup Tables'!AC575,IF($B$255=\"Custom\",\"Add Custom Value\",\"--\")))))","v":"--"},{"$f":"IF($B$255=\"Low Impact\",'Lookup Tables'!AD500,IF($B$255=\"Medium Impact\",'Lookup Tables'!AD510,IF($B$255=\"High Impact\",'Lookup Tables'!AD520,IF($B$255=\"Very High Impact\",'Lookup Tables'!AD530,IF($B$255=\"Custom\",\"Add Custom Value\",\"--\")))))","v":"--"},{"$f":"IF($B$255=\"Low Impact\",'Lookup Tables'!AE500,IF($B$255=\"Medium Impact\",'Lookup Tables'!AE510,IF($B$255=\"High Impact\",'Lookup Tables'!AE520,IF($B$255=\"Very High Impact\",'Lookup Tables'!AE530,IF($B$255=\"Custom\",\"Add Custom Value\",\"--\")))))","v":"--"}]
["4.G.3","Fire Rescue Truck",null,"--",null,null,"Fire Rescue Truck (Ladder Truck)",null,{"$f":"IF($B$255=\"Low Impact\",'Lookup Tables'!AA546,IF($B$255=\"Medium Impact\",'Lookup Tables'!AA556,IF($B$255=\"High Impact\",'Lookup Tables'!AA566,IF($B$255=\"Very High Impact\",'Lookup Tables'!AA576,IF($B$255=\"Custom\",\"Add Custom Value\",\"--\")))))","v":"--"},{"$f":"IF($B$255=\"Low Impact\",'Lookup Tables'!AB546,IF($B$255=\"Medium Impact\",'Lookup Tables'!AB556,IF($B$255=\"High Impact\",'Lookup Tables'!AB566,IF($B$255=\"Very High Impact\",'Lookup Tables'!AB576,IF($B$255=\"Custom\",\"Add Custom Value\",\"--\")))))","v":"--"},{"$f":"IF($B$255=\"Low Impact\",'Lookup Tables'!AC546,IF($B$255=\"Medium Impact\",'Lookup Tables'!AC556,IF($B$255=\"High Impact\",'Lookup Tables'!AC566,IF($B$255=\"Very High Impact\",'Lookup Tables'!AC576,IF($B$255=\"Custom\",\"Add Custom Value\",\"--\")))))","v":"--"},{"$f":"IF($B$255=\"Low Impact\",'Lookup Tables'!AD501,IF($B$255=\"Medium Impact\",'Lookup Tables'!AD511,IF($B$255=\"High Impact\",'Lookup Tables'!AD521,IF($B$255=\"Very High Impact\",'Lookup Tables'!AD531,IF($B$255=\"Custom\",\"Add Custom Value\",\"--\")))))","v":"--"},{"$f":"IF($B$255=\"Low Impact\",'Lookup Tables'!AE501,IF($B$255=\"Medium Impact\",'Lookup Tables'!AE511,IF($B$255=\"High Impact\",'Lookup Tables'!AE521,IF($B$255=\"Very High Impact\",'Lookup Tables'!AE531,IF($B$255=\"Custom\",\"Add Custom Value\",\"--\")))))","v":"--"}]
["4.G.4","Police Cars",null,"--",null,null,"Police Cars",null,{"$f":"IF($B$255=\"Low Impact\",'Lookup Tables'!AA547,IF($B$255=\"Medium Impact\",'Lookup Tables'!AA557,IF($B$255=\"High Impact\",'Lookup Tables'!AA567,IF($B$255=\"Very High Impact\",'Lookup Tables'!AA577,IF($B$255=\"Custom\",\"Add Custom Value\",\"--\")))))","v":"--"},{"$f":"IF($B$255=\"Low Impact\",'Lookup Tables'!AB547,IF($B$255=\"Medium Impact\",'Lookup Tables'!AB557,IF($B$255=\"High Impact\",'Lookup Tables'!AB567,IF($B$255=\"Very High Impact\",'Lookup Tables'!AB577,IF($B$255=\"Custom\",\"Add Custom Value\",\"--\")))))","v":"--"},{"$f":"IF($B$255=\"Low Impact\",'Lookup Tables'!AC547,IF($B$255=\"Medium Impact\",'Lookup Tables'!AC557,IF($B$255=\"High Impact\",'Lookup Tables'!AC567,IF($B$255=\"Very High Impact\",'Lookup Tables'!AC577,IF($B$255=\"Custom\",\"Add Custom Value\",\"--\")))))","v":"--"},{"$f":"IF($B$255=\"Low Impact\",'Lookup Tables'!AD502,IF($B$255=\"Medium Impact\",'Lookup Tables'!AD512,IF($B$255=\"High Impact\",'Lookup Tables'!AD522,IF($B$255=\"Very High Impact\",'Lookup Tables'!AD532,IF($B$255=\"Custom\",\"Add Custom Value\",\"--\")))))","v":"--"},{"$f":"IF($B$255=\"Low Impact\",'Lookup Tables'!AE502,IF($B$255=\"Medium Impact\",'Lookup Tables'!AE512,IF($B$255=\"High Impact\",'Lookup Tables'!AE522,IF($B$255=\"Very High Impact\",'Lookup Tables'!AE532,IF($B$255=\"Custom\",\"Add Custom Value\",\"--\")))))","v":"--"}]
["4.G.5","Helicopter",null,"--",null,null,"Helicopter",null,{"$f":"IF($B$255=\"Low Impact\",'Lookup Tables'!AA548,IF($B$255=\"Medium Impact\",'Lookup Tables'!AA558,IF($B$255=\"High Impact\",'Lookup Tables'!AA568,IF($B$255=\"Very High Impact\",'Lookup Tables'!AA578,IF($B$255=\"Custom\",\"Add Custom Value\",\"--\")))))","v":"--"},{"$f":"IF($B$255=\"Low Impact\",'Lookup Tables'!AB548,IF($B$255=\"Medium Impact\",'Lookup Tables'!AB558,IF($B$255=\"High Impact\",'Lookup Tables'!AB568,IF($B$255=\"Very High Impact\",'Lookup Tables'!AB578,IF($B$255=\"Custom\",\"Add Custom Value\",\"--\")))))","v":"--"},{"$f":"IF($B$255=\"Low Impact\",'Lookup Tables'!AC548,IF($B$255=\"Medium Impact\",'Lookup Tables'!AC558,IF($B$255=\"High Impact\",'Lookup Tables'!AC568,IF($B$255=\"Very High Impact\",'Lookup Tables'!AC578,IF($B$255=\"Custom\",\"Add Custom Value\",\"--\")))))","v":"--"},{"$f":"IF($B$255=\"Low Impact\",'Lookup Tables'!AD503,IF($B$255=\"Medium Impact\",'Lookup Tables'!AD513,IF($B$255=\"High Impact\",'Lookup Tables'!AD523,IF($B$255=\"Very High Impact\",'Lookup Tables'!AD533,IF($B$255=\"Custom\",\"Add Custom Value\",\"--\")))))","v":"--"},{"$f":"IF($B$255=\"Low Impact\",'Lookup Tables'!AE503,IF($B$255=\"Medium Impact\",'Lookup Tables'!AE513,IF($B$255=\"High Impact\",'Lookup Tables'!AE523,IF($B$255=\"Very High Impact\",'Lookup Tables'!AE533,IF($B$255=\"Custom\",\"Add Custom Value\",\"--\")))))","v":"--"}]
["4.G.6","All Other Vehicles",null,"--",null,null,"All Other Vehicles",null,{"$f":"IF($B$255=\"Low Impact\",'Lookup Tables'!AA549,IF($B$255=\"Medium Impact\",'Lookup Tables'!AA559,IF($B$255=\"High Impact\",'Lookup Tables'!AA569,IF($B$255=\"Very High Impact\",'Lookup Tables'!AA579,IF($B$255=\"Custom\",\"Add Custom Value\",\"--\")))))","v":"--"},{"$f":"IF($B$255=\"Low Impact\",'Lookup Tables'!AB549,IF($B$255=\"Medium Impact\",'Lookup Tables'!AB559,IF($B$255=\"High Impact\",'Lookup Tables'!AB569,IF($B$255=\"Very High Impact\",'Lookup Tables'!AB579,IF($B$255=\"Custom\",\"Add Custom Value\",\"--\")))))","v":"--"},{"$f":"IF($B$255=\"Low Impact\",'Lookup Tables'!AC549,IF($B$255=\"Medium Impact\",'Lookup Tables'!AC559,IF($B$255=\"High Impact\",'Lookup Tables'!AC569,IF($B$255=\"Very High Impact\",'Lookup Tables'!AC579,IF($B$255=\"Custom\",\"Add Custom Value\",\"--\")))))","v":"--"},{"$f":"IF($B$255=\"Low Impact\",'Lookup Tables'!AD504,IF($B$255=\"Medium Impact\",'Lookup Tables'!AD514,IF($B$255=\"High Impact\",'Lookup Tables'!AD524,IF($B$255=\"Very High Impact\",'Lookup Tables'!AD534,IF($B$255=\"Custom\",\"Add Custom Value\",\"--\")))))","v":"--"},{"$f":"IF($B$255=\"Low Impact\",'Lookup Tables'!AE504,IF($B$255=\"Medium Impact\",'Lookup Tables'!AE514,IF($B$255=\"High Impact\",'Lookup Tables'!AE524,IF($B$255=\"Very High Impact\",'Lookup Tables'!AE534,IF($B$255=\"Custom\",\"Add Custom Value\",\"--\")))))","v":"--"}]
[]
["Step","First Responder and Emegency Vehicles","Vehicle Operating Costs per Minute",null,null,null,{"$f":"CONCATENATE(\"Vehicle Operating Costs per Minute | \",B255)","v":"Vehicle Operating Costs per Minute | "},null,null,null,null,null,null,null,"Vehicle Operating Costs per Hour (For Reference Purposes)"]
[null,null,"Dropdown Selection","Value","Custom Value",null,"Incident Response Type",null,"Low","Medium","High",null,null,null,"Incident Response Type",null,"Low","Medium","High"]
["4.H.1","Ambulance / EMS",null,{"$f":"IF(C311=\"low\",I311,IF(C311=\"medium\",J311,IF(C311=\"high\",K311,IF(C311=\"Custom\",\"Add Value\",\"--\"))))","v":"--"},null,null,"Ambulance / EMS",null,{"$f":"'Lookup Tables'!AA584/60","v":0.51030166666666665},{"$f":"'Lookup Tables'!AB584/60","v":0.6292025},{"$f":"'Lookup Tables'!AC584/60","v":0.74810333333333334},null,null,null,"Ambulance / EMS",null,{"$f":"'Lookup Tables'!AA584","v":30.618100000000002},{"$f":"'Lookup Tables'!AB584","v":37.75215},{"$f":"'Lookup Tables'!AC584","v":44.886200000000002}]
["4.H.2","Fire Engine",null,"--",null,null,"Fire Engine",null,{"$f":"'Lookup Tables'!AA585/60","v":2.2890000000000001},{"$f":"'Lookup Tables'!AB585/60","v":2.4161666666666672},{"$f":"'Lookup Tables'!AC585/60","v":2.5433333333333339},null,null,null,"Fire Engine",null,{"$f":"'Lookup Tables'!AA585","v":137.34},{"$f":"'Lookup Tables'!AB585","v":144.97000000000003},{"$f":"'Lookup Tables'!AC585","v":152.60000000000002}]
["4.H.3","Fire Rescue Truck",null,"--",null,null,"Fire Rescue Truck (Ladder Truck)",null,{"$f":"'Lookup Tables'!AA586/60","v":2.3889166666666668},{"$f":"'Lookup Tables'!AB586/60","v":2.8469583333333333},{"$f":"'Lookup Tables'!AC586/60","v":3.3050000000000002},null,null,null,"Fire Rescue Truck (Ladder Truck)",null,{"$f":"'Lookup Tables'!AA586","v":143.33500000000001},{"$f":"'Lookup Tables'!AB586","v":170.8175},{"$f":"'Lookup Tables'!AC586","v":198.3}]
["4.H.4","Police Cars",null,"--",null,null,"Police Cars",null,{"$f":"'Lookup Tables'!AA587/60","v":0.29157500000000003},{"$f":"'Lookup Tables'!AB587/60","v":0.26750000000000002},{"$f":"'Lookup Tables'!AC587/60","v":0.29157500000000003},null,null,null,"Police Cars",null,{"$f":"'Lookup Tables'!AA587","v":17.494500000000002},{"$f":"'Lookup Tables'!AB587","v":16.05},{"$f":"'Lookup Tables'!AC587","v":17.494500000000002}]
["4.H.5","Helicopter",null,"--",null,null,"Helicopter",null,{"$f":"'Lookup Tables'!AA588/60","v":11.360525000000001},{"$f":"'Lookup Tables'!AB588/60","v":10.422500000000001},{"$f":"'Lookup Tables'!AC588/60","v":11.360525000000001},null,null,null,"Helicopter",null,{"$f":"'Lookup Tables'!AA588","v":681.63150000000007},{"$f":"'Lookup Tables'!AB588","v":625.35},{"$f":"'Lookup Tables'!AC588","v":681.63150000000007}]
["4.H.6","All Other Vehicles",null,"--",null,null,"All Other Vehicles",null,{"$f":"'Lookup Tables'!AA589/60","v":0.35643000000000008},{"$f":"'Lookup Tables'!AB589/60","v":0.61739416666666669},{"$f":"'Lookup Tables'!AC589/60","v":0.87835833333333335},null,null,null,"All Other Vehicles",null,{"$f":"'Lookup Tables'!AA589","v":21.385800000000003},{"$f":"'Lookup Tables'!AB589","v":37.04365},{"$f":"'Lookup Tables'!AC589","v":52.701500000000003}]
[null,null,null,null,null,null,null,null,null,null,null,null,null,null,"*The operating costs of a full-sized SUV were used for cost monetization of the \"other\" category"]
["Step","First Responder and Emegency Vehicles","Emergency Equipment Costs Accrued"]
[]
["4.I.1","Ambulance / EMS",{"$f":"IF(OR(D293=\"--\",D302=\"--\",D311=\"--\"),\"--\",(MAX(D293,E293)*MAX(D302,E302)*MAX(D311,E311)))","v":"--"}]
["4.I.2","Fire Engine",{"$f":"IF(OR(D294=\"--\",D303=\"--\",D312=\"--\"),\"--\",(MAX(D294,E294)*MAX(D303,E303)*MAX(D312,E312)))","v":"--"}]
["4.I.3","Fire Rescue Truck (Ladder Truck)","--"]
["4.I.4","Police Cars","--"]
["4.I.5","Helicopter","--"]
["4.I.6","All Other Vehicles","--"]
["4.I.7","Total Emergency Equipment Costs",{"$f":"IF(AND(C320=\"--\",C321=\"--\",C322=\"--\",C323=\"--\",C324=\"--\",C325=\"--\"),\"--\",SUM(C320:C325))","v":"--"}]
[]
[]
["First Responder Costs Summary"]
["4.J"," Subtotal of First Responder Costs >>>",null,null,{"$f":"IF(AND(C289=\"--\",C326=\"--\"),\"--\",SUM(C289,C326))","v":"--"}]
[]
["Part V: Cost Output Summary"]
[]
[]
["Comprehensive Cost of Rail Incident Output"]
["Cell ","Section","Value","Color Coding"]
["Property Damage Cost Summary"]
["E15","Property Damage Summary",{"$f":"IF(E15=\"--Enter Values Above--\",\"--\",E15)","v":"--"}]
["Casualty Cost Summary"]
["F44","Monetized Cost of Injuries and Fatalities",{"$f":"IF(F44=\"--Enter Values Above--\",\"--\",F44)","v":"--"}]
["Delay and Rerouting Cost Summary"]
["G96","Passenger Train Delay: Value of Time Costs",{"$f":"IF(G96=\"--Enter Values Above--\",\"--\",G96)","v":"--"}]
["E93","Bus Rerouting and Additional VOT Costs",{"$f":"E93","v":"--"}]
["G125","Passenger Rail Up/Downstream Costs",{"$f":"G125","v":"--"}]
["G157","Freight Train Delay: Value of Time Costs",{"$f":"IF(G157=\"--Enter Values Above--\",\"--\",G157)","v":"--"}]
["E170","Shipper Costs (Opportunity, Spoilage, Useful Life)",{"$f":"IF(E170=\"--Enter Values Above--\",\"--\",E170)","v":"--"}]
["E181","Replacement: Damaged or Destroyed Cargo",{"$f":"IF(E181=\"--Enter Values Above--\",\"--\",E181)","v":"--"}]
["E198","Freight Rail Up/Downstream Costs",{"$f":"IF(E198=\"--Enter Values Above--\",\"--\",E198)","v":"--"}]
["E208","Passenger Rail: Additional Operating Costs",{"$f":"E208","v":"--"}]
["E217","Freight Rail: Additional Operating Costs",{"$f":"E217","v":"--"}]
["E230","Passenger Rail Emissions Costs",{"$f":"E230","v":"--"}]
["E239","Freight Rail Emissions Costs",{"$f":"E239","v":"--"}]
["First and Emergency Response Cost Summary"]
["C289","Emergency Personnel Costs",{"$f":"C289","v":"--"}]
["C326","Emergency Equipment Costs",{"$f":"C326","v":"--"}]
["Total Cost of Incident",null,{"$f":"IF(AND(C338=\"--\",C340=\"--\",C342=\"--\",C343=\"--\",C344=\"--\",C345=\"--\",C346=\"--\",C347=\"--\",C348=\"--\",C349=\"--\",C350=\"--\",C351=\"--\",C352=\"--\",C354=\"--\",C355=\"--\"),\"--Enter Values in Cost Tool--\",SUM(C338:C355))","v":"--Enter Values in Cost Tool--"}]
[]
[]
[]
[]
[]
[]
[]
[]
[null,null," "]

{"sheet":"PropDMG_Custom","index":2,"n_rows":57,"n_cols":18,"rows_kept":57,"cut":false,"hidden":false,"merged":[[1,0,2,18],[3,0,4,18],[17,0,17,4],[25,7,25,17],[17,7,17,17],[8,0,8,4],[9,0,9,4],[10,0,11,0],[10,1,11,4],[17,6,18,6],[55,0,55,4],[12,1,15,4],[12,0,15,0],[36,3,37,3],[34,0,34,18],[25,6,26,6],[43,0,43,3],[29,0,29,2]]}
[]
["Comprehensive Cost of Rail Incidents: Cost Tool"]
[]
["Property Damage Customization Options"]
[]
[]
[null,"Part I: Property Damage Custom Model Inputs"]
[]
["Step by Step Guidance"]
["This tool allows for multiple options to assess the property damages that occur during a rail incident."]
["Option A","Use expected values modeled from historical data (Steps 1.A - 1.H). There is the opportunity to input custom values, in case those details are known. "]
[]
["Option B","Estimate property damage costs based on profession knowledge or access to very detailed information on train equipment part damages (skip to Step 1.I). The Association of American Railroads (AAR) has a schedule of 1,328 itemized costs for replacing, repairing, or upgrading broken or damaged train parts. This schedule of costs can be found on the \"AAR Parts\" tab and can reviewed to assist with Option B. To avoid double counting do not complete step 1.I in conjuction with Steps 1.A-1.F.  "]
[]
[]
[]
[]
["Statistically Signficant Factors Affecting Rail Incident Costs",null,null,null,null,null,"Rail Incident Chracteristics","Table 1: Expected Values of Rail Incident Characteristic for When Type of Occurrence is Present"]
["Step","Rail Incident Chracteristics","Enter Event Details","Value","Custom",null,null,"Minimum","Percentile (10)","Percentile (25)","Mean","Median*","Mode","Percentile (75)","Percentile (90)","Maximum","No. of Observations","Source"]
["1.A","No. of Train Cars Releasing HAZMAT",null,{"$f":"IF(C20=$H$19,$H20,IF(C20=$I$19,$I20,IF(C20=$J$19,$J20,IF(C20=$K$19,$K20,IF(C20=$L$19,$L20,IF(C20=$M$19,$M20,IF(C20=$N$19,$N20,IF(C20=$O$19,$O20,IF(C20=$P$19,$P20,IF(C20=\"Custom\",\"Add Value\",\"--\"))))))))))","v":"--"},null,null,"No. of Train Cars Releasing HAZMAT",{"$f":"'Lookup Tables'!B26","v":1},{"$f":"'Lookup Tables'!C26","v":1},{"$f":"'Lookup Tables'!D26","v":1},{"$f":"MROUND('Lookup Tables'!E26,1)","v":2},{"$f":"'Lookup Tables'!F26","v":1},{"$f":"'Lookup Tables'!G26","v":1},{"$f":"'Lookup Tables'!H26","v":2},{"$f":"'Lookup Tables'!I26","v":3},{"$f":"'Lookup Tables'!J26","v":32},{"$f":"'Lookup Tables'!K26","v":848},{"$f":"'Lookup Tables'!L26","v":"FRA 6180.54 (1990-2019), US Full Dataset"}]
["1.B","No. of Locomotive Units Derailed / Damaged",null,{"$f":"IF(C21=$H$19,$H21,IF(C21=$I$19,$I21,IF(C21=$J$19,$J21,IF(C21=$K$19,$K21,IF(C21=$L$19,$L21,IF(C21=$M$19,$M21,IF(C21=$N$19,$N21,IF(C21=$O$19,$O21,IF(C21=$P$19,$P21,IF(C21=\"Custom\",\"Add Value\",\"--\"))))))))))","v":"--"},null,null,"No. of Locomotive Units Derailed / Damaged",{"$f":"'Lookup Tables'!B27","v":1},{"$f":"'Lookup Tables'!C27","v":1},{"$f":"'Lookup Tables'!D27","v":1},{"$f":"MROUND('Lookup Tables'!E27,1)","v":2},{"$f":"'Lookup Tables'!F27","v":1},{"$f":"'Lookup Tables'!G27","v":1},{"$f":"'Lookup Tables'!H27","v":2},{"$f":"'Lookup Tables'!I27","v":3},{"$f":"'Lookup Tables'!J27","v":10},{"$f":"'Lookup Tables'!K27","v":9264},{"$f":"'Lookup Tables'!L27","v":"FRA 6180.54 (1990-2019), US Full Dataset"}]
["1.C","No. of Loaded Freight Cars Derailed / Damaged",null,{"$f":"IF(C22=$H$19,$H22,IF(C22=$I$19,$I22,IF(C22=$J$19,$J22,IF(C22=$K$19,$K22,IF(C22=$L$19,$L22,IF(C22=$M$19,$M22,IF(C22=$N$19,$N22,IF(C22=$O$19,$O22,IF(C22=$P$19,$P22,IF(C22=\"Custom\",\"Add Value\",\"--\"))))))))))","v":"--"},null,null,"No. of Loaded Freight Cars Derailed / Damaged",{"$f":"'Lookup Tables'!B28","v":1},{"$f":"'Lookup Tables'!C28","v":1},{"$f":"'Lookup Tables'!D28","v":1},{"$f":"MROUND('Lookup Tables'!E28,1)","v":5},{"$f":"'Lookup Tables'!F28","v":3},{"$f":"'Lookup Tables'!G28","v":1},{"$f":"'Lookup Tables'!H28","v":5},{"$f":"'Lookup Tables'!I28","v":9},{"$f":"'Lookup Tables'!J28","v":113},{"$f":"'Lookup Tables'!K28","v":43447},{"$f":"'Lookup Tables'!L28","v":"FRA 6180.54 (1990-2019), US Full Dataset"}]
["1.D","No. of Empty Freight Cars Derailed / Damaged",null,{"$f":"IF(C23=$H$19,$H23,IF(C23=$I$19,$I23,IF(C23=$J$19,$J23,IF(C23=$K$19,$K23,IF(C23=$L$19,$L23,IF(C23=$M$19,$M23,IF(C23=$N$19,$N23,IF(C23=$O$19,$O23,IF(C23=$P$19,$P23,IF(C23=\"Custom\",\"Add Value\",\"--\"))))))))))","v":"--"},null,null,"No. of Empty Freight Car Derailed / Damaged",{"$f":"'Lookup Tables'!B29","v":1},{"$f":"'Lookup Tables'!C29","v":1},{"$f":"'Lookup Tables'!D29","v":1},{"$f":"MROUND('Lookup Tables'!E29,1)","v":4},{"$f":"'Lookup Tables'!F29","v":2},{"$f":"'Lookup Tables'!G29","v":1},{"$f":"'Lookup Tables'!H29","v":4},{"$f":"'Lookup Tables'!I29","v":8},{"$f":"'Lookup Tables'!J29","v":96},{"$f":"'Lookup Tables'!K29","v":27211},{"$f":"'Lookup Tables'!L29","v":"FRA 6180.54 (1990-2019), US Full Dataset"}]
["1.E","No. of Train Cars Derailed / Damaged (Not Specified)",null,{"$f":"IF(C24=$H$19,$H24,IF(C24=$I$19,$I24,IF(C24=$J$19,$J24,IF(C24=$K$19,$K24,IF(C24=$L$19,$L24,IF(C24=$M$19,$M24,IF(C24=$N$19,$N24,IF(C24=$O$19,$O24,IF(C24=$P$19,$P24,IF(C24=\"Custom\",\"Add Value\",\"--\"))))))))))","v":"--"},null,null,"No. of Train Car Derailed / Damaged (Not Specified)",{"$f":"'Lookup Tables'!B30","v":1},{"$f":"'Lookup Tables'!C30","v":1},{"$f":"'Lookup Tables'!D30","v":1},{"$f":"MROUND('Lookup Tables'!E30,1)","v":5},{"$f":"'Lookup Tables'!F30","v":3},{"$f":"'Lookup Tables'!G30","v":1},{"$f":"'Lookup Tables'!H30","v":4},{"$f":"'Lookup Tables'!I30","v":8},{"$f":"'Lookup Tables'!J30","v":122},{"$f":"'Lookup Tables'!K30","v":60548},{"$f":"'Lookup Tables'!L30","v":"FRA 6180.54 (1990-2019), US Full Dataset"}]
[]
[null,null,null,null,null,null,"Rail Incident Chracteristics","Table 2: Expected Values of Rail Incident Characteristic Per Rail Incident (likilihood of occurrence per any given rail incident)"]
["Step","Property Damage Characteristics","Select Event Type",null,null,null,null,"ExpVal_Minimum","ExpVal_Percentile (10)","ExpVal_Percentile (25)","ExpVal_Mean","ExpVal_Median*","ExpVal_Mode","ExpVal_Percentile (75)","ExpVal_Percentile (90)","ExpVal_Maximum","No. of Observations","Source"]
["1.F","Type of Rail Incident",null,null,null,null,"No. of Train Cars Releasing HAZMAT",{"$f":"'Lookup Tables'!B34","v":0},{"$f":"'Lookup Tables'!C34","v":0},{"$f":"'Lookup Tables'!D34","v":0},{"$f":"'Lookup Tables'!E34","v":2.2222222222222223E-2},{"$f":"'Lookup Tables'!F34","v":0},{"$f":"'Lookup Tables'!G34","v":0},{"$f":"'Lookup Tables'!H34","v":0},{"$f":"'Lookup Tables'!I34","v":0},{"$f":"'Lookup Tables'!J34","v":3},{"$f":"'Lookup Tables'!K34","v":1125},{"$f":"'Lookup Tables'!L34","v":"FRA 6180.54 (1990-2019), NC Extract"}]
[null,null,null,null,null,null,"No. of Locomotive Units Derailed / Damaged",{"$f":"'Lookup Tables'!B35","v":0},{"$f":"'Lookup Tables'!C35","v":0},{"$f":"'Lookup Tables'!D35","v":0},{"$f":"'Lookup Tables'!E35","v":0.13066666666666665},{"$f":"'Lookup Tables'!F35","v":0},{"$f":"'Lookup Tables'!G35","v":0},{"$f":"'Lookup Tables'!H35","v":0},{"$f":"'Lookup Tables'!I35","v":0},{"$f":"'Lookup Tables'!J35","v":9},{"$f":"'Lookup Tables'!K35","v":1125},{"$f":"'Lookup Tables'!L35","v":"FRA 6180.54 (1990-2019), NC Extract"}]
["If the Incident Involves a Highway-Rail Collision, Complete Steps 1.G to 1.H",null,null,null,null,null,"No. of Loaded Freight Cars Derailed / Damaged",{"$f":"'Lookup Tables'!B36","v":0},{"$f":"'Lookup Tables'!C36","v":0},{"$f":"'Lookup Tables'!D36","v":0},{"$f":"'Lookup Tables'!E36","v":1.8337777777777777},{"$f":"'Lookup Tables'!F36","v":0},{"$f":"'Lookup Tables'!G36","v":0},{"$f":"'Lookup Tables'!H36","v":2},{"$f":"'Lookup Tables'!I36","v":6},{"$f":"'Lookup Tables'!J36","v":39},{"$f":"'Lookup Tables'!K36","v":1125},{"$f":"'Lookup Tables'!L36","v":"FRA 6180.54 (1990-2019), NC Extract"}]
["Step","Highway-Rail Collision Characteristics","Select Event Type",null,null,null,"No. of Empty Freight Car Derailed / Damaged",{"$f":"'Lookup Tables'!B37","v":0},{"$f":"'Lookup Tables'!C37","v":0},{"$f":"'Lookup Tables'!D37","v":0},{"$f":"'Lookup Tables'!E37","v":1.1724444444444444},{"$f":"'Lookup Tables'!F37","v":0},{"$f":"'Lookup Tables'!G37","v":0},{"$f":"'Lookup Tables'!H37","v":1},{"$f":"'Lookup Tables'!I37","v":3.3999999999999773},{"$f":"'Lookup Tables'!J37","v":29},{"$f":"'Lookup Tables'!K37","v":1125},{"$f":"'Lookup Tables'!L37","v":"FRA 6180.54 (1990-2019), NC Extract"}]
["1.G","Type of Highway User Involved in Collision",null,null,null,null,"No. of Train Car Derailed / Damaged (Not Specified)",{"$f":"'Lookup Tables'!B38","v":0},{"$f":"'Lookup Tables'!C38","v":0},{"$f":"'Lookup Tables'!D38","v":0},{"$f":"'Lookup Tables'!E38","v":3.0391111111111111},{"$f":"'Lookup Tables'!F38","v":1},{"$f":"'Lookup Tables'!G38","v":0},{"$f":"'Lookup Tables'!H38","v":4},{"$f":"'Lookup Tables'!I38","v":8},{"$f":"'Lookup Tables'!J38","v":42},{"$f":"'Lookup Tables'!K38","v":1125},{"$f":"'Lookup Tables'!L38","v":"FRA 6180.54 (1990-2019), NC Extract"}]
["1.H","Highway User Released HAZMAT (Yes/No)?"]
[]
["Do not complete Step 1.I (Option B), if you have completed any of the steps 1.A-1.H. Step 1.I is recommended for tabulating damage to specific train equipment parts."]
[]
["Step","Known Parts Broken/Damaged in Incident","Sum of  Damage","*Avoid double counting. See \"Step by Step Guidance: Option B\"."]
["1.I*","OPTION B  (see \"AAR Parts\" Tab for assistance)"]
["*To avoid double counting do not complete step 1.I in conjuction with Steps 1.A-1.F.  "]
[]
[null,"Part I: Property Damage Model Outputs"]
[]
[]
["Table 3: Property Damage Output Table"]
["Step","Property Damage Characteristics","Unit","Multiplier","Additional Cost Per Unit","Total Additional Cost"]
["1.A","No. of Train Cars Releasing HAZMAT",{"$f":"IF(ISBLANK(E20),D20,E20)","v":"--"},null,{"$f":"'Lookup Tables'!B18","v":332662},{"$f":"IF(ISTEXT(C46),C46,(C46*E46))","v":"--"}]
["1.B","No. of Locomotive Units Derailed / Damaged",{"$f":"IF(ISBLANK(E21),D21,E21)","v":"--"},null,{"$f":"'Lookup Tables'!B19","v":152630},{"$f":"IF(ISTEXT(C47),C47,(C47*E47))","v":"--"}]
["1.C","No. of Loaded Freight Cars Derailed / Damaged",{"$f":"IF(ISBLANK(E22),D22,E22)","v":"--"},null,{"$f":"'Lookup Tables'!B20","v":63020},{"$f":"IF(ISTEXT(C48),C48,(C48*E48))","v":"--"}]
["1.D","No. of Empty Freight Car Derailed / Damaged",{"$f":"IF(ISBLANK(E23),D23,E23)","v":"--"},null,{"$f":"'Lookup Tables'!B21","v":30760},{"$f":"IF(ISTEXT(C49),C49,(C49*E49))","v":"--"}]
["1.E","No. of Train Car Derailed / Damaged  (Not Specified)",{"$f":"IF(ISBLANK(E24),D24,E24)","v":"--"},null,{"$f":"'Lookup Tables'!B22","v":54000},{"$f":"IF(ISTEXT(C50),C50,(C50*E50))","v":"--"}]
["1.F",{"$f":"CONCATENATE(\"*\",B28,\" Multiplier \", LEFT(C28,2))","v":"*Type of Rail Incident Multiplier "},null,{"$f":"IF(C28='Lookup Tables'!A42,'Lookup Tables'!B42,IF(C28='Lookup Tables'!A43,'Lookup Tables'!B43,IF(C28='Lookup Tables'!A44,'Lookup Tables'!B44,IF(C28='Lookup Tables'!A45,'Lookup Tables'!B45,IF(C28='Lookup Tables'!A46,'Lookup Tables'!B46,IF(C28='Lookup Tables'!A47,'Lookup Tables'!B47,IF(C28='Lookup Tables'!A48,'Lookup Tables'!B48,IF(C28='Lookup Tables'!A49,'Lookup Tables'!B49,IF(C28='Lookup Tables'!A50,'Lookup Tables'!B50,IF(C28='Lookup Tables'!A51,'Lookup Tables'!B51,IF(C28='Lookup Tables'!A52,'Lookup Tables'!B52,IF(C28='Lookup Tables'!A53,'Lookup Tables'!B53,\"--\"))))))))))))","v":"--"}]
["1.G",{"$f":"CONCATENATE(\"Type of Highway User Involved Cost \", LEFT(C32,2))","v":"Type of Highway User Involved Cost "},null,null,null,{"$f":"IF(C32='Lookup Tables'!A60,'Lookup Tables'!B60,IF(C32='Lookup Tables'!A61,'Lookup Tables'!B61,IF(C32='Lookup Tables'!A62,'Lookup Tables'!B62,IF(C32='Lookup Tables'!A63,'Lookup Tables'!B63,IF(C32='Lookup Tables'!A64,'Lookup Tables'!B64,IF(C32='Lookup Tables'!A65,'Lookup Tables'!B65,IF(C32='Lookup Tables'!A66,'Lookup Tables'!B66,IF(C32='Lookup Tables'!A67,'Lookup Tables'!B67,IF(C32='Lookup Tables'!A68,'Lookup Tables'!B68,IF(C32='Lookup Tables'!A69,'Lookup Tables'!B69,IF(C32='Lookup Tables'!A70,'Lookup Tables'!B70,\"--\")))))))))))","v":"--"}]
["1.H","Highway User HAZMAT Release",null,null,null,{"$f":"IF(ISBLANK(C33),\"--\",IF(C33=\"No\",0,'Lookup Tables'!B74))","v":"--"}]
["1.I","OPTION B OVERRIDE (with \"AAR Parts\" tab)",null,null,null,{"$f":"IF(ISBLANK(C38),\"--\",C38)","v":"--"}]
["1.J","Baseline Incident Cost (NC Minimum)",null,null,null,{"$f":"IF(ISBLANK(C38),CostCalculator!I10,\"--\")","v":3840}]
["Total Estimated Property Damage Cost",null,null,null,null,{"$f":"IF(ISTEXT(D51),SUM(F46:F55),(SUM(F46:F55)+(0.03*(D51*SUM(F46:F55)))))","v":3840}]
["*The type of rail incident was only found to account for 3 percent of the variation in in rail costs. Accordingly, the incident cost multplier has been weighted to only account for 3% of the overall cost. "]

{"sheet":"AAR Parts","index":3,"n_rows":2701,"n_cols":11,"rows_kept":2701,"cut":false,"hidden":false,"merged":[[1351,0,1352,10],[0,0,1,10]]}
["Train Equipment Repair, Replacement, and Upgrade Costs (From AAR. Technology Transportation Center, Inc. 2020.) in $2022"]
[]
["Applied Job Code","Condition Code","Condition Description","Fixed Labor Time Standard","Variable Labor Time Standard","Job Code Description","Material Price","Credit","Fixed Labor","Variable Labor","Total Cost"]
[1116,7,{"$f":"VLOOKUP(B4,$B$2686:$C$2701,2,FALSE)","v":"Periodic or Service Attention \n(includes: vacant, single car testing of air brakes, cleaning of brke cyclinder, B-1 Quick Service Valves, Lubrication, Servicing mechanical refrigeration units, vacant, all wheels applied)"},0,3.8879999999999999,"ADDITIONAL BRAKE CLEANING - ACCOUNT SUBMERGED",{"$f":"G1355*'Lookup Tables'!$R$14","v":0},{"$f":"H1355*'Lookup Tables'!$R$14","v":0},{"$f":"I1355*'Lookup Tables'!$R$14","v":0},{"$f":"J1355*'Lookup Tables'!$R$14","v":598.56259999999997},{"$f":"K1355*'Lookup Tables'!$R$14","v":598.56259999999997}]
[1128,0,"Labor attention such as: \nactual labor, replacing or rechanging doors, welding, vacant, painting or stenciling, other labor attention",0,0,"INSPECTION ASSOCIATED WITH EHMS LORF-AHS ALERT",{"$f":"G1356*'Lookup Tables'!$R$14","v":0},{"$f":"H1356*'Lookup Tables'!$R$14","v":0},{"$f":"I1356*'Lookup Tables'!$R$14","v":0},{"$f":"J1356*'Lookup Tables'!$R$14","v":0},{"$f":"K1356*'Lookup Tables'!$R$14","v":0}]
[1130,7,"Periodic or Service Attention \n(includes: vacant, single car testing of air brakes, cleaning of brke cyclinder, B-1 Quick Service Valves, Lubrication, Servicing mechanical refrigeration units, vacant, all wheels applied)",0,7.1999999999999995E-2,"ADD'L SERVICE STABILITY TEST - EHMS LORF-NCF ALERT",{"$f":"G1357*'Lookup Tables'!$R$14","v":0},{"$f":"H1357*'Lookup Tables'!$R$14","v":0},{"$f":"I1357*'Lookup Tables'!$R$14","v":0},{"$f":"J1357*'Lookup Tables'!$R$14","v":11.0853},{"$f":"K1357*'Lookup Tables'!$R$14","v":11.0853}]
[1132,7,"Periodic or Service Attention \n(includes: vacant, single car testing of air brakes, cleaning of brke cyclinder, B-1 Quick Service Valves, Lubrication, Servicing mechanical refrigeration units, vacant, all wheels applied)",0,7.0000000000000007E-2,"ADDITIONAL VENT VALVE TEST - EHMS LORF-NCF ALERT",{"$f":"G1358*'Lookup Tables'!$R$14","v":0},{"$f":"H1358*'Lookup Tables'!$R$14","v":0},{"$f":"I1358*'Lookup Tables'!$R$14","v":0},{"$f":"J1358*'Lookup Tables'!$R$14","v":10.780100000000001},{"$f":"K1358*'Lookup Tables'!$R$14","v":10.780100000000001}]
[1139,7,"Periodic or Service Attention \n(includes: vacant, single car testing of air brakes, cleaning of brke cyclinder, B-1 Quick Service Valves, Lubrication, Servicing mechanical refrigeration units, vacant, all wheels applied)",0,2.63,"SCT USE MANUAL DEVICE, 1 SET, PER MA-63 OR EW 5171",{"$f":"G1359*'Lookup Tables'!$R$14","v":0.43600000000000005},{"$f":"H1359*'Lookup Tables'!$R$14","v":0},{"$f":"I1359*'Lookup Tables'!$R$14","v":0},{"$f":"J1359*'Lookup Tables'!$R$14","v":404.89140000000003},{"$f":"K1359*'Lookup Tables'!$R$14","v":405.32739999999995}]
[1140,7,"Periodic or Service Attention \n(includes: vacant, single car testing of air brakes, cleaning of brke cyclinder, B-1 Quick Service Valves, Lubrication, Servicing mechanical refrigeration units, vacant, all wheels applied)",0,2.8849999999999998,"SCT USE AUTO TEST DEVICE, 1 SET, PER MA-63 EW 5171",{"$f":"G1360*'Lookup Tables'!$R$14","v":0.43600000000000005},{"$f":"H1360*'Lookup Tables'!$R$14","v":0},{"$f":"I1360*'Lookup Tables'!$R$14","v":0},{"$f":"J1360*'Lookup Tables'!$R$14","v":444.15320000000003},{"$f":"K1360*'Lookup Tables'!$R$14","v":444.58920000000001}]
[1142,7,"Periodic or Service Attention \n(includes: vacant, single car testing of air brakes, cleaning of brke cyclinder, B-1 Quick Service Valves, Lubrication, Servicing mechanical refrigeration units, vacant, all wheels applied)",0,2.302,"4-PRESSURE SCT W/ AUTO TEST DEV, MA-63 OR EW 5171",{"$f":"G1361*'Lookup Tables'!$R$14","v":0.43600000000000005},{"$f":"H1361*'Lookup Tables'!$R$14","v":0},{"$f":"I1361*'Lookup Tables'!$R$14","v":0},{"$f":"J1361*'Lookup Tables'!$R$14","v":354.39170000000001},{"$f":"K1361*'Lookup Tables'!$R$14","v":354.82769999999999}]
[1144,7,"Periodic or Service Attention \n(includes: vacant, single car testing of air brakes, cleaning of brke cyclinder, B-1 Quick Service Valves, Lubrication, Servicing mechanical refrigeration units, vacant, all wheels applied)",0,0.87,"4-PRESSURE SCT USE AN AUTOMATIC SCT DEVICE, 1 SET",{"$f":"G1362*'Lookup Tables'!$R$14","v":0.43600000000000005},{"$f":"H1362*'Lookup Tables'!$R$14","v":0},{"$f":"I1362*'Lookup Tables'!$R$14","v":0},{"$f":"J1362*'Lookup Tables'!$R$14","v":133.9392},{"$f":"K1362*'Lookup Tables'!$R$14","v":134.37520000000001}]
[1145,7,"Periodic or Service Attention \n(includes: vacant, single car testing of air brakes, cleaning of brke cyclinder, B-1 Quick Service Valves, Lubrication, Servicing mechanical refrigeration units, vacant, all wheels applied)",0,1.198,"SCT USE A MANUAL SCT DEVICE, 1 SET",{"$f":"G1363*'Lookup Tables'!$R$14","v":0.43600000000000005},{"$f":"H1363*'Lookup Tables'!$R$14","v":0},{"$f":"I1363*'Lookup Tables'!$R$14","v":0},{"$f":"J1363*'Lookup Tables'!$R$14","v":184.43890000000002},{"$f":"K1363*'Lookup Tables'!$R$14","v":184.87490000000003}]
[1146,7,"Periodic or Service Attention \n(includes: vacant, single car testing of air brakes, cleaning of brke cyclinder, B-1 Quick Service Valves, Lubrication, Servicing mechanical refrigeration units, vacant, all wheels applied)",0,1.4530000000000001,"SCT USE AN AUTOMATIC SCT DEVICE, 1 SET",{"$f":"G1364*'Lookup Tables'!$R$14","v":0.43600000000000005},{"$f":"H1364*'Lookup Tables'!$R$14","v":0},{"$f":"I1364*'Lookup Tables'!$R$14","v":0},{"$f":"J1364*'Lookup Tables'!$R$14","v":223.68980000000002},{"$f":"K1364*'Lookup Tables'!$R$14","v":224.12580000000003}]
[1147,7,"Periodic or Service Attention \n(includes: vacant, single car testing of air brakes, cleaning of brke cyclinder, B-1 Quick Service Valves, Lubrication, Servicing mechanical refrigeration units, vacant, all wheels applied)",0,0.312,"BRAKE CYLINDER LEAKAGE TEST, 1 SET",{"$f":"G1365*'Lookup Tables'!$R$14","v":0},{"$f":"H1365*'Lookup Tables'!$R$14","v":0},{"$f":"I1365*'Lookup Tables'!$R$14","v":0},{"$f":"J1365*'Lookup Tables'!$R$14","v":48.036300000000004},{"$f":"K1365*'Lookup Tables'!$R$14","v":48.036300000000004}]
[1150,0,"Labor attention such as: \nactual labor, replacing or rechanging doors, welding, vacant, painting or stenciling, other labor attention",0,0.38700000000000001,"GROUP A - PISTON TRAVEL ADJUSTMENT",{"$f":"G1366*'Lookup Tables'!$R$14","v":0},{"$f":"H1366*'Lookup Tables'!$R$14","v":0},{"$f":"I1366*'Lookup Tables'!$R$14","v":0},{"$f":"J1366*'Lookup Tables'!$R$14","v":59.5794},{"$f":"K1366*'Lookup Tables'!$R$14","v":59.5794}]
[1151,0,"Labor attention such as: \nactual labor, replacing or rechanging doors, welding, vacant, painting or stenciling, other labor attention",0,0.34100000000000003,"GROUP B - PISTON TRAVEL ADJUSTMENT",{"$f":"G1367*'Lookup Tables'!$R$14","v":0},{"$f":"H1367*'Lookup Tables'!$R$14","v":0},{"$f":"I1367*'Lookup Tables'!$R$14","v":0},{"$f":"J1367*'Lookup Tables'!$R$14","v":52.494399999999999},{"$f":"K1367*'Lookup Tables'!$R$14","v":52.494399999999999}]
[1152,0,"Labor attention such as: \nactual labor, replacing or rechanging doors, welding, vacant, painting or stenciling, other labor attention",0,0.437,"GROUP C - PISTON TRAVEL ADJUSTMENT",{"$f":"G1368*'Lookup Tables'!$R$14","v":0},{"$f":"H1368*'Lookup Tables'!$R$14","v":0},{"$f":"I1368*'Lookup Tables'!$R$14","v":0},{"$f":"J1368*'Lookup Tables'!$R$14","v":67.274799999999999},{"$f":"K1368*'Lookup Tables'!$R$14","v":67.274799999999999}]
[1153,0,"Labor attention such as: \nactual labor, replacing or rechanging doors, welding, vacant, painting or stenciling, other labor attention",0,0.20499999999999999,"BODY MOUNTED BRAKES-TRUCK LEVER ADJUSTMENT",{"$f":"G1369*'Lookup Tables'!$R$14","v":0.14170000000000002},{"$f":"H1369*'Lookup Tables'!$R$14","v":0},{"$f":"I1369*'Lookup Tables'!$R$14","v":0},{"$f":"J1369*'Lookup Tables'!$R$14","v":31.555500000000002},{"$f":"K1369*'Lookup Tables'!$R$14","v":31.697199999999999}]
[1155,7,"Periodic or Service Attention \n(includes: vacant, single car testing of air brakes, cleaning of brke cyclinder, B-1 Quick Service Valves, Lubrication, Servicing mechanical refrigeration units, vacant, all wheels applied)",0,6.9000000000000006E-2,"SLACK ADJUSTER TEST",{"$f":"G1370*'Lookup Tables'!$R$14","v":0},{"$f":"H1370*'Lookup Tables'!$R$14","v":0},{"$f":"I1370*'Lookup Tables'!$R$14","v":0},{"$f":"J1370*'Lookup Tables'!$R$14","v":10.627500000000001},{"$f":"K1370*'Lookup Tables'!$R$14","v":10.627500000000001}]
[1157,7,"Periodic or Service Attention \n(includes: vacant, single car testing of air brakes, cleaning of brke cyclinder, B-1 Quick Service Valves, Lubrication, Servicing mechanical refrigeration units, vacant, all wheels applied)",0,7.8E-2,"RETAINING VALVE TEST",{"$f":"G1371*'Lookup Tables'!$R$14","v":0},{"$f":"H1371*'Lookup Tables'!$R$14","v":0},{"$f":"I1371*'Lookup Tables'!$R$14","v":0},{"$f":"J1371*'Lookup Tables'!$R$14","v":12.011800000000001},{"$f":"K1371*'Lookup Tables'!$R$14","v":12.011800000000001}]
[1159,7,"Periodic or Service Attention \n(includes: vacant, single car testing of air brakes, cleaning of brke cyclinder, B-1 Quick Service Valves, Lubrication, Servicing mechanical refrigeration units, vacant, all wheels applied)",0,0.155,"EMPTY/LOAD VALVE TEST",{"$f":"G1372*'Lookup Tables'!$R$14","v":0},{"$f":"H1372*'Lookup Tables'!$R$14","v":0},{"$f":"I1372*'Lookup Tables'!$R$14","v":0},{"$f":"J1372*'Lookup Tables'!$R$14","v":23.860100000000003},{"$f":"K1372*'Lookup Tables'!$R$14","v":23.860100000000003}]
[1160,1,"New Material Applied",0,0.253,"ANGLE COCK, BALL TYPE",{"$f":"G1373*'Lookup Tables'!$R$14","v":41.638000000000005},{"$f":"H1373*'Lookup Tables'!$R$14","v":0.35970000000000002},{"$f":"I1373*'Lookup Tables'!$R$14","v":0},{"$f":"J1373*'Lookup Tables'!$R$14","v":38.945700000000002},{"$f":"K1373*'Lookup Tables'!$R$14","v":80.583700000000007}]
[1160,2,"Secondhand Material Applied",0,0.253,"ANGLE COCK, BALL TYPE",{"$f":"G1374*'Lookup Tables'!$R$14","v":35.098000000000006},{"$f":"H1374*'Lookup Tables'!$R$14","v":0},{"$f":"I1374*'Lookup Tables'!$R$14","v":0},{"$f":"J1374*'Lookup Tables'!$R$14","v":38.945700000000002},{"$f":"K1374*'Lookup Tables'!$R$14","v":74.043700000000015}]
[1160,3,"Reconditioned or Recertified Material Applied",0,0.253,"ANGLE COCK, BALL TYPE",{"$f":"G1375*'Lookup Tables'!$R$14","v":37.070900000000002},{"$f":"H1375*'Lookup Tables'!$R$14","v":0},{"$f":"I1375*'Lookup Tables'!$R$14","v":0},{"$f":"J1375*'Lookup Tables'!$R$14","v":38.945700000000002},{"$f":"K1375*'Lookup Tables'!$R$14","v":76.016599999999997}]
[1161,1,"New Material Applied",0,0.1,"ANGLE COCK / END COCK HANDLE",{"$f":"G1376*'Lookup Tables'!$R$14","v":21.462100000000003},{"$f":"H1376*'Lookup Tables'!$R$14","v":0.11990000000000001},{"$f":"I1376*'Lookup Tables'!$R$14","v":0},{"$f":"J1376*'Lookup Tables'!$R$14","v":15.3908},{"$f":"K1376*'Lookup Tables'!$R$14","v":36.852900000000005}]
[1162,1,"New Material Applied",0,0.24,"END COCK 1 1/4\"",{"$f":"G1377*'Lookup Tables'!$R$14","v":76.267300000000006},{"$f":"H1377*'Lookup Tables'!$R$14","v":0.35970000000000002},{"$f":"I1377*'Lookup Tables'!$R$14","v":0},{"$f":"J1377*'Lookup Tables'!$R$14","v":36.951000000000001},{"$f":"K1377*'Lookup Tables'!$R$14","v":113.21830000000001}]
[1162,2,"Secondhand Material Applied",0,0.24,"END COCK 1 1/4\"",{"$f":"G1378*'Lookup Tables'!$R$14","v":23.315100000000001},{"$f":"H1378*'Lookup Tables'!$R$14","v":0},{"$f":"I1378*'Lookup Tables'!$R$14","v":0},{"$f":"J1378*'Lookup Tables'!$R$14","v":36.951000000000001},{"$f":"K1378*'Lookup Tables'!$R$14","v":60.266100000000002}]
[1162,3,"Reconditioned or Recertified Material Applied",0,0.24,"END COCK 1 1/4\"",{"$f":"G1379*'Lookup Tables'!$R$14","v":37.517800000000001},{"$f":"H1379*'Lookup Tables'!$R$14","v":0},{"$f":"I1379*'Lookup Tables'!$R$14","v":0},{"$f":"J1379*'Lookup Tables'!$R$14","v":36.951000000000001},{"$f":"K1379*'Lookup Tables'!$R$14","v":74.468800000000002}]
[1163,1,"New Material Applied",0,0.22800000000000001,"ANGLE COCK / END COCK HANDLE AND TOP CAP ASSEMBLY",{"$f":"G1380*'Lookup Tables'!$R$14","v":16.3827},{"$f":"H1380*'Lookup Tables'!$R$14","v":0.11990000000000001},{"$f":"I1380*'Lookup Tables'!$R$14","v":0},{"$f":"J1380*'Lookup Tables'!$R$14","v":35.098000000000006},{"$f":"K1380*'Lookup Tables'!$R$14","v":51.480700000000006}]
[1165,1,"New Material Applied",0,0.114,"AIR HOSE SUPPORT COMPLETE - NON-METALLIC",{"$f":"G1381*'Lookup Tables'!$R$14","v":3.6188000000000002},{"$f":"H1381*'Lookup Tables'!$R$14","v":0},{"$f":"I1381*'Lookup Tables'!$R$14","v":0},{"$f":"J1381*'Lookup Tables'!$R$14","v":17.549000000000003},{"$f":"K1381*'Lookup Tables'!$R$14","v":21.167800000000003}]
[1165,2,"Secondhand Material Applied",0,0.114,"AIR HOSE SUPPORT COMPLETE - NON-METALLIC",{"$f":"G1382*'Lookup Tables'!$R$14","v":1.8094000000000001},{"$f":"H1382*'Lookup Tables'!$R$14","v":0},{"$f":"I1382*'Lookup Tables'!$R$14","v":0},{"$f":"J1382*'Lookup Tables'!$R$14","v":17.549000000000003},{"$f":"K1382*'Lookup Tables'!$R$14","v":19.358400000000003}]
[1165,9,"Remove and replace same part",0,7.9000000000000001E-2,"AIR HOSE SUPPORT COMPLETE - NON-METALLIC",{"$f":"G1383*'Lookup Tables'!$R$14","v":0},{"$f":"H1383*'Lookup Tables'!$R$14","v":0},{"$f":"I1383*'Lookup Tables'!$R$14","v":0},{"$f":"J1383*'Lookup Tables'!$R$14","v":12.164400000000001},{"$f":"K1383*'Lookup Tables'!$R$14","v":12.164400000000001}]
[1167,1,"New Material Applied",0,0.114,"AIR HOSE SUPPORT COMPLETE - METALLIC",{"$f":"G1384*'Lookup Tables'!$R$14","v":3.9022000000000006},{"$f":"H1384*'Lookup Tables'!$R$14","v":0},{"$f":"I1384*'Lookup Tables'!$R$14","v":0},{"$f":"J1384*'Lookup Tables'!$R$14","v":17.549000000000003},{"$f":"K1384*'Lookup Tables'!$R$14","v":21.4512}]
[1167,2,"Secondhand Material Applied",0,0.114,"AIR HOSE SUPPORT COMPLETE - METALLIC",{"$f":"G1385*'Lookup Tables'!$R$14","v":1.9511000000000003},{"$f":"H1385*'Lookup Tables'!$R$14","v":0},{"$f":"I1385*'Lookup Tables'!$R$14","v":0},{"$f":"J1385*'Lookup Tables'!$R$14","v":17.549000000000003},{"$f":"K1385*'Lookup Tables'!$R$14","v":19.500100000000003}]
[1167,9,"Remove and replace same part",0,7.9000000000000001E-2,"AIR HOSE SUPPORT COMPLETE - METALLIC",{"$f":"G1386*'Lookup Tables'!$R$14","v":0},{"$f":"H1386*'Lookup Tables'!$R$14","v":0},{"$f":"I1386*'Lookup Tables'!$R$14","v":0},{"$f":"J1386*'Lookup Tables'!$R$14","v":12.164400000000001},{"$f":"K1386*'Lookup Tables'!$R$14","v":12.164400000000001}]
[1172,1,"New Material Applied",0,0.25,"FLEXIBLE BRANCH PIPE HOSE",{"$f":"G1387*'Lookup Tables'!$R$14","v":74.588700000000017},{"$f":"H1387*'Lookup Tables'!$R$14","v":0},{"$f":"I1387*'Lookup Tables'!$R$14","v":0},{"$f":"J1387*'Lookup Tables'!$R$14","v":38.487900000000003},{"$f":"K1387*'Lookup Tables'!$R$14","v":113.07660000000001}]
[1180,1,"New Material Applied",0,0.255,"FLEXIBLE BRAKE PIPE HOSE, UNDER 59 INCHES",{"$f":"G1388*'Lookup Tables'!$R$14","v":43.447400000000002},{"$f":"H1388*'Lookup Tables'!$R$14","v":0},{"$f":"I1388*'Lookup Tables'!$R$14","v":0},{"$f":"J1388*'Lookup Tables'!$R$14","v":39.261800000000008},{"$f":"K1388*'Lookup Tables'!$R$14","v":82.709199999999996}]
[1184,1,"New Material Applied",0,0.27200000000000002,"FLEXIBLE BRAKE PIPE HOSE 59 INCHES OR OVER",{"$f":"G1389*'Lookup Tables'!$R$14","v":61.192600000000006},{"$f":"H1389*'Lookup Tables'!$R$14","v":0},{"$f":"I1389*'Lookup Tables'!$R$14","v":0},{"$f":"J1389*'Lookup Tables'!$R$14","v":41.877800000000008},{"$f":"K1389*'Lookup Tables'!$R$14","v":103.07040000000001}]
[1186,1,"New Material Applied",0,0.27200000000000002,"FLEXIBLE HOSE, 3/4 INCH OR SMALLER",{"$f":"G1390*'Lookup Tables'!$R$14","v":16.437200000000001},{"$f":"H1390*'Lookup Tables'!$R$14","v":0},{"$f":"I1390*'Lookup Tables'!$R$14","v":0},{"$f":"J1390*'Lookup Tables'!$R$14","v":41.877800000000008},{"$f":"K1390*'Lookup Tables'!$R$14","v":58.315000000000005}]
[1188,1,"New Material Applied",0,0,"PIPE, 3/4 INCHES OR SMALLER",{"$f":"G1391*'Lookup Tables'!$R$14","v":1.9729000000000001},{"$f":"H1391*'Lookup Tables'!$R$14","v":0},{"$f":"I1391*'Lookup Tables'!$R$14","v":0},{"$f":"J1391*'Lookup Tables'!$R$14","v":0},{"$f":"K1391*'Lookup Tables'!$R$14","v":1.9729000000000001}]
[1188,2,"Secondhand Material Applied",0,0,"PIPE, 3/4 INCHES OR SMALLER",{"$f":"G1392*'Lookup Tables'!$R$14","v":0.98100000000000009},{"$f":"H1392*'Lookup Tables'!$R$14","v":0},{"$f":"I1392*'Lookup Tables'!$R$14","v":0},{"$f":"J1392*'Lookup Tables'!$R$14","v":0},{"$f":"K1392*'Lookup Tables'!$R$14","v":0.98100000000000009}]
[1192,1,"New Material Applied",0,0,"PIPE, 1 OR 1-1/4 INCHES",{"$f":"G1393*'Lookup Tables'!$R$14","v":3.6842000000000001},{"$f":"H1393*'Lookup Tables'!$R$14","v":0.35970000000000002},{"$f":"I1393*'Lookup Tables'!$R$14","v":0},{"$f":"J1393*'Lookup Tables'!$R$14","v":0},{"$f":"K1393*'Lookup Tables'!$R$14","v":3.6842000000000001}]
[1192,2,"Secondhand Material Applied",0,0,"PIPE, 1 OR 1-1/4 INCHES",{"$f":"G1394*'Lookup Tables'!$R$14","v":1.8421000000000001},{"$f":"H1394*'Lookup Tables'!$R$14","v":0.35970000000000002},{"$f":"I1394*'Lookup Tables'!$R$14","v":0},{"$f":"J1394*'Lookup Tables'!$R$14","v":0},{"$f":"K1394*'Lookup Tables'!$R$14","v":1.8421000000000001}]
[1194,0,"Labor attention such as: \nactual labor, replacing or rechanging doors, welding, vacant, painting or stenciling, other labor attention",0,0.3,"BRAKE PIPE, ANY SIZE - BENDING",{"$f":"G1395*'Lookup Tables'!$R$14","v":0},{"$f":"H1395*'Lookup Tables'!$R$14","v":0},{"$f":"I1395*'Lookup Tables'!$R$14","v":0},{"$f":"J1395*'Lookup Tables'!$R$14","v":46.183300000000003},{"$f":"K1395*'Lookup Tables'!$R$14","v":46.183300000000003}]
[1196,0,"Labor attention such as: \nactual labor, replacing or rechanging doors, welding, vacant, painting or stenciling, other labor attention",0,0.15,"THREADING PIPE, ANY SIZE, PER END",{"$f":"G1396*'Lookup Tables'!$R$14","v":0},{"$f":"H1396*'Lookup Tables'!$R$14","v":0},{"$f":"I1396*'Lookup Tables'!$R$14","v":0},{"$f":"J1396*'Lookup Tables'!$R$14","v":23.097100000000005},{"$f":"K1396*'Lookup Tables'!$R$14","v":23.097100000000005}]
[1197,0,"Labor attention such as: \nactual labor, replacing or rechanging doors, welding, vacant, painting or stenciling, other labor attention",0.123,8.9999999999999993E-3,"PIPE, 3/4 INCH OR LESS-STRAIGHTEN OFF CAR W/ HEAT",{"$f":"G1397*'Lookup Tables'!$R$14","v":0},{"$f":"H1397*'Lookup Tables'!$R$14","v":0},{"$f":"I1397*'Lookup Tables'!$R$14","v":18.933300000000003},{"$f":"J1397*'Lookup Tables'!$R$14","v":1.3843000000000001},{"$f":"K1397*'Lookup Tables'!$R$14","v":1.3843000000000001}]
[1198,0,"Labor attention such as: \nactual labor, replacing or rechanging doors, welding, vacant, painting or stenciling, other labor attention",0.123,2.7E-2,"PIPE, 1 OR 1-1/4 INCH-STRAIGHTEN OFF CAR WITH HEAT",{"$f":"G1398*'Lookup Tables'!$R$14","v":0},{"$f":"H1398*'Lookup Tables'!$R$14","v":0},{"$f":"I1398*'Lookup Tables'!$R$14","v":18.933300000000003},{"$f":"J1398*'Lookup Tables'!$R$14","v":4.1529000000000007},{"$f":"K1398*'Lookup Tables'!$R$14","v":4.1529000000000007}]
[1200,1,"New Material Applied",0,0.1,"PIPE NIPPLE, S.W. 1-1/4 INCHES",{"$f":"G1399*'Lookup Tables'!$R$14","v":4.8832000000000004},{"$f":"H1399*'Lookup Tables'!$R$14","v":0},{"$f":"I1399*'Lookup Tables'!$R$14","v":0},{"$f":"J1399*'Lookup Tables'!$R$14","v":15.3908},{"$f":"K1399*'Lookup Tables'!$R$14","v":20.274000000000004}]
[1200,2,"Secondhand Material Applied",0,0.1,"PIPE NIPPLE, S.W. 1-1/4 INCHES",{"$f":"G1400*'Lookup Tables'!$R$14","v":2.4416000000000002},{"$f":"H1400*'Lookup Tables'!$R$14","v":0},{"$f":"I1400*'Lookup Tables'!$R$14","v":0},{"$f":"J1400*'Lookup Tables'!$R$14","v":15.3908},{"$f":"K1400*'Lookup Tables'!$R$14","v":17.8324}]
[1204,1,"New Material Applied",0,0.1,"PIPE FITTING, E.H. 3/4 INCHES OR LESS",{"$f":"G1401*'Lookup Tables'!$R$14","v":4.3055000000000003},{"$f":"H1401*'Lookup Tables'!$R$14","v":0},{"$f":"I1401*'Lookup Tables'!$R$14","v":0},{"$f":"J1401*'Lookup Tables'!$R$14","v":15.3908},{"$f":"K1401*'Lookup Tables'!$R$14","v":19.696300000000001}]
[1204,2,"Secondhand Material Applied",0,0.1,"PIPE FITTING, E.H. 3/4 INCHES OR LESS",{"$f":"G1402*'Lookup Tables'!$R$14","v":2.1582000000000003},{"$f":"H1402*'Lookup Tables'!$R$14","v":0},{"$f":"I1402*'Lookup Tables'!$R$14","v":0},{"$f":"J1402*'Lookup Tables'!$R$14","v":15.3908},{"$f":"K1402*'Lookup Tables'!$R$14","v":17.548999999999999}]
[1208,1,"New Material Applied",0,0.1,"PIPE FITTING, E.H. 1 OR 1-1/4 INCHES",{"$f":"G1403*'Lookup Tables'!$R$14","v":10.562100000000001},{"$f":"H1403*'Lookup Tables'!$R$14","v":0},{"$f":"I1403*'Lookup Tables'!$R$14","v":0},{"$f":"J1403*'Lookup Tables'!$R$14","v":15.3908},{"$f":"K1403*'Lookup Tables'!$R$14","v":25.9529}]
[1208,2,"Secondhand Material Applied",0,0.1,"PIPE FITTING, E.H. 1 OR 1-1/4 INCHES",{"$f":"G1404*'Lookup Tables'!$R$14","v":5.2755999999999998},{"$f":"H1404*'Lookup Tables'!$R$14","v":0},{"$f":"I1404*'Lookup Tables'!$R$14","v":0},{"$f":"J1404*'Lookup Tables'!$R$14","v":15.3908},{"$f":"K1404*'Lookup Tables'!$R$14","v":20.666400000000003}]
[1210,0,"Labor attention such as: \nactual labor, replacing or rechanging doors, welding, vacant, painting or stenciling, other labor attention",0,9.1999999999999998E-2,"AIR HOSE EXTENSION COUPLING",{"$f":"G1405*'Lookup Tables'!$R$14","v":0},{"$f":"H1405*'Lookup Tables'!$R$14","v":0},{"$f":"I1405*'Lookup Tables'!$R$14","v":0},{"$f":"J1405*'Lookup Tables'!$R$14","v":14.1591},{"$f":"K1405*'Lookup Tables'!$R$14","v":14.1591}]
[1210,1,"New Material Applied",0,0.10100000000000001,"AIR HOSE EXTENSION COUPLING",{"$f":"G1406*'Lookup Tables'!$R$14","v":5.8533000000000008},{"$f":"H1406*'Lookup Tables'!$R$14","v":0},{"$f":"I1406*'Lookup Tables'!$R$14","v":0},{"$f":"J1406*'Lookup Tables'!$R$14","v":15.554300000000001},{"$f":"K1406*'Lookup Tables'!$R$14","v":21.407600000000002}]
[1210,2,"Secondhand Material Applied",0,0.10100000000000001,"AIR HOSE EXTENSION COUPLING",{"$f":"G1407*'Lookup Tables'!$R$14","v":2.9321000000000002},{"$f":"H1407*'Lookup Tables'!$R$14","v":0},{"$f":"I1407*'Lookup Tables'!$R$14","v":0},{"$f":"J1407*'Lookup Tables'!$R$14","v":15.554300000000001},{"$f":"K1407*'Lookup Tables'!$R$14","v":18.486400000000003}]
[1212,1,"New Material Applied",0,0.3,"PIPE UNION OR TEE, E.H. 3/4 INCHES OR LESS",{"$f":"G1408*'Lookup Tables'!$R$14","v":6.1912000000000003},{"$f":"H1408*'Lookup Tables'!$R$14","v":0},{"$f":"I1408*'Lookup Tables'!$R$14","v":0},{"$f":"J1408*'Lookup Tables'!$R$14","v":46.183300000000003},{"$f":"K1408*'Lookup Tables'!$R$14","v":52.374499999999998}]
[1212,2,"Secondhand Material Applied",0,0.3,"PIPE UNION OR TEE, E.H. 3/4 INCHES OR LESS",{"$f":"G1409*'Lookup Tables'!$R$14","v":3.0956000000000001},{"$f":"H1409*'Lookup Tables'!$R$14","v":0},{"$f":"I1409*'Lookup Tables'!$R$14","v":0},{"$f":"J1409*'Lookup Tables'!$R$14","v":46.183300000000003},{"$f":"K1409*'Lookup Tables'!$R$14","v":49.2789}]
[1216,1,"New Material Applied",0,0.3,"PIPE UNION OR TEE, E.H. 1 OR 1-1/4 INCHES",{"$f":"G1410*'Lookup Tables'!$R$14","v":8.872600000000002},{"$f":"H1410*'Lookup Tables'!$R$14","v":0},{"$f":"I1410*'Lookup Tables'!$R$14","v":0},{"$f":"J1410*'Lookup Tables'!$R$14","v":46.183300000000003},{"$f":"K1410*'Lookup Tables'!$R$14","v":55.055900000000001}]
[1216,2,"Secondhand Material Applied",0,0.3,"PIPE UNION OR TEE, E.H. 1 OR 1-1/4 INCHES",{"$f":"G1411*'Lookup Tables'!$R$14","v":4.436300000000001},{"$f":"H1411*'Lookup Tables'!$R$14","v":0},{"$f":"I1411*'Lookup Tables'!$R$14","v":0},{"$f":"J1411*'Lookup Tables'!$R$14","v":46.183300000000003},{"$f":"K1411*'Lookup Tables'!$R$14","v":50.619599999999998}]
[1227,1,"New Material Applied",0,0.60299999999999998,"PIPE FITTING RFP WELDED 3/4 INCHES OR LESS",{"$f":"G1412*'Lookup Tables'!$R$14","v":10.017100000000001},{"$f":"H1412*'Lookup Tables'!$R$14","v":0},{"$f":"I1412*'Lookup Tables'!$R$14","v":0},{"$f":"J1412*'Lookup Tables'!$R$14","v":92.835300000000004},{"$f":"K1412*'Lookup Tables'!$R$14","v":102.8524}]
[1228,1,"New Material Applied",0,1.2390000000000001,"PIPE FITTING, RFP, WELDED 1 OR 1-1/4 INCHES",{"$f":"G1413*'Lookup Tables'!$R$14","v":13.036400000000002},{"$f":"H1413*'Lookup Tables'!$R$14","v":0},{"$f":"I1413*'Lookup Tables'!$R$14","v":0},{"$f":"J1413*'Lookup Tables'!$R$14","v":190.75},{"$f":"K1413*'Lookup Tables'!$R$14","v":203.78640000000001}]
[1238,1,"New Material Applied",0.25,7.8E-2,"LOK-RING REPAIR COUPLING, 3/8 INCH",{"$f":"G1414*'Lookup Tables'!$R$14","v":96.781100000000009},{"$f":"H1414*'Lookup Tables'!$R$14","v":0},{"$f":"I1414*'Lookup Tables'!$R$14","v":38.487900000000003},{"$f":"J1414*'Lookup Tables'!$R$14","v":12.011800000000001},{"$f":"K1414*'Lookup Tables'!$R$14","v":108.79290000000002}]
[1239,1,"New Material Applied",0.25,7.8E-2,"LOK-RING REPAIR COUPLING, 3/4 INCH",{"$f":"G1415*'Lookup Tables'!$R$14","v":93.325800000000015},{"$f":"H1415*'Lookup Tables'!$R$14","v":0},{"$f":"I1415*'Lookup Tables'!$R$14","v":38.487900000000003},{"$f":"J1415*'Lookup Tables'!$R$14","v":12.011800000000001},{"$f":"K1415*'Lookup Tables'!$R$14","v":105.33760000000001}]
[1240,1,"New Material Applied",0.25,7.8E-2,"LOK-RING REPAIR COUPLING, 1 INCH",{"$f":"G1416*'Lookup Tables'!$R$14","v":104.84710000000001},{"$f":"H1416*'Lookup Tables'!$R$14","v":0},{"$f":"I1416*'Lookup Tables'!$R$14","v":38.487900000000003},{"$f":"J1416*'Lookup Tables'!$R$14","v":12.011800000000001},{"$f":"K1416*'Lookup Tables'!$R$14","v":116.85890000000001}]
[1241,1,"New Material Applied",0.25,7.8E-2,"LOKRING REPAIR COUPLING, 1.25 INCHES",{"$f":"G1417*'Lookup Tables'!$R$14","v":185.6815},{"$f":"H1417*'Lookup Tables'!$R$14","v":0},{"$f":"I1417*'Lookup Tables'!$R$14","v":38.487900000000003},{"$f":"J1417*'Lookup Tables'!$R$14","v":12.011800000000001},{"$f":"K1417*'Lookup Tables'!$R$14","v":197.69330000000002}]
[1244,1,"New Material Applied",0,0.23300000000000001,"PIPE FITTING GASKET - OR SEAL - SEPARATELY",{"$f":"G1418*'Lookup Tables'!$R$14","v":2.1036999999999999},{"$f":"H1418*'Lookup Tables'!$R$14","v":0},{"$f":"I1418*'Lookup Tables'!$R$14","v":0},{"$f":"J1418*'Lookup Tables'!$R$14","v":35.871899999999997},{"$f":"K1418*'Lookup Tables'!$R$14","v":37.9756}]
[1246,1,{"$f":"VLOOKUP(B68,$B$2686:$C$2701,2,FALSE)","v":"New Material Applied"},0.25,9.7000000000000003E-2,"LOK-RING FLANGE FITTING, 3/8 INCH",{"$f":"G1419*'Lookup Tables'!$R$14","v":78.436399999999992},{"$f":"H1419*'Lookup Tables'!$R$14","v":0},{"$f":"I1419*'Lookup Tables'!$R$14","v":38.487900000000003},{"$f":"J1419*'Lookup Tables'!$R$14","v":14.933},{"$f":"K1419*'Lookup Tables'!$R$14","v":93.369399999999999}]
[1247,1,"New Material Applied",0.25,9.7000000000000003E-2,"LOK-RING FLANGE FITTING, 3/4 INCH",{"$f":"G1420*'Lookup Tables'!$R$14","v":100.3018},{"$f":"H1420*'Lookup Tables'!$R$14","v":0},{"$f":"I1420*'Lookup Tables'!$R$14","v":38.487900000000003},{"$f":"J1420*'Lookup Tables'!$R$14","v":14.933},{"$f":"K1420*'Lookup Tables'!$R$14","v":115.23480000000001}]
[1248,1,"New Material Applied",0.25,9.7000000000000003E-2,"LOK-RING FLANGE FITTING, 1 INCH",{"$f":"G1421*'Lookup Tables'!$R$14","v":91.952400000000011},{"$f":"H1421*'Lookup Tables'!$R$14","v":0},{"$f":"I1421*'Lookup Tables'!$R$14","v":38.487900000000003},{"$f":"J1421*'Lookup Tables'!$R$14","v":14.933},{"$f":"K1421*'Lookup Tables'!$R$14","v":106.8854}]
[1249,1,"New Material Applied",0.25,9.7000000000000003E-2,"LOK-RING FLANGE FITTING, 1.25 INCHES",{"$f":"G1422*'Lookup Tables'!$R$14","v":103.64810000000001},{"$f":"H1422*'Lookup Tables'!$R$14","v":0},{"$f":"I1422*'Lookup Tables'!$R$14","v":38.487900000000003},{"$f":"J1422*'Lookup Tables'!$R$14","v":14.933},{"$f":"K1422*'Lookup Tables'!$R$14","v":118.58110000000002}]
[1260,1,"New Material Applied",0,0.105,"CAP SCREW, AIR BRAKE PART, RENEWED",{"$f":"G1423*'Lookup Tables'!$R$14","v":0.54500000000000004},{"$f":"H1423*'Lookup Tables'!$R$14","v":0},{"$f":"I1423*'Lookup Tables'!$R$14","v":0},{"$f":"J1423*'Lookup Tables'!$R$14","v":16.1647},{"$f":"K1423*'Lookup Tables'!$R$14","v":16.709700000000002}]
[1260,2,"Secondhand Material Applied",0,0.105,"CAP SCREW, AIR BRAKE PART, RENEWED",{"$f":"G1424*'Lookup Tables'!$R$14","v":0.27250000000000002},{"$f":"H1424*'Lookup Tables'!$R$14","v":0},{"$f":"I1424*'Lookup Tables'!$R$14","v":0},{"$f":"J1424*'Lookup Tables'!$R$14","v":16.1647},{"$f":"K1424*'Lookup Tables'!$R$14","v":16.437200000000001}]
[1264,1,"New Material Applied",0,0.17,"BRANCH PIPE TEE BODY",{"$f":"G1425*'Lookup Tables'!$R$14","v":22.3123},{"$f":"H1425*'Lookup Tables'!$R$14","v":0.59950000000000014},{"$f":"I1425*'Lookup Tables'!$R$14","v":0},{"$f":"J1425*'Lookup Tables'!$R$14","v":26.170900000000003},{"$f":"K1425*'Lookup Tables'!$R$14","v":48.483200000000011}]
[1264,2,"Secondhand Material Applied",0,0.17,"BRANCH PIPE TEE BODY",{"$f":"G1426*'Lookup Tables'!$R$14","v":11.161600000000002},{"$f":"H1426*'Lookup Tables'!$R$14","v":0.59950000000000014},{"$f":"I1426*'Lookup Tables'!$R$14","v":0},{"$f":"J1426*'Lookup Tables'!$R$14","v":26.170900000000003},{"$f":"K1426*'Lookup Tables'!$R$14","v":37.332500000000003}]
[1268,1,"New Material Applied",0,0.26700000000000002,"CUT-OUT COCK, ANY SIZE, COMPLETE",{"$f":"G1427*'Lookup Tables'!$R$14","v":95.26600000000002},{"$f":"H1427*'Lookup Tables'!$R$14","v":0.35970000000000002},{"$f":"I1427*'Lookup Tables'!$R$14","v":0},{"$f":"J1427*'Lookup Tables'!$R$14","v":41.103900000000003},{"$f":"K1427*'Lookup Tables'!$R$14","v":136.36990000000003}]
[1268,2,"Secondhand Material Applied",0,0.26700000000000002,"CUT-OUT COCK, ANY SIZE, COMPLETE",{"$f":"G1428*'Lookup Tables'!$R$14","v":72.452300000000008},{"$f":"H1428*'Lookup Tables'!$R$14","v":0},{"$f":"I1428*'Lookup Tables'!$R$14","v":0},{"$f":"J1428*'Lookup Tables'!$R$14","v":41.103900000000003},{"$f":"K1428*'Lookup Tables'!$R$14","v":113.55620000000002}]
[1268,3,"Reconditioned or Recertified Material Applied",0,0.26700000000000002,"CUT-OUT COCK, ANY SIZE, COMPLETE",{"$f":"G1429*'Lookup Tables'!$R$14","v":85.161699999999996},{"$f":"H1429*'Lookup Tables'!$R$14","v":0},{"$f":"I1429*'Lookup Tables'!$R$14","v":0},{"$f":"J1429*'Lookup Tables'!$R$14","v":41.103900000000003},{"$f":"K1429*'Lookup Tables'!$R$14","v":126.26560000000001}]
[1270,1,"New Material Applied",0,0.26700000000000002,"DIRT COLLECTOR, COMPLETE",{"$f":"G1430*'Lookup Tables'!$R$14","v":109.3815},{"$f":"H1430*'Lookup Tables'!$R$14","v":0},{"$f":"I1430*'Lookup Tables'!$R$14","v":0},{"$f":"J1430*'Lookup Tables'!$R$14","v":41.103900000000003},{"$f":"K1430*'Lookup Tables'!$R$14","v":150.48540000000003}]
[1270,2,"Secondhand Material Applied",0,0.26700000000000002,"DIRT COLLECTOR, COMPLETE",{"$f":"G1431*'Lookup Tables'!$R$14","v":23.064400000000003},{"$f":"H1431*'Lookup Tables'!$R$14","v":0},{"$f":"I1431*'Lookup Tables'!$R$14","v":0},{"$f":"J1431*'Lookup Tables'!$R$14","v":41.103900000000003},{"$f":"K1431*'Lookup Tables'!$R$14","v":64.168300000000016}]
[1270,3,"Reconditioned or Recertified Material Applied",0,0.26700000000000002,"DIRT COLLECTOR, COMPLETE",{"$f":"G1432*'Lookup Tables'!$R$14","v":34.247800000000005},{"$f":"H1432*'Lookup Tables'!$R$14","v":0},{"$f":"I1432*'Lookup Tables'!$R$14","v":0},{"$f":"J1432*'Lookup Tables'!$R$14","v":41.103900000000003},{"$f":"K1432*'Lookup Tables'!$R$14","v":75.351699999999994}]
[1272,1,"New Material Applied",0,0.26600000000000001,"COMBINATION DIRT COLL & CUT-OUT COCK, COMPLETE",{"$f":"G1433*'Lookup Tables'!$R$14","v":52.712400000000002},{"$f":"H1433*'Lookup Tables'!$R$14","v":0.35970000000000002},{"$f":"I1433*'Lookup Tables'!$R$14","v":0},{"$f":"J1433*'Lookup Tables'!$R$14","v":40.951300000000003},{"$f":"K1433*'Lookup Tables'!$R$14","v":93.66370000000002}]
[1272,2,"Secondhand Material Applied",0,0.26600000000000001,"COMBINATION DIRT COLL & CUT-OUT COCK, COMPLETE",{"$f":"G1434*'Lookup Tables'!$R$14","v":32.950700000000005},{"$f":"H1434*'Lookup Tables'!$R$14","v":0},{"$f":"I1434*'Lookup Tables'!$R$14","v":0},{"$f":"J1434*'Lookup Tables'!$R$14","v":40.951300000000003},{"$f":"K1434*'Lookup Tables'!$R$14","v":73.902000000000001}]
[1272,3,"Reconditioned or Recertified Material Applied",0,0.26600000000000001,"COMBINATION DIRT COLL & CUT-OUT COCK, COMPLETE",{"$f":"G1435*'Lookup Tables'!$R$14","v":45.910800000000002},{"$f":"H1435*'Lookup Tables'!$R$14","v":0},{"$f":"I1435*'Lookup Tables'!$R$14","v":0},{"$f":"J1435*'Lookup Tables'!$R$14","v":40.951300000000003},{"$f":"K1435*'Lookup Tables'!$R$14","v":86.862099999999998}]
[1276,1,"New Material Applied",0,6.7000000000000004E-2,"DIRT COLLECTOR CHAMBER, COMPLETE, SEPARATELY",{"$f":"G1436*'Lookup Tables'!$R$14","v":17.897800000000004},{"$f":"H1436*'Lookup Tables'!$R$14","v":0.35970000000000002},{"$f":"I1436*'Lookup Tables'!$R$14","v":0},{"$f":"J1436*'Lookup Tables'!$R$14","v":10.311400000000003},{"$f":"K1436*'Lookup Tables'!$R$14","v":28.209200000000006}]
[1276,2,"Secondhand Material Applied",0,6.7000000000000004E-2,"DIRT COLLECTOR CHAMBER, COMPLETE, SEPARATELY",{"$f":"G1437*'Lookup Tables'!$R$14","v":8.9598000000000013},{"$f":"H1437*'Lookup Tables'!$R$14","v":0},{"$f":"I1437*'Lookup Tables'!$R$14","v":0},{"$f":"J1437*'Lookup Tables'!$R$14","v":10.311400000000003},{"$f":"K1437*'Lookup Tables'!$R$14","v":19.2712}]
[1277,1,"New Material Applied",0,0.58599999999999997,"ABDX EMERGENCY PORTION",{"$f":"G1438*'Lookup Tables'!$R$14","v":823.40780000000007},{"$f":"H1438*'Lookup Tables'!$R$14","v":4.7960000000000012},{"$f":"I1438*'Lookup Tables'!$R$14","v":0},{"$f":"J1438*'Lookup Tables'!$R$14","v":90.219300000000004},{"$f":"K1438*'Lookup Tables'!$R$14","v":913.62710000000004}]
[1277,3,"Reconditioned or Recertified Material Applied",0,0.58599999999999997,"ABDX EMERGENCY PORTION",{"$f":"G1439*'Lookup Tables'!$R$14","v":123.95480000000001},{"$f":"H1439*'Lookup Tables'!$R$14","v":0},{"$f":"I1439*'Lookup Tables'!$R$14","v":0},{"$f":"J1439*'Lookup Tables'!$R$14","v":90.219300000000004},{"$f":"K1439*'Lookup Tables'!$R$14","v":214.17410000000004}]
[1279,3,"Reconditioned or Recertified Material Applied",0,0.58599999999999997,"ABDXR EMERGENCY PORTION",{"$f":"G1440*'Lookup Tables'!$R$14","v":123.95480000000001},{"$f":"H1440*'Lookup Tables'!$R$14","v":0},{"$f":"I1440*'Lookup Tables'!$R$14","v":0},{"$f":"J1440*'Lookup Tables'!$R$14","v":90.219300000000004},{"$f":"K1440*'Lookup Tables'!$R$14","v":214.17410000000004}]
[1279,"U","Upgraded",0,0.58599999999999997,"ABDXR EMERGENCY PORTION",{"$f":"G1441*'Lookup Tables'!$R$14","v":515.92970000000003},{"$f":"H1441*'Lookup Tables'!$R$14","v":0},{"$f":"I1441*'Lookup Tables'!$R$14","v":0},{"$f":"J1441*'Lookup Tables'!$R$14","v":90.219300000000004},{"$f":"K1441*'Lookup Tables'!$R$14","v":606.14900000000011}]
[1281,1,"New Material Applied",0,0.58599999999999997,"DB-20 EMERGENCY PORTION",{"$f":"G1442*'Lookup Tables'!$R$14","v":753.64779999999996},{"$f":"H1442*'Lookup Tables'!$R$14","v":4.7960000000000012},{"$f":"I1442*'Lookup Tables'!$R$14","v":0},{"$f":"J1442*'Lookup Tables'!$R$14","v":90.219300000000004},{"$f":"K1442*'Lookup Tables'!$R$14","v":843.86710000000005}]
[1281,3,"Reconditioned or Recertified Material Applied",0,0.58599999999999997,"DB-20 EMERGENCY PORTION",{"$f":"G1443*'Lookup Tables'!$R$14","v":143.38950000000003},{"$f":"H1443*'Lookup Tables'!$R$14","v":0},{"$f":"I1443*'Lookup Tables'!$R$14","v":0},{"$f":"J1443*'Lookup Tables'!$R$14","v":90.219300000000004},{"$f":"K1443*'Lookup Tables'!$R$14","v":233.6088}]
[1283,1,"New Material Applied",0,0.58599999999999997,"ABDX-L EMERGENCY PORTION",{"$f":"G1444*'Lookup Tables'!$R$14","v":985.79600000000005},{"$f":"H1444*'Lookup Tables'!$R$14","v":4.7960000000000012},{"$f":"I1444*'Lookup Tables'!$R$14","v":0},{"$f":"J1444*'Lookup Tables'!$R$14","v":90.219300000000004},{"$f":"K1444*'Lookup Tables'!$R$14","v":1076.0153}]
[1283,3,"Reconditioned or Recertified Material Applied",0,0.58599999999999997,"ABDX-L EMERGENCY PORTION",{"$f":"G1445*'Lookup Tables'!$R$14","v":125.32820000000001},{"$f":"H1445*'Lookup Tables'!$R$14","v":0},{"$f":"I1445*'Lookup Tables'!$R$14","v":0},{"$f":"J1445*'Lookup Tables'!$R$14","v":90.219300000000004},{"$f":"K1445*'Lookup Tables'!$R$14","v":215.54750000000001}]
[1285,3,"Reconditioned or Recertified Material Applied",0,0.58599999999999997,"ABDXR-L EMERGENCY PORTION",{"$f":"G1446*'Lookup Tables'!$R$14","v":125.32820000000001},{"$f":"H1446*'Lookup Tables'!$R$14","v":0},{"$f":"I1446*'Lookup Tables'!$R$14","v":0},{"$f":"J1446*'Lookup Tables'!$R$14","v":90.219300000000004},{"$f":"K1446*'Lookup Tables'!$R$14","v":215.54750000000001}]
[1285,"U","Upgraded",0,0.58599999999999997,"ABDXR-L EMERGENCY PORTION",{"$f":"G1447*'Lookup Tables'!$R$14","v":446.24599999999998},{"$f":"H1447*'Lookup Tables'!$R$14","v":0},{"$f":"I1447*'Lookup Tables'!$R$14","v":0},{"$f":"J1447*'Lookup Tables'!$R$14","v":90.219300000000004},{"$f":"K1447*'Lookup Tables'!$R$14","v":536.46529999999996}]
[1287,1,"New Material Applied",0,0.58599999999999997,"DB-20-L EMERGENCY PORTION",{"$f":"G1448*'Lookup Tables'!$R$14","v":829.16300000000012},{"$f":"H1448*'Lookup Tables'!$R$14","v":4.7960000000000012},{"$f":"I1448*'Lookup Tables'!$R$14","v":0},{"$f":"J1448*'Lookup Tables'!$R$14","v":90.219300000000004},{"$f":"K1448*'Lookup Tables'!$R$14","v":919.3823000000001}]
[1287,3,"Reconditioned or Recertified Material Applied",0,0.58599999999999997,"DB-20-L EMERGENCY PORTION",{"$f":"G1449*'Lookup Tables'!$R$14","v":142.38670000000002},{"$f":"H1449*'Lookup Tables'!$R$14","v":0},{"$f":"I1449*'Lookup Tables'!$R$14","v":0},{"$f":"J1449*'Lookup Tables'!$R$14","v":90.219300000000004},{"$f":"K1449*'Lookup Tables'!$R$14","v":232.60599999999999}]
[1289,1,"New Material Applied",0,0.59099999999999997,"ABDX SERVICE PORTION",{"$f":"G1450*'Lookup Tables'!$R$14","v":909.74670000000003},{"$f":"H1450*'Lookup Tables'!$R$14","v":4.7960000000000012},{"$f":"I1450*'Lookup Tables'!$R$14","v":0},{"$f":"J1450*'Lookup Tables'!$R$14","v":90.982300000000009},{"$f":"K1450*'Lookup Tables'!$R$14","v":1000.729}]
[1289,3,"Reconditioned or Recertified Material Applied",0,0.59099999999999997,"ABDX SERVICE PORTION",{"$f":"G1451*'Lookup Tables'!$R$14","v":147.53149999999999},{"$f":"H1451*'Lookup Tables'!$R$14","v":0},{"$f":"I1451*'Lookup Tables'!$R$14","v":0},{"$f":"J1451*'Lookup Tables'!$R$14","v":90.982300000000009},{"$f":"K1451*'Lookup Tables'!$R$14","v":238.5138}]
[1291,3,"Reconditioned or Recertified Material Applied",0,0.59099999999999997,"ABDXR SERVICE PORTION",{"$f":"G1452*'Lookup Tables'!$R$14","v":147.53149999999999},{"$f":"H1452*'Lookup Tables'!$R$14","v":0},{"$f":"I1452*'Lookup Tables'!$R$14","v":0},{"$f":"J1452*'Lookup Tables'!$R$14","v":90.982300000000009},{"$f":"K1452*'Lookup Tables'!$R$14","v":238.5138}]
[1291,"U","Upgraded",0,0.59099999999999997,"ABDXR SERVICE PORTION",{"$f":"G1453*'Lookup Tables'!$R$14","v":512.8995000000001},{"$f":"H1453*'Lookup Tables'!$R$14","v":0},{"$f":"I1453*'Lookup Tables'!$R$14","v":0},{"$f":"J1453*'Lookup Tables'!$R$14","v":90.982300000000009},{"$f":"K1453*'Lookup Tables'!$R$14","v":603.8818}]
[1293,1,"New Material Applied",0,0.59099999999999997,"DB-10 SERVICE PORTION",{"$f":"G1454*'Lookup Tables'!$R$14","v":797.77100000000007},{"$f":"H1454*'Lookup Tables'!$R$14","v":4.7960000000000012},{"$f":"I1454*'Lookup Tables'!$R$14","v":0},{"$f":"J1454*'Lookup Tables'!$R$14","v":90.982300000000009},{"$f":"K1454*'Lookup Tables'!$R$14","v":888.75330000000008}]
[1293,3,"Reconditioned or Recertified Material Applied",0,0.59099999999999997,"DB-10 SERVICE PORTION",{"$f":"G1455*'Lookup Tables'!$R$14","v":185.10380000000001},{"$f":"H1455*'Lookup Tables'!$R$14","v":0},{"$f":"I1455*'Lookup Tables'!$R$14","v":0},{"$f":"J1455*'Lookup Tables'!$R$14","v":90.982300000000009},{"$f":"K1455*'Lookup Tables'!$R$14","v":276.08609999999999}]
[1295,1,"New Material Applied",0,0.59099999999999997,"DB-10C SERVICE PORTION",{"$f":"G1456*'Lookup Tables'!$R$14","v":870.02710000000013},{"$f":"H1456*'Lookup Tables'!$R$14","v":4.7960000000000012},{"$f":"I1456*'Lookup Tables'!$R$14","v":0},{"$f":"J1456*'Lookup Tables'!$R$14","v":90.982300000000009},{"$f":"K1456*'Lookup Tables'!$R$14","v":961.00940000000014}]
[1295,3,"Reconditioned or Recertified Material Applied",0,0.59099999999999997,"DB-10C SERVICE PORTION",{"$f":"G1457*'Lookup Tables'!$R$14","v":219.38430000000002},{"$f":"H1457*'Lookup Tables'!$R$14","v":0},{"$f":"I1457*'Lookup Tables'!$R$14","v":0},{"$f":"J1457*'Lookup Tables'!$R$14","v":90.982300000000009},{"$f":"K1457*'Lookup Tables'!$R$14","v":310.36660000000001}]
[1298,3,"Reconditioned or Recertified Material Applied",0,0.58599999999999997,"ABD EMERGENCY PORTION",{"$f":"G1458*'Lookup Tables'!$R$14","v":129.90620000000001},{"$f":"H1458*'Lookup Tables'!$R$14","v":0},{"$f":"I1458*'Lookup Tables'!$R$14","v":0},{"$f":"J1458*'Lookup Tables'!$R$14","v":90.219300000000004},{"$f":"K1458*'Lookup Tables'!$R$14","v":220.12550000000002}]
[1301,3,"Reconditioned or Recertified Material Applied",0,0.58599999999999997,"ABDW EMERGENCY PORTION",{"$f":"G1459*'Lookup Tables'!$R$14","v":149.68970000000002},{"$f":"H1459*'Lookup Tables'!$R$14","v":0},{"$f":"I1459*'Lookup Tables'!$R$14","v":0},{"$f":"J1459*'Lookup Tables'!$R$14","v":90.219300000000004},{"$f":"K1459*'Lookup Tables'!$R$14","v":239.90900000000005}]
[1303,1,"New Material Applied",0,0.23200000000000001,"EMERGENCY PORTION BODY GASKET",{"$f":"G1460*'Lookup Tables'!$R$14","v":3.7714000000000003},{"$f":"H1460*'Lookup Tables'!$R$14","v":0},{"$f":"I1460*'Lookup Tables'!$R$14","v":0},{"$f":"J1460*'Lookup Tables'!$R$14","v":35.719300000000004},{"$f":"K1460*'Lookup Tables'!$R$14","v":39.490700000000004}]
[1311,3,"Reconditioned or Recertified Material Applied",0,0.59099999999999997,"ABD SERVICE PORTION",{"$f":"G1461*'Lookup Tables'!$R$14","v":151.71710000000002},{"$f":"H1461*'Lookup Tables'!$R$14","v":0},{"$f":"I1461*'Lookup Tables'!$R$14","v":0},{"$f":"J1461*'Lookup Tables'!$R$14","v":90.982300000000009},{"$f":"K1461*'Lookup Tables'!$R$14","v":242.69940000000003}]
[1313,1,"New Material Applied",0,0.26600000000000001,"SERVICE PORTION BODY GASKET",{"$f":"G1462*'Lookup Tables'!$R$14","v":4.2946},{"$f":"H1462*'Lookup Tables'!$R$14","v":0},{"$f":"I1462*'Lookup Tables'!$R$14","v":0},{"$f":"J1462*'Lookup Tables'!$R$14","v":40.951300000000003},{"$f":"K1462*'Lookup Tables'!$R$14","v":45.245899999999999}]
[1316,1,"New Material Applied",0,1.5,"AB PIPE BRACKET PORTION, DOUBLE-SIDED",{"$f":"G1463*'Lookup Tables'!$R$14","v":396.61830000000003},{"$f":"H1463*'Lookup Tables'!$R$14","v":8.1532000000000018},{"$f":"I1463*'Lookup Tables'!$R$14","v":0},{"$f":"J1463*'Lookup Tables'!$R$14","v":230.92740000000003},{"$f":"K1463*'Lookup Tables'!$R$14","v":627.54570000000001}]
[1316,2,"Secondhand Material Applied",0,1.5,"AB PIPE BRACKET PORTION, DOUBLE-SIDED",{"$f":"G1464*'Lookup Tables'!$R$14","v":203.65560000000002},{"$f":"H1464*'Lookup Tables'!$R$14","v":8.1532000000000018},{"$f":"I1464*'Lookup Tables'!$R$14","v":0},{"$f":"J1464*'Lookup Tables'!$R$14","v":230.92740000000003},{"$f":"K1464*'Lookup Tables'!$R$14","v":434.58300000000008}]
[1316,9,"Remove and replace same part",0,1.4330000000000001,"AB PIPE BRACKET PORTION, DOUBLE-SIDED",{"$f":"G1465*'Lookup Tables'!$R$14","v":10.682000000000002},{"$f":"H1465*'Lookup Tables'!$R$14","v":0},{"$f":"I1465*'Lookup Tables'!$R$14","v":0},{"$f":"J1465*'Lookup Tables'!$R$14","v":220.61600000000001},{"$f":"K1465*'Lookup Tables'!$R$14","v":231.29800000000003}]
[1318,1,"New Material Applied",0,1.5,"AB PIPE BRACKET PORTION, SINGLE SIDED",{"$f":"G1466*'Lookup Tables'!$R$14","v":601.68000000000006},{"$f":"H1466*'Lookup Tables'!$R$14","v":8.1532000000000018},{"$f":"I1466*'Lookup Tables'!$R$14","v":0},{"$f":"J1466*'Lookup Tables'!$R$14","v":230.92740000000003},{"$f":"K1466*'Lookup Tables'!$R$14","v":832.6074000000001}]
[1318,2,"Secondhand Material Applied",0,1.5,"AB PIPE BRACKET PORTION, SINGLE SIDED",{"$f":"G1467*'Lookup Tables'!$R$14","v":306.18099999999998},{"$f":"H1467*'Lookup Tables'!$R$14","v":8.1532000000000018},{"$f":"I1467*'Lookup Tables'!$R$14","v":0},{"$f":"J1467*'Lookup Tables'!$R$14","v":230.92740000000003},{"$f":"K1467*'Lookup Tables'!$R$14","v":537.10840000000007}]
[1318,9,"Remove and replace same part",0,1.4330000000000001,"AB PIPE BRACKET PORTION, SINGLE SIDED",{"$f":"G1468*'Lookup Tables'!$R$14","v":10.682000000000002},{"$f":"H1468*'Lookup Tables'!$R$14","v":0},{"$f":"I1468*'Lookup Tables'!$R$14","v":0},{"$f":"J1468*'Lookup Tables'!$R$14","v":220.61600000000001},{"$f":"K1468*'Lookup Tables'!$R$14","v":231.29800000000003}]
[1320,1,"New Material Applied",0,1.1399999999999999,"AB PIPE BRACKET REPAIRS - BROKEN CAP SCREW",{"$f":"G1469*'Lookup Tables'!$R$14","v":3.7278000000000002},{"$f":"H1469*'Lookup Tables'!$R$14","v":0},{"$f":"I1469*'Lookup Tables'!$R$14","v":0},{"$f":"J1469*'Lookup Tables'!$R$14","v":175.5009},{"$f":"K1469*'Lookup Tables'!$R$14","v":179.2287}]
[1320,2,"Secondhand Material Applied",0,1.1399999999999999,"AB PIPE BRACKET REPAIRS - BROKEN CAP SCREW",{"$f":"G1470*'Lookup Tables'!$R$14","v":3.4553000000000003},{"$f":"H1470*'Lookup Tables'!$R$14","v":0},{"$f":"I1470*'Lookup Tables'!$R$14","v":0},{"$f":"J1470*'Lookup Tables'!$R$14","v":175.5009},{"$f":"K1470*'Lookup Tables'!$R$14","v":178.9562}]
[1321,3,"Reconditioned or Recertified Material Applied",0,0.59099999999999997,"ABDT SERVICE PORTION",{"$f":"G1471*'Lookup Tables'!$R$14","v":156.17520000000002},{"$f":"H1471*'Lookup Tables'!$R$14","v":0},{"$f":"I1471*'Lookup Tables'!$R$14","v":0},{"$f":"J1471*'Lookup Tables'!$R$14","v":90.982300000000009},{"$f":"K1471*'Lookup Tables'!$R$14","v":247.15750000000003}]
[1323,3,"Reconditioned or Recertified Material Applied",0,0.58599999999999997,"ABDS EMERGENCY PORTION",{"$f":"G1472*'Lookup Tables'!$R$14","v":158.71490000000003},{"$f":"H1472*'Lookup Tables'!$R$14","v":0},{"$f":"I1472*'Lookup Tables'!$R$14","v":0},{"$f":"J1472*'Lookup Tables'!$R$14","v":90.219300000000004},{"$f":"K1472*'Lookup Tables'!$R$14","v":248.9342}]
[1325,3,"Reconditioned or Recertified Material Applied",0,0.58599999999999997,"ABDWS OR ABDW-2 EMERG PORTION",{"$f":"G1473*'Lookup Tables'!$R$14","v":155.00890000000001},{"$f":"H1473*'Lookup Tables'!$R$14","v":0},{"$f":"I1473*'Lookup Tables'!$R$14","v":0},{"$f":"J1473*'Lookup Tables'!$R$14","v":90.219300000000004},{"$f":"K1473*'Lookup Tables'!$R$14","v":245.22820000000004}]
[1328,1,"New Material Applied",0,0.63400000000000001,"ASCTD 4-PRESSURE ACCESS PLATE FOR DB-60",{"$f":"G1474*'Lookup Tables'!$R$14","v":288.87180000000001},{"$f":"H1474*'Lookup Tables'!$R$14","v":121.78570000000002},{"$f":"I1474*'Lookup Tables'!$R$14","v":0},{"$f":"J1474*'Lookup Tables'!$R$14","v":97.609499999999997},{"$f":"K1474*'Lookup Tables'!$R$14","v":386.48130000000003}]
[1328,3,"Reconditioned or Recertified Material Applied",0,0.63400000000000001,"ASCTD 4-PRESSURE ACCESS PLATE FOR DB-60",{"$f":"G1475*'Lookup Tables'!$R$14","v":216.65930000000003},{"$f":"H1475*'Lookup Tables'!$R$14","v":121.78570000000002},{"$f":"I1475*'Lookup Tables'!$R$14","v":0},{"$f":"J1475*'Lookup Tables'!$R$14","v":97.609499999999997},{"$f":"K1475*'Lookup Tables'!$R$14","v":314.2688}]
[1328,9,"Remove and replace same part",0,8.5999999999999993E-2,"ASCTD 4-PRESSURE ACCESS PLATE FOR DB-60",{"$f":"G1476*'Lookup Tables'!$R$14","v":0},{"$f":"H1476*'Lookup Tables'!$R$14","v":0},{"$f":"I1476*'Lookup Tables'!$R$14","v":0},{"$f":"J1476*'Lookup Tables'!$R$14","v":13.243500000000001},{"$f":"K1476*'Lookup Tables'!$R$14","v":13.243500000000001}]
[1330,1,"New Material Applied",0,0.63400000000000001,"ASCTD 4-PRESSURE ACCESS PLATE",{"$f":"G1477*'Lookup Tables'!$R$14","v":242.66670000000002},{"$f":"H1477*'Lookup Tables'!$R$14","v":121.78570000000002},{"$f":"I1477*'Lookup Tables'!$R$14","v":0},{"$f":"J1477*'Lookup Tables'!$R$14","v":97.609499999999997},{"$f":"K1477*'Lookup Tables'!$R$14","v":340.27620000000002}]
[1330,3,"Reconditioned or Recertified Material Applied",0,0.63400000000000001,"ASCTD 4-PRESSURE ACCESS PLATE",{"$f":"G1478*'Lookup Tables'!$R$14","v":181.99730000000002},{"$f":"H1478*'Lookup Tables'!$R$14","v":121.78570000000002},{"$f":"I1478*'Lookup Tables'!$R$14","v":0},{"$f":"J1478*'Lookup Tables'!$R$14","v":97.609499999999997},{"$f":"K1478*'Lookup Tables'!$R$14","v":279.60680000000002}]
[1330,9,"Remove and replace same part",0,8.5999999999999993E-2,"ASCTD 4-PRESSURE ACCESS PLATE",{"$f":"G1479*'Lookup Tables'!$R$14","v":0},{"$f":"H1479*'Lookup Tables'!$R$14","v":0},{"$f":"I1479*'Lookup Tables'!$R$14","v":0},{"$f":"J1479*'Lookup Tables'!$R$14","v":13.243500000000001},{"$f":"K1479*'Lookup Tables'!$R$14","v":13.243500000000001}]
[1332,1,"New Material Applied",0,0.13900000000000001,"ASCTD 4-PRESSURE RECEIVER ASSEMBLY W/O BCRD",{"$f":"G1480*'Lookup Tables'!$R$14","v":121.78570000000002},{"$f":"H1480*'Lookup Tables'!$R$14","v":0.59950000000000014},{"$f":"I1480*'Lookup Tables'!$R$14","v":0},{"$f":"J1480*'Lookup Tables'!$R$14","v":21.396699999999999},{"$f":"K1480*'Lookup Tables'!$R$14","v":143.18240000000003}]
[1332,3,"Reconditioned or Recertified Material Applied",0,0.13900000000000001,"ASCTD 4-PRESSURE RECEIVER ASSEMBLY W/O BCRD",{"$f":"G1481*'Lookup Tables'!$R$14","v":91.341999999999999},{"$f":"H1481*'Lookup Tables'!$R$14","v":0.59950000000000014},{"$f":"I1481*'Lookup Tables'!$R$14","v":0},{"$f":"J1481*'Lookup Tables'!$R$14","v":21.396699999999999},{"$f":"K1481*'Lookup Tables'!$R$14","v":112.73869999999999}]
[1332,9,"Remove and replace same part",0,5.5E-2,"ASCTD 4-PRESSURE RECEIVER ASSEMBLY W/O BCRD",{"$f":"G1482*'Lookup Tables'!$R$14","v":0},{"$f":"H1482*'Lookup Tables'!$R$14","v":0},{"$f":"I1482*'Lookup Tables'!$R$14","v":0},{"$f":"J1482*'Lookup Tables'!$R$14","v":8.4693000000000005},{"$f":"K1482*'Lookup Tables'!$R$14","v":8.4693000000000005}]
[1334,1,{"$f":"VLOOKUP(B132,$B$2686:$C$2701,2,FALSE)","v":"New Material Applied"},0,0.13900000000000001,"ASCTD 4-PRESSURE RECEIVER ASSEMBLY WITH BCRD",{"$f":"G1483*'Lookup Tables'!$R$14","v":148.09830000000002},{"$f":"H1483*'Lookup Tables'!$R$14","v":0.59950000000000014},{"$f":"I1483*'Lookup Tables'!$R$14","v":0},{"$f":"J1483*'Lookup Tables'!$R$14","v":21.396699999999999},{"$f":"K1483*'Lookup Tables'!$R$14","v":169.495}]
[1334,3,"Reconditioned or Recertified Material Applied",0,0.13900000000000001,"ASCTD 4-PRESSURE RECEIVER ASSEMBLY WITH BCRD",{"$f":"G1484*'Lookup Tables'!$R$14","v":111.07100000000001},{"$f":"H1484*'Lookup Tables'!$R$14","v":0.59950000000000014},{"$f":"I1484*'Lookup Tables'!$R$14","v":0},{"$f":"J1484*'Lookup Tables'!$R$14","v":21.396699999999999},{"$f":"K1484*'Lookup Tables'!$R$14","v":132.46770000000001}]
[1334,9,"Remove and replace same part",0,5.5E-2,"ASCTD 4-PRESSURE RECEIVER ASSEMBLY WITH BCRD",{"$f":"G1485*'Lookup Tables'!$R$14","v":0},{"$f":"H1485*'Lookup Tables'!$R$14","v":0},{"$f":"I1485*'Lookup Tables'!$R$14","v":0},{"$f":"J1485*'Lookup Tables'!$R$14","v":8.4693000000000005},{"$f":"K1485*'Lookup Tables'!$R$14","v":8.4693000000000005}]
[1340,1,"New Material Applied",0,9.6000000000000002E-2,"AB VALVE VENT PROTECTOR",{"$f":"G1486*'Lookup Tables'!$R$14","v":3.3027000000000002},{"$f":"H1486*'Lookup Tables'!$R$14","v":0},{"$f":"I1486*'Lookup Tables'!$R$14","v":0},{"$f":"J1486*'Lookup Tables'!$R$14","v":14.780400000000002},{"$f":"K1486*'Lookup Tables'!$R$14","v":18.083100000000002}]
[1340,2,"Secondhand Material Applied",0,9.6000000000000002E-2,"AB VALVE VENT PROTECTOR",{"$f":"G1487*'Lookup Tables'!$R$14","v":1.6568000000000001},{"$f":"H1487*'Lookup Tables'!$R$14","v":0},{"$f":"I1487*'Lookup Tables'!$R$14","v":0},{"$f":"J1487*'Lookup Tables'!$R$14","v":14.780400000000002},{"$f":"K1487*'Lookup Tables'!$R$14","v":16.437200000000001}]
[1356,1,"New Material Applied",0,0.05,"RELEASE VALVE HANDLE COMPLETE, ANY TYPE",{"$f":"G1488*'Lookup Tables'!$R$14","v":5.5045000000000002},{"$f":"H1488*'Lookup Tables'!$R$14","v":0},{"$f":"I1488*'Lookup Tables'!$R$14","v":0},{"$f":"J1488*'Lookup Tables'!$R$14","v":7.6954000000000002},{"$f":"K1488*'Lookup Tables'!$R$14","v":13.1999}]
[1356,2,"Secondhand Material Applied",0,0.05,"RELEASE VALVE HANDLE COMPLETE, ANY TYPE",{"$f":"G1489*'Lookup Tables'!$R$14","v":3.2918000000000003},{"$f":"H1489*'Lookup Tables'!$R$14","v":0},{"$f":"I1489*'Lookup Tables'!$R$14","v":0},{"$f":"J1489*'Lookup Tables'!$R$14","v":7.6954000000000002},{"$f":"K1489*'Lookup Tables'!$R$14","v":10.987200000000001}]
[1360,1,"New Material Applied",0,7.0000000000000007E-2,"RELEASE VALVE ROD COMPLETE, ANY TYPE",{"$f":"G1490*'Lookup Tables'!$R$14","v":11.183400000000001},{"$f":"H1490*'Lookup Tables'!$R$14","v":0.35970000000000002},{"$f":"I1490*'Lookup Tables'!$R$14","v":0},{"$f":"J1490*'Lookup Tables'!$R$14","v":10.780100000000001},{"$f":"K1490*'Lookup Tables'!$R$14","v":21.9635}]
[1360,2,"Secondhand Material Applied",0,7.0000000000000007E-2,"RELEASE VALVE ROD COMPLETE, ANY TYPE",{"$f":"G1491*'Lookup Tables'!$R$14","v":5.6789000000000005},{"$f":"H1491*'Lookup Tables'!$R$14","v":0.35970000000000002},{"$f":"I1491*'Lookup Tables'!$R$14","v":0},{"$f":"J1491*'Lookup Tables'!$R$14","v":10.780100000000001},{"$f":"K1491*'Lookup Tables'!$R$14","v":16.459000000000003}]
[1386,1,"New Material Applied",0,0.1,"B1 QUICK SERVICE VENT PROTECTOR",{"$f":"G1492*'Lookup Tables'!$R$14","v":8.6546000000000003},{"$f":"H1492*'Lookup Tables'!$R$14","v":0},{"$f":"I1492*'Lookup Tables'!$R$14","v":0},{"$f":"J1492*'Lookup Tables'!$R$14","v":15.3908},{"$f":"K1492*'Lookup Tables'!$R$14","v":24.045400000000001}]
[1386,2,"Secondhand Material Applied",0,0.1,"B1 QUICK SERVICE VENT PROTECTOR",{"$f":"G1493*'Lookup Tables'!$R$14","v":4.3273000000000001},{"$f":"H1493*'Lookup Tables'!$R$14","v":0},{"$f":"I1493*'Lookup Tables'!$R$14","v":0},{"$f":"J1493*'Lookup Tables'!$R$14","v":15.3908},{"$f":"K1493*'Lookup Tables'!$R$14","v":19.7181}]
[1388,1,"New Material Applied",0,0.26700000000000002,"QUICK SERVICE VALVE",{"$f":"G1494*'Lookup Tables'!$R$14","v":815.60340000000008},{"$f":"H1494*'Lookup Tables'!$R$14","v":0.35970000000000002},{"$f":"I1494*'Lookup Tables'!$R$14","v":0},{"$f":"J1494*'Lookup Tables'!$R$14","v":41.103900000000003},{"$f":"K1494*'Lookup Tables'!$R$14","v":856.70730000000015}]
[1388,3,"Reconditioned or Recertified Material Applied",0,0.26700000000000002,"QUICK SERVICE VALVE",{"$f":"G1495*'Lookup Tables'!$R$14","v":611.70800000000008},{"$f":"H1495*'Lookup Tables'!$R$14","v":0},{"$f":"I1495*'Lookup Tables'!$R$14","v":0},{"$f":"J1495*'Lookup Tables'!$R$14","v":41.103900000000003},{"$f":"K1495*'Lookup Tables'!$R$14","v":652.81190000000015}]
[1388,7,"Periodic or Service Attention \n(includes: vacant, single car testing of air brakes, cleaning of brke cyclinder, B-1 Quick Service Valves, Lubrication, Servicing mechanical refrigeration units, vacant, all wheels applied)",0,1.1000000000000001,"QUICK SERVICE VALVE",{"$f":"G1496*'Lookup Tables'!$R$14","v":17.810600000000001},{"$f":"H1496*'Lookup Tables'!$R$14","v":0},{"$f":"I1496*'Lookup Tables'!$R$14","v":0},{"$f":"J1496*'Lookup Tables'!$R$14","v":169.34240000000003},{"$f":"K1496*'Lookup Tables'!$R$14","v":187.15300000000002}]
[1392,1,"New Material Applied",0,0.73799999999999999,"REDUCTION RELAY PIPE BRACKET PORTION",{"$f":"G1497*'Lookup Tables'!$R$14","v":438.45250000000004},{"$f":"H1497*'Lookup Tables'!$R$14","v":2.6377999999999999},{"$f":"I1497*'Lookup Tables'!$R$14","v":0},{"$f":"J1497*'Lookup Tables'!$R$14","v":113.6216},{"$f":"K1497*'Lookup Tables'!$R$14","v":552.07410000000004}]
[1392,2,"Secondhand Material Applied",0,0.73799999999999999,"REDUCTION RELAY PIPE BRACKET PORTION",{"$f":"G1498*'Lookup Tables'!$R$14","v":220.41980000000001},{"$f":"H1498*'Lookup Tables'!$R$14","v":2.6377999999999999},{"$f":"I1498*'Lookup Tables'!$R$14","v":0},{"$f":"J1498*'Lookup Tables'!$R$14","v":113.6216},{"$f":"K1498*'Lookup Tables'!$R$14","v":334.04140000000001}]
[1392,9,"Remove and replace same part",0,0.73799999999999999,"REDUCTION RELAY PIPE BRACKET PORTION",{"$f":"G1499*'Lookup Tables'!$R$14","v":2.3871000000000002},{"$f":"H1499*'Lookup Tables'!$R$14","v":0},{"$f":"I1499*'Lookup Tables'!$R$14","v":0},{"$f":"J1499*'Lookup Tables'!$R$14","v":113.6216},{"$f":"K1499*'Lookup Tables'!$R$14","v":116.0087}]
[1400,1,"New Material Applied",0,0.26400000000000001,"NO. 8 VENT VALVE",{"$f":"G1500*'Lookup Tables'!$R$14","v":225.23760000000001},{"$f":"H1500*'Lookup Tables'!$R$14","v":0.35970000000000002},{"$f":"I1500*'Lookup Tables'!$R$14","v":0},{"$f":"J1500*'Lookup Tables'!$R$14","v":40.646100000000004},{"$f":"K1500*'Lookup Tables'!$R$14","v":265.88369999999998}]
[1400,3,"Reconditioned or Recertified Material Applied",0,0.26400000000000001,"NO. 8 VENT VALVE",{"$f":"G1501*'Lookup Tables'!$R$14","v":60.527700000000003},{"$f":"H1501*'Lookup Tables'!$R$14","v":0},{"$f":"I1501*'Lookup Tables'!$R$14","v":0},{"$f":"J1501*'Lookup Tables'!$R$14","v":40.646100000000004},{"$f":"K1501*'Lookup Tables'!$R$14","v":101.1738}]
[1401,1,"New Material Applied",0,0.107,"EMPTY LOAD SENSOR VALVE MNTING GASKET (GROUP 1)",{"$f":"G1502*'Lookup Tables'!$R$14","v":8.0987000000000009},{"$f":"H1502*'Lookup Tables'!$R$14","v":0},{"$f":"I1502*'Lookup Tables'!$R$14","v":0},{"$f":"J1502*'Lookup Tables'!$R$14","v":16.469899999999999},{"$f":"K1502*'Lookup Tables'!$R$14","v":24.5686}]
[1402,1,"New Material Applied",0,0.248,"KM2 OR VX VENT VALVE",{"$f":"G1503*'Lookup Tables'!$R$14","v":298.92160000000001},{"$f":"H1503*'Lookup Tables'!$R$14","v":0.35970000000000002},{"$f":"I1503*'Lookup Tables'!$R$14","v":0},{"$f":"J1503*'Lookup Tables'!$R$14","v":38.182700000000004},{"$f":"K1503*'Lookup Tables'!$R$14","v":337.10430000000002}]
[1402,3,"Reconditioned or Recertified Material Applied",0,0.248,"KM2 OR VX VENT VALVE",{"$f":"G1504*'Lookup Tables'!$R$14","v":117.99250000000001},{"$f":"H1504*'Lookup Tables'!$R$14","v":0},{"$f":"I1504*'Lookup Tables'!$R$14","v":0},{"$f":"J1504*'Lookup Tables'!$R$14","v":38.182700000000004},{"$f":"K1504*'Lookup Tables'!$R$14","v":156.17520000000002}]
[1404,1,"New Material Applied",0,0.14000000000000001,"VENT VALVE VENT PROTECTOR",{"$f":"G1505*'Lookup Tables'!$R$14","v":11.935499999999999},{"$f":"H1505*'Lookup Tables'!$R$14","v":0.35970000000000002},{"$f":"I1505*'Lookup Tables'!$R$14","v":0},{"$f":"J1505*'Lookup Tables'!$R$14","v":21.549300000000002},{"$f":"K1505*'Lookup Tables'!$R$14","v":33.4848}]
[1404,2,"Secondhand Material Applied",0,0.14000000000000001,"VENT VALVE VENT PROTECTOR",{"$f":"G1506*'Lookup Tables'!$R$14","v":5.9732000000000012},{"$f":"H1506*'Lookup Tables'!$R$14","v":0},{"$f":"I1506*'Lookup Tables'!$R$14","v":0},{"$f":"J1506*'Lookup Tables'!$R$14","v":21.549300000000002},{"$f":"K1506*'Lookup Tables'!$R$14","v":27.522500000000001}]
[1406,1,"New Material Applied",0,0.186,"EMPTY LOAD SENSOR VALVE (GROUP 1)",{"$f":"G1507*'Lookup Tables'!$R$14","v":705.06650000000013},{"$f":"H1507*'Lookup Tables'!$R$14","v":0.59950000000000014},{"$f":"I1507*'Lookup Tables'!$R$14","v":0},{"$f":"J1507*'Lookup Tables'!$R$14","v":28.634300000000003},{"$f":"K1507*'Lookup Tables'!$R$14","v":733.70080000000007}]
[1406,3,"Reconditioned or Recertified Material Applied",0,0.186,"EMPTY LOAD SENSOR VALVE (GROUP 1)",{"$f":"G1508*'Lookup Tables'!$R$14","v":530.83000000000004},{"$f":"H1508*'Lookup Tables'!$R$14","v":0},{"$f":"I1508*'Lookup Tables'!$R$14","v":0},{"$f":"J1508*'Lookup Tables'!$R$14","v":28.634300000000003},{"$f":"K1508*'Lookup Tables'!$R$14","v":559.46429999999998}]
[1406,9,"Remove and replace same part",0,0.107,"EMPTY LOAD SENSOR VALVE (GROUP 1)",{"$f":"G1509*'Lookup Tables'!$R$14","v":8.0987000000000009},{"$f":"H1509*'Lookup Tables'!$R$14","v":0},{"$f":"I1509*'Lookup Tables'!$R$14","v":0},{"$f":"J1509*'Lookup Tables'!$R$14","v":16.469899999999999},{"$f":"K1509*'Lookup Tables'!$R$14","v":24.5686}]
[1408,1,"New Material Applied",0,0.44800000000000001,"EMPTY LOAD PROPORTIONAL VALVE (GROUP 1)",{"$f":"G1510*'Lookup Tables'!$R$14","v":452.64429999999999},{"$f":"H1510*'Lookup Tables'!$R$14","v":0.59950000000000014},{"$f":"I1510*'Lookup Tables'!$R$14","v":0},{"$f":"J1510*'Lookup Tables'!$R$14","v":68.975200000000001},{"$f":"K1510*'Lookup Tables'!$R$14","v":521.61950000000002}]
[1408,3,"Reconditioned or Recertified Material Applied",0,0.44800000000000001,"EMPTY LOAD PROPORTIONAL VALVE (GROUP 1)",{"$f":"G1511*'Lookup Tables'!$R$14","v":343.24099999999999},{"$f":"H1511*'Lookup Tables'!$R$14","v":0},{"$f":"I1511*'Lookup Tables'!$R$14","v":0},{"$f":"J1511*'Lookup Tables'!$R$14","v":68.975200000000001},{"$f":"K1511*'Lookup Tables'!$R$14","v":412.21619999999996}]
[1408,9,"Remove and replace same part",0,0.36899999999999999,"EMPTY LOAD PROPORTIONAL VALVE (GROUP 1)",{"$f":"G1512*'Lookup Tables'!$R$14","v":15.042000000000002},{"$f":"H1512*'Lookup Tables'!$R$14","v":0},{"$f":"I1512*'Lookup Tables'!$R$14","v":0},{"$f":"J1512*'Lookup Tables'!$R$14","v":56.8108},{"$f":"K1512*'Lookup Tables'!$R$14","v":71.852800000000002}]
[1411,1,"New Material Applied",0,0.44,"EMPTY LOAD RESERVOIR (GROUPS 1 & 2)",{"$f":"G1513*'Lookup Tables'!$R$14","v":253.8501},{"$f":"H1513*'Lookup Tables'!$R$14","v":0.59950000000000014},{"$f":"I1513*'Lookup Tables'!$R$14","v":0},{"$f":"J1513*'Lookup Tables'!$R$14","v":67.743499999999997},{"$f":"K1513*'Lookup Tables'!$R$14","v":321.59359999999998}]
[1411,3,"Reconditioned or Recertified Material Applied",0,0.44,"EMPTY LOAD RESERVOIR (GROUPS 1 & 2)",{"$f":"G1514*'Lookup Tables'!$R$14","v":192.41770000000002},{"$f":"H1514*'Lookup Tables'!$R$14","v":0},{"$f":"I1514*'Lookup Tables'!$R$14","v":0},{"$f":"J1514*'Lookup Tables'!$R$14","v":67.743499999999997},{"$f":"K1514*'Lookup Tables'!$R$14","v":260.16120000000001}]
[1411,9,"Remove and replace same part",0,0.371,"EMPTY LOAD RESERVOIR (GROUPS 1 & 2)",{"$f":"G1515*'Lookup Tables'!$R$14","v":8.0987000000000009},{"$f":"H1515*'Lookup Tables'!$R$14","v":0},{"$f":"I1515*'Lookup Tables'!$R$14","v":0},{"$f":"J1515*'Lookup Tables'!$R$14","v":57.116},{"$f":"K1515*'Lookup Tables'!$R$14","v":65.214700000000008}]
[1413,1,"New Material Applied",0,0.186,"UNITIZED EMPTY LOAD VALVE, TRUCK SENSOR (GROUP 2)",{"$f":"G1516*'Lookup Tables'!$R$14","v":698.15590000000009},{"$f":"H1516*'Lookup Tables'!$R$14","v":0.59950000000000014},{"$f":"I1516*'Lookup Tables'!$R$14","v":0},{"$f":"J1516*'Lookup Tables'!$R$14","v":28.634300000000003},{"$f":"K1516*'Lookup Tables'!$R$14","v":726.79020000000003}]
[1413,3,"Reconditioned or Recertified Material Applied",0,0.186,"UNITIZED EMPTY LOAD VALVE, TRUCK SENSOR (GROUP 2)",{"$f":"G1517*'Lookup Tables'!$R$14","v":525.64160000000004},{"$f":"H1517*'Lookup Tables'!$R$14","v":0},{"$f":"I1517*'Lookup Tables'!$R$14","v":0},{"$f":"J1517*'Lookup Tables'!$R$14","v":28.634300000000003},{"$f":"K1517*'Lookup Tables'!$R$14","v":554.27589999999998}]
[1413,9,"Remove and replace same part",0,0.107,"UNITIZED EMPTY LOAD VALVE, TRUCK SENSOR (GROUP 2)",{"$f":"G1518*'Lookup Tables'!$R$14","v":8.0987000000000009},{"$f":"H1518*'Lookup Tables'!$R$14","v":0},{"$f":"I1518*'Lookup Tables'!$R$14","v":0},{"$f":"J1518*'Lookup Tables'!$R$14","v":16.469899999999999},{"$f":"K1518*'Lookup Tables'!$R$14","v":24.5686}]
[1414,1,"New Material Applied",0,0.51700000000000002,"EMPTY LOAD SENSOR VALVE PIPE BRACKET (GROUP 1)",{"$f":"G1519*'Lookup Tables'!$R$14","v":58.674700000000001},{"$f":"H1519*'Lookup Tables'!$R$14","v":0.59950000000000014},{"$f":"I1519*'Lookup Tables'!$R$14","v":0},{"$f":"J1519*'Lookup Tables'!$R$14","v":79.591800000000006},{"$f":"K1519*'Lookup Tables'!$R$14","v":138.26650000000001}]
[1414,3,"Reconditioned or Recertified Material Applied",0,0.51700000000000002,"EMPTY LOAD SENSOR VALVE PIPE BRACKET (GROUP 1)",{"$f":"G1520*'Lookup Tables'!$R$14","v":44.003300000000003},{"$f":"H1520*'Lookup Tables'!$R$14","v":0},{"$f":"I1520*'Lookup Tables'!$R$14","v":0},{"$f":"J1520*'Lookup Tables'!$R$14","v":79.591800000000006},{"$f":"K1520*'Lookup Tables'!$R$14","v":123.59509999999999}]
[1414,9,"Remove and replace same part",0,0.44900000000000001,"EMPTY LOAD SENSOR VALVE PIPE BRACKET (GROUP 1)",{"$f":"G1521*'Lookup Tables'!$R$14","v":0},{"$f":"H1521*'Lookup Tables'!$R$14","v":0},{"$f":"I1521*'Lookup Tables'!$R$14","v":0},{"$f":"J1521*'Lookup Tables'!$R$14","v":69.127800000000008},{"$f":"K1521*'Lookup Tables'!$R$14","v":69.127800000000008}]
[1415,1,"New Material Applied",0,0.35,"UNITIZED E/ L VALVE, SLOPE SHEET MNT (GROUP 3)",{"$f":"G1522*'Lookup Tables'!$R$14","v":735.31400000000008},{"$f":"H1522*'Lookup Tables'!$R$14","v":0.59950000000000014},{"$f":"I1522*'Lookup Tables'!$R$14","v":0},{"$f":"J1522*'Lookup Tables'!$R$14","v":53.878700000000002},{"$f":"K1522*'Lookup Tables'!$R$14","v":789.19270000000006}]
[1415,3,"Reconditioned or Recertified Material Applied",0,0.35,"UNITIZED E/ L VALVE, SLOPE SHEET MNT (GROUP 3)",{"$f":"G1523*'Lookup Tables'!$R$14","v":553.51290000000006},{"$f":"H1523*'Lookup Tables'!$R$14","v":0},{"$f":"I1523*'Lookup Tables'!$R$14","v":0},{"$f":"J1523*'Lookup Tables'!$R$14","v":53.878700000000002},{"$f":"K1523*'Lookup Tables'!$R$14","v":607.39160000000004}]
[1415,9,"Remove and replace same part",0,0.29799999999999999,"UNITIZED E/ L VALVE, SLOPE SHEET MNT (GROUP 3)",{"$f":"G1524*'Lookup Tables'!$R$14","v":8.0987000000000009},{"$f":"H1524*'Lookup Tables'!$R$14","v":0},{"$f":"I1524*'Lookup Tables'!$R$14","v":0},{"$f":"J1524*'Lookup Tables'!$R$14","v":45.878100000000011},{"$f":"K1524*'Lookup Tables'!$R$14","v":53.976800000000004}]
[1416,1,"New Material Applied",0,0.53,"E/L PROPORTIONAL VALVE PIPE BRACKET (GROUPS 1 & 2)",{"$f":"G1525*'Lookup Tables'!$R$14","v":70.403100000000009},{"$f":"H1525*'Lookup Tables'!$R$14","v":0.59950000000000014},{"$f":"I1525*'Lookup Tables'!$R$14","v":0},{"$f":"J1525*'Lookup Tables'!$R$14","v":81.597400000000007},{"$f":"K1525*'Lookup Tables'!$R$14","v":152.00049999999999}]
[1416,3,"Reconditioned or Recertified Material Applied",0,0.53,"E/L PROPORTIONAL VALVE PIPE BRACKET (GROUPS 1 & 2)",{"$f":"G1526*'Lookup Tables'!$R$14","v":52.799599999999998},{"$f":"H1526*'Lookup Tables'!$R$14","v":0},{"$f":"I1526*'Lookup Tables'!$R$14","v":0},{"$f":"J1526*'Lookup Tables'!$R$14","v":81.597400000000007},{"$f":"K1526*'Lookup Tables'!$R$14","v":134.39700000000002}]
[1416,9,"Remove and replace same part",0,0.46100000000000002,"E/L PROPORTIONAL VALVE PIPE BRACKET (GROUPS 1 & 2)",{"$f":"G1527*'Lookup Tables'!$R$14","v":0},{"$f":"H1527*'Lookup Tables'!$R$14","v":0},{"$f":"I1527*'Lookup Tables'!$R$14","v":0},{"$f":"J1527*'Lookup Tables'!$R$14","v":70.96990000000001},{"$f":"K1527*'Lookup Tables'!$R$14","v":70.96990000000001}]
[1417,1,"New Material Applied",0,0.107,"UNIT E/L VALVE, TRK SENSOR MNTING GASK (GROUP 2)",{"$f":"G1528*'Lookup Tables'!$R$14","v":3.6515000000000004},{"$f":"H1528*'Lookup Tables'!$R$14","v":0},{"$f":"I1528*'Lookup Tables'!$R$14","v":0},{"$f":"J1528*'Lookup Tables'!$R$14","v":16.469899999999999},{"$f":"K1528*'Lookup Tables'!$R$14","v":20.121400000000001}]
[1419,1,"New Material Applied",0,0.20200000000000001,"UNIT E/L VALVE, SLOPE SHEET MNTING GASK (GROUP 3)",{"$f":"G1529*'Lookup Tables'!$R$14","v":2.2563},{"$f":"H1529*'Lookup Tables'!$R$14","v":0},{"$f":"I1529*'Lookup Tables'!$R$14","v":0},{"$f":"J1529*'Lookup Tables'!$R$14","v":31.097700000000003},{"$f":"K1529*'Lookup Tables'!$R$14","v":33.354000000000006}]
[1420,1,"New Material Applied",0,0.253,"PROPORTIONING VALVE, SLOPE SHEET MOUNT (GROUP 3)",{"$f":"G1530*'Lookup Tables'!$R$14","v":578.32130000000006},{"$f":"H1530*'Lookup Tables'!$R$14","v":0},{"$f":"I1530*'Lookup Tables'!$R$14","v":0},{"$f":"J1530*'Lookup Tables'!$R$14","v":38.945700000000002},{"$f":"K1530*'Lookup Tables'!$R$14","v":617.26700000000017}]
[1420,3,"Reconditioned or Recertified Material Applied",0,0.253,"PROPORTIONING VALVE, SLOPE SHEET MOUNT (GROUP 3)",{"$f":"G1531*'Lookup Tables'!$R$14","v":214.69730000000001},{"$f":"H1531*'Lookup Tables'!$R$14","v":0},{"$f":"I1531*'Lookup Tables'!$R$14","v":0},{"$f":"J1531*'Lookup Tables'!$R$14","v":38.945700000000002},{"$f":"K1531*'Lookup Tables'!$R$14","v":253.643}]
[1420,9,"Remove and replace same part",0,0.20200000000000001,"PROPORTIONING VALVE, SLOPE SHEET MOUNT (GROUP 3)",{"$f":"G1532*'Lookup Tables'!$R$14","v":1.5914000000000001},{"$f":"H1532*'Lookup Tables'!$R$14","v":0},{"$f":"I1532*'Lookup Tables'!$R$14","v":0},{"$f":"J1532*'Lookup Tables'!$R$14","v":31.097700000000003},{"$f":"K1532*'Lookup Tables'!$R$14","v":32.689100000000003}]
[1424,1,"New Material Applied",0,0.64300000000000002,"AIR BRAKE CYL, COMPLETE 10 INCH DIAMETER OR LESS",{"$f":"G1533*'Lookup Tables'!$R$14","v":395.6046},{"$f":"H1533*'Lookup Tables'!$R$14","v":5.9950000000000001},{"$f":"I1533*'Lookup Tables'!$R$14","v":0},{"$f":"J1533*'Lookup Tables'!$R$14","v":98.993799999999993},{"$f":"K1533*'Lookup Tables'!$R$14","v":494.59840000000003}]
[1424,3,"Reconditioned or Recertified Material Applied",0,0.64300000000000002,"AIR BRAKE CYL, COMPLETE 10 INCH DIAMETER OR LESS",{"$f":"G1534*'Lookup Tables'!$R$14","v":161.04750000000001},{"$f":"H1534*'Lookup Tables'!$R$14","v":5.9950000000000001},{"$f":"I1534*'Lookup Tables'!$R$14","v":0},{"$f":"J1534*'Lookup Tables'!$R$14","v":98.993799999999993},{"$f":"K1534*'Lookup Tables'!$R$14","v":260.04130000000004}]
[1424,9,"Remove and replace same part",0,0.64300000000000002,"AIR BRAKE CYL, COMPLETE 10 INCH DIAMETER OR LESS",{"$f":"G1535*'Lookup Tables'!$R$14","v":4.7742000000000004},{"$f":"H1535*'Lookup Tables'!$R$14","v":0},{"$f":"I1535*'Lookup Tables'!$R$14","v":0},{"$f":"J1535*'Lookup Tables'!$R$14","v":98.993799999999993},{"$f":"K1535*'Lookup Tables'!$R$14","v":103.768}]
[1428,1,"New Material Applied",0,1.7330000000000001,"AIR BRAKE CYLINDER BODY, ANY SIZE",{"$f":"G1536*'Lookup Tables'!$R$14","v":256.85850000000005},{"$f":"H1536*'Lookup Tables'!$R$14","v":10.4313},{"$f":"I1536*'Lookup Tables'!$R$14","v":0},{"$f":"J1536*'Lookup Tables'!$R$14","v":266.79930000000002},{"$f":"K1536*'Lookup Tables'!$R$14","v":523.65780000000007}]
[1428,2,"Secondhand Material Applied",0,1.7330000000000001,"AIR BRAKE CYLINDER BODY, ANY SIZE",{"$f":"G1537*'Lookup Tables'!$R$14","v":131.00710000000001},{"$f":"H1537*'Lookup Tables'!$R$14","v":10.4313},{"$f":"I1537*'Lookup Tables'!$R$14","v":0},{"$f":"J1537*'Lookup Tables'!$R$14","v":266.79930000000002},{"$f":"K1537*'Lookup Tables'!$R$14","v":397.80640000000005}]
[1440,1,"New Material Applied",0,0,"AB CYLINDER NON-PRESSURE HEAD",{"$f":"G1538*'Lookup Tables'!$R$14","v":41.529000000000003},{"$f":"H1538*'Lookup Tables'!$R$14","v":1.5587},{"$f":"I1538*'Lookup Tables'!$R$14","v":0},{"$f":"J1538*'Lookup Tables'!$R$14","v":0},{"$f":"K1538*'Lookup Tables'!$R$14","v":41.529000000000003}]
[1440,2,"Secondhand Material Applied",0,0,"AB CYLINDER NON-PRESSURE HEAD",{"$f":"G1539*'Lookup Tables'!$R$14","v":20.764500000000002},{"$f":"H1539*'Lookup Tables'!$R$14","v":1.5587},{"$f":"I1539*'Lookup Tables'!$R$14","v":0},{"$f":"J1539*'Lookup Tables'!$R$14","v":0},{"$f":"K1539*'Lookup Tables'!$R$14","v":20.764500000000002}]
[1444,1,"New Material Applied",0,0,"AB CYLINDER PISTON AND HOLLOW ROD",{"$f":"G1540*'Lookup Tables'!$R$14","v":151.77160000000003},{"$f":"H1540*'Lookup Tables'!$R$14","v":2.5179},{"$f":"I1540*'Lookup Tables'!$R$14","v":0},{"$f":"J1540*'Lookup Tables'!$R$14","v":0},{"$f":"K1540*'Lookup Tables'!$R$14","v":151.77160000000003}]
[1444,2,"Secondhand Material Applied",0,0,"AB CYLINDER PISTON AND HOLLOW ROD",{"$f":"G1541*'Lookup Tables'!$R$14","v":78.523600000000016},{"$f":"H1541*'Lookup Tables'!$R$14","v":2.5179},{"$f":"I1541*'Lookup Tables'!$R$14","v":0},{"$f":"J1541*'Lookup Tables'!$R$14","v":0},{"$f":"K1541*'Lookup Tables'!$R$14","v":78.523600000000016}]
[1448,1,"New Material Applied",0,0,"AB CYLINDER RELEASE SPRING",{"$f":"G1542*'Lookup Tables'!$R$14","v":25.320700000000002},{"$f":"H1542*'Lookup Tables'!$R$14","v":0.83930000000000005},{"$f":"I1542*'Lookup Tables'!$R$14","v":0},{"$f":"J1542*'Lookup Tables'!$R$14","v":0},{"$f":"K1542*'Lookup Tables'!$R$14","v":25.320700000000002}]
[1448,2,"Secondhand Material Applied",0,0,"AB CYLINDER RELEASE SPRING",{"$f":"G1543*'Lookup Tables'!$R$14","v":12.665800000000001},{"$f":"H1543*'Lookup Tables'!$R$14","v":0.83930000000000005},{"$f":"I1543*'Lookup Tables'!$R$14","v":0},{"$f":"J1543*'Lookup Tables'!$R$14","v":0},{"$f":"K1543*'Lookup Tables'!$R$14","v":12.665800000000001}]
[1452,1,"New Material Applied",0,0.1,"AB CYLINDER PUSH ROD",{"$f":"G1544*'Lookup Tables'!$R$14","v":24.481400000000004},{"$f":"H1544*'Lookup Tables'!$R$14","v":2.8776000000000002},{"$f":"I1544*'Lookup Tables'!$R$14","v":0},{"$f":"J1544*'Lookup Tables'!$R$14","v":15.3908},{"$f":"K1544*'Lookup Tables'!$R$14","v":39.872199999999999}]
[1452,2,"Secondhand Material Applied",0,0.1,"AB CYLINDER PUSH ROD",{"$f":"G1545*'Lookup Tables'!$R$14","v":12.240700000000002},{"$f":"H1545*'Lookup Tables'!$R$14","v":2.8776000000000002},{"$f":"I1545*'Lookup Tables'!$R$14","v":0},{"$f":"J1545*'Lookup Tables'!$R$14","v":15.3908},{"$f":"K1545*'Lookup Tables'!$R$14","v":27.631500000000003}]
[1454,1,"New Material Applied",0,0,"AB CYLINDER. NON-PRESSURE HEAD SPRING GUIDE",{"$f":"G1546*'Lookup Tables'!$R$14","v":13.428800000000001},{"$f":"H1546*'Lookup Tables'!$R$14","v":0},{"$f":"I1546*'Lookup Tables'!$R$14","v":0},{"$f":"J1546*'Lookup Tables'!$R$14","v":0},{"$f":"K1546*'Lookup Tables'!$R$14","v":13.428800000000001}]
[1456,7,{"$f":"VLOOKUP(B196,$B$2686:$C$2701,2,FALSE)","v":"Periodic or Service Attention \n(includes: vacant, single car testing of air brakes, cleaning of brke cyclinder, B-1 Quick Service Valves, Lubrication, Servicing mechanical refrigeration units, vacant, all wheels applied)"},0,1.0680000000000001,"AB CYLINDER CLEANED, SEPARATELY",{"$f":"G1547*'Lookup Tables'!$R$14","v":19.892500000000002},{"$f":"H1547*'Lookup Tables'!$R$14","v":0},{"$f":"I1547*'Lookup Tables'!$R$14","v":0},{"$f":"J1547*'Lookup Tables'!$R$14","v":164.41560000000001},{"$f":"K1547*'Lookup Tables'!$R$14","v":184.30810000000002}]
[1460,1,"New Material Applied",0,0.32800000000000001,"PISTON TRAVEL INDICATOR",{"$f":"G1548*'Lookup Tables'!$R$14","v":21.8872},{"$f":"H1548*'Lookup Tables'!$R$14","v":0},{"$f":"I1548*'Lookup Tables'!$R$14","v":0},{"$f":"J1548*'Lookup Tables'!$R$14","v":50.499700000000004},{"$f":"K1548*'Lookup Tables'!$R$14","v":72.386899999999997}]
[1476,1,"New Material Applied",0,0.69799999999999995,"TRUCK BRAKE CYLINDER BODY",{"$f":"G1549*'Lookup Tables'!$R$14","v":210.04300000000001},{"$f":"H1549*'Lookup Tables'!$R$14","v":3.597},{"$f":"I1549*'Lookup Tables'!$R$14","v":0},{"$f":"J1549*'Lookup Tables'!$R$14","v":107.46310000000001},{"$f":"K1549*'Lookup Tables'!$R$14","v":317.5061}]
[1476,2,"Secondhand Material Applied",0,0.69799999999999995,"TRUCK BRAKE CYLINDER BODY",{"$f":"G1550*'Lookup Tables'!$R$14","v":105.49020000000002},{"$f":"H1550*'Lookup Tables'!$R$14","v":3.597},{"$f":"I1550*'Lookup Tables'!$R$14","v":0},{"$f":"J1550*'Lookup Tables'!$R$14","v":107.46310000000001},{"$f":"K1550*'Lookup Tables'!$R$14","v":212.95330000000001}]
[1476,3,"Reconditioned or Recertified Material Applied",0,0.69799999999999995,"TRUCK BRAKE CYLINDER BODY",{"$f":"G1551*'Lookup Tables'!$R$14","v":157.76660000000001},{"$f":"H1551*'Lookup Tables'!$R$14","v":3.597},{"$f":"I1551*'Lookup Tables'!$R$14","v":0},{"$f":"J1551*'Lookup Tables'!$R$14","v":107.46310000000001},{"$f":"K1551*'Lookup Tables'!$R$14","v":265.22970000000004}]
[1480,1,"New Material Applied",0,0.69799999999999995,"TRUCK BRAKE CYLINDER PISTON ASSEMBLY",{"$f":"G1552*'Lookup Tables'!$R$14","v":171.88210000000001},{"$f":"H1552*'Lookup Tables'!$R$14","v":2.3980000000000006},{"$f":"I1552*'Lookup Tables'!$R$14","v":0},{"$f":"J1552*'Lookup Tables'!$R$14","v":107.46310000000001},{"$f":"K1552*'Lookup Tables'!$R$14","v":279.34519999999998}]
[1480,3,"Reconditioned or Recertified Material Applied",0,0.69799999999999995,"TRUCK BRAKE CYLINDER PISTON ASSEMBLY",{"$f":"G1553*'Lookup Tables'!$R$14","v":131.89000000000001},{"$f":"H1553*'Lookup Tables'!$R$14","v":2.3980000000000006},{"$f":"I1553*'Lookup Tables'!$R$14","v":0},{"$f":"J1553*'Lookup Tables'!$R$14","v":107.46310000000001},{"$f":"K1553*'Lookup Tables'!$R$14","v":239.35310000000001}]
[1484,1,"New Material Applied",0,0.72799999999999998,"TRUCK BRAKE CYLINDER COMPLETE",{"$f":"G1554*'Lookup Tables'!$R$14","v":477.13660000000004},{"$f":"H1554*'Lookup Tables'!$R$14","v":5.9950000000000001},{"$f":"I1554*'Lookup Tables'!$R$14","v":0},{"$f":"J1554*'Lookup Tables'!$R$14","v":112.07380000000001},{"$f":"K1554*'Lookup Tables'!$R$14","v":589.21039999999994}]
[1484,3,"Reconditioned or Recertified Material Applied",0,0.72799999999999998,"TRUCK BRAKE CYLINDER COMPLETE",{"$f":"G1555*'Lookup Tables'!$R$14","v":358.17400000000004},{"$f":"H1555*'Lookup Tables'!$R$14","v":5.9950000000000001},{"$f":"I1555*'Lookup Tables'!$R$14","v":0},{"$f":"J1555*'Lookup Tables'!$R$14","v":112.07380000000001},{"$f":"K1555*'Lookup Tables'!$R$14","v":470.24780000000004}]
[1484,9,"Remove and replace same part",0,0.48099999999999998,"TRUCK BRAKE CYLINDER COMPLETE",{"$f":"G1556*'Lookup Tables'!$R$14","v":1.2644},{"$f":"H1556*'Lookup Tables'!$R$14","v":0},{"$f":"I1556*'Lookup Tables'!$R$14","v":0},{"$f":"J1556*'Lookup Tables'!$R$14","v":74.054600000000008},{"$f":"K1556*'Lookup Tables'!$R$14","v":75.319000000000003}]
[1488,7,"Periodic or Service Attention \n(includes: vacant, single car testing of air brakes, cleaning of brke cyclinder, B-1 Quick Service Valves, Lubrication, Servicing mechanical refrigeration units, vacant, all wheels applied)",0,0.57199999999999995,"TRK BRK CYL & PISTON ASSEMBLY CLEANED SEPARATELY",{"$f":"G1557*'Lookup Tables'!$R$14","v":64.168300000000002},{"$f":"H1557*'Lookup Tables'!$R$14","v":0},{"$f":"I1557*'Lookup Tables'!$R$14","v":0},{"$f":"J1557*'Lookup Tables'!$R$14","v":88.06110000000001},{"$f":"K1557*'Lookup Tables'!$R$14","v":152.2294}]
[1490,7,"Periodic or Service Attention \n(includes: vacant, single car testing of air brakes, cleaning of brke cyclinder, B-1 Quick Service Valves, Lubrication, Servicing mechanical refrigeration units, vacant, all wheels applied)",0,0.45,"MATE TRUCK BRAKE CYLINDER & PISTON ASSEMBLY CLEANE",{"$f":"G1558*'Lookup Tables'!$R$14","v":64.168300000000002},{"$f":"H1558*'Lookup Tables'!$R$14","v":0},{"$f":"I1558*'Lookup Tables'!$R$14","v":0},{"$f":"J1558*'Lookup Tables'!$R$14","v":69.280400000000014},{"$f":"K1558*'Lookup Tables'!$R$14","v":133.44870000000003}]
[1492,1,"New Material Applied",0,0.221,"TRUCK BRAKE CYLINDER HOSE, COMPLETE",{"$f":"G1559*'Lookup Tables'!$R$14","v":23.990900000000003},{"$f":"H1559*'Lookup Tables'!$R$14","v":0},{"$f":"I1559*'Lookup Tables'!$R$14","v":0},{"$f":"J1559*'Lookup Tables'!$R$14","v":34.018900000000002},{"$f":"K1559*'Lookup Tables'!$R$14","v":58.009800000000006}]
[1496,1,"New Material Applied",0,0.2,"TRUCK BRAKE CYLINDER PUSH ROD",{"$f":"G1560*'Lookup Tables'!$R$14","v":47.316899999999997},{"$f":"H1560*'Lookup Tables'!$R$14","v":1.6786000000000001},{"$f":"I1560*'Lookup Tables'!$R$14","v":0},{"$f":"J1560*'Lookup Tables'!$R$14","v":30.792500000000004},{"$f":"K1560*'Lookup Tables'!$R$14","v":78.109400000000008}]
[1496,2,"Secondhand Material Applied",0,0.2,"TRUCK BRAKE CYLINDER PUSH ROD",{"$f":"G1561*'Lookup Tables'!$R$14","v":23.653000000000002},{"$f":"H1561*'Lookup Tables'!$R$14","v":1.6786000000000001},{"$f":"I1561*'Lookup Tables'!$R$14","v":0},{"$f":"J1561*'Lookup Tables'!$R$14","v":30.792500000000004},{"$f":"K1561*'Lookup Tables'!$R$14","v":54.44550000000001}]
[1498,1,"New Material Applied",8.5999999999999993E-2,2.5000000000000001E-2,"TEST FITTING, BRK CYL MEASUREMENT TAP & CAP 1/4 IN",{"$f":"G1562*'Lookup Tables'!$R$14","v":7.8916000000000004},{"$f":"H1562*'Lookup Tables'!$R$14","v":0},{"$f":"I1562*'Lookup Tables'!$R$14","v":13.243500000000001},{"$f":"J1562*'Lookup Tables'!$R$14","v":3.8477000000000001},{"$f":"K1562*'Lookup Tables'!$R$14","v":11.7393}]
[1498,9,"Remove and replace same part",8.5999999999999993E-2,2.5000000000000001E-2,"TEST FITTING, BRK CYL MEASUREMENT TAP & CAP 1/4 IN",{"$f":"G1563*'Lookup Tables'!$R$14","v":0},{"$f":"H1563*'Lookup Tables'!$R$14","v":0},{"$f":"I1563*'Lookup Tables'!$R$14","v":13.243500000000001},{"$f":"J1563*'Lookup Tables'!$R$14","v":3.8477000000000001},{"$f":"K1563*'Lookup Tables'!$R$14","v":3.8477000000000001}]
[1500,1,"New Material Applied",0,0.27100000000000002,"FLANGE ADAPTER, LESS TEST FITTING",{"$f":"G1564*'Lookup Tables'!$R$14","v":19.968800000000002},{"$f":"H1564*'Lookup Tables'!$R$14","v":0},{"$f":"I1564*'Lookup Tables'!$R$14","v":0},{"$f":"J1564*'Lookup Tables'!$R$14","v":41.725200000000001},{"$f":"K1564*'Lookup Tables'!$R$14","v":61.694000000000003}]
[1500,9,"Remove and replace same part",0,0.27100000000000002,"FLANGE ADAPTER, LESS TEST FITTING",{"$f":"G1565*'Lookup Tables'!$R$14","v":0},{"$f":"H1565*'Lookup Tables'!$R$14","v":0},{"$f":"I1565*'Lookup Tables'!$R$14","v":0},{"$f":"J1565*'Lookup Tables'!$R$14","v":41.725200000000001},{"$f":"K1565*'Lookup Tables'!$R$14","v":41.725200000000001}]
[1502,1,"New Material Applied",0,0.64300000000000002,"FLANGED SOCKET WELD, LESS TEST FITTING",{"$f":"G1566*'Lookup Tables'!$R$14","v":20.1541},{"$f":"H1566*'Lookup Tables'!$R$14","v":0},{"$f":"I1566*'Lookup Tables'!$R$14","v":0},{"$f":"J1566*'Lookup Tables'!$R$14","v":98.993799999999993},{"$f":"K1566*'Lookup Tables'!$R$14","v":119.14789999999999}]
[1505,1,"New Material Applied",0,0.48,"3/4 INCH SADDLE-MOUNT WELD FIT, LESS TEST FIT",{"$f":"G1567*'Lookup Tables'!$R$14","v":28.863200000000003},{"$f":"H1567*'Lookup Tables'!$R$14","v":0},{"$f":"I1567*'Lookup Tables'!$R$14","v":0},{"$f":"J1567*'Lookup Tables'!$R$14","v":73.902000000000001},{"$f":"K1567*'Lookup Tables'!$R$14","v":102.76520000000001}]
[1506,1,"New Material Applied",0,0.20599999999999999,"BRAKE LINE HOSE ASSEMBLY, LESS TEST FITTING",{"$f":"G1568*'Lookup Tables'!$R$14","v":69.236800000000002},{"$f":"H1568*'Lookup Tables'!$R$14","v":0},{"$f":"I1568*'Lookup Tables'!$R$14","v":0},{"$f":"J1568*'Lookup Tables'!$R$14","v":31.719000000000005},{"$f":"K1568*'Lookup Tables'!$R$14","v":100.95580000000001}]
[1506,9,"Remove and replace same part",0,0.20599999999999999,"BRAKE LINE HOSE ASSEMBLY, LESS TEST FITTING",{"$f":"G1569*'Lookup Tables'!$R$14","v":0},{"$f":"H1569*'Lookup Tables'!$R$14","v":0},{"$f":"I1569*'Lookup Tables'!$R$14","v":0},{"$f":"J1569*'Lookup Tables'!$R$14","v":31.719000000000005},{"$f":"K1569*'Lookup Tables'!$R$14","v":31.719000000000005}]
[1520,1,"New Material Applied",0,0.17399999999999999,"RETAINING VALVE, 1967 3 POSITION",{"$f":"G1570*'Lookup Tables'!$R$14","v":28.994000000000003},{"$f":"H1570*'Lookup Tables'!$R$14","v":0},{"$f":"I1570*'Lookup Tables'!$R$14","v":0},{"$f":"J1570*'Lookup Tables'!$R$14","v":26.792200000000001},{"$f":"K1570*'Lookup Tables'!$R$14","v":55.786200000000001}]
[1520,3,"Reconditioned or Recertified Material Applied",0,0.17399999999999999,"RETAINING VALVE, 1967 3 POSITION",{"$f":"G1571*'Lookup Tables'!$R$14","v":22.007100000000005},{"$f":"H1571*'Lookup Tables'!$R$14","v":0},{"$f":"I1571*'Lookup Tables'!$R$14","v":0},{"$f":"J1571*'Lookup Tables'!$R$14","v":26.792200000000001},{"$f":"K1571*'Lookup Tables'!$R$14","v":48.799300000000002}]
[1532,1,"New Material Applied",0,0.21,"RETAINING VALVE BRACKET, ANY TYPE",{"$f":"G1572*'Lookup Tables'!$R$14","v":8.6328000000000014},{"$f":"H1572*'Lookup Tables'!$R$14","v":0},{"$f":"I1572*'Lookup Tables'!$R$14","v":0},{"$f":"J1572*'Lookup Tables'!$R$14","v":32.3294},{"$f":"K1572*'Lookup Tables'!$R$14","v":40.962200000000003}]
[1532,2,"Secondhand Material Applied",0,0.21,"RETAINING VALVE BRACKET, ANY TYPE",{"$f":"G1573*'Lookup Tables'!$R$14","v":5.1121000000000008},{"$f":"H1573*'Lookup Tables'!$R$14","v":0},{"$f":"I1573*'Lookup Tables'!$R$14","v":0},{"$f":"J1573*'Lookup Tables'!$R$14","v":32.3294},{"$f":"K1573*'Lookup Tables'!$R$14","v":37.441500000000005}]
[1532,9,"Remove and replace same part",0,0.21,"RETAINING VALVE BRACKET, ANY TYPE",{"$f":"G1574*'Lookup Tables'!$R$14","v":1.5914000000000001},{"$f":"H1574*'Lookup Tables'!$R$14","v":0},{"$f":"I1574*'Lookup Tables'!$R$14","v":0},{"$f":"J1574*'Lookup Tables'!$R$14","v":32.3294},{"$f":"K1574*'Lookup Tables'!$R$14","v":33.920800000000007}]
[1540,1,"New Material Applied",0,0.17799999999999999,"MODULATING VALVE OPERATING PORTION",{"$f":"G1575*'Lookup Tables'!$R$14","v":610.98860000000002},{"$f":"H1575*'Lookup Tables'!$R$14","v":0},{"$f":"I1575*'Lookup Tables'!$R$14","v":0},{"$f":"J1575*'Lookup Tables'!$R$14","v":27.402600000000003},{"$f":"K1575*'Lookup Tables'!$R$14","v":638.39120000000003}]
[1540,3,"Reconditioned or Recertified Material Applied",0,0.17799999999999999,"MODULATING VALVE OPERATING PORTION",{"$f":"G1576*'Lookup Tables'!$R$14","v":458.24690000000004},{"$f":"H1576*'Lookup Tables'!$R$14","v":0},{"$f":"I1576*'Lookup Tables'!$R$14","v":0},{"$f":"J1576*'Lookup Tables'!$R$14","v":27.402600000000003},{"$f":"K1576*'Lookup Tables'!$R$14","v":485.64950000000005}]
[1540,7,"Periodic or Service Attention \n(includes: vacant, single car testing of air brakes, cleaning of brke cyclinder, B-1 Quick Service Valves, Lubrication, Servicing mechanical refrigeration units, vacant, all wheels applied)",0,0.48799999999999999,"MODULATING VALVE OPERATING PORTION",{"$f":"G1577*'Lookup Tables'!$R$14","v":610.98860000000002},{"$f":"H1577*'Lookup Tables'!$R$14","v":0},{"$f":"I1577*'Lookup Tables'!$R$14","v":0},{"$f":"J1577*'Lookup Tables'!$R$14","v":75.133700000000019},{"$f":"K1577*'Lookup Tables'!$R$14","v":686.12230000000011}]
[1576,1,"New Material Applied",0,0.74,"SLACK ADJUSTER, GROUP E",{"$f":"G1578*'Lookup Tables'!$R$14","v":335.2731},{"$f":"H1578*'Lookup Tables'!$R$14","v":5.9950000000000001},{"$f":"I1578*'Lookup Tables'!$R$14","v":0},{"$f":"J1578*'Lookup Tables'!$R$14","v":113.9268},{"$f":"K1578*'Lookup Tables'!$R$14","v":449.19990000000001}]
[1576,3,"Reconditioned or Recertified Material Applied",0,0.74,"SLACK ADJUSTER, GROUP E",{"$f":"G1579*'Lookup Tables'!$R$14","v":251.45210000000003},{"$f":"H1579*'Lookup Tables'!$R$14","v":5.9950000000000001},{"$f":"I1579*'Lookup Tables'!$R$14","v":0},{"$f":"J1579*'Lookup Tables'!$R$14","v":113.9268},{"$f":"K1579*'Lookup Tables'!$R$14","v":365.37889999999999}]
[1586,1,"New Material Applied",0,0.5,"SLACK ADJUSTER ACTUATOR/CONTROL ROD",{"$f":"G1580*'Lookup Tables'!$R$14","v":20.633700000000001},{"$f":"H1580*'Lookup Tables'!$R$14","v":1.1990000000000003},{"$f":"I1580*'Lookup Tables'!$R$14","v":0},{"$f":"J1580*'Lookup Tables'!$R$14","v":76.975800000000007},{"$f":"K1580*'Lookup Tables'!$R$14","v":97.609500000000025}]
[1586,2,"Secondhand Material Applied",0,0.5,"SLACK ADJUSTER ACTUATOR/CONTROL ROD",{"$f":"G1581*'Lookup Tables'!$R$14","v":10.322300000000002},{"$f":"H1581*'Lookup Tables'!$R$14","v":1.1990000000000003},{"$f":"I1581*'Lookup Tables'!$R$14","v":0},{"$f":"J1581*'Lookup Tables'!$R$14","v":76.975800000000007},{"$f":"K1581*'Lookup Tables'!$R$14","v":87.298100000000005}]
[1586,3,"Reconditioned or Recertified Material Applied",0,0.5,"SLACK ADJUSTER ACTUATOR/CONTROL ROD",{"$f":"G1582*'Lookup Tables'!$R$14","v":15.478},{"$f":"H1582*'Lookup Tables'!$R$14","v":1.1990000000000003},{"$f":"I1582*'Lookup Tables'!$R$14","v":0},{"$f":"J1582*'Lookup Tables'!$R$14","v":76.975800000000007},{"$f":"K1582*'Lookup Tables'!$R$14","v":92.453800000000015}]
[1586,8,"Remove, repair, and replace same part",0,0.5,"SLACK ADJUSTER ACTUATOR/CONTROL ROD",{"$f":"G1583*'Lookup Tables'!$R$14","v":5.5372000000000003},{"$f":"H1583*'Lookup Tables'!$R$14","v":0},{"$f":"I1583*'Lookup Tables'!$R$14","v":0},{"$f":"J1583*'Lookup Tables'!$R$14","v":76.975800000000007},{"$f":"K1583*'Lookup Tables'!$R$14","v":82.513000000000005}]
[1588,1,"New Material Applied",0,0.74,"SLACK ADJUSTER, GROUP J",{"$f":"G1584*'Lookup Tables'!$R$14","v":417.58990000000006},{"$f":"H1584*'Lookup Tables'!$R$14","v":5.9950000000000001},{"$f":"I1584*'Lookup Tables'!$R$14","v":0},{"$f":"J1584*'Lookup Tables'!$R$14","v":113.9268},{"$f":"K1584*'Lookup Tables'!$R$14","v":531.51670000000001}]
[1588,3,"Reconditioned or Recertified Material Applied",0,0.74,"SLACK ADJUSTER, GROUP J",{"$f":"G1585*'Lookup Tables'!$R$14","v":313.18970000000002},{"$f":"H1585*'Lookup Tables'!$R$14","v":5.9950000000000001},{"$f":"I1585*'Lookup Tables'!$R$14","v":0},{"$f":"J1585*'Lookup Tables'!$R$14","v":113.9268},{"$f":"K1585*'Lookup Tables'!$R$14","v":427.11649999999997}]
[1592,1,"New Material Applied",0,0.626,"SLACK ADJUSTER, GROUP L",{"$f":"G1586*'Lookup Tables'!$R$14","v":519.25420000000008},{"$f":"H1586*'Lookup Tables'!$R$14","v":5.9950000000000001},{"$f":"I1586*'Lookup Tables'!$R$14","v":0},{"$f":"J1586*'Lookup Tables'!$R$14","v":96.377800000000008},{"$f":"K1586*'Lookup Tables'!$R$14","v":615.63199999999995}]
[1592,3,"Reconditioned or Recertified Material Applied",0,0.626,"SLACK ADJUSTER, GROUP L",{"$f":"G1587*'Lookup Tables'!$R$14","v":389.44610000000006},{"$f":"H1587*'Lookup Tables'!$R$14","v":5.9950000000000001},{"$f":"I1587*'Lookup Tables'!$R$14","v":0},{"$f":"J1587*'Lookup Tables'!$R$14","v":96.377800000000008},{"$f":"K1587*'Lookup Tables'!$R$14","v":485.82390000000009}]
[1594,1,"New Material Applied",0,0.626,"SLACK ADJUSTER, GROUP M",{"$f":"G1588*'Lookup Tables'!$R$14","v":576.43560000000002},{"$f":"H1588*'Lookup Tables'!$R$14","v":5.9950000000000001},{"$f":"I1588*'Lookup Tables'!$R$14","v":0},{"$f":"J1588*'Lookup Tables'!$R$14","v":96.377800000000008},{"$f":"K1588*'Lookup Tables'!$R$14","v":672.8134}]
[1594,3,"Reconditioned or Recertified Material Applied",0,0.626,"SLACK ADJUSTER, GROUP M",{"$f":"G1589*'Lookup Tables'!$R$14","v":432.32670000000002},{"$f":"H1589*'Lookup Tables'!$R$14","v":5.9950000000000001},{"$f":"I1589*'Lookup Tables'!$R$14","v":0},{"$f":"J1589*'Lookup Tables'!$R$14","v":96.377800000000008},{"$f":"K1589*'Lookup Tables'!$R$14","v":528.70450000000005}]
[1596,1,"New Material Applied",0,0.626,"SLACK ADJUSTER, GROUP N",{"$f":"G1590*'Lookup Tables'!$R$14","v":598.99860000000001},{"$f":"H1590*'Lookup Tables'!$R$14","v":5.9950000000000001},{"$f":"I1590*'Lookup Tables'!$R$14","v":0},{"$f":"J1590*'Lookup Tables'!$R$14","v":96.377800000000008},{"$f":"K1590*'Lookup Tables'!$R$14","v":695.37639999999999}]
[1596,3,"Reconditioned or Recertified Material Applied",0,0.626,"SLACK ADJUSTER, GROUP N",{"$f":"G1591*'Lookup Tables'!$R$14","v":449.25440000000003},{"$f":"H1591*'Lookup Tables'!$R$14","v":5.9950000000000001},{"$f":"I1591*'Lookup Tables'!$R$14","v":0},{"$f":"J1591*'Lookup Tables'!$R$14","v":96.377800000000008},{"$f":"K1591*'Lookup Tables'!$R$14","v":545.63220000000013}]
[1598,1,"New Material Applied",0,0.626,"SLACK ADJUSTER, GROUP O",{"$f":"G1592*'Lookup Tables'!$R$14","v":587.57539999999995},{"$f":"H1592*'Lookup Tables'!$R$14","v":5.9950000000000001},{"$f":"I1592*'Lookup Tables'!$R$14","v":0},{"$f":"J1592*'Lookup Tables'!$R$14","v":96.377800000000008},{"$f":"K1592*'Lookup Tables'!$R$14","v":683.95319999999992}]
[1598,3,"Reconditioned or Recertified Material Applied",0,0.626,"SLACK ADJUSTER, GROUP O",{"$f":"G1593*'Lookup Tables'!$R$14","v":440.68700000000007},{"$f":"H1593*'Lookup Tables'!$R$14","v":5.9950000000000001},{"$f":"I1593*'Lookup Tables'!$R$14","v":0},{"$f":"J1593*'Lookup Tables'!$R$14","v":96.377800000000008},{"$f":"K1593*'Lookup Tables'!$R$14","v":537.0648000000001}]
[1600,1,"New Material Applied",0,0.626,"SLACK ADJUSTER, GROUP P",{"$f":"G1594*'Lookup Tables'!$R$14","v":702.00360000000001},{"$f":"H1594*'Lookup Tables'!$R$14","v":5.9950000000000001},{"$f":"I1594*'Lookup Tables'!$R$14","v":0},{"$f":"J1594*'Lookup Tables'!$R$14","v":96.377800000000008},{"$f":"K1594*'Lookup Tables'!$R$14","v":798.38139999999999}]
[1600,3,"Reconditioned or Recertified Material Applied",0,0.626,"SLACK ADJUSTER, GROUP P",{"$f":"G1595*'Lookup Tables'!$R$14","v":526.5027},{"$f":"H1595*'Lookup Tables'!$R$14","v":5.9950000000000001},{"$f":"I1595*'Lookup Tables'!$R$14","v":0},{"$f":"J1595*'Lookup Tables'!$R$14","v":96.377800000000008},{"$f":"K1595*'Lookup Tables'!$R$14","v":622.88049999999998}]
[1601,1,"New Material Applied",0,0.626,"SLACK ADJUSTER, GROUP Q",{"$f":"G1596*'Lookup Tables'!$R$14","v":720.83880000000011},{"$f":"H1596*'Lookup Tables'!$R$14","v":5.9950000000000001},{"$f":"I1596*'Lookup Tables'!$R$14","v":0},{"$f":"J1596*'Lookup Tables'!$R$14","v":96.377800000000008},{"$f":"K1596*'Lookup Tables'!$R$14","v":817.21660000000008}]
[1601,3,"Reconditioned or Recertified Material Applied",0,0.626,"SLACK ADJUSTER, GROUP Q",{"$f":"G1597*'Lookup Tables'!$R$14","v":540.62909999999999},{"$f":"H1597*'Lookup Tables'!$R$14","v":5.9950000000000001},{"$f":"I1597*'Lookup Tables'!$R$14","v":0},{"$f":"J1597*'Lookup Tables'!$R$14","v":96.377800000000008},{"$f":"K1597*'Lookup Tables'!$R$14","v":637.00689999999997}]
[1603,1,"New Material Applied",0,0.74,"SLACK ADJUSTER, WATER RESISTANT, GROUP R",{"$f":"G1598*'Lookup Tables'!$R$14","v":395.33210000000003},{"$f":"H1598*'Lookup Tables'!$R$14","v":5.9950000000000001},{"$f":"I1598*'Lookup Tables'!$R$14","v":0},{"$f":"J1598*'Lookup Tables'!$R$14","v":113.9268},{"$f":"K1598*'Lookup Tables'!$R$14","v":509.25890000000004}]
[1603,3,"Reconditioned or Recertified Material Applied",0,0.74,"SLACK ADJUSTER, WATER RESISTANT, GROUP R",{"$f":"G1599*'Lookup Tables'!$R$14","v":296.5018},{"$f":"H1599*'Lookup Tables'!$R$14","v":5.9950000000000001},{"$f":"I1599*'Lookup Tables'!$R$14","v":0},{"$f":"J1599*'Lookup Tables'!$R$14","v":113.9268},{"$f":"K1599*'Lookup Tables'!$R$14","v":410.42860000000002}]
[1612,1,"New Material Applied",0,0.622,"AB RESERVOIR COMPLETE",{"$f":"G1600*'Lookup Tables'!$R$14","v":337.40950000000004},{"$f":"H1600*'Lookup Tables'!$R$14","v":31.773500000000002},{"$f":"I1600*'Lookup Tables'!$R$14","v":0},{"$f":"J1600*'Lookup Tables'!$R$14","v":95.756500000000003},{"$f":"K1600*'Lookup Tables'!$R$14","v":433.166}]
[1612,3,"Reconditioned or Recertified Material Applied",0,0.622,"AB RESERVOIR COMPLETE",{"$f":"G1601*'Lookup Tables'!$R$14","v":153.6028},{"$f":"H1601*'Lookup Tables'!$R$14","v":31.773500000000002},{"$f":"I1601*'Lookup Tables'!$R$14","v":0},{"$f":"J1601*'Lookup Tables'!$R$14","v":95.756500000000003},{"$f":"K1601*'Lookup Tables'!$R$14","v":249.35929999999999}]
[1612,9,"Remove and replace same part",0,0.622,"AB RESERVOIR COMPLETE",{"$f":"G1602*'Lookup Tables'!$R$14","v":7.4229000000000003},{"$f":"H1602*'Lookup Tables'!$R$14","v":0},{"$f":"I1602*'Lookup Tables'!$R$14","v":0},{"$f":"J1602*'Lookup Tables'!$R$14","v":95.756500000000003},{"$f":"K1602*'Lookup Tables'!$R$14","v":103.1794}]
[1626,1,"New Material Applied",0,0.13800000000000001,"EOT AIR BRAKE HOSE-AAR APPROVED STANDARD COUPLING",{"$f":"G1603*'Lookup Tables'!$R$14","v":116.21580000000002},{"$f":"H1603*'Lookup Tables'!$R$14","v":0},{"$f":"I1603*'Lookup Tables'!$R$14","v":0},{"$f":"J1603*'Lookup Tables'!$R$14","v":21.2441},{"$f":"K1603*'Lookup Tables'!$R$14","v":137.4599}]
[1628,1,"New Material Applied",0,0.13800000000000001,"AIR BRAKE HOSE-AAR APPROVED STANDARD COUPLING",{"$f":"G1604*'Lookup Tables'!$R$14","v":21.8},{"$f":"H1604*'Lookup Tables'!$R$14","v":0},{"$f":"I1604*'Lookup Tables'!$R$14","v":0},{"$f":"J1604*'Lookup Tables'!$R$14","v":21.2441},{"$f":"K1604*'Lookup Tables'!$R$14","v":43.0441}]
[1629,1,"New Material Applied",0,0.13800000000000001,"AIR BRAKE HOSE-AAR APPRVD, STRAIGHT SHANK COUPLING",{"$f":"G1605*'Lookup Tables'!$R$14","v":23.369600000000002},{"$f":"H1605*'Lookup Tables'!$R$14","v":0},{"$f":"I1605*'Lookup Tables'!$R$14","v":0},{"$f":"J1605*'Lookup Tables'!$R$14","v":21.2441},{"$f":"K1605*'Lookup Tables'!$R$14","v":44.613700000000001}]
[1630,1,"New Material Applied",0,0.13800000000000001,"AIR BRAKE HOSE 33\" OR OVER",{"$f":"G1606*'Lookup Tables'!$R$14","v":28.917700000000004},{"$f":"H1606*'Lookup Tables'!$R$14","v":0},{"$f":"I1606*'Lookup Tables'!$R$14","v":0},{"$f":"J1606*'Lookup Tables'!$R$14","v":21.2441},{"$f":"K1606*'Lookup Tables'!$R$14","v":50.161799999999999}]
[1632,1,"New Material Applied",0,0.55000000000000004,"COUPLER ATTACHED BRACKET",{"$f":"G1607*'Lookup Tables'!$R$14","v":193.40960000000001},{"$f":"H1607*'Lookup Tables'!$R$14","v":3.597},{"$f":"I1607*'Lookup Tables'!$R$14","v":0},{"$f":"J1607*'Lookup Tables'!$R$14","v":84.671200000000013},{"$f":"K1607*'Lookup Tables'!$R$14","v":278.08080000000001}]
[1632,2,"Secondhand Material Applied",0,0.55000000000000004,"COUPLER ATTACHED BRACKET",{"$f":"G1608*'Lookup Tables'!$R$14","v":96.704800000000006},{"$f":"H1608*'Lookup Tables'!$R$14","v":3.597},{"$f":"I1608*'Lookup Tables'!$R$14","v":0},{"$f":"J1608*'Lookup Tables'!$R$14","v":84.671200000000013},{"$f":"K1608*'Lookup Tables'!$R$14","v":181.37600000000003}]
[1632,9,"Remove and replace same part",0,0.50600000000000001,"COUPLER ATTACHED BRACKET",{"$f":"G1609*'Lookup Tables'!$R$14","v":0},{"$f":"H1609*'Lookup Tables'!$R$14","v":0},{"$f":"I1609*'Lookup Tables'!$R$14","v":0},{"$f":"J1609*'Lookup Tables'!$R$14","v":77.902300000000011},{"$f":"K1609*'Lookup Tables'!$R$14","v":77.902300000000011}]
[1650,1,"New Material Applied",0,1.446,"BRK BEAM HGR TYP-18, COMPOSITION",{"$f":"G1610*'Lookup Tables'!$R$14","v":200.13490000000002},{"$f":"H1610*'Lookup Tables'!$R$14","v":11.870100000000001},{"$f":"I1610*'Lookup Tables'!$R$14","v":0},{"$f":"J1610*'Lookup Tables'!$R$14","v":222.61070000000001},{"$f":"K1610*'Lookup Tables'!$R$14","v":422.74560000000008}]
[1650,3,{"$f":"VLOOKUP(B260,$B$2686:$C$2701,2,FALSE)","v":"Reconditioned or Recertified Material Applied"},0,1.446,"BRK BEAM HGR TYP-18, COMPOSITION",{"$f":"G1611*'Lookup Tables'!$R$14","v":176.12220000000002},{"$f":"H1611*'Lookup Tables'!$R$14","v":11.870100000000001},{"$f":"I1611*'Lookup Tables'!$R$14","v":0},{"$f":"J1611*'Lookup Tables'!$R$14","v":222.61070000000001},{"$f":"K1611*'Lookup Tables'!$R$14","v":398.73290000000003}]
[1652,1,"New Material Applied",0,1.4179999999999999,"BRK BEAM UNIT TYP-18, CAST IRON",{"$f":"G1612*'Lookup Tables'!$R$14","v":94.546599999999998},{"$f":"H1612*'Lookup Tables'!$R$14","v":11.99},{"$f":"I1612*'Lookup Tables'!$R$14","v":0},{"$f":"J1612*'Lookup Tables'!$R$14","v":218.30520000000001},{"$f":"K1612*'Lookup Tables'!$R$14","v":312.85180000000003}]
[1652,3,"Reconditioned or Recertified Material Applied",0,1.4179999999999999,"BRK BEAM UNIT TYP-18, CAST IRON",{"$f":"G1613*'Lookup Tables'!$R$14","v":83.199700000000007},{"$f":"H1613*'Lookup Tables'!$R$14","v":11.99},{"$f":"I1613*'Lookup Tables'!$R$14","v":0},{"$f":"J1613*'Lookup Tables'!$R$14","v":218.30520000000001},{"$f":"K1613*'Lookup Tables'!$R$14","v":301.50490000000002}]
[1654,1,"New Material Applied",0,1.4179999999999999,"BRK BEAM UNIT TYP-18, COMPOSITION",{"$f":"G1614*'Lookup Tables'!$R$14","v":94.546599999999998},{"$f":"H1614*'Lookup Tables'!$R$14","v":11.870100000000001},{"$f":"I1614*'Lookup Tables'!$R$14","v":0},{"$f":"J1614*'Lookup Tables'!$R$14","v":218.30520000000001},{"$f":"K1614*'Lookup Tables'!$R$14","v":312.85180000000003}]
[1654,3,"Reconditioned or Recertified Material Applied",0,1.4179999999999999,"BRK BEAM UNIT TYP-18, COMPOSITION",{"$f":"G1615*'Lookup Tables'!$R$14","v":83.199700000000007},{"$f":"H1615*'Lookup Tables'!$R$14","v":11.870100000000001},{"$f":"I1615*'Lookup Tables'!$R$14","v":0},{"$f":"J1615*'Lookup Tables'!$R$14","v":218.30520000000001},{"$f":"K1615*'Lookup Tables'!$R$14","v":301.50490000000002}]
[1658,1,"New Material Applied",0,1.446,"BRK BEAM HGR TYP-24, COMPOSITION",{"$f":"G1616*'Lookup Tables'!$R$14","v":95.712900000000005},{"$f":"H1616*'Lookup Tables'!$R$14","v":16.306400000000004},{"$f":"I1616*'Lookup Tables'!$R$14","v":0},{"$f":"J1616*'Lookup Tables'!$R$14","v":222.61070000000001},{"$f":"K1616*'Lookup Tables'!$R$14","v":318.3236}]
[1658,3,"Reconditioned or Recertified Material Applied",0,1.446,"BRK BEAM HGR TYP-24, COMPOSITION",{"$f":"G1617*'Lookup Tables'!$R$14","v":84.224299999999999},{"$f":"H1617*'Lookup Tables'!$R$14","v":16.306400000000004},{"$f":"I1617*'Lookup Tables'!$R$14","v":0},{"$f":"J1617*'Lookup Tables'!$R$14","v":222.61070000000001},{"$f":"K1617*'Lookup Tables'!$R$14","v":306.83500000000004}]
[1660,1,"New Material Applied",0,1.4179999999999999,"BRK BEAM UNIT TYP-24, CAST IRON",{"$f":"G1618*'Lookup Tables'!$R$14","v":95.712900000000005},{"$f":"H1618*'Lookup Tables'!$R$14","v":14.7477},{"$f":"I1618*'Lookup Tables'!$R$14","v":0},{"$f":"J1618*'Lookup Tables'!$R$14","v":218.30520000000001},{"$f":"K1618*'Lookup Tables'!$R$14","v":314.01810000000006}]
[1660,3,"Reconditioned or Recertified Material Applied",0,1.4179999999999999,"BRK BEAM UNIT TYP-24, CAST IRON",{"$f":"G1619*'Lookup Tables'!$R$14","v":84.224299999999999},{"$f":"H1619*'Lookup Tables'!$R$14","v":14.7477},{"$f":"I1619*'Lookup Tables'!$R$14","v":0},{"$f":"J1619*'Lookup Tables'!$R$14","v":218.30520000000001},{"$f":"K1619*'Lookup Tables'!$R$14","v":302.52950000000004}]
[1662,1,"New Material Applied",0,1.4179999999999999,"BRK BEAM UNIT TYP-24 COMPOSITION",{"$f":"G1620*'Lookup Tables'!$R$14","v":95.712900000000005},{"$f":"H1620*'Lookup Tables'!$R$14","v":16.306400000000004},{"$f":"I1620*'Lookup Tables'!$R$14","v":0},{"$f":"J1620*'Lookup Tables'!$R$14","v":218.30520000000001},{"$f":"K1620*'Lookup Tables'!$R$14","v":314.01810000000006}]
[1662,3,"Reconditioned or Recertified Material Applied",0,1.4179999999999999,"BRK BEAM UNIT TYP-24 COMPOSITION",{"$f":"G1621*'Lookup Tables'!$R$14","v":84.224299999999999},{"$f":"H1621*'Lookup Tables'!$R$14","v":16.306400000000004},{"$f":"I1621*'Lookup Tables'!$R$14","v":0},{"$f":"J1621*'Lookup Tables'!$R$14","v":218.30520000000001},{"$f":"K1621*'Lookup Tables'!$R$14","v":302.52950000000004}]
[1670,1,"New Material Applied",0,1.635,"BRAKE BEAM - UNIT TYPE - TMX / UBX BRAKE SYSTEM",{"$f":"G1622*'Lookup Tables'!$R$14","v":389.6096},{"$f":"H1622*'Lookup Tables'!$R$14","v":22.181500000000003},{"$f":"I1622*'Lookup Tables'!$R$14","v":0},{"$f":"J1622*'Lookup Tables'!$R$14","v":251.71370000000002},{"$f":"K1622*'Lookup Tables'!$R$14","v":641.32330000000002}]
[1670,2,"Secondhand Material Applied",0,1.635,"BRAKE BEAM - UNIT TYPE - TMX / UBX BRAKE SYSTEM",{"$f":"G1623*'Lookup Tables'!$R$14","v":194.8048},{"$f":"H1623*'Lookup Tables'!$R$14","v":22.181500000000003},{"$f":"I1623*'Lookup Tables'!$R$14","v":0},{"$f":"J1623*'Lookup Tables'!$R$14","v":251.71370000000002},{"$f":"K1623*'Lookup Tables'!$R$14","v":446.51850000000002}]
[1670,3,"Reconditioned or Recertified Material Applied",0,1.635,"BRAKE BEAM - UNIT TYPE - TMX / UBX BRAKE SYSTEM",{"$f":"G1624*'Lookup Tables'!$R$14","v":194.8048},{"$f":"H1624*'Lookup Tables'!$R$14","v":22.181500000000003},{"$f":"I1624*'Lookup Tables'!$R$14","v":0},{"$f":"J1624*'Lookup Tables'!$R$14","v":251.71370000000002},{"$f":"K1624*'Lookup Tables'!$R$14","v":446.51850000000002}]
[1672,1,"New Material Applied",0,1.635,"BRAKE BEAM, MOUNTED CYLINDER TYPE",{"$f":"G1625*'Lookup Tables'!$R$14","v":698.48289999999997},{"$f":"H1625*'Lookup Tables'!$R$14","v":22.181500000000003},{"$f":"I1625*'Lookup Tables'!$R$14","v":0},{"$f":"J1625*'Lookup Tables'!$R$14","v":251.71370000000002},{"$f":"K1625*'Lookup Tables'!$R$14","v":950.1966000000001}]
[1672,2,"Secondhand Material Applied",0,1.635,"BRAKE BEAM, MOUNTED CYLINDER TYPE",{"$f":"G1626*'Lookup Tables'!$R$14","v":349.24690000000004},{"$f":"H1626*'Lookup Tables'!$R$14","v":22.181500000000003},{"$f":"I1626*'Lookup Tables'!$R$14","v":0},{"$f":"J1626*'Lookup Tables'!$R$14","v":251.71370000000002},{"$f":"K1626*'Lookup Tables'!$R$14","v":600.96060000000011}]
[1672,3,"Reconditioned or Recertified Material Applied",0,1.635,"BRAKE BEAM, MOUNTED CYLINDER TYPE",{"$f":"G1627*'Lookup Tables'!$R$14","v":349.24690000000004},{"$f":"H1627*'Lookup Tables'!$R$14","v":22.181500000000003},{"$f":"I1627*'Lookup Tables'!$R$14","v":0},{"$f":"J1627*'Lookup Tables'!$R$14","v":251.71370000000002},{"$f":"K1627*'Lookup Tables'!$R$14","v":600.96060000000011}]
[1680,1,"New Material Applied",0,0.29699999999999999,"REPLACEABLE FIXED BRAKE HEAD",{"$f":"G1628*'Lookup Tables'!$R$14","v":48.799300000000009},{"$f":"H1628*'Lookup Tables'!$R$14","v":1.0464},{"$f":"I1628*'Lookup Tables'!$R$14","v":0},{"$f":"J1628*'Lookup Tables'!$R$14","v":45.725500000000004},{"$f":"K1628*'Lookup Tables'!$R$14","v":94.524799999999999}]
[1696,1,"New Material Applied",0.10299999999999999,2.9000000000000001E-2,"METALLIC BRAKE BEAM WEAR LINER",{"$f":"G1629*'Lookup Tables'!$R$14","v":6.5617999999999999},{"$f":"H1629*'Lookup Tables'!$R$14","v":0},{"$f":"I1629*'Lookup Tables'!$R$14","v":15.859500000000002},{"$f":"J1629*'Lookup Tables'!$R$14","v":4.4690000000000003},{"$f":"K1629*'Lookup Tables'!$R$14","v":11.030799999999999}]
[1697,1,"New Material Applied",0.10299999999999999,2.9000000000000001E-2,"NON-METALLIC BRAKE BEAM WEAR LINER",{"$f":"G1630*'Lookup Tables'!$R$14","v":7.8262},{"$f":"H1630*'Lookup Tables'!$R$14","v":0},{"$f":"I1630*'Lookup Tables'!$R$14","v":15.859500000000002},{"$f":"J1630*'Lookup Tables'!$R$14","v":4.4690000000000003},{"$f":"K1630*'Lookup Tables'!$R$14","v":12.295199999999999}]
[1698,0,"Labor attention such as: \nactual labor, replacing or rechanging doors, welding, vacant, painting or stenciling, other labor attention",0,1.9219999999999999,"MODIFY BRAKE BEAM HEADS",{"$f":"G1631*'Lookup Tables'!$R$14","v":0},{"$f":"H1631*'Lookup Tables'!$R$14","v":0},{"$f":"I1631*'Lookup Tables'!$R$14","v":0},{"$f":"J1631*'Lookup Tables'!$R$14","v":295.89139999999998},{"$f":"K1631*'Lookup Tables'!$R$14","v":295.89139999999998}]
[1742,1,"New Material Applied",0,0.13300000000000001,"BRAKE CONNECTION PIN",{"$f":"G1632*'Lookup Tables'!$R$14","v":3.6733000000000002},{"$f":"H1632*'Lookup Tables'!$R$14","v":0.11990000000000001},{"$f":"I1632*'Lookup Tables'!$R$14","v":0},{"$f":"J1632*'Lookup Tables'!$R$14","v":20.481100000000001},{"$f":"K1632*'Lookup Tables'!$R$14","v":24.154400000000003}]
[1742,2,"Secondhand Material Applied",0,0.13300000000000001,"BRAKE CONNECTION PIN",{"$f":"G1633*'Lookup Tables'!$R$14","v":1.2208000000000001},{"$f":"H1633*'Lookup Tables'!$R$14","v":0.11990000000000001},{"$f":"I1633*'Lookup Tables'!$R$14","v":0},{"$f":"J1633*'Lookup Tables'!$R$14","v":20.481100000000001},{"$f":"K1633*'Lookup Tables'!$R$14","v":21.701900000000002}]
[1768,1,"New Material Applied",0,0.05,"BOTTOM ROD SAFETY SUPPORT, AAR APPROVED",{"$f":"G1634*'Lookup Tables'!$R$14","v":7.4011000000000005},{"$f":"H1634*'Lookup Tables'!$R$14","v":0},{"$f":"I1634*'Lookup Tables'!$R$14","v":0},{"$f":"J1634*'Lookup Tables'!$R$14","v":7.6954000000000002},{"$f":"K1634*'Lookup Tables'!$R$14","v":15.096500000000001}]
[1768,2,"Secondhand Material Applied",0,0.05,"BOTTOM ROD SAFETY SUPPORT, AAR APPROVED",{"$f":"G1635*'Lookup Tables'!$R$14","v":4.3927000000000005},{"$f":"H1635*'Lookup Tables'!$R$14","v":0},{"$f":"I1635*'Lookup Tables'!$R$14","v":0},{"$f":"J1635*'Lookup Tables'!$R$14","v":7.6954000000000002},{"$f":"K1635*'Lookup Tables'!$R$14","v":12.088100000000001}]
[1770,1,"New Material Applied",0,5.3999999999999999E-2,"BRAKE PIN LOCKING DEVICE",{"$f":"G1636*'Lookup Tables'!$R$14","v":1.5914000000000001},{"$f":"H1636*'Lookup Tables'!$R$14","v":6.54E-2},{"$f":"I1636*'Lookup Tables'!$R$14","v":0},{"$f":"J1636*'Lookup Tables'!$R$14","v":8.3167000000000009},{"$f":"K1636*'Lookup Tables'!$R$14","v":9.908100000000001}]
[1792,1,"New Material Applied",0,0.2,"BOTTOM ROD",{"$f":"G1637*'Lookup Tables'!$R$14","v":57.780900000000003},{"$f":"H1637*'Lookup Tables'!$R$14","v":4.3164000000000007},{"$f":"I1637*'Lookup Tables'!$R$14","v":0},{"$f":"J1637*'Lookup Tables'!$R$14","v":30.792500000000004},{"$f":"K1637*'Lookup Tables'!$R$14","v":88.573399999999992}]
[1792,2,"Secondhand Material Applied",0,0.2,"BOTTOM ROD",{"$f":"G1638*'Lookup Tables'!$R$14","v":28.972200000000001},{"$f":"H1638*'Lookup Tables'!$R$14","v":4.3164000000000007},{"$f":"I1638*'Lookup Tables'!$R$14","v":0},{"$f":"J1638*'Lookup Tables'!$R$14","v":30.792500000000004},{"$f":"K1638*'Lookup Tables'!$R$14","v":59.764700000000005}]
[1792,8,"Remove, repair, and replace same part",0,0.2,"BOTTOM ROD",{"$f":"G1639*'Lookup Tables'!$R$14","v":49.9983},{"$f":"H1639*'Lookup Tables'!$R$14","v":0},{"$f":"I1639*'Lookup Tables'!$R$14","v":0},{"$f":"J1639*'Lookup Tables'!$R$14","v":30.792500000000004},{"$f":"K1639*'Lookup Tables'!$R$14","v":80.790800000000004}]
[1794,1,"New Material Applied",8.5000000000000006E-2,4.8000000000000001E-2,"BOTTOM ROD-TRUCK MOUNTED",{"$f":"G1640*'Lookup Tables'!$R$14","v":209.20370000000003},{"$f":"H1640*'Lookup Tables'!$R$14","v":4.3164000000000007},{"$f":"I1640*'Lookup Tables'!$R$14","v":13.090900000000001},{"$f":"J1640*'Lookup Tables'!$R$14","v":7.390200000000001},{"$f":"K1640*'Lookup Tables'!$R$14","v":216.59390000000002}]
[1794,2,"Secondhand Material Applied",8.5000000000000006E-2,4.8000000000000001E-2,"BOTTOM ROD-TRUCK MOUNTED",{"$f":"G1641*'Lookup Tables'!$R$14","v":104.60730000000001},{"$f":"H1641*'Lookup Tables'!$R$14","v":4.3164000000000007},{"$f":"I1641*'Lookup Tables'!$R$14","v":13.090900000000001},{"$f":"J1641*'Lookup Tables'!$R$14","v":7.390200000000001},{"$f":"K1641*'Lookup Tables'!$R$14","v":111.9975}]
[1794,8,"Remove, repair, and replace same part",8.5000000000000006E-2,4.8000000000000001E-2,"BOTTOM ROD-TRUCK MOUNTED",{"$f":"G1642*'Lookup Tables'!$R$14","v":49.834800000000001},{"$f":"H1642*'Lookup Tables'!$R$14","v":0},{"$f":"I1642*'Lookup Tables'!$R$14","v":13.090900000000001},{"$f":"J1642*'Lookup Tables'!$R$14","v":7.390200000000001},{"$f":"K1642*'Lookup Tables'!$R$14","v":57.225000000000001}]
[1796,1,"New Material Applied",0.16200000000000001,0,"TOP ROD, ANY SIZE DIAMETER",{"$f":"G1643*'Lookup Tables'!$R$14","v":5.7225000000000001},{"$f":"H1643*'Lookup Tables'!$R$14","v":0.23980000000000001},{"$f":"I1643*'Lookup Tables'!$R$14","v":24.9392},{"$f":"J1643*'Lookup Tables'!$R$14","v":0},{"$f":"K1643*'Lookup Tables'!$R$14","v":5.7225000000000001}]
[1796,2,"Secondhand Material Applied",0.16200000000000001,0,"TOP ROD, ANY SIZE DIAMETER",{"$f":"G1644*'Lookup Tables'!$R$14","v":2.8667000000000002},{"$f":"H1644*'Lookup Tables'!$R$14","v":0.23980000000000001},{"$f":"I1644*'Lookup Tables'!$R$14","v":24.9392},{"$f":"J1644*'Lookup Tables'!$R$14","v":0},{"$f":"K1644*'Lookup Tables'!$R$14","v":2.8667000000000002}]
[1796,8,"Remove, repair, and replace same part",0.123,0,"TOP ROD, ANY SIZE DIAMETER",{"$f":"G1645*'Lookup Tables'!$R$14","v":2.7795000000000001},{"$f":"H1645*'Lookup Tables'!$R$14","v":0},{"$f":"I1645*'Lookup Tables'!$R$14","v":18.933300000000003},{"$f":"J1645*'Lookup Tables'!$R$14","v":0},{"$f":"K1645*'Lookup Tables'!$R$14","v":2.7795000000000001}]
[1796,9,"Remove and replace same part",0.123,0,"TOP ROD, ANY SIZE DIAMETER",{"$f":"G1646*'Lookup Tables'!$R$14","v":0},{"$f":"H1646*'Lookup Tables'!$R$14","v":0},{"$f":"I1646*'Lookup Tables'!$R$14","v":18.933300000000003},{"$f":"J1646*'Lookup Tables'!$R$14","v":0},{"$f":"K1646*'Lookup Tables'!$R$14","v":0}]
[1800,1,"New Material Applied",8.5000000000000006E-2,5.7000000000000002E-2,"BRAKE LEVER",{"$f":"G1647*'Lookup Tables'!$R$14","v":38.422499999999999},{"$f":"H1647*'Lookup Tables'!$R$14","v":3.3572000000000002},{"$f":"I1647*'Lookup Tables'!$R$14","v":13.090900000000001},{"$f":"J1647*'Lookup Tables'!$R$14","v":8.7745000000000015},{"$f":"K1647*'Lookup Tables'!$R$14","v":47.197000000000003}]
[1800,2,"Secondhand Material Applied",8.5000000000000006E-2,5.7000000000000002E-2,"BRAKE LEVER",{"$f":"G1648*'Lookup Tables'!$R$14","v":19.456500000000002},{"$f":"H1648*'Lookup Tables'!$R$14","v":3.3572000000000002},{"$f":"I1648*'Lookup Tables'!$R$14","v":13.090900000000001},{"$f":"J1648*'Lookup Tables'!$R$14","v":8.7745000000000015},{"$f":"K1648*'Lookup Tables'!$R$14","v":28.231000000000005}]
[1800,8,"Remove, repair, and replace same part",8.5000000000000006E-2,5.7000000000000002E-2,"BRAKE LEVER",{"$f":"G1649*'Lookup Tables'!$R$14","v":33.441200000000002},{"$f":"H1649*'Lookup Tables'!$R$14","v":0},{"$f":"I1649*'Lookup Tables'!$R$14","v":13.090900000000001},{"$f":"J1649*'Lookup Tables'!$R$14","v":8.7745000000000015},{"$f":"K1649*'Lookup Tables'!$R$14","v":42.215700000000005}]
[1802,1,"New Material Applied",8.5000000000000006E-2,0.03,"BRAKE LEVER, TRUCK MOUNTED",{"$f":"G1650*'Lookup Tables'!$R$14","v":126.22200000000001},{"$f":"H1650*'Lookup Tables'!$R$14","v":3.3572000000000002},{"$f":"I1650*'Lookup Tables'!$R$14","v":13.090900000000001},{"$f":"J1650*'Lookup Tables'!$R$14","v":4.6216000000000008},{"$f":"K1650*'Lookup Tables'!$R$14","v":130.84360000000001}]
[1802,2,"Secondhand Material Applied",8.5000000000000006E-2,0.03,"BRAKE LEVER, TRUCK MOUNTED",{"$f":"G1651*'Lookup Tables'!$R$14","v":63.165500000000009},{"$f":"H1651*'Lookup Tables'!$R$14","v":3.3572000000000002},{"$f":"I1651*'Lookup Tables'!$R$14","v":13.090900000000001},{"$f":"J1651*'Lookup Tables'!$R$14","v":4.6216000000000008},{"$f":"K1651*'Lookup Tables'!$R$14","v":67.787100000000009}]
[1802,8,"Remove, repair, and replace same part",8.5000000000000006E-2,0.03,"BRAKE LEVER, TRUCK MOUNTED",{"$f":"G1652*'Lookup Tables'!$R$14","v":39.250900000000001},{"$f":"H1652*'Lookup Tables'!$R$14","v":0},{"$f":"I1652*'Lookup Tables'!$R$14","v":13.090900000000001},{"$f":"J1652*'Lookup Tables'!$R$14","v":4.6216000000000008},{"$f":"K1652*'Lookup Tables'!$R$14","v":43.872500000000002}]
[1804,1,"New Material Applied",0,0.23699999999999999,"BRAKE LEVER GUIDE OR CARRIER",{"$f":"G1653*'Lookup Tables'!$R$14","v":34.6511},{"$f":"H1653*'Lookup Tables'!$R$14","v":1.0791000000000002},{"$f":"I1653*'Lookup Tables'!$R$14","v":0},{"$f":"J1653*'Lookup Tables'!$R$14","v":36.482300000000002},{"$f":"K1653*'Lookup Tables'!$R$14","v":71.133399999999995}]
[1804,2,"Secondhand Material Applied",0,0.23699999999999999,"BRAKE LEVER GUIDE OR CARRIER",{"$f":"G1654*'Lookup Tables'!$R$14","v":18.1267},{"$f":"H1654*'Lookup Tables'!$R$14","v":1.0791000000000002},{"$f":"I1654*'Lookup Tables'!$R$14","v":0},{"$f":"J1654*'Lookup Tables'!$R$14","v":36.482300000000002},{"$f":"K1654*'Lookup Tables'!$R$14","v":54.608999999999995}]
[1804,8,"Remove, repair, and replace same part",0,0.23699999999999999,"BRAKE LEVER GUIDE OR CARRIER",{"$f":"G1655*'Lookup Tables'!$R$14","v":34.6511},{"$f":"H1655*'Lookup Tables'!$R$14","v":1.0791000000000002},{"$f":"I1655*'Lookup Tables'!$R$14","v":0},{"$f":"J1655*'Lookup Tables'!$R$14","v":36.482300000000002},{"$f":"K1655*'Lookup Tables'!$R$14","v":71.133399999999995}]
[1808,1,"New Material Applied",0,0.25,"BRAKE DEAD LEVER GUIDE",{"$f":"G1656*'Lookup Tables'!$R$14","v":36.2425},{"$f":"H1656*'Lookup Tables'!$R$14","v":1.0791000000000002},{"$f":"I1656*'Lookup Tables'!$R$14","v":0},{"$f":"J1656*'Lookup Tables'!$R$14","v":38.487900000000003},{"$f":"K1656*'Lookup Tables'!$R$14","v":74.730400000000003}]
[1808,2,"Secondhand Material Applied",0,0.25,"BRAKE DEAD LEVER GUIDE",{"$f":"G1657*'Lookup Tables'!$R$14","v":19.7181},{"$f":"H1657*'Lookup Tables'!$R$14","v":1.0791000000000002},{"$f":"I1657*'Lookup Tables'!$R$14","v":0},{"$f":"J1657*'Lookup Tables'!$R$14","v":38.487900000000003},{"$f":"K1657*'Lookup Tables'!$R$14","v":58.20600000000001}]
[1808,8,"Remove, repair, and replace same part",0,0.25,"BRAKE DEAD LEVER GUIDE",{"$f":"G1658*'Lookup Tables'!$R$14","v":36.2425},{"$f":"H1658*'Lookup Tables'!$R$14","v":1.0791000000000002},{"$f":"I1658*'Lookup Tables'!$R$14","v":0},{"$f":"J1658*'Lookup Tables'!$R$14","v":38.487900000000003},{"$f":"K1658*'Lookup Tables'!$R$14","v":74.730400000000003}]
[1812,1,"New Material Applied",0,0.31900000000000001,"DEAD LEVER GUIDE BRACKET",{"$f":"G1659*'Lookup Tables'!$R$14","v":35.980899999999998},{"$f":"H1659*'Lookup Tables'!$R$14","v":1.0791000000000002},{"$f":"I1659*'Lookup Tables'!$R$14","v":0},{"$f":"J1659*'Lookup Tables'!$R$14","v":49.115400000000008},{"$f":"K1659*'Lookup Tables'!$R$14","v":85.096299999999999}]
[1812,2,"Secondhand Material Applied",0,0.31900000000000001,"DEAD LEVER GUIDE BRACKET",{"$f":"G1660*'Lookup Tables'!$R$14","v":19.456500000000002},{"$f":"H1660*'Lookup Tables'!$R$14","v":1.0791000000000002},{"$f":"I1660*'Lookup Tables'!$R$14","v":0},{"$f":"J1660*'Lookup Tables'!$R$14","v":49.115400000000008},{"$f":"K1660*'Lookup Tables'!$R$14","v":68.571900000000014}]
[1814,1,"New Material Applied",9.0999999999999998E-2,9.7000000000000003E-2,"TOP ROD JAW, WELD REP, ANY SIZE DIAM",{"$f":"G1661*'Lookup Tables'!$R$14","v":12.687600000000002},{"$f":"H1661*'Lookup Tables'!$R$14","v":0.11990000000000001},{"$f":"I1661*'Lookup Tables'!$R$14","v":14.006500000000001},{"$f":"J1661*'Lookup Tables'!$R$14","v":14.933},{"$f":"K1661*'Lookup Tables'!$R$14","v":27.620600000000003}]
[1816,1,"New Material Applied",9.0999999999999998E-2,8.2000000000000003E-2,"TOP ROD FITTING, WELD REP, ANY SIZE DIAM",{"$f":"G1662*'Lookup Tables'!$R$14","v":9.7664000000000009},{"$f":"H1662*'Lookup Tables'!$R$14","v":0.11990000000000001},{"$f":"I1662*'Lookup Tables'!$R$14","v":14.006500000000001},{"$f":"J1662*'Lookup Tables'!$R$14","v":12.622200000000001},{"$f":"K1662*'Lookup Tables'!$R$14","v":22.3886}]
[1838,1,"New Material Applied",0,0.121,"BRAKE SHOE-COMP. HI-FRCT 1-1/2 IN.",{"$f":"G1663*'Lookup Tables'!$R$14","v":6.3765000000000001},{"$f":"H1663*'Lookup Tables'!$R$14","v":0},{"$f":"I1663*'Lookup Tables'!$R$14","v":0},{"$f":"J1663*'Lookup Tables'!$R$14","v":18.6281},{"$f":"K1663*'Lookup Tables'!$R$14","v":25.0046}]
[1840,1,"New Material Applied",0,0.121,"BRAKE SHOE-COMP, HI-FRCT 2 IN.",{"$f":"G1664*'Lookup Tables'!$R$14","v":7.1286000000000005},{"$f":"H1664*'Lookup Tables'!$R$14","v":0},{"$f":"I1664*'Lookup Tables'!$R$14","v":0},{"$f":"J1664*'Lookup Tables'!$R$14","v":18.6281},{"$f":"K1664*'Lookup Tables'!$R$14","v":25.756700000000002}]
[1842,1,"New Material Applied",0,0.121,"BRK SHOE-COMP-HI-FRCT 1 1/2 IRN INS-RED",{"$f":"G1665*'Lookup Tables'!$R$14","v":20.339400000000001},{"$f":"H1665*'Lookup Tables'!$R$14","v":0},{"$f":"I1665*'Lookup Tables'!$R$14","v":0},{"$f":"J1665*'Lookup Tables'!$R$14","v":18.6281},{"$f":"K1665*'Lookup Tables'!$R$14","v":38.967500000000001}]
[1843,1,"New Material Applied",0,0.121,"BRK SHOE-COMP-HI-FRCT 2 IRON INS (RED)",{"$f":"G1666*'Lookup Tables'!$R$14","v":21.985300000000002},{"$f":"H1666*'Lookup Tables'!$R$14","v":0},{"$f":"I1666*'Lookup Tables'!$R$14","v":0},{"$f":"J1666*'Lookup Tables'!$R$14","v":18.6281},{"$f":"K1666*'Lookup Tables'!$R$14","v":40.613400000000006}]
[1844,1,"New Material Applied",0,0.121,"BRAKE SHOE-COMP, LOW FRICTION (YELLOW)",{"$f":"G1667*'Lookup Tables'!$R$14","v":14.900300000000001},{"$f":"H1667*'Lookup Tables'!$R$14","v":0},{"$f":"I1667*'Lookup Tables'!$R$14","v":0},{"$f":"J1667*'Lookup Tables'!$R$14","v":18.6281},{"$f":"K1667*'Lookup Tables'!$R$14","v":33.528399999999998}]
[1845,1,"New Material Applied",0,0.121,"BRK SHOE-HCF-HI-FRCT 1 1/2 -INCH (RED)",{"$f":"G1668*'Lookup Tables'!$R$14","v":33.408500000000004},{"$f":"H1668*'Lookup Tables'!$R$14","v":0},{"$f":"I1668*'Lookup Tables'!$R$14","v":0},{"$f":"J1668*'Lookup Tables'!$R$14","v":18.6281},{"$f":"K1668*'Lookup Tables'!$R$14","v":52.0366}]
[1846,1,"New Material Applied",0,0.121,"BRK SHOE-HCF-HI-FRCT 2 -INCH (RED)",{"$f":"G1669*'Lookup Tables'!$R$14","v":35.970000000000006},{"$f":"H1669*'Lookup Tables'!$R$14","v":0},{"$f":"I1669*'Lookup Tables'!$R$14","v":0},{"$f":"J1669*'Lookup Tables'!$R$14","v":18.6281},{"$f":"K1669*'Lookup Tables'!$R$14","v":54.598100000000009}]
[1852,1,"New Material Applied",0,9.9000000000000005E-2,"BRAKE SHOE KEY",{"$f":"G1670*'Lookup Tables'!$R$14","v":1.7222000000000002},{"$f":"H1670*'Lookup Tables'!$R$14","v":0},{"$f":"I1670*'Lookup Tables'!$R$14","v":0},{"$f":"J1670*'Lookup Tables'!$R$14","v":15.238200000000001},{"$f":"K1670*'Lookup Tables'!$R$14","v":16.960400000000003}]
[1864,1,"New Material Applied",1.1819999999999999,0,"HAND BRAKE HOUSING ASSEMBLY, GROUP C",{"$f":"G1671*'Lookup Tables'!$R$14","v":865.02400000000011},{"$f":"H1671*'Lookup Tables'!$R$14","v":9.3522000000000016},{"$f":"I1671*'Lookup Tables'!$R$14","v":181.97550000000001},{"$f":"J1671*'Lookup Tables'!$R$14","v":0},{"$f":"K1671*'Lookup Tables'!$R$14","v":865.02400000000011}]
[1864,3,"Reconditioned or Recertified Material Applied",1.1819999999999999,0,"HAND BRAKE HOUSING ASSEMBLY, GROUP C",{"$f":"G1672*'Lookup Tables'!$R$14","v":606.51960000000008},{"$f":"H1672*'Lookup Tables'!$R$14","v":9.3522000000000016},{"$f":"I1672*'Lookup Tables'!$R$14","v":181.97550000000001},{"$f":"J1672*'Lookup Tables'!$R$14","v":0},{"$f":"K1672*'Lookup Tables'!$R$14","v":606.51960000000008}]
[1898,1,"New Material Applied",0.47299999999999998,0,"HAND BRAKE HOUSING ASSEMBLY, GROUP N",{"$f":"G1673*'Lookup Tables'!$R$14","v":316.92840000000001},{"$f":"H1673*'Lookup Tables'!$R$14","v":9.3522000000000016},{"$f":"I1673*'Lookup Tables'!$R$14","v":72.822900000000004},{"$f":"J1673*'Lookup Tables'!$R$14","v":0},{"$f":"K1673*'Lookup Tables'!$R$14","v":316.92840000000001}]
[1898,3,"Reconditioned or Recertified Material Applied",0.47299999999999998,0,"HAND BRAKE HOUSING ASSEMBLY, GROUP N",{"$f":"G1674*'Lookup Tables'!$R$14","v":222.85050000000001},{"$f":"H1674*'Lookup Tables'!$R$14","v":9.3522000000000016},{"$f":"I1674*'Lookup Tables'!$R$14","v":72.822900000000004},{"$f":"J1674*'Lookup Tables'!$R$14","v":0},{"$f":"K1674*'Lookup Tables'!$R$14","v":222.85050000000001}]
[1900,1,{"$f":"VLOOKUP(B324,$B$2686:$C$2701,2,FALSE)","v":"New Material Applied"},0.47299999999999998,0,"HAND BRAKE HOUSING ASSEMBLY, GROUP O",{"$f":"G1675*'Lookup Tables'!$R$14","v":358.25030000000004},{"$f":"H1675*'Lookup Tables'!$R$14","v":9.3522000000000016},{"$f":"I1675*'Lookup Tables'!$R$14","v":72.822900000000004},{"$f":"J1675*'Lookup Tables'!$R$14","v":0},{"$f":"K1675*'Lookup Tables'!$R$14","v":358.25030000000004}]
[1900,3,"Reconditioned or Recertified Material Applied",0.47299999999999998,0,"HAND BRAKE HOUSING ASSEMBLY, GROUP O",{"$f":"G1676*'Lookup Tables'!$R$14","v":251.77910000000003},{"$f":"H1676*'Lookup Tables'!$R$14","v":9.3522000000000016},{"$f":"I1676*'Lookup Tables'!$R$14","v":72.822900000000004},{"$f":"J1676*'Lookup Tables'!$R$14","v":0},{"$f":"K1676*'Lookup Tables'!$R$14","v":251.77910000000003}]
[1902,1,"New Material Applied",0.47299999999999998,0,"HAND BRAKE HOUSING ASSEMBLY, GROUP P",{"$f":"G1677*'Lookup Tables'!$R$14","v":960.64970000000017},{"$f":"H1677*'Lookup Tables'!$R$14","v":9.3522000000000016},{"$f":"I1677*'Lookup Tables'!$R$14","v":72.822900000000004},{"$f":"J1677*'Lookup Tables'!$R$14","v":0},{"$f":"K1677*'Lookup Tables'!$R$14","v":960.64970000000017}]
[1902,3,"Reconditioned or Recertified Material Applied",0.47299999999999998,0,"HAND BRAKE HOUSING ASSEMBLY, GROUP P",{"$f":"G1678*'Lookup Tables'!$R$14","v":673.45650000000012},{"$f":"H1678*'Lookup Tables'!$R$14","v":9.3522000000000016},{"$f":"I1678*'Lookup Tables'!$R$14","v":72.822900000000004},{"$f":"J1678*'Lookup Tables'!$R$14","v":0},{"$f":"K1678*'Lookup Tables'!$R$14","v":673.45650000000012}]
[1904,1,"New Material Applied",0.47299999999999998,0,"HAND BRAKE HOUSING ASSEMBLY, GROUP Q",{"$f":"G1679*'Lookup Tables'!$R$14","v":475.27269999999999},{"$f":"H1679*'Lookup Tables'!$R$14","v":9.3522000000000016},{"$f":"I1679*'Lookup Tables'!$R$14","v":72.822900000000004},{"$f":"J1679*'Lookup Tables'!$R$14","v":0},{"$f":"K1679*'Lookup Tables'!$R$14","v":475.27269999999999}]
[1904,3,"Reconditioned or Recertified Material Applied",0.47299999999999998,0,"HAND BRAKE HOUSING ASSEMBLY, GROUP Q",{"$f":"G1680*'Lookup Tables'!$R$14","v":333.69260000000003},{"$f":"H1680*'Lookup Tables'!$R$14","v":9.3522000000000016},{"$f":"I1680*'Lookup Tables'!$R$14","v":72.822900000000004},{"$f":"J1680*'Lookup Tables'!$R$14","v":0},{"$f":"K1680*'Lookup Tables'!$R$14","v":333.69260000000003}]
[1906,1,"New Material Applied",0.47299999999999998,0,"HAND BRAKE HOUSING ASSEMBLY, GROUP R",{"$f":"G1681*'Lookup Tables'!$R$14","v":610.83600000000001},{"$f":"H1681*'Lookup Tables'!$R$14","v":9.3522000000000016},{"$f":"I1681*'Lookup Tables'!$R$14","v":72.822900000000004},{"$f":"J1681*'Lookup Tables'!$R$14","v":0},{"$f":"K1681*'Lookup Tables'!$R$14","v":610.83600000000001}]
[1906,3,"Reconditioned or Recertified Material Applied",0.47299999999999998,0,"HAND BRAKE HOUSING ASSEMBLY, GROUP R",{"$f":"G1682*'Lookup Tables'!$R$14","v":428.58800000000002},{"$f":"H1682*'Lookup Tables'!$R$14","v":9.3522000000000016},{"$f":"I1682*'Lookup Tables'!$R$14","v":72.822900000000004},{"$f":"J1682*'Lookup Tables'!$R$14","v":0},{"$f":"K1682*'Lookup Tables'!$R$14","v":428.58800000000002}]
[1908,1,"New Material Applied",0.47299999999999998,0,"HAND BRAKE HOUSING ASSEMBLY, GROUP T",{"$f":"G1683*'Lookup Tables'!$R$14","v":450.69320000000005},{"$f":"H1683*'Lookup Tables'!$R$14","v":9.3522000000000016},{"$f":"I1683*'Lookup Tables'!$R$14","v":72.822900000000004},{"$f":"J1683*'Lookup Tables'!$R$14","v":0},{"$f":"K1683*'Lookup Tables'!$R$14","v":450.69320000000005}]
[1908,3,"Reconditioned or Recertified Material Applied",0.47299999999999998,0,"HAND BRAKE HOUSING ASSEMBLY, GROUP T",{"$f":"G1684*'Lookup Tables'!$R$14","v":316.49240000000003},{"$f":"H1684*'Lookup Tables'!$R$14","v":0},{"$f":"I1684*'Lookup Tables'!$R$14","v":72.822900000000004},{"$f":"J1684*'Lookup Tables'!$R$14","v":0},{"$f":"K1684*'Lookup Tables'!$R$14","v":316.49240000000003}]
[1909,1,"New Material Applied",0.47299999999999998,0,"HAND BRAKE HOUSING ASSEMBLY, GROUP U",{"$f":"G1685*'Lookup Tables'!$R$14","v":471.99180000000001},{"$f":"H1685*'Lookup Tables'!$R$14","v":9.3522000000000016},{"$f":"I1685*'Lookup Tables'!$R$14","v":72.822900000000004},{"$f":"J1685*'Lookup Tables'!$R$14","v":0},{"$f":"K1685*'Lookup Tables'!$R$14","v":471.99180000000001}]
[1909,3,"Reconditioned or Recertified Material Applied",0.47299999999999998,0,"HAND BRAKE HOUSING ASSEMBLY, GROUP U",{"$f":"G1686*'Lookup Tables'!$R$14","v":331.40360000000004},{"$f":"H1686*'Lookup Tables'!$R$14","v":0},{"$f":"I1686*'Lookup Tables'!$R$14","v":72.822900000000004},{"$f":"J1686*'Lookup Tables'!$R$14","v":0},{"$f":"K1686*'Lookup Tables'!$R$14","v":331.40360000000004}]
[1910,1,"New Material Applied",0.47299999999999998,0,"HAND BRAKE HOUSING ASSEMBLY, GROUP V",{"$f":"G1687*'Lookup Tables'!$R$14","v":501.71610000000004},{"$f":"H1687*'Lookup Tables'!$R$14","v":9.3522000000000016},{"$f":"I1687*'Lookup Tables'!$R$14","v":72.822900000000004},{"$f":"J1687*'Lookup Tables'!$R$14","v":0},{"$f":"K1687*'Lookup Tables'!$R$14","v":501.71610000000004}]
[1910,3,"Reconditioned or Recertified Material Applied",0.47299999999999998,0,"HAND BRAKE HOUSING ASSEMBLY, GROUP V",{"$f":"G1688*'Lookup Tables'!$R$14","v":352.20080000000002},{"$f":"H1688*'Lookup Tables'!$R$14","v":9.3522000000000016},{"$f":"I1688*'Lookup Tables'!$R$14","v":72.822900000000004},{"$f":"J1688*'Lookup Tables'!$R$14","v":0},{"$f":"K1688*'Lookup Tables'!$R$14","v":352.20080000000002}]
[1916,1,"New Material Applied",0.25800000000000001,0,"BELL CRANK, AAR, 1966 TYPE",{"$f":"G1689*'Lookup Tables'!$R$14","v":36.079000000000008},{"$f":"H1689*'Lookup Tables'!$R$14","v":2.0383000000000004},{"$f":"I1689*'Lookup Tables'!$R$14","v":39.7196},{"$f":"J1689*'Lookup Tables'!$R$14","v":0},{"$f":"K1689*'Lookup Tables'!$R$14","v":36.079000000000008}]
[1916,2,"Secondhand Material Applied",0.25800000000000001,0,"BELL CRANK, AAR, 1966 TYPE",{"$f":"G1690*'Lookup Tables'!$R$14","v":18.6281},{"$f":"H1690*'Lookup Tables'!$R$14","v":2.0383000000000004},{"$f":"I1690*'Lookup Tables'!$R$14","v":39.7196},{"$f":"J1690*'Lookup Tables'!$R$14","v":0},{"$f":"K1690*'Lookup Tables'!$R$14","v":18.6281}]
[1916,9,"Remove and replace same part",0.25800000000000001,0,"BELL CRANK, AAR, 1966 TYPE",{"$f":"G1691*'Lookup Tables'!$R$14","v":0.49050000000000005},{"$f":"H1691*'Lookup Tables'!$R$14","v":0},{"$f":"I1691*'Lookup Tables'!$R$14","v":39.7196},{"$f":"J1691*'Lookup Tables'!$R$14","v":0},{"$f":"K1691*'Lookup Tables'!$R$14","v":0.49050000000000005}]
[1920,1,"New Material Applied",0.25800000000000001,0,"BELL CRANK, AAR, PRIOR TO 1966 TYPE",{"$f":"G1692*'Lookup Tables'!$R$14","v":42.466400000000007},{"$f":"H1692*'Lookup Tables'!$R$14","v":1.7985},{"$f":"I1692*'Lookup Tables'!$R$14","v":39.7196},{"$f":"J1692*'Lookup Tables'!$R$14","v":0},{"$f":"K1692*'Lookup Tables'!$R$14","v":42.466400000000007}]
[1920,2,"Secondhand Material Applied",0.25800000000000001,0,"BELL CRANK, AAR, PRIOR TO 1966 TYPE",{"$f":"G1693*'Lookup Tables'!$R$14","v":21.8218},{"$f":"H1693*'Lookup Tables'!$R$14","v":1.7985},{"$f":"I1693*'Lookup Tables'!$R$14","v":39.7196},{"$f":"J1693*'Lookup Tables'!$R$14","v":0},{"$f":"K1693*'Lookup Tables'!$R$14","v":21.8218}]
[1920,9,"Remove and replace same part",0.25800000000000001,0,"BELL CRANK, AAR, PRIOR TO 1966 TYPE",{"$f":"G1694*'Lookup Tables'!$R$14","v":0.49050000000000005},{"$f":"H1694*'Lookup Tables'!$R$14","v":0},{"$f":"I1694*'Lookup Tables'!$R$14","v":39.7196},{"$f":"J1694*'Lookup Tables'!$R$14","v":0},{"$f":"K1694*'Lookup Tables'!$R$14","v":0.49050000000000005}]
[1936,1,"New Material Applied",0.2,0,"BRAKE WHEEL, HORIZ TYPE, GEARED BRAKE",{"$f":"G1695*'Lookup Tables'!$R$14","v":60.941900000000004},{"$f":"H1695*'Lookup Tables'!$R$14","v":1.5587},{"$f":"I1695*'Lookup Tables'!$R$14","v":30.792500000000004},{"$f":"J1695*'Lookup Tables'!$R$14","v":0},{"$f":"K1695*'Lookup Tables'!$R$14","v":60.941900000000004}]
[1936,2,"Secondhand Material Applied",0.2,0,"BRAKE WHEEL, HORIZ TYPE, GEARED BRAKE",{"$f":"G1696*'Lookup Tables'!$R$14","v":30.552700000000005},{"$f":"H1696*'Lookup Tables'!$R$14","v":1.5587},{"$f":"I1696*'Lookup Tables'!$R$14","v":30.792500000000004},{"$f":"J1696*'Lookup Tables'!$R$14","v":0},{"$f":"K1696*'Lookup Tables'!$R$14","v":30.552700000000005}]
[1936,8,"Remove, repair, and replace same part",0.2,0,"BRAKE WHEEL, HORIZ TYPE, GEARED BRAKE",{"$f":"G1697*'Lookup Tables'!$R$14","v":18.159400000000002},{"$f":"H1697*'Lookup Tables'!$R$14","v":0},{"$f":"I1697*'Lookup Tables'!$R$14","v":30.792500000000004},{"$f":"J1697*'Lookup Tables'!$R$14","v":0},{"$f":"K1697*'Lookup Tables'!$R$14","v":18.159400000000002}]
[1941,1,"New Material Applied",0.2,0,"BRAKE WHEEL, VERTICAL TYPE STANDARD #1",{"$f":"G1698*'Lookup Tables'!$R$14","v":47.088000000000008},{"$f":"H1698*'Lookup Tables'!$R$14","v":2.0383000000000004},{"$f":"I1698*'Lookup Tables'!$R$14","v":30.792500000000004},{"$f":"J1698*'Lookup Tables'!$R$14","v":0},{"$f":"K1698*'Lookup Tables'!$R$14","v":47.088000000000008}]
[1941,2,"Secondhand Material Applied",0.2,0,"BRAKE WHEEL, VERTICAL TYPE STANDARD #1",{"$f":"G1699*'Lookup Tables'!$R$14","v":23.6312},{"$f":"H1699*'Lookup Tables'!$R$14","v":2.0383000000000004},{"$f":"I1699*'Lookup Tables'!$R$14","v":30.792500000000004},{"$f":"J1699*'Lookup Tables'!$R$14","v":0},{"$f":"K1699*'Lookup Tables'!$R$14","v":23.6312}]
[1941,8,"Remove, repair, and replace same part",0.2,0,"BRAKE WHEEL, VERTICAL TYPE STANDARD #1",{"$f":"G1700*'Lookup Tables'!$R$14","v":23.6966},{"$f":"H1700*'Lookup Tables'!$R$14","v":0},{"$f":"I1700*'Lookup Tables'!$R$14","v":30.792500000000004},{"$f":"J1700*'Lookup Tables'!$R$14","v":0},{"$f":"K1700*'Lookup Tables'!$R$14","v":23.6966}]
[1942,1,"New Material Applied",0.2,0,"BRAKE WHEEL, VERTICAL TYPE STANDARD #2",{"$f":"G1701*'Lookup Tables'!$R$14","v":32.8962},{"$f":"H1701*'Lookup Tables'!$R$14","v":2.0383000000000004},{"$f":"I1701*'Lookup Tables'!$R$14","v":30.792500000000004},{"$f":"J1701*'Lookup Tables'!$R$14","v":0},{"$f":"K1701*'Lookup Tables'!$R$14","v":32.8962}]
[1942,2,"Secondhand Material Applied",0.2,0,"BRAKE WHEEL, VERTICAL TYPE STANDARD #2",{"$f":"G1702*'Lookup Tables'!$R$14","v":16.535299999999999},{"$f":"H1702*'Lookup Tables'!$R$14","v":2.0383000000000004},{"$f":"I1702*'Lookup Tables'!$R$14","v":30.792500000000004},{"$f":"J1702*'Lookup Tables'!$R$14","v":0},{"$f":"K1702*'Lookup Tables'!$R$14","v":16.535299999999999}]
[1942,8,"Remove, repair, and replace same part",0.2,0,"BRAKE WHEEL, VERTICAL TYPE STANDARD #2",{"$f":"G1703*'Lookup Tables'!$R$14","v":23.6966},{"$f":"H1703*'Lookup Tables'!$R$14","v":0},{"$f":"I1703*'Lookup Tables'!$R$14","v":30.792500000000004},{"$f":"J1703*'Lookup Tables'!$R$14","v":0},{"$f":"K1703*'Lookup Tables'!$R$14","v":23.6966}]
[1960,1,"New Material Applied",0.61699999999999999,0,"BRAKE SHAFT, 5 FEET OR LESS",{"$f":"G1704*'Lookup Tables'!$R$14","v":106.1442},{"$f":"H1704*'Lookup Tables'!$R$14","v":2.3980000000000006},{"$f":"I1704*'Lookup Tables'!$R$14","v":94.993500000000012},{"$f":"J1704*'Lookup Tables'!$R$14","v":0},{"$f":"K1704*'Lookup Tables'!$R$14","v":106.1442}]
[1960,2,"Secondhand Material Applied",0.61699999999999999,0,"BRAKE SHAFT, 5 FEET OR LESS",{"$f":"G1705*'Lookup Tables'!$R$14","v":53.148400000000002},{"$f":"H1705*'Lookup Tables'!$R$14","v":2.3980000000000006},{"$f":"I1705*'Lookup Tables'!$R$14","v":94.993500000000012},{"$f":"J1705*'Lookup Tables'!$R$14","v":0},{"$f":"K1705*'Lookup Tables'!$R$14","v":53.148400000000002}]
[1960,8,"Remove, repair, and replace same part",0.61699999999999999,0,"BRAKE SHAFT, 5 FEET OR LESS",{"$f":"G1706*'Lookup Tables'!$R$14","v":27.849500000000003},{"$f":"H1706*'Lookup Tables'!$R$14","v":0},{"$f":"I1706*'Lookup Tables'!$R$14","v":94.993500000000012},{"$f":"J1706*'Lookup Tables'!$R$14","v":0},{"$f":"K1706*'Lookup Tables'!$R$14","v":27.849500000000003}]
[1968,1,"New Material Applied",0.2,0,"BRAKE SHAFT RATCHET WHEEL",{"$f":"G1707*'Lookup Tables'!$R$14","v":34.4985},{"$f":"H1707*'Lookup Tables'!$R$14","v":0.47960000000000003},{"$f":"I1707*'Lookup Tables'!$R$14","v":30.792500000000004},{"$f":"J1707*'Lookup Tables'!$R$14","v":0},{"$f":"K1707*'Lookup Tables'!$R$14","v":34.4985}]
[1968,2,"Secondhand Material Applied",0.2,0,"BRAKE SHAFT RATCHET WHEEL",{"$f":"G1708*'Lookup Tables'!$R$14","v":17.2547},{"$f":"H1708*'Lookup Tables'!$R$14","v":0.47960000000000003},{"$f":"I1708*'Lookup Tables'!$R$14","v":30.792500000000004},{"$f":"J1708*'Lookup Tables'!$R$14","v":0},{"$f":"K1708*'Lookup Tables'!$R$14","v":17.2547}]
[1984,1,"New Material Applied",0.58899999999999997,0,"BRAKE CHAIN HORIZONTAL",{"$f":"G1709*'Lookup Tables'!$R$14","v":56.254900000000006},{"$f":"H1709*'Lookup Tables'!$R$14","v":0.95920000000000005},{"$f":"I1709*'Lookup Tables'!$R$14","v":90.67710000000001},{"$f":"J1709*'Lookup Tables'!$R$14","v":0},{"$f":"K1709*'Lookup Tables'!$R$14","v":56.254900000000006}]
[1984,2,"Secondhand Material Applied",0.58899999999999997,0,"BRAKE CHAIN HORIZONTAL",{"$f":"G1710*'Lookup Tables'!$R$14","v":28.525300000000005},{"$f":"H1710*'Lookup Tables'!$R$14","v":0.95920000000000005},{"$f":"I1710*'Lookup Tables'!$R$14","v":90.67710000000001},{"$f":"J1710*'Lookup Tables'!$R$14","v":0},{"$f":"K1710*'Lookup Tables'!$R$14","v":28.525300000000005}]
[1986,1,"New Material Applied",0,0.13300000000000001,"BRAKE CHAIN CLEVIS",{"$f":"G1711*'Lookup Tables'!$R$14","v":11.957300000000002},{"$f":"H1711*'Lookup Tables'!$R$14","v":0.35970000000000002},{"$f":"I1711*'Lookup Tables'!$R$14","v":0},{"$f":"J1711*'Lookup Tables'!$R$14","v":20.481100000000001},{"$f":"K1711*'Lookup Tables'!$R$14","v":32.438400000000001}]
[1988,1,"New Material Applied",0,8.7999999999999995E-2,"PULLROD CLEVIS",{"$f":"G1712*'Lookup Tables'!$R$14","v":42.095799999999997},{"$f":"H1712*'Lookup Tables'!$R$14","v":0.47960000000000003},{"$f":"I1712*'Lookup Tables'!$R$14","v":0},{"$f":"J1712*'Lookup Tables'!$R$14","v":13.5487},{"$f":"K1712*'Lookup Tables'!$R$14","v":55.644500000000001}]
[1988,2,"Secondhand Material Applied",0,8.7999999999999995E-2,"PULLROD CLEVIS",{"$f":"G1713*'Lookup Tables'!$R$14","v":21.1569},{"$f":"H1713*'Lookup Tables'!$R$14","v":0.47960000000000003},{"$f":"I1713*'Lookup Tables'!$R$14","v":0},{"$f":"J1713*'Lookup Tables'!$R$14","v":13.5487},{"$f":"K1713*'Lookup Tables'!$R$14","v":34.705600000000004}]
[1988,8,"Remove, repair, and replace same part",0,8.7999999999999995E-2,"PULLROD CLEVIS",{"$f":"G1714*'Lookup Tables'!$R$14","v":5.8642000000000003},{"$f":"H1714*'Lookup Tables'!$R$14","v":0},{"$f":"I1714*'Lookup Tables'!$R$14","v":0},{"$f":"J1714*'Lookup Tables'!$R$14","v":13.5487},{"$f":"K1714*'Lookup Tables'!$R$14","v":19.4129}]
[1990,1,"New Material Applied",0,8.7999999999999995E-2,"LEVER FULCRUM BRACKET",{"$f":"G1715*'Lookup Tables'!$R$14","v":89.23830000000001},{"$f":"H1715*'Lookup Tables'!$R$14","v":0.47960000000000003},{"$f":"I1715*'Lookup Tables'!$R$14","v":0},{"$f":"J1715*'Lookup Tables'!$R$14","v":13.5487},{"$f":"K1715*'Lookup Tables'!$R$14","v":102.78700000000002}]
[1990,2,"Secondhand Material Applied",0,8.7999999999999995E-2,"LEVER FULCRUM BRACKET",{"$f":"G1716*'Lookup Tables'!$R$14","v":44.908000000000008},{"$f":"H1716*'Lookup Tables'!$R$14","v":0.47960000000000003},{"$f":"I1716*'Lookup Tables'!$R$14","v":0},{"$f":"J1716*'Lookup Tables'!$R$14","v":13.5487},{"$f":"K1716*'Lookup Tables'!$R$14","v":58.456700000000005}]
[1990,8,"Remove, repair, and replace same part",0,8.7999999999999995E-2,"LEVER FULCRUM BRACKET",{"$f":"G1717*'Lookup Tables'!$R$14","v":5.8642000000000003},{"$f":"H1717*'Lookup Tables'!$R$14","v":0},{"$f":"I1717*'Lookup Tables'!$R$14","v":0},{"$f":"J1717*'Lookup Tables'!$R$14","v":13.5487},{"$f":"K1717*'Lookup Tables'!$R$14","v":19.4129}]
[1992,1,"New Material Applied",0,9.5000000000000001E-2,"PAINT HAND BRAKE CHAIN",{"$f":"G1718*'Lookup Tables'!$R$14","v":0.2616},{"$f":"H1718*'Lookup Tables'!$R$14","v":0},{"$f":"I1718*'Lookup Tables'!$R$14","v":0},{"$f":"J1718*'Lookup Tables'!$R$14","v":14.627800000000001},{"$f":"K1718*'Lookup Tables'!$R$14","v":14.889400000000002}]
[2009,2,"Secondhand Material Applied",0,1.0920000000000001,"COUPLER BODY, E 60 DC",{"$f":"G1719*'Lookup Tables'!$R$14","v":217.13890000000004},{"$f":"H1719*'Lookup Tables'!$R$14","v":35.970000000000006},{"$f":"I1719*'Lookup Tables'!$R$14","v":0},{"$f":"J1719*'Lookup Tables'!$R$14","v":168.11070000000001},{"$f":"K1719*'Lookup Tables'!$R$14","v":385.24960000000004}]
[2009,3,"Reconditioned or Recertified Material Applied",0,1.0920000000000001,"COUPLER BODY, E 60 DC",{"$f":"G1720*'Lookup Tables'!$R$14","v":328.91840000000002},{"$f":"H1720*'Lookup Tables'!$R$14","v":35.970000000000006},{"$f":"I1720*'Lookup Tables'!$R$14","v":0},{"$f":"J1720*'Lookup Tables'!$R$14","v":168.11070000000001},{"$f":"K1720*'Lookup Tables'!$R$14","v":497.02910000000003}]
[2009,"T","Component transfer",0,0,"COUPLER BODY, E 60 DC",{"$f":"G1721*'Lookup Tables'!$R$14","v":0},{"$f":"H1721*'Lookup Tables'!$R$14","v":0},{"$f":"I1721*'Lookup Tables'!$R$14","v":0},{"$f":"J1721*'Lookup Tables'!$R$14","v":0},{"$f":"K1721*'Lookup Tables'!$R$14","v":0}]
[2010,2,"Secondhand Material Applied",0,1.0920000000000001,"COUPLER BODY, SBE 60 DC",{"$f":"G1722*'Lookup Tables'!$R$14","v":295.91320000000002},{"$f":"H1722*'Lookup Tables'!$R$14","v":35.970000000000006},{"$f":"I1722*'Lookup Tables'!$R$14","v":0},{"$f":"J1722*'Lookup Tables'!$R$14","v":168.11070000000001},{"$f":"K1722*'Lookup Tables'!$R$14","v":464.02390000000008}]
[2010,3,"Reconditioned or Recertified Material Applied",0,1.0920000000000001,"COUPLER BODY, SBE 60 DC",{"$f":"G1723*'Lookup Tables'!$R$14","v":448.26250000000005},{"$f":"H1723*'Lookup Tables'!$R$14","v":35.970000000000006},{"$f":"I1723*'Lookup Tables'!$R$14","v":0},{"$f":"J1723*'Lookup Tables'!$R$14","v":168.11070000000001},{"$f":"K1723*'Lookup Tables'!$R$14","v":616.37320000000011}]
[2010,"T","Component transfer",0,0,"COUPLER BODY, SBE 60 DC",{"$f":"G1724*'Lookup Tables'!$R$14","v":0},{"$f":"H1724*'Lookup Tables'!$R$14","v":0},{"$f":"I1724*'Lookup Tables'!$R$14","v":0},{"$f":"J1724*'Lookup Tables'!$R$14","v":0},{"$f":"K1724*'Lookup Tables'!$R$14","v":0}]
[2011,1,"New Material Applied",0,1.0920000000000001,"COUPLER BODY, SBE 60 DE OR SBE 60 EE",{"$f":"G1725*'Lookup Tables'!$R$14","v":665.84830000000011},{"$f":"H1725*'Lookup Tables'!$R$14","v":35.970000000000006},{"$f":"I1725*'Lookup Tables'!$R$14","v":0},{"$f":"J1725*'Lookup Tables'!$R$14","v":168.11070000000001},{"$f":"K1725*'Lookup Tables'!$R$14","v":833.95900000000006}]
[2011,2,"Secondhand Material Applied",0,1.0920000000000001,"COUPLER BODY, SBE 60 DE OR SBE 60 EE",{"$f":"G1726*'Lookup Tables'!$R$14","v":251.63740000000004},{"$f":"H1726*'Lookup Tables'!$R$14","v":35.970000000000006},{"$f":"I1726*'Lookup Tables'!$R$14","v":0},{"$f":"J1726*'Lookup Tables'!$R$14","v":168.11070000000001},{"$f":"K1726*'Lookup Tables'!$R$14","v":419.74810000000008}]
[2011,3,"Reconditioned or Recertified Material Applied",0,1.0920000000000001,"COUPLER BODY, SBE 60 DE OR SBE 60 EE",{"$f":"G1727*'Lookup Tables'!$R$14","v":381.18389999999999},{"$f":"H1727*'Lookup Tables'!$R$14","v":35.970000000000006},{"$f":"I1727*'Lookup Tables'!$R$14","v":0},{"$f":"J1727*'Lookup Tables'!$R$14","v":168.11070000000001},{"$f":"K1727*'Lookup Tables'!$R$14","v":549.29459999999995}]
[2011,"T","Component transfer",0,0,"COUPLER BODY, SBE 60 DE OR SBE 60 EE",{"$f":"G1728*'Lookup Tables'!$R$14","v":0},{"$f":"H1728*'Lookup Tables'!$R$14","v":0},{"$f":"I1728*'Lookup Tables'!$R$14","v":0},{"$f":"J1728*'Lookup Tables'!$R$14","v":0},{"$f":"K1728*'Lookup Tables'!$R$14","v":0}]
[2012,2,"Secondhand Material Applied",0,1.0920000000000001,"COUPLER BODY, SE 60 DC",{"$f":"G1729*'Lookup Tables'!$R$14","v":343.98220000000003},{"$f":"H1729*'Lookup Tables'!$R$14","v":35.970000000000006},{"$f":"I1729*'Lookup Tables'!$R$14","v":0},{"$f":"J1729*'Lookup Tables'!$R$14","v":168.11070000000001},{"$f":"K1729*'Lookup Tables'!$R$14","v":512.09289999999999}]
[2012,3,"Reconditioned or Recertified Material Applied",0,1.0920000000000001,"COUPLER BODY, SE 60 DC",{"$f":"G1730*'Lookup Tables'!$R$14","v":521.09630000000004},{"$f":"H1730*'Lookup Tables'!$R$14","v":35.970000000000006},{"$f":"I1730*'Lookup Tables'!$R$14","v":0},{"$f":"J1730*'Lookup Tables'!$R$14","v":168.11070000000001},{"$f":"K1730*'Lookup Tables'!$R$14","v":689.20699999999999}]
[2012,"T","Component transfer",0,0,"COUPLER BODY, SE 60 DC",{"$f":"G1731*'Lookup Tables'!$R$14","v":0},{"$f":"H1731*'Lookup Tables'!$R$14","v":0},{"$f":"I1731*'Lookup Tables'!$R$14","v":0},{"$f":"J1731*'Lookup Tables'!$R$14","v":0},{"$f":"K1731*'Lookup Tables'!$R$14","v":0}]
[2013,1,"New Material Applied",0,1.0920000000000001,"COUPLER BODY, E 60 DE OR E 60 EE",{"$f":"G1732*'Lookup Tables'!$R$14","v":600.06680000000006},{"$f":"H1732*'Lookup Tables'!$R$14","v":35.970000000000006},{"$f":"I1732*'Lookup Tables'!$R$14","v":0},{"$f":"J1732*'Lookup Tables'!$R$14","v":168.11070000000001},{"$f":"K1732*'Lookup Tables'!$R$14","v":768.17750000000001}]
[2013,2,"Secondhand Material Applied",0,1.0920000000000001,"COUPLER BODY, E 60 DE OR E 60 EE",{"$f":"G1733*'Lookup Tables'!$R$14","v":142.2123},{"$f":"H1733*'Lookup Tables'!$R$14","v":35.970000000000006},{"$f":"I1733*'Lookup Tables'!$R$14","v":0},{"$f":"J1733*'Lookup Tables'!$R$14","v":168.11070000000001},{"$f":"K1733*'Lookup Tables'!$R$14","v":310.32300000000004}]
[2013,3,"Reconditioned or Recertified Material Applied",0,1.0920000000000001,"COUPLER BODY, E 60 DE OR E 60 EE",{"$f":"G1734*'Lookup Tables'!$R$14","v":215.39490000000004},{"$f":"H1734*'Lookup Tables'!$R$14","v":35.970000000000006},{"$f":"I1734*'Lookup Tables'!$R$14","v":0},{"$f":"J1734*'Lookup Tables'!$R$14","v":168.11070000000001},{"$f":"K1734*'Lookup Tables'!$R$14","v":383.50560000000007}]
[2013,"T","Component transfer",0,0,"COUPLER BODY, E 60 DE OR E 60 EE",{"$f":"G1735*'Lookup Tables'!$R$14","v":0},{"$f":"H1735*'Lookup Tables'!$R$14","v":0},{"$f":"I1735*'Lookup Tables'!$R$14","v":0},{"$f":"J1735*'Lookup Tables'!$R$14","v":0},{"$f":"K1735*'Lookup Tables'!$R$14","v":0}]
[2017,2,"Secondhand Material Applied",0,1.0920000000000001,"COUPLER BODY, E 60 CHT OR E 60 CC",{"$f":"G1736*'Lookup Tables'!$R$14","v":215.78730000000002},{"$f":"H1736*'Lookup Tables'!$R$14","v":35.970000000000006},{"$f":"I1736*'Lookup Tables'!$R$14","v":0},{"$f":"J1736*'Lookup Tables'!$R$14","v":168.11070000000001},{"$f":"K1736*'Lookup Tables'!$R$14","v":383.89800000000002}]
[2017,3,"Reconditioned or Recertified Material Applied",0,1.0920000000000001,"COUPLER BODY, E 60 CHT OR E 60 CC",{"$f":"G1737*'Lookup Tables'!$R$14","v":326.85830000000004},{"$f":"H1737*'Lookup Tables'!$R$14","v":35.970000000000006},{"$f":"I1737*'Lookup Tables'!$R$14","v":0},{"$f":"J1737*'Lookup Tables'!$R$14","v":168.11070000000001},{"$f":"K1737*'Lookup Tables'!$R$14","v":494.96900000000005}]
[2017,"T","Component transfer",0,0,"COUPLER BODY, E 60 CHT OR E 60 CC",{"$f":"G1738*'Lookup Tables'!$R$14","v":0},{"$f":"H1738*'Lookup Tables'!$R$14","v":0},{"$f":"I1738*'Lookup Tables'!$R$14","v":0},{"$f":"J1738*'Lookup Tables'!$R$14","v":0},{"$f":"K1738*'Lookup Tables'!$R$14","v":0}]
[2018,2,{"$f":"VLOOKUP(B388,$B$2686:$C$2701,2,FALSE)","v":"Secondhand Material Applied"},0,1.0920000000000001,"COUPLER BODY, SBE 60 CC",{"$f":"G1739*'Lookup Tables'!$R$14","v":364.34340000000003},{"$f":"H1739*'Lookup Tables'!$R$14","v":35.970000000000006},{"$f":"I1739*'Lookup Tables'!$R$14","v":0},{"$f":"J1739*'Lookup Tables'!$R$14","v":168.11070000000001},{"$f":"K1739*'Lookup Tables'!$R$14","v":532.45410000000004}]
[2018,3,"Reconditioned or Recertified Material Applied",0,1.0920000000000001,"COUPLER BODY, SBE 60 CC",{"$f":"G1740*'Lookup Tables'!$R$14","v":551.95420000000001},{"$f":"H1740*'Lookup Tables'!$R$14","v":35.970000000000006},{"$f":"I1740*'Lookup Tables'!$R$14","v":0},{"$f":"J1740*'Lookup Tables'!$R$14","v":168.11070000000001},{"$f":"K1740*'Lookup Tables'!$R$14","v":720.06490000000008}]
[2018,"T","Component transfer",0,0,"COUPLER BODY, SBE 60 CC",{"$f":"G1741*'Lookup Tables'!$R$14","v":0},{"$f":"H1741*'Lookup Tables'!$R$14","v":0},{"$f":"I1741*'Lookup Tables'!$R$14","v":0},{"$f":"J1741*'Lookup Tables'!$R$14","v":0},{"$f":"K1741*'Lookup Tables'!$R$14","v":0}]
[2019,2,"Secondhand Material Applied",0,1.0920000000000001,"COUPLER BODY, SBE 60 CE",{"$f":"G1742*'Lookup Tables'!$R$14","v":317.30990000000003},{"$f":"H1742*'Lookup Tables'!$R$14","v":35.970000000000006},{"$f":"I1742*'Lookup Tables'!$R$14","v":0},{"$f":"J1742*'Lookup Tables'!$R$14","v":168.11070000000001},{"$f":"K1742*'Lookup Tables'!$R$14","v":485.42060000000009}]
[2019,3,"Reconditioned or Recertified Material Applied",0,1.0920000000000001,"COUPLER BODY, SBE 60 CE",{"$f":"G1743*'Lookup Tables'!$R$14","v":480.69000000000005},{"$f":"H1743*'Lookup Tables'!$R$14","v":35.970000000000006},{"$f":"I1743*'Lookup Tables'!$R$14","v":0},{"$f":"J1743*'Lookup Tables'!$R$14","v":168.11070000000001},{"$f":"K1743*'Lookup Tables'!$R$14","v":648.80070000000012}]
[2019,"T","Component transfer",0,0,"COUPLER BODY, SBE 60 CE",{"$f":"G1744*'Lookup Tables'!$R$14","v":0},{"$f":"H1744*'Lookup Tables'!$R$14","v":0},{"$f":"I1744*'Lookup Tables'!$R$14","v":0},{"$f":"J1744*'Lookup Tables'!$R$14","v":0},{"$f":"K1744*'Lookup Tables'!$R$14","v":0}]
[2021,2,"Secondhand Material Applied",0,0,"COUPLER BODY, SE 60 CHT OR SE 60 CC",{"$f":"G1745*'Lookup Tables'!$R$14","v":318.85769999999997},{"$f":"H1745*'Lookup Tables'!$R$14","v":35.970000000000006},{"$f":"I1745*'Lookup Tables'!$R$14","v":0},{"$f":"J1745*'Lookup Tables'!$R$14","v":0},{"$f":"K1745*'Lookup Tables'!$R$14","v":318.85769999999997}]
[2021,3,"Reconditioned or Recertified Material Applied",0,0,"COUPLER BODY, SE 60 CHT OR SE 60 CC",{"$f":"G1746*'Lookup Tables'!$R$14","v":483.0335},{"$f":"H1746*'Lookup Tables'!$R$14","v":35.970000000000006},{"$f":"I1746*'Lookup Tables'!$R$14","v":0},{"$f":"J1746*'Lookup Tables'!$R$14","v":0},{"$f":"K1746*'Lookup Tables'!$R$14","v":483.0335}]
[2021,"T","Component transfer",0,0,"COUPLER BODY, SE 60 CHT OR SE 60 CC",{"$f":"G1747*'Lookup Tables'!$R$14","v":0},{"$f":"H1747*'Lookup Tables'!$R$14","v":0},{"$f":"I1747*'Lookup Tables'!$R$14","v":0},{"$f":"J1747*'Lookup Tables'!$R$14","v":0},{"$f":"K1747*'Lookup Tables'!$R$14","v":0}]
[2022,2,"Secondhand Material Applied",0,1.0920000000000001,"COUPLER BODY, E 60 CHTE OR E 60 CE",{"$f":"G1748*'Lookup Tables'!$R$14","v":176.58},{"$f":"H1748*'Lookup Tables'!$R$14","v":35.970000000000006},{"$f":"I1748*'Lookup Tables'!$R$14","v":0},{"$f":"J1748*'Lookup Tables'!$R$14","v":168.11070000000001},{"$f":"K1748*'Lookup Tables'!$R$14","v":344.69070000000005}]
[2022,3,"Reconditioned or Recertified Material Applied",0,1.0920000000000001,"COUPLER BODY, E 60 CHTE OR E 60 CE",{"$f":"G1749*'Lookup Tables'!$R$14","v":267.45330000000001},{"$f":"H1749*'Lookup Tables'!$R$14","v":35.970000000000006},{"$f":"I1749*'Lookup Tables'!$R$14","v":0},{"$f":"J1749*'Lookup Tables'!$R$14","v":168.11070000000001},{"$f":"K1749*'Lookup Tables'!$R$14","v":435.56400000000008}]
[2022,"T","Component transfer",0,0,"COUPLER BODY, E 60 CHTE OR E 60 CE",{"$f":"G1750*'Lookup Tables'!$R$14","v":0},{"$f":"H1750*'Lookup Tables'!$R$14","v":0},{"$f":"I1750*'Lookup Tables'!$R$14","v":0},{"$f":"J1750*'Lookup Tables'!$R$14","v":0},{"$f":"K1750*'Lookup Tables'!$R$14","v":0}]
[2023,2,"Secondhand Material Applied",0,0,"COUPLER BODY, SE 60 CHTE OR SE 60 CE",{"$f":"G1751*'Lookup Tables'!$R$14","v":343.89500000000004},{"$f":"H1751*'Lookup Tables'!$R$14","v":35.970000000000006},{"$f":"I1751*'Lookup Tables'!$R$14","v":0},{"$f":"J1751*'Lookup Tables'!$R$14","v":0},{"$f":"K1751*'Lookup Tables'!$R$14","v":343.89500000000004}]
[2023,3,"Reconditioned or Recertified Material Applied",0,0,"COUPLER BODY, SE 60 CHTE OR SE 60 CE",{"$f":"G1752*'Lookup Tables'!$R$14","v":520.96550000000002},{"$f":"H1752*'Lookup Tables'!$R$14","v":35.970000000000006},{"$f":"I1752*'Lookup Tables'!$R$14","v":0},{"$f":"J1752*'Lookup Tables'!$R$14","v":0},{"$f":"K1752*'Lookup Tables'!$R$14","v":520.96550000000002}]
[2023,"T","Component transfer",0,0,"COUPLER BODY, SE 60 CHTE OR SE 60 CE",{"$f":"G1753*'Lookup Tables'!$R$14","v":0},{"$f":"H1753*'Lookup Tables'!$R$14","v":0},{"$f":"I1753*'Lookup Tables'!$R$14","v":0},{"$f":"J1753*'Lookup Tables'!$R$14","v":0},{"$f":"K1753*'Lookup Tables'!$R$14","v":0}]
[2024,1,"New Material Applied",0,0,"COUPLER BODY, SE 60 DE OR SE 60 EE",{"$f":"G1754*'Lookup Tables'!$R$14","v":668.91120000000001},{"$f":"H1754*'Lookup Tables'!$R$14","v":35.970000000000006},{"$f":"I1754*'Lookup Tables'!$R$14","v":0},{"$f":"J1754*'Lookup Tables'!$R$14","v":0},{"$f":"K1754*'Lookup Tables'!$R$14","v":668.91120000000001}]
[2024,2,"Secondhand Material Applied",0,0,"COUPLER BODY, SE 60 DE OR SE 60 EE",{"$f":"G1755*'Lookup Tables'!$R$14","v":269.32810000000001},{"$f":"H1755*'Lookup Tables'!$R$14","v":35.970000000000006},{"$f":"I1755*'Lookup Tables'!$R$14","v":0},{"$f":"J1755*'Lookup Tables'!$R$14","v":0},{"$f":"K1755*'Lookup Tables'!$R$14","v":269.32810000000001}]
[2024,3,"Reconditioned or Recertified Material Applied",0,0,"COUPLER BODY, SE 60 DE OR SE 60 EE",{"$f":"G1756*'Lookup Tables'!$R$14","v":408.10690000000005},{"$f":"H1756*'Lookup Tables'!$R$14","v":35.970000000000006},{"$f":"I1756*'Lookup Tables'!$R$14","v":0},{"$f":"J1756*'Lookup Tables'!$R$14","v":0},{"$f":"K1756*'Lookup Tables'!$R$14","v":408.10690000000005}]
[2024,"T","Component transfer",0,0,"COUPLER BODY, SE 60 DE OR SE 60 EE",{"$f":"G1757*'Lookup Tables'!$R$14","v":0},{"$f":"H1757*'Lookup Tables'!$R$14","v":0},{"$f":"I1757*'Lookup Tables'!$R$14","v":0},{"$f":"J1757*'Lookup Tables'!$R$14","v":0},{"$f":"K1757*'Lookup Tables'!$R$14","v":0}]
[2037,1,"New Material Applied",0,1.0920000000000001,"COUPLER BODY, SBE 67 CE OR SBE 67 DE",{"$f":"G1758*'Lookup Tables'!$R$14","v":672.51910000000009},{"$f":"H1758*'Lookup Tables'!$R$14","v":35.970000000000006},{"$f":"I1758*'Lookup Tables'!$R$14","v":0},{"$f":"J1758*'Lookup Tables'!$R$14","v":168.11070000000001},{"$f":"K1758*'Lookup Tables'!$R$14","v":840.62980000000005}]
[2037,2,"Secondhand Material Applied",0,1.0920000000000001,"COUPLER BODY, SBE 67 CE OR SBE 67 DE",{"$f":"G1759*'Lookup Tables'!$R$14","v":211.29650000000001},{"$f":"H1759*'Lookup Tables'!$R$14","v":35.970000000000006},{"$f":"I1759*'Lookup Tables'!$R$14","v":0},{"$f":"J1759*'Lookup Tables'!$R$14","v":168.11070000000001},{"$f":"K1759*'Lookup Tables'!$R$14","v":379.40719999999999}]
[2037,3,"Reconditioned or Recertified Material Applied",0,1.0920000000000001,"COUPLER BODY, SBE 67 CE OR SBE 67 DE",{"$f":"G1760*'Lookup Tables'!$R$14","v":320.05670000000003},{"$f":"H1760*'Lookup Tables'!$R$14","v":35.970000000000006},{"$f":"I1760*'Lookup Tables'!$R$14","v":0},{"$f":"J1760*'Lookup Tables'!$R$14","v":168.11070000000001},{"$f":"K1760*'Lookup Tables'!$R$14","v":488.16740000000004}]
[2037,"T","Component transfer",0,0,"COUPLER BODY, SBE 67 CE OR SBE 67 DE",{"$f":"G1761*'Lookup Tables'!$R$14","v":0},{"$f":"H1761*'Lookup Tables'!$R$14","v":0},{"$f":"I1761*'Lookup Tables'!$R$14","v":0},{"$f":"J1761*'Lookup Tables'!$R$14","v":0},{"$f":"K1761*'Lookup Tables'!$R$14","v":0}]
[2038,2,"Secondhand Material Applied",0,1.0920000000000001,"COUPLER BODY, SBE 67 CC",{"$f":"G1762*'Lookup Tables'!$R$14","v":218.06540000000001},{"$f":"H1762*'Lookup Tables'!$R$14","v":35.970000000000006},{"$f":"I1762*'Lookup Tables'!$R$14","v":0},{"$f":"J1762*'Lookup Tables'!$R$14","v":168.11070000000001},{"$f":"K1762*'Lookup Tables'!$R$14","v":386.17609999999996}]
[2038,3,"Reconditioned or Recertified Material Applied",0,1.0920000000000001,"COUPLER BODY, SBE 67 CC",{"$f":"G1763*'Lookup Tables'!$R$14","v":330.31360000000006},{"$f":"H1763*'Lookup Tables'!$R$14","v":35.970000000000006},{"$f":"I1763*'Lookup Tables'!$R$14","v":0},{"$f":"J1763*'Lookup Tables'!$R$14","v":168.11070000000001},{"$f":"K1763*'Lookup Tables'!$R$14","v":498.42430000000002}]
[2038,"T","Component transfer",0,0,"COUPLER BODY, SBE 67 CC",{"$f":"G1764*'Lookup Tables'!$R$14","v":0},{"$f":"H1764*'Lookup Tables'!$R$14","v":0},{"$f":"I1764*'Lookup Tables'!$R$14","v":0},{"$f":"J1764*'Lookup Tables'!$R$14","v":0},{"$f":"K1764*'Lookup Tables'!$R$14","v":0}]
[2041,1,"New Material Applied",0,1.0920000000000001,"COUPLER BODY, E 67 CE OR E 67 DE",{"$f":"G1765*'Lookup Tables'!$R$14","v":725.86369999999999},{"$f":"H1765*'Lookup Tables'!$R$14","v":35.970000000000006},{"$f":"I1765*'Lookup Tables'!$R$14","v":0},{"$f":"J1765*'Lookup Tables'!$R$14","v":168.11070000000001},{"$f":"K1765*'Lookup Tables'!$R$14","v":893.97440000000006}]
[2041,2,"Secondhand Material Applied",0,1.0920000000000001,"COUPLER BODY, E 67 CE OR E 67 DE",{"$f":"G1766*'Lookup Tables'!$R$14","v":218.06540000000001},{"$f":"H1766*'Lookup Tables'!$R$14","v":35.970000000000006},{"$f":"I1766*'Lookup Tables'!$R$14","v":0},{"$f":"J1766*'Lookup Tables'!$R$14","v":168.11070000000001},{"$f":"K1766*'Lookup Tables'!$R$14","v":386.17609999999996}]
[2041,3,"Reconditioned or Recertified Material Applied",0,1.0920000000000001,"COUPLER BODY, E 67 CE OR E 67 DE",{"$f":"G1767*'Lookup Tables'!$R$14","v":330.31360000000006},{"$f":"H1767*'Lookup Tables'!$R$14","v":35.970000000000006},{"$f":"I1767*'Lookup Tables'!$R$14","v":0},{"$f":"J1767*'Lookup Tables'!$R$14","v":168.11070000000001},{"$f":"K1767*'Lookup Tables'!$R$14","v":498.42430000000002}]
[2041,"T","Component transfer",0,0,"COUPLER BODY, E 67 CE OR E 67 DE",{"$f":"G1768*'Lookup Tables'!$R$14","v":0},{"$f":"H1768*'Lookup Tables'!$R$14","v":0},{"$f":"I1768*'Lookup Tables'!$R$14","v":0},{"$f":"J1768*'Lookup Tables'!$R$14","v":0},{"$f":"K1768*'Lookup Tables'!$R$14","v":0}]
[2043,2,"Secondhand Material Applied",0,1.0920000000000001,"COUPLER BODY, SBE 67 BC",{"$f":"G1769*'Lookup Tables'!$R$14","v":218.06540000000001},{"$f":"H1769*'Lookup Tables'!$R$14","v":35.970000000000006},{"$f":"I1769*'Lookup Tables'!$R$14","v":0},{"$f":"J1769*'Lookup Tables'!$R$14","v":168.11070000000001},{"$f":"K1769*'Lookup Tables'!$R$14","v":386.17609999999996}]
[2043,3,"Reconditioned or Recertified Material Applied",0,1.0920000000000001,"COUPLER BODY, SBE 67 BC",{"$f":"G1770*'Lookup Tables'!$R$14","v":330.31360000000006},{"$f":"H1770*'Lookup Tables'!$R$14","v":35.970000000000006},{"$f":"I1770*'Lookup Tables'!$R$14","v":0},{"$f":"J1770*'Lookup Tables'!$R$14","v":168.11070000000001},{"$f":"K1770*'Lookup Tables'!$R$14","v":498.42430000000002}]
[2043,"T","Component transfer",0,0,"COUPLER BODY, SBE 67 BC",{"$f":"G1771*'Lookup Tables'!$R$14","v":0},{"$f":"H1771*'Lookup Tables'!$R$14","v":0},{"$f":"I1771*'Lookup Tables'!$R$14","v":0},{"$f":"J1771*'Lookup Tables'!$R$14","v":0},{"$f":"K1771*'Lookup Tables'!$R$14","v":0}]
[2044,1,"New Material Applied",0,1.0920000000000001,"COUPLER BODY, SBE 67 BE",{"$f":"G1772*'Lookup Tables'!$R$14","v":725.86369999999999},{"$f":"H1772*'Lookup Tables'!$R$14","v":35.970000000000006},{"$f":"I1772*'Lookup Tables'!$R$14","v":0},{"$f":"J1772*'Lookup Tables'!$R$14","v":168.11070000000001},{"$f":"K1772*'Lookup Tables'!$R$14","v":893.97440000000006}]
[2044,2,"Secondhand Material Applied",0,1.0920000000000001,"COUPLER BODY, SBE 67 BE",{"$f":"G1773*'Lookup Tables'!$R$14","v":218.06540000000001},{"$f":"H1773*'Lookup Tables'!$R$14","v":35.970000000000006},{"$f":"I1773*'Lookup Tables'!$R$14","v":0},{"$f":"J1773*'Lookup Tables'!$R$14","v":168.11070000000001},{"$f":"K1773*'Lookup Tables'!$R$14","v":386.17609999999996}]
[2044,3,"Reconditioned or Recertified Material Applied",0,1.0920000000000001,"COUPLER BODY, SBE 67 BE",{"$f":"G1774*'Lookup Tables'!$R$14","v":330.31360000000006},{"$f":"H1774*'Lookup Tables'!$R$14","v":35.970000000000006},{"$f":"I1774*'Lookup Tables'!$R$14","v":0},{"$f":"J1774*'Lookup Tables'!$R$14","v":168.11070000000001},{"$f":"K1774*'Lookup Tables'!$R$14","v":498.42430000000002}]
[2044,"T","Component transfer",0,0,"COUPLER BODY, SBE 67 BE",{"$f":"G1775*'Lookup Tables'!$R$14","v":0},{"$f":"H1775*'Lookup Tables'!$R$14","v":0},{"$f":"I1775*'Lookup Tables'!$R$14","v":0},{"$f":"J1775*'Lookup Tables'!$R$14","v":0},{"$f":"K1775*'Lookup Tables'!$R$14","v":0}]
[2047,2,"Secondhand Material Applied",0,1.0920000000000001,"COUPLER BODY, E 67 BHT OR E 67 BC",{"$f":"G1776*'Lookup Tables'!$R$14","v":218.06540000000001},{"$f":"H1776*'Lookup Tables'!$R$14","v":35.970000000000006},{"$f":"I1776*'Lookup Tables'!$R$14","v":0},{"$f":"J1776*'Lookup Tables'!$R$14","v":168.11070000000001},{"$f":"K1776*'Lookup Tables'!$R$14","v":386.17609999999996}]
[2047,3,"Reconditioned or Recertified Material Applied",0,1.0920000000000001,"COUPLER BODY, E 67 BHT OR E 67 BC",{"$f":"G1777*'Lookup Tables'!$R$14","v":330.31360000000006},{"$f":"H1777*'Lookup Tables'!$R$14","v":35.970000000000006},{"$f":"I1777*'Lookup Tables'!$R$14","v":0},{"$f":"J1777*'Lookup Tables'!$R$14","v":168.11070000000001},{"$f":"K1777*'Lookup Tables'!$R$14","v":498.42430000000002}]
[2047,"T","Component transfer",0,0,"COUPLER BODY, E 67 BHT OR E 67 BC",{"$f":"G1778*'Lookup Tables'!$R$14","v":0},{"$f":"H1778*'Lookup Tables'!$R$14","v":0},{"$f":"I1778*'Lookup Tables'!$R$14","v":0},{"$f":"J1778*'Lookup Tables'!$R$14","v":0},{"$f":"K1778*'Lookup Tables'!$R$14","v":0}]
[2049,1,"New Material Applied",0,1.0920000000000001,"COUPLER BODY, E 67 BHTE OR E 67 BE",{"$f":"G1779*'Lookup Tables'!$R$14","v":725.86369999999999},{"$f":"H1779*'Lookup Tables'!$R$14","v":35.970000000000006},{"$f":"I1779*'Lookup Tables'!$R$14","v":0},{"$f":"J1779*'Lookup Tables'!$R$14","v":168.11070000000001},{"$f":"K1779*'Lookup Tables'!$R$14","v":893.97440000000006}]
[2049,2,"Secondhand Material Applied",0,1.0920000000000001,"COUPLER BODY, E 67 BHTE OR E 67 BE",{"$f":"G1780*'Lookup Tables'!$R$14","v":218.06540000000001},{"$f":"H1780*'Lookup Tables'!$R$14","v":35.970000000000006},{"$f":"I1780*'Lookup Tables'!$R$14","v":0},{"$f":"J1780*'Lookup Tables'!$R$14","v":168.11070000000001},{"$f":"K1780*'Lookup Tables'!$R$14","v":386.17609999999996}]
[2049,3,"Reconditioned or Recertified Material Applied",0,1.0920000000000001,"COUPLER BODY, E 67 BHTE OR E 67 BE",{"$f":"G1781*'Lookup Tables'!$R$14","v":330.31360000000006},{"$f":"H1781*'Lookup Tables'!$R$14","v":35.970000000000006},{"$f":"I1781*'Lookup Tables'!$R$14","v":0},{"$f":"J1781*'Lookup Tables'!$R$14","v":168.11070000000001},{"$f":"K1781*'Lookup Tables'!$R$14","v":498.42430000000002}]
[2049,"T","Component transfer",0,0,"COUPLER BODY, E 67 BHTE OR E 67 BE",{"$f":"G1782*'Lookup Tables'!$R$14","v":0},{"$f":"H1782*'Lookup Tables'!$R$14","v":0},{"$f":"I1782*'Lookup Tables'!$R$14","v":0},{"$f":"J1782*'Lookup Tables'!$R$14","v":0},{"$f":"K1782*'Lookup Tables'!$R$14","v":0}]
[2054,2,"Secondhand Material Applied",0,0.13600000000000001,"KNUCKLE E50HTE, E50AE, E50ARE OR E50BE",{"$f":"G1783*'Lookup Tables'!$R$14","v":50.685000000000002},{"$f":"H1783*'Lookup Tables'!$R$14","v":9.4720999999999993},{"$f":"I1783*'Lookup Tables'!$R$14","v":0},{"$f":"J1783*'Lookup Tables'!$R$14","v":20.938900000000004},{"$f":"K1783*'Lookup Tables'!$R$14","v":71.62390000000002}]
[2055,1,"New Material Applied",0,0.13600000000000001,"COUPLER KNUCKLE, E50AEV OR E50BEV",{"$f":"G1784*'Lookup Tables'!$R$14","v":143.0625},{"$f":"H1784*'Lookup Tables'!$R$14","v":9.4720999999999993},{"$f":"I1784*'Lookup Tables'!$R$14","v":0},{"$f":"J1784*'Lookup Tables'!$R$14","v":20.938900000000004},{"$f":"K1784*'Lookup Tables'!$R$14","v":164.00140000000002}]
[2055,2,"Secondhand Material Applied",0,0.13600000000000001,"COUPLER KNUCKLE, E50AEV OR E50BEV",{"$f":"G1785*'Lookup Tables'!$R$14","v":50.074600000000004},{"$f":"H1785*'Lookup Tables'!$R$14","v":9.4720999999999993},{"$f":"I1785*'Lookup Tables'!$R$14","v":0},{"$f":"J1785*'Lookup Tables'!$R$14","v":20.938900000000004},{"$f":"K1785*'Lookup Tables'!$R$14","v":71.013500000000008}]
[2056,2,"Secondhand Material Applied",0,0.14799999999999999,"COUPLER KNUCKLE LOCK, E40HT",{"$f":"G1786*'Lookup Tables'!$R$14","v":6.4200999999999997},{"$f":"H1786*'Lookup Tables'!$R$14","v":1.7985},{"$f":"I1786*'Lookup Tables'!$R$14","v":0},{"$f":"J1786*'Lookup Tables'!$R$14","v":22.780999999999999},{"$f":"K1786*'Lookup Tables'!$R$14","v":29.2011}]
[2057,2,"Secondhand Material Applied",0,0.14799999999999999,"COUPLER KNUCKLE LOCK, E42HT",{"$f":"G1787*'Lookup Tables'!$R$14","v":6.4200999999999997},{"$f":"H1787*'Lookup Tables'!$R$14","v":1.7985},{"$f":"I1787*'Lookup Tables'!$R$14","v":0},{"$f":"J1787*'Lookup Tables'!$R$14","v":22.780999999999999},{"$f":"K1787*'Lookup Tables'!$R$14","v":29.2011}]
[2058,1,"New Material Applied",0,0.14799999999999999,"COUPLER KNUCKLE,LOCK, E 40 HTE OR E 40AE",{"$f":"G1788*'Lookup Tables'!$R$14","v":31.348400000000005},{"$f":"H1788*'Lookup Tables'!$R$14","v":1.7985},{"$f":"I1788*'Lookup Tables'!$R$14","v":0},{"$f":"J1788*'Lookup Tables'!$R$14","v":22.780999999999999},{"$f":"K1788*'Lookup Tables'!$R$14","v":54.129399999999997}]
[2058,2,"Secondhand Material Applied",0,0.14799999999999999,"COUPLER KNUCKLE,LOCK, E 40 HTE OR E 40AE",{"$f":"G1789*'Lookup Tables'!$R$14","v":10.976300000000002},{"$f":"H1789*'Lookup Tables'!$R$14","v":1.7985},{"$f":"I1789*'Lookup Tables'!$R$14","v":0},{"$f":"J1789*'Lookup Tables'!$R$14","v":22.780999999999999},{"$f":"K1789*'Lookup Tables'!$R$14","v":33.757300000000001}]
[2058,3,"Reconditioned or Recertified Material Applied",0,0.14799999999999999,"COUPLER KNUCKLE,LOCK, E 40 HTE OR E 40AE",{"$f":"G1790*'Lookup Tables'!$R$14","v":23.511300000000002},{"$f":"H1790*'Lookup Tables'!$R$14","v":1.7985},{"$f":"I1790*'Lookup Tables'!$R$14","v":0},{"$f":"J1790*'Lookup Tables'!$R$14","v":22.780999999999999},{"$f":"K1790*'Lookup Tables'!$R$14","v":46.292300000000004}]
[2059,1,"New Material Applied",0,0.14799999999999999,"COUPLER KNUCKLE LOCK, E42HTE, E42AE OR E42BE",{"$f":"G1791*'Lookup Tables'!$R$14","v":31.348400000000005},{"$f":"H1791*'Lookup Tables'!$R$14","v":1.7985},{"$f":"I1791*'Lookup Tables'!$R$14","v":0},{"$f":"J1791*'Lookup Tables'!$R$14","v":22.780999999999999},{"$f":"K1791*'Lookup Tables'!$R$14","v":54.129399999999997}]
[2059,2,"Secondhand Material Applied",0,0.14799999999999999,"COUPLER KNUCKLE LOCK, E42HTE, E42AE OR E42BE",{"$f":"G1792*'Lookup Tables'!$R$14","v":10.976300000000002},{"$f":"H1792*'Lookup Tables'!$R$14","v":1.7985},{"$f":"I1792*'Lookup Tables'!$R$14","v":0},{"$f":"J1792*'Lookup Tables'!$R$14","v":22.780999999999999},{"$f":"K1792*'Lookup Tables'!$R$14","v":33.757300000000001}]
[2059,3,"Reconditioned or Recertified Material Applied",0,0.14799999999999999,"COUPLER KNUCKLE LOCK, E42HTE, E42AE OR E42BE",{"$f":"G1793*'Lookup Tables'!$R$14","v":23.511300000000002},{"$f":"H1793*'Lookup Tables'!$R$14","v":1.7985},{"$f":"I1793*'Lookup Tables'!$R$14","v":0},{"$f":"J1793*'Lookup Tables'!$R$14","v":22.780999999999999},{"$f":"K1793*'Lookup Tables'!$R$14","v":46.292300000000004}]
[2064,1,"New Material Applied",0,7.4999999999999997E-2,"COUPLER LOCK LIFTER,TOP,TYPE E",{"$f":"G1794*'Lookup Tables'!$R$14","v":21.636500000000002},{"$f":"H1794*'Lookup Tables'!$R$14","v":0.47960000000000003},{"$f":"I1794*'Lookup Tables'!$R$14","v":0},{"$f":"J1794*'Lookup Tables'!$R$14","v":11.543100000000001},{"$f":"K1794*'Lookup Tables'!$R$14","v":33.179600000000001}]
[2068,1,"New Material Applied",0,0.20599999999999999,"COUPLER LOCK LIFTER,BOTTOM,TYPE E",{"$f":"G1795*'Lookup Tables'!$R$14","v":16.132000000000001},{"$f":"H1795*'Lookup Tables'!$R$14","v":0.47960000000000003},{"$f":"I1795*'Lookup Tables'!$R$14","v":0},{"$f":"J1795*'Lookup Tables'!$R$14","v":31.719000000000005},{"$f":"K1795*'Lookup Tables'!$R$14","v":47.851000000000006}]
[2072,1,"New Material Applied",0,0.158,"COUPLER KNUCKLE THROWER,TYPE E",{"$f":"G1796*'Lookup Tables'!$R$14","v":11.314200000000001},{"$f":"H1796*'Lookup Tables'!$R$14","v":0.71940000000000004},{"$f":"I1796*'Lookup Tables'!$R$14","v":0},{"$f":"J1796*'Lookup Tables'!$R$14","v":24.328800000000001},{"$f":"K1796*'Lookup Tables'!$R$14","v":35.643000000000008}]
[2072,2,"Secondhand Material Applied",0,0.158,"COUPLER KNUCKLE THROWER,TYPE E",{"$f":"G1797*'Lookup Tables'!$R$14","v":3.9567000000000001},{"$f":"H1797*'Lookup Tables'!$R$14","v":0.71940000000000004},{"$f":"I1797*'Lookup Tables'!$R$14","v":0},{"$f":"J1797*'Lookup Tables'!$R$14","v":24.328800000000001},{"$f":"K1797*'Lookup Tables'!$R$14","v":28.285500000000003}]
[2076,1,"New Material Applied",0,0.1,"COUPLER KNUCKLE PIN, METALLIC",{"$f":"G1798*'Lookup Tables'!$R$14","v":7.4119999999999999},{"$f":"H1798*'Lookup Tables'!$R$14","v":0},{"$f":"I1798*'Lookup Tables'!$R$14","v":0},{"$f":"J1798*'Lookup Tables'!$R$14","v":15.3908},{"$f":"K1798*'Lookup Tables'!$R$14","v":22.802800000000001}]
[2076,2,"Secondhand Material Applied",0,0.1,"COUPLER KNUCKLE PIN, METALLIC",{"$f":"G1799*'Lookup Tables'!$R$14","v":2.5942000000000003},{"$f":"H1799*'Lookup Tables'!$R$14","v":0},{"$f":"I1799*'Lookup Tables'!$R$14","v":0},{"$f":"J1799*'Lookup Tables'!$R$14","v":15.3908},{"$f":"K1799*'Lookup Tables'!$R$14","v":17.985000000000003}]
[2080,1,"New Material Applied",0,0.155,"COUPLER TOP HOLE CAP, WELDED",{"$f":"G1800*'Lookup Tables'!$R$14","v":1.4279000000000002},{"$f":"H1800*'Lookup Tables'!$R$14","v":0},{"$f":"I1800*'Lookup Tables'!$R$14","v":0},{"$f":"J1800*'Lookup Tables'!$R$14","v":23.860100000000003},{"$f":"K1800*'Lookup Tables'!$R$14","v":25.288}]
[2088,1,"New Material Applied",0,0.216,"COUPLER DRAFT KEY",{"$f":"G1801*'Lookup Tables'!$R$14","v":69.607399999999998},{"$f":"H1801*'Lookup Tables'!$R$14","v":6.5945},{"$f":"I1801*'Lookup Tables'!$R$14","v":0},{"$f":"J1801*'Lookup Tables'!$R$14","v":33.255900000000004},{"$f":"K1801*'Lookup Tables'!$R$14","v":102.86330000000001}]
[2088,2,"Secondhand Material Applied",0,0.216,"COUPLER DRAFT KEY",{"$f":"G1802*'Lookup Tables'!$R$14","v":34.890900000000002},{"$f":"H1802*'Lookup Tables'!$R$14","v":6.5945},{"$f":"I1802*'Lookup Tables'!$R$14","v":0},{"$f":"J1802*'Lookup Tables'!$R$14","v":33.255900000000004},{"$f":"K1802*'Lookup Tables'!$R$14","v":68.146799999999999}]
[2088,3,{"$f":"VLOOKUP(B452,$B$2686:$C$2701,2,FALSE)","v":"Reconditioned or Recertified Material Applied"},0,0.216,"COUPLER DRAFT KEY",{"$f":"G1803*'Lookup Tables'!$R$14","v":52.243700000000004},{"$f":"H1803*'Lookup Tables'!$R$14","v":6.5945},{"$f":"I1803*'Lookup Tables'!$R$14","v":0},{"$f":"J1803*'Lookup Tables'!$R$14","v":33.255900000000004},{"$f":"K1803*'Lookup Tables'!$R$14","v":85.499600000000001}]
[2104,1,"New Material Applied",0,9.1999999999999998E-2,"COUPLER DRAFT KEY RETAINER",{"$f":"G1804*'Lookup Tables'!$R$14","v":7.7717000000000001},{"$f":"H1804*'Lookup Tables'!$R$14","v":0.23980000000000001},{"$f":"I1804*'Lookup Tables'!$R$14","v":0},{"$f":"J1804*'Lookup Tables'!$R$14","v":14.1591},{"$f":"K1804*'Lookup Tables'!$R$14","v":21.930800000000001}]
[2104,2,"Secondhand Material Applied",0,9.1999999999999998E-2,"COUPLER DRAFT KEY RETAINER",{"$f":"G1805*'Lookup Tables'!$R$14","v":7.7717000000000001},{"$f":"H1805*'Lookup Tables'!$R$14","v":0.23980000000000001},{"$f":"I1805*'Lookup Tables'!$R$14","v":0},{"$f":"J1805*'Lookup Tables'!$R$14","v":14.1591},{"$f":"K1805*'Lookup Tables'!$R$14","v":21.930800000000001}]
[2108,1,"New Material Applied",0,0.12,"COUPLER DRAFT KEY RETAINER LOCK",{"$f":"G1806*'Lookup Tables'!$R$14","v":2.9757000000000002},{"$f":"H1806*'Lookup Tables'!$R$14","v":0.23980000000000001},{"$f":"I1806*'Lookup Tables'!$R$14","v":0},{"$f":"J1806*'Lookup Tables'!$R$14","v":18.4755},{"$f":"K1806*'Lookup Tables'!$R$14","v":21.4512}]
[2108,2,"Secondhand Material Applied",0,0.12,"COUPLER DRAFT KEY RETAINER LOCK",{"$f":"G1807*'Lookup Tables'!$R$14","v":1.5696000000000001},{"$f":"H1807*'Lookup Tables'!$R$14","v":0.23980000000000001},{"$f":"I1807*'Lookup Tables'!$R$14","v":0},{"$f":"J1807*'Lookup Tables'!$R$14","v":18.4755},{"$f":"K1807*'Lookup Tables'!$R$14","v":20.045100000000001}]
[2116,1,"New Material Applied",0,9.1999999999999998E-2,"COUPLER DRAFT KEY WASHER",{"$f":"G1808*'Lookup Tables'!$R$14","v":5.2211000000000007},{"$f":"H1808*'Lookup Tables'!$R$14","v":0},{"$f":"I1808*'Lookup Tables'!$R$14","v":0},{"$f":"J1808*'Lookup Tables'!$R$14","v":14.1591},{"$f":"K1808*'Lookup Tables'!$R$14","v":19.380200000000002}]
[2116,2,"Secondhand Material Applied",0,9.1999999999999998E-2,"COUPLER DRAFT KEY WASHER",{"$f":"G1809*'Lookup Tables'!$R$14","v":2.6923000000000004},{"$f":"H1809*'Lookup Tables'!$R$14","v":0},{"$f":"I1809*'Lookup Tables'!$R$14","v":0},{"$f":"J1809*'Lookup Tables'!$R$14","v":14.1591},{"$f":"K1809*'Lookup Tables'!$R$14","v":16.851400000000002}]
[2159,1,"New Material Applied",0,0.17100000000000001,"CARRIER WEAR PLATE/STRIKER SHIM (NON-METALLIC)",{"$f":"G1810*'Lookup Tables'!$R$14","v":10.6493},{"$f":"H1810*'Lookup Tables'!$R$14","v":0},{"$f":"I1810*'Lookup Tables'!$R$14","v":0},{"$f":"J1810*'Lookup Tables'!$R$14","v":26.323499999999999},{"$f":"K1810*'Lookup Tables'!$R$14","v":36.972800000000007}]
[2160,1,"New Material Applied",0,0.191,"CARRIER WEAR PLATE/STRIKER SHIM (METALLIC)",{"$f":"G1811*'Lookup Tables'!$R$14","v":13.319800000000003},{"$f":"H1811*'Lookup Tables'!$R$14","v":0},{"$f":"I1811*'Lookup Tables'!$R$14","v":0},{"$f":"J1811*'Lookup Tables'!$R$14","v":29.408200000000004},{"$f":"K1811*'Lookup Tables'!$R$14","v":42.728000000000009}]
[2161,1,"New Material Applied",0,0.17100000000000001,"CARRIER WEAR PLATE/STRIKER SHIM (MANGANESE)",{"$f":"G1812*'Lookup Tables'!$R$14","v":19.500100000000003},{"$f":"H1812*'Lookup Tables'!$R$14","v":0},{"$f":"I1812*'Lookup Tables'!$R$14","v":0},{"$f":"J1812*'Lookup Tables'!$R$14","v":26.323499999999999},{"$f":"K1812*'Lookup Tables'!$R$14","v":45.823599999999999}]
[2162,1,"New Material Applied",0,2.246,"COUPLER CARRIER,20\" LONG OR LESS",{"$f":"G1813*'Lookup Tables'!$R$14","v":51.404400000000003},{"$f":"H1813*'Lookup Tables'!$R$14","v":2.1582000000000003},{"$f":"I1813*'Lookup Tables'!$R$14","v":0},{"$f":"J1813*'Lookup Tables'!$R$14","v":345.78070000000002},{"$f":"K1813*'Lookup Tables'!$R$14","v":397.18510000000003}]
[2162,2,"Secondhand Material Applied",0,2.246,"COUPLER CARRIER,20\" LONG OR LESS",{"$f":"G1814*'Lookup Tables'!$R$14","v":25.702200000000001},{"$f":"H1814*'Lookup Tables'!$R$14","v":2.1582000000000003},{"$f":"I1814*'Lookup Tables'!$R$14","v":0},{"$f":"J1814*'Lookup Tables'!$R$14","v":345.78070000000002},{"$f":"K1814*'Lookup Tables'!$R$14","v":371.48290000000003}]
[2162,8,"Remove, repair, and replace same part",0,2.246,"COUPLER CARRIER,20\" LONG OR LESS",{"$f":"G1815*'Lookup Tables'!$R$14","v":24.917400000000001},{"$f":"H1815*'Lookup Tables'!$R$14","v":0},{"$f":"I1815*'Lookup Tables'!$R$14","v":0},{"$f":"J1815*'Lookup Tables'!$R$14","v":345.78070000000002},{"$f":"K1815*'Lookup Tables'!$R$14","v":370.69810000000007}]
[2164,1,"New Material Applied",0,2.246,"COUPLER CARRIER, OVER 20\" LONG",{"$f":"G1816*'Lookup Tables'!$R$14","v":114.232},{"$f":"H1816*'Lookup Tables'!$R$14","v":4.7960000000000012},{"$f":"I1816*'Lookup Tables'!$R$14","v":0},{"$f":"J1816*'Lookup Tables'!$R$14","v":345.78070000000002},{"$f":"K1816*'Lookup Tables'!$R$14","v":460.01270000000005}]
[2164,2,"Secondhand Material Applied",0,2.246,"COUPLER CARRIER, OVER 20\" LONG",{"$f":"G1817*'Lookup Tables'!$R$14","v":57.116},{"$f":"H1817*'Lookup Tables'!$R$14","v":4.7960000000000012},{"$f":"I1817*'Lookup Tables'!$R$14","v":0},{"$f":"J1817*'Lookup Tables'!$R$14","v":345.78070000000002},{"$f":"K1817*'Lookup Tables'!$R$14","v":402.89670000000001}]
[2164,8,"Remove, repair, and replace same part",0,2.246,"COUPLER CARRIER, OVER 20\" LONG",{"$f":"G1818*'Lookup Tables'!$R$14","v":55.372},{"$f":"H1818*'Lookup Tables'!$R$14","v":0},{"$f":"I1818*'Lookup Tables'!$R$14","v":0},{"$f":"J1818*'Lookup Tables'!$R$14","v":345.78070000000002},{"$f":"K1818*'Lookup Tables'!$R$14","v":401.15270000000004}]
[2166,1,"New Material Applied",0,2.246,"COUPLER CARRIER, OVER 28\" LONG",{"$f":"G1819*'Lookup Tables'!$R$14","v":197.05020000000002},{"$f":"H1819*'Lookup Tables'!$R$14","v":8.2731000000000012},{"$f":"I1819*'Lookup Tables'!$R$14","v":0},{"$f":"J1819*'Lookup Tables'!$R$14","v":345.78070000000002},{"$f":"K1819*'Lookup Tables'!$R$14","v":542.83090000000004}]
[2166,2,"Secondhand Material Applied",0,2.246,"COUPLER CARRIER, OVER 28\" LONG",{"$f":"G1820*'Lookup Tables'!$R$14","v":98.525100000000009},{"$f":"H1820*'Lookup Tables'!$R$14","v":8.2731000000000012},{"$f":"I1820*'Lookup Tables'!$R$14","v":0},{"$f":"J1820*'Lookup Tables'!$R$14","v":345.78070000000002},{"$f":"K1820*'Lookup Tables'!$R$14","v":444.30580000000003}]
[2166,8,"Remove, repair, and replace same part",0,2.246,"COUPLER CARRIER, OVER 28\" LONG",{"$f":"G1821*'Lookup Tables'!$R$14","v":95.5167},{"$f":"H1821*'Lookup Tables'!$R$14","v":0},{"$f":"I1821*'Lookup Tables'!$R$14","v":0},{"$f":"J1821*'Lookup Tables'!$R$14","v":345.78070000000002},{"$f":"K1821*'Lookup Tables'!$R$14","v":441.29740000000004}]
[2167,1,"New Material Applied",0,0.17100000000000001,"CARRIER WEAR PLATE/STRIKER SHIM (NON-METALLIC)",{"$f":"G1822*'Lookup Tables'!$R$14","v":19.292999999999999},{"$f":"H1822*'Lookup Tables'!$R$14","v":0},{"$f":"I1822*'Lookup Tables'!$R$14","v":0},{"$f":"J1822*'Lookup Tables'!$R$14","v":26.323499999999999},{"$f":"K1822*'Lookup Tables'!$R$14","v":45.616499999999995}]
[2168,1,"New Material Applied",0,2.246,"COUPLER, CARRIER, 20\"/LESS, SPRING TYPE, METALLIC",{"$f":"G1823*'Lookup Tables'!$R$14","v":51.404400000000003},{"$f":"H1823*'Lookup Tables'!$R$14","v":2.1582000000000003},{"$f":"I1823*'Lookup Tables'!$R$14","v":0},{"$f":"J1823*'Lookup Tables'!$R$14","v":345.78070000000002},{"$f":"K1823*'Lookup Tables'!$R$14","v":397.18510000000003}]
[2168,2,"Secondhand Material Applied",0,2.246,"COUPLER, CARRIER, 20\"/LESS, SPRING TYPE, METALLIC",{"$f":"G1824*'Lookup Tables'!$R$14","v":25.702200000000001},{"$f":"H1824*'Lookup Tables'!$R$14","v":2.1582000000000003},{"$f":"I1824*'Lookup Tables'!$R$14","v":0},{"$f":"J1824*'Lookup Tables'!$R$14","v":345.78070000000002},{"$f":"K1824*'Lookup Tables'!$R$14","v":371.48290000000003}]
[2168,8,"Remove, repair, and replace same part",0,2.246,"COUPLER, CARRIER, 20\"/LESS, SPRING TYPE, METALLIC",{"$f":"G1825*'Lookup Tables'!$R$14","v":26.508800000000001},{"$f":"H1825*'Lookup Tables'!$R$14","v":0},{"$f":"I1825*'Lookup Tables'!$R$14","v":0},{"$f":"J1825*'Lookup Tables'!$R$14","v":345.78070000000002},{"$f":"K1825*'Lookup Tables'!$R$14","v":372.28950000000003}]
[2169,1,"New Material Applied",0,0.191,"CARRIER WEAR PLATE/STRIKER SHIM (METALLIC)",{"$f":"G1826*'Lookup Tables'!$R$14","v":34.269600000000004},{"$f":"H1826*'Lookup Tables'!$R$14","v":0},{"$f":"I1826*'Lookup Tables'!$R$14","v":0},{"$f":"J1826*'Lookup Tables'!$R$14","v":29.408200000000004},{"$f":"K1826*'Lookup Tables'!$R$14","v":63.677800000000005}]
[2171,1,"New Material Applied",0,0.17100000000000001,"CARRIER WEAR PLATE/STRIKER SHIM (MANGANESE)",{"$f":"G1827*'Lookup Tables'!$R$14","v":52.974000000000004},{"$f":"H1827*'Lookup Tables'!$R$14","v":0},{"$f":"I1827*'Lookup Tables'!$R$14","v":0},{"$f":"J1827*'Lookup Tables'!$R$14","v":26.323499999999999},{"$f":"K1827*'Lookup Tables'!$R$14","v":79.297499999999999}]
[2174,1,"New Material Applied",0,1.429,"COUPLER BODY EF511* - C, E, AE, BE, CE OR WE",{"$f":"G1828*'Lookup Tables'!$R$14","v":937.58530000000007},{"$f":"H1828*'Lookup Tables'!$R$14","v":54.194800000000001},{"$f":"I1828*'Lookup Tables'!$R$14","v":0},{"$f":"J1828*'Lookup Tables'!$R$14","v":219.99470000000002},{"$f":"K1828*'Lookup Tables'!$R$14","v":1157.5800000000002}]
[2174,2,"Secondhand Material Applied",0,1.429,"COUPLER BODY EF511* - C, E, AE, BE, CE OR WE",{"$f":"G1829*'Lookup Tables'!$R$14","v":473.17990000000003},{"$f":"H1829*'Lookup Tables'!$R$14","v":54.194800000000001},{"$f":"I1829*'Lookup Tables'!$R$14","v":0},{"$f":"J1829*'Lookup Tables'!$R$14","v":219.99470000000002},{"$f":"K1829*'Lookup Tables'!$R$14","v":693.17460000000005}]
[2174,3,"Reconditioned or Recertified Material Applied",0,1.429,"COUPLER BODY EF511* - C, E, AE, BE, CE OR WE",{"$f":"G1830*'Lookup Tables'!$R$14","v":705.38260000000002},{"$f":"H1830*'Lookup Tables'!$R$14","v":54.194800000000001},{"$f":"I1830*'Lookup Tables'!$R$14","v":0},{"$f":"J1830*'Lookup Tables'!$R$14","v":219.99470000000002},{"$f":"K1830*'Lookup Tables'!$R$14","v":925.3773000000001}]
[2174,"T","Component transfer",0,0,"COUPLER BODY EF511* - C, E, AE, BE, CE OR WE",{"$f":"G1831*'Lookup Tables'!$R$14","v":0},{"$f":"H1831*'Lookup Tables'!$R$14","v":0},{"$f":"I1831*'Lookup Tables'!$R$14","v":0},{"$f":"J1831*'Lookup Tables'!$R$14","v":0},{"$f":"K1831*'Lookup Tables'!$R$14","v":0}]
[2175,1,"New Material Applied",0,1.429,"COUPLER EF512C, EF512E, EF512AE, EF512BE OR EF512C",{"$f":"G1832*'Lookup Tables'!$R$14","v":1032.7750000000001},{"$f":"H1832*'Lookup Tables'!$R$14","v":53.595300000000009},{"$f":"I1832*'Lookup Tables'!$R$14","v":0},{"$f":"J1832*'Lookup Tables'!$R$14","v":219.99470000000002},{"$f":"K1832*'Lookup Tables'!$R$14","v":1252.7697000000001}]
[2175,2,"Secondhand Material Applied",0,1.429,"COUPLER EF512C, EF512E, EF512AE, EF512BE OR EF512C",{"$f":"G1833*'Lookup Tables'!$R$14","v":520.76930000000004},{"$f":"H1833*'Lookup Tables'!$R$14","v":53.595300000000009},{"$f":"I1833*'Lookup Tables'!$R$14","v":0},{"$f":"J1833*'Lookup Tables'!$R$14","v":219.99470000000002},{"$f":"K1833*'Lookup Tables'!$R$14","v":740.76400000000012}]
[2175,3,"Reconditioned or Recertified Material Applied",0,1.429,"COUPLER EF512C, EF512E, EF512AE, EF512BE OR EF512C",{"$f":"G1834*'Lookup Tables'!$R$14","v":776.77760000000001},{"$f":"H1834*'Lookup Tables'!$R$14","v":53.595300000000009},{"$f":"I1834*'Lookup Tables'!$R$14","v":0},{"$f":"J1834*'Lookup Tables'!$R$14","v":219.99470000000002},{"$f":"K1834*'Lookup Tables'!$R$14","v":996.77230000000009}]
[2175,"T","Component transfer",0,0,"COUPLER EF512C, EF512E, EF512AE, EF512BE OR EF512C",{"$f":"G1835*'Lookup Tables'!$R$14","v":0},{"$f":"H1835*'Lookup Tables'!$R$14","v":0},{"$f":"I1835*'Lookup Tables'!$R$14","v":0},{"$f":"J1835*'Lookup Tables'!$R$14","v":0},{"$f":"K1835*'Lookup Tables'!$R$14","v":0}]
[2176,1,"New Material Applied",0,1.429,"COUPLER BODY, EF525C, EF525E, EF525AE OR EF525BE",{"$f":"G1836*'Lookup Tables'!$R$14","v":1644.7446000000002},{"$f":"H1836*'Lookup Tables'!$R$14","v":54.194800000000001},{"$f":"I1836*'Lookup Tables'!$R$14","v":0},{"$f":"J1836*'Lookup Tables'!$R$14","v":219.99470000000002},{"$f":"K1836*'Lookup Tables'!$R$14","v":1864.7393000000002}]
[2176,2,"Secondhand Material Applied",0,1.429,"COUPLER BODY, EF525C, EF525E, EF525AE OR EF525BE",{"$f":"G1837*'Lookup Tables'!$R$14","v":826.75410000000011},{"$f":"H1837*'Lookup Tables'!$R$14","v":54.194800000000001},{"$f":"I1837*'Lookup Tables'!$R$14","v":0},{"$f":"J1837*'Lookup Tables'!$R$14","v":219.99470000000002},{"$f":"K1837*'Lookup Tables'!$R$14","v":1046.7488000000001}]
[2176,3,"Reconditioned or Recertified Material Applied",0,1.429,"COUPLER BODY, EF525C, EF525E, EF525AE OR EF525BE",{"$f":"G1838*'Lookup Tables'!$R$14","v":1235.7548000000002},{"$f":"H1838*'Lookup Tables'!$R$14","v":54.194800000000001},{"$f":"I1838*'Lookup Tables'!$R$14","v":0},{"$f":"J1838*'Lookup Tables'!$R$14","v":219.99470000000002},{"$f":"K1838*'Lookup Tables'!$R$14","v":1455.7495000000001}]
[2176,"T","Component transfer",0,0,"COUPLER BODY, EF525C, EF525E, EF525AE OR EF525BE",{"$f":"G1839*'Lookup Tables'!$R$14","v":0},{"$f":"H1839*'Lookup Tables'!$R$14","v":0},{"$f":"I1839*'Lookup Tables'!$R$14","v":0},{"$f":"J1839*'Lookup Tables'!$R$14","v":0},{"$f":"K1839*'Lookup Tables'!$R$14","v":0}]
[2177,1,"New Material Applied",0,1.429,"COUPLER BODY EF528* - C, E, AE, BE, CE OR WE",{"$f":"G1840*'Lookup Tables'!$R$14","v":1441.8520000000001},{"$f":"H1840*'Lookup Tables'!$R$14","v":54.194800000000001},{"$f":"I1840*'Lookup Tables'!$R$14","v":0},{"$f":"J1840*'Lookup Tables'!$R$14","v":219.99470000000002},{"$f":"K1840*'Lookup Tables'!$R$14","v":1661.8467000000001}]
[2177,2,"Secondhand Material Applied",0,1.429,"COUPLER BODY EF528* - C, E, AE, BE, CE OR WE",{"$f":"G1841*'Lookup Tables'!$R$14","v":725.30780000000004},{"$f":"H1841*'Lookup Tables'!$R$14","v":54.194800000000001},{"$f":"I1841*'Lookup Tables'!$R$14","v":0},{"$f":"J1841*'Lookup Tables'!$R$14","v":219.99470000000002},{"$f":"K1841*'Lookup Tables'!$R$14","v":945.30250000000012}]
[2177,3,"Reconditioned or Recertified Material Applied",0,1.429,"COUPLER BODY EF528* - C, E, AE, BE, CE OR WE",{"$f":"G1842*'Lookup Tables'!$R$14","v":1083.5799000000002},{"$f":"H1842*'Lookup Tables'!$R$14","v":54.194800000000001},{"$f":"I1842*'Lookup Tables'!$R$14","v":0},{"$f":"J1842*'Lookup Tables'!$R$14","v":219.99470000000002},{"$f":"K1842*'Lookup Tables'!$R$14","v":1303.5746000000001}]
[2177,"T","Component transfer",0,0,"COUPLER BODY EF528* - C, E, AE, BE, CE OR WE",{"$f":"G1843*'Lookup Tables'!$R$14","v":0},{"$f":"H1843*'Lookup Tables'!$R$14","v":0},{"$f":"I1843*'Lookup Tables'!$R$14","v":0},{"$f":"J1843*'Lookup Tables'!$R$14","v":0},{"$f":"K1843*'Lookup Tables'!$R$14","v":0}]
[2181,1,"New Material Applied",0,1.429,"COUPLER BODY, E 68 CE OR E 68 DE",{"$f":"G1844*'Lookup Tables'!$R$14","v":819.70180000000005},{"$f":"H1844*'Lookup Tables'!$R$14","v":56.832600000000006},{"$f":"I1844*'Lookup Tables'!$R$14","v":0},{"$f":"J1844*'Lookup Tables'!$R$14","v":219.99470000000002},{"$f":"K1844*'Lookup Tables'!$R$14","v":1039.6965}]
[2181,2,"Secondhand Material Applied",0,1.429,"COUPLER BODY, E 68 CE OR E 68 DE",{"$f":"G1845*'Lookup Tables'!$R$14","v":414.23270000000002},{"$f":"H1845*'Lookup Tables'!$R$14","v":56.832600000000006},{"$f":"I1845*'Lookup Tables'!$R$14","v":0},{"$f":"J1845*'Lookup Tables'!$R$14","v":219.99470000000002},{"$f":"K1845*'Lookup Tables'!$R$14","v":634.2274000000001}]
[2181,3,"Reconditioned or Recertified Material Applied",0,1.429,"COUPLER BODY, E 68 CE OR E 68 DE",{"$f":"G1846*'Lookup Tables'!$R$14","v":616.97270000000003},{"$f":"H1846*'Lookup Tables'!$R$14","v":56.832600000000006},{"$f":"I1846*'Lookup Tables'!$R$14","v":0},{"$f":"J1846*'Lookup Tables'!$R$14","v":219.99470000000002},{"$f":"K1846*'Lookup Tables'!$R$14","v":836.96740000000011}]
[2181,"T","Component transfer",0,0,"COUPLER BODY, E 68 CE OR E 68 DE",{"$f":"G1847*'Lookup Tables'!$R$14","v":0},{"$f":"H1847*'Lookup Tables'!$R$14","v":0},{"$f":"I1847*'Lookup Tables'!$R$14","v":0},{"$f":"J1847*'Lookup Tables'!$R$14","v":0},{"$f":"K1847*'Lookup Tables'!$R$14","v":0}]
[2182,1,"New Material Applied",0,1.429,"COUPLER BODY, SBE 68 CE OR SBE 68 DE",{"$f":"G1848*'Lookup Tables'!$R$14","v":819.70180000000005},{"$f":"H1848*'Lookup Tables'!$R$14","v":56.832600000000006},{"$f":"I1848*'Lookup Tables'!$R$14","v":0},{"$f":"J1848*'Lookup Tables'!$R$14","v":219.99470000000002},{"$f":"K1848*'Lookup Tables'!$R$14","v":1039.6965}]
[2182,2,"Secondhand Material Applied",0,1.429,"COUPLER BODY, SBE 68 CE OR SBE 68 DE",{"$f":"G1849*'Lookup Tables'!$R$14","v":414.23270000000002},{"$f":"H1849*'Lookup Tables'!$R$14","v":56.832600000000006},{"$f":"I1849*'Lookup Tables'!$R$14","v":0},{"$f":"J1849*'Lookup Tables'!$R$14","v":219.99470000000002},{"$f":"K1849*'Lookup Tables'!$R$14","v":634.2274000000001}]
[2182,3,"Reconditioned or Recertified Material Applied",0,1.429,"COUPLER BODY, SBE 68 CE OR SBE 68 DE",{"$f":"G1850*'Lookup Tables'!$R$14","v":616.97270000000003},{"$f":"H1850*'Lookup Tables'!$R$14","v":56.832600000000006},{"$f":"I1850*'Lookup Tables'!$R$14","v":0},{"$f":"J1850*'Lookup Tables'!$R$14","v":219.99470000000002},{"$f":"K1850*'Lookup Tables'!$R$14","v":836.96740000000011}]
[2182,"T","Component transfer",0,0,"COUPLER BODY, SBE 68 CE OR SBE 68 DE",{"$f":"G1851*'Lookup Tables'!$R$14","v":0},{"$f":"H1851*'Lookup Tables'!$R$14","v":0},{"$f":"I1851*'Lookup Tables'!$R$14","v":0},{"$f":"J1851*'Lookup Tables'!$R$14","v":0},{"$f":"K1851*'Lookup Tables'!$R$14","v":0}]
[2183,2,"Secondhand Material Applied",0,1.429,"COUPLER BODY, SE68BE",{"$f":"G1852*'Lookup Tables'!$R$14","v":414.23270000000002},{"$f":"H1852*'Lookup Tables'!$R$14","v":56.832600000000006},{"$f":"I1852*'Lookup Tables'!$R$14","v":0},{"$f":"J1852*'Lookup Tables'!$R$14","v":219.99470000000002},{"$f":"K1852*'Lookup Tables'!$R$14","v":634.2274000000001}]
[2183,3,"Reconditioned or Recertified Material Applied",0,1.429,"COUPLER BODY, SE68BE",{"$f":"G1853*'Lookup Tables'!$R$14","v":616.97270000000003},{"$f":"H1853*'Lookup Tables'!$R$14","v":56.832600000000006},{"$f":"I1853*'Lookup Tables'!$R$14","v":0},{"$f":"J1853*'Lookup Tables'!$R$14","v":219.99470000000002},{"$f":"K1853*'Lookup Tables'!$R$14","v":836.96740000000011}]
[2183,"T","Component transfer",0,0,"COUPLER BODY, SE68BE",{"$f":"G1854*'Lookup Tables'!$R$14","v":0},{"$f":"H1854*'Lookup Tables'!$R$14","v":0},{"$f":"I1854*'Lookup Tables'!$R$14","v":0},{"$f":"J1854*'Lookup Tables'!$R$14","v":0},{"$f":"K1854*'Lookup Tables'!$R$14","v":0}]
[2185,2,"Secondhand Material Applied",0,1.429,"COUPLER BODY, E 68 BHT OR E 68 BC",{"$f":"G1855*'Lookup Tables'!$R$14","v":291.79300000000001},{"$f":"H1855*'Lookup Tables'!$R$14","v":56.832600000000006},{"$f":"I1855*'Lookup Tables'!$R$14","v":0},{"$f":"J1855*'Lookup Tables'!$R$14","v":219.99470000000002},{"$f":"K1855*'Lookup Tables'!$R$14","v":511.78770000000003}]
[2185,3,"Reconditioned or Recertified Material Applied",0,1.429,"COUPLER BODY, E 68 BHT OR E 68 BC",{"$f":"G1856*'Lookup Tables'!$R$14","v":437.60230000000007},{"$f":"H1856*'Lookup Tables'!$R$14","v":56.832600000000006},{"$f":"I1856*'Lookup Tables'!$R$14","v":0},{"$f":"J1856*'Lookup Tables'!$R$14","v":219.99470000000002},{"$f":"K1856*'Lookup Tables'!$R$14","v":657.59700000000009}]
[2185,"T","Component transfer",0,0,"COUPLER BODY, E 68 BHT OR E 68 BC",{"$f":"G1857*'Lookup Tables'!$R$14","v":0},{"$f":"H1857*'Lookup Tables'!$R$14","v":0},{"$f":"I1857*'Lookup Tables'!$R$14","v":0},{"$f":"J1857*'Lookup Tables'!$R$14","v":0},{"$f":"K1857*'Lookup Tables'!$R$14","v":0}]
[2186,1,"New Material Applied",0,1.429,"COUPLER BODY, E 68 BHTE OR E 68 BE",{"$f":"G1858*'Lookup Tables'!$R$14","v":819.70180000000005},{"$f":"H1858*'Lookup Tables'!$R$14","v":56.832600000000006},{"$f":"I1858*'Lookup Tables'!$R$14","v":0},{"$f":"J1858*'Lookup Tables'!$R$14","v":219.99470000000002},{"$f":"K1858*'Lookup Tables'!$R$14","v":1039.6965}]
[2186,2,"Secondhand Material Applied",0,1.429,"COUPLER BODY, E 68 BHTE OR E 68 BE",{"$f":"G1859*'Lookup Tables'!$R$14","v":414.23270000000002},{"$f":"H1859*'Lookup Tables'!$R$14","v":56.832600000000006},{"$f":"I1859*'Lookup Tables'!$R$14","v":0},{"$f":"J1859*'Lookup Tables'!$R$14","v":219.99470000000002},{"$f":"K1859*'Lookup Tables'!$R$14","v":634.2274000000001}]
[2186,3,"Reconditioned or Recertified Material Applied",0,1.429,"COUPLER BODY, E 68 BHTE OR E 68 BE",{"$f":"G1860*'Lookup Tables'!$R$14","v":616.97270000000003},{"$f":"H1860*'Lookup Tables'!$R$14","v":56.832600000000006},{"$f":"I1860*'Lookup Tables'!$R$14","v":0},{"$f":"J1860*'Lookup Tables'!$R$14","v":219.99470000000002},{"$f":"K1860*'Lookup Tables'!$R$14","v":836.96740000000011}]
[2186,"T","Component transfer",0,0,"COUPLER BODY, E 68 BHTE OR E 68 BE",{"$f":"G1861*'Lookup Tables'!$R$14","v":0},{"$f":"H1861*'Lookup Tables'!$R$14","v":0},{"$f":"I1861*'Lookup Tables'!$R$14","v":0},{"$f":"J1861*'Lookup Tables'!$R$14","v":0},{"$f":"K1861*'Lookup Tables'!$R$14","v":0}]
[2189,2,"Secondhand Material Applied",0,1.429,"COUPLER BODY, E 69 AHTE OR E 69 AE",{"$f":"G1862*'Lookup Tables'!$R$14","v":567.53030000000001},{"$f":"H1862*'Lookup Tables'!$R$14","v":56.832600000000006},{"$f":"I1862*'Lookup Tables'!$R$14","v":0},{"$f":"J1862*'Lookup Tables'!$R$14","v":219.99470000000002},{"$f":"K1862*'Lookup Tables'!$R$14","v":787.52500000000009}]
[2189,3,"Reconditioned or Recertified Material Applied",0,1.429,"COUPLER BODY, E 69 AHTE OR E 69 AE",{"$f":"G1863*'Lookup Tables'!$R$14","v":846.91910000000007},{"$f":"H1863*'Lookup Tables'!$R$14","v":56.832600000000006},{"$f":"I1863*'Lookup Tables'!$R$14","v":0},{"$f":"J1863*'Lookup Tables'!$R$14","v":219.99470000000002},{"$f":"K1863*'Lookup Tables'!$R$14","v":1066.9138}]
[2189,"T","Component transfer",0,0,"COUPLER BODY, E 69 AHTE OR E 69 AE",{"$f":"G1864*'Lookup Tables'!$R$14","v":0},{"$f":"H1864*'Lookup Tables'!$R$14","v":0},{"$f":"I1864*'Lookup Tables'!$R$14","v":0},{"$f":"J1864*'Lookup Tables'!$R$14","v":0},{"$f":"K1864*'Lookup Tables'!$R$14","v":0}]
[2190,1,"New Material Applied",0,1.429,"COUPLER BODY E 69 BE OR E 69 CE",{"$f":"G1865*'Lookup Tables'!$R$14","v":1126.297},{"$f":"H1865*'Lookup Tables'!$R$14","v":56.832600000000006},{"$f":"I1865*'Lookup Tables'!$R$14","v":0},{"$f":"J1865*'Lookup Tables'!$R$14","v":219.99470000000002},{"$f":"K1865*'Lookup Tables'!$R$14","v":1346.2917}]
[2190,2,"Secondhand Material Applied",0,1.429,"COUPLER BODY E 69 BE OR E 69 CE",{"$f":"G1866*'Lookup Tables'!$R$14","v":567.53030000000001},{"$f":"H1866*'Lookup Tables'!$R$14","v":56.832600000000006},{"$f":"I1866*'Lookup Tables'!$R$14","v":0},{"$f":"J1866*'Lookup Tables'!$R$14","v":219.99470000000002},{"$f":"K1866*'Lookup Tables'!$R$14","v":787.52500000000009}]
[2190,3,{"$f":"VLOOKUP(B516,$B$2686:$C$2701,2,FALSE)","v":"Reconditioned or Recertified Material Applied"},0,1.429,"COUPLER BODY E 69 BE OR E 69 CE",{"$f":"G1867*'Lookup Tables'!$R$14","v":846.91910000000007},{"$f":"H1867*'Lookup Tables'!$R$14","v":56.832600000000006},{"$f":"I1867*'Lookup Tables'!$R$14","v":0},{"$f":"J1867*'Lookup Tables'!$R$14","v":219.99470000000002},{"$f":"K1867*'Lookup Tables'!$R$14","v":1066.9138}]
[2190,"T","Component transfer",0,0,"COUPLER BODY E 69 BE OR E 69 CE",{"$f":"G1868*'Lookup Tables'!$R$14","v":0},{"$f":"H1868*'Lookup Tables'!$R$14","v":0},{"$f":"I1868*'Lookup Tables'!$R$14","v":0},{"$f":"J1868*'Lookup Tables'!$R$14","v":0},{"$f":"K1868*'Lookup Tables'!$R$14","v":0}]
[2191,1,"New Material Applied",0,1.429,"COUPLER BODY SBE 69 BE OR SBE 69 CE",{"$f":"G1869*'Lookup Tables'!$R$14","v":1126.297},{"$f":"H1869*'Lookup Tables'!$R$14","v":56.832600000000006},{"$f":"I1869*'Lookup Tables'!$R$14","v":0},{"$f":"J1869*'Lookup Tables'!$R$14","v":219.99470000000002},{"$f":"K1869*'Lookup Tables'!$R$14","v":1346.2917}]
[2191,2,"Secondhand Material Applied",0,1.429,"COUPLER BODY SBE 69 BE OR SBE 69 CE",{"$f":"G1870*'Lookup Tables'!$R$14","v":567.53030000000001},{"$f":"H1870*'Lookup Tables'!$R$14","v":56.832600000000006},{"$f":"I1870*'Lookup Tables'!$R$14","v":0},{"$f":"J1870*'Lookup Tables'!$R$14","v":219.99470000000002},{"$f":"K1870*'Lookup Tables'!$R$14","v":787.52500000000009}]
[2191,3,"Reconditioned or Recertified Material Applied",0,1.429,"COUPLER BODY SBE 69 BE OR SBE 69 CE",{"$f":"G1871*'Lookup Tables'!$R$14","v":846.91910000000007},{"$f":"H1871*'Lookup Tables'!$R$14","v":56.832600000000006},{"$f":"I1871*'Lookup Tables'!$R$14","v":0},{"$f":"J1871*'Lookup Tables'!$R$14","v":219.99470000000002},{"$f":"K1871*'Lookup Tables'!$R$14","v":1066.9138}]
[2191,"T","Component transfer",0,0,"COUPLER BODY SBE 69 BE OR SBE 69 CE",{"$f":"G1872*'Lookup Tables'!$R$14","v":0},{"$f":"H1872*'Lookup Tables'!$R$14","v":0},{"$f":"I1872*'Lookup Tables'!$R$14","v":0},{"$f":"J1872*'Lookup Tables'!$R$14","v":0},{"$f":"K1872*'Lookup Tables'!$R$14","v":0}]
[2192,2,"Secondhand Material Applied",0,1.429,"COUPLER BODY, SBE 68 BC",{"$f":"G1873*'Lookup Tables'!$R$14","v":408.10690000000005},{"$f":"H1873*'Lookup Tables'!$R$14","v":56.832600000000006},{"$f":"I1873*'Lookup Tables'!$R$14","v":0},{"$f":"J1873*'Lookup Tables'!$R$14","v":219.99470000000002},{"$f":"K1873*'Lookup Tables'!$R$14","v":628.10160000000008}]
[2192,3,"Reconditioned or Recertified Material Applied",0,1.429,"COUPLER BODY, SBE 68 BC",{"$f":"G1874*'Lookup Tables'!$R$14","v":613.82260000000008},{"$f":"H1874*'Lookup Tables'!$R$14","v":56.832600000000006},{"$f":"I1874*'Lookup Tables'!$R$14","v":0},{"$f":"J1874*'Lookup Tables'!$R$14","v":219.99470000000002},{"$f":"K1874*'Lookup Tables'!$R$14","v":833.81730000000005}]
[2192,"T","Component transfer",0,0,"COUPLER BODY, SBE 68 BC",{"$f":"G1875*'Lookup Tables'!$R$14","v":0},{"$f":"H1875*'Lookup Tables'!$R$14","v":0},{"$f":"I1875*'Lookup Tables'!$R$14","v":0},{"$f":"J1875*'Lookup Tables'!$R$14","v":0},{"$f":"K1875*'Lookup Tables'!$R$14","v":0}]
[2193,1,"New Material Applied",0,1.429,"COUPLER BODY, SBE 68 BE",{"$f":"G1876*'Lookup Tables'!$R$14","v":970.77580000000012},{"$f":"H1876*'Lookup Tables'!$R$14","v":56.832600000000006},{"$f":"I1876*'Lookup Tables'!$R$14","v":0},{"$f":"J1876*'Lookup Tables'!$R$14","v":219.99470000000002},{"$f":"K1876*'Lookup Tables'!$R$14","v":1190.7705000000001}]
[2193,2,"Secondhand Material Applied",0,1.429,"COUPLER BODY, SBE 68 BE",{"$f":"G1877*'Lookup Tables'!$R$14","v":489.7697},{"$f":"H1877*'Lookup Tables'!$R$14","v":56.832600000000006},{"$f":"I1877*'Lookup Tables'!$R$14","v":0},{"$f":"J1877*'Lookup Tables'!$R$14","v":219.99470000000002},{"$f":"K1877*'Lookup Tables'!$R$14","v":709.76440000000002}]
[2193,3,"Reconditioned or Recertified Material Applied",0,1.429,"COUPLER BODY, SBE 68 BE",{"$f":"G1878*'Lookup Tables'!$R$14","v":730.27820000000008},{"$f":"H1878*'Lookup Tables'!$R$14","v":56.832600000000006},{"$f":"I1878*'Lookup Tables'!$R$14","v":0},{"$f":"J1878*'Lookup Tables'!$R$14","v":219.99470000000002},{"$f":"K1878*'Lookup Tables'!$R$14","v":950.27290000000016}]
[2193,"T","Component transfer",0,0,"COUPLER BODY, SBE 68 BE",{"$f":"G1879*'Lookup Tables'!$R$14","v":0},{"$f":"H1879*'Lookup Tables'!$R$14","v":0},{"$f":"I1879*'Lookup Tables'!$R$14","v":0},{"$f":"J1879*'Lookup Tables'!$R$14","v":0},{"$f":"K1879*'Lookup Tables'!$R$14","v":0}]
[2194,2,"Secondhand Material Applied",0,1.429,"COUPLER BODY, SBE 69 AE",{"$f":"G1880*'Lookup Tables'!$R$14","v":553.42570000000001},{"$f":"H1880*'Lookup Tables'!$R$14","v":56.832600000000006},{"$f":"I1880*'Lookup Tables'!$R$14","v":0},{"$f":"J1880*'Lookup Tables'!$R$14","v":219.99470000000002},{"$f":"K1880*'Lookup Tables'!$R$14","v":773.42040000000009}]
[2194,3,"Reconditioned or Recertified Material Applied",0,1.429,"COUPLER BODY, SBE 69 AE",{"$f":"G1881*'Lookup Tables'!$R$14","v":825.76220000000012},{"$f":"H1881*'Lookup Tables'!$R$14","v":56.832600000000006},{"$f":"I1881*'Lookup Tables'!$R$14","v":0},{"$f":"J1881*'Lookup Tables'!$R$14","v":219.99470000000002},{"$f":"K1881*'Lookup Tables'!$R$14","v":1045.7569000000001}]
[2194,"T","Component transfer",0,0,"COUPLER BODY, SBE 69 AE",{"$f":"G1882*'Lookup Tables'!$R$14","v":0},{"$f":"H1882*'Lookup Tables'!$R$14","v":0},{"$f":"I1882*'Lookup Tables'!$R$14","v":0},{"$f":"J1882*'Lookup Tables'!$R$14","v":0},{"$f":"K1882*'Lookup Tables'!$R$14","v":0}]
[2196,1,"New Material Applied",0,1.429,"COUPLER BODY, SE 69 AE, SE 69 BE OR SE 69 CE",{"$f":"G1883*'Lookup Tables'!$R$14","v":1098.0878},{"$f":"H1883*'Lookup Tables'!$R$14","v":56.832600000000006},{"$f":"I1883*'Lookup Tables'!$R$14","v":0},{"$f":"J1883*'Lookup Tables'!$R$14","v":219.99470000000002},{"$f":"K1883*'Lookup Tables'!$R$14","v":1318.0825000000002}]
[2196,2,"Secondhand Material Applied",0,1.429,"COUPLER BODY, SE 69 AE, SE 69 BE OR SE 69 CE",{"$f":"G1884*'Lookup Tables'!$R$14","v":553.42570000000001},{"$f":"H1884*'Lookup Tables'!$R$14","v":56.832600000000006},{"$f":"I1884*'Lookup Tables'!$R$14","v":0},{"$f":"J1884*'Lookup Tables'!$R$14","v":219.99470000000002},{"$f":"K1884*'Lookup Tables'!$R$14","v":773.42040000000009}]
[2196,3,"Reconditioned or Recertified Material Applied",0,1.429,"COUPLER BODY, SE 69 AE, SE 69 BE OR SE 69 CE",{"$f":"G1885*'Lookup Tables'!$R$14","v":825.76220000000012},{"$f":"H1885*'Lookup Tables'!$R$14","v":56.832600000000006},{"$f":"I1885*'Lookup Tables'!$R$14","v":0},{"$f":"J1885*'Lookup Tables'!$R$14","v":219.99470000000002},{"$f":"K1885*'Lookup Tables'!$R$14","v":1045.7569000000001}]
[2196,"T","Component transfer",0,0,"COUPLER BODY, SE 69 AE, SE 69 BE OR SE 69 CE",{"$f":"G1886*'Lookup Tables'!$R$14","v":0},{"$f":"H1886*'Lookup Tables'!$R$14","v":0},{"$f":"I1886*'Lookup Tables'!$R$14","v":0},{"$f":"J1886*'Lookup Tables'!$R$14","v":0},{"$f":"K1886*'Lookup Tables'!$R$14","v":0}]
[2209,1,"New Material Applied",0,1.429,"COUPLER BODY, F 70 CHT OR F 70 CC",{"$f":"G1887*'Lookup Tables'!$R$14","v":885.00369999999998},{"$f":"H1887*'Lookup Tables'!$R$14","v":51.077400000000004},{"$f":"I1887*'Lookup Tables'!$R$14","v":0},{"$f":"J1887*'Lookup Tables'!$R$14","v":219.99470000000002},{"$f":"K1887*'Lookup Tables'!$R$14","v":1104.9984000000002}]
[2209,2,"Secondhand Material Applied",0,1.429,"COUPLER BODY, F 70 CHT OR F 70 CC",{"$f":"G1888*'Lookup Tables'!$R$14","v":446.88910000000004},{"$f":"H1888*'Lookup Tables'!$R$14","v":51.077400000000004},{"$f":"I1888*'Lookup Tables'!$R$14","v":0},{"$f":"J1888*'Lookup Tables'!$R$14","v":219.99470000000002},{"$f":"K1888*'Lookup Tables'!$R$14","v":666.88380000000006}]
[2209,3,"Reconditioned or Recertified Material Applied",0,1.429,"COUPLER BODY, F 70 CHT OR F 70 CC",{"$f":"G1889*'Lookup Tables'!$R$14","v":665.94640000000004},{"$f":"H1889*'Lookup Tables'!$R$14","v":51.077400000000004},{"$f":"I1889*'Lookup Tables'!$R$14","v":0},{"$f":"J1889*'Lookup Tables'!$R$14","v":219.99470000000002},{"$f":"K1889*'Lookup Tables'!$R$14","v":885.94110000000012}]
[2209,"T","Component transfer",0,0,"COUPLER BODY, F 70 CHT OR F 70 CC",{"$f":"G1890*'Lookup Tables'!$R$14","v":0},{"$f":"H1890*'Lookup Tables'!$R$14","v":0},{"$f":"I1890*'Lookup Tables'!$R$14","v":0},{"$f":"J1890*'Lookup Tables'!$R$14","v":0},{"$f":"K1890*'Lookup Tables'!$R$14","v":0}]
[2210,1,"New Material Applied",0,0,"COUPLER BODY, F 70 CHTE OR F 70 CE",{"$f":"G1891*'Lookup Tables'!$R$14","v":899.83860000000004},{"$f":"H1891*'Lookup Tables'!$R$14","v":51.077400000000004},{"$f":"I1891*'Lookup Tables'!$R$14","v":0},{"$f":"J1891*'Lookup Tables'!$R$14","v":0},{"$f":"K1891*'Lookup Tables'!$R$14","v":899.83860000000004}]
[2210,2,"Secondhand Material Applied",0,0,"COUPLER BODY, F 70 CHTE OR F 70 CE",{"$f":"G1892*'Lookup Tables'!$R$14","v":454.30110000000008},{"$f":"H1892*'Lookup Tables'!$R$14","v":51.077400000000004},{"$f":"I1892*'Lookup Tables'!$R$14","v":0},{"$f":"J1892*'Lookup Tables'!$R$14","v":0},{"$f":"K1892*'Lookup Tables'!$R$14","v":454.30110000000008}]
[2210,3,"Reconditioned or Recertified Material Applied",0,0,"COUPLER BODY, F 70 CHTE OR F 70 CE",{"$f":"G1893*'Lookup Tables'!$R$14","v":677.07529999999997},{"$f":"H1893*'Lookup Tables'!$R$14","v":51.077400000000004},{"$f":"I1893*'Lookup Tables'!$R$14","v":0},{"$f":"J1893*'Lookup Tables'!$R$14","v":0},{"$f":"K1893*'Lookup Tables'!$R$14","v":677.07529999999997}]
[2210,"T","Component transfer",0,0,"COUPLER BODY, F 70 CHTE OR F 70 CE",{"$f":"G1894*'Lookup Tables'!$R$14","v":0},{"$f":"H1894*'Lookup Tables'!$R$14","v":0},{"$f":"I1894*'Lookup Tables'!$R$14","v":0},{"$f":"J1894*'Lookup Tables'!$R$14","v":0},{"$f":"K1894*'Lookup Tables'!$R$14","v":0}]
[2211,1,"New Material Applied",0,0,"COUPLER BODY, SF 70 CHT OR SF 70 CC",{"$f":"G1895*'Lookup Tables'!$R$14","v":923.02290000000005},{"$f":"H1895*'Lookup Tables'!$R$14","v":51.077400000000004},{"$f":"I1895*'Lookup Tables'!$R$14","v":0},{"$f":"J1895*'Lookup Tables'!$R$14","v":0},{"$f":"K1895*'Lookup Tables'!$R$14","v":923.02290000000005}]
[2211,2,"Secondhand Material Applied",0,0,"COUPLER BODY, SF 70 CHT OR SF 70 CC",{"$f":"G1896*'Lookup Tables'!$R$14","v":465.89870000000002},{"$f":"H1896*'Lookup Tables'!$R$14","v":51.077400000000004},{"$f":"I1896*'Lookup Tables'!$R$14","v":0},{"$f":"J1896*'Lookup Tables'!$R$14","v":0},{"$f":"K1896*'Lookup Tables'!$R$14","v":465.89870000000002}]
[2211,3,"Reconditioned or Recertified Material Applied",0,0,"COUPLER BODY, SF 70 CHT OR SF 70 CC",{"$f":"G1897*'Lookup Tables'!$R$14","v":694.46080000000006},{"$f":"H1897*'Lookup Tables'!$R$14","v":51.077400000000004},{"$f":"I1897*'Lookup Tables'!$R$14","v":0},{"$f":"J1897*'Lookup Tables'!$R$14","v":0},{"$f":"K1897*'Lookup Tables'!$R$14","v":694.46080000000006}]
[2211,"T","Component transfer",0,0,"COUPLER BODY, SF 70 CHT OR SF 70 CC",{"$f":"G1898*'Lookup Tables'!$R$14","v":0},{"$f":"H1898*'Lookup Tables'!$R$14","v":0},{"$f":"I1898*'Lookup Tables'!$R$14","v":0},{"$f":"J1898*'Lookup Tables'!$R$14","v":0},{"$f":"K1898*'Lookup Tables'!$R$14","v":0}]
[2213,1,"New Material Applied",0,0,"COUPLER BODY, SF 70 CHTE OR SF 70 CE",{"$f":"G1899*'Lookup Tables'!$R$14","v":918.58660000000009},{"$f":"H1899*'Lookup Tables'!$R$14","v":51.077400000000004},{"$f":"I1899*'Lookup Tables'!$R$14","v":0},{"$f":"J1899*'Lookup Tables'!$R$14","v":0},{"$f":"K1899*'Lookup Tables'!$R$14","v":918.58660000000009}]
[2213,2,"Secondhand Material Applied",0,0,"COUPLER BODY, SF 70 CHTE OR SF 70 CE",{"$f":"G1900*'Lookup Tables'!$R$14","v":463.67510000000004},{"$f":"H1900*'Lookup Tables'!$R$14","v":51.077400000000004},{"$f":"I1900*'Lookup Tables'!$R$14","v":0},{"$f":"J1900*'Lookup Tables'!$R$14","v":0},{"$f":"K1900*'Lookup Tables'!$R$14","v":463.67510000000004}]
[2213,3,"Reconditioned or Recertified Material Applied",0,0,"COUPLER BODY, SF 70 CHTE OR SF 70 CE",{"$f":"G1901*'Lookup Tables'!$R$14","v":691.13630000000012},{"$f":"H1901*'Lookup Tables'!$R$14","v":51.077400000000004},{"$f":"I1901*'Lookup Tables'!$R$14","v":0},{"$f":"J1901*'Lookup Tables'!$R$14","v":0},{"$f":"K1901*'Lookup Tables'!$R$14","v":691.13630000000012}]
[2213,"T","Component transfer",0,0,"COUPLER BODY, SF 70 CHTE OR SF 70 CE",{"$f":"G1902*'Lookup Tables'!$R$14","v":0},{"$f":"H1902*'Lookup Tables'!$R$14","v":0},{"$f":"I1902*'Lookup Tables'!$R$14","v":0},{"$f":"J1902*'Lookup Tables'!$R$14","v":0},{"$f":"K1902*'Lookup Tables'!$R$14","v":0}]
[2215,1,"New Material Applied",0,1.429,"COUPLER BODY, F70DE",{"$f":"G1903*'Lookup Tables'!$R$14","v":899.83860000000004},{"$f":"H1903*'Lookup Tables'!$R$14","v":51.077400000000004},{"$f":"I1903*'Lookup Tables'!$R$14","v":0},{"$f":"J1903*'Lookup Tables'!$R$14","v":219.99470000000002},{"$f":"K1903*'Lookup Tables'!$R$14","v":1119.8333}]
[2215,2,"Secondhand Material Applied",0,1.429,"COUPLER BODY, F70DE",{"$f":"G1904*'Lookup Tables'!$R$14","v":454.30110000000008},{"$f":"H1904*'Lookup Tables'!$R$14","v":51.077400000000004},{"$f":"I1904*'Lookup Tables'!$R$14","v":0},{"$f":"J1904*'Lookup Tables'!$R$14","v":219.99470000000002},{"$f":"K1904*'Lookup Tables'!$R$14","v":674.2958000000001}]
[2215,3,"Reconditioned or Recertified Material Applied",0,1.429,"COUPLER BODY, F70DE",{"$f":"G1905*'Lookup Tables'!$R$14","v":677.07529999999997},{"$f":"H1905*'Lookup Tables'!$R$14","v":51.077400000000004},{"$f":"I1905*'Lookup Tables'!$R$14","v":0},{"$f":"J1905*'Lookup Tables'!$R$14","v":219.99470000000002},{"$f":"K1905*'Lookup Tables'!$R$14","v":897.07}]
[2215,"T","Component transfer",0,0,"COUPLER BODY, F70DE",{"$f":"G1906*'Lookup Tables'!$R$14","v":0},{"$f":"H1906*'Lookup Tables'!$R$14","v":0},{"$f":"I1906*'Lookup Tables'!$R$14","v":0},{"$f":"J1906*'Lookup Tables'!$R$14","v":0},{"$f":"K1906*'Lookup Tables'!$R$14","v":0}]
[2216,1,"New Material Applied",0,1.429,"COUPLER BODY, SF70DE",{"$f":"G1907*'Lookup Tables'!$R$14","v":918.58660000000009},{"$f":"H1907*'Lookup Tables'!$R$14","v":51.077400000000004},{"$f":"I1907*'Lookup Tables'!$R$14","v":0},{"$f":"J1907*'Lookup Tables'!$R$14","v":219.99470000000002},{"$f":"K1907*'Lookup Tables'!$R$14","v":1138.5813000000001}]
[2216,2,"Secondhand Material Applied",0,1.429,"COUPLER BODY, SF70DE",{"$f":"G1908*'Lookup Tables'!$R$14","v":463.67510000000004},{"$f":"H1908*'Lookup Tables'!$R$14","v":51.077400000000004},{"$f":"I1908*'Lookup Tables'!$R$14","v":0},{"$f":"J1908*'Lookup Tables'!$R$14","v":219.99470000000002},{"$f":"K1908*'Lookup Tables'!$R$14","v":683.66980000000012}]
[2216,3,"Reconditioned or Recertified Material Applied",0,1.429,"COUPLER BODY, SF70DE",{"$f":"G1909*'Lookup Tables'!$R$14","v":691.13630000000012},{"$f":"H1909*'Lookup Tables'!$R$14","v":51.077400000000004},{"$f":"I1909*'Lookup Tables'!$R$14","v":0},{"$f":"J1909*'Lookup Tables'!$R$14","v":219.99470000000002},{"$f":"K1909*'Lookup Tables'!$R$14","v":911.1310000000002}]
[2216,"T","Component transfer",0,0,"COUPLER BODY, SF70DE",{"$f":"G1910*'Lookup Tables'!$R$14","v":0},{"$f":"H1910*'Lookup Tables'!$R$14","v":0},{"$f":"I1910*'Lookup Tables'!$R$14","v":0},{"$f":"J1910*'Lookup Tables'!$R$14","v":0},{"$f":"K1910*'Lookup Tables'!$R$14","v":0}]
[2244,1,"New Material Applied",0,1.6040000000000001,"COUPLER BODY, F-ROTARY HTE OR AE",{"$f":"G1911*'Lookup Tables'!$R$14","v":1441.0672},{"$f":"H1911*'Lookup Tables'!$R$14","v":49.638600000000004},{"$f":"I1911*'Lookup Tables'!$R$14","v":0},{"$f":"J1911*'Lookup Tables'!$R$14","v":246.93950000000004},{"$f":"K1911*'Lookup Tables'!$R$14","v":1688.0066999999999}]
[2244,2,"Secondhand Material Applied",0,1.6040000000000001,"COUPLER BODY, F-ROTARY HTE OR AE",{"$f":"G1912*'Lookup Tables'!$R$14","v":724.91539999999998},{"$f":"H1912*'Lookup Tables'!$R$14","v":49.638600000000004},{"$f":"I1912*'Lookup Tables'!$R$14","v":0},{"$f":"J1912*'Lookup Tables'!$R$14","v":246.93950000000004},{"$f":"K1912*'Lookup Tables'!$R$14","v":971.85489999999993}]
[2244,3,"Reconditioned or Recertified Material Applied",0,1.6040000000000001,"COUPLER BODY, F-ROTARY HTE OR AE",{"$f":"G1913*'Lookup Tables'!$R$14","v":1082.9913000000001},{"$f":"H1913*'Lookup Tables'!$R$14","v":49.638600000000004},{"$f":"I1913*'Lookup Tables'!$R$14","v":0},{"$f":"J1913*'Lookup Tables'!$R$14","v":246.93950000000004},{"$f":"K1913*'Lookup Tables'!$R$14","v":1329.9308000000003}]
[2244,"T","Component transfer",0,0,"COUPLER BODY, F-ROTARY HTE OR AE",{"$f":"G1914*'Lookup Tables'!$R$14","v":0},{"$f":"H1914*'Lookup Tables'!$R$14","v":0},{"$f":"I1914*'Lookup Tables'!$R$14","v":0},{"$f":"J1914*'Lookup Tables'!$R$14","v":0},{"$f":"K1914*'Lookup Tables'!$R$14","v":0}]
[2254,1,"New Material Applied",0,0.17,"COUPLER KNUCKLE, TYPE F51 HTE, OR F51 AE",{"$f":"G1915*'Lookup Tables'!$R$14","v":146.82300000000001},{"$f":"H1915*'Lookup Tables'!$R$14","v":9.9517000000000024},{"$f":"I1915*'Lookup Tables'!$R$14","v":0},{"$f":"J1915*'Lookup Tables'!$R$14","v":26.170900000000003},{"$f":"K1915*'Lookup Tables'!$R$14","v":172.9939}]
[2254,2,"Secondhand Material Applied",0,0.17,"COUPLER KNUCKLE, TYPE F51 HTE, OR F51 AE",{"$f":"G1916*'Lookup Tables'!$R$14","v":51.491600000000005},{"$f":"H1916*'Lookup Tables'!$R$14","v":9.9517000000000024},{"$f":"I1916*'Lookup Tables'!$R$14","v":0},{"$f":"J1916*'Lookup Tables'!$R$14","v":26.170900000000003},{"$f":"K1916*'Lookup Tables'!$R$14","v":77.662500000000009}]
[2255,1,"New Material Applied",0,0.17,"COUPLER KNUCKLE, F51AEV",{"$f":"G1917*'Lookup Tables'!$R$14","v":151.96780000000001},{"$f":"H1917*'Lookup Tables'!$R$14","v":9.9517000000000024},{"$f":"I1917*'Lookup Tables'!$R$14","v":0},{"$f":"J1917*'Lookup Tables'!$R$14","v":26.170900000000003},{"$f":"K1917*'Lookup Tables'!$R$14","v":178.1387}]
[2255,2,"Secondhand Material Applied",0,0.17,"COUPLER KNUCKLE, F51AEV",{"$f":"G1918*'Lookup Tables'!$R$14","v":53.290100000000002},{"$f":"H1918*'Lookup Tables'!$R$14","v":9.9517000000000024},{"$f":"I1918*'Lookup Tables'!$R$14","v":0},{"$f":"J1918*'Lookup Tables'!$R$14","v":26.170900000000003},{"$f":"K1918*'Lookup Tables'!$R$14","v":79.461000000000013}]
[2256,1,"New Material Applied",0,0.183,"COUPLER KNUCKLE LOCK, F41 HT, OR F41 AC",{"$f":"G1919*'Lookup Tables'!$R$14","v":45.551100000000005},{"$f":"H1919*'Lookup Tables'!$R$14","v":0.83930000000000005},{"$f":"I1919*'Lookup Tables'!$R$14","v":0},{"$f":"J1919*'Lookup Tables'!$R$14","v":28.176500000000004},{"$f":"K1919*'Lookup Tables'!$R$14","v":73.72760000000001}]
[2256,2,"Secondhand Material Applied",0,0.183,"COUPLER KNUCKLE LOCK, F41 HT, OR F41 AC",{"$f":"G1920*'Lookup Tables'!$R$14","v":15.946700000000002},{"$f":"H1920*'Lookup Tables'!$R$14","v":0.83930000000000005},{"$f":"I1920*'Lookup Tables'!$R$14","v":0},{"$f":"J1920*'Lookup Tables'!$R$14","v":28.176500000000004},{"$f":"K1920*'Lookup Tables'!$R$14","v":44.123200000000004}]
[2256,3,"Reconditioned or Recertified Material Applied",0,0.183,"COUPLER KNUCKLE LOCK, F41 HT, OR F41 AC",{"$f":"G1921*'Lookup Tables'!$R$14","v":15.946700000000002},{"$f":"H1921*'Lookup Tables'!$R$14","v":0.83930000000000005},{"$f":"I1921*'Lookup Tables'!$R$14","v":0},{"$f":"J1921*'Lookup Tables'!$R$14","v":28.176500000000004},{"$f":"K1921*'Lookup Tables'!$R$14","v":44.123200000000004}]
[2258,1,"New Material Applied",0,0.183,"COUPLER KNUCKLE LOCK, F41 HTE, OR F41 AE",{"$f":"G1922*'Lookup Tables'!$R$14","v":45.551100000000005},{"$f":"H1922*'Lookup Tables'!$R$14","v":0.83930000000000005},{"$f":"I1922*'Lookup Tables'!$R$14","v":0},{"$f":"J1922*'Lookup Tables'!$R$14","v":28.176500000000004},{"$f":"K1922*'Lookup Tables'!$R$14","v":73.72760000000001}]
[2258,2,"Secondhand Material Applied",0,0.183,"COUPLER KNUCKLE LOCK, F41 HTE, OR F41 AE",{"$f":"G1923*'Lookup Tables'!$R$14","v":15.946700000000002},{"$f":"H1923*'Lookup Tables'!$R$14","v":0.83930000000000005},{"$f":"I1923*'Lookup Tables'!$R$14","v":0},{"$f":"J1923*'Lookup Tables'!$R$14","v":28.176500000000004},{"$f":"K1923*'Lookup Tables'!$R$14","v":44.123200000000004}]
[2258,3,"Reconditioned or Recertified Material Applied",0,0.183,"COUPLER KNUCKLE LOCK, F41 HTE, OR F41 AE",{"$f":"G1924*'Lookup Tables'!$R$14","v":15.946700000000002},{"$f":"H1924*'Lookup Tables'!$R$14","v":0.83930000000000005},{"$f":"I1924*'Lookup Tables'!$R$14","v":0},{"$f":"J1924*'Lookup Tables'!$R$14","v":28.176500000000004},{"$f":"K1924*'Lookup Tables'!$R$14","v":44.123200000000004}]
[2259,1,"New Material Applied",0,0.183,"COUPLER KNUCKLE LOCK, ROTARY, FR41AE OR RF41BE",{"$f":"G1925*'Lookup Tables'!$R$14","v":55.110400000000006},{"$f":"H1925*'Lookup Tables'!$R$14","v":1.7985},{"$f":"I1925*'Lookup Tables'!$R$14","v":0},{"$f":"J1925*'Lookup Tables'!$R$14","v":28.176500000000004},{"$f":"K1925*'Lookup Tables'!$R$14","v":83.286900000000003}]
[2259,2,"Secondhand Material Applied",0,0.183,"COUPLER KNUCKLE LOCK, ROTARY, FR41AE OR RF41BE",{"$f":"G1926*'Lookup Tables'!$R$14","v":19.292999999999999},{"$f":"H1926*'Lookup Tables'!$R$14","v":1.7985},{"$f":"I1926*'Lookup Tables'!$R$14","v":0},{"$f":"J1926*'Lookup Tables'!$R$14","v":28.176500000000004},{"$f":"K1926*'Lookup Tables'!$R$14","v":47.469500000000004}]
[2259,3,"Reconditioned or Recertified Material Applied",0,0.183,"COUPLER KNUCKLE LOCK, ROTARY, FR41AE OR RF41BE",{"$f":"G1927*'Lookup Tables'!$R$14","v":19.292999999999999},{"$f":"H1927*'Lookup Tables'!$R$14","v":1.7985},{"$f":"I1927*'Lookup Tables'!$R$14","v":0},{"$f":"J1927*'Lookup Tables'!$R$14","v":28.176500000000004},{"$f":"K1927*'Lookup Tables'!$R$14","v":47.469500000000004}]
[2260,1,"New Material Applied",0,0.24099999999999999,"COUPLER ROTARY LOCK-LIFT ASSEMBLY, TYPE F",{"$f":"G1928*'Lookup Tables'!$R$14","v":18.094000000000001},{"$f":"H1928*'Lookup Tables'!$R$14","v":0.71940000000000004},{"$f":"I1928*'Lookup Tables'!$R$14","v":0},{"$f":"J1928*'Lookup Tables'!$R$14","v":37.1036},{"$f":"K1928*'Lookup Tables'!$R$14","v":55.197600000000001}]
[2264,1,"New Material Applied",0,7.4999999999999997E-2,"COUPLER LOCK LIFT ROTOR,TYPE F",{"$f":"G1929*'Lookup Tables'!$R$14","v":10.823700000000001},{"$f":"H1929*'Lookup Tables'!$R$14","v":0.35970000000000002},{"$f":"I1929*'Lookup Tables'!$R$14","v":0},{"$f":"J1929*'Lookup Tables'!$R$14","v":11.543100000000001},{"$f":"K1929*'Lookup Tables'!$R$14","v":22.366800000000001}]
[2268,1,"New Material Applied",0,0.193,"COUPLER KNUCKLE THROWER,TYPE F",{"$f":"G1930*'Lookup Tables'!$R$14","v":13.221700000000002},{"$f":"H1930*'Lookup Tables'!$R$14","v":0.83930000000000005},{"$f":"I1930*'Lookup Tables'!$R$14","v":0},{"$f":"J1930*'Lookup Tables'!$R$14","v":29.713400000000004},{"$f":"K1930*'Lookup Tables'!$R$14","v":42.935100000000006}]
[2268,2,{"$f":"VLOOKUP(B580,$B$2686:$C$2701,2,FALSE)","v":"Secondhand Material Applied"},0,0.193,"COUPLER KNUCKLE THROWER,TYPE F",{"$f":"G1931*'Lookup Tables'!$R$14","v":4.6325000000000003},{"$f":"H1931*'Lookup Tables'!$R$14","v":0.83930000000000005},{"$f":"I1931*'Lookup Tables'!$R$14","v":0},{"$f":"J1931*'Lookup Tables'!$R$14","v":29.713400000000004},{"$f":"K1931*'Lookup Tables'!$R$14","v":34.345900000000007}]
[2272,1,"New Material Applied",0,0.10100000000000001,"COUPLER TO YOKE CONNECTION PIN,TYPE F",{"$f":"G1932*'Lookup Tables'!$R$14","v":27.795000000000002},{"$f":"H1932*'Lookup Tables'!$R$14","v":1.1990000000000003},{"$f":"I1932*'Lookup Tables'!$R$14","v":0},{"$f":"J1932*'Lookup Tables'!$R$14","v":15.554300000000001},{"$f":"K1932*'Lookup Tables'!$R$14","v":43.349299999999999}]
[2272,2,"Secondhand Material Applied",0,0.10100000000000001,"COUPLER TO YOKE CONNECTION PIN,TYPE F",{"$f":"G1933*'Lookup Tables'!$R$14","v":9.7337000000000007},{"$f":"H1933*'Lookup Tables'!$R$14","v":1.1990000000000003},{"$f":"I1933*'Lookup Tables'!$R$14","v":0},{"$f":"J1933*'Lookup Tables'!$R$14","v":15.554300000000001},{"$f":"K1933*'Lookup Tables'!$R$14","v":25.288}]
[2272,3,"Reconditioned or Recertified Material Applied",0,0.10100000000000001,"COUPLER TO YOKE CONNECTION PIN,TYPE F",{"$f":"G1934*'Lookup Tables'!$R$14","v":9.7337000000000007},{"$f":"H1934*'Lookup Tables'!$R$14","v":1.1990000000000003},{"$f":"I1934*'Lookup Tables'!$R$14","v":0},{"$f":"J1934*'Lookup Tables'!$R$14","v":15.554300000000001},{"$f":"K1934*'Lookup Tables'!$R$14","v":25.288}]
[2274,1,"New Material Applied",0,0.47899999999999998,"F TYPE YOKE CONNECTION PIN CARRIER",{"$f":"G1935*'Lookup Tables'!$R$14","v":119.00620000000002},{"$f":"H1935*'Lookup Tables'!$R$14","v":4.7960000000000012},{"$f":"I1935*'Lookup Tables'!$R$14","v":0},{"$f":"J1935*'Lookup Tables'!$R$14","v":73.738500000000016},{"$f":"K1935*'Lookup Tables'!$R$14","v":192.74470000000002}]
[2274,2,"Secondhand Material Applied",0,0.47899999999999998,"F TYPE YOKE CONNECTION PIN CARRIER",{"$f":"G1936*'Lookup Tables'!$R$14","v":61.890200000000007},{"$f":"H1936*'Lookup Tables'!$R$14","v":4.7960000000000012},{"$f":"I1936*'Lookup Tables'!$R$14","v":0},{"$f":"J1936*'Lookup Tables'!$R$14","v":73.738500000000016},{"$f":"K1936*'Lookup Tables'!$R$14","v":135.62870000000001}]
[2276,1,"New Material Applied",0,0.47899999999999998,"Y47 PIN RETAINER ASSEMBLY",{"$f":"G1937*'Lookup Tables'!$R$14","v":16.2301},{"$f":"H1937*'Lookup Tables'!$R$14","v":0},{"$f":"I1937*'Lookup Tables'!$R$14","v":0},{"$f":"J1937*'Lookup Tables'!$R$14","v":73.738500000000016},{"$f":"K1937*'Lookup Tables'!$R$14","v":89.968600000000009}]
[2276,2,"Secondhand Material Applied",0,0.47899999999999998,"Y47 PIN RETAINER ASSEMBLY",{"$f":"G1938*'Lookup Tables'!$R$14","v":8.1205000000000016},{"$f":"H1938*'Lookup Tables'!$R$14","v":0},{"$f":"I1938*'Lookup Tables'!$R$14","v":0},{"$f":"J1938*'Lookup Tables'!$R$14","v":73.738500000000016},{"$f":"K1938*'Lookup Tables'!$R$14","v":81.859000000000009}]
[2314,1,"New Material Applied",0,0,"COUPLER YOKE, Y40AHT OR Y40AC",{"$f":"G1939*'Lookup Tables'!$R$14","v":366.98120000000006},{"$f":"H1939*'Lookup Tables'!$R$14","v":24.339700000000001},{"$f":"I1939*'Lookup Tables'!$R$14","v":0},{"$f":"J1939*'Lookup Tables'!$R$14","v":0},{"$f":"K1939*'Lookup Tables'!$R$14","v":366.98120000000006}]
[2314,2,"Secondhand Material Applied",0,0,"COUPLER YOKE, Y40AHT OR Y40AC",{"$f":"G1940*'Lookup Tables'!$R$14","v":183.49060000000003},{"$f":"H1940*'Lookup Tables'!$R$14","v":24.339700000000001},{"$f":"I1940*'Lookup Tables'!$R$14","v":0},{"$f":"J1940*'Lookup Tables'!$R$14","v":0},{"$f":"K1940*'Lookup Tables'!$R$14","v":183.49060000000003}]
[2314,3,"Reconditioned or Recertified Material Applied",0,0,"COUPLER YOKE, Y40AHT OR Y40AC",{"$f":"G1941*'Lookup Tables'!$R$14","v":275.23590000000002},{"$f":"H1941*'Lookup Tables'!$R$14","v":24.339700000000001},{"$f":"I1941*'Lookup Tables'!$R$14","v":0},{"$f":"J1941*'Lookup Tables'!$R$14","v":0},{"$f":"K1941*'Lookup Tables'!$R$14","v":275.23590000000002}]
[2315,1,"New Material Applied",0,0,"YOKE - Y40AHTE,Y40AE,SY40AE,YS93AE OR WMNY40AE",{"$f":"G1942*'Lookup Tables'!$R$14","v":415.14830000000006},{"$f":"H1942*'Lookup Tables'!$R$14","v":24.339700000000001},{"$f":"I1942*'Lookup Tables'!$R$14","v":0},{"$f":"J1942*'Lookup Tables'!$R$14","v":0},{"$f":"K1942*'Lookup Tables'!$R$14","v":415.14830000000006}]
[2315,2,"Secondhand Material Applied",0,0,"YOKE - Y40AHTE,Y40AE,SY40AE,YS93AE OR WMNY40AE",{"$f":"G1943*'Lookup Tables'!$R$14","v":207.5796},{"$f":"H1943*'Lookup Tables'!$R$14","v":24.339700000000001},{"$f":"I1943*'Lookup Tables'!$R$14","v":0},{"$f":"J1943*'Lookup Tables'!$R$14","v":0},{"$f":"K1943*'Lookup Tables'!$R$14","v":207.5796}]
[2315,3,"Reconditioned or Recertified Material Applied",0,0,"YOKE - Y40AHTE,Y40AE,SY40AE,YS93AE OR WMNY40AE",{"$f":"G1944*'Lookup Tables'!$R$14","v":311.35849999999999},{"$f":"H1944*'Lookup Tables'!$R$14","v":24.339700000000001},{"$f":"I1944*'Lookup Tables'!$R$14","v":0},{"$f":"J1944*'Lookup Tables'!$R$14","v":0},{"$f":"K1944*'Lookup Tables'!$R$14","v":311.35849999999999}]
[2317,1,"New Material Applied",0,0,"COUPLER YOKE, Y41AHT OR Y41AC",{"$f":"G1945*'Lookup Tables'!$R$14","v":858.99630000000013},{"$f":"H1945*'Lookup Tables'!$R$14","v":30.694400000000002},{"$f":"I1945*'Lookup Tables'!$R$14","v":0},{"$f":"J1945*'Lookup Tables'!$R$14","v":0},{"$f":"K1945*'Lookup Tables'!$R$14","v":858.99630000000013}]
[2317,2,"Secondhand Material Applied",0,0,"COUPLER YOKE, Y41AHT OR Y41AC",{"$f":"G1946*'Lookup Tables'!$R$14","v":429.50360000000006},{"$f":"H1946*'Lookup Tables'!$R$14","v":30.694400000000002},{"$f":"I1946*'Lookup Tables'!$R$14","v":0},{"$f":"J1946*'Lookup Tables'!$R$14","v":0},{"$f":"K1946*'Lookup Tables'!$R$14","v":429.50360000000006}]
[2317,3,"Reconditioned or Recertified Material Applied",0,0,"COUPLER YOKE, Y41AHT OR Y41AC",{"$f":"G1947*'Lookup Tables'!$R$14","v":644.24450000000002},{"$f":"H1947*'Lookup Tables'!$R$14","v":30.694400000000002},{"$f":"I1947*'Lookup Tables'!$R$14","v":0},{"$f":"J1947*'Lookup Tables'!$R$14","v":0},{"$f":"K1947*'Lookup Tables'!$R$14","v":644.24450000000002}]
[2318,1,"New Material Applied",0,0,"COUPLER YOKE, Y41AHTE OR Y41AE",{"$f":"G1948*'Lookup Tables'!$R$14","v":858.99630000000013},{"$f":"H1948*'Lookup Tables'!$R$14","v":30.694400000000002},{"$f":"I1948*'Lookup Tables'!$R$14","v":0},{"$f":"J1948*'Lookup Tables'!$R$14","v":0},{"$f":"K1948*'Lookup Tables'!$R$14","v":858.99630000000013}]
[2318,2,"Secondhand Material Applied",0,0,"COUPLER YOKE, Y41AHTE OR Y41AE",{"$f":"G1949*'Lookup Tables'!$R$14","v":429.50360000000006},{"$f":"H1949*'Lookup Tables'!$R$14","v":30.694400000000002},{"$f":"I1949*'Lookup Tables'!$R$14","v":0},{"$f":"J1949*'Lookup Tables'!$R$14","v":0},{"$f":"K1949*'Lookup Tables'!$R$14","v":429.50360000000006}]
[2318,3,"Reconditioned or Recertified Material Applied",0,0,"COUPLER YOKE, Y41AHTE OR Y41AE",{"$f":"G1950*'Lookup Tables'!$R$14","v":644.24450000000002},{"$f":"H1950*'Lookup Tables'!$R$14","v":30.694400000000002},{"$f":"I1950*'Lookup Tables'!$R$14","v":0},{"$f":"J1950*'Lookup Tables'!$R$14","v":0},{"$f":"K1950*'Lookup Tables'!$R$14","v":644.24450000000002}]
[2355,1,"New Material Applied",0,0,"COUPLER YOKE, Y45HT, Y45AHT, BY45HT OR Y45AC",{"$f":"G1951*'Lookup Tables'!$R$14","v":400.8802},{"$f":"H1951*'Lookup Tables'!$R$14","v":38.368000000000009},{"$f":"I1951*'Lookup Tables'!$R$14","v":0},{"$f":"J1951*'Lookup Tables'!$R$14","v":0},{"$f":"K1951*'Lookup Tables'!$R$14","v":400.8802}]
[2355,2,"Secondhand Material Applied",0,0,"COUPLER YOKE, Y45HT, Y45AHT, BY45HT OR Y45AC",{"$f":"G1952*'Lookup Tables'!$R$14","v":200.4401},{"$f":"H1952*'Lookup Tables'!$R$14","v":38.368000000000009},{"$f":"I1952*'Lookup Tables'!$R$14","v":0},{"$f":"J1952*'Lookup Tables'!$R$14","v":0},{"$f":"K1952*'Lookup Tables'!$R$14","v":200.4401}]
[2355,3,"Reconditioned or Recertified Material Applied",0,0,"COUPLER YOKE, Y45HT, Y45AHT, BY45HT OR Y45AC",{"$f":"G1953*'Lookup Tables'!$R$14","v":300.66559999999998},{"$f":"H1953*'Lookup Tables'!$R$14","v":38.368000000000009},{"$f":"I1953*'Lookup Tables'!$R$14","v":0},{"$f":"J1953*'Lookup Tables'!$R$14","v":0},{"$f":"K1953*'Lookup Tables'!$R$14","v":300.66559999999998}]
[2356,1,"New Material Applied",0,0,"COUPLER YOKE, Y45AHTE, Y45AE OR SY294AE",{"$f":"G1954*'Lookup Tables'!$R$14","v":405.57810000000001},{"$f":"H1954*'Lookup Tables'!$R$14","v":38.368000000000009},{"$f":"I1954*'Lookup Tables'!$R$14","v":0},{"$f":"J1954*'Lookup Tables'!$R$14","v":0},{"$f":"K1954*'Lookup Tables'!$R$14","v":405.57810000000001}]
[2356,2,"Secondhand Material Applied",0,0,"COUPLER YOKE, Y45AHTE, Y45AE OR SY294AE",{"$f":"G1955*'Lookup Tables'!$R$14","v":202.79450000000003},{"$f":"H1955*'Lookup Tables'!$R$14","v":38.368000000000009},{"$f":"I1955*'Lookup Tables'!$R$14","v":0},{"$f":"J1955*'Lookup Tables'!$R$14","v":0},{"$f":"K1955*'Lookup Tables'!$R$14","v":202.79450000000003}]
[2356,3,"Reconditioned or Recertified Material Applied",0,0,"COUPLER YOKE, Y45AHTE, Y45AE OR SY294AE",{"$f":"G1956*'Lookup Tables'!$R$14","v":304.18630000000002},{"$f":"H1956*'Lookup Tables'!$R$14","v":38.368000000000009},{"$f":"I1956*'Lookup Tables'!$R$14","v":0},{"$f":"J1956*'Lookup Tables'!$R$14","v":0},{"$f":"K1956*'Lookup Tables'!$R$14","v":304.18630000000002}]
[2358,2,"Secondhand Material Applied",0,0,"COUPLER YOKE, Y 45HTE",{"$f":"G1957*'Lookup Tables'!$R$14","v":203.1978},{"$f":"H1957*'Lookup Tables'!$R$14","v":38.368000000000009},{"$f":"I1957*'Lookup Tables'!$R$14","v":0},{"$f":"J1957*'Lookup Tables'!$R$14","v":0},{"$f":"K1957*'Lookup Tables'!$R$14","v":203.1978}]
[2436,1,"New Material Applied",0,0,"DRAFT GEAR,GROUP J",{"$f":"G1958*'Lookup Tables'!$R$14","v":526.26290000000006},{"$f":"H1958*'Lookup Tables'!$R$14","v":39.80680000000001},{"$f":"I1958*'Lookup Tables'!$R$14","v":0},{"$f":"J1958*'Lookup Tables'!$R$14","v":0},{"$f":"K1958*'Lookup Tables'!$R$14","v":526.26290000000006}]
[2436,2,"Secondhand Material Applied",0,0,"DRAFT GEAR,GROUP J",{"$f":"G1959*'Lookup Tables'!$R$14","v":263.13690000000003},{"$f":"H1959*'Lookup Tables'!$R$14","v":39.80680000000001},{"$f":"I1959*'Lookup Tables'!$R$14","v":0},{"$f":"J1959*'Lookup Tables'!$R$14","v":0},{"$f":"K1959*'Lookup Tables'!$R$14","v":263.13690000000003}]
[2436,3,"Reconditioned or Recertified Material Applied",0,0,"DRAFT GEAR,GROUP J",{"$f":"G1960*'Lookup Tables'!$R$14","v":394.69990000000007},{"$f":"H1960*'Lookup Tables'!$R$14","v":39.80680000000001},{"$f":"I1960*'Lookup Tables'!$R$14","v":0},{"$f":"J1960*'Lookup Tables'!$R$14","v":0},{"$f":"K1960*'Lookup Tables'!$R$14","v":394.69990000000007}]
[2440,1,"New Material Applied",0,0,"DRAFT GEAR, GROUP K",{"$f":"G1961*'Lookup Tables'!$R$14","v":998.09120000000007},{"$f":"H1961*'Lookup Tables'!$R$14","v":39.80680000000001},{"$f":"I1961*'Lookup Tables'!$R$14","v":0},{"$f":"J1961*'Lookup Tables'!$R$14","v":0},{"$f":"K1961*'Lookup Tables'!$R$14","v":998.09120000000007}]
[2440,2,"Secondhand Material Applied",0,0,"DRAFT GEAR, GROUP K",{"$f":"G1962*'Lookup Tables'!$R$14","v":499.04560000000004},{"$f":"H1962*'Lookup Tables'!$R$14","v":39.80680000000001},{"$f":"I1962*'Lookup Tables'!$R$14","v":0},{"$f":"J1962*'Lookup Tables'!$R$14","v":0},{"$f":"K1962*'Lookup Tables'!$R$14","v":499.04560000000004}]
[2440,3,"Reconditioned or Recertified Material Applied",0,0,"DRAFT GEAR, GROUP K",{"$f":"G1963*'Lookup Tables'!$R$14","v":748.5684},{"$f":"H1963*'Lookup Tables'!$R$14","v":39.80680000000001},{"$f":"I1963*'Lookup Tables'!$R$14","v":0},{"$f":"J1963*'Lookup Tables'!$R$14","v":0},{"$f":"K1963*'Lookup Tables'!$R$14","v":748.5684}]
[2446,1,"New Material Applied",0,0,"DRAFT GEAR,GROUP M",{"$f":"G1964*'Lookup Tables'!$R$14","v":494.68560000000002},{"$f":"H1964*'Lookup Tables'!$R$14","v":39.80680000000001},{"$f":"I1964*'Lookup Tables'!$R$14","v":0},{"$f":"J1964*'Lookup Tables'!$R$14","v":0},{"$f":"K1964*'Lookup Tables'!$R$14","v":494.68560000000002}]
[2446,2,"Secondhand Material Applied",0,0,"DRAFT GEAR,GROUP M",{"$f":"G1965*'Lookup Tables'!$R$14","v":247.34280000000001},{"$f":"H1965*'Lookup Tables'!$R$14","v":39.80680000000001},{"$f":"I1965*'Lookup Tables'!$R$14","v":0},{"$f":"J1965*'Lookup Tables'!$R$14","v":0},{"$f":"K1965*'Lookup Tables'!$R$14","v":247.34280000000001}]
[2446,3,"Reconditioned or Recertified Material Applied",0,0,"DRAFT GEAR,GROUP M",{"$f":"G1966*'Lookup Tables'!$R$14","v":371.01420000000002},{"$f":"H1966*'Lookup Tables'!$R$14","v":39.80680000000001},{"$f":"I1966*'Lookup Tables'!$R$14","v":0},{"$f":"J1966*'Lookup Tables'!$R$14","v":0},{"$f":"K1966*'Lookup Tables'!$R$14","v":371.01420000000002}]
[2448,1,"New Material Applied",0,0,"DRAFT GEAR,GROUP R",{"$f":"G1967*'Lookup Tables'!$R$14","v":1555.0267000000003},{"$f":"H1967*'Lookup Tables'!$R$14","v":39.80680000000001},{"$f":"I1967*'Lookup Tables'!$R$14","v":0},{"$f":"J1967*'Lookup Tables'!$R$14","v":0},{"$f":"K1967*'Lookup Tables'!$R$14","v":1555.0267000000003}]
[2448,2,"Secondhand Material Applied",0,0,"DRAFT GEAR,GROUP R",{"$f":"G1968*'Lookup Tables'!$R$14","v":777.51880000000006},{"$f":"H1968*'Lookup Tables'!$R$14","v":39.80680000000001},{"$f":"I1968*'Lookup Tables'!$R$14","v":0},{"$f":"J1968*'Lookup Tables'!$R$14","v":0},{"$f":"K1968*'Lookup Tables'!$R$14","v":777.51880000000006}]
[2448,3,"Reconditioned or Recertified Material Applied",0,0,"DRAFT GEAR,GROUP R",{"$f":"G1969*'Lookup Tables'!$R$14","v":1166.2673000000002},{"$f":"H1969*'Lookup Tables'!$R$14","v":39.80680000000001},{"$f":"I1969*'Lookup Tables'!$R$14","v":0},{"$f":"J1969*'Lookup Tables'!$R$14","v":0},{"$f":"K1969*'Lookup Tables'!$R$14","v":1166.2673000000002}]
[2453,1,"New Material Applied",0,0,"DRAFT GEAR FOLLOWER PLATE W/ GROOVES OR ALT STMP E",{"$f":"G1970*'Lookup Tables'!$R$14","v":85.815700000000007},{"$f":"H1970*'Lookup Tables'!$R$14","v":7.7935000000000008},{"$f":"I1970*'Lookup Tables'!$R$14","v":0},{"$f":"J1970*'Lookup Tables'!$R$14","v":0},{"$f":"K1970*'Lookup Tables'!$R$14","v":85.815700000000007}]
[2453,2,"Secondhand Material Applied",0,0,"DRAFT GEAR FOLLOWER PLATE W/ GROOVES OR ALT STMP E",{"$f":"G1971*'Lookup Tables'!$R$14","v":42.9133},{"$f":"H1971*'Lookup Tables'!$R$14","v":7.7935000000000008},{"$f":"I1971*'Lookup Tables'!$R$14","v":0},{"$f":"J1971*'Lookup Tables'!$R$14","v":0},{"$f":"K1971*'Lookup Tables'!$R$14","v":42.9133}]
[2454,1,"New Material Applied",0,0,"D/G FOLLOWER-VERTICAL PIN CONNECT CPLR",{"$f":"G1972*'Lookup Tables'!$R$14","v":106.43850000000002},{"$f":"H1972*'Lookup Tables'!$R$14","v":8.9925000000000015},{"$f":"I1972*'Lookup Tables'!$R$14","v":0},{"$f":"J1972*'Lookup Tables'!$R$14","v":0},{"$f":"K1972*'Lookup Tables'!$R$14","v":106.43850000000002}]
[2454,2,"Secondhand Material Applied",0,0,"D/G FOLLOWER-VERTICAL PIN CONNECT CPLR",{"$f":"G1973*'Lookup Tables'!$R$14","v":53.224699999999999},{"$f":"H1973*'Lookup Tables'!$R$14","v":8.9925000000000015},{"$f":"I1973*'Lookup Tables'!$R$14","v":0},{"$f":"J1973*'Lookup Tables'!$R$14","v":0},{"$f":"K1973*'Lookup Tables'!$R$14","v":53.224699999999999}]
[2456,1,"New Material Applied",0,0,"DRAFT GEAR FOLLOWER,1/2 IN.OFFSET TYPE",{"$f":"G1974*'Lookup Tables'!$R$14","v":106.43850000000002},{"$f":"H1974*'Lookup Tables'!$R$14","v":8.9925000000000015},{"$f":"I1974*'Lookup Tables'!$R$14","v":0},{"$f":"J1974*'Lookup Tables'!$R$14","v":0},{"$f":"K1974*'Lookup Tables'!$R$14","v":106.43850000000002}]
[2456,2,"Secondhand Material Applied",0,0,"DRAFT GEAR FOLLOWER,1/2 IN.OFFSET TYPE",{"$f":"G1975*'Lookup Tables'!$R$14","v":53.224699999999999},{"$f":"H1975*'Lookup Tables'!$R$14","v":8.9925000000000015},{"$f":"I1975*'Lookup Tables'!$R$14","v":0},{"$f":"J1975*'Lookup Tables'!$R$14","v":0},{"$f":"K1975*'Lookup Tables'!$R$14","v":53.224699999999999}]
[2468,1,"New Material Applied",0,0.40100000000000002,"DRAFT GEAR CARRIER",{"$f":"G1976*'Lookup Tables'!$R$14","v":32.383900000000004},{"$f":"H1976*'Lookup Tables'!$R$14","v":3.3572000000000002},{"$f":"I1976*'Lookup Tables'!$R$14","v":0},{"$f":"J1976*'Lookup Tables'!$R$14","v":61.737600000000008},{"$f":"K1976*'Lookup Tables'!$R$14","v":94.121499999999997}]
[2468,2,"Secondhand Material Applied",0,0.40100000000000002,"DRAFT GEAR CARRIER",{"$f":"G1977*'Lookup Tables'!$R$14","v":20.5792},{"$f":"H1977*'Lookup Tables'!$R$14","v":3.3572000000000002},{"$f":"I1977*'Lookup Tables'!$R$14","v":0},{"$f":"J1977*'Lookup Tables'!$R$14","v":61.737600000000008},{"$f":"K1977*'Lookup Tables'!$R$14","v":82.316800000000001}]
[2480,1,"New Material Applied",0,0.252,"UNCOUPLING LEVER NON-TELESCOPING",{"$f":"G1978*'Lookup Tables'!$R$14","v":18.715300000000003},{"$f":"H1978*'Lookup Tables'!$R$14","v":1.9184000000000001},{"$f":"I1978*'Lookup Tables'!$R$14","v":0},{"$f":"J1978*'Lookup Tables'!$R$14","v":38.79310000000001},{"$f":"K1978*'Lookup Tables'!$R$14","v":57.508400000000009}]
[2480,2,"Secondhand Material Applied",0,0.252,"UNCOUPLING LEVER NON-TELESCOPING",{"$f":"G1979*'Lookup Tables'!$R$14","v":9.4394000000000009},{"$f":"H1979*'Lookup Tables'!$R$14","v":1.9184000000000001},{"$f":"I1979*'Lookup Tables'!$R$14","v":0},{"$f":"J1979*'Lookup Tables'!$R$14","v":38.79310000000001},{"$f":"K1979*'Lookup Tables'!$R$14","v":48.232500000000002}]
[2480,8,"Remove, repair, and replace same part",0,0.252,"UNCOUPLING LEVER NON-TELESCOPING",{"$f":"G1980*'Lookup Tables'!$R$14","v":16.110199999999999},{"$f":"H1980*'Lookup Tables'!$R$14","v":0},{"$f":"I1980*'Lookup Tables'!$R$14","v":0},{"$f":"J1980*'Lookup Tables'!$R$14","v":38.79310000000001},{"$f":"K1980*'Lookup Tables'!$R$14","v":54.903300000000009}]
[2482,1,"New Material Applied",0,0.24199999999999999,"UNCOUPLING LEVER, TELESCOPING TYPE",{"$f":"G1981*'Lookup Tables'!$R$14","v":37.343400000000003},{"$f":"H1981*'Lookup Tables'!$R$14","v":4.1965000000000003},{"$f":"I1981*'Lookup Tables'!$R$14","v":0},{"$f":"J1981*'Lookup Tables'!$R$14","v":37.2562},{"$f":"K1981*'Lookup Tables'!$R$14","v":74.599600000000009}]
[2482,2,"Secondhand Material Applied",0,0.24199999999999999,"UNCOUPLING LEVER, TELESCOPING TYPE",{"$f":"G1982*'Lookup Tables'!$R$14","v":19.467400000000001},{"$f":"H1982*'Lookup Tables'!$R$14","v":4.1965000000000003},{"$f":"I1982*'Lookup Tables'!$R$14","v":0},{"$f":"J1982*'Lookup Tables'!$R$14","v":37.2562},{"$f":"K1982*'Lookup Tables'!$R$14","v":56.723600000000005}]
[2482,8,"Remove, repair, and replace same part",0,0.24199999999999999,"UNCOUPLING LEVER, TELESCOPING TYPE",{"$f":"G1983*'Lookup Tables'!$R$14","v":28.241900000000001},{"$f":"H1983*'Lookup Tables'!$R$14","v":0},{"$f":"I1983*'Lookup Tables'!$R$14","v":0},{"$f":"J1983*'Lookup Tables'!$R$14","v":37.2562},{"$f":"K1983*'Lookup Tables'!$R$14","v":65.498100000000008}]
[2484,1,"New Material Applied",0,8.4000000000000005E-2,"FILLER, NON-TELESCOPING UNCOUPLING LEVER BRACKET",{"$f":"G1984*'Lookup Tables'!$R$14","v":0.91560000000000008},{"$f":"H1984*'Lookup Tables'!$R$14","v":0},{"$f":"I1984*'Lookup Tables'!$R$14","v":0},{"$f":"J1984*'Lookup Tables'!$R$14","v":12.9274},{"$f":"K1984*'Lookup Tables'!$R$14","v":13.843}]
[2486,1,"New Material Applied",0,0.13600000000000001,"UNCOUPLING LEVER SUPPORT PARTS",{"$f":"G1985*'Lookup Tables'!$R$14","v":13.276200000000001},{"$f":"H1985*'Lookup Tables'!$R$14","v":0.71940000000000004},{"$f":"I1985*'Lookup Tables'!$R$14","v":0},{"$f":"J1985*'Lookup Tables'!$R$14","v":20.938900000000004},{"$f":"K1985*'Lookup Tables'!$R$14","v":34.2151}]
[2486,2,"Secondhand Material Applied",0,0.13600000000000001,"UNCOUPLING LEVER SUPPORT PARTS",{"$f":"G1986*'Lookup Tables'!$R$14","v":7.4338000000000006},{"$f":"H1986*'Lookup Tables'!$R$14","v":0.71940000000000004},{"$f":"I1986*'Lookup Tables'!$R$14","v":0},{"$f":"J1986*'Lookup Tables'!$R$14","v":20.938900000000004},{"$f":"K1986*'Lookup Tables'!$R$14","v":28.372700000000002}]
[2486,8,"Remove, repair, and replace same part",0,0.13600000000000001,"UNCOUPLING LEVER SUPPORT PARTS",{"$f":"G1987*'Lookup Tables'!$R$14","v":9.8972000000000016},{"$f":"H1987*'Lookup Tables'!$R$14","v":0},{"$f":"I1987*'Lookup Tables'!$R$14","v":0},{"$f":"J1987*'Lookup Tables'!$R$14","v":20.938900000000004},{"$f":"K1987*'Lookup Tables'!$R$14","v":30.836100000000002}]
[2574,7,"Periodic or Service Attention \n(includes: vacant, single car testing of air brakes, cleaning of brke cyclinder, B-1 Quick Service Valves, Lubrication, Servicing mechanical refrigeration units, vacant, all wheels applied)",0,0.36299999999999999,"INSP. & LUB. HITCH; KNOCK-DOWN TYPE",{"$f":"G1988*'Lookup Tables'!$R$14","v":1.6350000000000002},{"$f":"H1988*'Lookup Tables'!$R$14","v":0},{"$f":"I1988*'Lookup Tables'!$R$14","v":0},{"$f":"J1988*'Lookup Tables'!$R$14","v":55.88430000000001},{"$f":"K1988*'Lookup Tables'!$R$14","v":57.519300000000008}]
[2576,7,"Periodic or Service Attention \n(includes: vacant, single car testing of air brakes, cleaning of brke cyclinder, B-1 Quick Service Valves, Lubrication, Servicing mechanical refrigeration units, vacant, all wheels applied)",0,0.28399999999999997,"INSP. & LUB. HITCH; STATIONARY TYPE",{"$f":"G1989*'Lookup Tables'!$R$14","v":1.6350000000000002},{"$f":"H1989*'Lookup Tables'!$R$14","v":0},{"$f":"I1989*'Lookup Tables'!$R$14","v":0},{"$f":"J1989*'Lookup Tables'!$R$14","v":43.719900000000003},{"$f":"K1989*'Lookup Tables'!$R$14","v":45.354900000000001}]
[2577,1,"New Material Applied",0,0.127,"HITCH INOPERABLE, BO ID DEVICE APPLIED",{"$f":"G1990*'Lookup Tables'!$R$14","v":44.221300000000006},{"$f":"H1990*'Lookup Tables'!$R$14","v":0},{"$f":"I1990*'Lookup Tables'!$R$14","v":0},{"$f":"J1990*'Lookup Tables'!$R$14","v":19.554600000000004},{"$f":"K1990*'Lookup Tables'!$R$14","v":63.775900000000007}]
[2577,2,"Secondhand Material Applied",0,0.127,"HITCH INOPERABLE, BO ID DEVICE APPLIED",{"$f":"G1991*'Lookup Tables'!$R$14","v":22.116099999999999},{"$f":"H1991*'Lookup Tables'!$R$14","v":0},{"$f":"I1991*'Lookup Tables'!$R$14","v":0},{"$f":"J1991*'Lookup Tables'!$R$14","v":19.554600000000004},{"$f":"K1991*'Lookup Tables'!$R$14","v":41.670700000000011}]
[2600,0,"Labor attention such as: \nactual labor, replacing or rechanging doors, welding, vacant, painting or stenciling, other labor attention",0,0.93200000000000005,"ASF ARTICULATED CONNECTION - LABOR",{"$f":"G1992*'Lookup Tables'!$R$14","v":0},{"$f":"H1992*'Lookup Tables'!$R$14","v":0},{"$f":"I1992*'Lookup Tables'!$R$14","v":0},{"$f":"J1992*'Lookup Tables'!$R$14","v":143.48759999999999},{"$f":"K1992*'Lookup Tables'!$R$14","v":143.48759999999999}]
[2605,0,"Labor attention such as: \nactual labor, replacing or rechanging doors, welding, vacant, painting or stenciling, other labor attention",0,0.93200000000000005,"NACO ARTICULATED CONNECTION - LABOR",{"$f":"G1993*'Lookup Tables'!$R$14","v":0},{"$f":"H1993*'Lookup Tables'!$R$14","v":0},{"$f":"I1993*'Lookup Tables'!$R$14","v":0},{"$f":"J1993*'Lookup Tables'!$R$14","v":143.48759999999999},{"$f":"K1993*'Lookup Tables'!$R$14","v":143.48759999999999}]
[2610,0,"Labor attention such as: \nactual labor, replacing or rechanging doors, welding, vacant, painting or stenciling, other labor attention",0,1.181,"CARDWELL WESTINGHOUSE SAC-1 ART CONN - LABOR",{"$f":"G1994*'Lookup Tables'!$R$14","v":0},{"$f":"H1994*'Lookup Tables'!$R$14","v":0},{"$f":"I1994*'Lookup Tables'!$R$14","v":0},{"$f":"J1994*'Lookup Tables'!$R$14","v":181.81200000000001},{"$f":"K1994*'Lookup Tables'!$R$14","v":181.81200000000001}]
[2620,1,{"$f":"VLOOKUP(B644,$B$2686:$C$2701,2,FALSE)","v":"New Material Applied"},0,0,"ASF CONNECTOR PRIMARY PIN",{"$f":"G1995*'Lookup Tables'!$R$14","v":221.8586},{"$f":"H1995*'Lookup Tables'!$R$14","v":1.4388000000000001},{"$f":"I1995*'Lookup Tables'!$R$14","v":0},{"$f":"J1995*'Lookup Tables'!$R$14","v":0},{"$f":"K1995*'Lookup Tables'!$R$14","v":221.8586}]
[2622,1,"New Material Applied",0,0.158,"ASF RETAINING PIN",{"$f":"G1996*'Lookup Tables'!$R$14","v":23.118900000000004},{"$f":"H1996*'Lookup Tables'!$R$14","v":0.23980000000000001},{"$f":"I1996*'Lookup Tables'!$R$14","v":0},{"$f":"J1996*'Lookup Tables'!$R$14","v":24.328800000000001},{"$f":"K1996*'Lookup Tables'!$R$14","v":47.447700000000005}]
[2630,1,"New Material Applied",0,0,"NACO CONNECTOR PRIMARY PIN",{"$f":"G1997*'Lookup Tables'!$R$14","v":1605.2648000000002},{"$f":"H1997*'Lookup Tables'!$R$14","v":1.4388000000000001},{"$f":"I1997*'Lookup Tables'!$R$14","v":0},{"$f":"J1997*'Lookup Tables'!$R$14","v":0},{"$f":"K1997*'Lookup Tables'!$R$14","v":1605.2648000000002}]
[2632,1,"New Material Applied",0,0.158,"NACO RETAINING PIN",{"$f":"G1998*'Lookup Tables'!$R$14","v":14.1591},{"$f":"H1998*'Lookup Tables'!$R$14","v":0.23980000000000001},{"$f":"I1998*'Lookup Tables'!$R$14","v":0},{"$f":"J1998*'Lookup Tables'!$R$14","v":24.328800000000001},{"$f":"K1998*'Lookup Tables'!$R$14","v":38.487900000000003}]
[2650,1,"New Material Applied",0,0.11,"CARDWELL WESTINGHOUSE SAC-1 SHROUD",{"$f":"G1999*'Lookup Tables'!$R$14","v":51.077400000000004},{"$f":"H1999*'Lookup Tables'!$R$14","v":0.59950000000000014},{"$f":"I1999*'Lookup Tables'!$R$14","v":0},{"$f":"J1999*'Lookup Tables'!$R$14","v":16.938600000000001},{"$f":"K1999*'Lookup Tables'!$R$14","v":68.016000000000005}]
[2652,1,"New Material Applied",0,0,"CARDWELL WESTINGHOUSE SAC-1 LOCKING WEDGE",{"$f":"G2000*'Lookup Tables'!$R$14","v":56.222200000000001},{"$f":"H2000*'Lookup Tables'!$R$14","v":1.4388000000000001},{"$f":"I2000*'Lookup Tables'!$R$14","v":0},{"$f":"J2000*'Lookup Tables'!$R$14","v":0},{"$f":"K2000*'Lookup Tables'!$R$14","v":56.222200000000001}]
[2814,1,"New Material Applied",0,0,"ROLLER BEARING GROUP B 6 X 11 INCH OR LESS",{"$f":"G2001*'Lookup Tables'!$R$14","v":0},{"$f":"H2001*'Lookup Tables'!$R$14","v":0},{"$f":"I2001*'Lookup Tables'!$R$14","v":0},{"$f":"J2001*'Lookup Tables'!$R$14","v":0},{"$f":"K2001*'Lookup Tables'!$R$14","v":0}]
[2814,3,"Reconditioned or Recertified Material Applied",0,0,"ROLLER BEARING GROUP B 6 X 11 INCH OR LESS",{"$f":"G2002*'Lookup Tables'!$R$14","v":0},{"$f":"H2002*'Lookup Tables'!$R$14","v":0},{"$f":"I2002*'Lookup Tables'!$R$14","v":0},{"$f":"J2002*'Lookup Tables'!$R$14","v":0},{"$f":"K2002*'Lookup Tables'!$R$14","v":0}]
[2816,1,"New Material Applied",0,0,"ROLLER BEARING, GROUP B,6-1/2X12 IN.",{"$f":"G2003*'Lookup Tables'!$R$14","v":0},{"$f":"H2003*'Lookup Tables'!$R$14","v":0},{"$f":"I2003*'Lookup Tables'!$R$14","v":0},{"$f":"J2003*'Lookup Tables'!$R$14","v":0},{"$f":"K2003*'Lookup Tables'!$R$14","v":0}]
[2816,3,"Reconditioned or Recertified Material Applied",0,0,"ROLLER BEARING, GROUP B,6-1/2X12 IN.",{"$f":"G2004*'Lookup Tables'!$R$14","v":0},{"$f":"H2004*'Lookup Tables'!$R$14","v":0},{"$f":"I2004*'Lookup Tables'!$R$14","v":0},{"$f":"J2004*'Lookup Tables'!$R$14","v":0},{"$f":"K2004*'Lookup Tables'!$R$14","v":0}]
[2820,1,"New Material Applied",0,0,"ROLLER BEARING,GROUP B, 7X12 IN.",{"$f":"G2005*'Lookup Tables'!$R$14","v":0},{"$f":"H2005*'Lookup Tables'!$R$14","v":0},{"$f":"I2005*'Lookup Tables'!$R$14","v":0},{"$f":"J2005*'Lookup Tables'!$R$14","v":0},{"$f":"K2005*'Lookup Tables'!$R$14","v":0}]
[2820,3,"Reconditioned or Recertified Material Applied",0,0,"ROLLER BEARING,GROUP B, 7X12 IN.",{"$f":"G2006*'Lookup Tables'!$R$14","v":0},{"$f":"H2006*'Lookup Tables'!$R$14","v":0},{"$f":"I2006*'Lookup Tables'!$R$14","v":0},{"$f":"J2006*'Lookup Tables'!$R$14","v":0},{"$f":"K2006*'Lookup Tables'!$R$14","v":0}]
[2822,1,"New Material Applied",0,0,"ROLLER BEARING, GROUP B1, 6-1/2X12 IN.",{"$f":"G2007*'Lookup Tables'!$R$14","v":0},{"$f":"H2007*'Lookup Tables'!$R$14","v":0},{"$f":"I2007*'Lookup Tables'!$R$14","v":0},{"$f":"J2007*'Lookup Tables'!$R$14","v":0},{"$f":"K2007*'Lookup Tables'!$R$14","v":0}]
[2822,3,"Reconditioned or Recertified Material Applied",0,0,"ROLLER BEARING, GROUP B1, 6-1/2X12 IN.",{"$f":"G2008*'Lookup Tables'!$R$14","v":0},{"$f":"H2008*'Lookup Tables'!$R$14","v":0},{"$f":"I2008*'Lookup Tables'!$R$14","v":0},{"$f":"J2008*'Lookup Tables'!$R$14","v":0},{"$f":"K2008*'Lookup Tables'!$R$14","v":0}]
[2830,1,"New Material Applied",0,0,"ROLLER BEARING, GROUP B3 7 X 12",{"$f":"G2009*'Lookup Tables'!$R$14","v":0},{"$f":"H2009*'Lookup Tables'!$R$14","v":0},{"$f":"I2009*'Lookup Tables'!$R$14","v":0},{"$f":"J2009*'Lookup Tables'!$R$14","v":0},{"$f":"K2009*'Lookup Tables'!$R$14","v":0}]
[2830,3,"Reconditioned or Recertified Material Applied",0,0,"ROLLER BEARING, GROUP B3 7 X 12",{"$f":"G2010*'Lookup Tables'!$R$14","v":0},{"$f":"H2010*'Lookup Tables'!$R$14","v":0},{"$f":"I2010*'Lookup Tables'!$R$14","v":0},{"$f":"J2010*'Lookup Tables'!$R$14","v":0},{"$f":"K2010*'Lookup Tables'!$R$14","v":0}]
[2857,0,"Labor attention such as: \nactual labor, replacing or rechanging doors, welding, vacant, painting or stenciling, other labor attention",0,0,"ROLLER BEARING INSPECTION",{"$f":"G2011*'Lookup Tables'!$R$14","v":0},{"$f":"H2011*'Lookup Tables'!$R$14","v":0},{"$f":"I2011*'Lookup Tables'!$R$14","v":0},{"$f":"J2011*'Lookup Tables'!$R$14","v":0},{"$f":"K2011*'Lookup Tables'!$R$14","v":0}]
[2861,3,"Reconditioned or Recertified Material Applied",0,0,"ROLLER BEARING, GROUP B2 6 X 11 OR LESS",{"$f":"G2012*'Lookup Tables'!$R$14","v":0},{"$f":"H2012*'Lookup Tables'!$R$14","v":0},{"$f":"I2012*'Lookup Tables'!$R$14","v":0},{"$f":"J2012*'Lookup Tables'!$R$14","v":0},{"$f":"K2012*'Lookup Tables'!$R$14","v":0}]
[2862,3,"Reconditioned or Recertified Material Applied",0,0,"ROLLER BEARING, GROUP B2 6 1/2 X 12",{"$f":"G2013*'Lookup Tables'!$R$14","v":0},{"$f":"H2013*'Lookup Tables'!$R$14","v":0},{"$f":"I2013*'Lookup Tables'!$R$14","v":0},{"$f":"J2013*'Lookup Tables'!$R$14","v":0},{"$f":"K2013*'Lookup Tables'!$R$14","v":0}]
[2863,3,"Reconditioned or Recertified Material Applied",0,0,"ROLLER BEARING, GROUP B2 7 X 12",{"$f":"G2014*'Lookup Tables'!$R$14","v":0},{"$f":"H2014*'Lookup Tables'!$R$14","v":0},{"$f":"I2014*'Lookup Tables'!$R$14","v":0},{"$f":"J2014*'Lookup Tables'!$R$14","v":0},{"$f":"K2014*'Lookup Tables'!$R$14","v":0}]
[2864,1,"New Material Applied",0,0,"ROLLER BEARING, GROUP B4,6-1/2X12 IN.",{"$f":"G2015*'Lookup Tables'!$R$14","v":0},{"$f":"H2015*'Lookup Tables'!$R$14","v":0},{"$f":"I2015*'Lookup Tables'!$R$14","v":0},{"$f":"J2015*'Lookup Tables'!$R$14","v":0},{"$f":"K2015*'Lookup Tables'!$R$14","v":0}]
[2864,3,"Reconditioned or Recertified Material Applied",0,0,"ROLLER BEARING, GROUP B4,6-1/2X12 IN.",{"$f":"G2016*'Lookup Tables'!$R$14","v":0},{"$f":"H2016*'Lookup Tables'!$R$14","v":0},{"$f":"I2016*'Lookup Tables'!$R$14","v":0},{"$f":"J2016*'Lookup Tables'!$R$14","v":0},{"$f":"K2016*'Lookup Tables'!$R$14","v":0}]
[2865,1,"New Material Applied",0,0,"ROLLER BEARING, GROUP B4, 6 X 11 IN.",{"$f":"G2017*'Lookup Tables'!$R$14","v":0},{"$f":"H2017*'Lookup Tables'!$R$14","v":0},{"$f":"I2017*'Lookup Tables'!$R$14","v":0},{"$f":"J2017*'Lookup Tables'!$R$14","v":0},{"$f":"K2017*'Lookup Tables'!$R$14","v":0}]
[2865,3,"Reconditioned or Recertified Material Applied",0,0,"ROLLER BEARING, GROUP B4, 6 X 11 IN.",{"$f":"G2018*'Lookup Tables'!$R$14","v":0},{"$f":"H2018*'Lookup Tables'!$R$14","v":0},{"$f":"I2018*'Lookup Tables'!$R$14","v":0},{"$f":"J2018*'Lookup Tables'!$R$14","v":0},{"$f":"K2018*'Lookup Tables'!$R$14","v":0}]
[2866,1,"New Material Applied",0,0,"ROLLER BEARING, GROUP B3, 6 1/2 X 9 IN",{"$f":"G2019*'Lookup Tables'!$R$14","v":0},{"$f":"H2019*'Lookup Tables'!$R$14","v":0},{"$f":"I2019*'Lookup Tables'!$R$14","v":0},{"$f":"J2019*'Lookup Tables'!$R$14","v":0},{"$f":"K2019*'Lookup Tables'!$R$14","v":0}]
[2866,3,"Reconditioned or Recertified Material Applied",0,0,"ROLLER BEARING, GROUP B3, 6 1/2 X 9 IN",{"$f":"G2020*'Lookup Tables'!$R$14","v":0},{"$f":"H2020*'Lookup Tables'!$R$14","v":0},{"$f":"I2020*'Lookup Tables'!$R$14","v":0},{"$f":"J2020*'Lookup Tables'!$R$14","v":0},{"$f":"K2020*'Lookup Tables'!$R$14","v":0}]
[2867,1,"New Material Applied",0,0,"ROLLER BEARING, GROUP B5, 6 1/2 X 9 IN",{"$f":"G2021*'Lookup Tables'!$R$14","v":0},{"$f":"H2021*'Lookup Tables'!$R$14","v":0},{"$f":"I2021*'Lookup Tables'!$R$14","v":0},{"$f":"J2021*'Lookup Tables'!$R$14","v":0},{"$f":"K2021*'Lookup Tables'!$R$14","v":0}]
[2867,3,"Reconditioned or Recertified Material Applied",0,0,"ROLLER BEARING, GROUP B5, 6 1/2 X 9 IN",{"$f":"G2022*'Lookup Tables'!$R$14","v":0},{"$f":"H2022*'Lookup Tables'!$R$14","v":0},{"$f":"I2022*'Lookup Tables'!$R$14","v":0},{"$f":"J2022*'Lookup Tables'!$R$14","v":0},{"$f":"K2022*'Lookup Tables'!$R$14","v":0}]
[2870,1,"New Material Applied",0,0.218,"PEDESTAL ADAPTER-NARROW-11 IN OR SMALLER",{"$f":"G2023*'Lookup Tables'!$R$14","v":44.450200000000002},{"$f":"H2023*'Lookup Tables'!$R$14","v":2.9975000000000001},{"$f":"I2023*'Lookup Tables'!$R$14","v":0},{"$f":"J2023*'Lookup Tables'!$R$14","v":33.561100000000003},{"$f":"K2023*'Lookup Tables'!$R$14","v":78.011299999999991}]
[2870,2,"Secondhand Material Applied",0,0.218,"PEDESTAL ADAPTER-NARROW-11 IN OR SMALLER",{"$f":"G2024*'Lookup Tables'!$R$14","v":22.225100000000001},{"$f":"H2024*'Lookup Tables'!$R$14","v":2.9975000000000001},{"$f":"I2024*'Lookup Tables'!$R$14","v":0},{"$f":"J2024*'Lookup Tables'!$R$14","v":33.561100000000003},{"$f":"K2024*'Lookup Tables'!$R$14","v":55.786200000000001}]
[2872,1,"New Material Applied",0,0.218,"PEDESTAL ADAPTER - NARROW - 6 1/2 X 9 IN",{"$f":"G2025*'Lookup Tables'!$R$14","v":45.932600000000001},{"$f":"H2025*'Lookup Tables'!$R$14","v":2.9975000000000001},{"$f":"I2025*'Lookup Tables'!$R$14","v":0},{"$f":"J2025*'Lookup Tables'!$R$14","v":33.561100000000003},{"$f":"K2025*'Lookup Tables'!$R$14","v":79.493700000000018}]
[2872,2,"Secondhand Material Applied",0,0.218,"PEDESTAL ADAPTER - NARROW - 6 1/2 X 9 IN",{"$f":"G2026*'Lookup Tables'!$R$14","v":22.9663},{"$f":"H2026*'Lookup Tables'!$R$14","v":2.9975000000000001},{"$f":"I2026*'Lookup Tables'!$R$14","v":0},{"$f":"J2026*'Lookup Tables'!$R$14","v":33.561100000000003},{"$f":"K2026*'Lookup Tables'!$R$14","v":56.5274}]
[2874,1,"New Material Applied",0,0.218,"PEDESTAL ADAPTER-6 1/2 X 12 INCH",{"$f":"G2027*'Lookup Tables'!$R$14","v":45.126000000000005},{"$f":"H2027*'Lookup Tables'!$R$14","v":2.9975000000000001},{"$f":"I2027*'Lookup Tables'!$R$14","v":0},{"$f":"J2027*'Lookup Tables'!$R$14","v":33.561100000000003},{"$f":"K2027*'Lookup Tables'!$R$14","v":78.687100000000001}]
[2874,2,"Secondhand Material Applied",0,0.218,"PEDESTAL ADAPTER-6 1/2 X 12 INCH",{"$f":"G2028*'Lookup Tables'!$R$14","v":22.563000000000002},{"$f":"H2028*'Lookup Tables'!$R$14","v":2.9975000000000001},{"$f":"I2028*'Lookup Tables'!$R$14","v":0},{"$f":"J2028*'Lookup Tables'!$R$14","v":33.561100000000003},{"$f":"K2028*'Lookup Tables'!$R$14","v":56.124099999999999}]
[2876,1,"New Material Applied",0,0.218,"PEDESTAL ADAPTER-7 X 12 INCH",{"$f":"G2029*'Lookup Tables'!$R$14","v":71.4495},{"$f":"H2029*'Lookup Tables'!$R$14","v":3.9567000000000001},{"$f":"I2029*'Lookup Tables'!$R$14","v":0},{"$f":"J2029*'Lookup Tables'!$R$14","v":33.561100000000003},{"$f":"K2029*'Lookup Tables'!$R$14","v":105.01060000000001}]
[2876,2,"Secondhand Material Applied",0,0.218,"PEDESTAL ADAPTER-7 X 12 INCH",{"$f":"G2030*'Lookup Tables'!$R$14","v":35.730200000000004},{"$f":"H2030*'Lookup Tables'!$R$14","v":3.9567000000000001},{"$f":"I2030*'Lookup Tables'!$R$14","v":0},{"$f":"J2030*'Lookup Tables'!$R$14","v":33.561100000000003},{"$f":"K2030*'Lookup Tables'!$R$14","v":69.291300000000007}]
[2878,1,"New Material Applied",0,0.218,"PEDESTAL ADAPTER-WIDE-11 INCH OR SMALLER",{"$f":"G2031*'Lookup Tables'!$R$14","v":102.07850000000002},{"$f":"H2031*'Lookup Tables'!$R$14","v":6.5945},{"$f":"I2031*'Lookup Tables'!$R$14","v":0},{"$f":"J2031*'Lookup Tables'!$R$14","v":33.561100000000003},{"$f":"K2031*'Lookup Tables'!$R$14","v":135.6396}]
[2878,2,"Secondhand Material Applied",0,0.218,"PEDESTAL ADAPTER-WIDE-11 INCH OR SMALLER",{"$f":"G2032*'Lookup Tables'!$R$14","v":51.044699999999999},{"$f":"H2032*'Lookup Tables'!$R$14","v":6.5945},{"$f":"I2032*'Lookup Tables'!$R$14","v":0},{"$f":"J2032*'Lookup Tables'!$R$14","v":33.561100000000003},{"$f":"K2032*'Lookup Tables'!$R$14","v":84.605800000000016}]
[2880,1,"New Material Applied",0,0.218,"ELASTOMERIC ADAPTER PAD (STANDARD CAR TRUCK)",{"$f":"G2033*'Lookup Tables'!$R$14","v":87.04740000000001},{"$f":"H2033*'Lookup Tables'!$R$14","v":0},{"$f":"I2033*'Lookup Tables'!$R$14","v":0},{"$f":"J2033*'Lookup Tables'!$R$14","v":33.561100000000003},{"$f":"K2033*'Lookup Tables'!$R$14","v":120.60850000000002}]
[2882,1,"New Material Applied",0,0.218,"ELASTOMERIC ADAPTER PAD (ASF)",{"$f":"G2034*'Lookup Tables'!$R$14","v":92.083200000000005},{"$f":"H2034*'Lookup Tables'!$R$14","v":0},{"$f":"I2034*'Lookup Tables'!$R$14","v":0},{"$f":"J2034*'Lookup Tables'!$R$14","v":33.561100000000003},{"$f":"K2034*'Lookup Tables'!$R$14","v":125.64430000000002}]
[2884,1,"New Material Applied",0,0.218,"PEDESTAL ADAPTER - STANDARD CAR TRUCK S2-86",{"$f":"G2035*'Lookup Tables'!$R$14","v":33.277700000000003},{"$f":"H2035*'Lookup Tables'!$R$14","v":3.2373000000000003},{"$f":"I2035*'Lookup Tables'!$R$14","v":0},{"$f":"J2035*'Lookup Tables'!$R$14","v":33.561100000000003},{"$f":"K2035*'Lookup Tables'!$R$14","v":66.838800000000006}]
[2884,2,"Secondhand Material Applied",0,0.218,"PEDESTAL ADAPTER - STANDARD CAR TRUCK S2-86",{"$f":"G2036*'Lookup Tables'!$R$14","v":16.644300000000001},{"$f":"H2036*'Lookup Tables'!$R$14","v":3.2373000000000003},{"$f":"I2036*'Lookup Tables'!$R$14","v":0},{"$f":"J2036*'Lookup Tables'!$R$14","v":33.561100000000003},{"$f":"K2036*'Lookup Tables'!$R$14","v":50.205400000000004}]
[2886,1,"New Material Applied",0,0.218,"PEDESTAL ADAPTER - ASF - 6 1/2 X 12 IN",{"$f":"G2037*'Lookup Tables'!$R$14","v":43.174900000000001},{"$f":"H2037*'Lookup Tables'!$R$14","v":3.2373000000000003},{"$f":"I2037*'Lookup Tables'!$R$14","v":0},{"$f":"J2037*'Lookup Tables'!$R$14","v":33.561100000000003},{"$f":"K2037*'Lookup Tables'!$R$14","v":76.736000000000018}]
[2886,2,"Secondhand Material Applied",0,0.218,"PEDESTAL ADAPTER - ASF - 6 1/2 X 12 IN",{"$f":"G2038*'Lookup Tables'!$R$14","v":21.5929},{"$f":"H2038*'Lookup Tables'!$R$14","v":3.2373000000000003},{"$f":"I2038*'Lookup Tables'!$R$14","v":0},{"$f":"J2038*'Lookup Tables'!$R$14","v":33.561100000000003},{"$f":"K2038*'Lookup Tables'!$R$14","v":55.153999999999996}]
[2887,1,"New Material Applied",0,0.218,"PEDESTAL ADAPTER - ASF - 6 1/2 X 9 IN",{"$f":"G2039*'Lookup Tables'!$R$14","v":43.174900000000001},{"$f":"H2039*'Lookup Tables'!$R$14","v":3.2373000000000003},{"$f":"I2039*'Lookup Tables'!$R$14","v":0},{"$f":"J2039*'Lookup Tables'!$R$14","v":33.561100000000003},{"$f":"K2039*'Lookup Tables'!$R$14","v":76.736000000000018}]
[2887,2,"Secondhand Material Applied",0,0.218,"PEDESTAL ADAPTER - ASF - 6 1/2 X 9 IN",{"$f":"G2040*'Lookup Tables'!$R$14","v":21.5929},{"$f":"H2040*'Lookup Tables'!$R$14","v":3.2373000000000003},{"$f":"I2040*'Lookup Tables'!$R$14","v":0},{"$f":"J2040*'Lookup Tables'!$R$14","v":33.561100000000003},{"$f":"K2040*'Lookup Tables'!$R$14","v":55.153999999999996}]
[2889,1,"New Material Applied",0,0.218,"PEDESTAL ADAPTER - NSC - 6 1/2 X 9 IN",{"$f":"G2041*'Lookup Tables'!$R$14","v":30.759800000000002},{"$f":"H2041*'Lookup Tables'!$R$14","v":3.2373000000000003},{"$f":"I2041*'Lookup Tables'!$R$14","v":0},{"$f":"J2041*'Lookup Tables'!$R$14","v":33.561100000000003},{"$f":"K2041*'Lookup Tables'!$R$14","v":64.320900000000009}]
[2889,2,"Secondhand Material Applied",0,0.218,"PEDESTAL ADAPTER - NSC - 6 1/2 X 9 IN",{"$f":"G2042*'Lookup Tables'!$R$14","v":15.379900000000001},{"$f":"H2042*'Lookup Tables'!$R$14","v":3.2373000000000003},{"$f":"I2042*'Lookup Tables'!$R$14","v":0},{"$f":"J2042*'Lookup Tables'!$R$14","v":33.561100000000003},{"$f":"K2042*'Lookup Tables'!$R$14","v":48.941000000000003}]
[2891,1,"New Material Applied",0,0.218,"ELASTOMERIC ADAPTER PADS (NSC) - SET OF TWO",{"$f":"G2043*'Lookup Tables'!$R$14","v":78.229299999999995},{"$f":"H2043*'Lookup Tables'!$R$14","v":0},{"$f":"I2043*'Lookup Tables'!$R$14","v":0},{"$f":"J2043*'Lookup Tables'!$R$14","v":33.561100000000003},{"$f":"K2043*'Lookup Tables'!$R$14","v":111.79040000000001}]
[2893,1,"New Material Applied",0,0.218,"ELASTOMERIC ADAPTER PAD - NEVIS",{"$f":"G2044*'Lookup Tables'!$R$14","v":79.733500000000006},{"$f":"H2044*'Lookup Tables'!$R$14","v":0},{"$f":"I2044*'Lookup Tables'!$R$14","v":0},{"$f":"J2044*'Lookup Tables'!$R$14","v":33.561100000000003},{"$f":"K2044*'Lookup Tables'!$R$14","v":113.2946}]
[2895,1,"New Material Applied",0,0.218,"PEDESTAL ADAPTER - NEVIS - 6 1/2 X 9 IN",{"$f":"G2045*'Lookup Tables'!$R$14","v":81.924400000000006},{"$f":"H2045*'Lookup Tables'!$R$14","v":3.2373000000000003},{"$f":"I2045*'Lookup Tables'!$R$14","v":0},{"$f":"J2045*'Lookup Tables'!$R$14","v":33.561100000000003},{"$f":"K2045*'Lookup Tables'!$R$14","v":115.4855}]
[2895,2,"Secondhand Material Applied",0,0.218,"PEDESTAL ADAPTER - NEVIS - 6 1/2 X 9 IN",{"$f":"G2046*'Lookup Tables'!$R$14","v":40.962200000000003},{"$f":"H2046*'Lookup Tables'!$R$14","v":3.2373000000000003},{"$f":"I2046*'Lookup Tables'!$R$14","v":0},{"$f":"J2046*'Lookup Tables'!$R$14","v":33.561100000000003},{"$f":"K2046*'Lookup Tables'!$R$14","v":74.523300000000006}]
[3001,7,"Periodic or Service Attention \n(includes: vacant, single car testing of air brakes, cleaning of brke cyclinder, B-1 Quick Service Valves, Lubrication, Servicing mechanical refrigeration units, vacant, all wheels applied)",0,0,"WHEEL 28\" 1W HT-CP",{"$f":"G2047*'Lookup Tables'!$R$14","v":0},{"$f":"H2047*'Lookup Tables'!$R$14","v":0},{"$f":"I2047*'Lookup Tables'!$R$14","v":0},{"$f":"J2047*'Lookup Tables'!$R$14","v":0},{"$f":"K2047*'Lookup Tables'!$R$14","v":0}]
[3002,7,"Periodic or Service Attention \n(includes: vacant, single car testing of air brakes, cleaning of brke cyclinder, B-1 Quick Service Valves, Lubrication, Servicing mechanical refrigeration units, vacant, all wheels applied)",0,0,"WHEEL 28\" 1W NHT-CP",{"$f":"G2048*'Lookup Tables'!$R$14","v":0},{"$f":"H2048*'Lookup Tables'!$R$14","v":0},{"$f":"I2048*'Lookup Tables'!$R$14","v":0},{"$f":"J2048*'Lookup Tables'!$R$14","v":0},{"$f":"K2048*'Lookup Tables'!$R$14","v":0}]
[3004,7,"Periodic or Service Attention \n(includes: vacant, single car testing of air brakes, cleaning of brke cyclinder, B-1 Quick Service Valves, Lubrication, Servicing mechanical refrigeration units, vacant, all wheels applied)",0,0,"WHEEL 28\" 1W HT-CP, CB-28",{"$f":"G2049*'Lookup Tables'!$R$14","v":0},{"$f":"H2049*'Lookup Tables'!$R$14","v":0},{"$f":"I2049*'Lookup Tables'!$R$14","v":0},{"$f":"J2049*'Lookup Tables'!$R$14","v":0},{"$f":"K2049*'Lookup Tables'!$R$14","v":0}]
[3011,7,"Periodic or Service Attention \n(includes: vacant, single car testing of air brakes, cleaning of brke cyclinder, B-1 Quick Service Valves, Lubrication, Servicing mechanical refrigeration units, vacant, all wheels applied)",0,0,"WHEEL 28\" MW HT-CP",{"$f":"G2050*'Lookup Tables'!$R$14","v":0},{"$f":"H2050*'Lookup Tables'!$R$14","v":0},{"$f":"I2050*'Lookup Tables'!$R$14","v":0},{"$f":"J2050*'Lookup Tables'!$R$14","v":0},{"$f":"K2050*'Lookup Tables'!$R$14","v":0}]
[3021,7,"Periodic or Service Attention \n(includes: vacant, single car testing of air brakes, cleaning of brke cyclinder, B-1 Quick Service Valves, Lubrication, Servicing mechanical refrigeration units, vacant, all wheels applied)",0,0,"WHEEL 33\" 1W HT-CP",{"$f":"G2051*'Lookup Tables'!$R$14","v":0},{"$f":"H2051*'Lookup Tables'!$R$14","v":0},{"$f":"I2051*'Lookup Tables'!$R$14","v":0},{"$f":"J2051*'Lookup Tables'!$R$14","v":0},{"$f":"K2051*'Lookup Tables'!$R$14","v":0}]
[3022,7,"Periodic or Service Attention \n(includes: vacant, single car testing of air brakes, cleaning of brke cyclinder, B-1 Quick Service Valves, Lubrication, Servicing mechanical refrigeration units, vacant, all wheels applied)",0,0,"WHEEL 33\" 1W NHT-CP",{"$f":"G2052*'Lookup Tables'!$R$14","v":0},{"$f":"H2052*'Lookup Tables'!$R$14","v":0},{"$f":"I2052*'Lookup Tables'!$R$14","v":0},{"$f":"J2052*'Lookup Tables'!$R$14","v":0},{"$f":"K2052*'Lookup Tables'!$R$14","v":0}]
[3031,7,"Periodic or Service Attention \n(includes: vacant, single car testing of air brakes, cleaning of brke cyclinder, B-1 Quick Service Valves, Lubrication, Servicing mechanical refrigeration units, vacant, all wheels applied)",0,0,"WHEEL 33\" 2W HT-CP",{"$f":"G2053*'Lookup Tables'!$R$14","v":0},{"$f":"H2053*'Lookup Tables'!$R$14","v":0},{"$f":"I2053*'Lookup Tables'!$R$14","v":0},{"$f":"J2053*'Lookup Tables'!$R$14","v":0},{"$f":"K2053*'Lookup Tables'!$R$14","v":0}]
[3032,7,"Periodic or Service Attention \n(includes: vacant, single car testing of air brakes, cleaning of brke cyclinder, B-1 Quick Service Valves, Lubrication, Servicing mechanical refrigeration units, vacant, all wheels applied)",0,0,"WHEEL 33\" 2W NHT-CP",{"$f":"G2054*'Lookup Tables'!$R$14","v":0},{"$f":"H2054*'Lookup Tables'!$R$14","v":0},{"$f":"I2054*'Lookup Tables'!$R$14","v":0},{"$f":"J2054*'Lookup Tables'!$R$14","v":0},{"$f":"K2054*'Lookup Tables'!$R$14","v":0}]
[3041,7,"Periodic or Service Attention \n(includes: vacant, single car testing of air brakes, cleaning of brke cyclinder, B-1 Quick Service Valves, Lubrication, Servicing mechanical refrigeration units, vacant, all wheels applied)",0,0,"WHEEL 33\" MW HT-CP",{"$f":"G2055*'Lookup Tables'!$R$14","v":0},{"$f":"H2055*'Lookup Tables'!$R$14","v":0},{"$f":"I2055*'Lookup Tables'!$R$14","v":0},{"$f":"J2055*'Lookup Tables'!$R$14","v":0},{"$f":"K2055*'Lookup Tables'!$R$14","v":0}]
[3071,7,"Periodic or Service Attention \n(includes: vacant, single car testing of air brakes, cleaning of brke cyclinder, B-1 Quick Service Valves, Lubrication, Servicing mechanical refrigeration units, vacant, all wheels applied)",0,0,"WHEEL 36\" 1W HT-CP",{"$f":"G2056*'Lookup Tables'!$R$14","v":0},{"$f":"H2056*'Lookup Tables'!$R$14","v":0},{"$f":"I2056*'Lookup Tables'!$R$14","v":0},{"$f":"J2056*'Lookup Tables'!$R$14","v":0},{"$f":"K2056*'Lookup Tables'!$R$14","v":0}]
[3072,7,"Periodic or Service Attention \n(includes: vacant, single car testing of air brakes, cleaning of brke cyclinder, B-1 Quick Service Valves, Lubrication, Servicing mechanical refrigeration units, vacant, all wheels applied)",0,0,"WHEEL 36\" 1W NHT-CP",{"$f":"G2057*'Lookup Tables'!$R$14","v":0},{"$f":"H2057*'Lookup Tables'!$R$14","v":0},{"$f":"I2057*'Lookup Tables'!$R$14","v":0},{"$f":"J2057*'Lookup Tables'!$R$14","v":0},{"$f":"K2057*'Lookup Tables'!$R$14","v":0}]
[3081,7,"Periodic or Service Attention \n(includes: vacant, single car testing of air brakes, cleaning of brke cyclinder, B-1 Quick Service Valves, Lubrication, Servicing mechanical refrigeration units, vacant, all wheels applied)",0,0,"WHEEL 36\" 2W HT-CP",{"$f":"G2058*'Lookup Tables'!$R$14","v":0},{"$f":"H2058*'Lookup Tables'!$R$14","v":0},{"$f":"I2058*'Lookup Tables'!$R$14","v":0},{"$f":"J2058*'Lookup Tables'!$R$14","v":0},{"$f":"K2058*'Lookup Tables'!$R$14","v":0}]
[3082,7,{"$f":"VLOOKUP(B708,$B$2686:$C$2701,2,FALSE)","v":"Periodic or Service Attention \n(includes: vacant, single car testing of air brakes, cleaning of brke cyclinder, B-1 Quick Service Valves, Lubrication, Servicing mechanical refrigeration units, vacant, all wheels applied)"},0,0,"WHEEL 36\" 2W NHT-CP",{"$f":"G2059*'Lookup Tables'!$R$14","v":0},{"$f":"H2059*'Lookup Tables'!$R$14","v":0},{"$f":"I2059*'Lookup Tables'!$R$14","v":0},{"$f":"J2059*'Lookup Tables'!$R$14","v":0},{"$f":"K2059*'Lookup Tables'!$R$14","v":0}]
[3091,7,"Periodic or Service Attention \n(includes: vacant, single car testing of air brakes, cleaning of brke cyclinder, B-1 Quick Service Valves, Lubrication, Servicing mechanical refrigeration units, vacant, all wheels applied)",0,0,"WHEEL 36\" MW HT-CP",{"$f":"G2060*'Lookup Tables'!$R$14","v":0},{"$f":"H2060*'Lookup Tables'!$R$14","v":0},{"$f":"I2060*'Lookup Tables'!$R$14","v":0},{"$f":"J2060*'Lookup Tables'!$R$14","v":0},{"$f":"K2060*'Lookup Tables'!$R$14","v":0}]
[3101,7,"Periodic or Service Attention \n(includes: vacant, single car testing of air brakes, cleaning of brke cyclinder, B-1 Quick Service Valves, Lubrication, Servicing mechanical refrigeration units, vacant, all wheels applied)",0,0,"WHEEL 38\" 1W HT-CP",{"$f":"G2061*'Lookup Tables'!$R$14","v":0},{"$f":"H2061*'Lookup Tables'!$R$14","v":0},{"$f":"I2061*'Lookup Tables'!$R$14","v":0},{"$f":"J2061*'Lookup Tables'!$R$14","v":0},{"$f":"K2061*'Lookup Tables'!$R$14","v":0}]
[3102,7,"Periodic or Service Attention \n(includes: vacant, single car testing of air brakes, cleaning of brke cyclinder, B-1 Quick Service Valves, Lubrication, Servicing mechanical refrigeration units, vacant, all wheels applied)",0,0,"WHEEL 38\" 1W NHT-CP",{"$f":"G2062*'Lookup Tables'!$R$14","v":0},{"$f":"H2062*'Lookup Tables'!$R$14","v":0},{"$f":"I2062*'Lookup Tables'!$R$14","v":0},{"$f":"J2062*'Lookup Tables'!$R$14","v":0},{"$f":"K2062*'Lookup Tables'!$R$14","v":0}]
[3111,7,"Periodic or Service Attention \n(includes: vacant, single car testing of air brakes, cleaning of brke cyclinder, B-1 Quick Service Valves, Lubrication, Servicing mechanical refrigeration units, vacant, all wheels applied)",0,0,"WHEEL 38\" 2W HT-CP",{"$f":"G2063*'Lookup Tables'!$R$14","v":0},{"$f":"H2063*'Lookup Tables'!$R$14","v":0},{"$f":"I2063*'Lookup Tables'!$R$14","v":0},{"$f":"J2063*'Lookup Tables'!$R$14","v":0},{"$f":"K2063*'Lookup Tables'!$R$14","v":0}]
[3116,7,"Periodic or Service Attention \n(includes: vacant, single car testing of air brakes, cleaning of brke cyclinder, B-1 Quick Service Valves, Lubrication, Servicing mechanical refrigeration units, vacant, all wheels applied)",0,0,"WHEEL, 33\" 1W HT-CP CLASS D",{"$f":"G2064*'Lookup Tables'!$R$14","v":0},{"$f":"H2064*'Lookup Tables'!$R$14","v":0},{"$f":"I2064*'Lookup Tables'!$R$14","v":0},{"$f":"J2064*'Lookup Tables'!$R$14","v":0},{"$f":"K2064*'Lookup Tables'!$R$14","v":0}]
[3121,7,"Periodic or Service Attention \n(includes: vacant, single car testing of air brakes, cleaning of brke cyclinder, B-1 Quick Service Valves, Lubrication, Servicing mechanical refrigeration units, vacant, all wheels applied)",0,0,"WHEEL 36\" 1W HT-CP CLASS D",{"$f":"G2065*'Lookup Tables'!$R$14","v":0},{"$f":"H2065*'Lookup Tables'!$R$14","v":0},{"$f":"I2065*'Lookup Tables'!$R$14","v":0},{"$f":"J2065*'Lookup Tables'!$R$14","v":0},{"$f":"K2065*'Lookup Tables'!$R$14","v":0}]
[3131,7,"Periodic or Service Attention \n(includes: vacant, single car testing of air brakes, cleaning of brke cyclinder, B-1 Quick Service Valves, Lubrication, Servicing mechanical refrigeration units, vacant, all wheels applied)",0,0,"WHEEL 36\" 2W HT-CP CLASS D",{"$f":"G2066*'Lookup Tables'!$R$14","v":0},{"$f":"H2066*'Lookup Tables'!$R$14","v":0},{"$f":"I2066*'Lookup Tables'!$R$14","v":0},{"$f":"J2066*'Lookup Tables'!$R$14","v":0},{"$f":"K2066*'Lookup Tables'!$R$14","v":0}]
[3151,7,"Periodic or Service Attention \n(includes: vacant, single car testing of air brakes, cleaning of brke cyclinder, B-1 Quick Service Valves, Lubrication, Servicing mechanical refrigeration units, vacant, all wheels applied)",0,0,"WHEEL 38\" 1W HT-CP CLASS D",{"$f":"G2067*'Lookup Tables'!$R$14","v":0},{"$f":"H2067*'Lookup Tables'!$R$14","v":0},{"$f":"I2067*'Lookup Tables'!$R$14","v":0},{"$f":"J2067*'Lookup Tables'!$R$14","v":0},{"$f":"K2067*'Lookup Tables'!$R$14","v":0}]
[3274,1,"New Material Applied",0,0,"AXLE-RWS-ROLLER BRG,11 JRNL OR LESS",{"$f":"G2068*'Lookup Tables'!$R$14","v":0},{"$f":"H2068*'Lookup Tables'!$R$14","v":0},{"$f":"I2068*'Lookup Tables'!$R$14","v":0},{"$f":"J2068*'Lookup Tables'!$R$14","v":0},{"$f":"K2068*'Lookup Tables'!$R$14","v":0}]
[3274,2,"Secondhand Material Applied",0,0,"AXLE-RWS-ROLLER BRG,11 JRNL OR LESS",{"$f":"G2069*'Lookup Tables'!$R$14","v":0},{"$f":"H2069*'Lookup Tables'!$R$14","v":0},{"$f":"I2069*'Lookup Tables'!$R$14","v":0},{"$f":"J2069*'Lookup Tables'!$R$14","v":0},{"$f":"K2069*'Lookup Tables'!$R$14","v":0}]
[3274,3,"Reconditioned or Recertified Material Applied",0,0,"AXLE-RWS-ROLLER BRG,11 JRNL OR LESS",{"$f":"G2070*'Lookup Tables'!$R$14","v":0},{"$f":"H2070*'Lookup Tables'!$R$14","v":0},{"$f":"I2070*'Lookup Tables'!$R$14","v":0},{"$f":"J2070*'Lookup Tables'!$R$14","v":0},{"$f":"K2070*'Lookup Tables'!$R$14","v":0}]
[3276,1,"New Material Applied",0,0,"AXLE-RWS-ROLLER BRG, 6 1/2 X 12 IN JRNL",{"$f":"G2071*'Lookup Tables'!$R$14","v":0},{"$f":"H2071*'Lookup Tables'!$R$14","v":0},{"$f":"I2071*'Lookup Tables'!$R$14","v":0},{"$f":"J2071*'Lookup Tables'!$R$14","v":0},{"$f":"K2071*'Lookup Tables'!$R$14","v":0}]
[3276,2,"Secondhand Material Applied",0,0,"AXLE-RWS-ROLLER BRG, 6 1/2 X 12 IN JRNL",{"$f":"G2072*'Lookup Tables'!$R$14","v":0},{"$f":"H2072*'Lookup Tables'!$R$14","v":0},{"$f":"I2072*'Lookup Tables'!$R$14","v":0},{"$f":"J2072*'Lookup Tables'!$R$14","v":0},{"$f":"K2072*'Lookup Tables'!$R$14","v":0}]
[3276,3,"Reconditioned or Recertified Material Applied",0,0,"AXLE-RWS-ROLLER BRG, 6 1/2 X 12 IN JRNL",{"$f":"G2073*'Lookup Tables'!$R$14","v":0},{"$f":"H2073*'Lookup Tables'!$R$14","v":0},{"$f":"I2073*'Lookup Tables'!$R$14","v":0},{"$f":"J2073*'Lookup Tables'!$R$14","v":0},{"$f":"K2073*'Lookup Tables'!$R$14","v":0}]
[3278,1,"New Material Applied",0,0,"AXLE-RWS-ROLLER BRG, 7 X 12 IN JRNL",{"$f":"G2074*'Lookup Tables'!$R$14","v":0},{"$f":"H2074*'Lookup Tables'!$R$14","v":0},{"$f":"I2074*'Lookup Tables'!$R$14","v":0},{"$f":"J2074*'Lookup Tables'!$R$14","v":0},{"$f":"K2074*'Lookup Tables'!$R$14","v":0}]
[3278,2,"Secondhand Material Applied",0,0,"AXLE-RWS-ROLLER BRG, 7 X 12 IN JRNL",{"$f":"G2075*'Lookup Tables'!$R$14","v":0},{"$f":"H2075*'Lookup Tables'!$R$14","v":0},{"$f":"I2075*'Lookup Tables'!$R$14","v":0},{"$f":"J2075*'Lookup Tables'!$R$14","v":0},{"$f":"K2075*'Lookup Tables'!$R$14","v":0}]
[3278,3,"Reconditioned or Recertified Material Applied",0,0,"AXLE-RWS-ROLLER BRG, 7 X 12 IN JRNL",{"$f":"G2076*'Lookup Tables'!$R$14","v":0},{"$f":"H2076*'Lookup Tables'!$R$14","v":0},{"$f":"I2076*'Lookup Tables'!$R$14","v":0},{"$f":"J2076*'Lookup Tables'!$R$14","v":0},{"$f":"K2076*'Lookup Tables'!$R$14","v":0}]
[3280,1,"New Material Applied",0,0,"AXLE-RWS-ROLLER BRG, 6 1/2 X 9 IN JRNL",{"$f":"G2077*'Lookup Tables'!$R$14","v":0},{"$f":"H2077*'Lookup Tables'!$R$14","v":0},{"$f":"I2077*'Lookup Tables'!$R$14","v":0},{"$f":"J2077*'Lookup Tables'!$R$14","v":0},{"$f":"K2077*'Lookup Tables'!$R$14","v":0}]
[3280,2,"Secondhand Material Applied",0,0,"AXLE-RWS-ROLLER BRG, 6 1/2 X 9 IN JRNL",{"$f":"G2078*'Lookup Tables'!$R$14","v":0},{"$f":"H2078*'Lookup Tables'!$R$14","v":0},{"$f":"I2078*'Lookup Tables'!$R$14","v":0},{"$f":"J2078*'Lookup Tables'!$R$14","v":0},{"$f":"K2078*'Lookup Tables'!$R$14","v":0}]
[3280,3,"Reconditioned or Recertified Material Applied",0,0,"AXLE-RWS-ROLLER BRG, 6 1/2 X 9 IN JRNL",{"$f":"G2079*'Lookup Tables'!$R$14","v":0},{"$f":"H2079*'Lookup Tables'!$R$14","v":0},{"$f":"I2079*'Lookup Tables'!$R$14","v":0},{"$f":"J2079*'Lookup Tables'!$R$14","v":0},{"$f":"K2079*'Lookup Tables'!$R$14","v":0}]
[3328,"A","Wheel set with new roller bearings and new axle",0,0.83699999999999997,"NEW WHEEL SET 28 INCH, 6 X 11 AXLE",{"$f":"G2080*'Lookup Tables'!$R$14","v":2522.7723000000001},{"$f":"H2080*'Lookup Tables'!$R$14","v":0},{"$f":"I2080*'Lookup Tables'!$R$14","v":0},{"$f":"J2080*'Lookup Tables'!$R$14","v":128.85980000000001},{"$f":"K2080*'Lookup Tables'!$R$14","v":2651.6320999999998}]
[3328,"B","Wheel set with reconditioned roller bearings and reconditioned/ secondhand axle",0,0.83699999999999997,"NEW WHEEL SET 28 INCH, 6 X 11 AXLE",{"$f":"G2081*'Lookup Tables'!$R$14","v":1587.7376000000002},{"$f":"H2081*'Lookup Tables'!$R$14","v":0},{"$f":"I2081*'Lookup Tables'!$R$14","v":0},{"$f":"J2081*'Lookup Tables'!$R$14","v":128.85980000000001},{"$f":"K2081*'Lookup Tables'!$R$14","v":1716.5974000000003}]
[3328,"C","Wheel set with new roller bearings and reconditioned/secondhand axle",0,0.83699999999999997,"NEW WHEEL SET 28 INCH, 6 X 11 AXLE",{"$f":"G2082*'Lookup Tables'!$R$14","v":2040.9923000000001},{"$f":"H2082*'Lookup Tables'!$R$14","v":0},{"$f":"I2082*'Lookup Tables'!$R$14","v":0},{"$f":"J2082*'Lookup Tables'!$R$14","v":128.85980000000001},{"$f":"K2082*'Lookup Tables'!$R$14","v":2169.8521000000001}]
[3328,"D","Wheel set with reconditioned roller bearings and new axle",0,0.83699999999999997,"NEW WHEEL SET 28 INCH, 6 X 11 AXLE",{"$f":"G2083*'Lookup Tables'!$R$14","v":2069.8555000000001},{"$f":"H2083*'Lookup Tables'!$R$14","v":0},{"$f":"I2083*'Lookup Tables'!$R$14","v":0},{"$f":"J2083*'Lookup Tables'!$R$14","v":128.85980000000001},{"$f":"K2083*'Lookup Tables'!$R$14","v":2198.7153000000003}]
[3329,"A","Wheel set with new roller bearings and new axle",0,0.83699999999999997,"TURNED WHEEL SET  28 INCH, 6 X 11 AXLE",{"$f":"G2084*'Lookup Tables'!$R$14","v":1454.8557000000001},{"$f":"H2084*'Lookup Tables'!$R$14","v":0},{"$f":"I2084*'Lookup Tables'!$R$14","v":0},{"$f":"J2084*'Lookup Tables'!$R$14","v":128.85980000000001},{"$f":"K2084*'Lookup Tables'!$R$14","v":1583.7155000000002}]
[3329,"B","Wheel set with reconditioned roller bearings and reconditioned/ secondhand axle",0,0.83699999999999997,"TURNED WHEEL SET  28 INCH, 6 X 11 AXLE",{"$f":"G2085*'Lookup Tables'!$R$14","v":519.82100000000003},{"$f":"H2085*'Lookup Tables'!$R$14","v":0},{"$f":"I2085*'Lookup Tables'!$R$14","v":0},{"$f":"J2085*'Lookup Tables'!$R$14","v":128.85980000000001},{"$f":"K2085*'Lookup Tables'!$R$14","v":648.68080000000009}]
[3329,"C","Wheel set with new roller bearings and reconditioned/secondhand axle",0,0.83699999999999997,"TURNED WHEEL SET  28 INCH, 6 X 11 AXLE",{"$f":"G2086*'Lookup Tables'!$R$14","v":972.73779999999999},{"$f":"H2086*'Lookup Tables'!$R$14","v":0},{"$f":"I2086*'Lookup Tables'!$R$14","v":0},{"$f":"J2086*'Lookup Tables'!$R$14","v":128.85980000000001},{"$f":"K2086*'Lookup Tables'!$R$14","v":1101.5976000000001}]
[3329,"D","Wheel set with reconditioned roller bearings and new axle",0,0.83699999999999997,"TURNED WHEEL SET  28 INCH, 6 X 11 AXLE",{"$f":"G2087*'Lookup Tables'!$R$14","v":1001.9389000000001},{"$f":"H2087*'Lookup Tables'!$R$14","v":0},{"$f":"I2087*'Lookup Tables'!$R$14","v":0},{"$f":"J2087*'Lookup Tables'!$R$14","v":128.85980000000001},{"$f":"K2087*'Lookup Tables'!$R$14","v":1130.7987000000001}]
[3329,"F","Purchased core wheel set with reconditioned roller bearings and reconditioned/secondhand axle",0,0.83699999999999997,"TURNED WHEEL SET  28 INCH, 6 X 11 AXLE",{"$f":"G2088*'Lookup Tables'!$R$14","v":1020.5016000000001},{"$f":"H2088*'Lookup Tables'!$R$14","v":0},{"$f":"I2088*'Lookup Tables'!$R$14","v":0},{"$f":"J2088*'Lookup Tables'!$R$14","v":128.85980000000001},{"$f":"K2088*'Lookup Tables'!$R$14","v":1149.3614000000002}]
[3329,"G","Purchased core wheel set with new roller bearings and reconditioned/ secondhand axle",0,0.83699999999999997,"TURNED WHEEL SET  28 INCH, 6 X 11 AXLE",{"$f":"G2089*'Lookup Tables'!$R$14","v":1473.4184},{"$f":"H2089*'Lookup Tables'!$R$14","v":0},{"$f":"I2089*'Lookup Tables'!$R$14","v":0},{"$f":"J2089*'Lookup Tables'!$R$14","v":128.85980000000001},{"$f":"K2089*'Lookup Tables'!$R$14","v":1602.2782000000002}]
[3333,"A","Wheel set with new roller bearings and new axle",0,0.83699999999999997,"NEW WHEEL SET 33 INCH, 6 X 11 AXLE",{"$f":"G2090*'Lookup Tables'!$R$14","v":2496.6886},{"$f":"H2090*'Lookup Tables'!$R$14","v":0},{"$f":"I2090*'Lookup Tables'!$R$14","v":0},{"$f":"J2090*'Lookup Tables'!$R$14","v":128.85980000000001},{"$f":"K2090*'Lookup Tables'!$R$14","v":2625.5484000000001}]
[3333,"B","Wheel set with reconditioned roller bearings and reconditioned/ secondhand axle",0,0.83699999999999997,"NEW WHEEL SET 33 INCH, 6 X 11 AXLE",{"$f":"G2091*'Lookup Tables'!$R$14","v":1561.6539000000002},{"$f":"H2091*'Lookup Tables'!$R$14","v":0},{"$f":"I2091*'Lookup Tables'!$R$14","v":0},{"$f":"J2091*'Lookup Tables'!$R$14","v":128.85980000000001},{"$f":"K2091*'Lookup Tables'!$R$14","v":1690.5137000000002}]
[3333,"C","Wheel set with new roller bearings and reconditioned/secondhand axle",0,0.83699999999999997,"NEW WHEEL SET 33 INCH, 6 X 11 AXLE",{"$f":"G2092*'Lookup Tables'!$R$14","v":2014.5707000000002},{"$f":"H2092*'Lookup Tables'!$R$14","v":0},{"$f":"I2092*'Lookup Tables'!$R$14","v":0},{"$f":"J2092*'Lookup Tables'!$R$14","v":128.85980000000001},{"$f":"K2092*'Lookup Tables'!$R$14","v":2143.4305000000004}]
[3333,"D","Wheel set with reconditioned roller bearings and new axle",0,0.83699999999999997,"NEW WHEEL SET 33 INCH, 6 X 11 AXLE",{"$f":"G2093*'Lookup Tables'!$R$14","v":2043.7718000000002},{"$f":"H2093*'Lookup Tables'!$R$14","v":0},{"$f":"I2093*'Lookup Tables'!$R$14","v":0},{"$f":"J2093*'Lookup Tables'!$R$14","v":128.85980000000001},{"$f":"K2093*'Lookup Tables'!$R$14","v":2172.6316000000002}]
[3334,"A","Wheel set with new roller bearings and new axle",0,0.83699999999999997,"TURNED WHEEL SET 33 INCH, 6 X 11 AXLE",{"$f":"G2094*'Lookup Tables'!$R$14","v":1486.2586000000001},{"$f":"H2094*'Lookup Tables'!$R$14","v":0},{"$f":"I2094*'Lookup Tables'!$R$14","v":0},{"$f":"J2094*'Lookup Tables'!$R$14","v":128.85980000000001},{"$f":"K2094*'Lookup Tables'!$R$14","v":1615.1184000000001}]
[3334,"B","Wheel set with reconditioned roller bearings and reconditioned/ secondhand axle",0,0.83699999999999997,"TURNED WHEEL SET 33 INCH, 6 X 11 AXLE",{"$f":"G2095*'Lookup Tables'!$R$14","v":551.22390000000007},{"$f":"H2095*'Lookup Tables'!$R$14","v":0},{"$f":"I2095*'Lookup Tables'!$R$14","v":0},{"$f":"J2095*'Lookup Tables'!$R$14","v":128.85980000000001},{"$f":"K2095*'Lookup Tables'!$R$14","v":680.08370000000002}]
[3334,"C","Wheel set with new roller bearings and reconditioned/secondhand axle",0,0.83699999999999997,"TURNED WHEEL SET 33 INCH, 6 X 11 AXLE",{"$f":"G2096*'Lookup Tables'!$R$14","v":1004.1407},{"$f":"H2096*'Lookup Tables'!$R$14","v":0},{"$f":"I2096*'Lookup Tables'!$R$14","v":0},{"$f":"J2096*'Lookup Tables'!$R$14","v":128.85980000000001},{"$f":"K2096*'Lookup Tables'!$R$14","v":1133.0005000000001}]
[3334,"D","Wheel set with reconditioned roller bearings and new axle",0,0.83699999999999997,"TURNED WHEEL SET 33 INCH, 6 X 11 AXLE",{"$f":"G2097*'Lookup Tables'!$R$14","v":1033.3418000000001},{"$f":"H2097*'Lookup Tables'!$R$14","v":0},{"$f":"I2097*'Lookup Tables'!$R$14","v":0},{"$f":"J2097*'Lookup Tables'!$R$14","v":128.85980000000001},{"$f":"K2097*'Lookup Tables'!$R$14","v":1162.2016000000001}]
[3334,"F","Purchased core wheel set with reconditioned roller bearings and reconditioned/secondhand axle",0,0.83699999999999997,"TURNED WHEEL SET 33 INCH, 6 X 11 AXLE",{"$f":"G2098*'Lookup Tables'!$R$14","v":986.7007000000001},{"$f":"H2098*'Lookup Tables'!$R$14","v":0},{"$f":"I2098*'Lookup Tables'!$R$14","v":0},{"$f":"J2098*'Lookup Tables'!$R$14","v":128.85980000000001},{"$f":"K2098*'Lookup Tables'!$R$14","v":1115.5605}]
[3334,"G","Purchased core wheel set with new roller bearings and reconditioned/ secondhand axle",0,0.83699999999999997,"TURNED WHEEL SET 33 INCH, 6 X 11 AXLE",{"$f":"G2099*'Lookup Tables'!$R$14","v":1439.6175000000001},{"$f":"H2099*'Lookup Tables'!$R$14","v":0},{"$f":"I2099*'Lookup Tables'!$R$14","v":0},{"$f":"J2099*'Lookup Tables'!$R$14","v":128.85980000000001},{"$f":"K2099*'Lookup Tables'!$R$14","v":1568.4773000000002}]
[3336,"A","Wheel set with new roller bearings and new axle",0,0.83699999999999997,"NEW WHL SET 36 IN, 1-W  6 1/2 X 12 AXLE",{"$f":"G2100*'Lookup Tables'!$R$14","v":3044.9041000000002},{"$f":"H2100*'Lookup Tables'!$R$14","v":0},{"$f":"I2100*'Lookup Tables'!$R$14","v":0},{"$f":"J2100*'Lookup Tables'!$R$14","v":128.85980000000001},{"$f":"K2100*'Lookup Tables'!$R$14","v":3173.7638999999999}]
[3336,"B","Wheel set with reconditioned roller bearings and reconditioned/ secondhand axle",0,0.83699999999999997,"NEW WHL SET 36 IN, 1-W  6 1/2 X 12 AXLE",{"$f":"G2101*'Lookup Tables'!$R$14","v":1635.5014000000001},{"$f":"H2101*'Lookup Tables'!$R$14","v":0},{"$f":"I2101*'Lookup Tables'!$R$14","v":0},{"$f":"J2101*'Lookup Tables'!$R$14","v":128.85980000000001},{"$f":"K2101*'Lookup Tables'!$R$14","v":1764.3612000000003}]
[3336,"C","Wheel set with new roller bearings and reconditioned/secondhand axle",0,0.83699999999999997,"NEW WHL SET 36 IN, 1-W  6 1/2 X 12 AXLE",{"$f":"G2102*'Lookup Tables'!$R$14","v":2188.6219000000001},{"$f":"H2102*'Lookup Tables'!$R$14","v":0},{"$f":"I2102*'Lookup Tables'!$R$14","v":0},{"$f":"J2102*'Lookup Tables'!$R$14","v":128.85980000000001},{"$f":"K2102*'Lookup Tables'!$R$14","v":2317.4817000000003}]
[3336,"D","Wheel set with reconditioned roller bearings and new axle",0,0.83699999999999997,"NEW WHL SET 36 IN, 1-W  6 1/2 X 12 AXLE",{"$f":"G2103*'Lookup Tables'!$R$14","v":2491.7836000000002},{"$f":"H2103*'Lookup Tables'!$R$14","v":0},{"$f":"I2103*'Lookup Tables'!$R$14","v":0},{"$f":"J2103*'Lookup Tables'!$R$14","v":128.85980000000001},{"$f":"K2103*'Lookup Tables'!$R$14","v":2620.6433999999999}]
[3337,"A","Wheel set with new roller bearings and new axle",0,0.83699999999999997,"TURNED WHEEL SET 36 IN, 6 1/2 X 12 AXLE",{"$f":"G2104*'Lookup Tables'!$R$14","v":1994.4493000000002},{"$f":"H2104*'Lookup Tables'!$R$14","v":0},{"$f":"I2104*'Lookup Tables'!$R$14","v":0},{"$f":"J2104*'Lookup Tables'!$R$14","v":128.85980000000001},{"$f":"K2104*'Lookup Tables'!$R$14","v":2123.3090999999999}]
[3337,"B","Wheel set with reconditioned roller bearings and reconditioned/ secondhand axle",0,0.83699999999999997,"TURNED WHEEL SET 36 IN, 6 1/2 X 12 AXLE",{"$f":"G2105*'Lookup Tables'!$R$14","v":585.04660000000001},{"$f":"H2105*'Lookup Tables'!$R$14","v":0},{"$f":"I2105*'Lookup Tables'!$R$14","v":0},{"$f":"J2105*'Lookup Tables'!$R$14","v":128.85980000000001},{"$f":"K2105*'Lookup Tables'!$R$14","v":713.90640000000008}]
[3337,"C","Wheel set with new roller bearings and reconditioned/secondhand axle",0,0.83699999999999997,"TURNED WHEEL SET 36 IN, 6 1/2 X 12 AXLE",{"$f":"G2106*'Lookup Tables'!$R$14","v":1138.1671000000001},{"$f":"H2106*'Lookup Tables'!$R$14","v":0},{"$f":"I2106*'Lookup Tables'!$R$14","v":0},{"$f":"J2106*'Lookup Tables'!$R$14","v":128.85980000000001},{"$f":"K2106*'Lookup Tables'!$R$14","v":1267.0269000000001}]
[3337,"D","Wheel set with reconditioned roller bearings and new axle",0,0.83699999999999997,"TURNED WHEEL SET 36 IN, 6 1/2 X 12 AXLE",{"$f":"G2107*'Lookup Tables'!$R$14","v":1441.3288},{"$f":"H2107*'Lookup Tables'!$R$14","v":0},{"$f":"I2107*'Lookup Tables'!$R$14","v":0},{"$f":"J2107*'Lookup Tables'!$R$14","v":128.85980000000001},{"$f":"K2107*'Lookup Tables'!$R$14","v":1570.1886000000002}]
[3337,"F","Purchased core wheel set with reconditioned roller bearings and reconditioned/secondhand axle",0,0.83699999999999997,"TURNED WHEEL SET 36 IN, 6 1/2 X 12 AXLE",{"$f":"G2108*'Lookup Tables'!$R$14","v":1063.7746000000002},{"$f":"H2108*'Lookup Tables'!$R$14","v":0},{"$f":"I2108*'Lookup Tables'!$R$14","v":0},{"$f":"J2108*'Lookup Tables'!$R$14","v":128.85980000000001},{"$f":"K2108*'Lookup Tables'!$R$14","v":1192.6344000000001}]
[3337,"G","Purchased core wheel set with new roller bearings and reconditioned/ secondhand axle",0,0.83699999999999997,"TURNED WHEEL SET 36 IN, 6 1/2 X 12 AXLE",{"$f":"G2109*'Lookup Tables'!$R$14","v":1616.8951000000002},{"$f":"H2109*'Lookup Tables'!$R$14","v":0},{"$f":"I2109*'Lookup Tables'!$R$14","v":0},{"$f":"J2109*'Lookup Tables'!$R$14","v":128.85980000000001},{"$f":"K2109*'Lookup Tables'!$R$14","v":1745.7549000000004}]
[3338,"A","Wheel set with new roller bearings and new axle",0,0.83699999999999997,"NEW WHEEL SET 38 INCH, 7 X 12 AXLE",{"$f":"G2110*'Lookup Tables'!$R$14","v":3835.5683000000004},{"$f":"H2110*'Lookup Tables'!$R$14","v":0},{"$f":"I2110*'Lookup Tables'!$R$14","v":0},{"$f":"J2110*'Lookup Tables'!$R$14","v":128.85980000000001},{"$f":"K2110*'Lookup Tables'!$R$14","v":3964.4281000000001}]
[3338,"B","Wheel set with reconditioned roller bearings and reconditioned/ secondhand axle",0,0.83699999999999997,"NEW WHEEL SET 38 INCH, 7 X 12 AXLE",{"$f":"G2111*'Lookup Tables'!$R$14","v":2097.1600000000003},{"$f":"H2111*'Lookup Tables'!$R$14","v":0},{"$f":"I2111*'Lookup Tables'!$R$14","v":0},{"$f":"J2111*'Lookup Tables'!$R$14","v":128.85980000000001},{"$f":"K2111*'Lookup Tables'!$R$14","v":2226.0198}]
[3338,"C","Wheel set with new roller bearings and reconditioned/secondhand axle",0,0.83699999999999997,"NEW WHEEL SET 38 INCH, 7 X 12 AXLE",{"$f":"G2112*'Lookup Tables'!$R$14","v":2797.8883000000001},{"$f":"H2112*'Lookup Tables'!$R$14","v":0},{"$f":"I2112*'Lookup Tables'!$R$14","v":0},{"$f":"J2112*'Lookup Tables'!$R$14","v":128.85980000000001},{"$f":"K2112*'Lookup Tables'!$R$14","v":2926.7480999999998}]
[3338,"D","Wheel set with reconditioned roller bearings and new axle",0,0.83699999999999997,"NEW WHEEL SET 38 INCH, 7 X 12 AXLE",{"$f":"G2113*'Lookup Tables'!$R$14","v":3133.7500000000005},{"$f":"H2113*'Lookup Tables'!$R$14","v":0},{"$f":"I2113*'Lookup Tables'!$R$14","v":0},{"$f":"J2113*'Lookup Tables'!$R$14","v":128.85980000000001},{"$f":"K2113*'Lookup Tables'!$R$14","v":3262.6098000000002}]
[3339,"A","Wheel set with new roller bearings and new axle",0,0.83699999999999997,"TURNED WHEEL SET 38 INCH, 7 X 12 AXLE",{"$f":"G2114*'Lookup Tables'!$R$14","v":2456.1842000000001},{"$f":"H2114*'Lookup Tables'!$R$14","v":0},{"$f":"I2114*'Lookup Tables'!$R$14","v":0},{"$f":"J2114*'Lookup Tables'!$R$14","v":128.85980000000001},{"$f":"K2114*'Lookup Tables'!$R$14","v":2585.0439999999999}]
[3339,"B","Wheel set with reconditioned roller bearings and reconditioned/ secondhand axle",0,0.83699999999999997,"TURNED WHEEL SET 38 INCH, 7 X 12 AXLE",{"$f":"G2115*'Lookup Tables'!$R$14","v":718.86590000000001},{"$f":"H2115*'Lookup Tables'!$R$14","v":0},{"$f":"I2115*'Lookup Tables'!$R$14","v":0},{"$f":"J2115*'Lookup Tables'!$R$14","v":128.85980000000001},{"$f":"K2115*'Lookup Tables'!$R$14","v":847.72570000000007}]
[3339,"C","Wheel set with new roller bearings and reconditioned/secondhand axle",0,0.83699999999999997,"TURNED WHEEL SET 38 INCH, 7 X 12 AXLE",{"$f":"G2116*'Lookup Tables'!$R$14","v":1419.5942000000002},{"$f":"H2116*'Lookup Tables'!$R$14","v":0},{"$f":"I2116*'Lookup Tables'!$R$14","v":0},{"$f":"J2116*'Lookup Tables'!$R$14","v":128.85980000000001},{"$f":"K2116*'Lookup Tables'!$R$14","v":1548.4540000000002}]
[3339,"D","Wheel set with reconditioned roller bearings and new axle",0,0.83699999999999997,"TURNED WHEEL SET 38 INCH, 7 X 12 AXLE",{"$f":"G2117*'Lookup Tables'!$R$14","v":1755.4559000000002},{"$f":"H2117*'Lookup Tables'!$R$14","v":0},{"$f":"I2117*'Lookup Tables'!$R$14","v":0},{"$f":"J2117*'Lookup Tables'!$R$14","v":128.85980000000001},{"$f":"K2117*'Lookup Tables'!$R$14","v":1884.3157000000001}]
[3339,"F","Purchased core wheel set with reconditioned roller bearings and reconditioned/secondhand axle",0,0.83699999999999997,"TURNED WHEEL SET 38 INCH, 7 X 12 AXLE",{"$f":"G2118*'Lookup Tables'!$R$14","v":1434.7452000000001},{"$f":"H2118*'Lookup Tables'!$R$14","v":0},{"$f":"I2118*'Lookup Tables'!$R$14","v":0},{"$f":"J2118*'Lookup Tables'!$R$14","v":128.85980000000001},{"$f":"K2118*'Lookup Tables'!$R$14","v":1563.605}]
[3339,"G","Purchased core wheel set with new roller bearings and reconditioned/ secondhand axle",0,0.83699999999999997,"TURNED WHEEL SET 38 INCH, 7 X 12 AXLE",{"$f":"G2119*'Lookup Tables'!$R$14","v":2135.4735000000001},{"$f":"H2119*'Lookup Tables'!$R$14","v":0},{"$f":"I2119*'Lookup Tables'!$R$14","v":0},{"$f":"J2119*'Lookup Tables'!$R$14","v":128.85980000000001},{"$f":"K2119*'Lookup Tables'!$R$14","v":2264.3333000000002}]
[3340,"A","Wheel set with new roller bearings and new axle",0,0.83699999999999997,"NEW WHL SET 36,  2-W  6 1/2 X 12 AXLE",{"$f":"G2120*'Lookup Tables'!$R$14","v":3212.0338000000006},{"$f":"H2120*'Lookup Tables'!$R$14","v":0},{"$f":"I2120*'Lookup Tables'!$R$14","v":0},{"$f":"J2120*'Lookup Tables'!$R$14","v":128.85980000000001},{"$f":"K2120*'Lookup Tables'!$R$14","v":3340.8936000000003}]
[3340,"B","Wheel set with reconditioned roller bearings and reconditioned/ secondhand axle",0,0.83699999999999997,"NEW WHL SET 36,  2-W  6 1/2 X 12 AXLE",{"$f":"G2121*'Lookup Tables'!$R$14","v":1802.6311000000001},{"$f":"H2121*'Lookup Tables'!$R$14","v":0},{"$f":"I2121*'Lookup Tables'!$R$14","v":0},{"$f":"J2121*'Lookup Tables'!$R$14","v":128.85980000000001},{"$f":"K2121*'Lookup Tables'!$R$14","v":1931.4909000000002}]
[3340,"C","Wheel set with new roller bearings and reconditioned/secondhand axle",0,0.83699999999999997,"NEW WHL SET 36,  2-W  6 1/2 X 12 AXLE",{"$f":"G2122*'Lookup Tables'!$R$14","v":2355.7516000000001},{"$f":"H2122*'Lookup Tables'!$R$14","v":0},{"$f":"I2122*'Lookup Tables'!$R$14","v":0},{"$f":"J2122*'Lookup Tables'!$R$14","v":128.85980000000001},{"$f":"K2122*'Lookup Tables'!$R$14","v":2484.6113999999998}]
[3340,"D",{"$f":"VLOOKUP(B772,$B$2686:$C$2701,2,FALSE)","v":"Wheel set with reconditioned roller bearings and new axle"},0,0.83699999999999997,"NEW WHL SET 36,  2-W  6 1/2 X 12 AXLE",{"$f":"G2123*'Lookup Tables'!$R$14","v":2658.9133000000002},{"$f":"H2123*'Lookup Tables'!$R$14","v":0},{"$f":"I2123*'Lookup Tables'!$R$14","v":0},{"$f":"J2123*'Lookup Tables'!$R$14","v":128.85980000000001},{"$f":"K2123*'Lookup Tables'!$R$14","v":2787.7730999999999}]
[3341,"A","Wheel set with new roller bearings and new axle",0,0.83699999999999997,"NEW  WHL SET 36 IN,  1-W 6 1/2 X 9 AXLE",{"$f":"G2124*'Lookup Tables'!$R$14","v":2939.6318999999999},{"$f":"H2124*'Lookup Tables'!$R$14","v":0},{"$f":"I2124*'Lookup Tables'!$R$14","v":0},{"$f":"J2124*'Lookup Tables'!$R$14","v":128.85980000000001},{"$f":"K2124*'Lookup Tables'!$R$14","v":3068.4917}]
[3341,"B","Wheel set with reconditioned roller bearings and reconditioned/ secondhand axle",0,0.83699999999999997,"NEW  WHL SET 36 IN,  1-W 6 1/2 X 9 AXLE",{"$f":"G2125*'Lookup Tables'!$R$14","v":1566.6134000000002},{"$f":"H2125*'Lookup Tables'!$R$14","v":0},{"$f":"I2125*'Lookup Tables'!$R$14","v":0},{"$f":"J2125*'Lookup Tables'!$R$14","v":128.85980000000001},{"$f":"K2125*'Lookup Tables'!$R$14","v":1695.4732000000001}]
[3341,"C","Wheel set with new roller bearings and reconditioned/secondhand axle",0,0.83699999999999997,"NEW  WHL SET 36 IN,  1-W 6 1/2 X 9 AXLE",{"$f":"G2126*'Lookup Tables'!$R$14","v":2105.9781000000003},{"$f":"H2126*'Lookup Tables'!$R$14","v":0},{"$f":"I2126*'Lookup Tables'!$R$14","v":0},{"$f":"J2126*'Lookup Tables'!$R$14","v":128.85980000000001},{"$f":"K2126*'Lookup Tables'!$R$14","v":2234.8379}]
[3341,"D","Wheel set with reconditioned roller bearings and new axle",0,0.83699999999999997,"NEW  WHL SET 36 IN,  1-W 6 1/2 X 9 AXLE",{"$f":"G2127*'Lookup Tables'!$R$14","v":2400.2672000000002},{"$f":"H2127*'Lookup Tables'!$R$14","v":0},{"$f":"I2127*'Lookup Tables'!$R$14","v":0},{"$f":"J2127*'Lookup Tables'!$R$14","v":128.85980000000001},{"$f":"K2127*'Lookup Tables'!$R$14","v":2529.127}]
[3342,"A","Wheel set with new roller bearings and new axle",0,0.83699999999999997,"TURNED WHL SET 36 IN, 6 1/2 X 9 AXLE",{"$f":"G2128*'Lookup Tables'!$R$14","v":1934.4012000000002},{"$f":"H2128*'Lookup Tables'!$R$14","v":0},{"$f":"I2128*'Lookup Tables'!$R$14","v":0},{"$f":"J2128*'Lookup Tables'!$R$14","v":128.85980000000001},{"$f":"K2128*'Lookup Tables'!$R$14","v":2063.2610000000004}]
[3342,"B","Wheel set with reconditioned roller bearings and reconditioned/ secondhand axle",0,0.83699999999999997,"TURNED WHL SET 36 IN, 6 1/2 X 9 AXLE",{"$f":"G2129*'Lookup Tables'!$R$14","v":561.3827},{"$f":"H2129*'Lookup Tables'!$R$14","v":0},{"$f":"I2129*'Lookup Tables'!$R$14","v":0},{"$f":"J2129*'Lookup Tables'!$R$14","v":128.85980000000001},{"$f":"K2129*'Lookup Tables'!$R$14","v":690.24250000000006}]
[3342,"C","Wheel set with new roller bearings and reconditioned/secondhand axle",0,0.83699999999999997,"TURNED WHL SET 36 IN, 6 1/2 X 9 AXLE",{"$f":"G2130*'Lookup Tables'!$R$14","v":1100.7474000000002},{"$f":"H2130*'Lookup Tables'!$R$14","v":0},{"$f":"I2130*'Lookup Tables'!$R$14","v":0},{"$f":"J2130*'Lookup Tables'!$R$14","v":128.85980000000001},{"$f":"K2130*'Lookup Tables'!$R$14","v":1229.6071999999999}]
[3342,"D","Wheel set with reconditioned roller bearings and new axle",0,0.83699999999999997,"TURNED WHL SET 36 IN, 6 1/2 X 9 AXLE",{"$f":"G2131*'Lookup Tables'!$R$14","v":1395.0364999999999},{"$f":"H2131*'Lookup Tables'!$R$14","v":0},{"$f":"I2131*'Lookup Tables'!$R$14","v":0},{"$f":"J2131*'Lookup Tables'!$R$14","v":128.85980000000001},{"$f":"K2131*'Lookup Tables'!$R$14","v":1523.8963000000001}]
[3342,"F","Purchased core wheel set with reconditioned roller bearings and reconditioned/secondhand axle",0,0.83699999999999997,"TURNED WHL SET 36 IN, 6 1/2 X 9 AXLE",{"$f":"G2132*'Lookup Tables'!$R$14","v":1016.8283000000001},{"$f":"H2132*'Lookup Tables'!$R$14","v":0},{"$f":"I2132*'Lookup Tables'!$R$14","v":0},{"$f":"J2132*'Lookup Tables'!$R$14","v":128.85980000000001},{"$f":"K2132*'Lookup Tables'!$R$14","v":1145.6881000000001}]
[3342,"G","Purchased core wheel set with new roller bearings and reconditioned/ secondhand axle",0,0.83699999999999997,"TURNED WHL SET 36 IN, 6 1/2 X 9 AXLE",{"$f":"G2133*'Lookup Tables'!$R$14","v":1556.1930000000002},{"$f":"H2133*'Lookup Tables'!$R$14","v":0},{"$f":"I2133*'Lookup Tables'!$R$14","v":0},{"$f":"J2133*'Lookup Tables'!$R$14","v":128.85980000000001},{"$f":"K2133*'Lookup Tables'!$R$14","v":1685.0528000000002}]
[3343,"A","Wheel set with new roller bearings and new axle",0,0.83699999999999997,"NEW WHL SET 36, 2-W  6 1/2 X 9 AXLE",{"$f":"G2134*'Lookup Tables'!$R$14","v":3106.7615999999998},{"$f":"H2134*'Lookup Tables'!$R$14","v":0},{"$f":"I2134*'Lookup Tables'!$R$14","v":0},{"$f":"J2134*'Lookup Tables'!$R$14","v":128.85980000000001},{"$f":"K2134*'Lookup Tables'!$R$14","v":3235.6214}]
[3343,"B","Wheel set with reconditioned roller bearings and reconditioned/ secondhand axle",0,0.83699999999999997,"NEW WHL SET 36, 2-W  6 1/2 X 9 AXLE",{"$f":"G2135*'Lookup Tables'!$R$14","v":1733.7431000000001},{"$f":"H2135*'Lookup Tables'!$R$14","v":0},{"$f":"I2135*'Lookup Tables'!$R$14","v":0},{"$f":"J2135*'Lookup Tables'!$R$14","v":128.85980000000001},{"$f":"K2135*'Lookup Tables'!$R$14","v":1862.6029000000001}]
[3343,"C","Wheel set with new roller bearings and reconditioned/secondhand axle",0,0.83699999999999997,"NEW WHL SET 36, 2-W  6 1/2 X 9 AXLE",{"$f":"G2136*'Lookup Tables'!$R$14","v":2273.1078000000002},{"$f":"H2136*'Lookup Tables'!$R$14","v":0},{"$f":"I2136*'Lookup Tables'!$R$14","v":0},{"$f":"J2136*'Lookup Tables'!$R$14","v":128.85980000000001},{"$f":"K2136*'Lookup Tables'!$R$14","v":2401.9675999999999}]
[3343,"D","Wheel set with reconditioned roller bearings and new axle",0,0.83699999999999997,"NEW WHL SET 36, 2-W  6 1/2 X 9 AXLE",{"$f":"G2137*'Lookup Tables'!$R$14","v":2567.3969000000002},{"$f":"H2137*'Lookup Tables'!$R$14","v":0},{"$f":"I2137*'Lookup Tables'!$R$14","v":0},{"$f":"J2137*'Lookup Tables'!$R$14","v":128.85980000000001},{"$f":"K2137*'Lookup Tables'!$R$14","v":2696.2566999999999}]
[3344,"B","Wheel set with reconditioned roller bearings and reconditioned/ secondhand axle",0,0.83699999999999997,"NEW WHL SET 36 IN, 1-W  6 1/2 X 12 AXLE, UBR",{"$f":"G2138*'Lookup Tables'!$R$14","v":1721.5242000000003},{"$f":"H2138*'Lookup Tables'!$R$14","v":0},{"$f":"I2138*'Lookup Tables'!$R$14","v":0},{"$f":"J2138*'Lookup Tables'!$R$14","v":128.85980000000001},{"$f":"K2138*'Lookup Tables'!$R$14","v":1850.3840000000002}]
[3344,"C","Wheel set with new roller bearings and reconditioned/secondhand axle",0,0.83699999999999997,"NEW WHL SET 36 IN, 1-W  6 1/2 X 12 AXLE, UBR",{"$f":"G2139*'Lookup Tables'!$R$14","v":2318.5717000000004},{"$f":"H2139*'Lookup Tables'!$R$14","v":0},{"$f":"I2139*'Lookup Tables'!$R$14","v":0},{"$f":"J2139*'Lookup Tables'!$R$14","v":128.85980000000001},{"$f":"K2139*'Lookup Tables'!$R$14","v":2447.4315000000001}]
[3345,"B","Wheel set with reconditioned roller bearings and reconditioned/ secondhand axle",0,0.83699999999999997,"TURNED WHEEL SET 36 IN, 6 1/2 X 12 AXLE, UBR",{"$f":"G2140*'Lookup Tables'!$R$14","v":671.06939999999997},{"$f":"H2140*'Lookup Tables'!$R$14","v":0},{"$f":"I2140*'Lookup Tables'!$R$14","v":0},{"$f":"J2140*'Lookup Tables'!$R$14","v":128.85980000000001},{"$f":"K2140*'Lookup Tables'!$R$14","v":799.92920000000004}]
[3345,"C","Wheel set with new roller bearings and reconditioned/secondhand axle",0,0.83699999999999997,"TURNED WHEEL SET 36 IN, 6 1/2 X 12 AXLE, UBR",{"$f":"G2141*'Lookup Tables'!$R$14","v":1268.1169000000002},{"$f":"H2141*'Lookup Tables'!$R$14","v":0},{"$f":"I2141*'Lookup Tables'!$R$14","v":0},{"$f":"J2141*'Lookup Tables'!$R$14","v":128.85980000000001},{"$f":"K2141*'Lookup Tables'!$R$14","v":1396.9767000000002}]
[3345,"F","Purchased core wheel set with reconditioned roller bearings and reconditioned/secondhand axle",0,0.83699999999999997,"TURNED WHEEL SET 36 IN, 6 1/2 X 12 AXLE, UBR",{"$f":"G2142*'Lookup Tables'!$R$14","v":1149.7973999999999},{"$f":"H2142*'Lookup Tables'!$R$14","v":0},{"$f":"I2142*'Lookup Tables'!$R$14","v":0},{"$f":"J2142*'Lookup Tables'!$R$14","v":128.85980000000001},{"$f":"K2142*'Lookup Tables'!$R$14","v":1278.6572000000001}]
[3345,"G","Purchased core wheel set with new roller bearings and reconditioned/ secondhand axle",0,0.83699999999999997,"TURNED WHEEL SET 36 IN, 6 1/2 X 12 AXLE, UBR",{"$f":"G2143*'Lookup Tables'!$R$14","v":1746.8449000000001},{"$f":"H2143*'Lookup Tables'!$R$14","v":0},{"$f":"I2143*'Lookup Tables'!$R$14","v":0},{"$f":"J2143*'Lookup Tables'!$R$14","v":128.85980000000001},{"$f":"K2143*'Lookup Tables'!$R$14","v":1875.7047}]
[3346,"B","Wheel set with reconditioned roller bearings and reconditioned/ secondhand axle",0,0.83699999999999997,"NEW WHL SET 36,  2-W  6 1/2 X 12 AXLE,  UBR",{"$f":"G2144*'Lookup Tables'!$R$14","v":1888.6539000000002},{"$f":"H2144*'Lookup Tables'!$R$14","v":0},{"$f":"I2144*'Lookup Tables'!$R$14","v":0},{"$f":"J2144*'Lookup Tables'!$R$14","v":128.85980000000001},{"$f":"K2144*'Lookup Tables'!$R$14","v":2017.5137000000002}]
[3346,"C","Wheel set with new roller bearings and reconditioned/secondhand axle",0,0.83699999999999997,"NEW WHL SET 36,  2-W  6 1/2 X 12 AXLE,  UBR",{"$f":"G2145*'Lookup Tables'!$R$14","v":2485.7014000000004},{"$f":"H2145*'Lookup Tables'!$R$14","v":0},{"$f":"I2145*'Lookup Tables'!$R$14","v":0},{"$f":"J2145*'Lookup Tables'!$R$14","v":128.85980000000001},{"$f":"K2145*'Lookup Tables'!$R$14","v":2614.5612000000001}]
[3347,"B","Wheel set with reconditioned roller bearings and reconditioned/ secondhand axle",0,0.83699999999999997,"NEW WHEEL SET 33 INCH, 1W 6 X 11 AXLE, UBR",{"$f":"G2146*'Lookup Tables'!$R$14","v":1650.7505000000001},{"$f":"H2146*'Lookup Tables'!$R$14","v":0},{"$f":"I2146*'Lookup Tables'!$R$14","v":0},{"$f":"J2146*'Lookup Tables'!$R$14","v":128.85980000000001},{"$f":"K2146*'Lookup Tables'!$R$14","v":1779.6103000000003}]
[3347,"C","Wheel set with new roller bearings and reconditioned/secondhand axle",0,0.83699999999999997,"NEW WHEEL SET 33 INCH, 1W 6 X 11 AXLE, UBR",{"$f":"G2147*'Lookup Tables'!$R$14","v":2133.3153000000002},{"$f":"H2147*'Lookup Tables'!$R$14","v":0},{"$f":"I2147*'Lookup Tables'!$R$14","v":0},{"$f":"J2147*'Lookup Tables'!$R$14","v":128.85980000000001},{"$f":"K2147*'Lookup Tables'!$R$14","v":2262.1750999999999}]
[3348,"B","Wheel set with reconditioned roller bearings and reconditioned/ secondhand axle",0,0.83699999999999997,"TURNED WHEEL SET 33 INCH, 6 X 11 AXLE, UBR",{"$f":"G2148*'Lookup Tables'!$R$14","v":640.32050000000015},{"$f":"H2148*'Lookup Tables'!$R$14","v":0},{"$f":"I2148*'Lookup Tables'!$R$14","v":0},{"$f":"J2148*'Lookup Tables'!$R$14","v":128.85980000000001},{"$f":"K2148*'Lookup Tables'!$R$14","v":769.1803000000001}]
[3348,"C","Wheel set with new roller bearings and reconditioned/secondhand axle",0,0.83699999999999997,"TURNED WHEEL SET 33 INCH, 6 X 11 AXLE, UBR",{"$f":"G2149*'Lookup Tables'!$R$14","v":1122.8853000000001},{"$f":"H2149*'Lookup Tables'!$R$14","v":0},{"$f":"I2149*'Lookup Tables'!$R$14","v":0},{"$f":"J2149*'Lookup Tables'!$R$14","v":128.85980000000001},{"$f":"K2149*'Lookup Tables'!$R$14","v":1251.7451000000001}]
[3348,"F","Purchased core wheel set with reconditioned roller bearings and reconditioned/secondhand axle",0,0.83699999999999997,"TURNED WHEEL SET 33 INCH, 6 X 11 AXLE, UBR",{"$f":"G2150*'Lookup Tables'!$R$14","v":1075.7973000000002},{"$f":"H2150*'Lookup Tables'!$R$14","v":0},{"$f":"I2150*'Lookup Tables'!$R$14","v":0},{"$f":"J2150*'Lookup Tables'!$R$14","v":128.85980000000001},{"$f":"K2150*'Lookup Tables'!$R$14","v":1204.6571000000001}]
[3348,"G","Purchased core wheel set with new roller bearings and reconditioned/ secondhand axle",0,0.83699999999999997,"TURNED WHEEL SET 33 INCH, 6 X 11 AXLE, UBR",{"$f":"G2151*'Lookup Tables'!$R$14","v":1558.3621000000003},{"$f":"H2151*'Lookup Tables'!$R$14","v":0},{"$f":"I2151*'Lookup Tables'!$R$14","v":0},{"$f":"J2151*'Lookup Tables'!$R$14","v":128.85980000000001},{"$f":"K2151*'Lookup Tables'!$R$14","v":1687.2219000000002}]
[3349,"B","Wheel set with reconditioned roller bearings and reconditioned/ secondhand axle",0,0.83699999999999997,"NEW WHEEL SET 28 INCH, 1W 6 X 11 AXLE, UBR",{"$f":"G2152*'Lookup Tables'!$R$14","v":1676.8342000000002},{"$f":"H2152*'Lookup Tables'!$R$14","v":0},{"$f":"I2152*'Lookup Tables'!$R$14","v":0},{"$f":"J2152*'Lookup Tables'!$R$14","v":128.85980000000001},{"$f":"K2152*'Lookup Tables'!$R$14","v":1805.6940000000002}]
[3349,"C","Wheel set with new roller bearings and reconditioned/secondhand axle",0,0.83699999999999997,"NEW WHEEL SET 28 INCH, 1W 6 X 11 AXLE, UBR",{"$f":"G2153*'Lookup Tables'!$R$14","v":2159.3989999999999},{"$f":"H2153*'Lookup Tables'!$R$14","v":0},{"$f":"I2153*'Lookup Tables'!$R$14","v":0},{"$f":"J2153*'Lookup Tables'!$R$14","v":128.85980000000001},{"$f":"K2153*'Lookup Tables'!$R$14","v":2288.2588000000001}]
[3350,"B","Wheel set with reconditioned roller bearings and reconditioned/ secondhand axle",0,0.83699999999999997,"TURNED WHEEL SET 28 INCH, 6 X 11 AXLE, UBR",{"$f":"G2154*'Lookup Tables'!$R$14","v":608.91759999999999},{"$f":"H2154*'Lookup Tables'!$R$14","v":0},{"$f":"I2154*'Lookup Tables'!$R$14","v":0},{"$f":"J2154*'Lookup Tables'!$R$14","v":128.85980000000001},{"$f":"K2154*'Lookup Tables'!$R$14","v":737.77740000000006}]
[3350,"C","Wheel set with new roller bearings and reconditioned/secondhand axle",0,0.83699999999999997,"TURNED WHEEL SET 28 INCH, 6 X 11 AXLE, UBR",{"$f":"G2155*'Lookup Tables'!$R$14","v":1091.4824000000001},{"$f":"H2155*'Lookup Tables'!$R$14","v":0},{"$f":"I2155*'Lookup Tables'!$R$14","v":0},{"$f":"J2155*'Lookup Tables'!$R$14","v":128.85980000000001},{"$f":"K2155*'Lookup Tables'!$R$14","v":1220.3422}]
[3350,"F","Purchased core wheel set with reconditioned roller bearings and reconditioned/secondhand axle",0,0.83699999999999997,"TURNED WHEEL SET 28 INCH, 6 X 11 AXLE, UBR",{"$f":"G2156*'Lookup Tables'!$R$14","v":1109.5982000000001},{"$f":"H2156*'Lookup Tables'!$R$14","v":0},{"$f":"I2156*'Lookup Tables'!$R$14","v":0},{"$f":"J2156*'Lookup Tables'!$R$14","v":128.85980000000001},{"$f":"K2156*'Lookup Tables'!$R$14","v":1238.4580000000001}]
[3350,"G","Purchased core wheel set with new roller bearings and reconditioned/ secondhand axle",0,0.83699999999999997,"TURNED WHEEL SET 28 INCH, 6 X 11 AXLE, UBR",{"$f":"G2157*'Lookup Tables'!$R$14","v":1592.1630000000002},{"$f":"H2157*'Lookup Tables'!$R$14","v":0},{"$f":"I2157*'Lookup Tables'!$R$14","v":0},{"$f":"J2157*'Lookup Tables'!$R$14","v":128.85980000000001},{"$f":"K2157*'Lookup Tables'!$R$14","v":1721.0228000000002}]
[3352,"B","Wheel set with reconditioned roller bearings and reconditioned/ secondhand axle",0,0.83699999999999997,"NEW WHL SET 36 IN, 1-W  6 1/2 X 9 AXLE, UBR",{"$f":"G2158*'Lookup Tables'!$R$14","v":1653.0940000000001},{"$f":"H2158*'Lookup Tables'!$R$14","v":0},{"$f":"I2158*'Lookup Tables'!$R$14","v":0},{"$f":"J2158*'Lookup Tables'!$R$14","v":128.85980000000001},{"$f":"K2158*'Lookup Tables'!$R$14","v":1781.9538}]
[3352,"C","Wheel set with new roller bearings and reconditioned/secondhand axle",0,0.83699999999999997,"NEW WHL SET 36 IN, 1-W  6 1/2 X 9 AXLE, UBR",{"$f":"G2159*'Lookup Tables'!$R$14","v":2228.9301000000005},{"$f":"H2159*'Lookup Tables'!$R$14","v":0},{"$f":"I2159*'Lookup Tables'!$R$14","v":0},{"$f":"J2159*'Lookup Tables'!$R$14","v":128.85980000000001},{"$f":"K2159*'Lookup Tables'!$R$14","v":2357.7899000000002}]
[3353,"B","Wheel set with reconditioned roller bearings and reconditioned/ secondhand axle",0,0.83699999999999997,"TURNED WHEEL SET 36 IN, 6 1/2 X 9 AXLE, UBR",{"$f":"G2160*'Lookup Tables'!$R$14","v":647.86330000000009},{"$f":"H2160*'Lookup Tables'!$R$14","v":0},{"$f":"I2160*'Lookup Tables'!$R$14","v":0},{"$f":"J2160*'Lookup Tables'!$R$14","v":128.85980000000001},{"$f":"K2160*'Lookup Tables'!$R$14","v":776.72310000000004}]
[3353,"C","Wheel set with new roller bearings and reconditioned/secondhand axle",0,0.83699999999999997,"TURNED WHEEL SET 36 IN, 6 1/2 X 9 AXLE, UBR",{"$f":"G2161*'Lookup Tables'!$R$14","v":1223.6994000000002},{"$f":"H2161*'Lookup Tables'!$R$14","v":0},{"$f":"I2161*'Lookup Tables'!$R$14","v":0},{"$f":"J2161*'Lookup Tables'!$R$14","v":128.85980000000001},{"$f":"K2161*'Lookup Tables'!$R$14","v":1352.5592000000001}]
[3353,"F","Purchased core wheel set with reconditioned roller bearings and reconditioned/secondhand axle",0,0.83699999999999997,"TURNED WHEEL SET 36 IN, 6 1/2 X 9 AXLE, UBR",{"$f":"G2162*'Lookup Tables'!$R$14","v":1103.3089000000002},{"$f":"H2162*'Lookup Tables'!$R$14","v":0},{"$f":"I2162*'Lookup Tables'!$R$14","v":0},{"$f":"J2162*'Lookup Tables'!$R$14","v":128.85980000000001},{"$f":"K2162*'Lookup Tables'!$R$14","v":1232.1687000000002}]
[3353,"G","Purchased core wheel set with new roller bearings and reconditioned/ secondhand axle",0,0.83699999999999997,"TURNED WHEEL SET 36 IN, 6 1/2 X 9 AXLE, UBR",{"$f":"G2163*'Lookup Tables'!$R$14","v":1679.1450000000002},{"$f":"H2163*'Lookup Tables'!$R$14","v":0},{"$f":"I2163*'Lookup Tables'!$R$14","v":0},{"$f":"J2163*'Lookup Tables'!$R$14","v":128.85980000000001},{"$f":"K2163*'Lookup Tables'!$R$14","v":1808.0048000000002}]
[3354,"B","Wheel set with reconditioned roller bearings and reconditioned/ secondhand axle",0,0.83699999999999997,"NEW WHL SET 36,  2-W  6 1/2 X 9 AXLE, UBR",{"$f":"G2164*'Lookup Tables'!$R$14","v":1820.2237000000002},{"$f":"H2164*'Lookup Tables'!$R$14","v":0},{"$f":"I2164*'Lookup Tables'!$R$14","v":0},{"$f":"J2164*'Lookup Tables'!$R$14","v":128.85980000000001},{"$f":"K2164*'Lookup Tables'!$R$14","v":1949.0835000000002}]
[3354,"C","Wheel set with new roller bearings and reconditioned/secondhand axle",0,0.83699999999999997,"NEW WHL SET 36,  2-W  6 1/2 X 9 AXLE, UBR",{"$f":"G2165*'Lookup Tables'!$R$14","v":2396.0598},{"$f":"H2165*'Lookup Tables'!$R$14","v":0},{"$f":"I2165*'Lookup Tables'!$R$14","v":0},{"$f":"J2165*'Lookup Tables'!$R$14","v":128.85980000000001},{"$f":"K2165*'Lookup Tables'!$R$14","v":2524.9195999999997}]
[3360,"A","Wheel set with new roller bearings and new axle",0,0.83699999999999997,"NEW WHEEL SET 33 INCH 1-W, 6 X 11 AXLE, CLASS D",{"$f":"G2166*'Lookup Tables'!$R$14","v":2827.2964999999999},{"$f":"H2166*'Lookup Tables'!$R$14","v":0},{"$f":"I2166*'Lookup Tables'!$R$14","v":0},{"$f":"J2166*'Lookup Tables'!$R$14","v":128.85980000000001},{"$f":"K2166*'Lookup Tables'!$R$14","v":2956.1563000000001}]
[3360,"B","Wheel set with reconditioned roller bearings and reconditioned/ secondhand axle",0,0.83699999999999997,"NEW WHEEL SET 33 INCH 1-W, 6 X 11 AXLE, CLASS D",{"$f":"G2167*'Lookup Tables'!$R$14","v":1892.2618000000002},{"$f":"H2167*'Lookup Tables'!$R$14","v":0},{"$f":"I2167*'Lookup Tables'!$R$14","v":0},{"$f":"J2167*'Lookup Tables'!$R$14","v":128.85980000000001},{"$f":"K2167*'Lookup Tables'!$R$14","v":2021.1216000000002}]
[3360,"C","Wheel set with new roller bearings and reconditioned/secondhand axle",0,0.83699999999999997,"NEW WHEEL SET 33 INCH 1-W, 6 X 11 AXLE, CLASS D",{"$f":"G2168*'Lookup Tables'!$R$14","v":2345.1786000000002},{"$f":"H2168*'Lookup Tables'!$R$14","v":0},{"$f":"I2168*'Lookup Tables'!$R$14","v":0},{"$f":"J2168*'Lookup Tables'!$R$14","v":128.85980000000001},{"$f":"K2168*'Lookup Tables'!$R$14","v":2474.0383999999999}]
[3360,"D","Wheel set with reconditioned roller bearings and new axle",0,0.83699999999999997,"NEW WHEEL SET 33 INCH 1-W, 6 X 11 AXLE, CLASS D",{"$f":"G2169*'Lookup Tables'!$R$14","v":2374.3797},{"$f":"H2169*'Lookup Tables'!$R$14","v":0},{"$f":"I2169*'Lookup Tables'!$R$14","v":0},{"$f":"J2169*'Lookup Tables'!$R$14","v":128.85980000000001},{"$f":"K2169*'Lookup Tables'!$R$14","v":2503.2394999999997}]
[3362,"B","Wheel set with reconditioned roller bearings and reconditioned/ secondhand axle",0,0.83699999999999997,"NEW WHL SET 33-IN 1-W, 6 X 11 AXLE, CLASS D, UBR",{"$f":"G2170*'Lookup Tables'!$R$14","v":1981.3584000000001},{"$f":"H2170*'Lookup Tables'!$R$14","v":0},{"$f":"I2170*'Lookup Tables'!$R$14","v":0},{"$f":"J2170*'Lookup Tables'!$R$14","v":128.85980000000001},{"$f":"K2170*'Lookup Tables'!$R$14","v":2110.2182000000003}]
[3362,"C","Wheel set with new roller bearings and reconditioned/secondhand axle",0,0.83699999999999997,"NEW WHL SET 33-IN 1-W, 6 X 11 AXLE, CLASS D, UBR",{"$f":"G2171*'Lookup Tables'!$R$14","v":2463.9232000000002},{"$f":"H2171*'Lookup Tables'!$R$14","v":0},{"$f":"I2171*'Lookup Tables'!$R$14","v":0},{"$f":"J2171*'Lookup Tables'!$R$14","v":128.85980000000001},{"$f":"K2171*'Lookup Tables'!$R$14","v":2592.7829999999999}]
[3366,"A","Wheel set with new roller bearings and new axle",0,0.83699999999999997,"NEW WHL SET 36 IN, 1-W  6 1/2 X 12 AXLE, CLASS D",{"$f":"G2172*'Lookup Tables'!$R$14","v":3360.0885000000003},{"$f":"H2172*'Lookup Tables'!$R$14","v":0},{"$f":"I2172*'Lookup Tables'!$R$14","v":0},{"$f":"J2172*'Lookup Tables'!$R$14","v":128.85980000000001},{"$f":"K2172*'Lookup Tables'!$R$14","v":3488.9483}]
[3366,"B","Wheel set with reconditioned roller bearings and reconditioned/ secondhand axle",0,0.83699999999999997,"NEW WHL SET 36 IN, 1-W  6 1/2 X 12 AXLE, CLASS D",{"$f":"G2173*'Lookup Tables'!$R$14","v":1950.6858},{"$f":"H2173*'Lookup Tables'!$R$14","v":0},{"$f":"I2173*'Lookup Tables'!$R$14","v":0},{"$f":"J2173*'Lookup Tables'!$R$14","v":128.85980000000001},{"$f":"K2173*'Lookup Tables'!$R$14","v":2079.5455999999999}]
[3366,"C","Wheel set with new roller bearings and reconditioned/secondhand axle",0,0.83699999999999997,"NEW WHL SET 36 IN, 1-W  6 1/2 X 12 AXLE, CLASS D",{"$f":"G2174*'Lookup Tables'!$R$14","v":2503.8063000000002},{"$f":"H2174*'Lookup Tables'!$R$14","v":0},{"$f":"I2174*'Lookup Tables'!$R$14","v":0},{"$f":"J2174*'Lookup Tables'!$R$14","v":128.85980000000001},{"$f":"K2174*'Lookup Tables'!$R$14","v":2632.6661000000004}]
[3366,"D","Wheel set with reconditioned roller bearings and new axle",0,0.83699999999999997,"NEW WHL SET 36 IN, 1-W  6 1/2 X 12 AXLE, CLASS D",{"$f":"G2175*'Lookup Tables'!$R$14","v":2806.9679999999998},{"$f":"H2175*'Lookup Tables'!$R$14","v":0},{"$f":"I2175*'Lookup Tables'!$R$14","v":0},{"$f":"J2175*'Lookup Tables'!$R$14","v":128.85980000000001},{"$f":"K2175*'Lookup Tables'!$R$14","v":2935.8278}]
[3368,"A","Wheel set with new roller bearings and new axle",0,0.83699999999999997,"NEW WHL SET 38 IN, 1-W  7 X 12 AXLE, CLASS D",{"$f":"G2176*'Lookup Tables'!$R$14","v":4257.6054000000004},{"$f":"H2176*'Lookup Tables'!$R$14","v":0},{"$f":"I2176*'Lookup Tables'!$R$14","v":0},{"$f":"J2176*'Lookup Tables'!$R$14","v":128.85980000000001},{"$f":"K2176*'Lookup Tables'!$R$14","v":4386.4651999999996}]
[3368,"B","Wheel set with reconditioned roller bearings and reconditioned/ secondhand axle",0,0.83699999999999997,"NEW WHL SET 38 IN, 1-W  7 X 12 AXLE, CLASS D",{"$f":"G2177*'Lookup Tables'!$R$14","v":2520.2871000000005},{"$f":"H2177*'Lookup Tables'!$R$14","v":0},{"$f":"I2177*'Lookup Tables'!$R$14","v":0},{"$f":"J2177*'Lookup Tables'!$R$14","v":128.85980000000001},{"$f":"K2177*'Lookup Tables'!$R$14","v":2649.1469000000002}]
[3368,"C","Wheel set with new roller bearings and reconditioned/secondhand axle",0,0.83699999999999997,"NEW WHL SET 38 IN, 1-W  7 X 12 AXLE, CLASS D",{"$f":"G2178*'Lookup Tables'!$R$14","v":3221.0154000000002},{"$f":"H2178*'Lookup Tables'!$R$14","v":0},{"$f":"I2178*'Lookup Tables'!$R$14","v":0},{"$f":"J2178*'Lookup Tables'!$R$14","v":128.85980000000001},{"$f":"K2178*'Lookup Tables'!$R$14","v":3349.8751999999999}]
[3368,"D","Wheel set with reconditioned roller bearings and new axle",0,0.83699999999999997,"NEW WHL SET 38 IN, 1-W  7 X 12 AXLE, CLASS D",{"$f":"G2179*'Lookup Tables'!$R$14","v":3556.8771000000002},{"$f":"H2179*'Lookup Tables'!$R$14","v":0},{"$f":"I2179*'Lookup Tables'!$R$14","v":0},{"$f":"J2179*'Lookup Tables'!$R$14","v":128.85980000000001},{"$f":"K2179*'Lookup Tables'!$R$14","v":3685.7369000000003}]
[3370,"A","Wheel set with new roller bearings and new axle",0,0.83699999999999997,"NEW WHL SET 36 IN, 2-W  6 1/2 X 12 AXLE, CLASS D",{"$f":"G2180*'Lookup Tables'!$R$14","v":3548.2879000000003},{"$f":"H2180*'Lookup Tables'!$R$14","v":0},{"$f":"I2180*'Lookup Tables'!$R$14","v":0},{"$f":"J2180*'Lookup Tables'!$R$14","v":128.85980000000001},{"$f":"K2180*'Lookup Tables'!$R$14","v":3677.1477}]
[3370,"B","Wheel set with reconditioned roller bearings and reconditioned/ secondhand axle",0,0.83699999999999997,"NEW WHL SET 36 IN, 2-W  6 1/2 X 12 AXLE, CLASS D",{"$f":"G2181*'Lookup Tables'!$R$14","v":2138.8852000000002},{"$f":"H2181*'Lookup Tables'!$R$14","v":0},{"$f":"I2181*'Lookup Tables'!$R$14","v":0},{"$f":"J2181*'Lookup Tables'!$R$14","v":128.85980000000001},{"$f":"K2181*'Lookup Tables'!$R$14","v":2267.7450000000003}]
[3370,"C","Wheel set with new roller bearings and reconditioned/secondhand axle",0,0.83699999999999997,"NEW WHL SET 36 IN, 2-W  6 1/2 X 12 AXLE, CLASS D",{"$f":"G2182*'Lookup Tables'!$R$14","v":2692.0057000000002},{"$f":"H2182*'Lookup Tables'!$R$14","v":0},{"$f":"I2182*'Lookup Tables'!$R$14","v":0},{"$f":"J2182*'Lookup Tables'!$R$14","v":128.85980000000001},{"$f":"K2182*'Lookup Tables'!$R$14","v":2820.8654999999999}]
[3370,"D","Wheel set with reconditioned roller bearings and new axle",0,0.83699999999999997,"NEW WHL SET 36 IN, 2-W  6 1/2 X 12 AXLE, CLASS D",{"$f":"G2183*'Lookup Tables'!$R$14","v":2995.1674000000003},{"$f":"H2183*'Lookup Tables'!$R$14","v":0},{"$f":"I2183*'Lookup Tables'!$R$14","v":0},{"$f":"J2183*'Lookup Tables'!$R$14","v":128.85980000000001},{"$f":"K2183*'Lookup Tables'!$R$14","v":3124.0272}]
[3371,"A","Wheel set with new roller bearings and new axle",0,0.83699999999999997,"NEW WHL SET 36 IN, 1-W  6 1/2 X 9 AXLE, CLASS D",{"$f":"G2184*'Lookup Tables'!$R$14","v":3254.8163000000004},{"$f":"H2184*'Lookup Tables'!$R$14","v":0},{"$f":"I2184*'Lookup Tables'!$R$14","v":0},{"$f":"J2184*'Lookup Tables'!$R$14","v":128.85980000000001},{"$f":"K2184*'Lookup Tables'!$R$14","v":3383.6761000000001}]
[3371,"B","Wheel set with reconditioned roller bearings and reconditioned/ secondhand axle",0,0.83699999999999997,"NEW WHL SET 36 IN, 1-W  6 1/2 X 9 AXLE, CLASS D",{"$f":"G2185*'Lookup Tables'!$R$14","v":1881.7978000000003},{"$f":"H2185*'Lookup Tables'!$R$14","v":0},{"$f":"I2185*'Lookup Tables'!$R$14","v":0},{"$f":"J2185*'Lookup Tables'!$R$14","v":128.85980000000001},{"$f":"K2185*'Lookup Tables'!$R$14","v":2010.6576000000002}]
[3371,"C","Wheel set with new roller bearings and reconditioned/secondhand axle",0,0.83699999999999997,"NEW WHL SET 36 IN, 1-W  6 1/2 X 9 AXLE, CLASS D",{"$f":"G2186*'Lookup Tables'!$R$14","v":2421.1625000000004},{"$f":"H2186*'Lookup Tables'!$R$14","v":0},{"$f":"I2186*'Lookup Tables'!$R$14","v":0},{"$f":"J2186*'Lookup Tables'!$R$14","v":128.85980000000001},{"$f":"K2186*'Lookup Tables'!$R$14","v":2550.0223000000001}]
[3371,"D",{"$f":"VLOOKUP(B836,$B$2686:$C$2701,2,FALSE)","v":"Wheel set with reconditioned roller bearings and new axle"},0,0.83699999999999997,"NEW WHL SET 36 IN, 1-W  6 1/2 X 9 AXLE, CLASS D",{"$f":"G2187*'Lookup Tables'!$R$14","v":2715.4515999999999},{"$f":"H2187*'Lookup Tables'!$R$14","v":0},{"$f":"I2187*'Lookup Tables'!$R$14","v":0},{"$f":"J2187*'Lookup Tables'!$R$14","v":128.85980000000001},{"$f":"K2187*'Lookup Tables'!$R$14","v":2844.3113999999996}]
[3373,"A","Wheel set with new roller bearings and new axle",0,0.83699999999999997,"NEW WHL SET 36 IN, 2-W  6 1/2 X 9 AXLE, CLASS D",{"$f":"G2188*'Lookup Tables'!$R$14","v":3443.0157000000004},{"$f":"H2188*'Lookup Tables'!$R$14","v":0},{"$f":"I2188*'Lookup Tables'!$R$14","v":0},{"$f":"J2188*'Lookup Tables'!$R$14","v":128.85980000000001},{"$f":"K2188*'Lookup Tables'!$R$14","v":3571.8755000000001}]
[3373,"B","Wheel set with reconditioned roller bearings and reconditioned/ secondhand axle",0,0.83699999999999997,"NEW WHL SET 36 IN, 2-W  6 1/2 X 9 AXLE, CLASS D",{"$f":"G2189*'Lookup Tables'!$R$14","v":2069.9972000000002},{"$f":"H2189*'Lookup Tables'!$R$14","v":0},{"$f":"I2189*'Lookup Tables'!$R$14","v":0},{"$f":"J2189*'Lookup Tables'!$R$14","v":128.85980000000001},{"$f":"K2189*'Lookup Tables'!$R$14","v":2198.857}]
[3373,"C","Wheel set with new roller bearings and reconditioned/secondhand axle",0,0.83699999999999997,"NEW WHL SET 36 IN, 2-W  6 1/2 X 9 AXLE, CLASS D",{"$f":"G2190*'Lookup Tables'!$R$14","v":2609.3618999999999},{"$f":"H2190*'Lookup Tables'!$R$14","v":0},{"$f":"I2190*'Lookup Tables'!$R$14","v":0},{"$f":"J2190*'Lookup Tables'!$R$14","v":128.85980000000001},{"$f":"K2190*'Lookup Tables'!$R$14","v":2738.2216999999996}]
[3373,"D","Wheel set with reconditioned roller bearings and new axle",0,0.83699999999999997,"NEW WHL SET 36 IN, 2-W  6 1/2 X 9 AXLE, CLASS D",{"$f":"G2191*'Lookup Tables'!$R$14","v":2903.6510000000003},{"$f":"H2191*'Lookup Tables'!$R$14","v":0},{"$f":"I2191*'Lookup Tables'!$R$14","v":0},{"$f":"J2191*'Lookup Tables'!$R$14","v":128.85980000000001},{"$f":"K2191*'Lookup Tables'!$R$14","v":3032.5108}]
[3374,"B","Wheel set with reconditioned roller bearings and reconditioned/ secondhand axle",0,0.83699999999999997,"NEW WHLSET 36 IN 1-W  6 1/2 X 12 AXLE CLASS D UBR",{"$f":"G2192*'Lookup Tables'!$R$14","v":2036.7086000000002},{"$f":"H2192*'Lookup Tables'!$R$14","v":0},{"$f":"I2192*'Lookup Tables'!$R$14","v":0},{"$f":"J2192*'Lookup Tables'!$R$14","v":128.85980000000001},{"$f":"K2192*'Lookup Tables'!$R$14","v":2165.5684000000001}]
[3374,"C","Wheel set with new roller bearings and reconditioned/secondhand axle",0,0.83699999999999997,"NEW WHLSET 36 IN 1-W  6 1/2 X 12 AXLE CLASS D UBR",{"$f":"G2193*'Lookup Tables'!$R$14","v":2633.7561000000001},{"$f":"H2193*'Lookup Tables'!$R$14","v":0},{"$f":"I2193*'Lookup Tables'!$R$14","v":0},{"$f":"J2193*'Lookup Tables'!$R$14","v":128.85980000000001},{"$f":"K2193*'Lookup Tables'!$R$14","v":2762.6158999999998}]
[3376,"B","Wheel set with reconditioned roller bearings and reconditioned/ secondhand axle",0,0.83699999999999997,"NEW WHLSET 36 IN 2-W  6 1/2 X 12 AXLE CLASS D UBR",{"$f":"G2194*'Lookup Tables'!$R$14","v":2224.9080000000004},{"$f":"H2194*'Lookup Tables'!$R$14","v":0},{"$f":"I2194*'Lookup Tables'!$R$14","v":0},{"$f":"J2194*'Lookup Tables'!$R$14","v":128.85980000000001},{"$f":"K2194*'Lookup Tables'!$R$14","v":2353.7678000000001}]
[3376,"C","Wheel set with new roller bearings and reconditioned/secondhand axle",0,0.83699999999999997,"NEW WHLSET 36 IN 2-W  6 1/2 X 12 AXLE CLASS D UBR",{"$f":"G2195*'Lookup Tables'!$R$14","v":2821.9555},{"$f":"H2195*'Lookup Tables'!$R$14","v":0},{"$f":"I2195*'Lookup Tables'!$R$14","v":0},{"$f":"J2195*'Lookup Tables'!$R$14","v":128.85980000000001},{"$f":"K2195*'Lookup Tables'!$R$14","v":2950.8152999999998}]
[3377,"B","Wheel set with reconditioned roller bearings and reconditioned/ secondhand axle",0,0.83699999999999997,"NEW WHLSET 36 IN,1-W  6 1/2 X 9 AXLE CLASS D UBR",{"$f":"G2196*'Lookup Tables'!$R$14","v":1968.2784000000001},{"$f":"H2196*'Lookup Tables'!$R$14","v":0},{"$f":"I2196*'Lookup Tables'!$R$14","v":0},{"$f":"J2196*'Lookup Tables'!$R$14","v":128.85980000000001},{"$f":"K2196*'Lookup Tables'!$R$14","v":2097.1382000000003}]
[3377,"C","Wheel set with new roller bearings and reconditioned/secondhand axle",0,0.83699999999999997,"NEW WHLSET 36 IN,1-W  6 1/2 X 9 AXLE CLASS D UBR",{"$f":"G2197*'Lookup Tables'!$R$14","v":2544.1145000000006},{"$f":"H2197*'Lookup Tables'!$R$14","v":0},{"$f":"I2197*'Lookup Tables'!$R$14","v":0},{"$f":"J2197*'Lookup Tables'!$R$14","v":128.85980000000001},{"$f":"K2197*'Lookup Tables'!$R$14","v":2672.9743000000003}]
[3379,"B","Wheel set with reconditioned roller bearings and reconditioned/ secondhand axle",0,0.83699999999999997,"NEW WHLSET 36 IN 2-W  6 1/2 X 9 AXLE CLASS D UBR",{"$f":"G2198*'Lookup Tables'!$R$14","v":2156.4778000000001},{"$f":"H2198*'Lookup Tables'!$R$14","v":0},{"$f":"I2198*'Lookup Tables'!$R$14","v":0},{"$f":"J2198*'Lookup Tables'!$R$14","v":128.85980000000001},{"$f":"K2198*'Lookup Tables'!$R$14","v":2285.3375999999998}]
[3379,"C","Wheel set with new roller bearings and reconditioned/secondhand axle",0,0.83699999999999997,"NEW WHLSET 36 IN 2-W  6 1/2 X 9 AXLE CLASS D UBR",{"$f":"G2199*'Lookup Tables'!$R$14","v":2732.3139000000001},{"$f":"H2199*'Lookup Tables'!$R$14","v":0},{"$f":"I2199*'Lookup Tables'!$R$14","v":0},{"$f":"J2199*'Lookup Tables'!$R$14","v":128.85980000000001},{"$f":"K2199*'Lookup Tables'!$R$14","v":2861.1736999999998}]
[3399,"T","Component transfer",0,0,"WHEEL SET TRANSFER",{"$f":"G2200*'Lookup Tables'!$R$14","v":0},{"$f":"H2200*'Lookup Tables'!$R$14","v":0},{"$f":"I2200*'Lookup Tables'!$R$14","v":0},{"$f":"J2200*'Lookup Tables'!$R$14","v":0},{"$f":"K2200*'Lookup Tables'!$R$14","v":0}]
[3470,1,"New Material Applied",0,5.04,"GROUP COC-1",{"$f":"G2201*'Lookup Tables'!$R$14","v":3409.3456000000006},{"$f":"H2201*'Lookup Tables'!$R$14","v":74.697700000000012},{"$f":"I2201*'Lookup Tables'!$R$14","v":0},{"$f":"J2201*'Lookup Tables'!$R$14","v":775.91650000000004},{"$f":"K2201*'Lookup Tables'!$R$14","v":4185.2620999999999}]
[3470,3,"Reconditioned or Recertified Material Applied",0,5.04,"GROUP COC-1",{"$f":"G2202*'Lookup Tables'!$R$14","v":2245.7815000000001},{"$f":"H2202*'Lookup Tables'!$R$14","v":0},{"$f":"I2202*'Lookup Tables'!$R$14","v":0},{"$f":"J2202*'Lookup Tables'!$R$14","v":775.91650000000004},{"$f":"K2202*'Lookup Tables'!$R$14","v":3021.6979999999999}]
[3470,9,"Remove and replace same part",0,4.5830000000000002,"GROUP COC-1",{"$f":"G2203*'Lookup Tables'!$R$14","v":49.660400000000003},{"$f":"H2203*'Lookup Tables'!$R$14","v":0},{"$f":"I2203*'Lookup Tables'!$R$14","v":0},{"$f":"J2203*'Lookup Tables'!$R$14","v":705.55700000000002},{"$f":"K2203*'Lookup Tables'!$R$14","v":755.2174}]
[3472,1,"New Material Applied",0,5.04,"GROUP COC-2",{"$f":"G2204*'Lookup Tables'!$R$14","v":3679.1315},{"$f":"H2204*'Lookup Tables'!$R$14","v":74.697700000000012},{"$f":"I2204*'Lookup Tables'!$R$14","v":0},{"$f":"J2204*'Lookup Tables'!$R$14","v":775.91650000000004},{"$f":"K2204*'Lookup Tables'!$R$14","v":4455.0479999999998}]
[3472,3,"Reconditioned or Recertified Material Applied",0,5.04,"GROUP COC-2",{"$f":"G2205*'Lookup Tables'!$R$14","v":2416.2902000000004},{"$f":"H2205*'Lookup Tables'!$R$14","v":0},{"$f":"I2205*'Lookup Tables'!$R$14","v":0},{"$f":"J2205*'Lookup Tables'!$R$14","v":775.91650000000004},{"$f":"K2205*'Lookup Tables'!$R$14","v":3192.2067000000002}]
[3472,9,"Remove and replace same part",0,4.5830000000000002,"GROUP COC-2",{"$f":"G2206*'Lookup Tables'!$R$14","v":49.660400000000003},{"$f":"H2206*'Lookup Tables'!$R$14","v":0},{"$f":"I2206*'Lookup Tables'!$R$14","v":0},{"$f":"J2206*'Lookup Tables'!$R$14","v":705.55700000000002},{"$f":"K2206*'Lookup Tables'!$R$14","v":755.2174}]
[3476,1,"New Material Applied",0,5.04,"GROUP COC-4",{"$f":"G2207*'Lookup Tables'!$R$14","v":2298.7772999999997},{"$f":"H2207*'Lookup Tables'!$R$14","v":74.697700000000012},{"$f":"I2207*'Lookup Tables'!$R$14","v":0},{"$f":"J2207*'Lookup Tables'!$R$14","v":775.91650000000004},{"$f":"K2207*'Lookup Tables'!$R$14","v":3074.6938}]
[3476,3,"Reconditioned or Recertified Material Applied",0,5.04,"GROUP COC-4",{"$f":"G2208*'Lookup Tables'!$R$14","v":1236.5396000000001},{"$f":"H2208*'Lookup Tables'!$R$14","v":0},{"$f":"I2208*'Lookup Tables'!$R$14","v":0},{"$f":"J2208*'Lookup Tables'!$R$14","v":775.91650000000004},{"$f":"K2208*'Lookup Tables'!$R$14","v":2012.4561000000001}]
[3476,9,"Remove and replace same part",0,4.5830000000000002,"GROUP COC-4",{"$f":"G2209*'Lookup Tables'!$R$14","v":49.660400000000003},{"$f":"H2209*'Lookup Tables'!$R$14","v":0},{"$f":"I2209*'Lookup Tables'!$R$14","v":0},{"$f":"J2209*'Lookup Tables'!$R$14","v":705.55700000000002},{"$f":"K2209*'Lookup Tables'!$R$14","v":755.2174}]
[3480,1,"New Material Applied",0,5.04,"GROUP COC-6",{"$f":"G2210*'Lookup Tables'!$R$14","v":2914.1695000000004},{"$f":"H2210*'Lookup Tables'!$R$14","v":161.86500000000001},{"$f":"I2210*'Lookup Tables'!$R$14","v":0},{"$f":"J2210*'Lookup Tables'!$R$14","v":775.91650000000004},{"$f":"K2210*'Lookup Tables'!$R$14","v":3690.0860000000002}]
[3480,3,"Reconditioned or Recertified Material Applied",0,5.04,"GROUP COC-6",{"$f":"G2211*'Lookup Tables'!$R$14","v":1507.7861},{"$f":"H2211*'Lookup Tables'!$R$14","v":0},{"$f":"I2211*'Lookup Tables'!$R$14","v":0},{"$f":"J2211*'Lookup Tables'!$R$14","v":775.91650000000004},{"$f":"K2211*'Lookup Tables'!$R$14","v":2283.7026000000001}]
[3480,9,"Remove and replace same part",0,4.5830000000000002,"GROUP COC-6",{"$f":"G2212*'Lookup Tables'!$R$14","v":49.660400000000003},{"$f":"H2212*'Lookup Tables'!$R$14","v":0},{"$f":"I2212*'Lookup Tables'!$R$14","v":0},{"$f":"J2212*'Lookup Tables'!$R$14","v":705.55700000000002},{"$f":"K2212*'Lookup Tables'!$R$14","v":755.2174}]
[3520,1,"New Material Applied",0,1.861,"TRUCK BOLSTER-70 TON",{"$f":"G2213*'Lookup Tables'!$R$14","v":1574.1017000000002},{"$f":"H2213*'Lookup Tables'!$R$14","v":125.89500000000001},{"$f":"I2213*'Lookup Tables'!$R$14","v":0},{"$f":"J2213*'Lookup Tables'!$R$14","v":286.50650000000007},{"$f":"K2213*'Lookup Tables'!$R$14","v":1860.6082000000001}]
[3520,2,"Secondhand Material Applied",0,1.861,"TRUCK BOLSTER-70 TON",{"$f":"G2214*'Lookup Tables'!$R$14","v":578.14689999999996},{"$f":"H2214*'Lookup Tables'!$R$14","v":0},{"$f":"I2214*'Lookup Tables'!$R$14","v":0},{"$f":"J2214*'Lookup Tables'!$R$14","v":286.50650000000007},{"$f":"K2214*'Lookup Tables'!$R$14","v":864.65340000000003}]
[3520,3,"Reconditioned or Recertified Material Applied",0,1.861,"TRUCK BOLSTER-70 TON",{"$f":"G2215*'Lookup Tables'!$R$14","v":875.15010000000007},{"$f":"H2215*'Lookup Tables'!$R$14","v":0},{"$f":"I2215*'Lookup Tables'!$R$14","v":0},{"$f":"J2215*'Lookup Tables'!$R$14","v":286.50650000000007},{"$f":"K2215*'Lookup Tables'!$R$14","v":1161.6566}]
[3520,"T","Component transfer",0,0,"TRUCK BOLSTER-70 TON",{"$f":"G2216*'Lookup Tables'!$R$14","v":0},{"$f":"H2216*'Lookup Tables'!$R$14","v":0},{"$f":"I2216*'Lookup Tables'!$R$14","v":0},{"$f":"J2216*'Lookup Tables'!$R$14","v":0},{"$f":"K2216*'Lookup Tables'!$R$14","v":0}]
[3524,1,"New Material Applied",0,1.861,"TRUCK BOLSTER-100 OR 110 TON",{"$f":"G2217*'Lookup Tables'!$R$14","v":1339.2503000000002},{"$f":"H2217*'Lookup Tables'!$R$14","v":149.875},{"$f":"I2217*'Lookup Tables'!$R$14","v":0},{"$f":"J2217*'Lookup Tables'!$R$14","v":286.50650000000007},{"$f":"K2217*'Lookup Tables'!$R$14","v":1625.7568000000001}]
[3524,2,"Secondhand Material Applied",0,1.861,"TRUCK BOLSTER-100 OR 110 TON",{"$f":"G2218*'Lookup Tables'!$R$14","v":577.01330000000007},{"$f":"H2218*'Lookup Tables'!$R$14","v":0},{"$f":"I2218*'Lookup Tables'!$R$14","v":0},{"$f":"J2218*'Lookup Tables'!$R$14","v":286.50650000000007},{"$f":"K2218*'Lookup Tables'!$R$14","v":863.51980000000015}]
[3524,3,"Reconditioned or Recertified Material Applied",0,1.861,"TRUCK BOLSTER-100 OR 110 TON",{"$f":"G2219*'Lookup Tables'!$R$14","v":873.42790000000002},{"$f":"H2219*'Lookup Tables'!$R$14","v":0},{"$f":"I2219*'Lookup Tables'!$R$14","v":0},{"$f":"J2219*'Lookup Tables'!$R$14","v":286.50650000000007},{"$f":"K2219*'Lookup Tables'!$R$14","v":1159.9343999999999}]
[3524,"T","Component transfer",0,0,"TRUCK BOLSTER-100 OR 110 TON",{"$f":"G2220*'Lookup Tables'!$R$14","v":0},{"$f":"H2220*'Lookup Tables'!$R$14","v":0},{"$f":"I2220*'Lookup Tables'!$R$14","v":0},{"$f":"J2220*'Lookup Tables'!$R$14","v":0},{"$f":"K2220*'Lookup Tables'!$R$14","v":0}]
[3528,1,"New Material Applied",0,1.861,"TRUCK BOLSTER-125 TON",{"$f":"G2221*'Lookup Tables'!$R$14","v":1787.5673000000002},{"$f":"H2221*'Lookup Tables'!$R$14","v":199.63350000000003},{"$f":"I2221*'Lookup Tables'!$R$14","v":0},{"$f":"J2221*'Lookup Tables'!$R$14","v":286.50650000000007},{"$f":"K2221*'Lookup Tables'!$R$14","v":2074.0738000000001}]
[3528,2,"Secondhand Material Applied",0,1.861,"TRUCK BOLSTER-125 TON",{"$f":"G2222*'Lookup Tables'!$R$14","v":885.66859999999997},{"$f":"H2222*'Lookup Tables'!$R$14","v":0},{"$f":"I2222*'Lookup Tables'!$R$14","v":0},{"$f":"J2222*'Lookup Tables'!$R$14","v":286.50650000000007},{"$f":"K2222*'Lookup Tables'!$R$14","v":1172.1750999999999}]
[3528,3,"Reconditioned or Recertified Material Applied",0,1.861,"TRUCK BOLSTER-125 TON",{"$f":"G2223*'Lookup Tables'!$R$14","v":1341.0815},{"$f":"H2223*'Lookup Tables'!$R$14","v":0},{"$f":"I2223*'Lookup Tables'!$R$14","v":0},{"$f":"J2223*'Lookup Tables'!$R$14","v":286.50650000000007},{"$f":"K2223*'Lookup Tables'!$R$14","v":1627.588}]
[3528,"T","Component transfer",0,0,"TRUCK BOLSTER-125 TON",{"$f":"G2224*'Lookup Tables'!$R$14","v":0},{"$f":"H2224*'Lookup Tables'!$R$14","v":0},{"$f":"I2224*'Lookup Tables'!$R$14","v":0},{"$f":"J2224*'Lookup Tables'!$R$14","v":0},{"$f":"K2224*'Lookup Tables'!$R$14","v":0}]
[3560,1,"New Material Applied",0,0.10100000000000001,"CENTER PIN",{"$f":"G2225*'Lookup Tables'!$R$14","v":7.7717000000000001},{"$f":"H2225*'Lookup Tables'!$R$14","v":1.4388000000000001},{"$f":"I2225*'Lookup Tables'!$R$14","v":0},{"$f":"J2225*'Lookup Tables'!$R$14","v":15.554300000000001},{"$f":"K2225*'Lookup Tables'!$R$14","v":23.326000000000001}]
[3560,2,"Secondhand Material Applied",0,0.10100000000000001,"CENTER PIN",{"$f":"G2226*'Lookup Tables'!$R$14","v":7.7717000000000001},{"$f":"H2226*'Lookup Tables'!$R$14","v":1.4388000000000001},{"$f":"I2226*'Lookup Tables'!$R$14","v":0},{"$f":"J2226*'Lookup Tables'!$R$14","v":15.554300000000001},{"$f":"K2226*'Lookup Tables'!$R$14","v":23.326000000000001}]
[3562,0,"Labor attention such as: \nactual labor, replacing or rechanging doors, welding, vacant, painting or stenciling, other labor attention",0,0,"CENTER BOWL HORIZONTAL LINER, NON-METALLIC",{"$f":"G2227*'Lookup Tables'!$R$14","v":0},{"$f":"H2227*'Lookup Tables'!$R$14","v":0},{"$f":"I2227*'Lookup Tables'!$R$14","v":0},{"$f":"J2227*'Lookup Tables'!$R$14","v":0},{"$f":"K2227*'Lookup Tables'!$R$14","v":0}]
[3562,1,"New Material Applied",0,0.14399999999999999,"CENTER BOWL HORIZONTAL LINER, NON-METALLIC",{"$f":"G2228*'Lookup Tables'!$R$14","v":21.015200000000004},{"$f":"H2228*'Lookup Tables'!$R$14","v":0},{"$f":"I2228*'Lookup Tables'!$R$14","v":0},{"$f":"J2228*'Lookup Tables'!$R$14","v":22.1706},{"$f":"K2228*'Lookup Tables'!$R$14","v":43.185800000000008}]
[3564,0,"Labor attention such as: \nactual labor, replacing or rechanging doors, welding, vacant, painting or stenciling, other labor attention",0,0,"FULL BOWL LINER, NON-METALLIC",{"$f":"G2229*'Lookup Tables'!$R$14","v":0},{"$f":"H2229*'Lookup Tables'!$R$14","v":0},{"$f":"I2229*'Lookup Tables'!$R$14","v":0},{"$f":"J2229*'Lookup Tables'!$R$14","v":0},{"$f":"K2229*'Lookup Tables'!$R$14","v":0}]
[3564,1,"New Material Applied",0,0.14399999999999999,"FULL BOWL LINER, NON-METALLIC",{"$f":"G2230*'Lookup Tables'!$R$14","v":44.679100000000005},{"$f":"H2230*'Lookup Tables'!$R$14","v":0},{"$f":"I2230*'Lookup Tables'!$R$14","v":0},{"$f":"J2230*'Lookup Tables'!$R$14","v":22.1706},{"$f":"K2230*'Lookup Tables'!$R$14","v":66.849699999999999}]
[3566,1,"New Material Applied",0,0.54900000000000004,"VERTICAL WEAR LINER - CARBON STEEL",{"$f":"G2231*'Lookup Tables'!$R$14","v":44.973399999999998},{"$f":"H2231*'Lookup Tables'!$R$14","v":0.47960000000000003},{"$f":"I2231*'Lookup Tables'!$R$14","v":0},{"$f":"J2231*'Lookup Tables'!$R$14","v":84.518600000000006},{"$f":"K2231*'Lookup Tables'!$R$14","v":129.49200000000002}]
[3566,9,"Remove and replace same part",0,0.313,"VERTICAL WEAR LINER - CARBON STEEL",{"$f":"G2232*'Lookup Tables'!$R$14","v":0},{"$f":"H2232*'Lookup Tables'!$R$14","v":0},{"$f":"I2232*'Lookup Tables'!$R$14","v":0},{"$f":"J2232*'Lookup Tables'!$R$14","v":48.188900000000004},{"$f":"K2232*'Lookup Tables'!$R$14","v":48.188900000000004}]
[3567,1,"New Material Applied",0,0.54900000000000004,"VERTICAL WEAR LINER - STAINLESS STEEL",{"$f":"G2233*'Lookup Tables'!$R$14","v":38.749499999999998},{"$f":"H2233*'Lookup Tables'!$R$14","v":0.47960000000000003},{"$f":"I2233*'Lookup Tables'!$R$14","v":0},{"$f":"J2233*'Lookup Tables'!$R$14","v":84.518600000000006},{"$f":"K2233*'Lookup Tables'!$R$14","v":123.26810000000002}]
[3567,9,"Remove and replace same part",0,0.313,"VERTICAL WEAR LINER - STAINLESS STEEL",{"$f":"G2234*'Lookup Tables'!$R$14","v":0},{"$f":"H2234*'Lookup Tables'!$R$14","v":0},{"$f":"I2234*'Lookup Tables'!$R$14","v":0},{"$f":"J2234*'Lookup Tables'!$R$14","v":48.188900000000004},{"$f":"K2234*'Lookup Tables'!$R$14","v":48.188900000000004}]
[3570,0,"Labor attention such as: \nactual labor, replacing or rechanging doors, welding, vacant, painting or stenciling, other labor attention",0,0.14399999999999999,"CENTER BOWL LINER, METALLIC",{"$f":"G2235*'Lookup Tables'!$R$14","v":0},{"$f":"H2235*'Lookup Tables'!$R$14","v":0},{"$f":"I2235*'Lookup Tables'!$R$14","v":0},{"$f":"J2235*'Lookup Tables'!$R$14","v":22.1706},{"$f":"K2235*'Lookup Tables'!$R$14","v":22.1706}]
[3570,1,"New Material Applied",0,0.14399999999999999,"CENTER BOWL LINER, METALLIC",{"$f":"G2236*'Lookup Tables'!$R$14","v":16.262800000000002},{"$f":"H2236*'Lookup Tables'!$R$14","v":0},{"$f":"I2236*'Lookup Tables'!$R$14","v":0},{"$f":"J2236*'Lookup Tables'!$R$14","v":22.1706},{"$f":"K2236*'Lookup Tables'!$R$14","v":38.433399999999999}]
[3571,0,"Labor attention such as: \nactual labor, replacing or rechanging doors, welding, vacant, painting or stenciling, other labor attention",0,0,"FULL BOWL LINER, METALLIC",{"$f":"G2237*'Lookup Tables'!$R$14","v":0},{"$f":"H2237*'Lookup Tables'!$R$14","v":0},{"$f":"I2237*'Lookup Tables'!$R$14","v":0},{"$f":"J2237*'Lookup Tables'!$R$14","v":0},{"$f":"K2237*'Lookup Tables'!$R$14","v":0}]
[3571,1,"New Material Applied",0,0.14399999999999999,"FULL BOWL LINER, METALLIC",{"$f":"G2238*'Lookup Tables'!$R$14","v":110.42790000000001},{"$f":"H2238*'Lookup Tables'!$R$14","v":0},{"$f":"I2238*'Lookup Tables'!$R$14","v":0},{"$f":"J2238*'Lookup Tables'!$R$14","v":22.1706},{"$f":"K2238*'Lookup Tables'!$R$14","v":132.59850000000003}]
[3572,1,"New Material Applied",0,7.5999999999999998E-2,"TRK SIDE BEARING ROLLER OR FRICT BLOCK",{"$f":"G2239*'Lookup Tables'!$R$14","v":15.456200000000001},{"$f":"H2239*'Lookup Tables'!$R$14","v":1.4388000000000001},{"$f":"I2239*'Lookup Tables'!$R$14","v":0},{"$f":"J2239*'Lookup Tables'!$R$14","v":11.695700000000002},{"$f":"K2239*'Lookup Tables'!$R$14","v":27.151900000000001}]
[3572,2,"Secondhand Material Applied",0,7.5999999999999998E-2,"TRK SIDE BEARING ROLLER OR FRICT BLOCK",{"$f":"G2240*'Lookup Tables'!$R$14","v":7.7281000000000004},{"$f":"H2240*'Lookup Tables'!$R$14","v":1.4388000000000001},{"$f":"I2240*'Lookup Tables'!$R$14","v":0},{"$f":"J2240*'Lookup Tables'!$R$14","v":11.695700000000002},{"$f":"K2240*'Lookup Tables'!$R$14","v":19.423800000000004}]
[3576,1,"New Material Applied",0,0.44800000000000001,"TRK SIDE BEARING HOUSING",{"$f":"G2241*'Lookup Tables'!$R$14","v":53.181100000000001},{"$f":"H2241*'Lookup Tables'!$R$14","v":2.2780999999999998},{"$f":"I2241*'Lookup Tables'!$R$14","v":0},{"$f":"J2241*'Lookup Tables'!$R$14","v":68.975200000000001},{"$f":"K2241*'Lookup Tables'!$R$14","v":122.1563}]
[3576,2,"Secondhand Material Applied",0,0.44800000000000001,"TRK SIDE BEARING HOUSING",{"$f":"G2242*'Lookup Tables'!$R$14","v":28.830500000000001},{"$f":"H2242*'Lookup Tables'!$R$14","v":2.2780999999999998},{"$f":"I2242*'Lookup Tables'!$R$14","v":0},{"$f":"J2242*'Lookup Tables'!$R$14","v":68.975200000000001},{"$f":"K2242*'Lookup Tables'!$R$14","v":97.805700000000016}]
[3580,1,"New Material Applied",0,0.44800000000000001,"TRK SIDE BEARING ROLLER HOUSING DOUBLE",{"$f":"G2243*'Lookup Tables'!$R$14","v":50.259900000000002},{"$f":"H2243*'Lookup Tables'!$R$14","v":2.3980000000000006},{"$f":"I2243*'Lookup Tables'!$R$14","v":0},{"$f":"J2243*'Lookup Tables'!$R$14","v":68.975200000000001},{"$f":"K2243*'Lookup Tables'!$R$14","v":119.2351}]
[3580,2,"Secondhand Material Applied",0,0.44800000000000001,"TRK SIDE BEARING ROLLER HOUSING DOUBLE",{"$f":"G2244*'Lookup Tables'!$R$14","v":27.369900000000001},{"$f":"H2244*'Lookup Tables'!$R$14","v":2.3980000000000006},{"$f":"I2244*'Lookup Tables'!$R$14","v":0},{"$f":"J2244*'Lookup Tables'!$R$14","v":68.975200000000001},{"$f":"K2244*'Lookup Tables'!$R$14","v":96.345100000000002}]
[3582,1,"New Material Applied",8.2000000000000003E-2,0.20300000000000001,"FRICTION CASTING - RIDE CONTROL",{"$f":"G2245*'Lookup Tables'!$R$14","v":44.853500000000004},{"$f":"H2245*'Lookup Tables'!$R$14","v":0.59950000000000014},{"$f":"I2245*'Lookup Tables'!$R$14","v":12.622200000000001},{"$f":"J2245*'Lookup Tables'!$R$14","v":31.250300000000003},{"$f":"K2245*'Lookup Tables'!$R$14","v":76.103799999999993}]
[3582,2,"Secondhand Material Applied",8.2000000000000003E-2,0.20300000000000001,"FRICTION CASTING - RIDE CONTROL",{"$f":"G2246*'Lookup Tables'!$R$14","v":22.508500000000002},{"$f":"H2246*'Lookup Tables'!$R$14","v":0.59950000000000014},{"$f":"I2246*'Lookup Tables'!$R$14","v":12.622200000000001},{"$f":"J2246*'Lookup Tables'!$R$14","v":31.250300000000003},{"$f":"K2246*'Lookup Tables'!$R$14","v":53.758800000000001}]
[3583,1,"New Material Applied",8.2000000000000003E-2,0.20300000000000001,"FRICTION CASTING - XCR",{"$f":"G2247*'Lookup Tables'!$R$14","v":105.185},{"$f":"H2247*'Lookup Tables'!$R$14","v":4.1965000000000003},{"$f":"I2247*'Lookup Tables'!$R$14","v":12.622200000000001},{"$f":"J2247*'Lookup Tables'!$R$14","v":31.250300000000003},{"$f":"K2247*'Lookup Tables'!$R$14","v":136.43530000000001}]
[3583,2,"Secondhand Material Applied",8.2000000000000003E-2,0.20300000000000001,"FRICTION CASTING - XCR",{"$f":"G2248*'Lookup Tables'!$R$14","v":52.679700000000004},{"$f":"H2248*'Lookup Tables'!$R$14","v":4.1965000000000003},{"$f":"I2248*'Lookup Tables'!$R$14","v":12.622200000000001},{"$f":"J2248*'Lookup Tables'!$R$14","v":31.250300000000003},{"$f":"K2248*'Lookup Tables'!$R$14","v":83.93}]
[3584,1,"New Material Applied",7.8E-2,0.20300000000000001,"FRICTION CASTING - STABILIZED TRUCK",{"$f":"G2249*'Lookup Tables'!$R$14","v":41.114800000000002},{"$f":"H2249*'Lookup Tables'!$R$14","v":1.3189},{"$f":"I2249*'Lookup Tables'!$R$14","v":12.011800000000001},{"$f":"J2249*'Lookup Tables'!$R$14","v":31.250300000000003},{"$f":"K2249*'Lookup Tables'!$R$14","v":72.365100000000012}]
[3584,2,"Secondhand Material Applied",7.8E-2,0.20300000000000001,"FRICTION CASTING - STABILIZED TRUCK",{"$f":"G2250*'Lookup Tables'!$R$14","v":20.644600000000004},{"$f":"H2250*'Lookup Tables'!$R$14","v":1.3189},{"$f":"I2250*'Lookup Tables'!$R$14","v":12.011800000000001},{"$f":"J2250*'Lookup Tables'!$R$14","v":31.250300000000003},{"$f":"K2250*'Lookup Tables'!$R$14","v":51.8949}]
[3585,1,{"$f":"VLOOKUP(B900,$B$2686:$C$2701,2,FALSE)","v":"New Material Applied"},7.8E-2,0.20300000000000001,"FRICTION CASTING - SWING MOTION TRUCK",{"$f":"G2251*'Lookup Tables'!$R$14","v":117.58920000000001},{"$f":"H2251*'Lookup Tables'!$R$14","v":2.7576999999999998},{"$f":"I2251*'Lookup Tables'!$R$14","v":12.011800000000001},{"$f":"J2251*'Lookup Tables'!$R$14","v":31.250300000000003},{"$f":"K2251*'Lookup Tables'!$R$14","v":148.83950000000002}]
[3585,2,"Secondhand Material Applied",7.8E-2,0.20300000000000001,"FRICTION CASTING - SWING MOTION TRUCK",{"$f":"G2252*'Lookup Tables'!$R$14","v":58.881800000000005},{"$f":"H2252*'Lookup Tables'!$R$14","v":2.7576999999999998},{"$f":"I2252*'Lookup Tables'!$R$14","v":12.011800000000001},{"$f":"J2252*'Lookup Tables'!$R$14","v":31.250300000000003},{"$f":"K2252*'Lookup Tables'!$R$14","v":90.132100000000008}]
[3588,0,"Labor attention such as: \nactual labor, replacing or rechanging doors, welding, vacant, painting or stenciling, other labor attention",0.10299999999999999,0.33400000000000002,"TRUCK SIDE BEARING SHIM",{"$f":"G2253*'Lookup Tables'!$R$14","v":4.3164000000000007},{"$f":"H2253*'Lookup Tables'!$R$14","v":0},{"$f":"I2253*'Lookup Tables'!$R$14","v":15.859500000000002},{"$f":"J2253*'Lookup Tables'!$R$14","v":51.415300000000009},{"$f":"K2253*'Lookup Tables'!$R$14","v":55.731700000000004}]
[3588,1,"New Material Applied",0.10299999999999999,0.33400000000000002,"TRUCK SIDE BEARING SHIM",{"$f":"G2254*'Lookup Tables'!$R$14","v":15.739600000000001},{"$f":"H2254*'Lookup Tables'!$R$14","v":0},{"$f":"I2254*'Lookup Tables'!$R$14","v":15.859500000000002},{"$f":"J2254*'Lookup Tables'!$R$14","v":51.415300000000009},{"$f":"K2254*'Lookup Tables'!$R$14","v":67.154899999999998}]
[3720,1,"New Material Applied",0,1.506,"SIDE FRAME-70 TON OR LESS",{"$f":"G2255*'Lookup Tables'!$R$14","v":520.08260000000007},{"$f":"H2255*'Lookup Tables'!$R$14","v":89.925000000000011},{"$f":"I2255*'Lookup Tables'!$R$14","v":0},{"$f":"J2255*'Lookup Tables'!$R$14","v":231.85390000000004},{"$f":"K2255*'Lookup Tables'!$R$14","v":751.93650000000002}]
[3720,2,"Secondhand Material Applied",0,1.506,"SIDE FRAME-70 TON OR LESS",{"$f":"G2256*'Lookup Tables'!$R$14","v":310.97700000000003},{"$f":"H2256*'Lookup Tables'!$R$14","v":89.925000000000011},{"$f":"I2256*'Lookup Tables'!$R$14","v":0},{"$f":"J2256*'Lookup Tables'!$R$14","v":231.85390000000004},{"$f":"K2256*'Lookup Tables'!$R$14","v":542.83090000000004}]
[3720,3,"Reconditioned or Recertified Material Applied",0,1.506,"SIDE FRAME-70 TON OR LESS",{"$f":"G2257*'Lookup Tables'!$R$14","v":469.3322},{"$f":"H2257*'Lookup Tables'!$R$14","v":0},{"$f":"I2257*'Lookup Tables'!$R$14","v":0},{"$f":"J2257*'Lookup Tables'!$R$14","v":231.85390000000004},{"$f":"K2257*'Lookup Tables'!$R$14","v":701.18610000000001}]
[3720,"T","Component transfer",0,0,"SIDE FRAME-70 TON OR LESS",{"$f":"G2258*'Lookup Tables'!$R$14","v":0},{"$f":"H2258*'Lookup Tables'!$R$14","v":0},{"$f":"I2258*'Lookup Tables'!$R$14","v":0},{"$f":"J2258*'Lookup Tables'!$R$14","v":0},{"$f":"K2258*'Lookup Tables'!$R$14","v":0}]
[3724,1,"New Material Applied",0,1.506,"SIDE FRAME-100 OR 110 TON",{"$f":"G2259*'Lookup Tables'!$R$14","v":923.05560000000014},{"$f":"H2259*'Lookup Tables'!$R$14","v":107.91000000000001},{"$f":"I2259*'Lookup Tables'!$R$14","v":0},{"$f":"J2259*'Lookup Tables'!$R$14","v":231.85390000000004},{"$f":"K2259*'Lookup Tables'!$R$14","v":1154.9095}]
[3724,2,"Secondhand Material Applied",0,1.506,"SIDE FRAME-100 OR 110 TON",{"$f":"G2260*'Lookup Tables'!$R$14","v":446.3768},{"$f":"H2260*'Lookup Tables'!$R$14","v":0},{"$f":"I2260*'Lookup Tables'!$R$14","v":0},{"$f":"J2260*'Lookup Tables'!$R$14","v":231.85390000000004},{"$f":"K2260*'Lookup Tables'!$R$14","v":678.23070000000007}]
[3724,3,"Reconditioned or Recertified Material Applied",0,1.506,"SIDE FRAME-100 OR 110 TON",{"$f":"G2261*'Lookup Tables'!$R$14","v":674.48109999999997},{"$f":"H2261*'Lookup Tables'!$R$14","v":0},{"$f":"I2261*'Lookup Tables'!$R$14","v":0},{"$f":"J2261*'Lookup Tables'!$R$14","v":231.85390000000004},{"$f":"K2261*'Lookup Tables'!$R$14","v":906.33500000000004}]
[3724,"T","Component transfer",0,0,"SIDE FRAME-100 OR 110 TON",{"$f":"G2262*'Lookup Tables'!$R$14","v":0},{"$f":"H2262*'Lookup Tables'!$R$14","v":0},{"$f":"I2262*'Lookup Tables'!$R$14","v":0},{"$f":"J2262*'Lookup Tables'!$R$14","v":0},{"$f":"K2262*'Lookup Tables'!$R$14","v":0}]
[3728,1,"New Material Applied",0,1.506,"SIDE FRAME-125 TON",{"$f":"G2263*'Lookup Tables'!$R$14","v":1134.9298000000001},{"$f":"H2263*'Lookup Tables'!$R$14","v":127.69350000000001},{"$f":"I2263*'Lookup Tables'!$R$14","v":0},{"$f":"J2263*'Lookup Tables'!$R$14","v":231.85390000000004},{"$f":"K2263*'Lookup Tables'!$R$14","v":1366.7837000000002}]
[3728,2,"Secondhand Material Applied",0,1.506,"SIDE FRAME-125 TON",{"$f":"G2264*'Lookup Tables'!$R$14","v":472.42780000000005},{"$f":"H2264*'Lookup Tables'!$R$14","v":0},{"$f":"I2264*'Lookup Tables'!$R$14","v":0},{"$f":"J2264*'Lookup Tables'!$R$14","v":231.85390000000004},{"$f":"K2264*'Lookup Tables'!$R$14","v":704.2817}]
[3728,3,"Reconditioned or Recertified Material Applied",0,1.506,"SIDE FRAME-125 TON",{"$f":"G2265*'Lookup Tables'!$R$14","v":713.96090000000004},{"$f":"H2265*'Lookup Tables'!$R$14","v":0},{"$f":"I2265*'Lookup Tables'!$R$14","v":0},{"$f":"J2265*'Lookup Tables'!$R$14","v":231.85390000000004},{"$f":"K2265*'Lookup Tables'!$R$14","v":945.8148000000001}]
[3728,"T","Component transfer",0,0,"SIDE FRAME-125 TON",{"$f":"G2266*'Lookup Tables'!$R$14","v":0},{"$f":"H2266*'Lookup Tables'!$R$14","v":0},{"$f":"I2266*'Lookup Tables'!$R$14","v":0},{"$f":"J2266*'Lookup Tables'!$R$14","v":0},{"$f":"K2266*'Lookup Tables'!$R$14","v":0}]
[3760,1,"New Material Applied",0,0.46600000000000003,"TRANSOM-MOUNTED INSIDE SIDE FRAME UNDER SPRINGS",{"$f":"G2267*'Lookup Tables'!$R$14","v":1064.1343000000002},{"$f":"H2267*'Lookup Tables'!$R$14","v":29.255600000000001},{"$f":"I2267*'Lookup Tables'!$R$14","v":0},{"$f":"J2267*'Lookup Tables'!$R$14","v":71.743799999999993},{"$f":"K2267*'Lookup Tables'!$R$14","v":1135.8780999999999}]
[3760,2,"Secondhand Material Applied",0,0.46600000000000003,"TRANSOM-MOUNTED INSIDE SIDE FRAME UNDER SPRINGS",{"$f":"G2268*'Lookup Tables'!$R$14","v":535.25540000000001},{"$f":"H2268*'Lookup Tables'!$R$14","v":29.255600000000001},{"$f":"I2268*'Lookup Tables'!$R$14","v":0},{"$f":"J2268*'Lookup Tables'!$R$14","v":71.743799999999993},{"$f":"K2268*'Lookup Tables'!$R$14","v":606.99920000000009}]
[3760,9,"Remove and replace same part",0,0.25600000000000001,"TRANSOM-MOUNTED INSIDE SIDE FRAME UNDER SPRINGS",{"$f":"G2269*'Lookup Tables'!$R$14","v":3.1828000000000003},{"$f":"H2269*'Lookup Tables'!$R$14","v":0},{"$f":"I2269*'Lookup Tables'!$R$14","v":0},{"$f":"J2269*'Lookup Tables'!$R$14","v":39.414400000000001},{"$f":"K2269*'Lookup Tables'!$R$14","v":42.597200000000001}]
[3762,1,"New Material Applied",0,0.45400000000000001,"TRANSOM-MOUNTED UNDER SIDEFRAMES",{"$f":"G2270*'Lookup Tables'!$R$14","v":1173.712},{"$f":"H2270*'Lookup Tables'!$R$14","v":22.780999999999999},{"$f":"I2270*'Lookup Tables'!$R$14","v":0},{"$f":"J2270*'Lookup Tables'!$R$14","v":69.890800000000013},{"$f":"K2270*'Lookup Tables'!$R$14","v":1243.6028000000001}]
[3762,2,"Secondhand Material Applied",0,0.45400000000000001,"TRANSOM-MOUNTED UNDER SIDEFRAMES",{"$f":"G2271*'Lookup Tables'!$R$14","v":588.44740000000002},{"$f":"H2271*'Lookup Tables'!$R$14","v":22.780999999999999},{"$f":"I2271*'Lookup Tables'!$R$14","v":0},{"$f":"J2271*'Lookup Tables'!$R$14","v":69.890800000000013},{"$f":"K2271*'Lookup Tables'!$R$14","v":658.33820000000003}]
[3762,9,"Remove and replace same part",0,0.24399999999999999,"TRANSOM-MOUNTED UNDER SIDEFRAMES",{"$f":"G2272*'Lookup Tables'!$R$14","v":3.1828000000000003},{"$f":"H2272*'Lookup Tables'!$R$14","v":0},{"$f":"I2272*'Lookup Tables'!$R$14","v":0},{"$f":"J2272*'Lookup Tables'!$R$14","v":37.561400000000006},{"$f":"K2272*'Lookup Tables'!$R$14","v":40.744200000000006}]
[3772,1,"New Material Applied",7.8E-2,0.187,"TRK SD FR/BLSTR FRCT CAST WEAR PLT-RD CNTRL OR XCR",{"$f":"G2273*'Lookup Tables'!$R$14","v":22.846400000000003},{"$f":"H2273*'Lookup Tables'!$R$14","v":0},{"$f":"I2273*'Lookup Tables'!$R$14","v":12.011800000000001},{"$f":"J2273*'Lookup Tables'!$R$14","v":28.786900000000003},{"$f":"K2273*'Lookup Tables'!$R$14","v":51.633300000000006}]
[3774,1,"New Material Applied",7.8E-2,0.187,"TRK SD FR/BLSTR FRCT CAST WEAR PLT-BARBER/SWNG MTN",{"$f":"G2274*'Lookup Tables'!$R$14","v":22.846400000000003},{"$f":"H2274*'Lookup Tables'!$R$14","v":0},{"$f":"I2274*'Lookup Tables'!$R$14","v":12.011800000000001},{"$f":"J2274*'Lookup Tables'!$R$14","v":28.786900000000003},{"$f":"K2274*'Lookup Tables'!$R$14","v":51.633300000000006}]
[3778,1,"New Material Applied",0,0.247,"PEDESTAL ROOF LINER, CLIP ON TYPE",{"$f":"G2275*'Lookup Tables'!$R$14","v":3.5316000000000005},{"$f":"H2275*'Lookup Tables'!$R$14","v":0.23980000000000001},{"$f":"I2275*'Lookup Tables'!$R$14","v":0},{"$f":"J2275*'Lookup Tables'!$R$14","v":38.030100000000004},{"$f":"K2275*'Lookup Tables'!$R$14","v":41.561700000000009}]
[3904,1,"New Material Applied",0.105,0,"TRUCK SPRING, OUTER COIL, D3",{"$f":"G2276*'Lookup Tables'!$R$14","v":13.853900000000001},{"$f":"H2276*'Lookup Tables'!$R$14","v":2.5179},{"$f":"I2276*'Lookup Tables'!$R$14","v":16.1647},{"$f":"J2276*'Lookup Tables'!$R$14","v":0},{"$f":"K2276*'Lookup Tables'!$R$14","v":13.853900000000001}]
[3904,2,"Secondhand Material Applied",0.105,0,"TRUCK SPRING, OUTER COIL, D3",{"$f":"G2277*'Lookup Tables'!$R$14","v":7.0087000000000002},{"$f":"H2277*'Lookup Tables'!$R$14","v":2.5179},{"$f":"I2277*'Lookup Tables'!$R$14","v":16.1647},{"$f":"J2277*'Lookup Tables'!$R$14","v":0},{"$f":"K2277*'Lookup Tables'!$R$14","v":7.0087000000000002}]
[3904,3,"Reconditioned or Recertified Material Applied",0.105,0,"TRUCK SPRING, OUTER COIL, D3",{"$f":"G2278*'Lookup Tables'!$R$14","v":9.0579000000000018},{"$f":"H2278*'Lookup Tables'!$R$14","v":2.5179},{"$f":"I2278*'Lookup Tables'!$R$14","v":16.1647},{"$f":"J2278*'Lookup Tables'!$R$14","v":0},{"$f":"K2278*'Lookup Tables'!$R$14","v":9.0579000000000018}]
[3908,1,"New Material Applied",0.105,0,"TRUCK SPRING, OUTER COIL, D4",{"$f":"G2279*'Lookup Tables'!$R$14","v":13.7994},{"$f":"H2279*'Lookup Tables'!$R$14","v":2.3980000000000006},{"$f":"I2279*'Lookup Tables'!$R$14","v":16.1647},{"$f":"J2279*'Lookup Tables'!$R$14","v":0},{"$f":"K2279*'Lookup Tables'!$R$14","v":13.7994}]
[3908,2,"Secondhand Material Applied",0.105,0,"TRUCK SPRING, OUTER COIL, D4",{"$f":"G2280*'Lookup Tables'!$R$14","v":6.9869000000000003},{"$f":"H2280*'Lookup Tables'!$R$14","v":2.3980000000000006},{"$f":"I2280*'Lookup Tables'!$R$14","v":16.1647},{"$f":"J2280*'Lookup Tables'!$R$14","v":0},{"$f":"K2280*'Lookup Tables'!$R$14","v":6.9869000000000003}]
[3908,3,"Reconditioned or Recertified Material Applied",0.105,0,"TRUCK SPRING, OUTER COIL, D4",{"$f":"G2281*'Lookup Tables'!$R$14","v":9.0251999999999999},{"$f":"H2281*'Lookup Tables'!$R$14","v":2.3980000000000006},{"$f":"I2281*'Lookup Tables'!$R$14","v":16.1647},{"$f":"J2281*'Lookup Tables'!$R$14","v":0},{"$f":"K2281*'Lookup Tables'!$R$14","v":9.0251999999999999}]
[3912,1,"New Material Applied",0.105,0,"TRUCK SPRING, OUTER COIL, D5",{"$f":"G2282*'Lookup Tables'!$R$14","v":16.1538},{"$f":"H2282*'Lookup Tables'!$R$14","v":2.3980000000000006},{"$f":"I2282*'Lookup Tables'!$R$14","v":16.1647},{"$f":"J2282*'Lookup Tables'!$R$14","v":0},{"$f":"K2282*'Lookup Tables'!$R$14","v":16.1538}]
[3912,2,"Secondhand Material Applied",0.105,0,"TRUCK SPRING, OUTER COIL, D5",{"$f":"G2283*'Lookup Tables'!$R$14","v":8.1641000000000012},{"$f":"H2283*'Lookup Tables'!$R$14","v":2.3980000000000006},{"$f":"I2283*'Lookup Tables'!$R$14","v":16.1647},{"$f":"J2283*'Lookup Tables'!$R$14","v":0},{"$f":"K2283*'Lookup Tables'!$R$14","v":8.1641000000000012}]
[3912,3,"Reconditioned or Recertified Material Applied",0.105,0,"TRUCK SPRING, OUTER COIL, D5",{"$f":"G2284*'Lookup Tables'!$R$14","v":10.562100000000001},{"$f":"H2284*'Lookup Tables'!$R$14","v":2.3980000000000006},{"$f":"I2284*'Lookup Tables'!$R$14","v":16.1647},{"$f":"J2284*'Lookup Tables'!$R$14","v":0},{"$f":"K2284*'Lookup Tables'!$R$14","v":10.562100000000001}]
[3914,1,"New Material Applied",0.105,0,"TRUCK SPRING,OUTER COIL, D7",{"$f":"G2285*'Lookup Tables'!$R$14","v":13.189},{"$f":"H2285*'Lookup Tables'!$R$14","v":2.5179},{"$f":"I2285*'Lookup Tables'!$R$14","v":16.1647},{"$f":"J2285*'Lookup Tables'!$R$14","v":0},{"$f":"K2285*'Lookup Tables'!$R$14","v":13.189}]
[3914,2,"Secondhand Material Applied",0.105,0,"TRUCK SPRING,OUTER COIL, D7",{"$f":"G2286*'Lookup Tables'!$R$14","v":6.6817000000000002},{"$f":"H2286*'Lookup Tables'!$R$14","v":2.5179},{"$f":"I2286*'Lookup Tables'!$R$14","v":16.1647},{"$f":"J2286*'Lookup Tables'!$R$14","v":0},{"$f":"K2286*'Lookup Tables'!$R$14","v":6.6817000000000002}]
[3914,3,"Reconditioned or Recertified Material Applied",0.105,0,"TRUCK SPRING,OUTER COIL, D7",{"$f":"G2287*'Lookup Tables'!$R$14","v":8.6328000000000014},{"$f":"H2287*'Lookup Tables'!$R$14","v":2.5179},{"$f":"I2287*'Lookup Tables'!$R$14","v":16.1647},{"$f":"J2287*'Lookup Tables'!$R$14","v":0},{"$f":"K2287*'Lookup Tables'!$R$14","v":8.6328000000000014}]
[3920,1,"New Material Applied",0.105,0,"TRUCK SPRING, INNER COIL, D3",{"$f":"G2288*'Lookup Tables'!$R$14","v":6.1912000000000003},{"$f":"H2288*'Lookup Tables'!$R$14","v":0.95920000000000005},{"$f":"I2288*'Lookup Tables'!$R$14","v":16.1647},{"$f":"J2288*'Lookup Tables'!$R$14","v":0},{"$f":"K2288*'Lookup Tables'!$R$14","v":6.1912000000000003}]
[3920,2,"Secondhand Material Applied",0.105,0,"TRUCK SPRING, INNER COIL, D3",{"$f":"G2289*'Lookup Tables'!$R$14","v":3.1828000000000003},{"$f":"H2289*'Lookup Tables'!$R$14","v":0.95920000000000005},{"$f":"I2289*'Lookup Tables'!$R$14","v":16.1647},{"$f":"J2289*'Lookup Tables'!$R$14","v":0},{"$f":"K2289*'Lookup Tables'!$R$14","v":3.1828000000000003}]
[3920,3,"Reconditioned or Recertified Material Applied",0.105,0,"TRUCK SPRING, INNER COIL, D3",{"$f":"G2290*'Lookup Tables'!$R$14","v":4.0766000000000009},{"$f":"H2290*'Lookup Tables'!$R$14","v":0.95920000000000005},{"$f":"I2290*'Lookup Tables'!$R$14","v":16.1647},{"$f":"J2290*'Lookup Tables'!$R$14","v":0},{"$f":"K2290*'Lookup Tables'!$R$14","v":4.0766000000000009}]
[3924,1,"New Material Applied",0.105,0,"TRUCK SPRING, INNER COIL, D4",{"$f":"G2291*'Lookup Tables'!$R$14","v":6.2784000000000004},{"$f":"H2291*'Lookup Tables'!$R$14","v":0.95920000000000005},{"$f":"I2291*'Lookup Tables'!$R$14","v":16.1647},{"$f":"J2291*'Lookup Tables'!$R$14","v":0},{"$f":"K2291*'Lookup Tables'!$R$14","v":6.2784000000000004}]
[3924,2,"Secondhand Material Applied",0.105,0,"TRUCK SPRING, INNER COIL, D4",{"$f":"G2292*'Lookup Tables'!$R$14","v":3.2264000000000004},{"$f":"H2292*'Lookup Tables'!$R$14","v":0.95920000000000005},{"$f":"I2292*'Lookup Tables'!$R$14","v":16.1647},{"$f":"J2292*'Lookup Tables'!$R$14","v":0},{"$f":"K2292*'Lookup Tables'!$R$14","v":3.2264000000000004}]
[3924,3,"Reconditioned or Recertified Material Applied",0.105,0,"TRUCK SPRING, INNER COIL, D4",{"$f":"G2293*'Lookup Tables'!$R$14","v":4.1420000000000003},{"$f":"H2293*'Lookup Tables'!$R$14","v":0.95920000000000005},{"$f":"I2293*'Lookup Tables'!$R$14","v":16.1647},{"$f":"J2293*'Lookup Tables'!$R$14","v":0},{"$f":"K2293*'Lookup Tables'!$R$14","v":4.1420000000000003}]
[3928,1,"New Material Applied",0.105,0,"TRUCK SPRING, INNER COIL, D5",{"$f":"G2294*'Lookup Tables'!$R$14","v":7.2267000000000001},{"$f":"H2294*'Lookup Tables'!$R$14","v":0.95920000000000005},{"$f":"I2294*'Lookup Tables'!$R$14","v":16.1647},{"$f":"J2294*'Lookup Tables'!$R$14","v":0},{"$f":"K2294*'Lookup Tables'!$R$14","v":7.2267000000000001}]
[3928,2,"Secondhand Material Applied",0.105,0,"TRUCK SPRING, INNER COIL, D5",{"$f":"G2295*'Lookup Tables'!$R$14","v":3.6951000000000005},{"$f":"H2295*'Lookup Tables'!$R$14","v":0.95920000000000005},{"$f":"I2295*'Lookup Tables'!$R$14","v":16.1647},{"$f":"J2295*'Lookup Tables'!$R$14","v":0},{"$f":"K2295*'Lookup Tables'!$R$14","v":3.6951000000000005}]
[3928,3,"Reconditioned or Recertified Material Applied",0.105,0,"TRUCK SPRING, INNER COIL, D5",{"$f":"G2296*'Lookup Tables'!$R$14","v":4.7524000000000006},{"$f":"H2296*'Lookup Tables'!$R$14","v":0.95920000000000005},{"$f":"I2296*'Lookup Tables'!$R$14","v":16.1647},{"$f":"J2296*'Lookup Tables'!$R$14","v":0},{"$f":"K2296*'Lookup Tables'!$R$14","v":4.7524000000000006}]
[3932,1,"New Material Applied",0.105,0,"TRUCK SPRING, INNER COIL, D6",{"$f":"G2297*'Lookup Tables'!$R$14","v":6.2566000000000006},{"$f":"H2297*'Lookup Tables'!$R$14","v":0.95920000000000005},{"$f":"I2297*'Lookup Tables'!$R$14","v":16.1647},{"$f":"J2297*'Lookup Tables'!$R$14","v":0},{"$f":"K2297*'Lookup Tables'!$R$14","v":6.2566000000000006}]
[3932,2,"Secondhand Material Applied",0.105,0,"TRUCK SPRING, INNER COIL, D6",{"$f":"G2298*'Lookup Tables'!$R$14","v":3.2155000000000005},{"$f":"H2298*'Lookup Tables'!$R$14","v":0.95920000000000005},{"$f":"I2298*'Lookup Tables'!$R$14","v":16.1647},{"$f":"J2298*'Lookup Tables'!$R$14","v":0},{"$f":"K2298*'Lookup Tables'!$R$14","v":3.2155000000000005}]
[3932,3,"Reconditioned or Recertified Material Applied",0.105,0,"TRUCK SPRING, INNER COIL, D6",{"$f":"G2299*'Lookup Tables'!$R$14","v":4.1202000000000005},{"$f":"H2299*'Lookup Tables'!$R$14","v":0.95920000000000005},{"$f":"I2299*'Lookup Tables'!$R$14","v":16.1647},{"$f":"J2299*'Lookup Tables'!$R$14","v":0},{"$f":"K2299*'Lookup Tables'!$R$14","v":4.1202000000000005}]
[3933,1,"New Material Applied",0.105,0,"TRUCK SPRING, INNER COIL, D6A",{"$f":"G2300*'Lookup Tables'!$R$14","v":4.2183000000000002},{"$f":"H2300*'Lookup Tables'!$R$14","v":0.95920000000000005},{"$f":"I2300*'Lookup Tables'!$R$14","v":16.1647},{"$f":"J2300*'Lookup Tables'!$R$14","v":0},{"$f":"K2300*'Lookup Tables'!$R$14","v":4.2183000000000002}]
[3933,2,"Secondhand Material Applied",0.105,0,"TRUCK SPRING, INNER COIL, D6A",{"$f":"G2301*'Lookup Tables'!$R$14","v":2.1909000000000001},{"$f":"H2301*'Lookup Tables'!$R$14","v":0.95920000000000005},{"$f":"I2301*'Lookup Tables'!$R$14","v":16.1647},{"$f":"J2301*'Lookup Tables'!$R$14","v":0},{"$f":"K2301*'Lookup Tables'!$R$14","v":2.1909000000000001}]
[3933,3,"Reconditioned or Recertified Material Applied",0.105,0,"TRUCK SPRING, INNER COIL, D6A",{"$f":"G2302*'Lookup Tables'!$R$14","v":2.8012999999999999},{"$f":"H2302*'Lookup Tables'!$R$14","v":0.95920000000000005},{"$f":"I2302*'Lookup Tables'!$R$14","v":16.1647},{"$f":"J2302*'Lookup Tables'!$R$14","v":0},{"$f":"K2302*'Lookup Tables'!$R$14","v":2.8012999999999999}]
[3934,1,"New Material Applied",0.105,0,"TRUCK SPRING, INNER COIL, D7",{"$f":"G2303*'Lookup Tables'!$R$14","v":6.3547000000000002},{"$f":"H2303*'Lookup Tables'!$R$14","v":0.95920000000000005},{"$f":"I2303*'Lookup Tables'!$R$14","v":16.1647},{"$f":"J2303*'Lookup Tables'!$R$14","v":0},{"$f":"K2303*'Lookup Tables'!$R$14","v":6.3547000000000002}]
[3934,2,"Secondhand Material Applied",0.105,0,"TRUCK SPRING, INNER COIL, D7",{"$f":"G2304*'Lookup Tables'!$R$14","v":3.2591000000000006},{"$f":"H2304*'Lookup Tables'!$R$14","v":0.95920000000000005},{"$f":"I2304*'Lookup Tables'!$R$14","v":16.1647},{"$f":"J2304*'Lookup Tables'!$R$14","v":0},{"$f":"K2304*'Lookup Tables'!$R$14","v":3.2591000000000006}]
[3934,3,"Reconditioned or Recertified Material Applied",0.105,0,"TRUCK SPRING, INNER COIL, D7",{"$f":"G2305*'Lookup Tables'!$R$14","v":4.1856},{"$f":"H2305*'Lookup Tables'!$R$14","v":0.95920000000000005},{"$f":"I2305*'Lookup Tables'!$R$14","v":16.1647},{"$f":"J2305*'Lookup Tables'!$R$14","v":0},{"$f":"K2305*'Lookup Tables'!$R$14","v":4.1856}]
[3940,1,"New Material Applied",7.8E-2,0,"TRK STABILIZING SPRING-BARBER OR SWING MOTION TRK",{"$f":"G2306*'Lookup Tables'!$R$14","v":8.7417999999999996},{"$f":"H2306*'Lookup Tables'!$R$14","v":0.35970000000000002},{"$f":"I2306*'Lookup Tables'!$R$14","v":12.011800000000001},{"$f":"J2306*'Lookup Tables'!$R$14","v":0},{"$f":"K2306*'Lookup Tables'!$R$14","v":8.7417999999999996}]
[3940,2,"Secondhand Material Applied",7.8E-2,0,"TRK STABILIZING SPRING-BARBER OR SWING MOTION TRK",{"$f":"G2307*'Lookup Tables'!$R$14","v":4.4581},{"$f":"H2307*'Lookup Tables'!$R$14","v":0.35970000000000002},{"$f":"I2307*'Lookup Tables'!$R$14","v":12.011800000000001},{"$f":"J2307*'Lookup Tables'!$R$14","v":0},{"$f":"K2307*'Lookup Tables'!$R$14","v":4.4581}]
[3942,1,"New Material Applied",8.2000000000000003E-2,0.20300000000000001,"TRUCK STABILIZING SPRING - RIDE CONTROL OR XCR TRK",{"$f":"G2308*'Lookup Tables'!$R$14","v":8.7417999999999996},{"$f":"H2308*'Lookup Tables'!$R$14","v":0.35970000000000002},{"$f":"I2308*'Lookup Tables'!$R$14","v":12.622200000000001},{"$f":"J2308*'Lookup Tables'!$R$14","v":31.250300000000003},{"$f":"K2308*'Lookup Tables'!$R$14","v":39.992100000000001}]
[3942,2,"Secondhand Material Applied",8.2000000000000003E-2,0.20300000000000001,"TRUCK STABILIZING SPRING - RIDE CONTROL OR XCR TRK",{"$f":"G2309*'Lookup Tables'!$R$14","v":4.4581},{"$f":"H2309*'Lookup Tables'!$R$14","v":0.35970000000000002},{"$f":"I2309*'Lookup Tables'!$R$14","v":12.622200000000001},{"$f":"J2309*'Lookup Tables'!$R$14","v":31.250300000000003},{"$f":"K2309*'Lookup Tables'!$R$14","v":35.708400000000012}]
[3952,1,"New Material Applied",0.105,0,"TRUCK SPRING FRICTION SNUBBER",{"$f":"G2310*'Lookup Tables'!$R$14","v":236.03950000000003},{"$f":"H2310*'Lookup Tables'!$R$14","v":5.0358000000000001},{"$f":"I2310*'Lookup Tables'!$R$14","v":16.1647},{"$f":"J2310*'Lookup Tables'!$R$14","v":0},{"$f":"K2310*'Lookup Tables'!$R$14","v":236.03950000000003}]
[3952,2,"Secondhand Material Applied",0.105,0,"TRUCK SPRING FRICTION SNUBBER",{"$f":"G2311*'Lookup Tables'!$R$14","v":118.1015},{"$f":"H2311*'Lookup Tables'!$R$14","v":5.0358000000000001},{"$f":"I2311*'Lookup Tables'!$R$14","v":16.1647},{"$f":"J2311*'Lookup Tables'!$R$14","v":0},{"$f":"K2311*'Lookup Tables'!$R$14","v":118.1015}]
[3954,1,"New Material Applied",0.105,0,"TRUCK SPRING HYDRAULIC SNUBBER",{"$f":"G2312*'Lookup Tables'!$R$14","v":157.23250000000002},{"$f":"H2312*'Lookup Tables'!$R$14","v":4.1965000000000003},{"$f":"I2312*'Lookup Tables'!$R$14","v":16.1647},{"$f":"J2312*'Lookup Tables'!$R$14","v":0},{"$f":"K2312*'Lookup Tables'!$R$14","v":157.23250000000002}]
[3954,3,"Reconditioned or Recertified Material Applied",0.105,0,"TRUCK SPRING HYDRAULIC SNUBBER",{"$f":"G2313*'Lookup Tables'!$R$14","v":78.621700000000004},{"$f":"H2313*'Lookup Tables'!$R$14","v":4.1965000000000003},{"$f":"I2313*'Lookup Tables'!$R$14","v":16.1647},{"$f":"J2313*'Lookup Tables'!$R$14","v":0},{"$f":"K2313*'Lookup Tables'!$R$14","v":78.621700000000004}]
[4001,1,"New Material Applied",0.19700000000000001,4.9000000000000002E-2,"METAL RUNNING BOARD, GRATE TYPE 20 IN WIDE OR LESS",{"$f":"G2314*'Lookup Tables'!$R$14","v":20.328499999999998},{"$f":"H2314*'Lookup Tables'!$R$14","v":0.95920000000000005},{"$f":"I2314*'Lookup Tables'!$R$14","v":30.323800000000002},{"$f":"J2314*'Lookup Tables'!$R$14","v":7.5428000000000006},{"$f":"K2314*'Lookup Tables'!$R$14","v":27.871300000000002}]
[4001,2,{"$f":"VLOOKUP(B964,$B$2686:$C$2701,2,FALSE)","v":"Secondhand Material Applied"},0.19700000000000001,4.9000000000000002E-2,"METAL RUNNING BOARD, GRATE TYPE 20 IN WIDE OR LESS",{"$f":"G2315*'Lookup Tables'!$R$14","v":10.562100000000001},{"$f":"H2315*'Lookup Tables'!$R$14","v":0.95920000000000005},{"$f":"I2315*'Lookup Tables'!$R$14","v":30.323800000000002},{"$f":"J2315*'Lookup Tables'!$R$14","v":7.5428000000000006},{"$f":"K2315*'Lookup Tables'!$R$14","v":18.104900000000001}]
[4001,8,"Remove, repair, and replace same part",0.19700000000000001,4.9000000000000002E-2,"METAL RUNNING BOARD, GRATE TYPE 20 IN WIDE OR LESS",{"$f":"G2316*'Lookup Tables'!$R$14","v":11.870100000000001},{"$f":"H2316*'Lookup Tables'!$R$14","v":0},{"$f":"I2316*'Lookup Tables'!$R$14","v":30.323800000000002},{"$f":"J2316*'Lookup Tables'!$R$14","v":7.5428000000000006},{"$f":"K2316*'Lookup Tables'!$R$14","v":19.412900000000004}]
[4001,9,"Remove and replace same part",0.114,4.9000000000000002E-2,"METAL RUNNING BOARD, GRATE TYPE 20 IN WIDE OR LESS",{"$f":"G2317*'Lookup Tables'!$R$14","v":0.79570000000000007},{"$f":"H2317*'Lookup Tables'!$R$14","v":0},{"$f":"I2317*'Lookup Tables'!$R$14","v":17.549000000000003},{"$f":"J2317*'Lookup Tables'!$R$14","v":7.5428000000000006},{"$f":"K2317*'Lookup Tables'!$R$14","v":8.3385000000000016}]
[4002,1,"New Material Applied",0.19700000000000001,4.9000000000000002E-2,"METAL RUNNING BOARD, GRATE TYPE OVER 20 INCH WIDE",{"$f":"G2318*'Lookup Tables'!$R$14","v":17.2438},{"$f":"H2318*'Lookup Tables'!$R$14","v":0.95920000000000005},{"$f":"I2318*'Lookup Tables'!$R$14","v":30.323800000000002},{"$f":"J2318*'Lookup Tables'!$R$14","v":7.5428000000000006},{"$f":"K2318*'Lookup Tables'!$R$14","v":24.786600000000004}]
[4002,2,"Secondhand Material Applied",0.19700000000000001,4.9000000000000002E-2,"METAL RUNNING BOARD, GRATE TYPE OVER 20 INCH WIDE",{"$f":"G2319*'Lookup Tables'!$R$14","v":9.0251999999999999},{"$f":"H2319*'Lookup Tables'!$R$14","v":0.95920000000000005},{"$f":"I2319*'Lookup Tables'!$R$14","v":30.323800000000002},{"$f":"J2319*'Lookup Tables'!$R$14","v":7.5428000000000006},{"$f":"K2319*'Lookup Tables'!$R$14","v":16.568000000000001}]
[4002,8,"Remove, repair, and replace same part",0.19700000000000001,4.9000000000000002E-2,"METAL RUNNING BOARD, GRATE TYPE OVER 20 INCH WIDE",{"$f":"G2320*'Lookup Tables'!$R$14","v":11.870100000000001},{"$f":"H2320*'Lookup Tables'!$R$14","v":0},{"$f":"I2320*'Lookup Tables'!$R$14","v":30.323800000000002},{"$f":"J2320*'Lookup Tables'!$R$14","v":7.5428000000000006},{"$f":"K2320*'Lookup Tables'!$R$14","v":19.412900000000004}]
[4002,9,"Remove and replace same part",0.114,4.9000000000000002E-2,"METAL RUNNING BOARD, GRATE TYPE OVER 20 INCH WIDE",{"$f":"G2321*'Lookup Tables'!$R$14","v":0.79570000000000007},{"$f":"H2321*'Lookup Tables'!$R$14","v":0},{"$f":"I2321*'Lookup Tables'!$R$14","v":17.549000000000003},{"$f":"J2321*'Lookup Tables'!$R$14","v":7.5428000000000006},{"$f":"K2321*'Lookup Tables'!$R$14","v":8.3385000000000016}]
[4005,1,"New Material Applied",0.19700000000000001,4.9000000000000002E-2,"METAL RUNNING BOARD, PLATE TYPE 20 IN WIDE OR LESS",{"$f":"G2322*'Lookup Tables'!$R$14","v":14.050100000000002},{"$f":"H2322*'Lookup Tables'!$R$14","v":1.4388000000000001},{"$f":"I2322*'Lookup Tables'!$R$14","v":30.323800000000002},{"$f":"J2322*'Lookup Tables'!$R$14","v":7.5428000000000006},{"$f":"K2322*'Lookup Tables'!$R$14","v":21.592900000000004}]
[4005,2,"Secondhand Material Applied",0.19700000000000001,4.9000000000000002E-2,"METAL RUNNING BOARD, PLATE TYPE 20 IN WIDE OR LESS",{"$f":"G2323*'Lookup Tables'!$R$14","v":7.4229000000000003},{"$f":"H2323*'Lookup Tables'!$R$14","v":1.4388000000000001},{"$f":"I2323*'Lookup Tables'!$R$14","v":30.323800000000002},{"$f":"J2323*'Lookup Tables'!$R$14","v":7.5428000000000006},{"$f":"K2323*'Lookup Tables'!$R$14","v":14.965700000000002}]
[4005,8,"Remove, repair, and replace same part",0.19700000000000001,4.9000000000000002E-2,"METAL RUNNING BOARD, PLATE TYPE 20 IN WIDE OR LESS",{"$f":"G2324*'Lookup Tables'!$R$14","v":11.597600000000002},{"$f":"H2324*'Lookup Tables'!$R$14","v":0},{"$f":"I2324*'Lookup Tables'!$R$14","v":30.323800000000002},{"$f":"J2324*'Lookup Tables'!$R$14","v":7.5428000000000006},{"$f":"K2324*'Lookup Tables'!$R$14","v":19.140400000000003}]
[4005,9,"Remove and replace same part",0.114,4.9000000000000002E-2,"METAL RUNNING BOARD, PLATE TYPE 20 IN WIDE OR LESS",{"$f":"G2325*'Lookup Tables'!$R$14","v":0.79570000000000007},{"$f":"H2325*'Lookup Tables'!$R$14","v":0},{"$f":"I2325*'Lookup Tables'!$R$14","v":17.549000000000003},{"$f":"J2325*'Lookup Tables'!$R$14","v":7.5428000000000006},{"$f":"K2325*'Lookup Tables'!$R$14","v":8.3385000000000016}]
[4006,1,"New Material Applied",0.19700000000000001,4.9000000000000002E-2,"METAL RUNNING BOARD, PLATE TYPE OVER 20 INCH WIDE",{"$f":"G2326*'Lookup Tables'!$R$14","v":16.8841},{"$f":"H2326*'Lookup Tables'!$R$14","v":1.4388000000000001},{"$f":"I2326*'Lookup Tables'!$R$14","v":30.323800000000002},{"$f":"J2326*'Lookup Tables'!$R$14","v":7.5428000000000006},{"$f":"K2326*'Lookup Tables'!$R$14","v":24.426900000000003}]
[4006,2,"Secondhand Material Applied",0.19700000000000001,4.9000000000000002E-2,"METAL RUNNING BOARD, PLATE TYPE OVER 20 INCH WIDE",{"$f":"G2327*'Lookup Tables'!$R$14","v":8.8399000000000001},{"$f":"H2327*'Lookup Tables'!$R$14","v":1.4388000000000001},{"$f":"I2327*'Lookup Tables'!$R$14","v":30.323800000000002},{"$f":"J2327*'Lookup Tables'!$R$14","v":7.5428000000000006},{"$f":"K2327*'Lookup Tables'!$R$14","v":16.3827}]
[4006,8,"Remove, repair, and replace same part",0.19700000000000001,4.9000000000000002E-2,"METAL RUNNING BOARD, PLATE TYPE OVER 20 INCH WIDE",{"$f":"G2328*'Lookup Tables'!$R$14","v":14.420700000000002},{"$f":"H2328*'Lookup Tables'!$R$14","v":0},{"$f":"I2328*'Lookup Tables'!$R$14","v":30.323800000000002},{"$f":"J2328*'Lookup Tables'!$R$14","v":7.5428000000000006},{"$f":"K2328*'Lookup Tables'!$R$14","v":21.9635}]
[4006,9,"Remove and replace same part",0.114,4.9000000000000002E-2,"METAL RUNNING BOARD, PLATE TYPE OVER 20 INCH WIDE",{"$f":"G2329*'Lookup Tables'!$R$14","v":0.79570000000000007},{"$f":"H2329*'Lookup Tables'!$R$14","v":0},{"$f":"I2329*'Lookup Tables'!$R$14","v":17.549000000000003},{"$f":"J2329*'Lookup Tables'!$R$14","v":7.5428000000000006},{"$f":"K2329*'Lookup Tables'!$R$14","v":8.3385000000000016}]
[4008,1,"New Material Applied",0,0.95599999999999996,"METAL RUNNING BOARD, END",{"$f":"G2330*'Lookup Tables'!$R$14","v":191.30590000000001},{"$f":"H2330*'Lookup Tables'!$R$14","v":11.150700000000001},{"$f":"I2330*'Lookup Tables'!$R$14","v":0},{"$f":"J2330*'Lookup Tables'!$R$14","v":147.18270000000001},{"$f":"K2330*'Lookup Tables'!$R$14","v":338.48859999999996}]
[4008,2,"Secondhand Material Applied",0,0.95599999999999996,"METAL RUNNING BOARD, END",{"$f":"G2331*'Lookup Tables'!$R$14","v":111.85580000000002},{"$f":"H2331*'Lookup Tables'!$R$14","v":11.150700000000001},{"$f":"I2331*'Lookup Tables'!$R$14","v":0},{"$f":"J2331*'Lookup Tables'!$R$14","v":147.18270000000001},{"$f":"K2331*'Lookup Tables'!$R$14","v":259.0385}]
[4008,8,"Remove, repair, and replace same part",0,1.837,"METAL RUNNING BOARD, END",{"$f":"G2332*'Lookup Tables'!$R$14","v":38.836700000000008},{"$f":"H2332*'Lookup Tables'!$R$14","v":0},{"$f":"I2332*'Lookup Tables'!$R$14","v":0},{"$f":"J2332*'Lookup Tables'!$R$14","v":282.81139999999999},{"$f":"K2332*'Lookup Tables'!$R$14","v":321.6481}]
[4008,9,"Remove and replace same part",0,0.79,"METAL RUNNING BOARD, END",{"$f":"G2333*'Lookup Tables'!$R$14","v":9.5484000000000009},{"$f":"H2333*'Lookup Tables'!$R$14","v":0},{"$f":"I2333*'Lookup Tables'!$R$14","v":0},{"$f":"J2333*'Lookup Tables'!$R$14","v":121.62220000000001},{"$f":"K2333*'Lookup Tables'!$R$14","v":131.17060000000001}]
[4012,1,"New Material Applied",0,0.214,"METAL RUNNING BOARD, SIDE",{"$f":"G2334*'Lookup Tables'!$R$14","v":30.639900000000001},{"$f":"H2334*'Lookup Tables'!$R$14","v":1.3189},{"$f":"I2334*'Lookup Tables'!$R$14","v":0},{"$f":"J2334*'Lookup Tables'!$R$14","v":32.950700000000005},{"$f":"K2334*'Lookup Tables'!$R$14","v":63.590600000000009}]
[4012,2,"Secondhand Material Applied",0,0.214,"METAL RUNNING BOARD, SIDE",{"$f":"G2335*'Lookup Tables'!$R$14","v":15.924900000000001},{"$f":"H2335*'Lookup Tables'!$R$14","v":1.3189},{"$f":"I2335*'Lookup Tables'!$R$14","v":0},{"$f":"J2335*'Lookup Tables'!$R$14","v":32.950700000000005},{"$f":"K2335*'Lookup Tables'!$R$14","v":48.875600000000006}]
[4012,8,"Remove, repair, and replace same part",0,0.214,"METAL RUNNING BOARD, SIDE",{"$f":"G2336*'Lookup Tables'!$R$14","v":16.426300000000001},{"$f":"H2336*'Lookup Tables'!$R$14","v":0},{"$f":"I2336*'Lookup Tables'!$R$14","v":0},{"$f":"J2336*'Lookup Tables'!$R$14","v":32.950700000000005},{"$f":"K2336*'Lookup Tables'!$R$14","v":49.377000000000002}]
[4012,9,"Remove and replace same part",0,0.214,"METAL RUNNING BOARD, SIDE",{"$f":"G2337*'Lookup Tables'!$R$14","v":1.1990000000000003},{"$f":"H2337*'Lookup Tables'!$R$14","v":0},{"$f":"I2337*'Lookup Tables'!$R$14","v":0},{"$f":"J2337*'Lookup Tables'!$R$14","v":32.950700000000005},{"$f":"K2337*'Lookup Tables'!$R$14","v":34.149700000000003}]
[4017,1,"New Material Applied",0,0.42299999999999999,"METAL END CROSSOVER BOARD, 72 INCHES OR LESS",{"$f":"G2338*'Lookup Tables'!$R$14","v":34.607500000000002},{"$f":"H2338*'Lookup Tables'!$R$14","v":2.2780999999999998},{"$f":"I2338*'Lookup Tables'!$R$14","v":0},{"$f":"J2338*'Lookup Tables'!$R$14","v":65.116600000000005},{"$f":"K2338*'Lookup Tables'!$R$14","v":99.724100000000021}]
[4017,2,"Secondhand Material Applied",0,0.42299999999999999,"METAL END CROSSOVER BOARD, 72 INCHES OR LESS",{"$f":"G2339*'Lookup Tables'!$R$14","v":20.492000000000001},{"$f":"H2339*'Lookup Tables'!$R$14","v":2.2780999999999998},{"$f":"I2339*'Lookup Tables'!$R$14","v":0},{"$f":"J2339*'Lookup Tables'!$R$14","v":65.116600000000005},{"$f":"K2339*'Lookup Tables'!$R$14","v":85.60860000000001}]
[4017,8,"Remove, repair, and replace same part",0,0.42299999999999999,"METAL END CROSSOVER BOARD, 72 INCHES OR LESS",{"$f":"G2340*'Lookup Tables'!$R$14","v":31.882500000000004},{"$f":"H2340*'Lookup Tables'!$R$14","v":0},{"$f":"I2340*'Lookup Tables'!$R$14","v":0},{"$f":"J2340*'Lookup Tables'!$R$14","v":65.116600000000005},{"$f":"K2340*'Lookup Tables'!$R$14","v":96.999100000000013}]
[4017,9,"Remove and replace same part",0,0.31900000000000001,"METAL END CROSSOVER BOARD, 72 INCHES OR LESS",{"$f":"G2341*'Lookup Tables'!$R$14","v":6.3656000000000006},{"$f":"H2341*'Lookup Tables'!$R$14","v":0},{"$f":"I2341*'Lookup Tables'!$R$14","v":0},{"$f":"J2341*'Lookup Tables'!$R$14","v":49.115400000000008},{"$f":"K2341*'Lookup Tables'!$R$14","v":55.481000000000009}]
[4018,1,"New Material Applied",0.13500000000000001,0.58099999999999996,"METAL END CROSSOVER BOARD, OVER 72 INCHES",{"$f":"G2342*'Lookup Tables'!$R$14","v":61.890200000000007},{"$f":"H2342*'Lookup Tables'!$R$14","v":4.7960000000000012},{"$f":"I2342*'Lookup Tables'!$R$14","v":20.786300000000001},{"$f":"J2342*'Lookup Tables'!$R$14","v":89.445400000000006},{"$f":"K2342*'Lookup Tables'!$R$14","v":151.33560000000003}]
[4018,2,"Secondhand Material Applied",0.13500000000000001,0.58099999999999996,"METAL END CROSSOVER BOARD, OVER 72 INCHES",{"$f":"G2343*'Lookup Tables'!$R$14","v":34.127900000000004},{"$f":"H2343*'Lookup Tables'!$R$14","v":4.7960000000000012},{"$f":"I2343*'Lookup Tables'!$R$14","v":20.786300000000001},{"$f":"J2343*'Lookup Tables'!$R$14","v":89.445400000000006},{"$f":"K2343*'Lookup Tables'!$R$14","v":123.57330000000002}]
[4018,8,"Remove, repair, and replace same part",0.13500000000000001,0.58099999999999996,"METAL END CROSSOVER BOARD, OVER 72 INCHES",{"$f":"G2344*'Lookup Tables'!$R$14","v":53.43180000000001},{"$f":"H2344*'Lookup Tables'!$R$14","v":0},{"$f":"I2344*'Lookup Tables'!$R$14","v":20.786300000000001},{"$f":"J2344*'Lookup Tables'!$R$14","v":89.445400000000006},{"$f":"K2344*'Lookup Tables'!$R$14","v":142.87720000000002}]
[4018,9,"Remove and replace same part",0,0.46200000000000002,"METAL END CROSSOVER BOARD, OVER 72 INCHES",{"$f":"G2345*'Lookup Tables'!$R$14","v":6.3656000000000006},{"$f":"H2345*'Lookup Tables'!$R$14","v":0},{"$f":"I2345*'Lookup Tables'!$R$14","v":0},{"$f":"J2345*'Lookup Tables'!$R$14","v":71.122500000000002},{"$f":"K2345*'Lookup Tables'!$R$14","v":77.488100000000003}]
[4020,1,"New Material Applied",0,0.47199999999999998,"METAL BRAKE STEP",{"$f":"G2346*'Lookup Tables'!$R$14","v":24.6449},{"$f":"H2346*'Lookup Tables'!$R$14","v":1.4388000000000001},{"$f":"I2346*'Lookup Tables'!$R$14","v":0},{"$f":"J2346*'Lookup Tables'!$R$14","v":72.670300000000012},{"$f":"K2346*'Lookup Tables'!$R$14","v":97.315200000000004}]
[4020,2,"Secondhand Material Applied",0,0.47199999999999998,"METAL BRAKE STEP",{"$f":"G2347*'Lookup Tables'!$R$14","v":13.9193},{"$f":"H2347*'Lookup Tables'!$R$14","v":1.4388000000000001},{"$f":"I2347*'Lookup Tables'!$R$14","v":0},{"$f":"J2347*'Lookup Tables'!$R$14","v":72.670300000000012},{"$f":"K2347*'Lookup Tables'!$R$14","v":86.589600000000004}]
[4020,8,"Remove, repair, and replace same part",0,0.47199999999999998,"METAL BRAKE STEP",{"$f":"G2348*'Lookup Tables'!$R$14","v":19.794400000000003},{"$f":"H2348*'Lookup Tables'!$R$14","v":0},{"$f":"I2348*'Lookup Tables'!$R$14","v":0},{"$f":"J2348*'Lookup Tables'!$R$14","v":72.670300000000012},{"$f":"K2348*'Lookup Tables'!$R$14","v":92.464700000000008}]
[4020,9,"Remove and replace same part",0,0.47199999999999998,"METAL BRAKE STEP",{"$f":"G2349*'Lookup Tables'!$R$14","v":3.1828000000000003},{"$f":"H2349*'Lookup Tables'!$R$14","v":0},{"$f":"I2349*'Lookup Tables'!$R$14","v":0},{"$f":"J2349*'Lookup Tables'!$R$14","v":72.670300000000012},{"$f":"K2349*'Lookup Tables'!$R$14","v":75.853100000000012}]
[4024,1,"New Material Applied",0.19700000000000001,4.9000000000000002E-2,"FBRGLASS RUN BRD, GRATE  OVER 12 UP TO 24 IN WIDE",{"$f":"G2350*'Lookup Tables'!$R$14","v":34.182400000000001},{"$f":"H2350*'Lookup Tables'!$R$14","v":0},{"$f":"I2350*'Lookup Tables'!$R$14","v":30.323800000000002},{"$f":"J2350*'Lookup Tables'!$R$14","v":7.5428000000000006},{"$f":"K2350*'Lookup Tables'!$R$14","v":41.725200000000001}]
[4024,2,"Secondhand Material Applied",0.19700000000000001,4.9000000000000002E-2,"FBRGLASS RUN BRD, GRATE  OVER 12 UP TO 24 IN WIDE",{"$f":"G2351*'Lookup Tables'!$R$14","v":17.494500000000002},{"$f":"H2351*'Lookup Tables'!$R$14","v":0},{"$f":"I2351*'Lookup Tables'!$R$14","v":30.323800000000002},{"$f":"J2351*'Lookup Tables'!$R$14","v":7.5428000000000006},{"$f":"K2351*'Lookup Tables'!$R$14","v":25.037300000000002}]
[4024,9,"Remove and replace same part",0.114,4.9000000000000002E-2,"FBRGLASS RUN BRD, GRATE  OVER 12 UP TO 24 IN WIDE",{"$f":"G2352*'Lookup Tables'!$R$14","v":0.79570000000000007},{"$f":"H2352*'Lookup Tables'!$R$14","v":0},{"$f":"I2352*'Lookup Tables'!$R$14","v":17.549000000000003},{"$f":"J2352*'Lookup Tables'!$R$14","v":7.5428000000000006},{"$f":"K2352*'Lookup Tables'!$R$14","v":8.3385000000000016}]
[4026,1,"New Material Applied",0.19700000000000001,4.9000000000000002E-2,"FIBERGLASS RUN BRD, GRATE TYPE OVER 24 INCHES WIDE",{"$f":"G2353*'Lookup Tables'!$R$14","v":50.848500000000001},{"$f":"H2353*'Lookup Tables'!$R$14","v":0},{"$f":"I2353*'Lookup Tables'!$R$14","v":30.323800000000002},{"$f":"J2353*'Lookup Tables'!$R$14","v":7.5428000000000006},{"$f":"K2353*'Lookup Tables'!$R$14","v":58.391300000000001}]
[4026,2,"Secondhand Material Applied",0.19700000000000001,4.9000000000000002E-2,"FIBERGLASS RUN BRD, GRATE TYPE OVER 24 INCHES WIDE",{"$f":"G2354*'Lookup Tables'!$R$14","v":25.822100000000002},{"$f":"H2354*'Lookup Tables'!$R$14","v":0},{"$f":"I2354*'Lookup Tables'!$R$14","v":30.323800000000002},{"$f":"J2354*'Lookup Tables'!$R$14","v":7.5428000000000006},{"$f":"K2354*'Lookup Tables'!$R$14","v":33.364899999999999}]
[4026,9,"Remove and replace same part",0.114,4.9000000000000002E-2,"FIBERGLASS RUN BRD, GRATE TYPE OVER 24 INCHES WIDE",{"$f":"G2355*'Lookup Tables'!$R$14","v":0.79570000000000007},{"$f":"H2355*'Lookup Tables'!$R$14","v":0},{"$f":"I2355*'Lookup Tables'!$R$14","v":17.549000000000003},{"$f":"J2355*'Lookup Tables'!$R$14","v":7.5428000000000006},{"$f":"K2355*'Lookup Tables'!$R$14","v":8.3385000000000016}]
[4070,1,"New Material Applied",0,1.8819999999999999,"LABOR, EOC  CUSHIONING   UNIT",{"$f":"G2356*'Lookup Tables'!$R$14","v":26.290800000000004},{"$f":"H2356*'Lookup Tables'!$R$14","v":0},{"$f":"I2356*'Lookup Tables'!$R$14","v":0},{"$f":"J2356*'Lookup Tables'!$R$14","v":289.73290000000003},{"$f":"K2356*'Lookup Tables'!$R$14","v":316.02370000000002}]
[4070,9,"Remove and replace same part",0,1.4,"LABOR, EOC  CUSHIONING   UNIT",{"$f":"G2357*'Lookup Tables'!$R$14","v":26.290800000000004},{"$f":"H2357*'Lookup Tables'!$R$14","v":0},{"$f":"I2357*'Lookup Tables'!$R$14","v":0},{"$f":"J2357*'Lookup Tables'!$R$14","v":215.53660000000002},{"$f":"K2357*'Lookup Tables'!$R$14","v":241.82740000000004}]
[4071,1,"New Material Applied",0,5.04,"LABOR,  COC CUSHIONING UNIT",{"$f":"G2358*'Lookup Tables'!$R$14","v":49.660400000000003},{"$f":"H2358*'Lookup Tables'!$R$14","v":0},{"$f":"I2358*'Lookup Tables'!$R$14","v":0},{"$f":"J2358*'Lookup Tables'!$R$14","v":775.91650000000004},{"$f":"K2358*'Lookup Tables'!$R$14","v":825.57690000000014}]
[4071,9,"Remove and replace same part",0,4.5830000000000002,"LABOR,  COC CUSHIONING UNIT",{"$f":"G2359*'Lookup Tables'!$R$14","v":49.660400000000003},{"$f":"H2359*'Lookup Tables'!$R$14","v":0},{"$f":"I2359*'Lookup Tables'!$R$14","v":0},{"$f":"J2359*'Lookup Tables'!$R$14","v":705.55700000000002},{"$f":"K2359*'Lookup Tables'!$R$14","v":755.2174}]
[4074,1,"New Material Applied",0,0.30399999999999999,"LABOR, REPAIR EOCC RESTORING MECHANISM ON CAR",{"$f":"G2360*'Lookup Tables'!$R$14","v":5.8424000000000005},{"$f":"H2360*'Lookup Tables'!$R$14","v":0},{"$f":"I2360*'Lookup Tables'!$R$14","v":0},{"$f":"J2360*'Lookup Tables'!$R$14","v":46.804600000000001},{"$f":"K2360*'Lookup Tables'!$R$14","v":52.646999999999998}]
[4080,1,"New Material Applied",0.56999999999999995,0,"SEPARABLE BODY CENTER PLATE 14 INCH",{"$f":"G2361*'Lookup Tables'!$R$14","v":286.81170000000003},{"$f":"H2361*'Lookup Tables'!$R$14","v":11.390499999999999},{"$f":"I2361*'Lookup Tables'!$R$14","v":87.755900000000011},{"$f":"J2361*'Lookup Tables'!$R$14","v":0},{"$f":"K2361*'Lookup Tables'!$R$14","v":286.81170000000003}]
[4080,2,"Secondhand Material Applied",0.56999999999999995,0,"SEPARABLE BODY CENTER PLATE 14 INCH",{"$f":"G2362*'Lookup Tables'!$R$14","v":143.41130000000001},{"$f":"H2362*'Lookup Tables'!$R$14","v":11.390499999999999},{"$f":"I2362*'Lookup Tables'!$R$14","v":87.755900000000011},{"$f":"J2362*'Lookup Tables'!$R$14","v":0},{"$f":"K2362*'Lookup Tables'!$R$14","v":143.41130000000001}]
[4081,1,"New Material Applied",0.56999999999999995,0,"SEPARABLE BODY CENTER PLATE 16 INCH",{"$f":"G2363*'Lookup Tables'!$R$14","v":413.25170000000003},{"$f":"H2363*'Lookup Tables'!$R$14","v":16.786000000000001},{"$f":"I2363*'Lookup Tables'!$R$14","v":87.755900000000011},{"$f":"J2363*'Lookup Tables'!$R$14","v":0},{"$f":"K2363*'Lookup Tables'!$R$14","v":413.25170000000003}]
[4081,2,"Secondhand Material Applied",0.56999999999999995,0,"SEPARABLE BODY CENTER PLATE 16 INCH",{"$f":"G2364*'Lookup Tables'!$R$14","v":206.63130000000001},{"$f":"H2364*'Lookup Tables'!$R$14","v":16.786000000000001},{"$f":"I2364*'Lookup Tables'!$R$14","v":87.755900000000011},{"$f":"J2364*'Lookup Tables'!$R$14","v":0},{"$f":"K2364*'Lookup Tables'!$R$14","v":206.63130000000001}]
[4082,1,"New Material Applied",0.56999999999999995,0,"LOW PROFILE BODY CENTER PLATE ANY SIZE",{"$f":"G2365*'Lookup Tables'!$R$14","v":240.44310000000002},{"$f":"H2365*'Lookup Tables'!$R$14","v":22.181500000000003},{"$f":"I2365*'Lookup Tables'!$R$14","v":87.755900000000011},{"$f":"J2365*'Lookup Tables'!$R$14","v":0},{"$f":"K2365*'Lookup Tables'!$R$14","v":240.44310000000002}]
[4082,2,"Secondhand Material Applied",0.56999999999999995,0,"LOW PROFILE BODY CENTER PLATE ANY SIZE",{"$f":"G2366*'Lookup Tables'!$R$14","v":120.227},{"$f":"H2366*'Lookup Tables'!$R$14","v":22.181500000000003},{"$f":"I2366*'Lookup Tables'!$R$14","v":87.755900000000011},{"$f":"J2366*'Lookup Tables'!$R$14","v":0},{"$f":"K2366*'Lookup Tables'!$R$14","v":120.227}]
[4090,1,"New Material Applied",0.11,7.6999999999999999E-2,"BODY SIDE BEARING",{"$f":"G2367*'Lookup Tables'!$R$14","v":36.2425},{"$f":"H2367*'Lookup Tables'!$R$14","v":1.7985},{"$f":"I2367*'Lookup Tables'!$R$14","v":16.938600000000001},{"$f":"J2367*'Lookup Tables'!$R$14","v":11.859200000000001},{"$f":"K2367*'Lookup Tables'!$R$14","v":48.101700000000008}]
[4090,2,"Secondhand Material Applied",0.11,7.6999999999999999E-2,"BODY SIDE BEARING",{"$f":"G2368*'Lookup Tables'!$R$14","v":18.9224},{"$f":"H2368*'Lookup Tables'!$R$14","v":1.7985},{"$f":"I2368*'Lookup Tables'!$R$14","v":16.938600000000001},{"$f":"J2368*'Lookup Tables'!$R$14","v":11.859200000000001},{"$f":"K2368*'Lookup Tables'!$R$14","v":30.781600000000005}]
[4092,0,"Labor attention such as: \nactual labor, replacing or rechanging doors, welding, vacant, painting or stenciling, other labor attention",0.19500000000000001,0,"BODY SIDE BEARING SHIM",{"$f":"G2369*'Lookup Tables'!$R$14","v":4.3164000000000007},{"$f":"H2369*'Lookup Tables'!$R$14","v":0},{"$f":"I2369*'Lookup Tables'!$R$14","v":30.018600000000003},{"$f":"J2369*'Lookup Tables'!$R$14","v":0},{"$f":"K2369*'Lookup Tables'!$R$14","v":4.3164000000000007}]
[4092,1,"New Material Applied",0.19500000000000001,0,"BODY SIDE BEARING SHIM",{"$f":"G2370*'Lookup Tables'!$R$14","v":15.739600000000001},{"$f":"H2370*'Lookup Tables'!$R$14","v":0},{"$f":"I2370*'Lookup Tables'!$R$14","v":30.018600000000003},{"$f":"J2370*'Lookup Tables'!$R$14","v":0},{"$f":"K2370*'Lookup Tables'!$R$14","v":15.739600000000001}]
[4092,2,"Secondhand Material Applied",0.19500000000000001,0,"BODY SIDE BEARING SHIM",{"$f":"G2371*'Lookup Tables'!$R$14","v":4.3164000000000007},{"$f":"H2371*'Lookup Tables'!$R$14","v":0},{"$f":"I2371*'Lookup Tables'!$R$14","v":30.018600000000003},{"$f":"J2371*'Lookup Tables'!$R$14","v":0},{"$f":"K2371*'Lookup Tables'!$R$14","v":4.3164000000000007}]
[4093,0,"Labor attention such as: \nactual labor, replacing or rechanging doors, welding, vacant, painting or stenciling, other labor attention",0.19500000000000001,0,"BODY SIDE BEARING SHIM-MALE ART. CONNECTOR POS.",{"$f":"G2372*'Lookup Tables'!$R$14","v":4.3164000000000007},{"$f":"H2372*'Lookup Tables'!$R$14","v":0},{"$f":"I2372*'Lookup Tables'!$R$14","v":30.018600000000003},{"$f":"J2372*'Lookup Tables'!$R$14","v":0},{"$f":"K2372*'Lookup Tables'!$R$14","v":4.3164000000000007}]
[4093,1,"New Material Applied",0.19500000000000001,0,"BODY SIDE BEARING SHIM-MALE ART. CONNECTOR POS.",{"$f":"G2373*'Lookup Tables'!$R$14","v":15.739600000000001},{"$f":"H2373*'Lookup Tables'!$R$14","v":0},{"$f":"I2373*'Lookup Tables'!$R$14","v":30.018600000000003},{"$f":"J2373*'Lookup Tables'!$R$14","v":0},{"$f":"K2373*'Lookup Tables'!$R$14","v":15.739600000000001}]
[4093,2,"Secondhand Material Applied",0.19500000000000001,0,"BODY SIDE BEARING SHIM-MALE ART. CONNECTOR POS.",{"$f":"G2374*'Lookup Tables'!$R$14","v":4.3164000000000007},{"$f":"H2374*'Lookup Tables'!$R$14","v":0},{"$f":"I2374*'Lookup Tables'!$R$14","v":30.018600000000003},{"$f":"J2374*'Lookup Tables'!$R$14","v":0},{"$f":"K2374*'Lookup Tables'!$R$14","v":4.3164000000000007}]
[4094,0,"Labor attention such as: \nactual labor, replacing or rechanging doors, welding, vacant, painting or stenciling, other labor attention",0.19500000000000001,0,"BODY SIDE BEARING SHIM-FEMALE ART. CONNECTOR POS.",{"$f":"G2375*'Lookup Tables'!$R$14","v":4.3164000000000007},{"$f":"H2375*'Lookup Tables'!$R$14","v":0},{"$f":"I2375*'Lookup Tables'!$R$14","v":30.018600000000003},{"$f":"J2375*'Lookup Tables'!$R$14","v":0},{"$f":"K2375*'Lookup Tables'!$R$14","v":4.3164000000000007}]
[4094,1,"New Material Applied",0.19500000000000001,0,"BODY SIDE BEARING SHIM-FEMALE ART. CONNECTOR POS.",{"$f":"G2376*'Lookup Tables'!$R$14","v":15.739600000000001},{"$f":"H2376*'Lookup Tables'!$R$14","v":0},{"$f":"I2376*'Lookup Tables'!$R$14","v":30.018600000000003},{"$f":"J2376*'Lookup Tables'!$R$14","v":0},{"$f":"K2376*'Lookup Tables'!$R$14","v":15.739600000000001}]
[4094,2,"Secondhand Material Applied",0.19500000000000001,0,"BODY SIDE BEARING SHIM-FEMALE ART. CONNECTOR POS.",{"$f":"G2377*'Lookup Tables'!$R$14","v":4.3164000000000007},{"$f":"H2377*'Lookup Tables'!$R$14","v":0},{"$f":"I2377*'Lookup Tables'!$R$14","v":30.018600000000003},{"$f":"J2377*'Lookup Tables'!$R$14","v":0},{"$f":"K2377*'Lookup Tables'!$R$14","v":4.3164000000000007}]
[4102,1,"New Material Applied",0,4.4999999999999998E-2,"ENGINE LUBRICATING OIL",{"$f":"G2378*'Lookup Tables'!$R$14","v":1.5914000000000001},{"$f":"H2378*'Lookup Tables'!$R$14","v":0},{"$f":"I2378*'Lookup Tables'!$R$14","v":0},{"$f":"J2378*'Lookup Tables'!$R$14","v":6.9324000000000012},{"$f":"K2378*'Lookup Tables'!$R$14","v":8.5238000000000014}]
[4110,0,{"$f":"VLOOKUP(B1028,$B$2686:$C$2701,2,FALSE)","v":"Labor attention such as: \nactual labor, replacing or rechanging doors, welding, vacant, painting or stenciling, other labor attention"},0,0.4,"BATTERY SERVICE",{"$f":"G2379*'Lookup Tables'!$R$14","v":0},{"$f":"H2379*'Lookup Tables'!$R$14","v":0},{"$f":"I2379*'Lookup Tables'!$R$14","v":0},{"$f":"J2379*'Lookup Tables'!$R$14","v":61.585000000000008},{"$f":"K2379*'Lookup Tables'!$R$14","v":61.585000000000008}]
[4114,1,"New Material Applied",0,0.29599999999999999,"ANTI-FREEZE, PERMANENT TYPE",{"$f":"G2380*'Lookup Tables'!$R$14","v":8.6437000000000008},{"$f":"H2380*'Lookup Tables'!$R$14","v":0},{"$f":"I2380*'Lookup Tables'!$R$14","v":0},{"$f":"J2380*'Lookup Tables'!$R$14","v":45.572900000000004},{"$f":"K2380*'Lookup Tables'!$R$14","v":54.216600000000007}]
[4128,0,"Labor attention such as: \nactual labor, replacing or rechanging doors, welding, vacant, painting or stenciling, other labor attention",0,1.333,"BATTERY RENEWED",{"$f":"G2381*'Lookup Tables'!$R$14","v":0},{"$f":"H2381*'Lookup Tables'!$R$14","v":0},{"$f":"I2381*'Lookup Tables'!$R$14","v":0},{"$f":"J2381*'Lookup Tables'!$R$14","v":205.21430000000004},{"$f":"K2381*'Lookup Tables'!$R$14","v":205.21430000000004}]
[4144,0,"Labor attention such as: \nactual labor, replacing or rechanging doors, welding, vacant, painting or stenciling, other labor attention",0,1,"CHECK UNIT FOR CAUSE OF FAILURE",{"$f":"G2382*'Lookup Tables'!$R$14","v":0},{"$f":"H2382*'Lookup Tables'!$R$14","v":0},{"$f":"I2382*'Lookup Tables'!$R$14","v":0},{"$f":"J2382*'Lookup Tables'!$R$14","v":153.95160000000001},{"$f":"K2382*'Lookup Tables'!$R$14","v":153.95160000000001}]
[4148,0,"Labor attention such as: \nactual labor, replacing or rechanging doors, welding, vacant, painting or stenciling, other labor attention",0,0.5,"CHECK UNIT AFTER REPAIR",{"$f":"G2383*'Lookup Tables'!$R$14","v":0},{"$f":"H2383*'Lookup Tables'!$R$14","v":0},{"$f":"I2383*'Lookup Tables'!$R$14","v":0},{"$f":"J2383*'Lookup Tables'!$R$14","v":76.975800000000007},{"$f":"K2383*'Lookup Tables'!$R$14","v":76.975800000000007}]
[4150,0,"Labor attention such as: \nactual labor, replacing or rechanging doors, welding, vacant, painting or stenciling, other labor attention",0,1,"LABOR, REFRIGERATION SYSTEM",{"$f":"G2384*'Lookup Tables'!$R$14","v":0},{"$f":"H2384*'Lookup Tables'!$R$14","v":0},{"$f":"I2384*'Lookup Tables'!$R$14","v":0},{"$f":"J2384*'Lookup Tables'!$R$14","v":153.95160000000001},{"$f":"K2384*'Lookup Tables'!$R$14","v":153.95160000000001}]
[4160,1,"New Material Applied",0,0.5,"FUEL/OIL FILTER",{"$f":"G2385*'Lookup Tables'!$R$14","v":6.1912000000000003},{"$f":"H2385*'Lookup Tables'!$R$14","v":0},{"$f":"I2385*'Lookup Tables'!$R$14","v":0},{"$f":"J2385*'Lookup Tables'!$R$14","v":76.975800000000007},{"$f":"K2385*'Lookup Tables'!$R$14","v":83.167000000000016}]
[4162,0,"Labor attention such as: \nactual labor, replacing or rechanging doors, welding, vacant, painting or stenciling, other labor attention",0,0.3,"PURGE AND PRIME ENGINE",{"$f":"G2386*'Lookup Tables'!$R$14","v":0},{"$f":"H2386*'Lookup Tables'!$R$14","v":0},{"$f":"I2386*'Lookup Tables'!$R$14","v":0},{"$f":"J2386*'Lookup Tables'!$R$14","v":46.183300000000003},{"$f":"K2386*'Lookup Tables'!$R$14","v":46.183300000000003}]
[4180,7,"Periodic or Service Attention \n(includes: vacant, single car testing of air brakes, cleaning of brke cyclinder, B-1 Quick Service Valves, Lubrication, Servicing mechanical refrigeration units, vacant, all wheels applied)",0,3.3000000000000002E-2,"NUT OR SCREW TIGHTENED",{"$f":"G2387*'Lookup Tables'!$R$14","v":0},{"$f":"H2387*'Lookup Tables'!$R$14","v":0},{"$f":"I2387*'Lookup Tables'!$R$14","v":0},{"$f":"J2387*'Lookup Tables'!$R$14","v":5.0794000000000006},{"$f":"K2387*'Lookup Tables'!$R$14","v":5.0794000000000006}]
[4200,1,"New Material Applied",0,0,"CHAIN",{"$f":"G2388*'Lookup Tables'!$R$14","v":6.9324000000000012},{"$f":"H2388*'Lookup Tables'!$R$14","v":0.11990000000000001},{"$f":"I2388*'Lookup Tables'!$R$14","v":0},{"$f":"J2388*'Lookup Tables'!$R$14","v":0},{"$f":"K2388*'Lookup Tables'!$R$14","v":6.9324000000000012}]
[4200,2,"Secondhand Material Applied",0,0,"CHAIN",{"$f":"G2389*'Lookup Tables'!$R$14","v":6.9324000000000012},{"$f":"H2389*'Lookup Tables'!$R$14","v":0.11990000000000001},{"$f":"I2389*'Lookup Tables'!$R$14","v":0},{"$f":"J2389*'Lookup Tables'!$R$14","v":0},{"$f":"K2389*'Lookup Tables'!$R$14","v":6.9324000000000012}]
[4202,1,"New Material Applied",0,0,"HIGH STRENGTH LOW ALLOY STEEL",{"$f":"G2390*'Lookup Tables'!$R$14","v":2.4851999999999999},{"$f":"H2390*'Lookup Tables'!$R$14","v":0.11990000000000001},{"$f":"I2390*'Lookup Tables'!$R$14","v":0},{"$f":"J2390*'Lookup Tables'!$R$14","v":0},{"$f":"K2390*'Lookup Tables'!$R$14","v":2.4851999999999999}]
[4202,2,"Secondhand Material Applied",0,0,"HIGH STRENGTH LOW ALLOY STEEL",{"$f":"G2391*'Lookup Tables'!$R$14","v":1.2425999999999999},{"$f":"H2391*'Lookup Tables'!$R$14","v":0.11990000000000001},{"$f":"I2391*'Lookup Tables'!$R$14","v":0},{"$f":"J2391*'Lookup Tables'!$R$14","v":0},{"$f":"K2391*'Lookup Tables'!$R$14","v":1.2425999999999999}]
[4204,1,"New Material Applied",0,0,"CARBON STEEL, STRUCTURAL, PRESSED",{"$f":"G2392*'Lookup Tables'!$R$14","v":2.8558000000000003},{"$f":"H2392*'Lookup Tables'!$R$14","v":0.11990000000000001},{"$f":"I2392*'Lookup Tables'!$R$14","v":0},{"$f":"J2392*'Lookup Tables'!$R$14","v":0},{"$f":"K2392*'Lookup Tables'!$R$14","v":2.8558000000000003}]
[4204,2,"Secondhand Material Applied",0,0,"CARBON STEEL, STRUCTURAL, PRESSED",{"$f":"G2393*'Lookup Tables'!$R$14","v":1.4279000000000002},{"$f":"H2393*'Lookup Tables'!$R$14","v":0.11990000000000001},{"$f":"I2393*'Lookup Tables'!$R$14","v":0},{"$f":"J2393*'Lookup Tables'!$R$14","v":0},{"$f":"K2393*'Lookup Tables'!$R$14","v":1.4279000000000002}]
[4206,1,"New Material Applied",0,0,"HIGH STRENGTH ALUMINUM, STRUCTURAL, PRESSED",{"$f":"G2394*'Lookup Tables'!$R$14","v":8.567400000000001},{"$f":"H2394*'Lookup Tables'!$R$14","v":0.33790000000000003},{"$f":"I2394*'Lookup Tables'!$R$14","v":0},{"$f":"J2394*'Lookup Tables'!$R$14","v":0},{"$f":"K2394*'Lookup Tables'!$R$14","v":8.567400000000001}]
[4206,2,"Secondhand Material Applied",0,0,"HIGH STRENGTH ALUMINUM, STRUCTURAL, PRESSED",{"$f":"G2395*'Lookup Tables'!$R$14","v":4.2837000000000005},{"$f":"H2395*'Lookup Tables'!$R$14","v":0.33790000000000003},{"$f":"I2395*'Lookup Tables'!$R$14","v":0},{"$f":"J2395*'Lookup Tables'!$R$14","v":0},{"$f":"K2395*'Lookup Tables'!$R$14","v":4.2837000000000005}]
[4216,1,"New Material Applied",0,0,"FORGINGS",{"$f":"G2396*'Lookup Tables'!$R$14","v":3.6733000000000002},{"$f":"H2396*'Lookup Tables'!$R$14","v":0.11990000000000001},{"$f":"I2396*'Lookup Tables'!$R$14","v":0},{"$f":"J2396*'Lookup Tables'!$R$14","v":0},{"$f":"K2396*'Lookup Tables'!$R$14","v":3.6733000000000002}]
[4216,2,"Secondhand Material Applied",0,0,"FORGINGS",{"$f":"G2397*'Lookup Tables'!$R$14","v":1.8421000000000001},{"$f":"H2397*'Lookup Tables'!$R$14","v":0.11990000000000001},{"$f":"I2397*'Lookup Tables'!$R$14","v":0},{"$f":"J2397*'Lookup Tables'!$R$14","v":0},{"$f":"K2397*'Lookup Tables'!$R$14","v":1.8421000000000001}]
[4222,1,"New Material Applied",0,0,"CASTING, STEEL",{"$f":"G2398*'Lookup Tables'!$R$14","v":2.0928},{"$f":"H2398*'Lookup Tables'!$R$14","v":0.11990000000000001},{"$f":"I2398*'Lookup Tables'!$R$14","v":0},{"$f":"J2398*'Lookup Tables'!$R$14","v":0},{"$f":"K2398*'Lookup Tables'!$R$14","v":2.0928}]
[4222,2,"Secondhand Material Applied",0,0,"CASTING, STEEL",{"$f":"G2399*'Lookup Tables'!$R$14","v":1.0464},{"$f":"H2399*'Lookup Tables'!$R$14","v":0.11990000000000001},{"$f":"I2399*'Lookup Tables'!$R$14","v":0},{"$f":"J2399*'Lookup Tables'!$R$14","v":0},{"$f":"K2399*'Lookup Tables'!$R$14","v":1.0464}]
[4236,1,"New Material Applied",0,0,"ALUMINUM CREDIT",{"$f":"G2400*'Lookup Tables'!$R$14","v":0},{"$f":"H2400*'Lookup Tables'!$R$14","v":0.33790000000000003},{"$f":"I2400*'Lookup Tables'!$R$14","v":0},{"$f":"J2400*'Lookup Tables'!$R$14","v":0},{"$f":"K2400*'Lookup Tables'!$R$14","v":0}]
[4244,1,"New Material Applied",0,0,"STEEL CREDIT",{"$f":"G2401*'Lookup Tables'!$R$14","v":0},{"$f":"H2401*'Lookup Tables'!$R$14","v":0.11990000000000001},{"$f":"I2401*'Lookup Tables'!$R$14","v":0},{"$f":"J2401*'Lookup Tables'!$R$14","v":0},{"$f":"K2401*'Lookup Tables'!$R$14","v":0}]
[4246,1,"New Material Applied",0,0,"STAINLESS STEEL CREDIT",{"$f":"G2402*'Lookup Tables'!$R$14","v":0},{"$f":"H2402*'Lookup Tables'!$R$14","v":0.31609999999999999},{"$f":"I2402*'Lookup Tables'!$R$14","v":0},{"$f":"J2402*'Lookup Tables'!$R$14","v":0},{"$f":"K2402*'Lookup Tables'!$R$14","v":0}]
[4320,1,"New Material Applied",0,0.13700000000000001,"CARD BOARD",{"$f":"G2403*'Lookup Tables'!$R$14","v":2.9975000000000001},{"$f":"H2403*'Lookup Tables'!$R$14","v":0},{"$f":"I2403*'Lookup Tables'!$R$14","v":0},{"$f":"J2403*'Lookup Tables'!$R$14","v":21.091500000000003},{"$f":"K2403*'Lookup Tables'!$R$14","v":24.089000000000002}]
[4322,1,"New Material Applied",0,0.224,"CARD BOARD BRACKET",{"$f":"G2404*'Lookup Tables'!$R$14","v":21.876300000000001},{"$f":"H2404*'Lookup Tables'!$R$14","v":0.23980000000000001},{"$f":"I2404*'Lookup Tables'!$R$14","v":0},{"$f":"J2404*'Lookup Tables'!$R$14","v":34.4876},{"$f":"K2404*'Lookup Tables'!$R$14","v":56.363900000000008}]
[4324,1,"New Material Applied",0,0.29699999999999999,"METAL, DOT PLACARD HOLDER",{"$f":"G2405*'Lookup Tables'!$R$14","v":9.2867999999999995},{"$f":"H2405*'Lookup Tables'!$R$14","v":0},{"$f":"I2405*'Lookup Tables'!$R$14","v":0},{"$f":"J2405*'Lookup Tables'!$R$14","v":45.725500000000004},{"$f":"K2405*'Lookup Tables'!$R$14","v":55.012300000000003}]
[4328,1,"New Material Applied",0,0.27300000000000002,"WOOD, DOT PLACARD HOLDER",{"$f":"G2406*'Lookup Tables'!$R$14","v":8.9925000000000015},{"$f":"H2406*'Lookup Tables'!$R$14","v":0},{"$f":"I2406*'Lookup Tables'!$R$14","v":0},{"$f":"J2406*'Lookup Tables'!$R$14","v":42.030400000000007},{"$f":"K2406*'Lookup Tables'!$R$14","v":51.022900000000007}]
[4330,1,"New Material Applied",0,0.224,"PLACARD BRACKET",{"$f":"G2407*'Lookup Tables'!$R$14","v":27.587900000000001},{"$f":"H2407*'Lookup Tables'!$R$14","v":0.47960000000000003},{"$f":"I2407*'Lookup Tables'!$R$14","v":0},{"$f":"J2407*'Lookup Tables'!$R$14","v":34.4876},{"$f":"K2407*'Lookup Tables'!$R$14","v":62.075500000000005}]
[4342,1,"New Material Applied",0,0.47699999999999998,"STANDARD TEMPERATURE AEI TAG, AT5118-AAR",{"$f":"G2408*'Lookup Tables'!$R$14","v":32.045999999999999},{"$f":"H2408*'Lookup Tables'!$R$14","v":0},{"$f":"I2408*'Lookup Tables'!$R$14","v":0},{"$f":"J2408*'Lookup Tables'!$R$14","v":73.433300000000017},{"$f":"K2408*'Lookup Tables'!$R$14","v":105.47930000000002}]
[4342,2,"Secondhand Material Applied",0,0.47699999999999998,"STANDARD TEMPERATURE AEI TAG, AT5118-AAR",{"$f":"G2409*'Lookup Tables'!$R$14","v":16.8187},{"$f":"H2409*'Lookup Tables'!$R$14","v":0},{"$f":"I2409*'Lookup Tables'!$R$14","v":0},{"$f":"J2409*'Lookup Tables'!$R$14","v":73.433300000000017},{"$f":"K2409*'Lookup Tables'!$R$14","v":90.252000000000024}]
[4342,8,"Remove, repair, and replace same part",0,0.41699999999999998,"STANDARD TEMPERATURE AEI TAG, AT5118-AAR",{"$f":"G2410*'Lookup Tables'!$R$14","v":1.5914000000000001},{"$f":"H2410*'Lookup Tables'!$R$14","v":0},{"$f":"I2410*'Lookup Tables'!$R$14","v":0},{"$f":"J2410*'Lookup Tables'!$R$14","v":64.201000000000008},{"$f":"K2410*'Lookup Tables'!$R$14","v":65.792400000000001}]
[4342,9,"Remove and replace same part",0,0.151,"STANDARD TEMPERATURE AEI TAG, AT5118-AAR",{"$f":"G2411*'Lookup Tables'!$R$14","v":1.5914000000000001},{"$f":"H2411*'Lookup Tables'!$R$14","v":0},{"$f":"I2411*'Lookup Tables'!$R$14","v":0},{"$f":"J2411*'Lookup Tables'!$R$14","v":23.249700000000001},{"$f":"K2411*'Lookup Tables'!$R$14","v":24.841100000000001}]
[4344,1,"New Material Applied",0,0.23799999999999999,"EOT AEI TAG, AT5549-AAR",{"$f":"G2412*'Lookup Tables'!$R$14","v":49.344300000000004},{"$f":"H2412*'Lookup Tables'!$R$14","v":0},{"$f":"I2412*'Lookup Tables'!$R$14","v":0},{"$f":"J2412*'Lookup Tables'!$R$14","v":36.645800000000001},{"$f":"K2412*'Lookup Tables'!$R$14","v":85.990100000000012}]
[4344,2,"Secondhand Material Applied",0,0.23799999999999999,"EOT AEI TAG, AT5549-AAR",{"$f":"G2413*'Lookup Tables'!$R$14","v":25.473300000000002},{"$f":"H2413*'Lookup Tables'!$R$14","v":0},{"$f":"I2413*'Lookup Tables'!$R$14","v":0},{"$f":"J2413*'Lookup Tables'!$R$14","v":36.645800000000001},{"$f":"K2413*'Lookup Tables'!$R$14","v":62.119099999999996}]
[4344,8,"Remove, repair, and replace same part",0,0.23799999999999999,"EOT AEI TAG, AT5549-AAR",{"$f":"G2414*'Lookup Tables'!$R$14","v":1.5914000000000001},{"$f":"H2414*'Lookup Tables'!$R$14","v":0},{"$f":"I2414*'Lookup Tables'!$R$14","v":0},{"$f":"J2414*'Lookup Tables'!$R$14","v":36.645800000000001},{"$f":"K2414*'Lookup Tables'!$R$14","v":38.237200000000001}]
[4344,9,"Remove and replace same part",0,0.23799999999999999,"EOT AEI TAG, AT5549-AAR",{"$f":"G2415*'Lookup Tables'!$R$14","v":1.5914000000000001},{"$f":"H2415*'Lookup Tables'!$R$14","v":0},{"$f":"I2415*'Lookup Tables'!$R$14","v":0},{"$f":"J2415*'Lookup Tables'!$R$14","v":36.645800000000001},{"$f":"K2415*'Lookup Tables'!$R$14","v":38.237200000000001}]
[4350,1,"New Material Applied",0,0.47699999999999998,"HIGH TEMPERATURE AEI TAG, AT5133-AAR",{"$f":"G2416*'Lookup Tables'!$R$14","v":36.122600000000006},{"$f":"H2416*'Lookup Tables'!$R$14","v":0},{"$f":"I2416*'Lookup Tables'!$R$14","v":0},{"$f":"J2416*'Lookup Tables'!$R$14","v":73.433300000000017},{"$f":"K2416*'Lookup Tables'!$R$14","v":109.55590000000001}]
[4350,2,"Secondhand Material Applied",0,0.47699999999999998,"HIGH TEMPERATURE AEI TAG, AT5133-AAR",{"$f":"G2417*'Lookup Tables'!$R$14","v":18.857000000000003},{"$f":"H2417*'Lookup Tables'!$R$14","v":0},{"$f":"I2417*'Lookup Tables'!$R$14","v":0},{"$f":"J2417*'Lookup Tables'!$R$14","v":73.433300000000017},{"$f":"K2417*'Lookup Tables'!$R$14","v":92.290300000000002}]
[4350,8,"Remove, repair, and replace same part",0,0.41699999999999998,"HIGH TEMPERATURE AEI TAG, AT5133-AAR",{"$f":"G2418*'Lookup Tables'!$R$14","v":1.5914000000000001},{"$f":"H2418*'Lookup Tables'!$R$14","v":0},{"$f":"I2418*'Lookup Tables'!$R$14","v":0},{"$f":"J2418*'Lookup Tables'!$R$14","v":64.201000000000008},{"$f":"K2418*'Lookup Tables'!$R$14","v":65.792400000000001}]
[4350,9,"Remove and replace same part",0,0.151,"HIGH TEMPERATURE AEI TAG, AT5133-AAR",{"$f":"G2419*'Lookup Tables'!$R$14","v":1.5914000000000001},{"$f":"H2419*'Lookup Tables'!$R$14","v":0},{"$f":"I2419*'Lookup Tables'!$R$14","v":0},{"$f":"J2419*'Lookup Tables'!$R$14","v":23.249700000000001},{"$f":"K2419*'Lookup Tables'!$R$14","v":24.841100000000001}]
[4356,1,"New Material Applied",0,0.39700000000000002,"AEI BRACKET W/MECH. FASTENERS",{"$f":"G2420*'Lookup Tables'!$R$14","v":4.436300000000001},{"$f":"H2420*'Lookup Tables'!$R$14","v":0},{"$f":"I2420*'Lookup Tables'!$R$14","v":0},{"$f":"J2420*'Lookup Tables'!$R$14","v":61.116300000000003},{"$f":"K2420*'Lookup Tables'!$R$14","v":65.552600000000012}]
[4356,2,"Secondhand Material Applied",0,0.39700000000000002,"AEI BRACKET W/MECH. FASTENERS",{"$f":"G2421*'Lookup Tables'!$R$14","v":3.0193000000000003},{"$f":"H2421*'Lookup Tables'!$R$14","v":0},{"$f":"I2421*'Lookup Tables'!$R$14","v":0},{"$f":"J2421*'Lookup Tables'!$R$14","v":61.116300000000003},{"$f":"K2421*'Lookup Tables'!$R$14","v":64.135600000000011}]
[4356,9,"Remove and replace same part",0,0.39700000000000002,"AEI BRACKET W/MECH. FASTENERS",{"$f":"G2422*'Lookup Tables'!$R$14","v":1.5914000000000001},{"$f":"H2422*'Lookup Tables'!$R$14","v":0},{"$f":"I2422*'Lookup Tables'!$R$14","v":0},{"$f":"J2422*'Lookup Tables'!$R$14","v":61.116300000000003},{"$f":"K2422*'Lookup Tables'!$R$14","v":62.707700000000003}]
[4358,1,"New Material Applied",0,0.49299999999999999,"AEI BRACKET WELDED",{"$f":"G2423*'Lookup Tables'!$R$14","v":2.8449},{"$f":"H2423*'Lookup Tables'!$R$14","v":0},{"$f":"I2423*'Lookup Tables'!$R$14","v":0},{"$f":"J2423*'Lookup Tables'!$R$14","v":75.896699999999996},{"$f":"K2423*'Lookup Tables'!$R$14","v":78.741600000000005}]
[4358,2,"Secondhand Material Applied",0,0.49299999999999999,"AEI BRACKET WELDED",{"$f":"G2424*'Lookup Tables'!$R$14","v":1.4279000000000002},{"$f":"H2424*'Lookup Tables'!$R$14","v":0},{"$f":"I2424*'Lookup Tables'!$R$14","v":0},{"$f":"J2424*'Lookup Tables'!$R$14","v":75.896699999999996},{"$f":"K2424*'Lookup Tables'!$R$14","v":77.324600000000004}]
[4358,9,"Remove and replace same part",0,0.49299999999999999,"AEI BRACKET WELDED",{"$f":"G2425*'Lookup Tables'!$R$14","v":0},{"$f":"H2425*'Lookup Tables'!$R$14","v":0},{"$f":"I2425*'Lookup Tables'!$R$14","v":0},{"$f":"J2425*'Lookup Tables'!$R$14","v":75.896699999999996},{"$f":"K2425*'Lookup Tables'!$R$14","v":75.896699999999996}]
[4360,1,"New Material Applied",0,3.7999999999999999E-2,"FIBERGLASS HATCH COVER TROUGH, 20\" WIDE",{"$f":"G2426*'Lookup Tables'!$R$14","v":24.841100000000001},{"$f":"H2426*'Lookup Tables'!$R$14","v":0},{"$f":"I2426*'Lookup Tables'!$R$14","v":0},{"$f":"J2426*'Lookup Tables'!$R$14","v":5.8533000000000008},{"$f":"K2426*'Lookup Tables'!$R$14","v":30.694400000000002}]
[4360,2,"Secondhand Material Applied",0,3.7999999999999999E-2,"FIBERGLASS HATCH COVER TROUGH, 20\" WIDE",{"$f":"G2427*'Lookup Tables'!$R$14","v":12.687600000000002},{"$f":"H2427*'Lookup Tables'!$R$14","v":0},{"$f":"I2427*'Lookup Tables'!$R$14","v":0},{"$f":"J2427*'Lookup Tables'!$R$14","v":5.8533000000000008},{"$f":"K2427*'Lookup Tables'!$R$14","v":18.540900000000004}]
[4360,9,"Remove and replace same part",0,3.7999999999999999E-2,"FIBERGLASS HATCH COVER TROUGH, 20\" WIDE",{"$f":"G2428*'Lookup Tables'!$R$14","v":0.5232},{"$f":"H2428*'Lookup Tables'!$R$14","v":0},{"$f":"I2428*'Lookup Tables'!$R$14","v":0},{"$f":"J2428*'Lookup Tables'!$R$14","v":5.8533000000000008},{"$f":"K2428*'Lookup Tables'!$R$14","v":6.3765000000000001}]
[4362,1,"New Material Applied",0,3.7999999999999999E-2,"FIBERGLASS HATCH COVER TROUGH, 24\" WIDE",{"$f":"G2429*'Lookup Tables'!$R$14","v":27.751400000000004},{"$f":"H2429*'Lookup Tables'!$R$14","v":0},{"$f":"I2429*'Lookup Tables'!$R$14","v":0},{"$f":"J2429*'Lookup Tables'!$R$14","v":5.8533000000000008},{"$f":"K2429*'Lookup Tables'!$R$14","v":33.604700000000001}]
[4362,2,"Secondhand Material Applied",0,3.7999999999999999E-2,"FIBERGLASS HATCH COVER TROUGH, 24\" WIDE",{"$f":"G2430*'Lookup Tables'!$R$14","v":14.137300000000002},{"$f":"H2430*'Lookup Tables'!$R$14","v":0},{"$f":"I2430*'Lookup Tables'!$R$14","v":0},{"$f":"J2430*'Lookup Tables'!$R$14","v":5.8533000000000008},{"$f":"K2430*'Lookup Tables'!$R$14","v":19.990600000000001}]
[4362,9,"Remove and replace same part",0,3.7999999999999999E-2,"FIBERGLASS HATCH COVER TROUGH, 24\" WIDE",{"$f":"G2431*'Lookup Tables'!$R$14","v":0.5232},{"$f":"H2431*'Lookup Tables'!$R$14","v":0},{"$f":"I2431*'Lookup Tables'!$R$14","v":0},{"$f":"J2431*'Lookup Tables'!$R$14","v":5.8533000000000008},{"$f":"K2431*'Lookup Tables'!$R$14","v":6.3765000000000001}]
[4364,1,"New Material Applied",0,3.7999999999999999E-2,"ALUMINUM HATCH COVER TROUGH, 20\" WIDE",{"$f":"G2432*'Lookup Tables'!$R$14","v":26.759500000000003},{"$f":"H2432*'Lookup Tables'!$R$14","v":1.6895000000000002},{"$f":"I2432*'Lookup Tables'!$R$14","v":0},{"$f":"J2432*'Lookup Tables'!$R$14","v":5.8533000000000008},{"$f":"K2432*'Lookup Tables'!$R$14","v":32.612800000000007}]
[4364,2,"Secondhand Material Applied",0,3.7999999999999999E-2,"ALUMINUM HATCH COVER TROUGH, 20\" WIDE",{"$f":"G2433*'Lookup Tables'!$R$14","v":13.646800000000001},{"$f":"H2433*'Lookup Tables'!$R$14","v":1.6895000000000002},{"$f":"I2433*'Lookup Tables'!$R$14","v":0},{"$f":"J2433*'Lookup Tables'!$R$14","v":5.8533000000000008},{"$f":"K2433*'Lookup Tables'!$R$14","v":19.500100000000003}]
[4364,9,"Remove and replace same part",0,3.7999999999999999E-2,"ALUMINUM HATCH COVER TROUGH, 20\" WIDE",{"$f":"G2434*'Lookup Tables'!$R$14","v":0.5232},{"$f":"H2434*'Lookup Tables'!$R$14","v":0},{"$f":"I2434*'Lookup Tables'!$R$14","v":0},{"$f":"J2434*'Lookup Tables'!$R$14","v":5.8533000000000008},{"$f":"K2434*'Lookup Tables'!$R$14","v":6.3765000000000001}]
[4366,1,"New Material Applied",0,3.7999999999999999E-2,"ALUMINUM HATCH COVER TROUGH, 24\" WIDE",{"$f":"G2435*'Lookup Tables'!$R$14","v":39.741400000000006},{"$f":"H2435*'Lookup Tables'!$R$14","v":2.0274000000000001},{"$f":"I2435*'Lookup Tables'!$R$14","v":0},{"$f":"J2435*'Lookup Tables'!$R$14","v":5.8533000000000008},{"$f":"K2435*'Lookup Tables'!$R$14","v":45.594700000000003}]
[4366,2,"Secondhand Material Applied",0,3.7999999999999999E-2,"ALUMINUM HATCH COVER TROUGH, 24\" WIDE",{"$f":"G2436*'Lookup Tables'!$R$14","v":22.5412},{"$f":"H2436*'Lookup Tables'!$R$14","v":2.0274000000000001},{"$f":"I2436*'Lookup Tables'!$R$14","v":0},{"$f":"J2436*'Lookup Tables'!$R$14","v":5.8533000000000008},{"$f":"K2436*'Lookup Tables'!$R$14","v":28.394500000000004}]
[4366,9,"Remove and replace same part",0,3.7999999999999999E-2,"ALUMINUM HATCH COVER TROUGH, 24\" WIDE",{"$f":"G2437*'Lookup Tables'!$R$14","v":5.3410000000000011},{"$f":"H2437*'Lookup Tables'!$R$14","v":0},{"$f":"I2437*'Lookup Tables'!$R$14","v":0},{"$f":"J2437*'Lookup Tables'!$R$14","v":5.8533000000000008},{"$f":"K2437*'Lookup Tables'!$R$14","v":11.1943}]
[4400,1,"New Material Applied",0,8.4000000000000005E-2,"COTTER OR SPLIT KEY",{"$f":"G2438*'Lookup Tables'!$R$14","v":0.16350000000000001},{"$f":"H2438*'Lookup Tables'!$R$14","v":0},{"$f":"I2438*'Lookup Tables'!$R$14","v":0},{"$f":"J2438*'Lookup Tables'!$R$14","v":12.9274},{"$f":"K2438*'Lookup Tables'!$R$14","v":13.090900000000001}]
[4404,1,"New Material Applied",8.5999999999999993E-2,5.3999999999999999E-2,"BOLT, COMMON STANDARD",{"$f":"G2439*'Lookup Tables'!$R$14","v":0.40330000000000005},{"$f":"H2439*'Lookup Tables'!$R$14","v":0},{"$f":"I2439*'Lookup Tables'!$R$14","v":13.243500000000001},{"$f":"J2439*'Lookup Tables'!$R$14","v":8.3167000000000009},{"$f":"K2439*'Lookup Tables'!$R$14","v":8.7200000000000006}]
[4406,1,"New Material Applied",8.5999999999999993E-2,5.3999999999999999E-2,"BOLT,HT,FLT HD. 3/4\" DIA. OR OVER",{"$f":"G2440*'Lookup Tables'!$R$14","v":2.2999000000000001},{"$f":"H2440*'Lookup Tables'!$R$14","v":0},{"$f":"I2440*'Lookup Tables'!$R$14","v":13.243500000000001},{"$f":"J2440*'Lookup Tables'!$R$14","v":8.3167000000000009},{"$f":"K2440*'Lookup Tables'!$R$14","v":10.616600000000002}]
[4410,1,"New Material Applied",8.5999999999999993E-2,5.3999999999999999E-2,"BOLT,HT,5/8 IN.DIA.OR LESS UNDER 6\" LONG",{"$f":"G2441*'Lookup Tables'!$R$14","v":0.79570000000000007},{"$f":"H2441*'Lookup Tables'!$R$14","v":0},{"$f":"I2441*'Lookup Tables'!$R$14","v":13.243500000000001},{"$f":"J2441*'Lookup Tables'!$R$14","v":8.3167000000000009},{"$f":"K2441*'Lookup Tables'!$R$14","v":9.1123999999999992}]
[4412,1,"New Material Applied",8.5999999999999993E-2,5.3999999999999999E-2,"BOLT,HT, 5/8\" DIA. OR LESS",{"$f":"G2442*'Lookup Tables'!$R$14","v":2.6705000000000005},{"$f":"H2442*'Lookup Tables'!$R$14","v":0},{"$f":"I2442*'Lookup Tables'!$R$14","v":13.243500000000001},{"$f":"J2442*'Lookup Tables'!$R$14","v":8.3167000000000009},{"$f":"K2442*'Lookup Tables'!$R$14","v":10.987200000000001}]
[4414,1,{"$f":"VLOOKUP(B1092,$B$2686:$C$2701,2,FALSE)","v":"New Material Applied"},8.5999999999999993E-2,5.3999999999999999E-2,"BOLT,HT,3/4\" DIA.OR OVER,UNDER 6\" LONG",{"$f":"G2443*'Lookup Tables'!$R$14","v":1.4606000000000001},{"$f":"H2443*'Lookup Tables'!$R$14","v":0},{"$f":"I2443*'Lookup Tables'!$R$14","v":13.243500000000001},{"$f":"J2443*'Lookup Tables'!$R$14","v":8.3167000000000009},{"$f":"K2443*'Lookup Tables'!$R$14","v":9.7773000000000021}]
[4416,1,"New Material Applied",8.5999999999999993E-2,5.3999999999999999E-2,"BOLT,HT, 3/4\" DIA. OR OVER",{"$f":"G2444*'Lookup Tables'!$R$14","v":2.4743000000000004},{"$f":"H2444*'Lookup Tables'!$R$14","v":0},{"$f":"I2444*'Lookup Tables'!$R$14","v":13.243500000000001},{"$f":"J2444*'Lookup Tables'!$R$14","v":8.3167000000000009},{"$f":"K2444*'Lookup Tables'!$R$14","v":10.791}]
[4418,1,"New Material Applied",8.5999999999999993E-2,5.3999999999999999E-2,"TWO-PIECE RIVET, NON-COATED LESS THAN 5/8 INCH DIA",{"$f":"G2445*'Lookup Tables'!$R$14","v":0.68670000000000009},{"$f":"H2445*'Lookup Tables'!$R$14","v":0},{"$f":"I2445*'Lookup Tables'!$R$14","v":13.243500000000001},{"$f":"J2445*'Lookup Tables'!$R$14","v":8.3167000000000009},{"$f":"K2445*'Lookup Tables'!$R$14","v":9.003400000000001}]
[4422,1,"New Material Applied",8.5999999999999993E-2,5.3999999999999999E-2,"TWO-PIECE RIVET, NON-COATED 5/8 INCH DIA OR OVER",{"$f":"G2446*'Lookup Tables'!$R$14","v":2.1582000000000003},{"$f":"H2446*'Lookup Tables'!$R$14","v":0},{"$f":"I2446*'Lookup Tables'!$R$14","v":13.243500000000001},{"$f":"J2446*'Lookup Tables'!$R$14","v":8.3167000000000009},{"$f":"K2446*'Lookup Tables'!$R$14","v":10.4749}]
[4424,1,"New Material Applied",8.5999999999999993E-2,5.3999999999999999E-2,"BOLT,COATED, LESS THAN 5/8\" DIA",{"$f":"G2447*'Lookup Tables'!$R$14","v":0.59950000000000014},{"$f":"H2447*'Lookup Tables'!$R$14","v":0},{"$f":"I2447*'Lookup Tables'!$R$14","v":13.243500000000001},{"$f":"J2447*'Lookup Tables'!$R$14","v":8.3167000000000009},{"$f":"K2447*'Lookup Tables'!$R$14","v":8.9161999999999999}]
[4426,1,"New Material Applied",8.5999999999999993E-2,5.3999999999999999E-2,"BOLT,COATED, 5/8\" DIA. OR OVER",{"$f":"G2448*'Lookup Tables'!$R$14","v":0.45780000000000004},{"$f":"H2448*'Lookup Tables'!$R$14","v":0},{"$f":"I2448*'Lookup Tables'!$R$14","v":13.243500000000001},{"$f":"J2448*'Lookup Tables'!$R$14","v":8.3167000000000009},{"$f":"K2448*'Lookup Tables'!$R$14","v":8.7745000000000015}]
[4428,1,"New Material Applied",8.5999999999999993E-2,5.3999999999999999E-2,"TWO-PIECE RIVET, COATED LESS THAN 5/8 INCH DIAM",{"$f":"G2449*'Lookup Tables'!$R$14","v":0.90470000000000006},{"$f":"H2449*'Lookup Tables'!$R$14","v":0},{"$f":"I2449*'Lookup Tables'!$R$14","v":13.243500000000001},{"$f":"J2449*'Lookup Tables'!$R$14","v":8.3167000000000009},{"$f":"K2449*'Lookup Tables'!$R$14","v":9.2213999999999992}]
[4430,1,"New Material Applied",8.5999999999999993E-2,5.3999999999999999E-2,"TWO-PIECE RIVET, COATED 5/8 INCH DIA OR OVER",{"$f":"G2450*'Lookup Tables'!$R$14","v":1.5478000000000001},{"$f":"H2450*'Lookup Tables'!$R$14","v":0},{"$f":"I2450*'Lookup Tables'!$R$14","v":13.243500000000001},{"$f":"J2450*'Lookup Tables'!$R$14","v":8.3167000000000009},{"$f":"K2450*'Lookup Tables'!$R$14","v":9.8645000000000014}]
[4445,1,"New Material Applied",0,0.17,"NAILS, PER ONE TENTH POUND",{"$f":"G2451*'Lookup Tables'!$R$14","v":8.7200000000000014E-2},{"$f":"H2451*'Lookup Tables'!$R$14","v":0},{"$f":"I2451*'Lookup Tables'!$R$14","v":0},{"$f":"J2451*'Lookup Tables'!$R$14","v":26.170900000000003},{"$f":"K2451*'Lookup Tables'!$R$14","v":26.258100000000002}]
[4450,0,"Labor attention such as: \nactual labor, replacing or rechanging doors, welding, vacant, painting or stenciling, other labor attention",0,1,"LABOR, FREIGHT CAR",{"$f":"G2452*'Lookup Tables'!$R$14","v":0},{"$f":"H2452*'Lookup Tables'!$R$14","v":0},{"$f":"I2452*'Lookup Tables'!$R$14","v":0},{"$f":"J2452*'Lookup Tables'!$R$14","v":153.95160000000001},{"$f":"K2452*'Lookup Tables'!$R$14","v":153.95160000000001}]
[4452,0,"Labor attention such as: \nactual labor, replacing or rechanging doors, welding, vacant, painting or stenciling, other labor attention",0,7.5999999999999998E-2,"LABOR,CONSTANT CONTACT SIDE BEARING COMPONENTS",{"$f":"G2453*'Lookup Tables'!$R$14","v":0},{"$f":"H2453*'Lookup Tables'!$R$14","v":0},{"$f":"I2453*'Lookup Tables'!$R$14","v":0},{"$f":"J2453*'Lookup Tables'!$R$14","v":11.695700000000002},{"$f":"K2453*'Lookup Tables'!$R$14","v":11.695700000000002}]
[4454,0,"Labor attention such as: \nactual labor, replacing or rechanging doors, welding, vacant, painting or stenciling, other labor attention",0,4.9000000000000002E-2,"MA/EW INSPECTIONS-TO REPORT EW/MA INSPECTIONS",{"$f":"G2454*'Lookup Tables'!$R$14","v":0},{"$f":"H2454*'Lookup Tables'!$R$14","v":0},{"$f":"I2454*'Lookup Tables'!$R$14","v":0},{"$f":"J2454*'Lookup Tables'!$R$14","v":7.5428000000000006},{"$f":"K2454*'Lookup Tables'!$R$14","v":7.5428000000000006}]
[4455,0,"Labor attention such as: \nactual labor, replacing or rechanging doors, welding, vacant, painting or stenciling, other labor attention",0,0,"RULE 88 B2 INSPECTION - LABOR",{"$f":"G2455*'Lookup Tables'!$R$14","v":0},{"$f":"H2455*'Lookup Tables'!$R$14","v":0},{"$f":"I2455*'Lookup Tables'!$R$14","v":0},{"$f":"J2455*'Lookup Tables'!$R$14","v":0},{"$f":"K2455*'Lookup Tables'!$R$14","v":0}]
[4456,0,"Labor attention such as: \nactual labor, replacing or rechanging doors, welding, vacant, painting or stenciling, other labor attention",0,2.7429999999999999,"TRAIN DELAY ALLOWANCE, LINE OF ROAD",{"$f":"G2456*'Lookup Tables'!$R$14","v":0},{"$f":"H2456*'Lookup Tables'!$R$14","v":0},{"$f":"I2456*'Lookup Tables'!$R$14","v":0},{"$f":"J2456*'Lookup Tables'!$R$14","v":422.28780000000006},{"$f":"K2456*'Lookup Tables'!$R$14","v":422.28780000000006}]
[4457,0,"Labor attention such as: \nactual labor, replacing or rechanging doors, welding, vacant, painting or stenciling, other labor attention",0,1.075,"SETOUT/PICKUP ALLOWANCE, LINE OF ROAD",{"$f":"G2457*'Lookup Tables'!$R$14","v":0},{"$f":"H2457*'Lookup Tables'!$R$14","v":0},{"$f":"I2457*'Lookup Tables'!$R$14","v":0},{"$f":"J2457*'Lookup Tables'!$R$14","v":165.49470000000002},{"$f":"K2457*'Lookup Tables'!$R$14","v":165.49470000000002}]
[4458,1,"New Material Applied",0,0.82899999999999996,"LABOR, JACK CAR WITH TRUCK SEPARATION",{"$f":"G2458*'Lookup Tables'!$R$14","v":0.16350000000000001},{"$f":"H2458*'Lookup Tables'!$R$14","v":0},{"$f":"I2458*'Lookup Tables'!$R$14","v":0},{"$f":"J2458*'Lookup Tables'!$R$14","v":127.62810000000002},{"$f":"K2458*'Lookup Tables'!$R$14","v":127.79160000000002}]
[4459,1,"New Material Applied",0,1.724,"LABOR, JACK CAR - LINE OF ROAD",{"$f":"G2459*'Lookup Tables'!$R$14","v":0},{"$f":"H2459*'Lookup Tables'!$R$14","v":0},{"$f":"I2459*'Lookup Tables'!$R$14","v":0},{"$f":"J2459*'Lookup Tables'!$R$14","v":265.41500000000002},{"$f":"K2459*'Lookup Tables'!$R$14","v":265.41500000000002}]
[4461,1,"New Material Applied",0,0.54200000000000004,"LABOR, JACK CAR WITHOUT TRUCK SEPARATION",{"$f":"G2460*'Lookup Tables'!$R$14","v":0.16350000000000001},{"$f":"H2460*'Lookup Tables'!$R$14","v":0},{"$f":"I2460*'Lookup Tables'!$R$14","v":0},{"$f":"J2460*'Lookup Tables'!$R$14","v":83.43950000000001},{"$f":"K2460*'Lookup Tables'!$R$14","v":83.603000000000009}]
[4462,9,"Remove and replace same part",0,0.88200000000000001,"SOLID DRAW BAR CONNECTION - LABOR",{"$f":"G2461*'Lookup Tables'!$R$14","v":4.7742000000000004},{"$f":"H2461*'Lookup Tables'!$R$14","v":0},{"$f":"I2461*'Lookup Tables'!$R$14","v":0},{"$f":"J2461*'Lookup Tables'!$R$14","v":135.78130000000002},{"$f":"K2461*'Lookup Tables'!$R$14","v":140.55549999999999}]
[4465,0,"Labor attention such as: \nactual labor, replacing or rechanging doors, welding, vacant, painting or stenciling, other labor attention",0,0.32500000000000001,"LABOR-ACC TRK SIDE FRM WEAR PLT-RIDE CNTRL OR XCR",{"$f":"G2462*'Lookup Tables'!$R$14","v":0},{"$f":"H2462*'Lookup Tables'!$R$14","v":0},{"$f":"I2462*'Lookup Tables'!$R$14","v":0},{"$f":"J2462*'Lookup Tables'!$R$14","v":50.030999999999999},{"$f":"K2462*'Lookup Tables'!$R$14","v":50.030999999999999}]
[4466,0,"Labor attention such as: \nactual labor, replacing or rechanging doors, welding, vacant, painting or stenciling, other labor attention",0,0.19700000000000001,"LABOR-ACC TRK SIDE FRAME WEAR PLT-BARBER/SWING MTN",{"$f":"G2463*'Lookup Tables'!$R$14","v":0},{"$f":"H2463*'Lookup Tables'!$R$14","v":0},{"$f":"I2463*'Lookup Tables'!$R$14","v":0},{"$f":"J2463*'Lookup Tables'!$R$14","v":30.323800000000002},{"$f":"K2463*'Lookup Tables'!$R$14","v":30.323800000000002}]
[4467,0,"Labor attention such as: \nactual labor, replacing or rechanging doors, welding, vacant, painting or stenciling, other labor attention",0,0.33600000000000002,"LABOR, R&R RIDE CONTROL OR XCR SIDE FRAME",{"$f":"G2464*'Lookup Tables'!$R$14","v":0},{"$f":"H2464*'Lookup Tables'!$R$14","v":0},{"$f":"I2464*'Lookup Tables'!$R$14","v":0},{"$f":"J2464*'Lookup Tables'!$R$14","v":51.731400000000008},{"$f":"K2464*'Lookup Tables'!$R$14","v":51.731400000000008}]
[4469,9,"Remove and replace same part",0,0.61499999999999999,"R & R SLACK ADJUSTER, ANY TYPE",{"$f":"G2465*'Lookup Tables'!$R$14","v":0.49050000000000005},{"$f":"H2465*'Lookup Tables'!$R$14","v":0},{"$f":"I2465*'Lookup Tables'!$R$14","v":0},{"$f":"J2465*'Lookup Tables'!$R$14","v":94.677400000000006},{"$f":"K2465*'Lookup Tables'!$R$14","v":95.167900000000003}]
[4470,1,"New Material Applied",0,1.492,"LABOR, DRAFT GEAR AND/OR YOKE",{"$f":"G2466*'Lookup Tables'!$R$14","v":8.7636000000000003},{"$f":"H2466*'Lookup Tables'!$R$14","v":0},{"$f":"I2466*'Lookup Tables'!$R$14","v":0},{"$f":"J2466*'Lookup Tables'!$R$14","v":229.69570000000002},{"$f":"K2466*'Lookup Tables'!$R$14","v":238.45929999999998}]
[4470,9,"Remove and replace same part",0,0.76700000000000002,"LABOR, DRAFT GEAR AND/OR YOKE",{"$f":"G2467*'Lookup Tables'!$R$14","v":8.7636000000000003},{"$f":"H2467*'Lookup Tables'!$R$14","v":0},{"$f":"I2467*'Lookup Tables'!$R$14","v":0},{"$f":"J2467*'Lookup Tables'!$R$14","v":118.0797},{"$f":"K2467*'Lookup Tables'!$R$14","v":126.84330000000001}]
[4474,9,"Remove and replace same part",0,0.56499999999999995,"R&R COUPLER BODY, E TYPE",{"$f":"G2468*'Lookup Tables'!$R$14","v":0.16350000000000001},{"$f":"H2468*'Lookup Tables'!$R$14","v":0},{"$f":"I2468*'Lookup Tables'!$R$14","v":0},{"$f":"J2468*'Lookup Tables'!$R$14","v":86.981999999999999},{"$f":"K2468*'Lookup Tables'!$R$14","v":87.145500000000013}]
[4474,"T","Component transfer",0,0,"R&R COUPLER BODY, E TYPE",{"$f":"G2469*'Lookup Tables'!$R$14","v":0},{"$f":"H2469*'Lookup Tables'!$R$14","v":0},{"$f":"I2469*'Lookup Tables'!$R$14","v":0},{"$f":"J2469*'Lookup Tables'!$R$14","v":0},{"$f":"K2469*'Lookup Tables'!$R$14","v":0}]
[4478,9,"Remove and replace same part",0,0.86699999999999999,"R&R COUPLER BODY, TYPE E/F OR F",{"$f":"G2470*'Lookup Tables'!$R$14","v":0.16350000000000001},{"$f":"H2470*'Lookup Tables'!$R$14","v":0},{"$f":"I2470*'Lookup Tables'!$R$14","v":0},{"$f":"J2470*'Lookup Tables'!$R$14","v":133.48140000000001},{"$f":"K2470*'Lookup Tables'!$R$14","v":133.64490000000001}]
[4478,"T","Component transfer",0,0,"R&R COUPLER BODY, TYPE E/F OR F",{"$f":"G2471*'Lookup Tables'!$R$14","v":0},{"$f":"H2471*'Lookup Tables'!$R$14","v":0},{"$f":"I2471*'Lookup Tables'!$R$14","v":0},{"$f":"J2471*'Lookup Tables'!$R$14","v":0},{"$f":"K2471*'Lookup Tables'!$R$14","v":0}]
[4480,9,"Remove and replace same part",0,1,"LOAD R&R FOR SAFETY APPL, OPEN TOP CAR",{"$f":"G2472*'Lookup Tables'!$R$14","v":0},{"$f":"H2472*'Lookup Tables'!$R$14","v":0},{"$f":"I2472*'Lookup Tables'!$R$14","v":0},{"$f":"J2472*'Lookup Tables'!$R$14","v":153.95160000000001},{"$f":"K2472*'Lookup Tables'!$R$14","v":153.95160000000001}]
[4482,0,"Labor attention such as: \nactual labor, replacing or rechanging doors, welding, vacant, painting or stenciling, other labor attention",0,0.107,"LABOR, FALL PROTECTION",{"$f":"G2473*'Lookup Tables'!$R$14","v":0},{"$f":"H2473*'Lookup Tables'!$R$14","v":0},{"$f":"I2473*'Lookup Tables'!$R$14","v":0},{"$f":"J2473*'Lookup Tables'!$R$14","v":16.469899999999999},{"$f":"K2473*'Lookup Tables'!$R$14","v":16.469899999999999}]
[4486,0,"Labor attention such as: \nactual labor, replacing or rechanging doors, welding, vacant, painting or stenciling, other labor attention",0,32.058,"LOADING ALLOWANCE",{"$f":"G2474*'Lookup Tables'!$R$14","v":0},{"$f":"H2474*'Lookup Tables'!$R$14","v":0},{"$f":"I2474*'Lookup Tables'!$R$14","v":0},{"$f":"J2474*'Lookup Tables'!$R$14","v":4935.3783000000003},{"$f":"K2474*'Lookup Tables'!$R$14","v":4935.3783000000003}]
[4488,0,"Labor attention such as: \nactual labor, replacing or rechanging doors, welding, vacant, painting or stenciling, other labor attention",0,8.1229999999999993,"UNLOADING ALLOWANCE",{"$f":"G2475*'Lookup Tables'!$R$14","v":0},{"$f":"H2475*'Lookup Tables'!$R$14","v":0},{"$f":"I2475*'Lookup Tables'!$R$14","v":0},{"$f":"J2475*'Lookup Tables'!$R$14","v":1250.5461},{"$f":"K2475*'Lookup Tables'!$R$14","v":1250.5461}]
[4489,0,"Labor attention such as: \nactual labor, replacing or rechanging doors, welding, vacant, painting or stenciling, other labor attention",0,1.7290000000000001,"DISMANTLING ALLOWANCE",{"$f":"G2476*'Lookup Tables'!$R$14","v":0},{"$f":"H2476*'Lookup Tables'!$R$14","v":0},{"$f":"I2476*'Lookup Tables'!$R$14","v":0},{"$f":"J2476*'Lookup Tables'!$R$14","v":266.178},{"$f":"K2476*'Lookup Tables'!$R$14","v":266.178}]
[4490,8,"Remove, repair, and replace same part",0,8.9999999999999993E-3,"STRAIGHTEN  PART OFF CAR",{"$f":"G2477*'Lookup Tables'!$R$14","v":0},{"$f":"H2477*'Lookup Tables'!$R$14","v":0},{"$f":"I2477*'Lookup Tables'!$R$14","v":0},{"$f":"J2477*'Lookup Tables'!$R$14","v":1.3843000000000001},{"$f":"K2477*'Lookup Tables'!$R$14","v":1.3843000000000001}]
[4500,1,"New Material Applied",0,0.2,"SEAL HOOK-PIN-WEDGE",{"$f":"G2478*'Lookup Tables'!$R$14","v":15.303599999999999},{"$f":"H2478*'Lookup Tables'!$R$14","v":0},{"$f":"I2478*'Lookup Tables'!$R$14","v":0},{"$f":"J2478*'Lookup Tables'!$R$14","v":30.792500000000004},{"$f":"K2478*'Lookup Tables'!$R$14","v":46.0961}]
[4500,2,"Secondhand Material Applied",0,0.2,"SEAL HOOK-PIN-WEDGE",{"$f":"G2479*'Lookup Tables'!$R$14","v":7.6517999999999997},{"$f":"H2479*'Lookup Tables'!$R$14","v":0},{"$f":"I2479*'Lookup Tables'!$R$14","v":0},{"$f":"J2479*'Lookup Tables'!$R$14","v":30.792500000000004},{"$f":"K2479*'Lookup Tables'!$R$14","v":38.444299999999998}]
[4506,1,"New Material Applied",0,0.66,"SIDE DOOR LOCK ASSEMBLY",{"$f":"G2480*'Lookup Tables'!$R$14","v":88.93310000000001},{"$f":"H2480*'Lookup Tables'!$R$14","v":1.5587},{"$f":"I2480*'Lookup Tables'!$R$14","v":0},{"$f":"J2480*'Lookup Tables'!$R$14","v":101.60980000000001},{"$f":"K2480*'Lookup Tables'!$R$14","v":190.5429}]
[4506,2,"Secondhand Material Applied",0,0.66,"SIDE DOOR LOCK ASSEMBLY",{"$f":"G2481*'Lookup Tables'!$R$14","v":45.158700000000003},{"$f":"H2481*'Lookup Tables'!$R$14","v":1.5587},{"$f":"I2481*'Lookup Tables'!$R$14","v":0},{"$f":"J2481*'Lookup Tables'!$R$14","v":101.60980000000001},{"$f":"K2481*'Lookup Tables'!$R$14","v":146.76850000000002}]
[4508,1,"New Material Applied",0,0.35399999999999998,"DOOR HASP",{"$f":"G2482*'Lookup Tables'!$R$14","v":26.933900000000001},{"$f":"H2482*'Lookup Tables'!$R$14","v":0},{"$f":"I2482*'Lookup Tables'!$R$14","v":0},{"$f":"J2482*'Lookup Tables'!$R$14","v":54.500000000000007},{"$f":"K2482*'Lookup Tables'!$R$14","v":81.433900000000008}]
[4508,2,"Secondhand Material Applied",0,0.35399999999999998,"DOOR HASP",{"$f":"G2483*'Lookup Tables'!$R$14","v":13.4724},{"$f":"H2483*'Lookup Tables'!$R$14","v":0},{"$f":"I2483*'Lookup Tables'!$R$14","v":0},{"$f":"J2483*'Lookup Tables'!$R$14","v":54.500000000000007},{"$f":"K2483*'Lookup Tables'!$R$14","v":67.972400000000007}]
[4512,1,"New Material Applied",0,0.47199999999999998,"DOOR HASP FASTENER",{"$f":"G2484*'Lookup Tables'!$R$14","v":59.830100000000002},{"$f":"H2484*'Lookup Tables'!$R$14","v":0},{"$f":"I2484*'Lookup Tables'!$R$14","v":0},{"$f":"J2484*'Lookup Tables'!$R$14","v":72.670300000000012},{"$f":"K2484*'Lookup Tables'!$R$14","v":132.50040000000001}]
[4512,2,"Secondhand Material Applied",0,0.47199999999999998,"DOOR HASP FASTENER",{"$f":"G2485*'Lookup Tables'!$R$14","v":29.920500000000001},{"$f":"H2485*'Lookup Tables'!$R$14","v":0},{"$f":"I2485*'Lookup Tables'!$R$14","v":0},{"$f":"J2485*'Lookup Tables'!$R$14","v":72.670300000000012},{"$f":"K2485*'Lookup Tables'!$R$14","v":102.59080000000002}]
[4528,9,"Remove and replace same part",0,0.8,"SIDE DOOR, R&R OR R, NON-FLUSH TYPE",{"$f":"G2486*'Lookup Tables'!$R$14","v":0},{"$f":"H2486*'Lookup Tables'!$R$14","v":0},{"$f":"I2486*'Lookup Tables'!$R$14","v":0},{"$f":"J2486*'Lookup Tables'!$R$14","v":123.15910000000001},{"$f":"K2486*'Lookup Tables'!$R$14","v":123.15910000000001}]
[4530,1,"New Material Applied",0,0,"PLUG DOOR ROLLER ASSEMBLY",{"$f":"G2487*'Lookup Tables'!$R$14","v":90.415500000000009},{"$f":"H2487*'Lookup Tables'!$R$14","v":1.5587},{"$f":"I2487*'Lookup Tables'!$R$14","v":0},{"$f":"J2487*'Lookup Tables'!$R$14","v":0},{"$f":"K2487*'Lookup Tables'!$R$14","v":90.415500000000009}]
[4530,2,"Secondhand Material Applied",0,0,"PLUG DOOR ROLLER ASSEMBLY",{"$f":"G2488*'Lookup Tables'!$R$14","v":45.213200000000001},{"$f":"H2488*'Lookup Tables'!$R$14","v":1.5587},{"$f":"I2488*'Lookup Tables'!$R$14","v":0},{"$f":"J2488*'Lookup Tables'!$R$14","v":0},{"$f":"K2488*'Lookup Tables'!$R$14","v":45.213200000000001}]
[4532,9,"Remove and replace same part",0,3,"SIDE DOOR, R&R OR R, FLUSH PLUG TYPE",{"$f":"G2489*'Lookup Tables'!$R$14","v":0},{"$f":"H2489*'Lookup Tables'!$R$14","v":0},{"$f":"I2489*'Lookup Tables'!$R$14","v":0},{"$f":"J2489*'Lookup Tables'!$R$14","v":461.85480000000007},{"$f":"K2489*'Lookup Tables'!$R$14","v":461.85480000000007}]
[4534,0,"Labor attention such as: \nactual labor, replacing or rechanging doors, welding, vacant, painting or stenciling, other labor attention",0,1.456,"FLUSH PLUG TYPE DOOR REPLACED",{"$f":"G2490*'Lookup Tables'!$R$14","v":0},{"$f":"H2490*'Lookup Tables'!$R$14","v":0},{"$f":"I2490*'Lookup Tables'!$R$14","v":0},{"$f":"J2490*'Lookup Tables'!$R$14","v":224.15850000000003},{"$f":"K2490*'Lookup Tables'!$R$14","v":224.15850000000003}]
[4536,0,"Labor attention such as: \nactual labor, replacing or rechanging doors, welding, vacant, painting or stenciling, other labor attention",0,0.4,"NON-FLUSH SIDE DOOR REPLACED",{"$f":"G2491*'Lookup Tables'!$R$14","v":0},{"$f":"H2491*'Lookup Tables'!$R$14","v":0},{"$f":"I2491*'Lookup Tables'!$R$14","v":0},{"$f":"J2491*'Lookup Tables'!$R$14","v":61.585000000000008},{"$f":"K2491*'Lookup Tables'!$R$14","v":61.585000000000008}]
[4538,0,"Labor attention such as: \nactual labor, replacing or rechanging doors, welding, vacant, painting or stenciling, other labor attention",0,0,"SIDE DOOR OR END DOOR CLOSED",{"$f":"G2492*'Lookup Tables'!$R$14","v":0},{"$f":"H2492*'Lookup Tables'!$R$14","v":0},{"$f":"I2492*'Lookup Tables'!$R$14","v":0},{"$f":"J2492*'Lookup Tables'!$R$14","v":0},{"$f":"K2492*'Lookup Tables'!$R$14","v":0}]
[4540,0,"Labor attention such as: \nactual labor, replacing or rechanging doors, welding, vacant, painting or stenciling, other labor attention",0,0,"BOXCAR DOOR INSPECTION & LUBRICATION",{"$f":"G2493*'Lookup Tables'!$R$14","v":0},{"$f":"H2493*'Lookup Tables'!$R$14","v":0},{"$f":"I2493*'Lookup Tables'!$R$14","v":0},{"$f":"J2493*'Lookup Tables'!$R$14","v":0},{"$f":"K2493*'Lookup Tables'!$R$14","v":0}]
[4550,1,"New Material Applied",0,0,"LUMBER",{"$f":"G2494*'Lookup Tables'!$R$14","v":2.9975000000000001},{"$f":"H2494*'Lookup Tables'!$R$14","v":0},{"$f":"I2494*'Lookup Tables'!$R$14","v":0},{"$f":"J2494*'Lookup Tables'!$R$14","v":0},{"$f":"K2494*'Lookup Tables'!$R$14","v":2.9975000000000001}]
[4554,1,"New Material Applied",0,0.01,"PLYWOOD, 1/4 INCH THICK",{"$f":"G2495*'Lookup Tables'!$R$14","v":0.71940000000000004},{"$f":"H2495*'Lookup Tables'!$R$14","v":0},{"$f":"I2495*'Lookup Tables'!$R$14","v":0},{"$f":"J2495*'Lookup Tables'!$R$14","v":1.5368999999999999},{"$f":"K2495*'Lookup Tables'!$R$14","v":2.2563}]
[4558,1,"New Material Applied",0,0.01,"PLYWOOD, 1/2 INCH THICK",{"$f":"G2496*'Lookup Tables'!$R$14","v":0.95920000000000005},{"$f":"H2496*'Lookup Tables'!$R$14","v":0},{"$f":"I2496*'Lookup Tables'!$R$14","v":0},{"$f":"J2496*'Lookup Tables'!$R$14","v":1.5368999999999999},{"$f":"K2496*'Lookup Tables'!$R$14","v":2.4961000000000002}]
[4580,1,"New Material Applied",9.4E-2,0.1,"HAND HOLD OR GRAB IRON 36 INCH OR LESS",{"$f":"G2497*'Lookup Tables'!$R$14","v":16.284600000000001},{"$f":"H2497*'Lookup Tables'!$R$14","v":0.59950000000000014},{"$f":"I2497*'Lookup Tables'!$R$14","v":14.475200000000001},{"$f":"J2497*'Lookup Tables'!$R$14","v":15.3908},{"$f":"K2497*'Lookup Tables'!$R$14","v":31.6754}]
[4580,8,"Remove, repair, and replace same part",9.4E-2,0.1,"HAND HOLD OR GRAB IRON 36 INCH OR LESS",{"$f":"G2498*'Lookup Tables'!$R$14","v":16.284600000000001},{"$f":"H2498*'Lookup Tables'!$R$14","v":0.59950000000000014},{"$f":"I2498*'Lookup Tables'!$R$14","v":14.475200000000001},{"$f":"J2498*'Lookup Tables'!$R$14","v":15.3908},{"$f":"K2498*'Lookup Tables'!$R$14","v":31.6754}]
[4582,1,"New Material Applied",9.4E-2,0.1,"HAND HOLD OR GRAB IRON OVER 36\" LONG -UP TO 72\"",{"$f":"G2499*'Lookup Tables'!$R$14","v":31.773500000000002},{"$f":"H2499*'Lookup Tables'!$R$14","v":0.95920000000000005},{"$f":"I2499*'Lookup Tables'!$R$14","v":14.475200000000001},{"$f":"J2499*'Lookup Tables'!$R$14","v":15.3908},{"$f":"K2499*'Lookup Tables'!$R$14","v":47.164299999999997}]
[4582,8,"Remove, repair, and replace same part",9.4E-2,0.1,"HAND HOLD OR GRAB IRON OVER 36\" LONG -UP TO 72\"",{"$f":"G2500*'Lookup Tables'!$R$14","v":31.773500000000002},{"$f":"H2500*'Lookup Tables'!$R$14","v":0.95920000000000005},{"$f":"I2500*'Lookup Tables'!$R$14","v":14.475200000000001},{"$f":"J2500*'Lookup Tables'!$R$14","v":15.3908},{"$f":"K2500*'Lookup Tables'!$R$14","v":47.164299999999997}]
[4583,8,"Remove, repair, and replace same part",9.4E-2,0.1,"HAND HOLD OR GRAB IRON OVER 72\" LONG",{"$f":"G2501*'Lookup Tables'!$R$14","v":31.773500000000002},{"$f":"H2501*'Lookup Tables'!$R$14","v":1.7985},{"$f":"I2501*'Lookup Tables'!$R$14","v":14.475200000000001},{"$f":"J2501*'Lookup Tables'!$R$14","v":15.3908},{"$f":"K2501*'Lookup Tables'!$R$14","v":47.164299999999997}]
[4584,1,"New Material Applied",0,0.20399999999999999,"SILL STEP WITHOUT CENTER TREAD",{"$f":"G2502*'Lookup Tables'!$R$14","v":46.466700000000003},{"$f":"H2502*'Lookup Tables'!$R$14","v":1.4388000000000001},{"$f":"I2502*'Lookup Tables'!$R$14","v":0},{"$f":"J2502*'Lookup Tables'!$R$14","v":31.402900000000002},{"$f":"K2502*'Lookup Tables'!$R$14","v":77.869600000000005}]
[4584,8,"Remove, repair, and replace same part",0,0.20399999999999999,"SILL STEP WITHOUT CENTER TREAD",{"$f":"G2503*'Lookup Tables'!$R$14","v":46.466700000000003},{"$f":"H2503*'Lookup Tables'!$R$14","v":1.4388000000000001},{"$f":"I2503*'Lookup Tables'!$R$14","v":0},{"$f":"J2503*'Lookup Tables'!$R$14","v":31.402900000000002},{"$f":"K2503*'Lookup Tables'!$R$14","v":77.869600000000005}]
[4588,1,"New Material Applied",0,0.42,"SILL STEP WITH CENTER TREAD",{"$f":"G2504*'Lookup Tables'!$R$14","v":61.955600000000011},{"$f":"H2504*'Lookup Tables'!$R$14","v":1.9184000000000001},{"$f":"I2504*'Lookup Tables'!$R$14","v":0},{"$f":"J2504*'Lookup Tables'!$R$14","v":64.658799999999999},{"$f":"K2504*'Lookup Tables'!$R$14","v":126.6144}]
[4588,8,"Remove, repair, and replace same part",0,0.42,"SILL STEP WITH CENTER TREAD",{"$f":"G2505*'Lookup Tables'!$R$14","v":61.955600000000011},{"$f":"H2505*'Lookup Tables'!$R$14","v":1.9184000000000001},{"$f":"I2505*'Lookup Tables'!$R$14","v":0},{"$f":"J2505*'Lookup Tables'!$R$14","v":64.658799999999999},{"$f":"K2505*'Lookup Tables'!$R$14","v":126.6144}]
[4592,1,"New Material Applied",0,0.13600000000000001,"LADDER TREAD",{"$f":"G2506*'Lookup Tables'!$R$14","v":16.284600000000001},{"$f":"H2506*'Lookup Tables'!$R$14","v":0.47960000000000003},{"$f":"I2506*'Lookup Tables'!$R$14","v":0},{"$f":"J2506*'Lookup Tables'!$R$14","v":20.938900000000004},{"$f":"K2506*'Lookup Tables'!$R$14","v":37.223500000000001}]
[4592,8,{"$f":"VLOOKUP(B1156,$B$2686:$C$2701,2,FALSE)","v":"Remove, repair, and replace same part"},0,0.13600000000000001,"LADDER TREAD",{"$f":"G2507*'Lookup Tables'!$R$14","v":16.284600000000001},{"$f":"H2507*'Lookup Tables'!$R$14","v":0.47960000000000003},{"$f":"I2507*'Lookup Tables'!$R$14","v":0},{"$f":"J2507*'Lookup Tables'!$R$14","v":20.938900000000004},{"$f":"K2507*'Lookup Tables'!$R$14","v":37.223500000000001}]
[4593,1,"New Material Applied",9.4E-2,0.34799999999999998,"LADDER COMPLETE 2, 3, OR 4 TREADS",{"$f":"G2508*'Lookup Tables'!$R$14","v":70.076100000000011},{"$f":"H2508*'Lookup Tables'!$R$14","v":4.0766000000000009},{"$f":"I2508*'Lookup Tables'!$R$14","v":14.475200000000001},{"$f":"J2508*'Lookup Tables'!$R$14","v":53.573500000000003},{"$f":"K2508*'Lookup Tables'!$R$14","v":123.64960000000001}]
[4593,8,"Remove, repair, and replace same part",9.4E-2,0.34799999999999998,"LADDER COMPLETE 2, 3, OR 4 TREADS",{"$f":"G2509*'Lookup Tables'!$R$14","v":62.991100000000003},{"$f":"H2509*'Lookup Tables'!$R$14","v":0},{"$f":"I2509*'Lookup Tables'!$R$14","v":14.475200000000001},{"$f":"J2509*'Lookup Tables'!$R$14","v":53.573500000000003},{"$f":"K2509*'Lookup Tables'!$R$14","v":116.56460000000001}]
[4594,1,"New Material Applied",0,2.6280000000000001,"LADDER COMPLETE 5, 6, OR 7 TREADS",{"$f":"G2510*'Lookup Tables'!$R$14","v":131.7047},{"$f":"H2510*'Lookup Tables'!$R$14","v":7.7935000000000008},{"$f":"I2510*'Lookup Tables'!$R$14","v":0},{"$f":"J2510*'Lookup Tables'!$R$14","v":404.58620000000002},{"$f":"K2510*'Lookup Tables'!$R$14","v":536.29090000000008}]
[4594,8,"Remove, repair, and replace same part",0,2.6280000000000001,"LADDER COMPLETE 5, 6, OR 7 TREADS",{"$f":"G2511*'Lookup Tables'!$R$14","v":118.53750000000001},{"$f":"H2511*'Lookup Tables'!$R$14","v":0},{"$f":"I2511*'Lookup Tables'!$R$14","v":0},{"$f":"J2511*'Lookup Tables'!$R$14","v":404.58620000000002},{"$f":"K2511*'Lookup Tables'!$R$14","v":523.1237000000001}]
[4595,1,"New Material Applied",0,3.504,"LADDER COMPLETE 8, 9, OR 10 TREADS",{"$f":"G2512*'Lookup Tables'!$R$14","v":144.57759999999999},{"$f":"H2512*'Lookup Tables'!$R$14","v":10.0716},{"$f":"I2512*'Lookup Tables'!$R$14","v":0},{"$f":"J2512*'Lookup Tables'!$R$14","v":539.45190000000002},{"$f":"K2512*'Lookup Tables'!$R$14","v":684.02949999999998}]
[4595,8,"Remove, repair, and replace same part",0,3.504,"LADDER COMPLETE 8, 9, OR 10 TREADS",{"$f":"G2513*'Lookup Tables'!$R$14","v":129.3939},{"$f":"H2513*'Lookup Tables'!$R$14","v":0},{"$f":"I2513*'Lookup Tables'!$R$14","v":0},{"$f":"J2513*'Lookup Tables'!$R$14","v":539.45190000000002},{"$f":"K2513*'Lookup Tables'!$R$14","v":668.84580000000005}]
[4602,1,"New Material Applied",0,1.4E-2,"PAINT, ALKYD OR LATEX",{"$f":"G2514*'Lookup Tables'!$R$14","v":0.2616},{"$f":"H2514*'Lookup Tables'!$R$14","v":0},{"$f":"I2514*'Lookup Tables'!$R$14","v":0},{"$f":"J2514*'Lookup Tables'!$R$14","v":2.1582000000000003},{"$f":"K2514*'Lookup Tables'!$R$14","v":2.4198}]
[4606,0,"Labor attention such as: \nactual labor, replacing or rechanging doors, welding, vacant, painting or stenciling, other labor attention",0,1.4E-2,"PAINT LABOR",{"$f":"G2515*'Lookup Tables'!$R$14","v":0},{"$f":"H2515*'Lookup Tables'!$R$14","v":0},{"$f":"I2515*'Lookup Tables'!$R$14","v":0},{"$f":"J2515*'Lookup Tables'!$R$14","v":2.1582000000000003},{"$f":"K2515*'Lookup Tables'!$R$14","v":2.1582000000000003}]
[4608,0,"Labor attention such as: \nactual labor, replacing or rechanging doors, welding, vacant, painting or stenciling, other labor attention",0,0.36699999999999999,"STENCIL REPORTING MARKS- 1 END",{"$f":"G2516*'Lookup Tables'!$R$14","v":0},{"$f":"H2516*'Lookup Tables'!$R$14","v":0},{"$f":"I2516*'Lookup Tables'!$R$14","v":0},{"$f":"J2516*'Lookup Tables'!$R$14","v":56.505600000000008},{"$f":"K2516*'Lookup Tables'!$R$14","v":56.505600000000008}]
[4612,0,"Labor attention such as: \nactual labor, replacing or rechanging doors, welding, vacant, painting or stenciling, other labor attention",0,0.36699999999999999,"STENCIL REPORTING MARKS - 1 SIDE",{"$f":"G2517*'Lookup Tables'!$R$14","v":0},{"$f":"H2517*'Lookup Tables'!$R$14","v":0},{"$f":"I2517*'Lookup Tables'!$R$14","v":0},{"$f":"J2517*'Lookup Tables'!$R$14","v":56.505600000000008},{"$f":"K2517*'Lookup Tables'!$R$14","v":56.505600000000008}]
[4616,0,"Labor attention such as: \nactual labor, replacing or rechanging doors, welding, vacant, painting or stenciling, other labor attention",0,1.4670000000000001,"STENCIL REPORTING MARKS- 2 SIDES  & ENDS",{"$f":"G2518*'Lookup Tables'!$R$14","v":0},{"$f":"H2518*'Lookup Tables'!$R$14","v":0},{"$f":"I2518*'Lookup Tables'!$R$14","v":0},{"$f":"J2518*'Lookup Tables'!$R$14","v":225.84800000000001},{"$f":"K2518*'Lookup Tables'!$R$14","v":225.84800000000001}]
[4624,1,"New Material Applied",8.8999999999999996E-2,0.03,"BUILT STENCIL-PER SIDE",{"$f":"G2519*'Lookup Tables'!$R$14","v":4.2946},{"$f":"H2519*'Lookup Tables'!$R$14","v":0},{"$f":"I2519*'Lookup Tables'!$R$14","v":13.701300000000002},{"$f":"J2519*'Lookup Tables'!$R$14","v":4.6216000000000008},{"$f":"K2519*'Lookup Tables'!$R$14","v":8.9161999999999999}]
[4626,1,"New Material Applied",0,9.4E-2,"BRAKE CYLINDER PISTON TRAVEL DECAL",{"$f":"G2520*'Lookup Tables'!$R$14","v":2.4634},{"$f":"H2520*'Lookup Tables'!$R$14","v":0},{"$f":"I2520*'Lookup Tables'!$R$14","v":0},{"$f":"J2520*'Lookup Tables'!$R$14","v":14.475200000000001},{"$f":"K2520*'Lookup Tables'!$R$14","v":16.938600000000001}]
[4628,1,"New Material Applied",8.8999999999999996E-2,2.3E-2,"THIS CAR EXCESS HEIGHT DECAL",{"$f":"G2521*'Lookup Tables'!$R$14","v":3.1501000000000006},{"$f":"H2521*'Lookup Tables'!$R$14","v":0},{"$f":"I2521*'Lookup Tables'!$R$14","v":13.701300000000002},{"$f":"J2521*'Lookup Tables'!$R$14","v":3.5425000000000004},{"$f":"K2521*'Lookup Tables'!$R$14","v":6.6926000000000014}]
[4712,0,"Labor attention such as: \nactual labor, replacing or rechanging doors, welding, vacant, painting or stenciling, other labor attention",0,0.216,"BOTTOM OUTLET CAP, THREADED TYPE",{"$f":"G2522*'Lookup Tables'!$R$14","v":0},{"$f":"H2522*'Lookup Tables'!$R$14","v":0},{"$f":"I2522*'Lookup Tables'!$R$14","v":0},{"$f":"J2522*'Lookup Tables'!$R$14","v":33.255900000000004},{"$f":"K2522*'Lookup Tables'!$R$14","v":33.255900000000004}]
[4712,9,"Remove and replace same part",0,0.216,"BOTTOM OUTLET CAP, THREADED TYPE",{"$f":"G2523*'Lookup Tables'!$R$14","v":0},{"$f":"H2523*'Lookup Tables'!$R$14","v":0},{"$f":"I2523*'Lookup Tables'!$R$14","v":0},{"$f":"J2523*'Lookup Tables'!$R$14","v":33.255900000000004},{"$f":"K2523*'Lookup Tables'!$R$14","v":33.255900000000004}]
[4716,0,"Labor attention such as: \nactual labor, replacing or rechanging doors, welding, vacant, painting or stenciling, other labor attention",0,7.5999999999999998E-2,"BOTTOM OUTLET CAP, CAM-LOCK TYPE",{"$f":"G2524*'Lookup Tables'!$R$14","v":0},{"$f":"H2524*'Lookup Tables'!$R$14","v":0},{"$f":"I2524*'Lookup Tables'!$R$14","v":0},{"$f":"J2524*'Lookup Tables'!$R$14","v":11.695700000000002},{"$f":"K2524*'Lookup Tables'!$R$14","v":11.695700000000002}]
[4716,9,"Remove and replace same part",0,7.5999999999999998E-2,"BOTTOM OUTLET CAP, CAM-LOCK TYPE",{"$f":"G2525*'Lookup Tables'!$R$14","v":0},{"$f":"H2525*'Lookup Tables'!$R$14","v":0},{"$f":"I2525*'Lookup Tables'!$R$14","v":0},{"$f":"J2525*'Lookup Tables'!$R$14","v":11.695700000000002},{"$f":"K2525*'Lookup Tables'!$R$14","v":11.695700000000002}]
[4744,1,"New Material Applied",0,0,"WATER FOR TESTING TANK",{"$f":"G2526*'Lookup Tables'!$R$14","v":0.63219999999999998},{"$f":"H2526*'Lookup Tables'!$R$14","v":0},{"$f":"I2526*'Lookup Tables'!$R$14","v":0},{"$f":"J2526*'Lookup Tables'!$R$14","v":0},{"$f":"K2526*'Lookup Tables'!$R$14","v":0.63219999999999998}]
[4748,1,"New Material Applied",0,0,"PIPE FOR RAILINGS, 1-1/4 INCHES",{"$f":"G2527*'Lookup Tables'!$R$14","v":3.6842000000000001},{"$f":"H2527*'Lookup Tables'!$R$14","v":0.35970000000000002},{"$f":"I2527*'Lookup Tables'!$R$14","v":0},{"$f":"J2527*'Lookup Tables'!$R$14","v":0},{"$f":"K2527*'Lookup Tables'!$R$14","v":3.6842000000000001}]
[4748,2,"Secondhand Material Applied",0,0,"PIPE FOR RAILINGS, 1-1/4 INCHES",{"$f":"G2528*'Lookup Tables'!$R$14","v":1.8421000000000001},{"$f":"H2528*'Lookup Tables'!$R$14","v":0.35970000000000002},{"$f":"I2528*'Lookup Tables'!$R$14","v":0},{"$f":"J2528*'Lookup Tables'!$R$14","v":0},{"$f":"K2528*'Lookup Tables'!$R$14","v":1.8421000000000001}]
[4750,0,"Labor attention such as: \nactual labor, replacing or rechanging doors, welding, vacant, painting or stenciling, other labor attention",0,0.15,"THREADING PIPE, PER END",{"$f":"G2529*'Lookup Tables'!$R$14","v":0},{"$f":"H2529*'Lookup Tables'!$R$14","v":0},{"$f":"I2529*'Lookup Tables'!$R$14","v":0},{"$f":"J2529*'Lookup Tables'!$R$14","v":23.097100000000005},{"$f":"K2529*'Lookup Tables'!$R$14","v":23.097100000000005}]
[4752,1,"New Material Applied",0,0.1,"PIPE FITTING, COUPLING, ANY TYPE",{"$f":"G2530*'Lookup Tables'!$R$14","v":10.028},{"$f":"H2530*'Lookup Tables'!$R$14","v":0},{"$f":"I2530*'Lookup Tables'!$R$14","v":0},{"$f":"J2530*'Lookup Tables'!$R$14","v":15.3908},{"$f":"K2530*'Lookup Tables'!$R$14","v":25.418800000000001}]
[4752,2,"Secondhand Material Applied",0,0.1,"PIPE FITTING, COUPLING, ANY TYPE",{"$f":"G2531*'Lookup Tables'!$R$14","v":5.0140000000000002},{"$f":"H2531*'Lookup Tables'!$R$14","v":0},{"$f":"I2531*'Lookup Tables'!$R$14","v":0},{"$f":"J2531*'Lookup Tables'!$R$14","v":15.3908},{"$f":"K2531*'Lookup Tables'!$R$14","v":20.404800000000002}]
[4754,1,"New Material Applied",0,0,"7/8 INCHES DIAMETER SOLID STEEL ROD",{"$f":"G2532*'Lookup Tables'!$R$14","v":7.3466000000000005},{"$f":"H2532*'Lookup Tables'!$R$14","v":0.23980000000000001},{"$f":"I2532*'Lookup Tables'!$R$14","v":0},{"$f":"J2532*'Lookup Tables'!$R$14","v":0},{"$f":"K2532*'Lookup Tables'!$R$14","v":7.3466000000000005}]
[4754,2,"Secondhand Material Applied",0,0,"7/8 INCHES DIAMETER SOLID STEEL ROD",{"$f":"G2533*'Lookup Tables'!$R$14","v":3.6733000000000002},{"$f":"H2533*'Lookup Tables'!$R$14","v":0.23980000000000001},{"$f":"I2533*'Lookup Tables'!$R$14","v":0},{"$f":"J2533*'Lookup Tables'!$R$14","v":0},{"$f":"K2533*'Lookup Tables'!$R$14","v":3.6733000000000002}]
[4756,0,"Labor attention such as: \nactual labor, replacing or rechanging doors, welding, vacant, painting or stenciling, other labor attention",0,0.3,"HANDRAILS/PLATFORM RAILS - BENDING",{"$f":"G2534*'Lookup Tables'!$R$14","v":0},{"$f":"H2534*'Lookup Tables'!$R$14","v":0},{"$f":"I2534*'Lookup Tables'!$R$14","v":0},{"$f":"J2534*'Lookup Tables'!$R$14","v":46.183300000000003},{"$f":"K2534*'Lookup Tables'!$R$14","v":46.183300000000003}]
[4758,0,"Labor attention such as: \nactual labor, replacing or rechanging doors, welding, vacant, painting or stenciling, other labor attention",0,0.35199999999999998,"HANDRAILS/PLATFORM RAILS - END FLATTENED",{"$f":"G2535*'Lookup Tables'!$R$14","v":0},{"$f":"H2535*'Lookup Tables'!$R$14","v":0},{"$f":"I2535*'Lookup Tables'!$R$14","v":0},{"$f":"J2535*'Lookup Tables'!$R$14","v":54.194800000000001},{"$f":"K2535*'Lookup Tables'!$R$14","v":54.194800000000001}]
[4760,0,"Labor attention such as: \nactual labor, replacing or rechanging doors, welding, vacant, painting or stenciling, other labor attention",0,2,"DISCONNECTION OF TANKTRAIN COUPLING",{"$f":"G2536*'Lookup Tables'!$R$14","v":0},{"$f":"H2536*'Lookup Tables'!$R$14","v":0},{"$f":"I2536*'Lookup Tables'!$R$14","v":0},{"$f":"J2536*'Lookup Tables'!$R$14","v":307.90320000000003},{"$f":"K2536*'Lookup Tables'!$R$14","v":307.90320000000003}]
[4764,0,"Labor attention such as: \nactual labor, replacing or rechanging doors, welding, vacant, painting or stenciling, other labor attention",0,0,"TANK CAR END PLTFRM RAIL FIELD REPR-OWNER NOTIFY",{"$f":"G2537*'Lookup Tables'!$R$14","v":0},{"$f":"H2537*'Lookup Tables'!$R$14","v":0},{"$f":"I2537*'Lookup Tables'!$R$14","v":0},{"$f":"J2537*'Lookup Tables'!$R$14","v":0},{"$f":"K2537*'Lookup Tables'!$R$14","v":0}]
[4800,0,"Labor attention such as: \nactual labor, replacing or rechanging doors, welding, vacant, painting or stenciling, other labor attention",0,0.04,"TACK OR FILLET WELD",{"$f":"G2538*'Lookup Tables'!$R$14","v":0},{"$f":"H2538*'Lookup Tables'!$R$14","v":0},{"$f":"I2538*'Lookup Tables'!$R$14","v":0},{"$f":"J2538*'Lookup Tables'!$R$14","v":6.158500000000001},{"$f":"K2538*'Lookup Tables'!$R$14","v":6.158500000000001}]
[4804,0,"Labor attention such as: \nactual labor, replacing or rechanging doors, welding, vacant, painting or stenciling, other labor attention",0,0.04,"GROOVE JOINT WELD, 1/8 INCH OR LESS",{"$f":"G2539*'Lookup Tables'!$R$14","v":0},{"$f":"H2539*'Lookup Tables'!$R$14","v":0},{"$f":"I2539*'Lookup Tables'!$R$14","v":0},{"$f":"J2539*'Lookup Tables'!$R$14","v":6.158500000000001},{"$f":"K2539*'Lookup Tables'!$R$14","v":6.158500000000001}]
[4808,0,"Labor attention such as: \nactual labor, replacing or rechanging doors, welding, vacant, painting or stenciling, other labor attention",0,5.3999999999999999E-2,"GROOVE JOINT WELD, OVER 1/8 INCH TO 1/2 INCH",{"$f":"G2540*'Lookup Tables'!$R$14","v":0},{"$f":"H2540*'Lookup Tables'!$R$14","v":0},{"$f":"I2540*'Lookup Tables'!$R$14","v":0},{"$f":"J2540*'Lookup Tables'!$R$14","v":8.3167000000000009},{"$f":"K2540*'Lookup Tables'!$R$14","v":8.3167000000000009}]
[4812,0,"Labor attention such as: \nactual labor, replacing or rechanging doors, welding, vacant, painting or stenciling, other labor attention",0,0.11,"GROOVE JOINT WELD, OVER 1/2 INCH TO 1 INCH",{"$f":"G2541*'Lookup Tables'!$R$14","v":0},{"$f":"H2541*'Lookup Tables'!$R$14","v":0},{"$f":"I2541*'Lookup Tables'!$R$14","v":0},{"$f":"J2541*'Lookup Tables'!$R$14","v":16.938600000000001},{"$f":"K2541*'Lookup Tables'!$R$14","v":16.938600000000001}]
[4900,1,"New Material Applied",0,0.17299999999999999,"CHAIN-TIE DOWN 3/8\" ALLOY",{"$f":"G2542*'Lookup Tables'!$R$14","v":88.464399999999998},{"$f":"H2542*'Lookup Tables'!$R$14","v":1.9184000000000001},{"$f":"I2542*'Lookup Tables'!$R$14","v":0},{"$f":"J2542*'Lookup Tables'!$R$14","v":26.628700000000002},{"$f":"K2542*'Lookup Tables'!$R$14","v":115.09310000000001}]
[4900,2,"Secondhand Material Applied",0,0.17299999999999999,"CHAIN-TIE DOWN 3/8\" ALLOY",{"$f":"G2543*'Lookup Tables'!$R$14","v":44.232199999999999},{"$f":"H2543*'Lookup Tables'!$R$14","v":1.9184000000000001},{"$f":"I2543*'Lookup Tables'!$R$14","v":0},{"$f":"J2543*'Lookup Tables'!$R$14","v":26.628700000000002},{"$f":"K2543*'Lookup Tables'!$R$14","v":70.860900000000001}]
[4900,3,"Reconditioned or Recertified Material Applied",0,0.17299999999999999,"CHAIN-TIE DOWN 3/8\" ALLOY",{"$f":"G2544*'Lookup Tables'!$R$14","v":66.348300000000009},{"$f":"H2544*'Lookup Tables'!$R$14","v":1.9184000000000001},{"$f":"I2544*'Lookup Tables'!$R$14","v":0},{"$f":"J2544*'Lookup Tables'!$R$14","v":26.628700000000002},{"$f":"K2544*'Lookup Tables'!$R$14","v":92.977000000000004}]
[4900,9,"Remove and replace same part",0,0.17299999999999999,"CHAIN-TIE DOWN 3/8\" ALLOY",{"$f":"G2545*'Lookup Tables'!$R$14","v":0},{"$f":"H2545*'Lookup Tables'!$R$14","v":0},{"$f":"I2545*'Lookup Tables'!$R$14","v":0},{"$f":"J2545*'Lookup Tables'!$R$14","v":26.628700000000002},{"$f":"K2545*'Lookup Tables'!$R$14","v":26.628700000000002}]
[4904,1,"New Material Applied",0,0.20499999999999999,"WINCH SWIVEL TYPE",{"$f":"G2546*'Lookup Tables'!$R$14","v":121.9492},{"$f":"H2546*'Lookup Tables'!$R$14","v":4.1965000000000003},{"$f":"I2546*'Lookup Tables'!$R$14","v":0},{"$f":"J2546*'Lookup Tables'!$R$14","v":31.555500000000002},{"$f":"K2546*'Lookup Tables'!$R$14","v":153.50469999999999}]
[4904,2,"Secondhand Material Applied",0,0.20499999999999999,"WINCH SWIVEL TYPE",{"$f":"G2547*'Lookup Tables'!$R$14","v":60.974600000000002},{"$f":"H2547*'Lookup Tables'!$R$14","v":4.1965000000000003},{"$f":"I2547*'Lookup Tables'!$R$14","v":0},{"$f":"J2547*'Lookup Tables'!$R$14","v":31.555500000000002},{"$f":"K2547*'Lookup Tables'!$R$14","v":92.530100000000004}]
[4904,3,"Reconditioned or Recertified Material Applied",0,0.20499999999999999,"WINCH SWIVEL TYPE",{"$f":"G2548*'Lookup Tables'!$R$14","v":91.4619},{"$f":"H2548*'Lookup Tables'!$R$14","v":4.1965000000000003},{"$f":"I2548*'Lookup Tables'!$R$14","v":0},{"$f":"J2548*'Lookup Tables'!$R$14","v":31.555500000000002},{"$f":"K2548*'Lookup Tables'!$R$14","v":123.01740000000001}]
[4904,9,"Remove and replace same part",0,0.20499999999999999,"WINCH SWIVEL TYPE",{"$f":"G2549*'Lookup Tables'!$R$14","v":0},{"$f":"H2549*'Lookup Tables'!$R$14","v":0},{"$f":"I2549*'Lookup Tables'!$R$14","v":0},{"$f":"J2549*'Lookup Tables'!$R$14","v":31.555500000000002},{"$f":"K2549*'Lookup Tables'!$R$14","v":31.555500000000002}]
[4908,1,"New Material Applied",0,0.17299999999999999,"CHAIN-TIE DOWN 1/2\" ALLOY",{"$f":"G2550*'Lookup Tables'!$R$14","v":274.73450000000003},{"$f":"H2550*'Lookup Tables'!$R$14","v":4.3164000000000007},{"$f":"I2550*'Lookup Tables'!$R$14","v":0},{"$f":"J2550*'Lookup Tables'!$R$14","v":26.628700000000002},{"$f":"K2550*'Lookup Tables'!$R$14","v":301.36320000000006}]
[4908,2,"Secondhand Material Applied",0,0.17299999999999999,"CHAIN-TIE DOWN 1/2\" ALLOY",{"$f":"G2551*'Lookup Tables'!$R$14","v":137.37270000000001},{"$f":"H2551*'Lookup Tables'!$R$14","v":4.3164000000000007},{"$f":"I2551*'Lookup Tables'!$R$14","v":0},{"$f":"J2551*'Lookup Tables'!$R$14","v":26.628700000000002},{"$f":"K2551*'Lookup Tables'!$R$14","v":164.00140000000002}]
[4908,3,"Reconditioned or Recertified Material Applied",0,0.17299999999999999,"CHAIN-TIE DOWN 1/2\" ALLOY",{"$f":"G2552*'Lookup Tables'!$R$14","v":206.05360000000002},{"$f":"H2552*'Lookup Tables'!$R$14","v":4.3164000000000007},{"$f":"I2552*'Lookup Tables'!$R$14","v":0},{"$f":"J2552*'Lookup Tables'!$R$14","v":26.628700000000002},{"$f":"K2552*'Lookup Tables'!$R$14","v":232.68230000000003}]
[4908,9,"Remove and replace same part",0,0.17299999999999999,"CHAIN-TIE DOWN 1/2\" ALLOY",{"$f":"G2553*'Lookup Tables'!$R$14","v":0},{"$f":"H2553*'Lookup Tables'!$R$14","v":0},{"$f":"I2553*'Lookup Tables'!$R$14","v":0},{"$f":"J2553*'Lookup Tables'!$R$14","v":26.628700000000002},{"$f":"K2553*'Lookup Tables'!$R$14","v":26.628700000000002}]
[4912,1,"New Material Applied",0,8.2000000000000003E-2,"REPAIR LINK, CHAIN",{"$f":"G2554*'Lookup Tables'!$R$14","v":17.3855},{"$f":"H2554*'Lookup Tables'!$R$14","v":0},{"$f":"I2554*'Lookup Tables'!$R$14","v":0},{"$f":"J2554*'Lookup Tables'!$R$14","v":12.622200000000001},{"$f":"K2554*'Lookup Tables'!$R$14","v":30.007700000000003}]
[4912,9,"Remove and replace same part",0,8.2000000000000003E-2,"REPAIR LINK, CHAIN",{"$f":"G2555*'Lookup Tables'!$R$14","v":0},{"$f":"H2555*'Lookup Tables'!$R$14","v":0},{"$f":"I2555*'Lookup Tables'!$R$14","v":0},{"$f":"J2555*'Lookup Tables'!$R$14","v":12.622200000000001},{"$f":"K2555*'Lookup Tables'!$R$14","v":12.622200000000001}]
[4916,1,"New Material Applied",0,0.20499999999999999,"CHAIN ANCHOR ASSEMBLY",{"$f":"G2556*'Lookup Tables'!$R$14","v":46.9572},{"$f":"H2556*'Lookup Tables'!$R$14","v":1.6786000000000001},{"$f":"I2556*'Lookup Tables'!$R$14","v":0},{"$f":"J2556*'Lookup Tables'!$R$14","v":31.555500000000002},{"$f":"K2556*'Lookup Tables'!$R$14","v":78.512700000000009}]
[4916,2,"Secondhand Material Applied",0,0.20499999999999999,"CHAIN ANCHOR ASSEMBLY",{"$f":"G2557*'Lookup Tables'!$R$14","v":23.4786},{"$f":"H2557*'Lookup Tables'!$R$14","v":1.6786000000000001},{"$f":"I2557*'Lookup Tables'!$R$14","v":0},{"$f":"J2557*'Lookup Tables'!$R$14","v":31.555500000000002},{"$f":"K2557*'Lookup Tables'!$R$14","v":55.034099999999995}]
[4916,9,"Remove and replace same part",0,0.20499999999999999,"CHAIN ANCHOR ASSEMBLY",{"$f":"G2558*'Lookup Tables'!$R$14","v":0},{"$f":"H2558*'Lookup Tables'!$R$14","v":0},{"$f":"I2558*'Lookup Tables'!$R$14","v":0},{"$f":"J2558*'Lookup Tables'!$R$14","v":31.555500000000002},{"$f":"K2558*'Lookup Tables'!$R$14","v":31.555500000000002}]
[4921,1,"New Material Applied",0,0.35899999999999999,"CONTAINER PEDESTAL WITH AUTO LOW PROFILE LOCK",{"$f":"G2559*'Lookup Tables'!$R$14","v":146.01640000000003},{"$f":"H2559*'Lookup Tables'!$R$14","v":1.5587},{"$f":"I2559*'Lookup Tables'!$R$14","v":0},{"$f":"J2559*'Lookup Tables'!$R$14","v":55.273900000000005},{"$f":"K2559*'Lookup Tables'!$R$14","v":201.29030000000003}]
[4921,2,"Secondhand Material Applied",0,0.35899999999999999,"CONTAINER PEDESTAL WITH AUTO LOW PROFILE LOCK",{"$f":"G2560*'Lookup Tables'!$R$14","v":73.008200000000016},{"$f":"H2560*'Lookup Tables'!$R$14","v":1.5587},{"$f":"I2560*'Lookup Tables'!$R$14","v":0},{"$f":"J2560*'Lookup Tables'!$R$14","v":55.273900000000005},{"$f":"K2560*'Lookup Tables'!$R$14","v":128.28210000000001}]
[4921,9,"Remove and replace same part",0,0.35899999999999999,"CONTAINER PEDESTAL WITH AUTO LOW PROFILE LOCK",{"$f":"G2561*'Lookup Tables'!$R$14","v":0},{"$f":"H2561*'Lookup Tables'!$R$14","v":0},{"$f":"I2561*'Lookup Tables'!$R$14","v":0},{"$f":"J2561*'Lookup Tables'!$R$14","v":55.273900000000005},{"$f":"K2561*'Lookup Tables'!$R$14","v":55.273900000000005}]
[4923,1,"New Material Applied",0,0.20300000000000001,"PEDESTAL LATCH ASSEMBLY TWIST TYPE",{"$f":"G2562*'Lookup Tables'!$R$14","v":180.55850000000001},{"$f":"H2562*'Lookup Tables'!$R$14","v":1.5587},{"$f":"I2562*'Lookup Tables'!$R$14","v":0},{"$f":"J2562*'Lookup Tables'!$R$14","v":31.250300000000003},{"$f":"K2562*'Lookup Tables'!$R$14","v":211.80880000000002}]
[4923,9,"Remove and replace same part",0,0.20300000000000001,"PEDESTAL LATCH ASSEMBLY TWIST TYPE",{"$f":"G2563*'Lookup Tables'!$R$14","v":0},{"$f":"H2563*'Lookup Tables'!$R$14","v":0},{"$f":"I2563*'Lookup Tables'!$R$14","v":0},{"$f":"J2563*'Lookup Tables'!$R$14","v":31.250300000000003},{"$f":"K2563*'Lookup Tables'!$R$14","v":31.250300000000003}]
[4924,1,"New Material Applied",0,0.17100000000000001,"PEDESTAL LATCH ASSEMBLY HOOK TYPE",{"$f":"G2564*'Lookup Tables'!$R$14","v":47.3932},{"$f":"H2564*'Lookup Tables'!$R$14","v":1.9184000000000001},{"$f":"I2564*'Lookup Tables'!$R$14","v":0},{"$f":"J2564*'Lookup Tables'!$R$14","v":26.323499999999999},{"$f":"K2564*'Lookup Tables'!$R$14","v":73.716700000000003}]
[4924,9,"Remove and replace same part",0,0.17100000000000001,"PEDESTAL LATCH ASSEMBLY HOOK TYPE",{"$f":"G2565*'Lookup Tables'!$R$14","v":0},{"$f":"H2565*'Lookup Tables'!$R$14","v":0},{"$f":"I2565*'Lookup Tables'!$R$14","v":0},{"$f":"J2565*'Lookup Tables'!$R$14","v":26.323499999999999},{"$f":"K2565*'Lookup Tables'!$R$14","v":26.323499999999999}]
[4925,1,"New Material Applied",0.154,0.58599999999999997,"RATCHET WINCH FOR CABLE TIE DOWN",{"$f":"G2566*'Lookup Tables'!$R$14","v":96.410500000000013},{"$f":"H2566*'Lookup Tables'!$R$14","v":2.1582000000000003},{"$f":"I2566*'Lookup Tables'!$R$14","v":23.707500000000003},{"$f":"J2566*'Lookup Tables'!$R$14","v":90.219300000000004},{"$f":"K2566*'Lookup Tables'!$R$14","v":186.62980000000002}]
[4925,9,"Remove and replace same part",0.154,0.58599999999999997,"RATCHET WINCH FOR CABLE TIE DOWN",{"$f":"G2567*'Lookup Tables'!$R$14","v":0},{"$f":"H2567*'Lookup Tables'!$R$14","v":0},{"$f":"I2567*'Lookup Tables'!$R$14","v":23.707500000000003},{"$f":"J2567*'Lookup Tables'!$R$14","v":90.219300000000004},{"$f":"K2567*'Lookup Tables'!$R$14","v":90.219300000000004}]
[4926,1,"New Material Applied",0.154,8.4000000000000005E-2,"CABLE ASSEMBLY, 3/8\" X APPROX. 17'",{"$f":"G2568*'Lookup Tables'!$R$14","v":18.3338},{"$f":"H2568*'Lookup Tables'!$R$14","v":2.1582000000000003},{"$f":"I2568*'Lookup Tables'!$R$14","v":23.707500000000003},{"$f":"J2568*'Lookup Tables'!$R$14","v":12.9274},{"$f":"K2568*'Lookup Tables'!$R$14","v":31.261200000000002}]
[4926,9,"Remove and replace same part",6.2E-2,8.1000000000000003E-2,"CABLE ASSEMBLY, 3/8\" X APPROX. 17'",{"$f":"G2569*'Lookup Tables'!$R$14","v":0},{"$f":"H2569*'Lookup Tables'!$R$14","v":0},{"$f":"I2569*'Lookup Tables'!$R$14","v":9.5484000000000009},{"$f":"J2569*'Lookup Tables'!$R$14","v":12.4696},{"$f":"K2569*'Lookup Tables'!$R$14","v":12.4696}]
[4928,1,"New Material Applied",0,0.17399999999999999,"EDGE PROTECTOR, METAL",{"$f":"G2570*'Lookup Tables'!$R$14","v":9.8317999999999994},{"$f":"H2570*'Lookup Tables'!$R$14","v":0},{"$f":"I2570*'Lookup Tables'!$R$14","v":0},{"$f":"J2570*'Lookup Tables'!$R$14","v":26.792200000000001},{"$f":"K2570*'Lookup Tables'!$R$14","v":36.623999999999995}]
[4928,2,{"$f":"VLOOKUP(B1220,$B$2686:$C$2701,2,FALSE)","v":"Secondhand Material Applied"},0,0.17399999999999999,"EDGE PROTECTOR, METAL",{"$f":"G2571*'Lookup Tables'!$R$14","v":4.9158999999999997},{"$f":"H2571*'Lookup Tables'!$R$14","v":0},{"$f":"I2571*'Lookup Tables'!$R$14","v":0},{"$f":"J2571*'Lookup Tables'!$R$14","v":26.792200000000001},{"$f":"K2571*'Lookup Tables'!$R$14","v":31.708099999999998}]
[4930,1,"New Material Applied",0,7.0999999999999994E-2,"EDGE PROTECTOR, PLASTIC",{"$f":"G2572*'Lookup Tables'!$R$14","v":4.4036},{"$f":"H2572*'Lookup Tables'!$R$14","v":0},{"$f":"I2572*'Lookup Tables'!$R$14","v":0},{"$f":"J2572*'Lookup Tables'!$R$14","v":10.932700000000001},{"$f":"K2572*'Lookup Tables'!$R$14","v":15.336300000000001}]
[4930,2,"Secondhand Material Applied",0,7.0999999999999994E-2,"EDGE PROTECTOR, PLASTIC",{"$f":"G2573*'Lookup Tables'!$R$14","v":2.2018},{"$f":"H2573*'Lookup Tables'!$R$14","v":0},{"$f":"I2573*'Lookup Tables'!$R$14","v":0},{"$f":"J2573*'Lookup Tables'!$R$14","v":10.932700000000001},{"$f":"K2573*'Lookup Tables'!$R$14","v":13.134499999999999}]
[5428,1,"New Material Applied",0,0.46700000000000003,"UPPER VERTICAL STRUT PIVOT PIN",{"$f":"G2574*'Lookup Tables'!$R$14","v":5.1230000000000002},{"$f":"H2574*'Lookup Tables'!$R$14","v":0},{"$f":"I2574*'Lookup Tables'!$R$14","v":0},{"$f":"J2574*'Lookup Tables'!$R$14","v":71.8964},{"$f":"K2574*'Lookup Tables'!$R$14","v":77.019400000000005}]
[5428,2,"Secondhand Material Applied",0,0.46700000000000003,"UPPER VERTICAL STRUT PIVOT PIN",{"$f":"G2575*'Lookup Tables'!$R$14","v":2.5615000000000001},{"$f":"H2575*'Lookup Tables'!$R$14","v":0},{"$f":"I2575*'Lookup Tables'!$R$14","v":0},{"$f":"J2575*'Lookup Tables'!$R$14","v":71.8964},{"$f":"K2575*'Lookup Tables'!$R$14","v":74.457899999999995}]
[5456,1,"New Material Applied",0,0.28299999999999997,"LOCK JAW STOP",{"$f":"G2576*'Lookup Tables'!$R$14","v":42.9133},{"$f":"H2576*'Lookup Tables'!$R$14","v":0},{"$f":"I2576*'Lookup Tables'!$R$14","v":0},{"$f":"J2576*'Lookup Tables'!$R$14","v":43.567300000000003},{"$f":"K2576*'Lookup Tables'!$R$14","v":86.48060000000001}]
[5456,2,"Secondhand Material Applied",0,0.28299999999999997,"LOCK JAW STOP",{"$f":"G2577*'Lookup Tables'!$R$14","v":21.462100000000003},{"$f":"H2577*'Lookup Tables'!$R$14","v":0},{"$f":"I2577*'Lookup Tables'!$R$14","v":0},{"$f":"J2577*'Lookup Tables'!$R$14","v":43.567300000000003},{"$f":"K2577*'Lookup Tables'!$R$14","v":65.029399999999995}]
[5500,1,"New Material Applied",0.11,4.3999999999999997E-2,"REFLECTIVE SHEETING, INITIAL APPLICATION OR RENEW",{"$f":"G2578*'Lookup Tables'!$R$14","v":1.4715000000000003},{"$f":"H2578*'Lookup Tables'!$R$14","v":0},{"$f":"I2578*'Lookup Tables'!$R$14","v":16.938600000000001},{"$f":"J2578*'Lookup Tables'!$R$14","v":6.7689000000000004},{"$f":"K2578*'Lookup Tables'!$R$14","v":8.2404000000000011}]
[5502,1,"New Material Applied",0.11,4.3999999999999997E-2,"REFLECTIVE SHEETING",{"$f":"G2579*'Lookup Tables'!$R$14","v":1.4715000000000003},{"$f":"H2579*'Lookup Tables'!$R$14","v":0},{"$f":"I2579*'Lookup Tables'!$R$14","v":16.938600000000001},{"$f":"J2579*'Lookup Tables'!$R$14","v":6.7689000000000004},{"$f":"K2579*'Lookup Tables'!$R$14","v":8.2404000000000011}]
[5702,1,"New Material Applied",0,1.8819999999999999,"GROUP EOC-1D",{"$f":"G2580*'Lookup Tables'!$R$14","v":2357.1032},{"$f":"H2580*'Lookup Tables'!$R$14","v":115.46370000000002},{"$f":"I2580*'Lookup Tables'!$R$14","v":0},{"$f":"J2580*'Lookup Tables'!$R$14","v":289.73290000000003},{"$f":"K2580*'Lookup Tables'!$R$14","v":2646.8361}]
[5702,3,"Reconditioned or Recertified Material Applied",0,1.8819999999999999,"GROUP EOC-1D",{"$f":"G2581*'Lookup Tables'!$R$14","v":1556.1276000000003},{"$f":"H2581*'Lookup Tables'!$R$14","v":0},{"$f":"I2581*'Lookup Tables'!$R$14","v":0},{"$f":"J2581*'Lookup Tables'!$R$14","v":289.73290000000003},{"$f":"K2581*'Lookup Tables'!$R$14","v":1845.8605000000002}]
[5702,9,"Remove and replace same part",0,1.4,"GROUP EOC-1D",{"$f":"G2582*'Lookup Tables'!$R$14","v":26.290800000000004},{"$f":"H2582*'Lookup Tables'!$R$14","v":0},{"$f":"I2582*'Lookup Tables'!$R$14","v":0},{"$f":"J2582*'Lookup Tables'!$R$14","v":215.53660000000002},{"$f":"K2582*'Lookup Tables'!$R$14","v":241.82740000000004}]
[5704,1,"New Material Applied",0,1.8819999999999999,"GROUP EOC-1B",{"$f":"G2583*'Lookup Tables'!$R$14","v":2458.0045000000005},{"$f":"H2583*'Lookup Tables'!$R$14","v":115.46370000000002},{"$f":"I2583*'Lookup Tables'!$R$14","v":0},{"$f":"J2583*'Lookup Tables'!$R$14","v":289.73290000000003},{"$f":"K2583*'Lookup Tables'!$R$14","v":2747.7374000000004}]
[5704,3,"Reconditioned or Recertified Material Applied",0,1.8819999999999999,"GROUP EOC-1B",{"$f":"G2584*'Lookup Tables'!$R$14","v":1483.7298000000001},{"$f":"H2584*'Lookup Tables'!$R$14","v":0},{"$f":"I2584*'Lookup Tables'!$R$14","v":0},{"$f":"J2584*'Lookup Tables'!$R$14","v":289.73290000000003},{"$f":"K2584*'Lookup Tables'!$R$14","v":1773.4627}]
[5704,9,"Remove and replace same part",0,1.4,"GROUP EOC-1B",{"$f":"G2585*'Lookup Tables'!$R$14","v":26.290800000000004},{"$f":"H2585*'Lookup Tables'!$R$14","v":0},{"$f":"I2585*'Lookup Tables'!$R$14","v":0},{"$f":"J2585*'Lookup Tables'!$R$14","v":215.53660000000002},{"$f":"K2585*'Lookup Tables'!$R$14","v":241.82740000000004}]
[5708,1,"New Material Applied",0,1.8819999999999999,"GROUP EOC-2D",{"$f":"G2586*'Lookup Tables'!$R$14","v":2328.4253000000003},{"$f":"H2586*'Lookup Tables'!$R$14","v":99.996600000000001},{"$f":"I2586*'Lookup Tables'!$R$14","v":0},{"$f":"J2586*'Lookup Tables'!$R$14","v":289.73290000000003},{"$f":"K2586*'Lookup Tables'!$R$14","v":2618.1582000000003}]
[5708,3,"Reconditioned or Recertified Material Applied",0,1.8819999999999999,"GROUP EOC-2D",{"$f":"G2587*'Lookup Tables'!$R$14","v":1595.4439000000002},{"$f":"H2587*'Lookup Tables'!$R$14","v":0},{"$f":"I2587*'Lookup Tables'!$R$14","v":0},{"$f":"J2587*'Lookup Tables'!$R$14","v":289.73290000000003},{"$f":"K2587*'Lookup Tables'!$R$14","v":1885.1768000000002}]
[5708,9,"Remove and replace same part",0,1.4,"GROUP EOC-2D",{"$f":"G2588*'Lookup Tables'!$R$14","v":26.290800000000004},{"$f":"H2588*'Lookup Tables'!$R$14","v":0},{"$f":"I2588*'Lookup Tables'!$R$14","v":0},{"$f":"J2588*'Lookup Tables'!$R$14","v":215.53660000000002},{"$f":"K2588*'Lookup Tables'!$R$14","v":241.82740000000004}]
[5710,1,"New Material Applied",0,1.8819999999999999,"GROUP EOC-2B",{"$f":"G2589*'Lookup Tables'!$R$14","v":2433.1197999999999},{"$f":"H2589*'Lookup Tables'!$R$14","v":99.996600000000001},{"$f":"I2589*'Lookup Tables'!$R$14","v":0},{"$f":"J2589*'Lookup Tables'!$R$14","v":289.73290000000003},{"$f":"K2589*'Lookup Tables'!$R$14","v":2722.8526999999999}]
[5710,3,"Reconditioned or Recertified Material Applied",0,1.8819999999999999,"GROUP EOC-2B",{"$f":"G2590*'Lookup Tables'!$R$14","v":1696.7703000000001},{"$f":"H2590*'Lookup Tables'!$R$14","v":0},{"$f":"I2590*'Lookup Tables'!$R$14","v":0},{"$f":"J2590*'Lookup Tables'!$R$14","v":289.73290000000003},{"$f":"K2590*'Lookup Tables'!$R$14","v":1986.5032000000001}]
[5710,9,"Remove and replace same part",0,1.4,"GROUP EOC-2B",{"$f":"G2591*'Lookup Tables'!$R$14","v":26.290800000000004},{"$f":"H2591*'Lookup Tables'!$R$14","v":0},{"$f":"I2591*'Lookup Tables'!$R$14","v":0},{"$f":"J2591*'Lookup Tables'!$R$14","v":215.53660000000002},{"$f":"K2591*'Lookup Tables'!$R$14","v":241.82740000000004}]
[5716,1,"New Material Applied",0,1.8819999999999999,"GROUP EOC-3B",{"$f":"G2592*'Lookup Tables'!$R$14","v":2630.7586000000001},{"$f":"H2592*'Lookup Tables'!$R$14","v":59.95},{"$f":"I2592*'Lookup Tables'!$R$14","v":0},{"$f":"J2592*'Lookup Tables'!$R$14","v":289.73290000000003},{"$f":"K2592*'Lookup Tables'!$R$14","v":2920.4915000000001}]
[5716,3,"Reconditioned or Recertified Material Applied",0,1.8819999999999999,"GROUP EOC-3B",{"$f":"G2593*'Lookup Tables'!$R$14","v":1355.3714000000002},{"$f":"H2593*'Lookup Tables'!$R$14","v":0},{"$f":"I2593*'Lookup Tables'!$R$14","v":0},{"$f":"J2593*'Lookup Tables'!$R$14","v":289.73290000000003},{"$f":"K2593*'Lookup Tables'!$R$14","v":1645.1043000000002}]
[5716,9,"Remove and replace same part",0,1.4,"GROUP EOC-3B",{"$f":"G2594*'Lookup Tables'!$R$14","v":26.290800000000004},{"$f":"H2594*'Lookup Tables'!$R$14","v":0},{"$f":"I2594*'Lookup Tables'!$R$14","v":0},{"$f":"J2594*'Lookup Tables'!$R$14","v":215.53660000000002},{"$f":"K2594*'Lookup Tables'!$R$14","v":241.82740000000004}]
[5722,1,"New Material Applied",0,1.8819999999999999,"GROUP EOC-4B",{"$f":"G2595*'Lookup Tables'!$R$14","v":3090.6840999999999},{"$f":"H2595*'Lookup Tables'!$R$14","v":59.95},{"$f":"I2595*'Lookup Tables'!$R$14","v":0},{"$f":"J2595*'Lookup Tables'!$R$14","v":289.73290000000003},{"$f":"K2595*'Lookup Tables'!$R$14","v":3380.4169999999999}]
[5722,3,"Reconditioned or Recertified Material Applied",0,1.8819999999999999,"GROUP EOC-4B",{"$f":"G2596*'Lookup Tables'!$R$14","v":1465.4178000000002},{"$f":"H2596*'Lookup Tables'!$R$14","v":0},{"$f":"I2596*'Lookup Tables'!$R$14","v":0},{"$f":"J2596*'Lookup Tables'!$R$14","v":289.73290000000003},{"$f":"K2596*'Lookup Tables'!$R$14","v":1755.1507000000001}]
[5722,9,"Remove and replace same part",0,1.4,"GROUP EOC-4B",{"$f":"G2597*'Lookup Tables'!$R$14","v":26.290800000000004},{"$f":"H2597*'Lookup Tables'!$R$14","v":0},{"$f":"I2597*'Lookup Tables'!$R$14","v":0},{"$f":"J2597*'Lookup Tables'!$R$14","v":215.53660000000002},{"$f":"K2597*'Lookup Tables'!$R$14","v":241.82740000000004}]
[5726,1,"New Material Applied",0,1.8819999999999999,"GROUP EOC-5D",{"$f":"G2598*'Lookup Tables'!$R$14","v":2462.8440999999998},{"$f":"H2598*'Lookup Tables'!$R$14","v":99.996600000000001},{"$f":"I2598*'Lookup Tables'!$R$14","v":0},{"$f":"J2598*'Lookup Tables'!$R$14","v":289.73290000000003},{"$f":"K2598*'Lookup Tables'!$R$14","v":2752.5769999999998}]
[5726,3,"Reconditioned or Recertified Material Applied",0,1.8819999999999999,"GROUP EOC-5D",{"$f":"G2599*'Lookup Tables'!$R$14","v":1692.6392000000003},{"$f":"H2599*'Lookup Tables'!$R$14","v":0},{"$f":"I2599*'Lookup Tables'!$R$14","v":0},{"$f":"J2599*'Lookup Tables'!$R$14","v":289.73290000000003},{"$f":"K2599*'Lookup Tables'!$R$14","v":1982.3721000000003}]
[5726,9,"Remove and replace same part",0,1.4,"GROUP EOC-5D",{"$f":"G2600*'Lookup Tables'!$R$14","v":26.290800000000004},{"$f":"H2600*'Lookup Tables'!$R$14","v":0},{"$f":"I2600*'Lookup Tables'!$R$14","v":0},{"$f":"J2600*'Lookup Tables'!$R$14","v":215.53660000000002},{"$f":"K2600*'Lookup Tables'!$R$14","v":241.82740000000004}]
[5728,1,"New Material Applied",0,1.8819999999999999,"GROUP EOC-5B",{"$f":"G2601*'Lookup Tables'!$R$14","v":2516.7990999999997},{"$f":"H2601*'Lookup Tables'!$R$14","v":99.996600000000001},{"$f":"I2601*'Lookup Tables'!$R$14","v":0},{"$f":"J2601*'Lookup Tables'!$R$14","v":289.73290000000003},{"$f":"K2601*'Lookup Tables'!$R$14","v":2806.5319999999997}]
[5728,3,"Reconditioned or Recertified Material Applied",0,1.8819999999999999,"GROUP EOC-5B",{"$f":"G2602*'Lookup Tables'!$R$14","v":1747.1610000000003},{"$f":"H2602*'Lookup Tables'!$R$14","v":0},{"$f":"I2602*'Lookup Tables'!$R$14","v":0},{"$f":"J2602*'Lookup Tables'!$R$14","v":289.73290000000003},{"$f":"K2602*'Lookup Tables'!$R$14","v":2036.8939000000003}]
[5728,9,"Remove and replace same part",0,1.4,"GROUP EOC-5B",{"$f":"G2603*'Lookup Tables'!$R$14","v":26.290800000000004},{"$f":"H2603*'Lookup Tables'!$R$14","v":0},{"$f":"I2603*'Lookup Tables'!$R$14","v":0},{"$f":"J2603*'Lookup Tables'!$R$14","v":215.53660000000002},{"$f":"K2603*'Lookup Tables'!$R$14","v":241.82740000000004}]
[5732,1,"New Material Applied",0,1.8819999999999999,"GROUP EOC-6D",{"$f":"G2604*'Lookup Tables'!$R$14","v":2454.3530000000001},{"$f":"H2604*'Lookup Tables'!$R$14","v":115.46370000000002},{"$f":"I2604*'Lookup Tables'!$R$14","v":0},{"$f":"J2604*'Lookup Tables'!$R$14","v":289.73290000000003},{"$f":"K2604*'Lookup Tables'!$R$14","v":2744.0859}]
[5732,3,"Reconditioned or Recertified Material Applied",0,1.8819999999999999,"GROUP EOC-6D",{"$f":"G2605*'Lookup Tables'!$R$14","v":1568.3792000000003},{"$f":"H2605*'Lookup Tables'!$R$14","v":0},{"$f":"I2605*'Lookup Tables'!$R$14","v":0},{"$f":"J2605*'Lookup Tables'!$R$14","v":289.73290000000003},{"$f":"K2605*'Lookup Tables'!$R$14","v":1858.1121000000003}]
[5732,9,"Remove and replace same part",0,1.4,"GROUP EOC-6D",{"$f":"G2606*'Lookup Tables'!$R$14","v":26.290800000000004},{"$f":"H2606*'Lookup Tables'!$R$14","v":0},{"$f":"I2606*'Lookup Tables'!$R$14","v":0},{"$f":"J2606*'Lookup Tables'!$R$14","v":215.53660000000002},{"$f":"K2606*'Lookup Tables'!$R$14","v":241.82740000000004}]
[5734,1,"New Material Applied",0,1.8819999999999999,"GROUP EOC-6B",{"$f":"G2607*'Lookup Tables'!$R$14","v":2454.6146000000003},{"$f":"H2607*'Lookup Tables'!$R$14","v":115.46370000000002},{"$f":"I2607*'Lookup Tables'!$R$14","v":0},{"$f":"J2607*'Lookup Tables'!$R$14","v":289.73290000000003},{"$f":"K2607*'Lookup Tables'!$R$14","v":2744.3475000000003}]
[5734,3,"Reconditioned or Recertified Material Applied",0,1.8819999999999999,"GROUP EOC-6B",{"$f":"G2608*'Lookup Tables'!$R$14","v":1572.9681},{"$f":"H2608*'Lookup Tables'!$R$14","v":0},{"$f":"I2608*'Lookup Tables'!$R$14","v":0},{"$f":"J2608*'Lookup Tables'!$R$14","v":289.73290000000003},{"$f":"K2608*'Lookup Tables'!$R$14","v":1862.701}]
[5734,9,"Remove and replace same part",0,1.4,"GROUP EOC-6B",{"$f":"G2609*'Lookup Tables'!$R$14","v":26.290800000000004},{"$f":"H2609*'Lookup Tables'!$R$14","v":0},{"$f":"I2609*'Lookup Tables'!$R$14","v":0},{"$f":"J2609*'Lookup Tables'!$R$14","v":215.53660000000002},{"$f":"K2609*'Lookup Tables'!$R$14","v":241.82740000000004}]
[5740,1,"New Material Applied",0,1.8819999999999999,"GROUP EOC-7B",{"$f":"G2610*'Lookup Tables'!$R$14","v":1735.8577},{"$f":"H2610*'Lookup Tables'!$R$14","v":99.996600000000001},{"$f":"I2610*'Lookup Tables'!$R$14","v":0},{"$f":"J2610*'Lookup Tables'!$R$14","v":289.73290000000003},{"$f":"K2610*'Lookup Tables'!$R$14","v":2025.5906}]
[5740,3,"Reconditioned or Recertified Material Applied",0,1.8819999999999999,"GROUP EOC-7B",{"$f":"G2611*'Lookup Tables'!$R$14","v":1106.2301},{"$f":"H2611*'Lookup Tables'!$R$14","v":0},{"$f":"I2611*'Lookup Tables'!$R$14","v":0},{"$f":"J2611*'Lookup Tables'!$R$14","v":289.73290000000003},{"$f":"K2611*'Lookup Tables'!$R$14","v":1395.9630000000002}]
[5740,9,"Remove and replace same part",0,1.4,"GROUP EOC-7B",{"$f":"G2612*'Lookup Tables'!$R$14","v":26.290800000000004},{"$f":"H2612*'Lookup Tables'!$R$14","v":0},{"$f":"I2612*'Lookup Tables'!$R$14","v":0},{"$f":"J2612*'Lookup Tables'!$R$14","v":215.53660000000002},{"$f":"K2612*'Lookup Tables'!$R$14","v":241.82740000000004}]
[5746,1,"New Material Applied",0,1.8819999999999999,"GROUP EOC-8B",{"$f":"G2613*'Lookup Tables'!$R$14","v":1882.3973000000001},{"$f":"H2613*'Lookup Tables'!$R$14","v":59.95},{"$f":"I2613*'Lookup Tables'!$R$14","v":0},{"$f":"J2613*'Lookup Tables'!$R$14","v":289.73290000000003},{"$f":"K2613*'Lookup Tables'!$R$14","v":2172.1302000000001}]
[5746,3,"Reconditioned or Recertified Material Applied",0,1.8819999999999999,"GROUP EOC-8B",{"$f":"G2614*'Lookup Tables'!$R$14","v":1246.6657},{"$f":"H2614*'Lookup Tables'!$R$14","v":0},{"$f":"I2614*'Lookup Tables'!$R$14","v":0},{"$f":"J2614*'Lookup Tables'!$R$14","v":289.73290000000003},{"$f":"K2614*'Lookup Tables'!$R$14","v":1536.3986}]
[5746,9,"Remove and replace same part",0,1.4,"GROUP EOC-8B",{"$f":"G2615*'Lookup Tables'!$R$14","v":26.290800000000004},{"$f":"H2615*'Lookup Tables'!$R$14","v":0},{"$f":"I2615*'Lookup Tables'!$R$14","v":0},{"$f":"J2615*'Lookup Tables'!$R$14","v":215.53660000000002},{"$f":"K2615*'Lookup Tables'!$R$14","v":241.82740000000004}]
[5747,1,"New Material Applied",0,1.8819999999999999,"GROUP EOC-8F",{"$f":"G2616*'Lookup Tables'!$R$14","v":1846.2856000000002},{"$f":"H2616*'Lookup Tables'!$R$14","v":59.95},{"$f":"I2616*'Lookup Tables'!$R$14","v":0},{"$f":"J2616*'Lookup Tables'!$R$14","v":289.73290000000003},{"$f":"K2616*'Lookup Tables'!$R$14","v":2136.0185000000001}]
[5747,3,"Reconditioned or Recertified Material Applied",0,1.8819999999999999,"GROUP EOC-8F",{"$f":"G2617*'Lookup Tables'!$R$14","v":1222.1625000000001},{"$f":"H2617*'Lookup Tables'!$R$14","v":0},{"$f":"I2617*'Lookup Tables'!$R$14","v":0},{"$f":"J2617*'Lookup Tables'!$R$14","v":289.73290000000003},{"$f":"K2617*'Lookup Tables'!$R$14","v":1511.8954000000001}]
[5747,9,"Remove and replace same part",0,1.4,"GROUP EOC-8F",{"$f":"G2618*'Lookup Tables'!$R$14","v":26.290800000000004},{"$f":"H2618*'Lookup Tables'!$R$14","v":0},{"$f":"I2618*'Lookup Tables'!$R$14","v":0},{"$f":"J2618*'Lookup Tables'!$R$14","v":215.53660000000002},{"$f":"K2618*'Lookup Tables'!$R$14","v":241.82740000000004}]
[5750,1,"New Material Applied",0,1.8819999999999999,"GROUP EOC-9D",{"$f":"G2619*'Lookup Tables'!$R$14","v":1710.3407999999999},{"$f":"H2619*'Lookup Tables'!$R$14","v":59.95},{"$f":"I2619*'Lookup Tables'!$R$14","v":0},{"$f":"J2619*'Lookup Tables'!$R$14","v":289.73290000000003},{"$f":"K2619*'Lookup Tables'!$R$14","v":2000.0736999999999}]
[5750,3,"Reconditioned or Recertified Material Applied",0,1.8819999999999999,"GROUP EOC-9D",{"$f":"G2620*'Lookup Tables'!$R$14","v":1176.9275},{"$f":"H2620*'Lookup Tables'!$R$14","v":0},{"$f":"I2620*'Lookup Tables'!$R$14","v":0},{"$f":"J2620*'Lookup Tables'!$R$14","v":289.73290000000003},{"$f":"K2620*'Lookup Tables'!$R$14","v":1466.6604}]
[5750,9,"Remove and replace same part",0,1.4,"GROUP EOC-9D",{"$f":"G2621*'Lookup Tables'!$R$14","v":26.290800000000004},{"$f":"H2621*'Lookup Tables'!$R$14","v":0},{"$f":"I2621*'Lookup Tables'!$R$14","v":0},{"$f":"J2621*'Lookup Tables'!$R$14","v":215.53660000000002},{"$f":"K2621*'Lookup Tables'!$R$14","v":241.82740000000004}]
[5752,1,"New Material Applied",0,1.8819999999999999,"GROUP EOC-9B",{"$f":"G2622*'Lookup Tables'!$R$14","v":1530.5017000000003},{"$f":"H2622*'Lookup Tables'!$R$14","v":59.95},{"$f":"I2622*'Lookup Tables'!$R$14","v":0},{"$f":"J2622*'Lookup Tables'!$R$14","v":289.73290000000003},{"$f":"K2622*'Lookup Tables'!$R$14","v":1820.2346000000002}]
[5752,3,"Reconditioned or Recertified Material Applied",0,1.8819999999999999,"GROUP EOC-9B",{"$f":"G2623*'Lookup Tables'!$R$14","v":1112.3559},{"$f":"H2623*'Lookup Tables'!$R$14","v":0},{"$f":"I2623*'Lookup Tables'!$R$14","v":0},{"$f":"J2623*'Lookup Tables'!$R$14","v":289.73290000000003},{"$f":"K2623*'Lookup Tables'!$R$14","v":1402.0888}]
[5752,9,"Remove and replace same part",0,1.4,"GROUP EOC-9B",{"$f":"G2624*'Lookup Tables'!$R$14","v":26.290800000000004},{"$f":"H2624*'Lookup Tables'!$R$14","v":0},{"$f":"I2624*'Lookup Tables'!$R$14","v":0},{"$f":"J2624*'Lookup Tables'!$R$14","v":215.53660000000002},{"$f":"K2624*'Lookup Tables'!$R$14","v":241.82740000000004}]
[5756,1,"New Material Applied",0,1.8819999999999999,"GROUP EOC-10D",{"$f":"G2625*'Lookup Tables'!$R$14","v":1574.6903000000002},{"$f":"H2625*'Lookup Tables'!$R$14","v":65.705200000000005},{"$f":"I2625*'Lookup Tables'!$R$14","v":0},{"$f":"J2625*'Lookup Tables'!$R$14","v":289.73290000000003},{"$f":"K2625*'Lookup Tables'!$R$14","v":1864.4232000000002}]
[5756,3,"Reconditioned or Recertified Material Applied",0,1.8819999999999999,"GROUP EOC-10D",{"$f":"G2626*'Lookup Tables'!$R$14","v":1286.6687000000002},{"$f":"H2626*'Lookup Tables'!$R$14","v":0},{"$f":"I2626*'Lookup Tables'!$R$14","v":0},{"$f":"J2626*'Lookup Tables'!$R$14","v":289.73290000000003},{"$f":"K2626*'Lookup Tables'!$R$14","v":1576.4016000000001}]
[5756,9,"Remove and replace same part",0,1.4,"GROUP EOC-10D",{"$f":"G2627*'Lookup Tables'!$R$14","v":26.290800000000004},{"$f":"H2627*'Lookup Tables'!$R$14","v":0},{"$f":"I2627*'Lookup Tables'!$R$14","v":0},{"$f":"J2627*'Lookup Tables'!$R$14","v":215.53660000000002},{"$f":"K2627*'Lookup Tables'!$R$14","v":241.82740000000004}]
[5758,1,"New Material Applied",0,1.8819999999999999,"GROUP EOC-10B",{"$f":"G2628*'Lookup Tables'!$R$14","v":1773.6698000000001},{"$f":"H2628*'Lookup Tables'!$R$14","v":65.705200000000005},{"$f":"I2628*'Lookup Tables'!$R$14","v":0},{"$f":"J2628*'Lookup Tables'!$R$14","v":289.73290000000003},{"$f":"K2628*'Lookup Tables'!$R$14","v":2063.4027000000001}]
[5758,3,"Reconditioned or Recertified Material Applied",0,1.8819999999999999,"GROUP EOC-10B",{"$f":"G2629*'Lookup Tables'!$R$14","v":1241.3465000000001},{"$f":"H2629*'Lookup Tables'!$R$14","v":0},{"$f":"I2629*'Lookup Tables'!$R$14","v":0},{"$f":"J2629*'Lookup Tables'!$R$14","v":289.73290000000003},{"$f":"K2629*'Lookup Tables'!$R$14","v":1531.0793999999999}]
[5758,9,"Remove and replace same part",0,1.4,"GROUP EOC-10B",{"$f":"G2630*'Lookup Tables'!$R$14","v":26.290800000000004},{"$f":"H2630*'Lookup Tables'!$R$14","v":0},{"$f":"I2630*'Lookup Tables'!$R$14","v":0},{"$f":"J2630*'Lookup Tables'!$R$14","v":215.53660000000002},{"$f":"K2630*'Lookup Tables'!$R$14","v":241.82740000000004}]
[5759,1,"New Material Applied",0,1.8819999999999999,"GROUP EOC-10F",{"$f":"G2631*'Lookup Tables'!$R$14","v":1628.2855999999999},{"$f":"H2631*'Lookup Tables'!$R$14","v":65.705200000000005},{"$f":"I2631*'Lookup Tables'!$R$14","v":0},{"$f":"J2631*'Lookup Tables'!$R$14","v":289.73290000000003},{"$f":"K2631*'Lookup Tables'!$R$14","v":1918.0184999999999}]
[5759,3,"Reconditioned or Recertified Material Applied",0,1.8819999999999999,"GROUP EOC-10F",{"$f":"G2632*'Lookup Tables'!$R$14","v":1254.2630000000001},{"$f":"H2632*'Lookup Tables'!$R$14","v":0},{"$f":"I2632*'Lookup Tables'!$R$14","v":0},{"$f":"J2632*'Lookup Tables'!$R$14","v":289.73290000000003},{"$f":"K2632*'Lookup Tables'!$R$14","v":1543.9959000000001}]
[5759,9,"Remove and replace same part",0,1.4,"GROUP EOC-10F",{"$f":"G2633*'Lookup Tables'!$R$14","v":26.290800000000004},{"$f":"H2633*'Lookup Tables'!$R$14","v":0},{"$f":"I2633*'Lookup Tables'!$R$14","v":0},{"$f":"J2633*'Lookup Tables'!$R$14","v":215.53660000000002},{"$f":"K2633*'Lookup Tables'!$R$14","v":241.82740000000004}]
[5762,1,"New Material Applied",0,1.8819999999999999,"GROUP EOC-11D",{"$f":"G2634*'Lookup Tables'!$R$14","v":2437.7305000000001},{"$f":"H2634*'Lookup Tables'!$R$14","v":125.05570000000002},{"$f":"I2634*'Lookup Tables'!$R$14","v":0},{"$f":"J2634*'Lookup Tables'!$R$14","v":289.73290000000003},{"$f":"K2634*'Lookup Tables'!$R$14","v":2727.4634000000001}]
[5762,3,{"$f":"VLOOKUP(B1284,$B$2686:$C$2701,2,FALSE)","v":"Reconditioned or Recertified Material Applied"},0,1.8819999999999999,"GROUP EOC-11D",{"$f":"G2635*'Lookup Tables'!$R$14","v":1745.6895000000002},{"$f":"H2635*'Lookup Tables'!$R$14","v":0},{"$f":"I2635*'Lookup Tables'!$R$14","v":0},{"$f":"J2635*'Lookup Tables'!$R$14","v":289.73290000000003},{"$f":"K2635*'Lookup Tables'!$R$14","v":2035.4224000000002}]
[5762,9,"Remove and replace same part",0,1.4,"GROUP EOC-11D",{"$f":"G2636*'Lookup Tables'!$R$14","v":26.290800000000004},{"$f":"H2636*'Lookup Tables'!$R$14","v":0},{"$f":"I2636*'Lookup Tables'!$R$14","v":0},{"$f":"J2636*'Lookup Tables'!$R$14","v":215.53660000000002},{"$f":"K2636*'Lookup Tables'!$R$14","v":241.82740000000004}]
[5764,1,"New Material Applied",0,1.8819999999999999,"GROUP EOC-11B",{"$f":"G2637*'Lookup Tables'!$R$14","v":2141.4685000000004},{"$f":"H2637*'Lookup Tables'!$R$14","v":125.05570000000002},{"$f":"I2637*'Lookup Tables'!$R$14","v":0},{"$f":"J2637*'Lookup Tables'!$R$14","v":289.73290000000003},{"$f":"K2637*'Lookup Tables'!$R$14","v":2431.2014000000004}]
[5764,3,"Reconditioned or Recertified Material Applied",0,1.8819999999999999,"GROUP EOC-11B",{"$f":"G2638*'Lookup Tables'!$R$14","v":1887.662},{"$f":"H2638*'Lookup Tables'!$R$14","v":0},{"$f":"I2638*'Lookup Tables'!$R$14","v":0},{"$f":"J2638*'Lookup Tables'!$R$14","v":289.73290000000003},{"$f":"K2638*'Lookup Tables'!$R$14","v":2177.3949000000002}]
[5764,9,"Remove and replace same part",0,1.4,"GROUP EOC-11B",{"$f":"G2639*'Lookup Tables'!$R$14","v":26.290800000000004},{"$f":"H2639*'Lookup Tables'!$R$14","v":0},{"$f":"I2639*'Lookup Tables'!$R$14","v":0},{"$f":"J2639*'Lookup Tables'!$R$14","v":215.53660000000002},{"$f":"K2639*'Lookup Tables'!$R$14","v":241.82740000000004}]
[5768,1,"New Material Applied",0,1.8819999999999999,"GROUP EOC-12D",{"$f":"G2640*'Lookup Tables'!$R$14","v":2501.5391},{"$f":"H2640*'Lookup Tables'!$R$14","v":135.36709999999999},{"$f":"I2640*'Lookup Tables'!$R$14","v":0},{"$f":"J2640*'Lookup Tables'!$R$14","v":289.73290000000003},{"$f":"K2640*'Lookup Tables'!$R$14","v":2791.2719999999999}]
[5768,3,"Reconditioned or Recertified Material Applied",0,1.8819999999999999,"GROUP EOC-12D",{"$f":"G2641*'Lookup Tables'!$R$14","v":1959.6783},{"$f":"H2641*'Lookup Tables'!$R$14","v":0},{"$f":"I2641*'Lookup Tables'!$R$14","v":0},{"$f":"J2641*'Lookup Tables'!$R$14","v":289.73290000000003},{"$f":"K2641*'Lookup Tables'!$R$14","v":2249.4112}]
[5768,9,"Remove and replace same part",0,1.4,"GROUP EOC-12D",{"$f":"G2642*'Lookup Tables'!$R$14","v":26.290800000000004},{"$f":"H2642*'Lookup Tables'!$R$14","v":0},{"$f":"I2642*'Lookup Tables'!$R$14","v":0},{"$f":"J2642*'Lookup Tables'!$R$14","v":215.53660000000002},{"$f":"K2642*'Lookup Tables'!$R$14","v":241.82740000000004}]
[5770,1,"New Material Applied",0,1.8819999999999999,"GROUP EOC-12B",{"$f":"G2643*'Lookup Tables'!$R$14","v":2491.1840999999999},{"$f":"H2643*'Lookup Tables'!$R$14","v":135.36709999999999},{"$f":"I2643*'Lookup Tables'!$R$14","v":0},{"$f":"J2643*'Lookup Tables'!$R$14","v":289.73290000000003},{"$f":"K2643*'Lookup Tables'!$R$14","v":2780.9169999999999}]
[5770,3,"Reconditioned or Recertified Material Applied",0,1.8819999999999999,"GROUP EOC-12B",{"$f":"G2644*'Lookup Tables'!$R$14","v":1916.0565000000001},{"$f":"H2644*'Lookup Tables'!$R$14","v":0},{"$f":"I2644*'Lookup Tables'!$R$14","v":0},{"$f":"J2644*'Lookup Tables'!$R$14","v":289.73290000000003},{"$f":"K2644*'Lookup Tables'!$R$14","v":2205.7894000000001}]
[5770,9,"Remove and replace same part",0,1.4,"GROUP EOC-12B",{"$f":"G2645*'Lookup Tables'!$R$14","v":26.290800000000004},{"$f":"H2645*'Lookup Tables'!$R$14","v":0},{"$f":"I2645*'Lookup Tables'!$R$14","v":0},{"$f":"J2645*'Lookup Tables'!$R$14","v":215.53660000000002},{"$f":"K2645*'Lookup Tables'!$R$14","v":241.82740000000004}]
[5776,1,"New Material Applied",0,1.8819999999999999,"GROUP EOC-13B",{"$f":"G2646*'Lookup Tables'!$R$14","v":1843.7132000000001},{"$f":"H2646*'Lookup Tables'!$R$14","v":101.91500000000001},{"$f":"I2646*'Lookup Tables'!$R$14","v":0},{"$f":"J2646*'Lookup Tables'!$R$14","v":289.73290000000003},{"$f":"K2646*'Lookup Tables'!$R$14","v":2133.4461000000001}]
[5776,3,"Reconditioned or Recertified Material Applied",0,1.8819999999999999,"GROUP EOC-13B",{"$f":"G2647*'Lookup Tables'!$R$14","v":1483.2393000000002},{"$f":"H2647*'Lookup Tables'!$R$14","v":0},{"$f":"I2647*'Lookup Tables'!$R$14","v":0},{"$f":"J2647*'Lookup Tables'!$R$14","v":289.73290000000003},{"$f":"K2647*'Lookup Tables'!$R$14","v":1772.9722000000002}]
[5776,9,"Remove and replace same part",0,1.4,"GROUP EOC-13B",{"$f":"G2648*'Lookup Tables'!$R$14","v":26.290800000000004},{"$f":"H2648*'Lookup Tables'!$R$14","v":0},{"$f":"I2648*'Lookup Tables'!$R$14","v":0},{"$f":"J2648*'Lookup Tables'!$R$14","v":215.53660000000002},{"$f":"K2648*'Lookup Tables'!$R$14","v":241.82740000000004}]
[5782,1,"New Material Applied",0,1.8819999999999999,"GROUP EOC-14B",{"$f":"G2649*'Lookup Tables'!$R$14","v":2434.6349000000005},{"$f":"H2649*'Lookup Tables'!$R$14","v":101.91500000000001},{"$f":"I2649*'Lookup Tables'!$R$14","v":0},{"$f":"J2649*'Lookup Tables'!$R$14","v":289.73290000000003},{"$f":"K2649*'Lookup Tables'!$R$14","v":2724.3678000000004}]
[5782,3,"Reconditioned or Recertified Material Applied",0,1.8819999999999999,"GROUP EOC-14B",{"$f":"G2650*'Lookup Tables'!$R$14","v":1816.6267000000003},{"$f":"H2650*'Lookup Tables'!$R$14","v":0},{"$f":"I2650*'Lookup Tables'!$R$14","v":0},{"$f":"J2650*'Lookup Tables'!$R$14","v":289.73290000000003},{"$f":"K2650*'Lookup Tables'!$R$14","v":2106.3596000000002}]
[5782,9,"Remove and replace same part",0,1.4,"GROUP EOC-14B",{"$f":"G2651*'Lookup Tables'!$R$14","v":26.290800000000004},{"$f":"H2651*'Lookup Tables'!$R$14","v":0},{"$f":"I2651*'Lookup Tables'!$R$14","v":0},{"$f":"J2651*'Lookup Tables'!$R$14","v":215.53660000000002},{"$f":"K2651*'Lookup Tables'!$R$14","v":241.82740000000004}]
[5786,1,"New Material Applied",0,1.8819999999999999,"GROUP EOC-15D",{"$f":"G2652*'Lookup Tables'!$R$14","v":1841.3915},{"$f":"H2652*'Lookup Tables'!$R$14","v":154.91080000000002},{"$f":"I2652*'Lookup Tables'!$R$14","v":0},{"$f":"J2652*'Lookup Tables'!$R$14","v":289.73290000000003},{"$f":"K2652*'Lookup Tables'!$R$14","v":2131.1244000000002}]
[5786,3,"Reconditioned or Recertified Material Applied",0,1.8819999999999999,"GROUP EOC-15D",{"$f":"G2653*'Lookup Tables'!$R$14","v":1817.0518000000002},{"$f":"H2653*'Lookup Tables'!$R$14","v":0},{"$f":"I2653*'Lookup Tables'!$R$14","v":0},{"$f":"J2653*'Lookup Tables'!$R$14","v":289.73290000000003},{"$f":"K2653*'Lookup Tables'!$R$14","v":2106.7847000000002}]
[5786,9,"Remove and replace same part",0,1.4,"GROUP EOC-15D",{"$f":"G2654*'Lookup Tables'!$R$14","v":26.290800000000004},{"$f":"H2654*'Lookup Tables'!$R$14","v":0},{"$f":"I2654*'Lookup Tables'!$R$14","v":0},{"$f":"J2654*'Lookup Tables'!$R$14","v":215.53660000000002},{"$f":"K2654*'Lookup Tables'!$R$14","v":241.82740000000004}]
[5788,1,"New Material Applied",0,1.8819999999999999,"GROUP EOC-15B",{"$f":"G2655*'Lookup Tables'!$R$14","v":2242.2608},{"$f":"H2655*'Lookup Tables'!$R$14","v":154.91080000000002},{"$f":"I2655*'Lookup Tables'!$R$14","v":0},{"$f":"J2655*'Lookup Tables'!$R$14","v":289.73290000000003},{"$f":"K2655*'Lookup Tables'!$R$14","v":2531.9937}]
[5788,3,"Reconditioned or Recertified Material Applied",0,1.8819999999999999,"GROUP EOC-15B",{"$f":"G2656*'Lookup Tables'!$R$14","v":1819.4062000000001},{"$f":"H2656*'Lookup Tables'!$R$14","v":0},{"$f":"I2656*'Lookup Tables'!$R$14","v":0},{"$f":"J2656*'Lookup Tables'!$R$14","v":289.73290000000003},{"$f":"K2656*'Lookup Tables'!$R$14","v":2109.1391000000003}]
[5788,9,"Remove and replace same part",0,1.4,"GROUP EOC-15B",{"$f":"G2657*'Lookup Tables'!$R$14","v":26.290800000000004},{"$f":"H2657*'Lookup Tables'!$R$14","v":0},{"$f":"I2657*'Lookup Tables'!$R$14","v":0},{"$f":"J2657*'Lookup Tables'!$R$14","v":215.53660000000002},{"$f":"K2657*'Lookup Tables'!$R$14","v":241.82740000000004}]
[5792,1,"New Material Applied",0,1.8819999999999999,"GROUP EOC-16D",{"$f":"G2658*'Lookup Tables'!$R$14","v":2257.7388000000005},{"$f":"H2658*'Lookup Tables'!$R$14","v":130.2114},{"$f":"I2658*'Lookup Tables'!$R$14","v":0},{"$f":"J2658*'Lookup Tables'!$R$14","v":289.73290000000003},{"$f":"K2658*'Lookup Tables'!$R$14","v":2547.4717000000005}]
[5792,3,"Reconditioned or Recertified Material Applied",0,1.8819999999999999,"GROUP EOC-16D",{"$f":"G2659*'Lookup Tables'!$R$14","v":1665.3783000000001},{"$f":"H2659*'Lookup Tables'!$R$14","v":0},{"$f":"I2659*'Lookup Tables'!$R$14","v":0},{"$f":"J2659*'Lookup Tables'!$R$14","v":289.73290000000003},{"$f":"K2659*'Lookup Tables'!$R$14","v":1955.1112000000001}]
[5792,9,"Remove and replace same part",0,1.4,"GROUP EOC-16D",{"$f":"G2660*'Lookup Tables'!$R$14","v":26.290800000000004},{"$f":"H2660*'Lookup Tables'!$R$14","v":0},{"$f":"I2660*'Lookup Tables'!$R$14","v":0},{"$f":"J2660*'Lookup Tables'!$R$14","v":215.53660000000002},{"$f":"K2660*'Lookup Tables'!$R$14","v":241.82740000000004}]
[5794,1,"New Material Applied",0,1.8819999999999999,"GROUP EOC-16B",{"$f":"G2661*'Lookup Tables'!$R$14","v":2355.0322000000001},{"$f":"H2661*'Lookup Tables'!$R$14","v":100.71600000000001},{"$f":"I2661*'Lookup Tables'!$R$14","v":0},{"$f":"J2661*'Lookup Tables'!$R$14","v":289.73290000000003},{"$f":"K2661*'Lookup Tables'!$R$14","v":2644.7651000000001}]
[5794,3,"Reconditioned or Recertified Material Applied",0,1.8819999999999999,"GROUP EOC-16B",{"$f":"G2662*'Lookup Tables'!$R$14","v":1564.1064000000001},{"$f":"H2662*'Lookup Tables'!$R$14","v":0},{"$f":"I2662*'Lookup Tables'!$R$14","v":0},{"$f":"J2662*'Lookup Tables'!$R$14","v":289.73290000000003},{"$f":"K2662*'Lookup Tables'!$R$14","v":1853.8393000000001}]
[5794,9,"Remove and replace same part",0,1.4,"GROUP EOC-16B",{"$f":"G2663*'Lookup Tables'!$R$14","v":26.290800000000004},{"$f":"H2663*'Lookup Tables'!$R$14","v":0},{"$f":"I2663*'Lookup Tables'!$R$14","v":0},{"$f":"J2663*'Lookup Tables'!$R$14","v":215.53660000000002},{"$f":"K2663*'Lookup Tables'!$R$14","v":241.82740000000004}]
[5842,1,"New Material Applied",0,1.8819999999999999,"GROUP EOC-24B",{"$f":"G2664*'Lookup Tables'!$R$14","v":2164.9471000000003},{"$f":"H2664*'Lookup Tables'!$R$14","v":101.91500000000001},{"$f":"I2664*'Lookup Tables'!$R$14","v":0},{"$f":"J2664*'Lookup Tables'!$R$14","v":289.73290000000003},{"$f":"K2664*'Lookup Tables'!$R$14","v":2454.6800000000003}]
[5842,3,"Reconditioned or Recertified Material Applied",0,1.8819999999999999,"GROUP EOC-24B",{"$f":"G2665*'Lookup Tables'!$R$14","v":1903.9030000000002},{"$f":"H2665*'Lookup Tables'!$R$14","v":0},{"$f":"I2665*'Lookup Tables'!$R$14","v":0},{"$f":"J2665*'Lookup Tables'!$R$14","v":289.73290000000003},{"$f":"K2665*'Lookup Tables'!$R$14","v":2193.6359000000002}]
[5842,9,"Remove and replace same part",0,1.4,"GROUP EOC-24B",{"$f":"G2666*'Lookup Tables'!$R$14","v":26.290800000000004},{"$f":"H2666*'Lookup Tables'!$R$14","v":0},{"$f":"I2666*'Lookup Tables'!$R$14","v":0},{"$f":"J2666*'Lookup Tables'!$R$14","v":215.53660000000002},{"$f":"K2666*'Lookup Tables'!$R$14","v":241.82740000000004}]
[5843,1,"New Material Applied",0,1.8819999999999999,"GROUP EOC-25E",{"$f":"G2667*'Lookup Tables'!$R$14","v":1611.9901000000002},{"$f":"H2667*'Lookup Tables'!$R$14","v":101.91500000000001},{"$f":"I2667*'Lookup Tables'!$R$14","v":0},{"$f":"J2667*'Lookup Tables'!$R$14","v":289.73290000000003},{"$f":"K2667*'Lookup Tables'!$R$14","v":1901.7230000000002}]
[5843,3,"Reconditioned or Recertified Material Applied",0,1.8819999999999999,"GROUP EOC-25E",{"$f":"G2668*'Lookup Tables'!$R$14","v":1341.0597},{"$f":"H2668*'Lookup Tables'!$R$14","v":0},{"$f":"I2668*'Lookup Tables'!$R$14","v":0},{"$f":"J2668*'Lookup Tables'!$R$14","v":289.73290000000003},{"$f":"K2668*'Lookup Tables'!$R$14","v":1630.7926}]
[5843,9,"Remove and replace same part",0,1.4,"GROUP EOC-25E",{"$f":"G2669*'Lookup Tables'!$R$14","v":26.290800000000004},{"$f":"H2669*'Lookup Tables'!$R$14","v":0},{"$f":"I2669*'Lookup Tables'!$R$14","v":0},{"$f":"J2669*'Lookup Tables'!$R$14","v":215.53660000000002},{"$f":"K2669*'Lookup Tables'!$R$14","v":241.82740000000004}]
[5846,1,"New Material Applied",0,1.8819999999999999,"GROUP EOC-26B",{"$f":"G2670*'Lookup Tables'!$R$14","v":2022.7675000000002},{"$f":"H2670*'Lookup Tables'!$R$14","v":101.91500000000001},{"$f":"I2670*'Lookup Tables'!$R$14","v":0},{"$f":"J2670*'Lookup Tables'!$R$14","v":289.73290000000003},{"$f":"K2670*'Lookup Tables'!$R$14","v":2312.5003999999999}]
[5846,3,"Reconditioned or Recertified Material Applied",0,1.8819999999999999,"GROUP EOC-26B",{"$f":"G2671*'Lookup Tables'!$R$14","v":1163.2044000000001},{"$f":"H2671*'Lookup Tables'!$R$14","v":0},{"$f":"I2671*'Lookup Tables'!$R$14","v":0},{"$f":"J2671*'Lookup Tables'!$R$14","v":289.73290000000003},{"$f":"K2671*'Lookup Tables'!$R$14","v":1452.9373000000001}]
[5846,9,"Remove and replace same part",0,1.4,"GROUP EOC-26B",{"$f":"G2672*'Lookup Tables'!$R$14","v":26.290800000000004},{"$f":"H2672*'Lookup Tables'!$R$14","v":0},{"$f":"I2672*'Lookup Tables'!$R$14","v":0},{"$f":"J2672*'Lookup Tables'!$R$14","v":215.53660000000002},{"$f":"K2672*'Lookup Tables'!$R$14","v":241.82740000000004}]
[5847,1,"New Material Applied",0,1.8819999999999999,"GROUP EOC-26F",{"$f":"G2673*'Lookup Tables'!$R$14","v":2510.4007999999999},{"$f":"H2673*'Lookup Tables'!$R$14","v":101.91500000000001},{"$f":"I2673*'Lookup Tables'!$R$14","v":0},{"$f":"J2673*'Lookup Tables'!$R$14","v":289.73290000000003},{"$f":"K2673*'Lookup Tables'!$R$14","v":2800.1336999999999}]
[5847,3,"Reconditioned or Recertified Material Applied",0,1.8819999999999999,"GROUP EOC-26F",{"$f":"G2674*'Lookup Tables'!$R$14","v":1807.5252},{"$f":"H2674*'Lookup Tables'!$R$14","v":0},{"$f":"I2674*'Lookup Tables'!$R$14","v":0},{"$f":"J2674*'Lookup Tables'!$R$14","v":289.73290000000003},{"$f":"K2674*'Lookup Tables'!$R$14","v":2097.2581}]
[5847,9,"Remove and replace same part",0,1.4,"GROUP EOC-26F",{"$f":"G2675*'Lookup Tables'!$R$14","v":26.290800000000004},{"$f":"H2675*'Lookup Tables'!$R$14","v":0},{"$f":"I2675*'Lookup Tables'!$R$14","v":0},{"$f":"J2675*'Lookup Tables'!$R$14","v":215.53660000000002},{"$f":"K2675*'Lookup Tables'!$R$14","v":241.82740000000004}]
[5850,1,"New Material Applied",0,1.8819999999999999,"GROUP EOC-27D",{"$f":"G2676*'Lookup Tables'!$R$14","v":1357.3116},{"$f":"H2676*'Lookup Tables'!$R$14","v":101.91500000000001},{"$f":"I2676*'Lookup Tables'!$R$14","v":0},{"$f":"J2676*'Lookup Tables'!$R$14","v":289.73290000000003},{"$f":"K2676*'Lookup Tables'!$R$14","v":1647.0445}]
[5850,3,"Reconditioned or Recertified Material Applied",0,1.8819999999999999,"GROUP EOC-27D",{"$f":"G2677*'Lookup Tables'!$R$14","v":1275.7578000000001},{"$f":"H2677*'Lookup Tables'!$R$14","v":0},{"$f":"I2677*'Lookup Tables'!$R$14","v":0},{"$f":"J2677*'Lookup Tables'!$R$14","v":289.73290000000003},{"$f":"K2677*'Lookup Tables'!$R$14","v":1565.4907000000001}]
[5850,9,"Remove and replace same part",0,1.4,"GROUP EOC-27D",{"$f":"G2678*'Lookup Tables'!$R$14","v":26.290800000000004},{"$f":"H2678*'Lookup Tables'!$R$14","v":0},{"$f":"I2678*'Lookup Tables'!$R$14","v":0},{"$f":"J2678*'Lookup Tables'!$R$14","v":215.53660000000002},{"$f":"K2678*'Lookup Tables'!$R$14","v":241.82740000000004}]
[5880,1,"New Material Applied",0,0,"E-TYPE CUSHION UNIT FLOATING YOKE",{"$f":"G2679*'Lookup Tables'!$R$14","v":991.49670000000003},{"$f":"H2679*'Lookup Tables'!$R$14","v":47.96},{"$f":"I2679*'Lookup Tables'!$R$14","v":0},{"$f":"J2679*'Lookup Tables'!$R$14","v":0},{"$f":"K2679*'Lookup Tables'!$R$14","v":991.49670000000003}]
[5880,3,"Reconditioned or Recertified Material Applied",0,0,"E-TYPE CUSHION UNIT FLOATING YOKE",{"$f":"G2680*'Lookup Tables'!$R$14","v":743.61980000000005},{"$f":"H2680*'Lookup Tables'!$R$14","v":47.96},{"$f":"I2680*'Lookup Tables'!$R$14","v":0},{"$f":"J2680*'Lookup Tables'!$R$14","v":0},{"$f":"K2680*'Lookup Tables'!$R$14","v":743.61980000000005}]
[5884,1,"New Material Applied",0,0,"F-TYPE CUSHION UNIT FLOATING YOKE",{"$f":"G2681*'Lookup Tables'!$R$14","v":986.11210000000017},{"$f":"H2681*'Lookup Tables'!$R$14","v":37.408800000000006},{"$f":"I2681*'Lookup Tables'!$R$14","v":0},{"$f":"J2681*'Lookup Tables'!$R$14","v":0},{"$f":"K2681*'Lookup Tables'!$R$14","v":986.11210000000017}]
[5884,3,"Reconditioned or Recertified Material Applied",0,0,"F-TYPE CUSHION UNIT FLOATING YOKE",{"$f":"G2682*'Lookup Tables'!$R$14","v":739.58680000000004},{"$f":"H2682*'Lookup Tables'!$R$14","v":37.408800000000006},{"$f":"I2682*'Lookup Tables'!$R$14","v":0},{"$f":"J2682*'Lookup Tables'!$R$14","v":0},{"$f":"K2682*'Lookup Tables'!$R$14","v":739.58680000000004}]
[]
["Source: AAR. Technology Transportation Center, Inc. 2020. "]
[]
[null,"Condition Code","Description"]
[null,1,"New Material Applied"," "]
[null,2,"Secondhand Material Applied"," "]
[null,3,"Reconditioned or Recertified Material Applied"," "]
[null,7,"Periodic or Service Attention \n(includes: vacant, single car testing of air brakes, cleaning of brke cyclinder, B-1 Quick Service Valves, Lubrication, Servicing mechanical refrigeration units, vacant, all wheels applied)"," "]
[null,8,"Remove, repair, and replace same part"," "]
[null,9,"Remove and replace same part"," "]
[null,0,"Labor attention such as: \nactual labor, replacing or rechanging doors, welding, vacant, painting or stenciling, other labor attention"," "]
[null,"A","Wheel set with new roller bearings and new axle"," "]
[null,"B","Wheel set with reconditioned roller bearings and reconditioned/ secondhand axle"," "]
[null,"C","Wheel set with new roller bearings and reconditioned/secondhand axle"," "]
[null,"D","Wheel set with reconditioned roller bearings and new axle"," "]
[null,"F","Purchased core wheel set with reconditioned roller bearings and reconditioned/secondhand axle"," "]
[null,"G","Purchased core wheel set with new roller bearings and reconditioned/ secondhand axle"," "]
[null,"T","Component transfer"," "]
[null,"U","Upgraded"," "]
[]
["Train Equipment Repair, Replacement, and Upgrade Costs (From AAR. Technology Transportation Center, Inc. 2020.) "]
[]
["Applied Job Code","Condition Code","Condition Description","Fixed Labor Time Standard","Variable Labor Time Standard","Job Code Description","Material Price","Credit","Fixed Labor","Variable Labor","Total Cost"]
[1116,7,{"$f":"VLOOKUP(B1355,$B$2686:$C$2701,2,FALSE)","v":"Periodic or Service Attention \n(includes: vacant, single car testing of air brakes, cleaning of brke cyclinder, B-1 Quick Service Valves, Lubrication, Servicing mechanical refrigeration units, vacant, all wheels applied)"},0,3.8879999999999999,"ADDITIONAL BRAKE CLEANING - ACCOUNT SUBMERGED",0,0,0,549.14,{"$f":"G1355+J1355","v":549.14}]
[1128,0,"Labor attention such as: \nactual labor, replacing or rechanging doors, welding, vacant, painting or stenciling, other labor attention",0,0,"INSPECTION ASSOCIATED WITH EHMS LORF-AHS ALERT",0,0,0,0,{"$f":"G1356+J1356","v":0}]
[1130,7,"Periodic or Service Attention \n(includes: vacant, single car testing of air brakes, cleaning of brke cyclinder, B-1 Quick Service Valves, Lubrication, Servicing mechanical refrigeration units, vacant, all wheels applied)",0,7.1999999999999995E-2,"ADD'L SERVICE STABILITY TEST - EHMS LORF-NCF ALERT",0,0,0,10.17,10.17]
[1132,7,"Periodic or Service Attention \n(includes: vacant, single car testing of air brakes, cleaning of brke cyclinder, B-1 Quick Service Valves, Lubrication, Servicing mechanical refrigeration units, vacant, all wheels applied)",0,7.0000000000000007E-2,"ADDITIONAL VENT VALVE TEST - EHMS LORF-NCF ALERT",0,0,0,9.89,9.89]
[1139,7,"Periodic or Service Attention \n(includes: vacant, single car testing of air brakes, cleaning of brke cyclinder, B-1 Quick Service Valves, Lubrication, Servicing mechanical refrigeration units, vacant, all wheels applied)",0,2.63,"SCT USE MANUAL DEVICE, 1 SET, PER MA-63 OR EW 5171",0.4,0,0,371.46,371.85999999999996]
[1140,7,"Periodic or Service Attention \n(includes: vacant, single car testing of air brakes, cleaning of brke cyclinder, B-1 Quick Service Valves, Lubrication, Servicing mechanical refrigeration units, vacant, all wheels applied)",0,2.8849999999999998,"SCT USE AUTO TEST DEVICE, 1 SET, PER MA-63 EW 5171",0.4,0,0,407.48,407.88]
[1142,7,"Periodic or Service Attention \n(includes: vacant, single car testing of air brakes, cleaning of brke cyclinder, B-1 Quick Service Valves, Lubrication, Servicing mechanical refrigeration units, vacant, all wheels applied)",0,2.302,"4-PRESSURE SCT W/ AUTO TEST DEV, MA-63 OR EW 5171",0.4,0,0,325.13,325.52999999999997]
[1144,7,"Periodic or Service Attention \n(includes: vacant, single car testing of air brakes, cleaning of brke cyclinder, B-1 Quick Service Valves, Lubrication, Servicing mechanical refrigeration units, vacant, all wheels applied)",0,0.87,"4-PRESSURE SCT USE AN AUTOMATIC SCT DEVICE, 1 SET",0.4,0,0,122.88,123.28]
[1145,7,"Periodic or Service Attention \n(includes: vacant, single car testing of air brakes, cleaning of brke cyclinder, B-1 Quick Service Valves, Lubrication, Servicing mechanical refrigeration units, vacant, all wheels applied)",0,1.198,"SCT USE A MANUAL SCT DEVICE, 1 SET",0.4,0,0,169.21,169.61]
[1146,7,"Periodic or Service Attention \n(includes: vacant, single car testing of air brakes, cleaning of brke cyclinder, B-1 Quick Service Valves, Lubrication, Servicing mechanical refrigeration units, vacant, all wheels applied)",0,1.4530000000000001,"SCT USE AN AUTOMATIC SCT DEVICE, 1 SET",0.4,0,0,205.22,205.62]
[1147,7,"Periodic or Service Attention \n(includes: vacant, single car testing of air brakes, cleaning of brke cyclinder, B-1 Quick Service Valves, Lubrication, Servicing mechanical refrigeration units, vacant, all wheels applied)",0,0.312,"BRAKE CYLINDER LEAKAGE TEST, 1 SET",0,0,0,44.07,44.07]
[1150,0,"Labor attention such as: \nactual labor, replacing or rechanging doors, welding, vacant, painting or stenciling, other labor attention",0,0.38700000000000001,"GROUP A - PISTON TRAVEL ADJUSTMENT",0,0,0,54.66,54.66]
[1151,0,"Labor attention such as: \nactual labor, replacing or rechanging doors, welding, vacant, painting or stenciling, other labor attention",0,0.34100000000000003,"GROUP B - PISTON TRAVEL ADJUSTMENT",0,0,0,48.16,48.16]
[1152,0,"Labor attention such as: \nactual labor, replacing or rechanging doors, welding, vacant, painting or stenciling, other labor attention",0,0.437,"GROUP C - PISTON TRAVEL ADJUSTMENT",0,0,0,61.72,61.72]
[1153,0,"Labor attention such as: \nactual labor, replacing or rechanging doors, welding, vacant, painting or stenciling, other labor attention",0,0.20499999999999999,"BODY MOUNTED BRAKES-TRUCK LEVER ADJUSTMENT",0.13,0,0,28.95,29.08]
[1155,7,"Periodic or Service Attention \n(includes: vacant, single car testing of air brakes, cleaning of brke cyclinder, B-1 Quick Service Valves, Lubrication, Servicing mechanical refrigeration units, vacant, all wheels applied)",0,6.9000000000000006E-2,"SLACK ADJUSTER TEST",0,0,0,9.75,9.75]
[1157,7,"Periodic or Service Attention \n(includes: vacant, single car testing of air brakes, cleaning of brke cyclinder, B-1 Quick Service Valves, Lubrication, Servicing mechanical refrigeration units, vacant, all wheels applied)",0,7.8E-2,"RETAINING VALVE TEST",0,0,0,11.02,11.02]
[1159,7,"Periodic or Service Attention \n(includes: vacant, single car testing of air brakes, cleaning of brke cyclinder, B-1 Quick Service Valves, Lubrication, Servicing mechanical refrigeration units, vacant, all wheels applied)",0,0.155,"EMPTY/LOAD VALVE TEST",0,0,0,21.89,21.89]
[1160,1,"New Material Applied",0,0.253,"ANGLE COCK, BALL TYPE",38.200000000000003,0.33,0,35.729999999999997,73.930000000000007]
[1160,2,"Secondhand Material Applied",0,0.253,"ANGLE COCK, BALL TYPE",32.200000000000003,0,0,35.729999999999997,67.930000000000007]
[1160,3,"Reconditioned or Recertified Material Applied",0,0.253,"ANGLE COCK, BALL TYPE",34.01,0,0,35.729999999999997,69.739999999999995]
[1161,1,"New Material Applied",0,0.1,"ANGLE COCK / END COCK HANDLE",19.690000000000001,0.11,0,14.12,33.81]
[1162,1,"New Material Applied",0,0.24,"END COCK 1 1/4\"",69.97,0.33,0,33.9,103.87]
[1162,2,"Secondhand Material Applied",0,0.24,"END COCK 1 1/4\"",21.39,0,0,33.9,55.29]
[1162,3,"Reconditioned or Recertified Material Applied",0,0.24,"END COCK 1 1/4\"",34.42,0,0,33.9,68.319999999999993]
[1163,1,"New Material Applied",0,0.22800000000000001,"ANGLE COCK / END COCK HANDLE AND TOP CAP ASSEMBLY",15.03,0.11,0,32.200000000000003,47.230000000000004]
[1165,1,"New Material Applied",0,0.114,"AIR HOSE SUPPORT COMPLETE - NON-METALLIC",3.32,0,0,16.100000000000001,19.420000000000002]
[1165,2,"Secondhand Material Applied",0,0.114,"AIR HOSE SUPPORT COMPLETE - NON-METALLIC",1.66,0,0,16.100000000000001,17.760000000000002]
[1165,9,"Remove and replace same part",0,7.9000000000000001E-2,"AIR HOSE SUPPORT COMPLETE - NON-METALLIC",0,0,0,11.16,11.16]
[1167,1,"New Material Applied",0,0.114,"AIR HOSE SUPPORT COMPLETE - METALLIC",3.58,0,0,16.100000000000001,19.68]
[1167,2,"Secondhand Material Applied",0,0.114,"AIR HOSE SUPPORT COMPLETE - METALLIC",1.79,0,0,16.100000000000001,17.89]
[1167,9,"Remove and replace same part",0,7.9000000000000001E-2,"AIR HOSE SUPPORT COMPLETE - METALLIC",0,0,0,11.16,11.16]
[1172,1,"New Material Applied",0,0.25,"FLEXIBLE BRANCH PIPE HOSE",68.430000000000007,0,0,35.31,103.74000000000001]
[1180,1,"New Material Applied",0,0.255,"FLEXIBLE BRAKE PIPE HOSE, UNDER 59 INCHES",39.86,0,0,36.020000000000003,75.88]
[1184,1,"New Material Applied",0,0.27200000000000002,"FLEXIBLE BRAKE PIPE HOSE 59 INCHES OR OVER",56.14,0,0,38.42,94.56]
[1186,1,"New Material Applied",0,0.27200000000000002,"FLEXIBLE HOSE, 3/4 INCH OR SMALLER",15.08,0,0,38.42,53.5]
[1188,1,"New Material Applied",0,0,"PIPE, 3/4 INCHES OR SMALLER",1.81,0,0,0,1.81]
[1188,2,"Secondhand Material Applied",0,0,"PIPE, 3/4 INCHES OR SMALLER",0.9,0,0,0,0.9]
[1192,1,"New Material Applied",0,0,"PIPE, 1 OR 1-1/4 INCHES",3.38,0.33,0,0,3.38]
[1192,2,"Secondhand Material Applied",0,0,"PIPE, 1 OR 1-1/4 INCHES",1.69,0.33,0,0,1.69]
[1194,0,"Labor attention such as: \nactual labor, replacing or rechanging doors, welding, vacant, painting or stenciling, other labor attention",0,0.3,"BRAKE PIPE, ANY SIZE - BENDING",0,0,0,42.37,42.37]
[1196,0,"Labor attention such as: \nactual labor, replacing or rechanging doors, welding, vacant, painting or stenciling, other labor attention",0,0.15,"THREADING PIPE, ANY SIZE, PER END",0,0,0,21.19,21.19]
[1197,0,"Labor attention such as: \nactual labor, replacing or rechanging doors, welding, vacant, painting or stenciling, other labor attention",0.123,8.9999999999999993E-3,"PIPE, 3/4 INCH OR LESS-STRAIGHTEN OFF CAR W/ HEAT",0,0,17.37,1.27,1.27]
[1198,0,"Labor attention such as: \nactual labor, replacing or rechanging doors, welding, vacant, painting or stenciling, other labor attention",0.123,2.7E-2,"PIPE, 1 OR 1-1/4 INCH-STRAIGHTEN OFF CAR WITH HEAT",0,0,17.37,3.81,3.81]
[1200,1,"New Material Applied",0,0.1,"PIPE NIPPLE, S.W. 1-1/4 INCHES",4.4800000000000004,0,0,14.12,18.600000000000001]
[1200,2,"Secondhand Material Applied",0,0.1,"PIPE NIPPLE, S.W. 1-1/4 INCHES",2.2400000000000002,0,0,14.12,16.36]
[1204,1,"New Material Applied",0,0.1,"PIPE FITTING, E.H. 3/4 INCHES OR LESS",3.95,0,0,14.12,18.07]
[1204,2,"Secondhand Material Applied",0,0.1,"PIPE FITTING, E.H. 3/4 INCHES OR LESS",1.98,0,0,14.12,16.099999999999998]
[1208,1,"New Material Applied",0,0.1,"PIPE FITTING, E.H. 1 OR 1-1/4 INCHES",9.69,0,0,14.12,23.81]
[1208,2,"Secondhand Material Applied",0,0.1,"PIPE FITTING, E.H. 1 OR 1-1/4 INCHES",4.84,0,0,14.12,18.96]
[1210,0,"Labor attention such as: \nactual labor, replacing or rechanging doors, welding, vacant, painting or stenciling, other labor attention",0,9.1999999999999998E-2,"AIR HOSE EXTENSION COUPLING",0,0,0,12.99,12.99]
[1210,1,"New Material Applied",0,0.10100000000000001,"AIR HOSE EXTENSION COUPLING",5.37,0,0,14.27,19.64]
[1210,2,"Secondhand Material Applied",0,0.10100000000000001,"AIR HOSE EXTENSION COUPLING",2.69,0,0,14.27,16.96]
[1212,1,"New Material Applied",0,0.3,"PIPE UNION OR TEE, E.H. 3/4 INCHES OR LESS",5.68,0,0,42.37,48.05]
[1212,2,"Secondhand Material Applied",0,0.3,"PIPE UNION OR TEE, E.H. 3/4 INCHES OR LESS",2.84,0,0,42.37,45.209999999999994]
[1216,1,"New Material Applied",0,0.3,"PIPE UNION OR TEE, E.H. 1 OR 1-1/4 INCHES",8.14,0,0,42.37,50.51]
[1216,2,"Secondhand Material Applied",0,0.3,"PIPE UNION OR TEE, E.H. 1 OR 1-1/4 INCHES",4.07,0,0,42.37,46.44]
[1227,1,"New Material Applied",0,0.60299999999999998,"PIPE FITTING RFP WELDED 3/4 INCHES OR LESS",9.19,0,0,85.17,94.36]
[1228,1,"New Material Applied",0,1.2390000000000001,"PIPE FITTING, RFP, WELDED 1 OR 1-1/4 INCHES",11.96,0,0,175,186.96]
[1238,1,"New Material Applied",0.25,7.8E-2,"LOK-RING REPAIR COUPLING, 3/8 INCH",88.79,0,35.31,11.02,99.81]
[1239,1,"New Material Applied",0.25,7.8E-2,"LOK-RING REPAIR COUPLING, 3/4 INCH",85.62,0,35.31,11.02,96.64]
[1240,1,"New Material Applied",0.25,7.8E-2,"LOK-RING REPAIR COUPLING, 1 INCH",96.19,0,35.31,11.02,107.21]
[1241,1,"New Material Applied",0.25,7.8E-2,"LOKRING REPAIR COUPLING, 1.25 INCHES",170.35,0,35.31,11.02,181.37]
[1244,1,"New Material Applied",0,0.23300000000000001,"PIPE FITTING GASKET - OR SEAL - SEPARATELY",1.93,0,0,32.909999999999997,34.839999999999996]
[1246,1,{"$f":"VLOOKUP(B1419,$B$2686:$C$2701,2,FALSE)","v":"New Material Applied"},0.25,9.7000000000000003E-2,"LOK-RING FLANGE FITTING, 3/8 INCH",71.959999999999994,0,35.31,13.7,85.66]
[1247,1,"New Material Applied",0.25,9.7000000000000003E-2,"LOK-RING FLANGE FITTING, 3/4 INCH",92.02,0,35.31,13.7,{"$f":"G1420+J1420","v":105.72}]
[1248,1,"New Material Applied",0.25,9.7000000000000003E-2,"LOK-RING FLANGE FITTING, 1 INCH",84.36,0,35.31,13.7,98.06]
[1249,1,"New Material Applied",0.25,9.7000000000000003E-2,"LOK-RING FLANGE FITTING, 1.25 INCHES",95.09,0,35.31,13.7,108.79]
[1260,1,"New Material Applied",0,0.105,"CAP SCREW, AIR BRAKE PART, RENEWED",0.5,0,0,14.83,15.33]
[1260,2,"Secondhand Material Applied",0,0.105,"CAP SCREW, AIR BRAKE PART, RENEWED",0.25,0,0,14.83,15.08]
[1264,1,"New Material Applied",0,0.17,"BRANCH PIPE TEE BODY",20.47,0.55000000000000004,0,24.01,44.480000000000004]
[1264,2,"Secondhand Material Applied",0,0.17,"BRANCH PIPE TEE BODY",10.24,0.55000000000000004,0,24.01,34.25]
[1268,1,"New Material Applied",0,0.26700000000000002,"CUT-OUT COCK, ANY SIZE, COMPLETE",87.4,0.33,0,37.71,125.11000000000001]
[1268,2,"Secondhand Material Applied",0,0.26700000000000002,"CUT-OUT COCK, ANY SIZE, COMPLETE",66.47,0,0,37.71,104.18]
[1268,3,"Reconditioned or Recertified Material Applied",0,0.26700000000000002,"CUT-OUT COCK, ANY SIZE, COMPLETE",78.13,0,0,37.71,115.84]
[1270,1,"New Material Applied",0,0.26700000000000002,"DIRT COLLECTOR, COMPLETE",100.35,0,0,37.71,138.06]
[1270,2,"Secondhand Material Applied",0,0.26700000000000002,"DIRT COLLECTOR, COMPLETE",21.16,0,0,37.71,58.870000000000005]
[1270,3,"Reconditioned or Recertified Material Applied",0,0.26700000000000002,"DIRT COLLECTOR, COMPLETE",31.42,0,0,37.71,69.13]
[1272,1,"New Material Applied",0,0.26600000000000001,"COMBINATION DIRT COLL & CUT-OUT COCK, COMPLETE",48.36,0.33,0,37.57,85.93]
[1272,2,"Secondhand Material Applied",0,0.26600000000000001,"COMBINATION DIRT COLL & CUT-OUT COCK, COMPLETE",30.23,0,0,37.57,67.8]
[1272,3,"Reconditioned or Recertified Material Applied",0,0.26600000000000001,"COMBINATION DIRT COLL & CUT-OUT COCK, COMPLETE",42.12,0,0,37.57,79.69]
[1276,1,"New Material Applied",0,6.7000000000000004E-2,"DIRT COLLECTOR CHAMBER, COMPLETE, SEPARATELY",16.420000000000002,0.33,0,9.4600000000000009,25.880000000000003]
[1276,2,"Secondhand Material Applied",0,6.7000000000000004E-2,"DIRT COLLECTOR CHAMBER, COMPLETE, SEPARATELY",8.2200000000000006,0,0,9.4600000000000009,17.68]
[1277,1,"New Material Applied",0,0.58599999999999997,"ABDX EMERGENCY PORTION",755.42,4.4000000000000004,0,82.77,838.18999999999994]
[1277,3,"Reconditioned or Recertified Material Applied",0,0.58599999999999997,"ABDX EMERGENCY PORTION",113.72,0,0,82.77,196.49]
[1279,3,"Reconditioned or Recertified Material Applied",0,0.58599999999999997,"ABDXR EMERGENCY PORTION",113.72,0,0,82.77,196.49]
[1279,"U","Upgraded",0,0.58599999999999997,"ABDXR EMERGENCY PORTION",473.33,0,0,82.77,556.1]
[1281,1,"New Material Applied",0,0.58599999999999997,"DB-20 EMERGENCY PORTION",691.42,4.4000000000000004,0,82.77,774.18999999999994]
[1281,3,"Reconditioned or Recertified Material Applied",0,0.58599999999999997,"DB-20 EMERGENCY PORTION",131.55000000000001,0,0,82.77,214.32]
[1283,1,"New Material Applied",0,0.58599999999999997,"ABDX-L EMERGENCY PORTION",904.4,4.4000000000000004,0,82.77,987.17]
[1283,3,"Reconditioned or Recertified Material Applied",0,0.58599999999999997,"ABDX-L EMERGENCY PORTION",114.98,0,0,82.77,197.75]
[1285,3,"Reconditioned or Recertified Material Applied",0,0.58599999999999997,"ABDXR-L EMERGENCY PORTION",114.98,0,0,82.77,197.75]
[1285,"U","Upgraded",0,0.58599999999999997,"ABDXR-L EMERGENCY PORTION",409.4,0,0,82.77,492.16999999999996]
[1287,1,"New Material Applied",0,0.58599999999999997,"DB-20-L EMERGENCY PORTION",760.7,4.4000000000000004,0,82.77,843.47]
[1287,3,"Reconditioned or Recertified Material Applied",0,0.58599999999999997,"DB-20-L EMERGENCY PORTION",130.63,0,0,82.77,213.39999999999998]
[1289,1,"New Material Applied",0,0.59099999999999997,"ABDX SERVICE PORTION",834.63,4.4000000000000004,0,83.47,918.1]
[1289,3,"Reconditioned or Recertified Material Applied",0,0.59099999999999997,"ABDX SERVICE PORTION",135.35,0,0,83.47,218.82]
[1291,3,"Reconditioned or Recertified Material Applied",0,0.59099999999999997,"ABDXR SERVICE PORTION",135.35,0,0,83.47,218.82]
[1291,"U","Upgraded",0,0.59099999999999997,"ABDXR SERVICE PORTION",470.55,0,0,83.47,554.02]
[1293,1,"New Material Applied",0,0.59099999999999997,"DB-10 SERVICE PORTION",731.9,4.4000000000000004,0,83.47,815.37]
[1293,3,"Reconditioned or Recertified Material Applied",0,0.59099999999999997,"DB-10 SERVICE PORTION",169.82,0,0,83.47,253.29]
[1295,1,"New Material Applied",0,0.59099999999999997,"DB-10C SERVICE PORTION",798.19,4.4000000000000004,0,83.47,881.66000000000008]
[1295,3,"Reconditioned or Recertified Material Applied",0,0.59099999999999997,"DB-10C SERVICE PORTION",201.27,0,0,83.47,284.74]
[1298,3,"Reconditioned or Recertified Material Applied",0,0.58599999999999997,"ABD EMERGENCY PORTION",119.18,0,0,82.77,201.95]
[1301,3,"Reconditioned or Recertified Material Applied",0,0.58599999999999997,"ABDW EMERGENCY PORTION",137.33000000000001,0,0,82.77,220.10000000000002]
[1303,1,"New Material Applied",0,0.23200000000000001,"EMERGENCY PORTION BODY GASKET",3.46,0,0,32.770000000000003,36.230000000000004]
[1311,3,"Reconditioned or Recertified Material Applied",0,0.59099999999999997,"ABD SERVICE PORTION",139.19,0,0,83.47,222.66]
[1313,1,"New Material Applied",0,0.26600000000000001,"SERVICE PORTION BODY GASKET",3.94,0,0,37.57,41.51]
[1316,1,"New Material Applied",0,1.5,"AB PIPE BRACKET PORTION, DOUBLE-SIDED",363.87,7.48,0,211.86,575.73]
[1316,2,"Secondhand Material Applied",0,1.5,"AB PIPE BRACKET PORTION, DOUBLE-SIDED",186.84,7.48,0,211.86,398.70000000000005]
[1316,9,"Remove and replace same part",0,1.4330000000000001,"AB PIPE BRACKET PORTION, DOUBLE-SIDED",9.8000000000000007,0,0,202.4,212.20000000000002]
[1318,1,"New Material Applied",0,1.5,"AB PIPE BRACKET PORTION, SINGLE SIDED",552,7.48,0,211.86,763.86]
[1318,2,"Secondhand Material Applied",0,1.5,"AB PIPE BRACKET PORTION, SINGLE SIDED",280.89999999999998,7.48,0,211.86,492.76]
[1318,9,"Remove and replace same part",0,1.4330000000000001,"AB PIPE BRACKET PORTION, SINGLE SIDED",9.8000000000000007,0,0,202.4,212.20000000000002]
[1320,1,"New Material Applied",0,1.1399999999999999,"AB PIPE BRACKET REPAIRS - BROKEN CAP SCREW",3.42,0,0,161.01,164.42999999999998]
[1320,2,"Secondhand Material Applied",0,1.1399999999999999,"AB PIPE BRACKET REPAIRS - BROKEN CAP SCREW",3.17,0,0,161.01,164.17999999999998]
[1321,3,"Reconditioned or Recertified Material Applied",0,0.59099999999999997,"ABDT SERVICE PORTION",143.28,0,0,83.47,226.75]
[1323,3,"Reconditioned or Recertified Material Applied",0,0.58599999999999997,"ABDS EMERGENCY PORTION",145.61000000000001,0,0,82.77,228.38]
[1325,3,"Reconditioned or Recertified Material Applied",0,0.58599999999999997,"ABDWS OR ABDW-2 EMERG PORTION",142.21,0,0,82.77,224.98000000000002]
[1328,1,"New Material Applied",0,0.63400000000000001,"ASCTD 4-PRESSURE ACCESS PLATE FOR DB-60",265.02,111.73,0,89.55,354.57]
[1328,3,"Reconditioned or Recertified Material Applied",0,0.63400000000000001,"ASCTD 4-PRESSURE ACCESS PLATE FOR DB-60",198.77,111.73,0,89.55,288.32]
[1328,9,"Remove and replace same part",0,8.5999999999999993E-2,"ASCTD 4-PRESSURE ACCESS PLATE FOR DB-60",0,0,0,12.15,12.15]
[1330,1,"New Material Applied",0,0.63400000000000001,"ASCTD 4-PRESSURE ACCESS PLATE",222.63,111.73,0,89.55,312.18]
[1330,3,"Reconditioned or Recertified Material Applied",0,0.63400000000000001,"ASCTD 4-PRESSURE ACCESS PLATE",166.97,111.73,0,89.55,256.52]
[1330,9,"Remove and replace same part",0,8.5999999999999993E-2,"ASCTD 4-PRESSURE ACCESS PLATE",0,0,0,12.15,12.15]
[1332,1,"New Material Applied",0,0.13900000000000001,"ASCTD 4-PRESSURE RECEIVER ASSEMBLY W/O BCRD",111.73,0.55000000000000004,0,19.63,131.36000000000001]
[1332,3,"Reconditioned or Recertified Material Applied",0,0.13900000000000001,"ASCTD 4-PRESSURE RECEIVER ASSEMBLY W/O BCRD",83.8,0.55000000000000004,0,19.63,103.42999999999999]
[1332,9,"Remove and replace same part",0,5.5E-2,"ASCTD 4-PRESSURE RECEIVER ASSEMBLY W/O BCRD",0,0,0,7.77,7.77]
[1334,1,{"$f":"VLOOKUP(B1483,$B$2686:$C$2701,2,FALSE)","v":"New Material Applied"},0,0.13900000000000001,"ASCTD 4-PRESSURE RECEIVER ASSEMBLY WITH BCRD",135.87,0.55000000000000004,0,19.63,155.5]
[1334,3,"Reconditioned or Recertified Material Applied",0,0.13900000000000001,"ASCTD 4-PRESSURE RECEIVER ASSEMBLY WITH BCRD",101.9,0.55000000000000004,0,19.63,{"$f":"G1484+J1484","v":121.53}]
[1334,9,"Remove and replace same part",0,5.5E-2,"ASCTD 4-PRESSURE RECEIVER ASSEMBLY WITH BCRD",0,0,0,7.77,7.77]
[1340,1,"New Material Applied",0,9.6000000000000002E-2,"AB VALVE VENT PROTECTOR",3.03,0,0,13.56,16.59]
[1340,2,"Secondhand Material Applied",0,9.6000000000000002E-2,"AB VALVE VENT PROTECTOR",1.52,0,0,13.56,15.08]
[1356,1,"New Material Applied",0,0.05,"RELEASE VALVE HANDLE COMPLETE, ANY TYPE",5.05,0,0,7.06,12.11]
[1356,2,"Secondhand Material Applied",0,0.05,"RELEASE VALVE HANDLE COMPLETE, ANY TYPE",3.02,0,0,7.06,10.08]
[1360,1,"New Material Applied",0,7.0000000000000007E-2,"RELEASE VALVE ROD COMPLETE, ANY TYPE",10.26,0.33,0,9.89,20.149999999999999]
[1360,2,"Secondhand Material Applied",0,7.0000000000000007E-2,"RELEASE VALVE ROD COMPLETE, ANY TYPE",5.21,0.33,0,9.89,15.100000000000001]
[1386,1,"New Material Applied",0,0.1,"B1 QUICK SERVICE VENT PROTECTOR",7.94,0,0,14.12,22.06]
[1386,2,"Secondhand Material Applied",0,0.1,"B1 QUICK SERVICE VENT PROTECTOR",3.97,0,0,14.12,18.09]
[1388,1,"New Material Applied",0,0.26700000000000002,"QUICK SERVICE VALVE",748.26,0.33,0,37.71,785.97]
[1388,3,"Reconditioned or Recertified Material Applied",0,0.26700000000000002,"QUICK SERVICE VALVE",561.20000000000005,0,0,37.71,598.91000000000008]
[1388,7,"Periodic or Service Attention \n(includes: vacant, single car testing of air brakes, cleaning of brke cyclinder, B-1 Quick Service Valves, Lubrication, Servicing mechanical refrigeration units, vacant, all wheels applied)",0,1.1000000000000001,"QUICK SERVICE VALVE",16.34,0,0,155.36000000000001,171.70000000000002]
[1392,1,"New Material Applied",0,0.73799999999999999,"REDUCTION RELAY PIPE BRACKET PORTION",402.25,2.42,0,104.24,506.49]
[1392,2,"Secondhand Material Applied",0,0.73799999999999999,"REDUCTION RELAY PIPE BRACKET PORTION",202.22,2.42,0,104.24,306.45999999999998]
[1392,9,"Remove and replace same part",0,0.73799999999999999,"REDUCTION RELAY PIPE BRACKET PORTION",2.19,0,0,104.24,106.42999999999999]
[1400,1,"New Material Applied",0,0.26400000000000001,"NO. 8 VENT VALVE",206.64,0.33,0,37.29,243.92999999999998]
[1400,3,"Reconditioned or Recertified Material Applied",0,0.26400000000000001,"NO. 8 VENT VALVE",55.53,0,0,37.29,92.82]
[1401,1,"New Material Applied",0,0.107,"EMPTY LOAD SENSOR VALVE MNTING GASKET (GROUP 1)",7.43,0,0,15.11,22.54]
[1402,1,"New Material Applied",0,0.248,"KM2 OR VX VENT VALVE",274.24,0.33,0,35.03,309.27]
[1402,3,"Reconditioned or Recertified Material Applied",0,0.248,"KM2 OR VX VENT VALVE",108.25,0,0,35.03,143.28]
[1404,1,"New Material Applied",0,0.14000000000000001,"VENT VALVE VENT PROTECTOR",10.95,0.33,0,19.77,30.72]
[1404,2,"Secondhand Material Applied",0,0.14000000000000001,"VENT VALVE VENT PROTECTOR",5.48,0,0,19.77,25.25]
[1406,1,"New Material Applied",0,0.186,"EMPTY LOAD SENSOR VALVE (GROUP 1)",646.85,0.55000000000000004,0,26.27,673.12]
[1406,3,"Reconditioned or Recertified Material Applied",0,0.186,"EMPTY LOAD SENSOR VALVE (GROUP 1)",487,0,0,26.27,513.27]
[1406,9,"Remove and replace same part",0,0.107,"EMPTY LOAD SENSOR VALVE (GROUP 1)",7.43,0,0,15.11,22.54]
[1408,1,"New Material Applied",0,0.44800000000000001,"EMPTY LOAD PROPORTIONAL VALVE (GROUP 1)",415.27,0.55000000000000004,0,63.28,478.54999999999995]
[1408,3,"Reconditioned or Recertified Material Applied",0,0.44800000000000001,"EMPTY LOAD PROPORTIONAL VALVE (GROUP 1)",314.89999999999998,0,0,63.28,378.17999999999995]
[1408,9,"Remove and replace same part",0,0.36899999999999999,"EMPTY LOAD PROPORTIONAL VALVE (GROUP 1)",13.8,0,0,52.12,65.92]
[1411,1,"New Material Applied",0,0.44,"EMPTY LOAD RESERVOIR (GROUPS 1 & 2)",232.89,0.55000000000000004,0,62.15,295.03999999999996]
[1411,3,"Reconditioned or Recertified Material Applied",0,0.44,"EMPTY LOAD RESERVOIR (GROUPS 1 & 2)",176.53,0,0,62.15,238.68]
[1411,9,"Remove and replace same part",0,0.371,"EMPTY LOAD RESERVOIR (GROUPS 1 & 2)",7.43,0,0,52.4,59.83]
[1413,1,"New Material Applied",0,0.186,"UNITIZED EMPTY LOAD VALVE, TRUCK SENSOR (GROUP 2)",640.51,0.55000000000000004,0,26.27,666.78]
[1413,3,"Reconditioned or Recertified Material Applied",0,0.186,"UNITIZED EMPTY LOAD VALVE, TRUCK SENSOR (GROUP 2)",482.24,0,0,26.27,508.51]
[1413,9,"Remove and replace same part",0,0.107,"UNITIZED EMPTY LOAD VALVE, TRUCK SENSOR (GROUP 2)",7.43,0,0,15.11,22.54]
[1414,1,"New Material Applied",0,0.51700000000000002,"EMPTY LOAD SENSOR VALVE PIPE BRACKET (GROUP 1)",53.83,0.55000000000000004,0,73.02,126.85]
[1414,3,"Reconditioned or Recertified Material Applied",0,0.51700000000000002,"EMPTY LOAD SENSOR VALVE PIPE BRACKET (GROUP 1)",40.369999999999997,0,0,73.02,113.38999999999999]
[1414,9,"Remove and replace same part",0,0.44900000000000001,"EMPTY LOAD SENSOR VALVE PIPE BRACKET (GROUP 1)",0,0,0,63.42,63.42]
[1415,1,"New Material Applied",0,0.35,"UNITIZED E/ L VALVE, SLOPE SHEET MNT (GROUP 3)",674.6,0.55000000000000004,0,49.43,724.03]
[1415,3,"Reconditioned or Recertified Material Applied",0,0.35,"UNITIZED E/ L VALVE, SLOPE SHEET MNT (GROUP 3)",507.81,0,0,49.43,557.24]
[1415,9,"Remove and replace same part",0,0.29799999999999999,"UNITIZED E/ L VALVE, SLOPE SHEET MNT (GROUP 3)",7.43,0,0,42.09,49.52]
[1416,1,"New Material Applied",0,0.53,"E/L PROPORTIONAL VALVE PIPE BRACKET (GROUPS 1 & 2)",64.59,0.55000000000000004,0,74.86,139.44999999999999]
[1416,3,"Reconditioned or Recertified Material Applied",0,0.53,"E/L PROPORTIONAL VALVE PIPE BRACKET (GROUPS 1 & 2)",48.44,0,0,74.86,123.3]
[1416,9,"Remove and replace same part",0,0.46100000000000002,"E/L PROPORTIONAL VALVE PIPE BRACKET (GROUPS 1 & 2)",0,0,0,65.11,65.11]
[1417,1,"New Material Applied",0,0.107,"UNIT E/L VALVE, TRK SENSOR MNTING GASK (GROUP 2)",3.35,0,0,15.11,18.46]
[1419,1,"New Material Applied",0,0.20200000000000001,"UNIT E/L VALVE, SLOPE SHEET MNTING GASK (GROUP 3)",2.0699999999999998,0,0,28.53,30.6]
[1420,1,"New Material Applied",0,0.253,"PROPORTIONING VALVE, SLOPE SHEET MOUNT (GROUP 3)",530.57000000000005,0,0,35.729999999999997,566.30000000000007]
[1420,3,"Reconditioned or Recertified Material Applied",0,0.253,"PROPORTIONING VALVE, SLOPE SHEET MOUNT (GROUP 3)",196.97,0,0,35.729999999999997,232.7]
[1420,9,"Remove and replace same part",0,0.20200000000000001,"PROPORTIONING VALVE, SLOPE SHEET MOUNT (GROUP 3)",1.46,0,0,28.53,29.990000000000002]
[1424,1,"New Material Applied",0,0.64300000000000002,"AIR BRAKE CYL, COMPLETE 10 INCH DIAMETER OR LESS",362.94,5.5,0,90.82,453.76]
[1424,3,"Reconditioned or Recertified Material Applied",0,0.64300000000000002,"AIR BRAKE CYL, COMPLETE 10 INCH DIAMETER OR LESS",147.75,5.5,0,90.82,238.57]
[1424,9,"Remove and replace same part",0,0.64300000000000002,"AIR BRAKE CYL, COMPLETE 10 INCH DIAMETER OR LESS",4.38,0,0,90.82,95.199999999999989]
[1428,1,"New Material Applied",0,1.7330000000000001,"AIR BRAKE CYLINDER BODY, ANY SIZE",235.65,9.57,0,244.77,480.42]
[1428,2,"Secondhand Material Applied",0,1.7330000000000001,"AIR BRAKE CYLINDER BODY, ANY SIZE",120.19,9.57,0,244.77,364.96000000000004]
[1440,1,"New Material Applied",0,0,"AB CYLINDER NON-PRESSURE HEAD",38.1,1.43,0,0,38.1]
[1440,2,"Secondhand Material Applied",0,0,"AB CYLINDER NON-PRESSURE HEAD",19.05,1.43,0,0,19.05]
[1444,1,"New Material Applied",0,0,"AB CYLINDER PISTON AND HOLLOW ROD",139.24,2.31,0,0,139.24]
[1444,2,"Secondhand Material Applied",0,0,"AB CYLINDER PISTON AND HOLLOW ROD",72.040000000000006,2.31,0,0,72.040000000000006]
[1448,1,"New Material Applied",0,0,"AB CYLINDER RELEASE SPRING",23.23,0.77,0,0,23.23]
[1448,2,"Secondhand Material Applied",0,0,"AB CYLINDER RELEASE SPRING",11.62,0.77,0,0,11.62]
[1452,1,"New Material Applied",0,0.1,"AB CYLINDER PUSH ROD",22.46,2.64,0,14.12,36.58]
[1452,2,"Secondhand Material Applied",0,0.1,"AB CYLINDER PUSH ROD",11.23,2.64,0,14.12,25.35]
[1454,1,"New Material Applied",0,0,"AB CYLINDER. NON-PRESSURE HEAD SPRING GUIDE",12.32,0,0,0,12.32]
[1456,7,{"$f":"VLOOKUP(B1547,$B$2686:$C$2701,2,FALSE)","v":"Periodic or Service Attention \n(includes: vacant, single car testing of air brakes, cleaning of brke cyclinder, B-1 Quick Service Valves, Lubrication, Servicing mechanical refrigeration units, vacant, all wheels applied)"},0,1.0680000000000001,"AB CYLINDER CLEANED, SEPARATELY",18.25,0,0,150.84,169.09]
[1460,1,"New Material Applied",0,0.32800000000000001,"PISTON TRAVEL INDICATOR",20.079999999999998,0,0,46.33,{"$f":"G1548+J1548","v":66.41}]
[1476,1,"New Material Applied",0,0.69799999999999995,"TRUCK BRAKE CYLINDER BODY",192.7,3.3,0,98.59,291.28999999999996]
[1476,2,"Secondhand Material Applied",0,0.69799999999999995,"TRUCK BRAKE CYLINDER BODY",96.78,3.3,0,98.59,195.37]
[1476,3,"Reconditioned or Recertified Material Applied",0,0.69799999999999995,"TRUCK BRAKE CYLINDER BODY",144.74,3.3,0,98.59,243.33]
[1480,1,"New Material Applied",0,0.69799999999999995,"TRUCK BRAKE CYLINDER PISTON ASSEMBLY",157.69,2.2000000000000002,0,98.59,256.27999999999997]
[1480,3,"Reconditioned or Recertified Material Applied",0,0.69799999999999995,"TRUCK BRAKE CYLINDER PISTON ASSEMBLY",121,2.2000000000000002,0,98.59,219.59]
[1484,1,"New Material Applied",0,0.72799999999999998,"TRUCK BRAKE CYLINDER COMPLETE",437.74,5.5,0,102.82,540.55999999999995]
[1484,3,"Reconditioned or Recertified Material Applied",0,0.72799999999999998,"TRUCK BRAKE CYLINDER COMPLETE",328.6,5.5,0,102.82,431.42]
[1484,9,"Remove and replace same part",0,0.48099999999999998,"TRUCK BRAKE CYLINDER COMPLETE",1.1599999999999999,0,0,67.94,69.099999999999994]
[1488,7,"Periodic or Service Attention \n(includes: vacant, single car testing of air brakes, cleaning of brke cyclinder, B-1 Quick Service Valves, Lubrication, Servicing mechanical refrigeration units, vacant, all wheels applied)",0,0.57199999999999995,"TRK BRK CYL & PISTON ASSEMBLY CLEANED SEPARATELY",58.87,0,0,80.790000000000006,139.66]
[1490,7,"Periodic or Service Attention \n(includes: vacant, single car testing of air brakes, cleaning of brke cyclinder, B-1 Quick Service Valves, Lubrication, Servicing mechanical refrigeration units, vacant, all wheels applied)",0,0.45,"MATE TRUCK BRAKE CYLINDER & PISTON ASSEMBLY CLEANE",58.87,0,0,63.56,122.43]
[1492,1,"New Material Applied",0,0.221,"TRUCK BRAKE CYLINDER HOSE, COMPLETE",22.01,0,0,31.21,53.22]
[1496,1,"New Material Applied",0,0.2,"TRUCK BRAKE CYLINDER PUSH ROD",43.41,1.54,0,28.25,71.66]
[1496,2,"Secondhand Material Applied",0,0.2,"TRUCK BRAKE CYLINDER PUSH ROD",21.7,1.54,0,28.25,49.95]
[1498,1,"New Material Applied",8.5999999999999993E-2,2.5000000000000001E-2,"TEST FITTING, BRK CYL MEASUREMENT TAP & CAP 1/4 IN",7.24,0,12.15,3.53,10.77]
[1498,9,"Remove and replace same part",8.5999999999999993E-2,2.5000000000000001E-2,"TEST FITTING, BRK CYL MEASUREMENT TAP & CAP 1/4 IN",0,0,12.15,3.53,3.53]
[1500,1,"New Material Applied",0,0.27100000000000002,"FLANGE ADAPTER, LESS TEST FITTING",18.32,0,0,38.28,56.6]
[1500,9,"Remove and replace same part",0,0.27100000000000002,"FLANGE ADAPTER, LESS TEST FITTING",0,0,0,38.28,38.28]
[1502,1,"New Material Applied",0,0.64300000000000002,"FLANGED SOCKET WELD, LESS TEST FITTING",18.489999999999998,0,0,90.82,109.30999999999999]
[1505,1,"New Material Applied",0,0.48,"3/4 INCH SADDLE-MOUNT WELD FIT, LESS TEST FIT",26.48,0,0,67.8,94.28]
[1506,1,"New Material Applied",0,0.20599999999999999,"BRAKE LINE HOSE ASSEMBLY, LESS TEST FITTING",63.52,0,0,29.1,92.62]
[1506,9,"Remove and replace same part",0,0.20599999999999999,"BRAKE LINE HOSE ASSEMBLY, LESS TEST FITTING",0,0,0,29.1,29.1]
[1520,1,"New Material Applied",0,0.17399999999999999,"RETAINING VALVE, 1967 3 POSITION",26.6,0,0,24.58,51.18]
[1520,3,"Reconditioned or Recertified Material Applied",0,0.17399999999999999,"RETAINING VALVE, 1967 3 POSITION",20.190000000000001,0,0,24.58,44.769999999999996]
[1532,1,"New Material Applied",0,0.21,"RETAINING VALVE BRACKET, ANY TYPE",7.92,0,0,29.66,37.58]
[1532,2,"Secondhand Material Applied",0,0.21,"RETAINING VALVE BRACKET, ANY TYPE",4.6900000000000004,0,0,29.66,34.35]
[1532,9,"Remove and replace same part",0,0.21,"RETAINING VALVE BRACKET, ANY TYPE",1.46,0,0,29.66,31.12]
[1540,1,"New Material Applied",0,0.17799999999999999,"MODULATING VALVE OPERATING PORTION",560.54,0,0,25.14,585.67999999999995]
[1540,3,"Reconditioned or Recertified Material Applied",0,0.17799999999999999,"MODULATING VALVE OPERATING PORTION",420.41,0,0,25.14,445.55]
[1540,7,"Periodic or Service Attention \n(includes: vacant, single car testing of air brakes, cleaning of brke cyclinder, B-1 Quick Service Valves, Lubrication, Servicing mechanical refrigeration units, vacant, all wheels applied)",0,0.48799999999999999,"MODULATING VALVE OPERATING PORTION",560.54,0,0,68.930000000000007,629.47]
[1576,1,"New Material Applied",0,0.74,"SLACK ADJUSTER, GROUP E",307.58999999999997,5.5,0,104.52,412.10999999999996]
[1576,3,"Reconditioned or Recertified Material Applied",0,0.74,"SLACK ADJUSTER, GROUP E",230.69,5.5,0,104.52,335.21]
[1586,1,"New Material Applied",0,0.5,"SLACK ADJUSTER ACTUATOR/CONTROL ROD",18.93,1.1000000000000001,0,70.62,89.550000000000011]
[1586,2,"Secondhand Material Applied",0,0.5,"SLACK ADJUSTER ACTUATOR/CONTROL ROD",9.4700000000000006,1.1000000000000001,0,70.62,80.09]
[1586,3,"Reconditioned or Recertified Material Applied",0,0.5,"SLACK ADJUSTER ACTUATOR/CONTROL ROD",14.2,1.1000000000000001,0,70.62,84.820000000000007]
[1586,8,"Remove, repair, and replace same part",0,0.5,"SLACK ADJUSTER ACTUATOR/CONTROL ROD",5.08,0,0,70.62,75.7]
[1588,1,"New Material Applied",0,0.74,"SLACK ADJUSTER, GROUP J",383.11,5.5,0,104.52,487.63]
[1588,3,"Reconditioned or Recertified Material Applied",0,0.74,"SLACK ADJUSTER, GROUP J",287.33,5.5,0,104.52,391.84999999999997]
[1592,1,"New Material Applied",0,0.626,"SLACK ADJUSTER, GROUP L",476.38,5.5,0,88.42,564.79999999999995]
[1592,3,"Reconditioned or Recertified Material Applied",0,0.626,"SLACK ADJUSTER, GROUP L",357.29,5.5,0,88.42,445.71000000000004]
[1594,1,"New Material Applied",0,0.626,"SLACK ADJUSTER, GROUP M",528.84,5.5,0,88.42,617.26]
[1594,3,"Reconditioned or Recertified Material Applied",0,0.626,"SLACK ADJUSTER, GROUP M",396.63,5.5,0,88.42,485.05]
[1596,1,"New Material Applied",0,0.626,"SLACK ADJUSTER, GROUP N",549.54,5.5,0,88.42,637.95999999999992]
[1596,3,"Reconditioned or Recertified Material Applied",0,0.626,"SLACK ADJUSTER, GROUP N",412.16,5.5,0,88.42,500.58000000000004]
[1598,1,"New Material Applied",0,0.626,"SLACK ADJUSTER, GROUP O",539.05999999999995,5.5,0,88.42,627.4799999999999]
[1598,3,"Reconditioned or Recertified Material Applied",0,0.626,"SLACK ADJUSTER, GROUP O",404.3,5.5,0,88.42,492.72]
[1600,1,"New Material Applied",0,0.626,"SLACK ADJUSTER, GROUP P",644.04,5.5,0,88.42,732.45999999999992]
[1600,3,"Reconditioned or Recertified Material Applied",0,0.626,"SLACK ADJUSTER, GROUP P",483.03,5.5,0,88.42,571.44999999999993]
[1601,1,"New Material Applied",0,0.626,"SLACK ADJUSTER, GROUP Q",661.32,5.5,0,88.42,749.74]
[1601,3,"Reconditioned or Recertified Material Applied",0,0.626,"SLACK ADJUSTER, GROUP Q",495.99,5.5,0,88.42,584.41]
[1603,1,"New Material Applied",0,0.74,"SLACK ADJUSTER, WATER RESISTANT, GROUP R",362.69,5.5,0,104.52,467.21]
[1603,3,"Reconditioned or Recertified Material Applied",0,0.74,"SLACK ADJUSTER, WATER RESISTANT, GROUP R",272.02,5.5,0,104.52,376.53999999999996]
[1612,1,"New Material Applied",0,0.622,"AB RESERVOIR COMPLETE",309.55,29.15,0,87.85,397.4]
[1612,3,"Reconditioned or Recertified Material Applied",0,0.622,"AB RESERVOIR COMPLETE",140.91999999999999,29.15,0,87.85,228.76999999999998]
[1612,9,"Remove and replace same part",0,0.622,"AB RESERVOIR COMPLETE",6.81,0,0,87.85,94.66]
[1626,1,"New Material Applied",0,0.13800000000000001,"EOT AIR BRAKE HOSE-AAR APPROVED STANDARD COUPLING",106.62,0,0,19.489999999999998,126.11]
[1628,1,"New Material Applied",0,0.13800000000000001,"AIR BRAKE HOSE-AAR APPROVED STANDARD COUPLING",20,0,0,19.489999999999998,39.489999999999995]
[1629,1,"New Material Applied",0,0.13800000000000001,"AIR BRAKE HOSE-AAR APPRVD, STRAIGHT SHANK COUPLING",21.44,0,0,19.489999999999998,40.93]
[1630,1,"New Material Applied",0,0.13800000000000001,"AIR BRAKE HOSE 33\" OR OVER",26.53,0,0,19.489999999999998,46.019999999999996]
[1632,1,"New Material Applied",0,0.55000000000000004,"COUPLER ATTACHED BRACKET",177.44,3.3,0,77.680000000000007,255.12]
[1632,2,"Secondhand Material Applied",0,0.55000000000000004,"COUPLER ATTACHED BRACKET",88.72,3.3,0,77.680000000000007,166.4]
[1632,9,"Remove and replace same part",0,0.50600000000000001,"COUPLER ATTACHED BRACKET",0,0,0,71.47,71.47]
[1650,1,"New Material Applied",0,1.446,"BRK BEAM HGR TYP-18, COMPOSITION",183.61,10.89,0,204.23,387.84000000000003]
[1650,3,{"$f":"VLOOKUP(B1611,$B$2686:$C$2701,2,FALSE)","v":"Reconditioned or Recertified Material Applied"},0,1.446,"BRK BEAM HGR TYP-18, COMPOSITION",161.58000000000001,10.89,0,204.23,365.81]
[1652,1,"New Material Applied",0,1.4179999999999999,"BRK BEAM UNIT TYP-18, CAST IRON",86.74,11,0,200.28,{"$f":"G1612+J1612","v":287.02}]
[1652,3,"Reconditioned or Recertified Material Applied",0,1.4179999999999999,"BRK BEAM UNIT TYP-18, CAST IRON",76.33,11,0,200.28,276.61]
[1654,1,"New Material Applied",0,1.4179999999999999,"BRK BEAM UNIT TYP-18, COMPOSITION",86.74,10.89,0,200.28,287.02]
[1654,3,"Reconditioned or Recertified Material Applied",0,1.4179999999999999,"BRK BEAM UNIT TYP-18, COMPOSITION",76.33,10.89,0,200.28,276.61]
[1658,1,"New Material Applied",0,1.446,"BRK BEAM HGR TYP-24, COMPOSITION",87.81,14.96,0,204.23,292.03999999999996]
[1658,3,"Reconditioned or Recertified Material Applied",0,1.446,"BRK BEAM HGR TYP-24, COMPOSITION",77.27,14.96,0,204.23,281.5]
[1660,1,"New Material Applied",0,1.4179999999999999,"BRK BEAM UNIT TYP-24, CAST IRON",87.81,13.53,0,200.28,288.09000000000003]
[1660,3,"Reconditioned or Recertified Material Applied",0,1.4179999999999999,"BRK BEAM UNIT TYP-24, CAST IRON",77.27,13.53,0,200.28,277.55]
[1662,1,"New Material Applied",0,1.4179999999999999,"BRK BEAM UNIT TYP-24 COMPOSITION",87.81,14.96,0,200.28,288.09000000000003]
[1662,3,"Reconditioned or Recertified Material Applied",0,1.4179999999999999,"BRK BEAM UNIT TYP-24 COMPOSITION",77.27,14.96,0,200.28,277.55]
[1670,1,"New Material Applied",0,1.635,"BRAKE BEAM - UNIT TYPE - TMX / UBX BRAKE SYSTEM",357.44,20.350000000000001,0,230.93,588.37]
[1670,2,"Secondhand Material Applied",0,1.635,"BRAKE BEAM - UNIT TYPE - TMX / UBX BRAKE SYSTEM",178.72,20.350000000000001,0,230.93,409.65]
[1670,3,"Reconditioned or Recertified Material Applied",0,1.635,"BRAKE BEAM - UNIT TYPE - TMX / UBX BRAKE SYSTEM",178.72,20.350000000000001,0,230.93,409.65]
[1672,1,"New Material Applied",0,1.635,"BRAKE BEAM, MOUNTED CYLINDER TYPE",640.80999999999995,20.350000000000001,0,230.93,871.74]
[1672,2,"Secondhand Material Applied",0,1.635,"BRAKE BEAM, MOUNTED CYLINDER TYPE",320.41000000000003,20.350000000000001,0,230.93,551.34]
[1672,3,"Reconditioned or Recertified Material Applied",0,1.635,"BRAKE BEAM, MOUNTED CYLINDER TYPE",320.41000000000003,20.350000000000001,0,230.93,551.34]
[1680,1,"New Material Applied",0,0.29699999999999999,"REPLACEABLE FIXED BRAKE HEAD",44.77,0.96,0,41.95,86.72]
[1696,1,"New Material Applied",0.10299999999999999,2.9000000000000001E-2,"METALLIC BRAKE BEAM WEAR LINER",6.02,0,14.55,4.0999999999999996,10.119999999999999]
[1697,1,"New Material Applied",0.10299999999999999,2.9000000000000001E-2,"NON-METALLIC BRAKE BEAM WEAR LINER",7.18,0,14.55,4.0999999999999996,11.28]
[1698,0,"Labor attention such as: \nactual labor, replacing or rechanging doors, welding, vacant, painting or stenciling, other labor attention",0,1.9219999999999999,"MODIFY BRAKE BEAM HEADS",0,0,0,271.45999999999998,271.45999999999998]
[1742,1,"New Material Applied",0,0.13300000000000001,"BRAKE CONNECTION PIN",3.37,0.11,0,18.79,22.16]
[1742,2,"Secondhand Material Applied",0,0.13300000000000001,"BRAKE CONNECTION PIN",1.1200000000000001,0.11,0,18.79,19.91]
[1768,1,"New Material Applied",0,0.05,"BOTTOM ROD SAFETY SUPPORT, AAR APPROVED",6.79,0,0,7.06,13.85]
[1768,2,"Secondhand Material Applied",0,0.05,"BOTTOM ROD SAFETY SUPPORT, AAR APPROVED",4.03,0,0,7.06,11.09]
[1770,1,"New Material Applied",0,5.3999999999999999E-2,"BRAKE PIN LOCKING DEVICE",1.46,0.06,0,7.63,9.09]
[1792,1,"New Material Applied",0,0.2,"BOTTOM ROD",53.01,3.96,0,28.25,81.259999999999991]
[1792,2,"Secondhand Material Applied",0,0.2,"BOTTOM ROD",26.58,3.96,0,28.25,54.83]
[1792,8,"Remove, repair, and replace same part",0,0.2,"BOTTOM ROD",45.87,0,0,28.25,74.12]
[1794,1,"New Material Applied",8.5000000000000006E-2,4.8000000000000001E-2,"BOTTOM ROD-TRUCK MOUNTED",191.93,3.96,12.01,6.78,198.71]
[1794,2,"Secondhand Material Applied",8.5000000000000006E-2,4.8000000000000001E-2,"BOTTOM ROD-TRUCK MOUNTED",95.97,3.96,12.01,6.78,102.75]
[1794,8,"Remove, repair, and replace same part",8.5000000000000006E-2,4.8000000000000001E-2,"BOTTOM ROD-TRUCK MOUNTED",45.72,0,12.01,6.78,52.5]
[1796,1,"New Material Applied",0.16200000000000001,0,"TOP ROD, ANY SIZE DIAMETER",5.25,0.22,22.88,0,5.25]
[1796,2,"Secondhand Material Applied",0.16200000000000001,0,"TOP ROD, ANY SIZE DIAMETER",2.63,0.22,22.88,0,2.63]
[1796,8,"Remove, repair, and replace same part",0.123,0,"TOP ROD, ANY SIZE DIAMETER",2.5499999999999998,0,17.37,0,2.5499999999999998]
[1796,9,"Remove and replace same part",0.123,0,"TOP ROD, ANY SIZE DIAMETER",0,0,17.37,0,0]
[1800,1,"New Material Applied",8.5000000000000006E-2,5.7000000000000002E-2,"BRAKE LEVER",35.25,3.08,12.01,8.0500000000000007,43.3]
[1800,2,"Secondhand Material Applied",8.5000000000000006E-2,5.7000000000000002E-2,"BRAKE LEVER",17.850000000000001,3.08,12.01,8.0500000000000007,25.900000000000002]
[1800,8,"Remove, repair, and replace same part",8.5000000000000006E-2,5.7000000000000002E-2,"BRAKE LEVER",30.68,0,12.01,8.0500000000000007,38.730000000000004]
[1802,1,"New Material Applied",8.5000000000000006E-2,0.03,"BRAKE LEVER, TRUCK MOUNTED",115.8,3.08,12.01,4.24,120.03999999999999]
[1802,2,"Secondhand Material Applied",8.5000000000000006E-2,0.03,"BRAKE LEVER, TRUCK MOUNTED",57.95,3.08,12.01,4.24,62.190000000000005]
[1802,8,"Remove, repair, and replace same part",8.5000000000000006E-2,0.03,"BRAKE LEVER, TRUCK MOUNTED",36.01,0,12.01,4.24,40.25]
[1804,1,"New Material Applied",0,0.23699999999999999,"BRAKE LEVER GUIDE OR CARRIER",31.79,0.99,0,33.47,65.259999999999991]
[1804,2,"Secondhand Material Applied",0,0.23699999999999999,"BRAKE LEVER GUIDE OR CARRIER",16.63,0.99,0,33.47,50.099999999999994]
[1804,8,"Remove, repair, and replace same part",0,0.23699999999999999,"BRAKE LEVER GUIDE OR CARRIER",31.79,0.99,0,33.47,65.259999999999991]
[1808,1,"New Material Applied",0,0.25,"BRAKE DEAD LEVER GUIDE",33.25,0.99,0,35.31,68.56]
[1808,2,"Secondhand Material Applied",0,0.25,"BRAKE DEAD LEVER GUIDE",18.09,0.99,0,35.31,53.400000000000006]
[1808,8,"Remove, repair, and replace same part",0,0.25,"BRAKE DEAD LEVER GUIDE",33.25,0.99,0,35.31,68.56]
[1812,1,"New Material Applied",0,0.31900000000000001,"DEAD LEVER GUIDE BRACKET",33.01,0.99,0,45.06,78.069999999999993]
[1812,2,"Secondhand Material Applied",0,0.31900000000000001,"DEAD LEVER GUIDE BRACKET",17.850000000000001,0.99,0,45.06,62.910000000000004]
[1814,1,"New Material Applied",9.0999999999999998E-2,9.7000000000000003E-2,"TOP ROD JAW, WELD REP, ANY SIZE DIAM",11.64,0.11,12.85,13.7,25.34]
[1816,1,"New Material Applied",9.0999999999999998E-2,8.2000000000000003E-2,"TOP ROD FITTING, WELD REP, ANY SIZE DIAM",8.9600000000000009,0.11,12.85,11.58,20.54]
[1838,1,"New Material Applied",0,0.121,"BRAKE SHOE-COMP. HI-FRCT 1-1/2 IN.",5.85,0,0,17.09,22.939999999999998]
[1840,1,"New Material Applied",0,0.121,"BRAKE SHOE-COMP, HI-FRCT 2 IN.",6.54,0,0,17.09,23.63]
[1842,1,"New Material Applied",0,0.121,"BRK SHOE-COMP-HI-FRCT 1 1/2 IRN INS-RED",18.66,0,0,17.09,35.75]
[1843,1,"New Material Applied",0,0.121,"BRK SHOE-COMP-HI-FRCT 2 IRON INS (RED)",20.170000000000002,0,0,17.09,37.260000000000005]
[1844,1,"New Material Applied",0,0.121,"BRAKE SHOE-COMP, LOW FRICTION (YELLOW)",13.67,0,0,17.09,30.759999999999998]
[1845,1,"New Material Applied",0,0.121,"BRK SHOE-HCF-HI-FRCT 1 1/2 -INCH (RED)",30.65,0,0,17.09,47.739999999999995]
[1846,1,"New Material Applied",0,0.121,"BRK SHOE-HCF-HI-FRCT 2 -INCH (RED)",33,0,0,17.09,50.09]
[1852,1,"New Material Applied",0,9.9000000000000005E-2,"BRAKE SHOE KEY",1.58,0,0,13.98,15.56]
[1864,1,"New Material Applied",1.1819999999999999,0,"HAND BRAKE HOUSING ASSEMBLY, GROUP C",793.6,8.58,166.95,0,793.6]
[1864,3,"Reconditioned or Recertified Material Applied",1.1819999999999999,0,"HAND BRAKE HOUSING ASSEMBLY, GROUP C",556.44000000000005,8.58,166.95,0,556.44000000000005]
[1898,1,"New Material Applied",0.47299999999999998,0,"HAND BRAKE HOUSING ASSEMBLY, GROUP N",290.76,8.58,66.81,0,290.76]
[1898,3,"Reconditioned or Recertified Material Applied",0.47299999999999998,0,"HAND BRAKE HOUSING ASSEMBLY, GROUP N",204.45,8.58,66.81,0,204.45]
[1900,1,{"$f":"VLOOKUP(B1675,$B$2686:$C$2701,2,FALSE)","v":"New Material Applied"},0.47299999999999998,0,"HAND BRAKE HOUSING ASSEMBLY, GROUP O",328.67,8.58,66.81,0,328.67]
[1900,3,"Reconditioned or Recertified Material Applied",0.47299999999999998,0,"HAND BRAKE HOUSING ASSEMBLY, GROUP O",230.99,8.58,66.81,0,{"$f":"G1676+J1676","v":230.99}]
[1902,1,"New Material Applied",0.47299999999999998,0,"HAND BRAKE HOUSING ASSEMBLY, GROUP P",881.33,8.58,66.81,0,881.33]
[1902,3,"Reconditioned or Recertified Material Applied",0.47299999999999998,0,"HAND BRAKE HOUSING ASSEMBLY, GROUP P",617.85,8.58,66.81,0,617.85]
[1904,1,"New Material Applied",0.47299999999999998,0,"HAND BRAKE HOUSING ASSEMBLY, GROUP Q",436.03,8.58,66.81,0,436.03]
[1904,3,"Reconditioned or Recertified Material Applied",0.47299999999999998,0,"HAND BRAKE HOUSING ASSEMBLY, GROUP Q",306.14,8.58,66.81,0,306.14]
[1906,1,"New Material Applied",0.47299999999999998,0,"HAND BRAKE HOUSING ASSEMBLY, GROUP R",560.4,8.58,66.81,0,560.4]
[1906,3,"Reconditioned or Recertified Material Applied",0.47299999999999998,0,"HAND BRAKE HOUSING ASSEMBLY, GROUP R",393.2,8.58,66.81,0,393.2]
[1908,1,"New Material Applied",0.47299999999999998,0,"HAND BRAKE HOUSING ASSEMBLY, GROUP T",413.48,8.58,66.81,0,413.48]
[1908,3,"Reconditioned or Recertified Material Applied",0.47299999999999998,0,"HAND BRAKE HOUSING ASSEMBLY, GROUP T",290.36,0,66.81,0,290.36]
[1909,1,"New Material Applied",0.47299999999999998,0,"HAND BRAKE HOUSING ASSEMBLY, GROUP U",433.02,8.58,66.81,0,433.02]
[1909,3,"Reconditioned or Recertified Material Applied",0.47299999999999998,0,"HAND BRAKE HOUSING ASSEMBLY, GROUP U",304.04000000000002,0,66.81,0,304.04000000000002]
[1910,1,"New Material Applied",0.47299999999999998,0,"HAND BRAKE HOUSING ASSEMBLY, GROUP V",460.29,8.58,66.81,0,460.29]
[1910,3,"Reconditioned or Recertified Material Applied",0.47299999999999998,0,"HAND BRAKE HOUSING ASSEMBLY, GROUP V",323.12,8.58,66.81,0,323.12]
[1916,1,"New Material Applied",0.25800000000000001,0,"BELL CRANK, AAR, 1966 TYPE",33.1,1.87,36.44,0,33.1]
[1916,2,"Secondhand Material Applied",0.25800000000000001,0,"BELL CRANK, AAR, 1966 TYPE",17.09,1.87,36.44,0,17.09]
[1916,9,"Remove and replace same part",0.25800000000000001,0,"BELL CRANK, AAR, 1966 TYPE",0.45,0,36.44,0,0.45]
[1920,1,"New Material Applied",0.25800000000000001,0,"BELL CRANK, AAR, PRIOR TO 1966 TYPE",38.96,1.65,36.44,0,38.96]
[1920,2,"Secondhand Material Applied",0.25800000000000001,0,"BELL CRANK, AAR, PRIOR TO 1966 TYPE",20.02,1.65,36.44,0,20.02]
[1920,9,"Remove and replace same part",0.25800000000000001,0,"BELL CRANK, AAR, PRIOR TO 1966 TYPE",0.45,0,36.44,0,0.45]
[1936,1,"New Material Applied",0.2,0,"BRAKE WHEEL, HORIZ TYPE, GEARED BRAKE",55.91,1.43,28.25,0,55.91]
[1936,2,"Secondhand Material Applied",0.2,0,"BRAKE WHEEL, HORIZ TYPE, GEARED BRAKE",28.03,1.43,28.25,0,28.03]
[1936,8,"Remove, repair, and replace same part",0.2,0,"BRAKE WHEEL, HORIZ TYPE, GEARED BRAKE",16.66,0,28.25,0,16.66]
[1941,1,"New Material Applied",0.2,0,"BRAKE WHEEL, VERTICAL TYPE STANDARD #1",43.2,1.87,28.25,0,43.2]
[1941,2,"Secondhand Material Applied",0.2,0,"BRAKE WHEEL, VERTICAL TYPE STANDARD #1",21.68,1.87,28.25,0,21.68]
[1941,8,"Remove, repair, and replace same part",0.2,0,"BRAKE WHEEL, VERTICAL TYPE STANDARD #1",21.74,0,28.25,0,21.74]
[1942,1,"New Material Applied",0.2,0,"BRAKE WHEEL, VERTICAL TYPE STANDARD #2",30.18,1.87,28.25,0,30.18]
[1942,2,"Secondhand Material Applied",0.2,0,"BRAKE WHEEL, VERTICAL TYPE STANDARD #2",15.17,1.87,28.25,0,15.17]
[1942,8,"Remove, repair, and replace same part",0.2,0,"BRAKE WHEEL, VERTICAL TYPE STANDARD #2",21.74,0,28.25,0,21.74]
[1960,1,"New Material Applied",0.61699999999999999,0,"BRAKE SHAFT, 5 FEET OR LESS",97.38,2.2000000000000002,87.15,0,97.38]
[1960,2,"Secondhand Material Applied",0.61699999999999999,0,"BRAKE SHAFT, 5 FEET OR LESS",48.76,2.2000000000000002,87.15,0,48.76]
[1960,8,"Remove, repair, and replace same part",0.61699999999999999,0,"BRAKE SHAFT, 5 FEET OR LESS",25.55,0,87.15,0,25.55]
[1968,1,"New Material Applied",0.2,0,"BRAKE SHAFT RATCHET WHEEL",31.65,0.44,28.25,0,31.65]
[1968,2,"Secondhand Material Applied",0.2,0,"BRAKE SHAFT RATCHET WHEEL",15.83,0.44,28.25,0,15.83]
[1984,1,"New Material Applied",0.58899999999999997,0,"BRAKE CHAIN HORIZONTAL",51.61,0.88,83.19,0,51.61]
[1984,2,"Secondhand Material Applied",0.58899999999999997,0,"BRAKE CHAIN HORIZONTAL",26.17,0.88,83.19,0,26.17]
[1986,1,"New Material Applied",0,0.13300000000000001,"BRAKE CHAIN CLEVIS",10.97,0.33,0,18.79,29.759999999999998]
[1988,1,"New Material Applied",0,8.7999999999999995E-2,"PULLROD CLEVIS",38.619999999999997,0.44,0,12.43,51.05]
[1988,2,"Secondhand Material Applied",0,8.7999999999999995E-2,"PULLROD CLEVIS",19.41,0.44,0,12.43,31.84]
[1988,8,"Remove, repair, and replace same part",0,8.7999999999999995E-2,"PULLROD CLEVIS",5.38,0,0,12.43,17.809999999999999]
[1990,1,"New Material Applied",0,8.7999999999999995E-2,"LEVER FULCRUM BRACKET",81.87,0.44,0,12.43,94.300000000000011]
[1990,2,"Secondhand Material Applied",0,8.7999999999999995E-2,"LEVER FULCRUM BRACKET",41.2,0.44,0,12.43,53.63]
[1990,8,"Remove, repair, and replace same part",0,8.7999999999999995E-2,"LEVER FULCRUM BRACKET",5.38,0,0,12.43,17.809999999999999]
[1992,1,"New Material Applied",0,9.5000000000000001E-2,"PAINT HAND BRAKE CHAIN",0.24,0,0,13.42,13.66]
[2009,2,"Secondhand Material Applied",0,1.0920000000000001,"COUPLER BODY, E 60 DC",199.21,33,0,154.22999999999999,353.44]
[2009,3,"Reconditioned or Recertified Material Applied",0,1.0920000000000001,"COUPLER BODY, E 60 DC",301.76,33,0,154.22999999999999,455.99]
[2009,"T","Component transfer",0,0,"COUPLER BODY, E 60 DC",0,0,0,0,0]
[2010,2,"Secondhand Material Applied",0,1.0920000000000001,"COUPLER BODY, SBE 60 DC",271.48,33,0,154.22999999999999,425.71000000000004]
[2010,3,"Reconditioned or Recertified Material Applied",0,1.0920000000000001,"COUPLER BODY, SBE 60 DC",411.25,33,0,154.22999999999999,565.48]
[2010,"T","Component transfer",0,0,"COUPLER BODY, SBE 60 DC",0,0,0,0,0]
[2011,1,"New Material Applied",0,1.0920000000000001,"COUPLER BODY, SBE 60 DE OR SBE 60 EE",610.87,33,0,154.22999999999999,765.1]
[2011,2,"Secondhand Material Applied",0,1.0920000000000001,"COUPLER BODY, SBE 60 DE OR SBE 60 EE",230.86,33,0,154.22999999999999,385.09000000000003]
[2011,3,"Reconditioned or Recertified Material Applied",0,1.0920000000000001,"COUPLER BODY, SBE 60 DE OR SBE 60 EE",349.71,33,0,154.22999999999999,503.93999999999994]
[2011,"T","Component transfer",0,0,"COUPLER BODY, SBE 60 DE OR SBE 60 EE",0,0,0,0,0]
[2012,2,"Secondhand Material Applied",0,1.0920000000000001,"COUPLER BODY, SE 60 DC",315.58,33,0,154.22999999999999,469.80999999999995]
[2012,3,"Reconditioned or Recertified Material Applied",0,1.0920000000000001,"COUPLER BODY, SE 60 DC",478.07,33,0,154.22999999999999,632.29999999999995]
[2012,"T","Component transfer",0,0,"COUPLER BODY, SE 60 DC",0,0,0,0,0]
[2013,1,"New Material Applied",0,1.0920000000000001,"COUPLER BODY, E 60 DE OR E 60 EE",550.52,33,0,154.22999999999999,704.75]
[2013,2,"Secondhand Material Applied",0,1.0920000000000001,"COUPLER BODY, E 60 DE OR E 60 EE",130.47,33,0,154.22999999999999,284.7]
[2013,3,"Reconditioned or Recertified Material Applied",0,1.0920000000000001,"COUPLER BODY, E 60 DE OR E 60 EE",197.61,33,0,154.22999999999999,351.84000000000003]
[2013,"T","Component transfer",0,0,"COUPLER BODY, E 60 DE OR E 60 EE",0,0,0,0,0]
[2017,2,"Secondhand Material Applied",0,1.0920000000000001,"COUPLER BODY, E 60 CHT OR E 60 CC",197.97,33,0,154.22999999999999,352.2]
[2017,3,"Reconditioned or Recertified Material Applied",0,1.0920000000000001,"COUPLER BODY, E 60 CHT OR E 60 CC",299.87,33,0,154.22999999999999,454.1]
[2017,"T","Component transfer",0,0,"COUPLER BODY, E 60 CHT OR E 60 CC",0,0,0,0,0]
[2018,2,{"$f":"VLOOKUP(B1739,$B$2686:$C$2701,2,FALSE)","v":"Secondhand Material Applied"},0,1.0920000000000001,"COUPLER BODY, SBE 60 CC",334.26,33,0,154.22999999999999,488.49]
[2018,3,"Reconditioned or Recertified Material Applied",0,1.0920000000000001,"COUPLER BODY, SBE 60 CC",506.38,33,0,154.22999999999999,{"$f":"G1740+J1740","v":660.61}]
[2018,"T","Component transfer",0,0,"COUPLER BODY, SBE 60 CC",0,0,0,0,0]
[2019,2,"Secondhand Material Applied",0,1.0920000000000001,"COUPLER BODY, SBE 60 CE",291.11,33,0,154.22999999999999,445.34000000000003]
[2019,3,"Reconditioned or Recertified Material Applied",0,1.0920000000000001,"COUPLER BODY, SBE 60 CE",441,33,0,154.22999999999999,595.23]
[2019,"T","Component transfer",0,0,"COUPLER BODY, SBE 60 CE",0,0,0,0,0]
[2021,2,"Secondhand Material Applied",0,0,"COUPLER BODY, SE 60 CHT OR SE 60 CC",292.52999999999997,33,0,0,292.52999999999997]
[2021,3,"Reconditioned or Recertified Material Applied",0,0,"COUPLER BODY, SE 60 CHT OR SE 60 CC",443.15,33,0,0,443.15]
[2021,"T","Component transfer",0,0,"COUPLER BODY, SE 60 CHT OR SE 60 CC",0,0,0,0,0]
[2022,2,"Secondhand Material Applied",0,1.0920000000000001,"COUPLER BODY, E 60 CHTE OR E 60 CE",162,33,0,154.22999999999999,316.23]
[2022,3,"Reconditioned or Recertified Material Applied",0,1.0920000000000001,"COUPLER BODY, E 60 CHTE OR E 60 CE",245.37,33,0,154.22999999999999,399.6]
[2022,"T","Component transfer",0,0,"COUPLER BODY, E 60 CHTE OR E 60 CE",0,0,0,0,0]
[2023,2,"Secondhand Material Applied",0,0,"COUPLER BODY, SE 60 CHTE OR SE 60 CE",315.5,33,0,0,315.5]
[2023,3,"Reconditioned or Recertified Material Applied",0,0,"COUPLER BODY, SE 60 CHTE OR SE 60 CE",477.95,33,0,0,477.95]
[2023,"T","Component transfer",0,0,"COUPLER BODY, SE 60 CHTE OR SE 60 CE",0,0,0,0,0]
[2024,1,"New Material Applied",0,0,"COUPLER BODY, SE 60 DE OR SE 60 EE",613.67999999999995,33,0,0,613.67999999999995]
[2024,2,"Secondhand Material Applied",0,0,"COUPLER BODY, SE 60 DE OR SE 60 EE",247.09,33,0,0,247.09]
[2024,3,"Reconditioned or Recertified Material Applied",0,0,"COUPLER BODY, SE 60 DE OR SE 60 EE",374.41,33,0,0,374.41]
[2024,"T","Component transfer",0,0,"COUPLER BODY, SE 60 DE OR SE 60 EE",0,0,0,0,0]
[2037,1,"New Material Applied",0,1.0920000000000001,"COUPLER BODY, SBE 67 CE OR SBE 67 DE",616.99,33,0,154.22999999999999,771.22]
[2037,2,"Secondhand Material Applied",0,1.0920000000000001,"COUPLER BODY, SBE 67 CE OR SBE 67 DE",193.85,33,0,154.22999999999999,348.08]
[2037,3,"Reconditioned or Recertified Material Applied",0,1.0920000000000001,"COUPLER BODY, SBE 67 CE OR SBE 67 DE",293.63,33,0,154.22999999999999,447.86]
[2037,"T","Component transfer",0,0,"COUPLER BODY, SBE 67 CE OR SBE 67 DE",0,0,0,0,0]
[2038,2,"Secondhand Material Applied",0,1.0920000000000001,"COUPLER BODY, SBE 67 CC",200.06,33,0,154.22999999999999,354.28999999999996]
[2038,3,"Reconditioned or Recertified Material Applied",0,1.0920000000000001,"COUPLER BODY, SBE 67 CC",303.04000000000002,33,0,154.22999999999999,457.27]
[2038,"T","Component transfer",0,0,"COUPLER BODY, SBE 67 CC",0,0,0,0,0]
[2041,1,"New Material Applied",0,1.0920000000000001,"COUPLER BODY, E 67 CE OR E 67 DE",665.93,33,0,154.22999999999999,820.16]
[2041,2,"Secondhand Material Applied",0,1.0920000000000001,"COUPLER BODY, E 67 CE OR E 67 DE",200.06,33,0,154.22999999999999,354.28999999999996]
[2041,3,"Reconditioned or Recertified Material Applied",0,1.0920000000000001,"COUPLER BODY, E 67 CE OR E 67 DE",303.04000000000002,33,0,154.22999999999999,457.27]
[2041,"T","Component transfer",0,0,"COUPLER BODY, E 67 CE OR E 67 DE",0,0,0,0,0]
[2043,2,"Secondhand Material Applied",0,1.0920000000000001,"COUPLER BODY, SBE 67 BC",200.06,33,0,154.22999999999999,354.28999999999996]
[2043,3,"Reconditioned or Recertified Material Applied",0,1.0920000000000001,"COUPLER BODY, SBE 67 BC",303.04000000000002,33,0,154.22999999999999,457.27]
[2043,"T","Component transfer",0,0,"COUPLER BODY, SBE 67 BC",0,0,0,0,0]
[2044,1,"New Material Applied",0,1.0920000000000001,"COUPLER BODY, SBE 67 BE",665.93,33,0,154.22999999999999,820.16]
[2044,2,"Secondhand Material Applied",0,1.0920000000000001,"COUPLER BODY, SBE 67 BE",200.06,33,0,154.22999999999999,354.28999999999996]
[2044,3,"Reconditioned or Recertified Material Applied",0,1.0920000000000001,"COUPLER BODY, SBE 67 BE",303.04000000000002,33,0,154.22999999999999,457.27]
[2044,"T","Component transfer",0,0,"COUPLER BODY, SBE 67 BE",0,0,0,0,0]
[2047,2,"Secondhand Material Applied",0,1.0920000000000001,"COUPLER BODY, E 67 BHT OR E 67 BC",200.06,33,0,154.22999999999999,354.28999999999996]
[2047,3,"Reconditioned or Recertified Material Applied",0,1.0920000000000001,"COUPLER BODY, E 67 BHT OR E 67 BC",303.04000000000002,33,0,154.22999999999999,457.27]
[2047,"T","Component transfer",0,0,"COUPLER BODY, E 67 BHT OR E 67 BC",0,0,0,0,0]
[2049,1,"New Material Applied",0,1.0920000000000001,"COUPLER BODY, E 67 BHTE OR E 67 BE",665.93,33,0,154.22999999999999,820.16]
[2049,2,"Secondhand Material Applied",0,1.0920000000000001,"COUPLER BODY, E 67 BHTE OR E 67 BE",200.06,33,0,154.22999999999999,354.28999999999996]
[2049,3,"Reconditioned or Recertified Material Applied",0,1.0920000000000001,"COUPLER BODY, E 67 BHTE OR E 67 BE",303.04000000000002,33,0,154.22999999999999,457.27]
[2049,"T","Component transfer",0,0,"COUPLER BODY, E 67 BHTE OR E 67 BE",0,0,0,0,0]
[2054,2,"Secondhand Material Applied",0,0.13600000000000001,"KNUCKLE E50HTE, E50AE, E50ARE OR E50BE",46.5,8.69,0,19.21,65.710000000000008]
[2055,1,"New Material Applied",0,0.13600000000000001,"COUPLER KNUCKLE, E50AEV OR E50BEV",131.25,8.69,0,19.21,150.46]
[2055,2,"Secondhand Material Applied",0,0.13600000000000001,"COUPLER KNUCKLE, E50AEV OR E50BEV",45.94,8.69,0,19.21,65.150000000000006]
[2056,2,"Secondhand Material Applied",0,0.14799999999999999,"COUPLER KNUCKLE LOCK, E40HT",5.89,1.65,0,20.9,26.79]
[2057,2,"Secondhand Material Applied",0,0.14799999999999999,"COUPLER KNUCKLE LOCK, E42HT",5.89,1.65,0,20.9,26.79]
[2058,1,"New Material Applied",0,0.14799999999999999,"COUPLER KNUCKLE,LOCK, E 40 HTE OR E 40AE",28.76,1.65,0,20.9,49.66]
[2058,2,"Secondhand Material Applied",0,0.14799999999999999,"COUPLER KNUCKLE,LOCK, E 40 HTE OR E 40AE",10.07,1.65,0,20.9,30.97]
[2058,3,"Reconditioned or Recertified Material Applied",0,0.14799999999999999,"COUPLER KNUCKLE,LOCK, E 40 HTE OR E 40AE",21.57,1.65,0,20.9,42.47]
[2059,1,"New Material Applied",0,0.14799999999999999,"COUPLER KNUCKLE LOCK, E42HTE, E42AE OR E42BE",28.76,1.65,0,20.9,49.66]
[2059,2,"Secondhand Material Applied",0,0.14799999999999999,"COUPLER KNUCKLE LOCK, E42HTE, E42AE OR E42BE",10.07,1.65,0,20.9,30.97]
[2059,3,"Reconditioned or Recertified Material Applied",0,0.14799999999999999,"COUPLER KNUCKLE LOCK, E42HTE, E42AE OR E42BE",21.57,1.65,0,20.9,42.47]
[2064,1,"New Material Applied",0,7.4999999999999997E-2,"COUPLER LOCK LIFTER,TOP,TYPE E",19.850000000000001,0.44,0,10.59,30.44]
[2068,1,"New Material Applied",0,0.20599999999999999,"COUPLER LOCK LIFTER,BOTTOM,TYPE E",14.8,0.44,0,29.1,43.900000000000006]
[2072,1,"New Material Applied",0,0.158,"COUPLER KNUCKLE THROWER,TYPE E",10.38,0.66,0,22.32,32.700000000000003]
[2072,2,"Secondhand Material Applied",0,0.158,"COUPLER KNUCKLE THROWER,TYPE E",3.63,0.66,0,22.32,25.95]
[2076,1,"New Material Applied",0,0.1,"COUPLER KNUCKLE PIN, METALLIC",6.8,0,0,14.12,20.919999999999998]
[2076,2,"Secondhand Material Applied",0,0.1,"COUPLER KNUCKLE PIN, METALLIC",2.38,0,0,14.12,16.5]
[2080,1,"New Material Applied",0,0.155,"COUPLER TOP HOLE CAP, WELDED",1.31,0,0,21.89,23.2]
[2088,1,"New Material Applied",0,0.216,"COUPLER DRAFT KEY",63.86,6.05,0,30.51,94.37]
[2088,2,"Secondhand Material Applied",0,0.216,"COUPLER DRAFT KEY",32.01,6.05,0,30.51,62.519999999999996]
[2088,3,{"$f":"VLOOKUP(B1803,$B$2686:$C$2701,2,FALSE)","v":"Reconditioned or Recertified Material Applied"},0,0.216,"COUPLER DRAFT KEY",47.93,6.05,0,30.51,78.44]
[2104,1,"New Material Applied",0,9.1999999999999998E-2,"COUPLER DRAFT KEY RETAINER",7.13,0.22,0,12.99,{"$f":"G1804+J1804","v":20.12}]
[2104,2,"Secondhand Material Applied",0,9.1999999999999998E-2,"COUPLER DRAFT KEY RETAINER",7.13,0.22,0,12.99,20.12]
[2108,1,"New Material Applied",0,0.12,"COUPLER DRAFT KEY RETAINER LOCK",2.73,0.22,0,16.95,19.68]
[2108,2,"Secondhand Material Applied",0,0.12,"COUPLER DRAFT KEY RETAINER LOCK",1.44,0.22,0,16.95,18.39]
[2116,1,"New Material Applied",0,9.1999999999999998E-2,"COUPLER DRAFT KEY WASHER",4.79,0,0,12.99,17.78]
[2116,2,"Secondhand Material Applied",0,9.1999999999999998E-2,"COUPLER DRAFT KEY WASHER",2.4700000000000002,0,0,12.99,15.46]
[2159,1,"New Material Applied",0,0.17100000000000001,"CARRIER WEAR PLATE/STRIKER SHIM (NON-METALLIC)",9.77,0,0,24.15,33.92]
[2160,1,"New Material Applied",0,0.191,"CARRIER WEAR PLATE/STRIKER SHIM (METALLIC)",12.22,0,0,26.98,39.200000000000003]
[2161,1,"New Material Applied",0,0.17100000000000001,"CARRIER WEAR PLATE/STRIKER SHIM (MANGANESE)",17.89,0,0,24.15,42.04]
[2162,1,"New Material Applied",0,2.246,"COUPLER CARRIER,20\" LONG OR LESS",47.16,1.98,0,317.23,364.39]
[2162,2,"Secondhand Material Applied",0,2.246,"COUPLER CARRIER,20\" LONG OR LESS",23.58,1.98,0,317.23,340.81]
[2162,8,"Remove, repair, and replace same part",0,2.246,"COUPLER CARRIER,20\" LONG OR LESS",22.86,0,0,317.23,340.09000000000003]
[2164,1,"New Material Applied",0,2.246,"COUPLER CARRIER, OVER 20\" LONG",104.8,4.4000000000000004,0,317.23,422.03000000000003]
[2164,2,"Secondhand Material Applied",0,2.246,"COUPLER CARRIER, OVER 20\" LONG",52.4,4.4000000000000004,0,317.23,369.63]
[2164,8,"Remove, repair, and replace same part",0,2.246,"COUPLER CARRIER, OVER 20\" LONG",50.8,0,0,317.23,368.03000000000003]
[2166,1,"New Material Applied",0,2.246,"COUPLER CARRIER, OVER 28\" LONG",180.78,7.59,0,317.23,498.01]
[2166,2,"Secondhand Material Applied",0,2.246,"COUPLER CARRIER, OVER 28\" LONG",90.39,7.59,0,317.23,407.62]
[2166,8,"Remove, repair, and replace same part",0,2.246,"COUPLER CARRIER, OVER 28\" LONG",87.63,0,0,317.23,404.86]
[2167,1,"New Material Applied",0,0.17100000000000001,"CARRIER WEAR PLATE/STRIKER SHIM (NON-METALLIC)",17.7,0,0,24.15,41.849999999999994]
[2168,1,"New Material Applied",0,2.246,"COUPLER, CARRIER, 20\"/LESS, SPRING TYPE, METALLIC",47.16,1.98,0,317.23,364.39]
[2168,2,"Secondhand Material Applied",0,2.246,"COUPLER, CARRIER, 20\"/LESS, SPRING TYPE, METALLIC",23.58,1.98,0,317.23,340.81]
[2168,8,"Remove, repair, and replace same part",0,2.246,"COUPLER, CARRIER, 20\"/LESS, SPRING TYPE, METALLIC",24.32,0,0,317.23,341.55]
[2169,1,"New Material Applied",0,0.191,"CARRIER WEAR PLATE/STRIKER SHIM (METALLIC)",31.44,0,0,26.98,58.42]
[2171,1,"New Material Applied",0,0.17100000000000001,"CARRIER WEAR PLATE/STRIKER SHIM (MANGANESE)",48.6,0,0,24.15,72.75]
[2174,1,"New Material Applied",0,1.429,"COUPLER BODY EF511* - C, E, AE, BE, CE OR WE",860.17,49.72,0,201.83,1062]
[2174,2,"Secondhand Material Applied",0,1.429,"COUPLER BODY EF511* - C, E, AE, BE, CE OR WE",434.11,49.72,0,201.83,635.94000000000005]
[2174,3,"Reconditioned or Recertified Material Applied",0,1.429,"COUPLER BODY EF511* - C, E, AE, BE, CE OR WE",647.14,49.72,0,201.83,848.97]
[2174,"T","Component transfer",0,0,"COUPLER BODY EF511* - C, E, AE, BE, CE OR WE",0,0,0,0,0]
[2175,1,"New Material Applied",0,1.429,"COUPLER EF512C, EF512E, EF512AE, EF512BE OR EF512C",947.5,49.17,0,201.83,1149.33]
[2175,2,"Secondhand Material Applied",0,1.429,"COUPLER EF512C, EF512E, EF512AE, EF512BE OR EF512C",477.77,49.17,0,201.83,679.6]
[2175,3,"Reconditioned or Recertified Material Applied",0,1.429,"COUPLER EF512C, EF512E, EF512AE, EF512BE OR EF512C",712.64,49.17,0,201.83,914.47]
[2175,"T","Component transfer",0,0,"COUPLER EF512C, EF512E, EF512AE, EF512BE OR EF512C",0,0,0,0,0]
[2176,1,"New Material Applied",0,1.429,"COUPLER BODY, EF525C, EF525E, EF525AE OR EF525BE",1508.94,49.72,0,201.83,1710.77]
[2176,2,"Secondhand Material Applied",0,1.429,"COUPLER BODY, EF525C, EF525E, EF525AE OR EF525BE",758.49,49.72,0,201.83,960.32]
[2176,3,"Reconditioned or Recertified Material Applied",0,1.429,"COUPLER BODY, EF525C, EF525E, EF525AE OR EF525BE",1133.72,49.72,0,201.83,1335.55]
[2176,"T","Component transfer",0,0,"COUPLER BODY, EF525C, EF525E, EF525AE OR EF525BE",0,0,0,0,0]
[2177,1,"New Material Applied",0,1.429,"COUPLER BODY EF528* - C, E, AE, BE, CE OR WE",1322.8,49.72,0,201.83,1524.6299999999999]
[2177,2,"Secondhand Material Applied",0,1.429,"COUPLER BODY EF528* - C, E, AE, BE, CE OR WE",665.42,49.72,0,201.83,867.25]
[2177,3,"Reconditioned or Recertified Material Applied",0,1.429,"COUPLER BODY EF528* - C, E, AE, BE, CE OR WE",994.11,49.72,0,201.83,1195.94]
[2177,"T","Component transfer",0,0,"COUPLER BODY EF528* - C, E, AE, BE, CE OR WE",0,0,0,0,0]
[2181,1,"New Material Applied",0,1.429,"COUPLER BODY, E 68 CE OR E 68 DE",752.02,52.14,0,201.83,953.85]
[2181,2,"Secondhand Material Applied",0,1.429,"COUPLER BODY, E 68 CE OR E 68 DE",380.03,52.14,0,201.83,581.86]
[2181,3,"Reconditioned or Recertified Material Applied",0,1.429,"COUPLER BODY, E 68 CE OR E 68 DE",566.03,52.14,0,201.83,767.86]
[2181,"T","Component transfer",0,0,"COUPLER BODY, E 68 CE OR E 68 DE",0,0,0,0,0]
[2182,1,"New Material Applied",0,1.429,"COUPLER BODY, SBE 68 CE OR SBE 68 DE",752.02,52.14,0,201.83,953.85]
[2182,2,"Secondhand Material Applied",0,1.429,"COUPLER BODY, SBE 68 CE OR SBE 68 DE",380.03,52.14,0,201.83,581.86]
[2182,3,"Reconditioned or Recertified Material Applied",0,1.429,"COUPLER BODY, SBE 68 CE OR SBE 68 DE",566.03,52.14,0,201.83,767.86]
[2182,"T","Component transfer",0,0,"COUPLER BODY, SBE 68 CE OR SBE 68 DE",0,0,0,0,0]
[2183,2,"Secondhand Material Applied",0,1.429,"COUPLER BODY, SE68BE",380.03,52.14,0,201.83,581.86]
[2183,3,"Reconditioned or Recertified Material Applied",0,1.429,"COUPLER BODY, SE68BE",566.03,52.14,0,201.83,767.86]
[2183,"T","Component transfer",0,0,"COUPLER BODY, SE68BE",0,0,0,0,0]
[2185,2,"Secondhand Material Applied",0,1.429,"COUPLER BODY, E 68 BHT OR E 68 BC",267.7,52.14,0,201.83,469.53]
[2185,3,"Reconditioned or Recertified Material Applied",0,1.429,"COUPLER BODY, E 68 BHT OR E 68 BC",401.47,52.14,0,201.83,603.30000000000007]
[2185,"T","Component transfer",0,0,"COUPLER BODY, E 68 BHT OR E 68 BC",0,0,0,0,0]
[2186,1,"New Material Applied",0,1.429,"COUPLER BODY, E 68 BHTE OR E 68 BE",752.02,52.14,0,201.83,953.85]
[2186,2,"Secondhand Material Applied",0,1.429,"COUPLER BODY, E 68 BHTE OR E 68 BE",380.03,52.14,0,201.83,581.86]
[2186,3,"Reconditioned or Recertified Material Applied",0,1.429,"COUPLER BODY, E 68 BHTE OR E 68 BE",566.03,52.14,0,201.83,767.86]
[2186,"T","Component transfer",0,0,"COUPLER BODY, E 68 BHTE OR E 68 BE",0,0,0,0,0]
[2189,2,"Secondhand Material Applied",0,1.429,"COUPLER BODY, E 69 AHTE OR E 69 AE",520.66999999999996,52.14,0,201.83,722.5]
[2189,3,"Reconditioned or Recertified Material Applied",0,1.429,"COUPLER BODY, E 69 AHTE OR E 69 AE",776.99,52.14,0,201.83,978.82]
[2189,"T","Component transfer",0,0,"COUPLER BODY, E 69 AHTE OR E 69 AE",0,0,0,0,0]
[2190,1,"New Material Applied",0,1.429,"COUPLER BODY E 69 BE OR E 69 CE",1033.3,52.14,0,201.83,1235.1299999999999]
[2190,2,"Secondhand Material Applied",0,1.429,"COUPLER BODY E 69 BE OR E 69 CE",520.66999999999996,52.14,0,201.83,722.5]
[2190,3,{"$f":"VLOOKUP(B1867,$B$2686:$C$2701,2,FALSE)","v":"Reconditioned or Recertified Material Applied"},0,1.429,"COUPLER BODY E 69 BE OR E 69 CE",776.99,52.14,0,201.83,978.82]
[2190,"T","Component transfer",0,0,"COUPLER BODY E 69 BE OR E 69 CE",0,0,0,0,{"$f":"G1868+J1868","v":0}]
[2191,1,"New Material Applied",0,1.429,"COUPLER BODY SBE 69 BE OR SBE 69 CE",1033.3,52.14,0,201.83,1235.1299999999999]
[2191,2,"Secondhand Material Applied",0,1.429,"COUPLER BODY SBE 69 BE OR SBE 69 CE",520.66999999999996,52.14,0,201.83,722.5]
[2191,3,"Reconditioned or Recertified Material Applied",0,1.429,"COUPLER BODY SBE 69 BE OR SBE 69 CE",776.99,52.14,0,201.83,978.82]
[2191,"T","Component transfer",0,0,"COUPLER BODY SBE 69 BE OR SBE 69 CE",0,0,0,0,0]
[2192,2,"Secondhand Material Applied",0,1.429,"COUPLER BODY, SBE 68 BC",374.41,52.14,0,201.83,576.24]
[2192,3,"Reconditioned or Recertified Material Applied",0,1.429,"COUPLER BODY, SBE 68 BC",563.14,52.14,0,201.83,764.97]
[2192,"T","Component transfer",0,0,"COUPLER BODY, SBE 68 BC",0,0,0,0,0]
[2193,1,"New Material Applied",0,1.429,"COUPLER BODY, SBE 68 BE",890.62,52.14,0,201.83,1092.45]
[2193,2,"Secondhand Material Applied",0,1.429,"COUPLER BODY, SBE 68 BE",449.33,52.14,0,201.83,651.16]
[2193,3,"Reconditioned or Recertified Material Applied",0,1.429,"COUPLER BODY, SBE 68 BE",669.98,52.14,0,201.83,871.81000000000006]
[2193,"T","Component transfer",0,0,"COUPLER BODY, SBE 68 BE",0,0,0,0,0]
[2194,2,"Secondhand Material Applied",0,1.429,"COUPLER BODY, SBE 69 AE",507.73,52.14,0,201.83,709.56000000000006]
[2194,3,"Reconditioned or Recertified Material Applied",0,1.429,"COUPLER BODY, SBE 69 AE",757.58,52.14,0,201.83,959.41000000000008]
[2194,"T","Component transfer",0,0,"COUPLER BODY, SBE 69 AE",0,0,0,0,0]
[2196,1,"New Material Applied",0,1.429,"COUPLER BODY, SE 69 AE, SE 69 BE OR SE 69 CE",1007.42,52.14,0,201.83,1209.25]
[2196,2,"Secondhand Material Applied",0,1.429,"COUPLER BODY, SE 69 AE, SE 69 BE OR SE 69 CE",507.73,52.14,0,201.83,709.56000000000006]
[2196,3,"Reconditioned or Recertified Material Applied",0,1.429,"COUPLER BODY, SE 69 AE, SE 69 BE OR SE 69 CE",757.58,52.14,0,201.83,959.41000000000008]
[2196,"T","Component transfer",0,0,"COUPLER BODY, SE 69 AE, SE 69 BE OR SE 69 CE",0,0,0,0,0]
[2209,1,"New Material Applied",0,1.429,"COUPLER BODY, F 70 CHT OR F 70 CC",811.93,46.86,0,201.83,1013.76]
[2209,2,"Secondhand Material Applied",0,1.429,"COUPLER BODY, F 70 CHT OR F 70 CC",409.99,46.86,0,201.83,611.82000000000005]
[2209,3,"Reconditioned or Recertified Material Applied",0,1.429,"COUPLER BODY, F 70 CHT OR F 70 CC",610.96,46.86,0,201.83,812.79000000000008]
[2209,"T","Component transfer",0,0,"COUPLER BODY, F 70 CHT OR F 70 CC",0,0,0,0,0]
[2210,1,"New Material Applied",0,0,"COUPLER BODY, F 70 CHTE OR F 70 CE",825.54,46.86,0,0,825.54]
[2210,2,"Secondhand Material Applied",0,0,"COUPLER BODY, F 70 CHTE OR F 70 CE",416.79,46.86,0,0,416.79]
[2210,3,"Reconditioned or Recertified Material Applied",0,0,"COUPLER BODY, F 70 CHTE OR F 70 CE",621.16999999999996,46.86,0,0,621.16999999999996]
[2210,"T","Component transfer",0,0,"COUPLER BODY, F 70 CHTE OR F 70 CE",0,0,0,0,0]
[2211,1,"New Material Applied",0,0,"COUPLER BODY, SF 70 CHT OR SF 70 CC",846.81,46.86,0,0,846.81]
[2211,2,"Secondhand Material Applied",0,0,"COUPLER BODY, SF 70 CHT OR SF 70 CC",427.43,46.86,0,0,427.43]
[2211,3,"Reconditioned or Recertified Material Applied",0,0,"COUPLER BODY, SF 70 CHT OR SF 70 CC",637.12,46.86,0,0,637.12]
[2211,"T","Component transfer",0,0,"COUPLER BODY, SF 70 CHT OR SF 70 CC",0,0,0,0,0]
[2213,1,"New Material Applied",0,0,"COUPLER BODY, SF 70 CHTE OR SF 70 CE",842.74,46.86,0,0,842.74]
[2213,2,"Secondhand Material Applied",0,0,"COUPLER BODY, SF 70 CHTE OR SF 70 CE",425.39,46.86,0,0,425.39]
[2213,3,"Reconditioned or Recertified Material Applied",0,0,"COUPLER BODY, SF 70 CHTE OR SF 70 CE",634.07000000000005,46.86,0,0,634.07000000000005]
[2213,"T","Component transfer",0,0,"COUPLER BODY, SF 70 CHTE OR SF 70 CE",0,0,0,0,0]
[2215,1,"New Material Applied",0,1.429,"COUPLER BODY, F70DE",825.54,46.86,0,201.83,1027.3699999999999]
[2215,2,"Secondhand Material Applied",0,1.429,"COUPLER BODY, F70DE",416.79,46.86,0,201.83,618.62]
[2215,3,"Reconditioned or Recertified Material Applied",0,1.429,"COUPLER BODY, F70DE",621.16999999999996,46.86,0,201.83,823]
[2215,"T","Component transfer",0,0,"COUPLER BODY, F70DE",0,0,0,0,0]
[2216,1,"New Material Applied",0,1.429,"COUPLER BODY, SF70DE",842.74,46.86,0,201.83,1044.57]
[2216,2,"Secondhand Material Applied",0,1.429,"COUPLER BODY, SF70DE",425.39,46.86,0,201.83,627.22]
[2216,3,"Reconditioned or Recertified Material Applied",0,1.429,"COUPLER BODY, SF70DE",634.07000000000005,46.86,0,201.83,835.90000000000009]
[2216,"T","Component transfer",0,0,"COUPLER BODY, SF70DE",0,0,0,0,0]
[2244,1,"New Material Applied",0,1.6040000000000001,"COUPLER BODY, F-ROTARY HTE OR AE",1322.08,45.54,0,226.55,1548.6299999999999]
[2244,2,"Secondhand Material Applied",0,1.6040000000000001,"COUPLER BODY, F-ROTARY HTE OR AE",665.06,45.54,0,226.55,891.6099999999999]
[2244,3,"Reconditioned or Recertified Material Applied",0,1.6040000000000001,"COUPLER BODY, F-ROTARY HTE OR AE",993.57,45.54,0,226.55,1220.1200000000001]
[2244,"T","Component transfer",0,0,"COUPLER BODY, F-ROTARY HTE OR AE",0,0,0,0,0]
[2254,1,"New Material Applied",0,0.17,"COUPLER KNUCKLE, TYPE F51 HTE, OR F51 AE",134.69999999999999,9.1300000000000008,0,24.01,158.70999999999998]
[2254,2,"Secondhand Material Applied",0,0.17,"COUPLER KNUCKLE, TYPE F51 HTE, OR F51 AE",47.24,9.1300000000000008,0,24.01,71.25]
[2255,1,"New Material Applied",0,0.17,"COUPLER KNUCKLE, F51AEV",139.41999999999999,9.1300000000000008,0,24.01,163.42999999999998]
[2255,2,"Secondhand Material Applied",0,0.17,"COUPLER KNUCKLE, F51AEV",48.89,9.1300000000000008,0,24.01,72.900000000000006]
[2256,1,"New Material Applied",0,0.183,"COUPLER KNUCKLE LOCK, F41 HT, OR F41 AC",41.79,0.77,0,25.85,67.64]
[2256,2,"Secondhand Material Applied",0,0.183,"COUPLER KNUCKLE LOCK, F41 HT, OR F41 AC",14.63,0.77,0,25.85,40.480000000000004]
[2256,3,"Reconditioned or Recertified Material Applied",0,0.183,"COUPLER KNUCKLE LOCK, F41 HT, OR F41 AC",14.63,0.77,0,25.85,40.480000000000004]
[2258,1,"New Material Applied",0,0.183,"COUPLER KNUCKLE LOCK, F41 HTE, OR F41 AE",41.79,0.77,0,25.85,67.64]
[2258,2,"Secondhand Material Applied",0,0.183,"COUPLER KNUCKLE LOCK, F41 HTE, OR F41 AE",14.63,0.77,0,25.85,40.480000000000004]
[2258,3,"Reconditioned or Recertified Material Applied",0,0.183,"COUPLER KNUCKLE LOCK, F41 HTE, OR F41 AE",14.63,0.77,0,25.85,40.480000000000004]
[2259,1,"New Material Applied",0,0.183,"COUPLER KNUCKLE LOCK, ROTARY, FR41AE OR RF41BE",50.56,1.65,0,25.85,76.41]
[2259,2,"Secondhand Material Applied",0,0.183,"COUPLER KNUCKLE LOCK, ROTARY, FR41AE OR RF41BE",17.7,1.65,0,25.85,43.55]
[2259,3,"Reconditioned or Recertified Material Applied",0,0.183,"COUPLER KNUCKLE LOCK, ROTARY, FR41AE OR RF41BE",17.7,1.65,0,25.85,43.55]
[2260,1,"New Material Applied",0,0.24099999999999999,"COUPLER ROTARY LOCK-LIFT ASSEMBLY, TYPE F",16.600000000000001,0.66,0,34.04,50.64]
[2264,1,"New Material Applied",0,7.4999999999999997E-2,"COUPLER LOCK LIFT ROTOR,TYPE F",9.93,0.33,0,10.59,20.52]
[2268,1,"New Material Applied",0,0.193,"COUPLER KNUCKLE THROWER,TYPE F",12.13,0.77,0,27.26,39.39]
[2268,2,{"$f":"VLOOKUP(B1931,$B$2686:$C$2701,2,FALSE)","v":"Secondhand Material Applied"},0,0.193,"COUPLER KNUCKLE THROWER,TYPE F",4.25,0.77,0,27.26,31.51]
[2272,1,"New Material Applied",0,0.10100000000000001,"COUPLER TO YOKE CONNECTION PIN,TYPE F",25.5,1.1000000000000001,0,14.27,{"$f":"G1932+J1932","v":39.769999999999996}]
[2272,2,"Secondhand Material Applied",0,0.10100000000000001,"COUPLER TO YOKE CONNECTION PIN,TYPE F",8.93,1.1000000000000001,0,14.27,23.2]
[2272,3,"Reconditioned or Recertified Material Applied",0,0.10100000000000001,"COUPLER TO YOKE CONNECTION PIN,TYPE F",8.93,1.1000000000000001,0,14.27,23.2]
[2274,1,"New Material Applied",0,0.47899999999999998,"F TYPE YOKE CONNECTION PIN CARRIER",109.18,4.4000000000000004,0,67.650000000000006,176.83]
[2274,2,"Secondhand Material Applied",0,0.47899999999999998,"F TYPE YOKE CONNECTION PIN CARRIER",56.78,4.4000000000000004,0,67.650000000000006,124.43]
[2276,1,"New Material Applied",0,0.47899999999999998,"Y47 PIN RETAINER ASSEMBLY",14.89,0,0,67.650000000000006,82.54]
[2276,2,"Secondhand Material Applied",0,0.47899999999999998,"Y47 PIN RETAINER ASSEMBLY",7.45,0,0,67.650000000000006,75.100000000000009]
[2314,1,"New Material Applied",0,0,"COUPLER YOKE, Y40AHT OR Y40AC",336.68,22.33,0,0,336.68]
[2314,2,"Secondhand Material Applied",0,0,"COUPLER YOKE, Y40AHT OR Y40AC",168.34,22.33,0,0,168.34]
[2314,3,"Reconditioned or Recertified Material Applied",0,0,"COUPLER YOKE, Y40AHT OR Y40AC",252.51,22.33,0,0,252.51]
[2315,1,"New Material Applied",0,0,"YOKE - Y40AHTE,Y40AE,SY40AE,YS93AE OR WMNY40AE",380.87,22.33,0,0,380.87]
[2315,2,"Secondhand Material Applied",0,0,"YOKE - Y40AHTE,Y40AE,SY40AE,YS93AE OR WMNY40AE",190.44,22.33,0,0,190.44]
[2315,3,"Reconditioned or Recertified Material Applied",0,0,"YOKE - Y40AHTE,Y40AE,SY40AE,YS93AE OR WMNY40AE",285.64999999999998,22.33,0,0,285.64999999999998]
[2317,1,"New Material Applied",0,0,"COUPLER YOKE, Y41AHT OR Y41AC",788.07,28.16,0,0,788.07]
[2317,2,"Secondhand Material Applied",0,0,"COUPLER YOKE, Y41AHT OR Y41AC",394.04,28.16,0,0,394.04]
[2317,3,"Reconditioned or Recertified Material Applied",0,0,"COUPLER YOKE, Y41AHT OR Y41AC",591.04999999999995,28.16,0,0,591.04999999999995]
[2318,1,"New Material Applied",0,0,"COUPLER YOKE, Y41AHTE OR Y41AE",788.07,28.16,0,0,788.07]
[2318,2,"Secondhand Material Applied",0,0,"COUPLER YOKE, Y41AHTE OR Y41AE",394.04,28.16,0,0,394.04]
[2318,3,"Reconditioned or Recertified Material Applied",0,0,"COUPLER YOKE, Y41AHTE OR Y41AE",591.04999999999995,28.16,0,0,591.04999999999995]
[2355,1,"New Material Applied",0,0,"COUPLER YOKE, Y45HT, Y45AHT, BY45HT OR Y45AC",367.78,35.200000000000003,0,0,367.78]
[2355,2,"Secondhand Material Applied",0,0,"COUPLER YOKE, Y45HT, Y45AHT, BY45HT OR Y45AC",183.89,35.200000000000003,0,0,183.89]
[2355,3,"Reconditioned or Recertified Material Applied",0,0,"COUPLER YOKE, Y45HT, Y45AHT, BY45HT OR Y45AC",275.83999999999997,35.200000000000003,0,0,275.83999999999997]
[2356,1,"New Material Applied",0,0,"COUPLER YOKE, Y45AHTE, Y45AE OR SY294AE",372.09,35.200000000000003,0,0,372.09]
[2356,2,"Secondhand Material Applied",0,0,"COUPLER YOKE, Y45AHTE, Y45AE OR SY294AE",186.05,35.200000000000003,0,0,186.05]
[2356,3,"Reconditioned or Recertified Material Applied",0,0,"COUPLER YOKE, Y45AHTE, Y45AE OR SY294AE",279.07,35.200000000000003,0,0,279.07]
[2358,2,"Secondhand Material Applied",0,0,"COUPLER YOKE, Y 45HTE",186.42,35.200000000000003,0,0,186.42]
[2436,1,"New Material Applied",0,0,"DRAFT GEAR,GROUP J",482.81,36.520000000000003,0,0,482.81]
[2436,2,"Secondhand Material Applied",0,0,"DRAFT GEAR,GROUP J",241.41,36.520000000000003,0,0,241.41]
[2436,3,"Reconditioned or Recertified Material Applied",0,0,"DRAFT GEAR,GROUP J",362.11,36.520000000000003,0,0,362.11]
[2440,1,"New Material Applied",0,0,"DRAFT GEAR, GROUP K",915.68,36.520000000000003,0,0,915.68]
[2440,2,"Secondhand Material Applied",0,0,"DRAFT GEAR, GROUP K",457.84,36.520000000000003,0,0,457.84]
[2440,3,"Reconditioned or Recertified Material Applied",0,0,"DRAFT GEAR, GROUP K",686.76,36.520000000000003,0,0,686.76]
[2446,1,"New Material Applied",0,0,"DRAFT GEAR,GROUP M",453.84,36.520000000000003,0,0,453.84]
[2446,2,"Secondhand Material Applied",0,0,"DRAFT GEAR,GROUP M",226.92,36.520000000000003,0,0,226.92]
[2446,3,"Reconditioned or Recertified Material Applied",0,0,"DRAFT GEAR,GROUP M",340.38,36.520000000000003,0,0,340.38]
[2448,1,"New Material Applied",0,0,"DRAFT GEAR,GROUP R",1426.63,36.520000000000003,0,0,1426.63]
[2448,2,"Secondhand Material Applied",0,0,"DRAFT GEAR,GROUP R",713.32,36.520000000000003,0,0,713.32]
[2448,3,"Reconditioned or Recertified Material Applied",0,0,"DRAFT GEAR,GROUP R",1069.97,36.520000000000003,0,0,1069.97]
[2453,1,"New Material Applied",0,0,"DRAFT GEAR FOLLOWER PLATE W/ GROOVES OR ALT STMP E",78.73,7.15,0,0,78.73]
[2453,2,"Secondhand Material Applied",0,0,"DRAFT GEAR FOLLOWER PLATE W/ GROOVES OR ALT STMP E",39.369999999999997,7.15,0,0,39.369999999999997]
[2454,1,"New Material Applied",0,0,"D/G FOLLOWER-VERTICAL PIN CONNECT CPLR",97.65,8.25,0,0,97.65]
[2454,2,"Secondhand Material Applied",0,0,"D/G FOLLOWER-VERTICAL PIN CONNECT CPLR",48.83,8.25,0,0,48.83]
[2456,1,"New Material Applied",0,0,"DRAFT GEAR FOLLOWER,1/2 IN.OFFSET TYPE",97.65,8.25,0,0,97.65]
[2456,2,"Secondhand Material Applied",0,0,"DRAFT GEAR FOLLOWER,1/2 IN.OFFSET TYPE",48.83,8.25,0,0,48.83]
[2468,1,"New Material Applied",0,0.40100000000000002,"DRAFT GEAR CARRIER",29.71,3.08,0,56.64,86.35]
[2468,2,"Secondhand Material Applied",0,0.40100000000000002,"DRAFT GEAR CARRIER",18.88,3.08,0,56.64,75.52]
[2480,1,"New Material Applied",0,0.252,"UNCOUPLING LEVER NON-TELESCOPING",17.170000000000002,1.76,0,35.590000000000003,52.760000000000005]
[2480,2,"Secondhand Material Applied",0,0.252,"UNCOUPLING LEVER NON-TELESCOPING",8.66,1.76,0,35.590000000000003,44.25]
[2480,8,"Remove, repair, and replace same part",0,0.252,"UNCOUPLING LEVER NON-TELESCOPING",14.78,0,0,35.590000000000003,50.370000000000005]
[2482,1,"New Material Applied",0,0.24199999999999999,"UNCOUPLING LEVER, TELESCOPING TYPE",34.26,3.85,0,34.18,68.44]
[2482,2,"Secondhand Material Applied",0,0.24199999999999999,"UNCOUPLING LEVER, TELESCOPING TYPE",17.86,3.85,0,34.18,52.04]
[2482,8,"Remove, repair, and replace same part",0,0.24199999999999999,"UNCOUPLING LEVER, TELESCOPING TYPE",25.91,0,0,34.18,60.09]
[2484,1,"New Material Applied",0,8.4000000000000005E-2,"FILLER, NON-TELESCOPING UNCOUPLING LEVER BRACKET",0.84,0,0,11.86,12.7]
[2486,1,"New Material Applied",0,0.13600000000000001,"UNCOUPLING LEVER SUPPORT PARTS",12.18,0.66,0,19.21,31.39]
[2486,2,"Secondhand Material Applied",0,0.13600000000000001,"UNCOUPLING LEVER SUPPORT PARTS",6.82,0.66,0,19.21,26.03]
[2486,8,"Remove, repair, and replace same part",0,0.13600000000000001,"UNCOUPLING LEVER SUPPORT PARTS",9.08,0,0,19.21,28.29]
[2574,7,"Periodic or Service Attention \n(includes: vacant, single car testing of air brakes, cleaning of brke cyclinder, B-1 Quick Service Valves, Lubrication, Servicing mechanical refrigeration units, vacant, all wheels applied)",0,0.36299999999999999,"INSP. & LUB. HITCH; KNOCK-DOWN TYPE",1.5,0,0,51.27,52.77]
[2576,7,"Periodic or Service Attention \n(includes: vacant, single car testing of air brakes, cleaning of brke cyclinder, B-1 Quick Service Valves, Lubrication, Servicing mechanical refrigeration units, vacant, all wheels applied)",0,0.28399999999999997,"INSP. & LUB. HITCH; STATIONARY TYPE",1.5,0,0,40.11,41.61]
[2577,1,"New Material Applied",0,0.127,"HITCH INOPERABLE, BO ID DEVICE APPLIED",40.57,0,0,17.940000000000001,58.510000000000005]
[2577,2,"Secondhand Material Applied",0,0.127,"HITCH INOPERABLE, BO ID DEVICE APPLIED",20.29,0,0,17.940000000000001,38.230000000000004]
[2600,0,"Labor attention such as: \nactual labor, replacing or rechanging doors, welding, vacant, painting or stenciling, other labor attention",0,0.93200000000000005,"ASF ARTICULATED CONNECTION - LABOR",0,0,0,131.63999999999999,131.63999999999999]
[2605,0,"Labor attention such as: \nactual labor, replacing or rechanging doors, welding, vacant, painting or stenciling, other labor attention",0,0.93200000000000005,"NACO ARTICULATED CONNECTION - LABOR",0,0,0,131.63999999999999,131.63999999999999]
[2610,0,"Labor attention such as: \nactual labor, replacing or rechanging doors, welding, vacant, painting or stenciling, other labor attention",0,1.181,"CARDWELL WESTINGHOUSE SAC-1 ART CONN - LABOR",0,0,0,166.8,166.8]
[2620,1,{"$f":"VLOOKUP(B1995,$B$2686:$C$2701,2,FALSE)","v":"New Material Applied"},0,0,"ASF CONNECTOR PRIMARY PIN",203.54,1.32,0,0,203.54]
[2622,1,"New Material Applied",0,0.158,"ASF RETAINING PIN",21.21,0.22,0,22.32,{"$f":"G1996+J1996","v":43.53}]
[2630,1,"New Material Applied",0,0,"NACO CONNECTOR PRIMARY PIN",1472.72,1.32,0,0,1472.72]
[2632,1,"New Material Applied",0,0.158,"NACO RETAINING PIN",12.99,0.22,0,22.32,35.31]
[2650,1,"New Material Applied",0,0.11,"CARDWELL WESTINGHOUSE SAC-1 SHROUD",46.86,0.55000000000000004,0,15.54,62.4]
[2652,1,"New Material Applied",0,0,"CARDWELL WESTINGHOUSE SAC-1 LOCKING WEDGE",51.58,1.32,0,0,51.58]
[2814,1,"New Material Applied",0,0,"ROLLER BEARING GROUP B 6 X 11 INCH OR LESS",0,0,0,0,0]
[2814,3,"Reconditioned or Recertified Material Applied",0,0,"ROLLER BEARING GROUP B 6 X 11 INCH OR LESS",0,0,0,0,0]
[2816,1,"New Material Applied",0,0,"ROLLER BEARING, GROUP B,6-1/2X12 IN.",0,0,0,0,0]
[2816,3,"Reconditioned or Recertified Material Applied",0,0,"ROLLER BEARING, GROUP B,6-1/2X12 IN.",0,0,0,0,0]
[2820,1,"New Material Applied",0,0,"ROLLER BEARING,GROUP B, 7X12 IN.",0,0,0,0,0]
[2820,3,"Reconditioned or Recertified Material Applied",0,0,"ROLLER BEARING,GROUP B, 7X12 IN.",0,0,0,0,0]
[2822,1,"New Material Applied",0,0,"ROLLER BEARING, GROUP B1, 6-1/2X12 IN.",0,0,0,0,0]
[2822,3,"Reconditioned or Recertified Material Applied",0,0,"ROLLER BEARING, GROUP B1, 6-1/2X12 IN.",0,0,0,0,0]
[2830,1,"New Material Applied",0,0,"ROLLER BEARING, GROUP B3 7 X 12",0,0,0,0,0]
[2830,3,"Reconditioned or Recertified Material Applied",0,0,"ROLLER BEARING, GROUP B3 7 X 12",0,0,0,0,0]
[2857,0,"Labor attention such as: \nactual labor, replacing or rechanging doors, welding, vacant, painting or stenciling, other labor attention",0,0,"ROLLER BEARING INSPECTION",0,0,0,0,0]
[2861,3,"Reconditioned or Recertified Material Applied",0,0,"ROLLER BEARING, GROUP B2 6 X 11 OR LESS",0,0,0,0,0]
[2862,3,"Reconditioned or Recertified Material Applied",0,0,"ROLLER BEARING, GROUP B2 6 1/2 X 12",0,0,0,0,0]
[2863,3,"Reconditioned or Recertified Material Applied",0,0,"ROLLER BEARING, GROUP B2 7 X 12",0,0,0,0,0]
[2864,1,"New Material Applied",0,0,"ROLLER BEARING, GROUP B4,6-1/2X12 IN.",0,0,0,0,0]
[2864,3,"Reconditioned or Recertified Material Applied",0,0,"ROLLER BEARING, GROUP B4,6-1/2X12 IN.",0,0,0,0,0]
[2865,1,"New Material Applied",0,0,"ROLLER BEARING, GROUP B4, 6 X 11 IN.",0,0,0,0,0]
[2865,3,"Reconditioned or Recertified Material Applied",0,0,"ROLLER BEARING, GROUP B4, 6 X 11 IN.",0,0,0,0,0]
[2866,1,"New Material Applied",0,0,"ROLLER BEARING, GROUP B3, 6 1/2 X 9 IN",0,0,0,0,0]
[2866,3,"Reconditioned or Recertified Material Applied",0,0,"ROLLER BEARING, GROUP B3, 6 1/2 X 9 IN",0,0,0,0,0]
[2867,1,"New Material Applied",0,0,"ROLLER BEARING, GROUP B5, 6 1/2 X 9 IN",0,0,0,0,0]
[2867,3,"Reconditioned or Recertified Material Applied",0,0,"ROLLER BEARING, GROUP B5, 6 1/2 X 9 IN",0,0,0,0,0]
[2870,1,"New Material Applied",0,0.218,"PEDESTAL ADAPTER-NARROW-11 IN OR SMALLER",40.78,2.75,0,30.79,71.569999999999993]
[2870,2,"Secondhand Material Applied",0,0.218,"PEDESTAL ADAPTER-NARROW-11 IN OR SMALLER",20.39,2.75,0,30.79,51.18]
[2872,1,"New Material Applied",0,0.218,"PEDESTAL ADAPTER - NARROW - 6 1/2 X 9 IN",42.14,2.75,0,30.79,72.930000000000007]
[2872,2,"Secondhand Material Applied",0,0.218,"PEDESTAL ADAPTER - NARROW - 6 1/2 X 9 IN",21.07,2.75,0,30.79,51.86]
[2874,1,"New Material Applied",0,0.218,"PEDESTAL ADAPTER-6 1/2 X 12 INCH",41.4,2.75,0,30.79,72.19]
[2874,2,"Secondhand Material Applied",0,0.218,"PEDESTAL ADAPTER-6 1/2 X 12 INCH",20.7,2.75,0,30.79,51.489999999999995]
[2876,1,"New Material Applied",0,0.218,"PEDESTAL ADAPTER-7 X 12 INCH",65.55,3.63,0,30.79,96.34]
[2876,2,"Secondhand Material Applied",0,0.218,"PEDESTAL ADAPTER-7 X 12 INCH",32.78,3.63,0,30.79,63.57]
[2878,1,"New Material Applied",0,0.218,"PEDESTAL ADAPTER-WIDE-11 INCH OR SMALLER",93.65,6.05,0,30.79,124.44]
[2878,2,"Secondhand Material Applied",0,0.218,"PEDESTAL ADAPTER-WIDE-11 INCH OR SMALLER",46.83,6.05,0,30.79,77.62]
[2880,1,"New Material Applied",0,0.218,"ELASTOMERIC ADAPTER PAD (STANDARD CAR TRUCK)",79.86,0,0,30.79,110.65]
[2882,1,"New Material Applied",0,0.218,"ELASTOMERIC ADAPTER PAD (ASF)",84.48,0,0,30.79,115.27000000000001]
[2884,1,"New Material Applied",0,0.218,"PEDESTAL ADAPTER - STANDARD CAR TRUCK S2-86",30.53,2.97,0,30.79,61.32]
[2884,2,"Secondhand Material Applied",0,0.218,"PEDESTAL ADAPTER - STANDARD CAR TRUCK S2-86",15.27,2.97,0,30.79,46.06]
[2886,1,"New Material Applied",0,0.218,"PEDESTAL ADAPTER - ASF - 6 1/2 X 12 IN",39.61,2.97,0,30.79,70.400000000000006]
[2886,2,"Secondhand Material Applied",0,0.218,"PEDESTAL ADAPTER - ASF - 6 1/2 X 12 IN",19.809999999999999,2.97,0,30.79,50.599999999999994]
[2887,1,"New Material Applied",0,0.218,"PEDESTAL ADAPTER - ASF - 6 1/2 X 9 IN",39.61,2.97,0,30.79,70.400000000000006]
[2887,2,"Secondhand Material Applied",0,0.218,"PEDESTAL ADAPTER - ASF - 6 1/2 X 9 IN",19.809999999999999,2.97,0,30.79,50.599999999999994]
[2889,1,"New Material Applied",0,0.218,"PEDESTAL ADAPTER - NSC - 6 1/2 X 9 IN",28.22,2.97,0,30.79,59.01]
[2889,2,"Secondhand Material Applied",0,0.218,"PEDESTAL ADAPTER - NSC - 6 1/2 X 9 IN",14.11,2.97,0,30.79,44.9]
[2891,1,"New Material Applied",0,0.218,"ELASTOMERIC ADAPTER PADS (NSC) - SET OF TWO",71.77,0,0,30.79,102.56]
[2893,1,"New Material Applied",0,0.218,"ELASTOMERIC ADAPTER PAD - NEVIS",73.150000000000006,0,0,30.79,103.94]
[2895,1,"New Material Applied",0,0.218,"PEDESTAL ADAPTER - NEVIS - 6 1/2 X 9 IN",75.16,2.97,0,30.79,105.94999999999999]
[2895,2,"Secondhand Material Applied",0,0.218,"PEDESTAL ADAPTER - NEVIS - 6 1/2 X 9 IN",37.58,2.97,0,30.79,68.37]
[3001,7,"Periodic or Service Attention \n(includes: vacant, single car testing of air brakes, cleaning of brke cyclinder, B-1 Quick Service Valves, Lubrication, Servicing mechanical refrigeration units, vacant, all wheels applied)",0,0,"WHEEL 28\" 1W HT-CP",0,0,0,0,0]
[3002,7,"Periodic or Service Attention \n(includes: vacant, single car testing of air brakes, cleaning of brke cyclinder, B-1 Quick Service Valves, Lubrication, Servicing mechanical refrigeration units, vacant, all wheels applied)",0,0,"WHEEL 28\" 1W NHT-CP",0,0,0,0,0]
[3004,7,"Periodic or Service Attention \n(includes: vacant, single car testing of air brakes, cleaning of brke cyclinder, B-1 Quick Service Valves, Lubrication, Servicing mechanical refrigeration units, vacant, all wheels applied)",0,0,"WHEEL 28\" 1W HT-CP, CB-28",0,0,0,0,0]
[3011,7,"Periodic or Service Attention \n(includes: vacant, single car testing of air brakes, cleaning of brke cyclinder, B-1 Quick Service Valves, Lubrication, Servicing mechanical refrigeration units, vacant, all wheels applied)",0,0,"WHEEL 28\" MW HT-CP",0,0,0,0,0]
[3021,7,"Periodic or Service Attention \n(includes: vacant, single car testing of air brakes, cleaning of brke cyclinder, B-1 Quick Service Valves, Lubrication, Servicing mechanical refrigeration units, vacant, all wheels applied)",0,0,"WHEEL 33\" 1W HT-CP",0,0,0,0,0]
[3022,7,"Periodic or Service Attention \n(includes: vacant, single car testing of air brakes, cleaning of brke cyclinder, B-1 Quick Service Valves, Lubrication, Servicing mechanical refrigeration units, vacant, all wheels applied)",0,0,"WHEEL 33\" 1W NHT-CP",0,0,0,0,0]
[3031,7,"Periodic or Service Attention \n(includes: vacant, single car testing of air brakes, cleaning of brke cyclinder, B-1 Quick Service Valves, Lubrication, Servicing mechanical refrigeration units, vacant, all wheels applied)",0,0,"WHEEL 33\" 2W HT-CP",0,0,0,0,0]
[3032,7,"Periodic or Service Attention \n(includes: vacant, single car testing of air brakes, cleaning of brke cyclinder, B-1 Quick Service Valves, Lubrication, Servicing mechanical refrigeration units, vacant, all wheels applied)",0,0,"WHEEL 33\" 2W NHT-CP",0,0,0,0,0]
[3041,7,"Periodic or Service Attention \n(includes: vacant, single car testing of air brakes, cleaning of brke cyclinder, B-1 Quick Service Valves, Lubrication, Servicing mechanical refrigeration units, vacant, all wheels applied)",0,0,"WHEEL 33\" MW HT-CP",0,0,0,0,0]
[3071,7,"Periodic or Service Attention \n(includes: vacant, single car testing of air brakes, cleaning of brke cyclinder, B-1 Quick Service Valves, Lubrication, Servicing mechanical refrigeration units, vacant, all wheels applied)",0,0,"WHEEL 36\" 1W HT-CP",0,0,0,0,0]
[3072,7,"Periodic or Service Attention \n(includes: vacant, single car testing of air brakes, cleaning of brke cyclinder, B-1 Quick Service Valves, Lubrication, Servicing mechanical refrigeration units, vacant, all wheels applied)",0,0,"WHEEL 36\" 1W NHT-CP",0,0,0,0,0]
[3081,7,"Periodic or Service Attention \n(includes: vacant, single car testing of air brakes, cleaning of brke cyclinder, B-1 Quick Service Valves, Lubrication, Servicing mechanical refrigeration units, vacant, all wheels applied)",0,0,"WHEEL 36\" 2W HT-CP",0,0,0,0,0]
[3082,7,{"$f":"VLOOKUP(B2059,$B$2686:$C$2701,2,FALSE)","v":"Periodic or Service Attention \n(includes: vacant, single car testing of air brakes, cleaning of brke cyclinder, B-1 Quick Service Valves, Lubrication, Servicing mechanical refrigeration units, vacant, all wheels applied)"},0,0,"WHEEL 36\" 2W NHT-CP",0,0,0,0,0]
[3091,7,"Periodic or Service Attention \n(includes: vacant, single car testing of air brakes, cleaning of brke cyclinder, B-1 Quick Service Valves, Lubrication, Servicing mechanical refrigeration units, vacant, all wheels applied)",0,0,"WHEEL 36\" MW HT-CP",0,0,0,0,{"$f":"G2060+J2060","v":0}]
[3101,7,"Periodic or Service Attention \n(includes: vacant, single car testing of air brakes, cleaning of brke cyclinder, B-1 Quick Service Valves, Lubrication, Servicing mechanical refrigeration units, vacant, all wheels applied)",0,0,"WHEEL 38\" 1W HT-CP",0,0,0,0,0]
[3102,7,"Periodic or Service Attention \n(includes: vacant, single car testing of air brakes, cleaning of brke cyclinder, B-1 Quick Service Valves, Lubrication, Servicing mechanical refrigeration units, vacant, all wheels applied)",0,0,"WHEEL 38\" 1W NHT-CP",0,0,0,0,0]
[3111,7,"Periodic or Service Attention \n(includes: vacant, single car testing of air brakes, cleaning of brke cyclinder, B-1 Quick Service Valves, Lubrication, Servicing mechanical refrigeration units, vacant, all wheels applied)",0,0,"WHEEL 38\" 2W HT-CP",0,0,0,0,0]
[3116,7,"Periodic or Service Attention \n(includes: vacant, single car testing of air brakes, cleaning of brke cyclinder, B-1 Quick Service Valves, Lubrication, Servicing mechanical refrigeration units, vacant, all wheels applied)",0,0,"WHEEL, 33\" 1W HT-CP CLASS D",0,0,0,0,0]
[3121,7,"Periodic or Service Attention \n(includes: vacant, single car testing of air brakes, cleaning of brke cyclinder, B-1 Quick Service Valves, Lubrication, Servicing mechanical refrigeration units, vacant, all wheels applied)",0,0,"WHEEL 36\" 1W HT-CP CLASS D",0,0,0,0,0]
[3131,7,"Periodic or Service Attention \n(includes: vacant, single car testing of air brakes, cleaning of brke cyclinder, B-1 Quick Service Valves, Lubrication, Servicing mechanical refrigeration units, vacant, all wheels applied)",0,0,"WHEEL 36\" 2W HT-CP CLASS D",0,0,0,0,0]
[3151,7,"Periodic or Service Attention \n(includes: vacant, single car testing of air brakes, cleaning of brke cyclinder, B-1 Quick Service Valves, Lubrication, Servicing mechanical refrigeration units, vacant, all wheels applied)",0,0,"WHEEL 38\" 1W HT-CP CLASS D",0,0,0,0,0]
[3274,1,"New Material Applied",0,0,"AXLE-RWS-ROLLER BRG,11 JRNL OR LESS",0,0,0,0,0]
[3274,2,"Secondhand Material Applied",0,0,"AXLE-RWS-ROLLER BRG,11 JRNL OR LESS",0,0,0,0,0]
[3274,3,"Reconditioned or Recertified Material Applied",0,0,"AXLE-RWS-ROLLER BRG,11 JRNL OR LESS",0,0,0,0,0]
[3276,1,"New Material Applied",0,0,"AXLE-RWS-ROLLER BRG, 6 1/2 X 12 IN JRNL",0,0,0,0,0]
[3276,2,"Secondhand Material Applied",0,0,"AXLE-RWS-ROLLER BRG, 6 1/2 X 12 IN JRNL",0,0,0,0,0]
[3276,3,"Reconditioned or Recertified Material Applied",0,0,"AXLE-RWS-ROLLER BRG, 6 1/2 X 12 IN JRNL",0,0,0,0,0]
[3278,1,"New Material Applied",0,0,"AXLE-RWS-ROLLER BRG, 7 X 12 IN JRNL",0,0,0,0,0]
[3278,2,"Secondhand Material Applied",0,0,"AXLE-RWS-ROLLER BRG, 7 X 12 IN JRNL",0,0,0,0,0]
[3278,3,"Reconditioned or Recertified Material Applied",0,0,"AXLE-RWS-ROLLER BRG, 7 X 12 IN JRNL",0,0,0,0,0]
[3280,1,"New Material Applied",0,0,"AXLE-RWS-ROLLER BRG, 6 1/2 X 9 IN JRNL",0,0,0,0,0]
[3280,2,"Secondhand Material Applied",0,0,"AXLE-RWS-ROLLER BRG, 6 1/2 X 9 IN JRNL",0,0,0,0,0]
[3280,3,"Reconditioned or Recertified Material Applied",0,0,"AXLE-RWS-ROLLER BRG, 6 1/2 X 9 IN JRNL",0,0,0,0,0]
[3328,"A","Wheel set with new roller bearings and new axle",0,0.83699999999999997,"NEW WHEEL SET 28 INCH, 6 X 11 AXLE",2314.4699999999998,0,0,118.22,2432.6899999999996]
[3328,"B","Wheel set with reconditioned roller bearings and reconditioned/ secondhand axle",0,0.83699999999999997,"NEW WHEEL SET 28 INCH, 6 X 11 AXLE",1456.64,0,0,118.22,1574.8600000000001]
[3328,"C","Wheel set with new roller bearings and reconditioned/secondhand axle",0,0.83699999999999997,"NEW WHEEL SET 28 INCH, 6 X 11 AXLE",1872.47,0,0,118.22,1990.69]
[3328,"D","Wheel set with reconditioned roller bearings and new axle",0,0.83699999999999997,"NEW WHEEL SET 28 INCH, 6 X 11 AXLE",1898.95,0,0,118.22,2017.17]
[3329,"A","Wheel set with new roller bearings and new axle",0,0.83699999999999997,"TURNED WHEEL SET  28 INCH, 6 X 11 AXLE",1334.73,0,0,118.22,1452.95]
[3329,"B","Wheel set with reconditioned roller bearings and reconditioned/ secondhand axle",0,0.83699999999999997,"TURNED WHEEL SET  28 INCH, 6 X 11 AXLE",476.9,0,0,118.22,595.12]
[3329,"C","Wheel set with new roller bearings and reconditioned/secondhand axle",0,0.83699999999999997,"TURNED WHEEL SET  28 INCH, 6 X 11 AXLE",892.42,0,0,118.22,1010.64]
[3329,"D","Wheel set with reconditioned roller bearings and new axle",0,0.83699999999999997,"TURNED WHEEL SET  28 INCH, 6 X 11 AXLE",919.21,0,0,118.22,1037.43]
[3329,"F","Purchased core wheel set with reconditioned roller bearings and reconditioned/secondhand axle",0,0.83699999999999997,"TURNED WHEEL SET  28 INCH, 6 X 11 AXLE",936.24,0,0,118.22,1054.46]
[3329,"G","Purchased core wheel set with new roller bearings and reconditioned/ secondhand axle",0,0.83699999999999997,"TURNED WHEEL SET  28 INCH, 6 X 11 AXLE",1351.76,0,0,118.22,1469.98]
[3333,"A","Wheel set with new roller bearings and new axle",0,0.83699999999999997,"NEW WHEEL SET 33 INCH, 6 X 11 AXLE",2290.54,0,0,118.22,2408.7599999999998]
[3333,"B","Wheel set with reconditioned roller bearings and reconditioned/ secondhand axle",0,0.83699999999999997,"NEW WHEEL SET 33 INCH, 6 X 11 AXLE",1432.71,0,0,118.22,1550.93]
[3333,"C","Wheel set with new roller bearings and reconditioned/secondhand axle",0,0.83699999999999997,"NEW WHEEL SET 33 INCH, 6 X 11 AXLE",1848.23,0,0,118.22,1966.45]
[3333,"D","Wheel set with reconditioned roller bearings and new axle",0,0.83699999999999997,"NEW WHEEL SET 33 INCH, 6 X 11 AXLE",1875.02,0,0,118.22,1993.24]
[3334,"A","Wheel set with new roller bearings and new axle",0,0.83699999999999997,"TURNED WHEEL SET 33 INCH, 6 X 11 AXLE",1363.54,0,0,118.22,1481.76]
[3334,"B","Wheel set with reconditioned roller bearings and reconditioned/ secondhand axle",0,0.83699999999999997,"TURNED WHEEL SET 33 INCH, 6 X 11 AXLE",505.71,0,0,118.22,623.92999999999995]
[3334,"C","Wheel set with new roller bearings and reconditioned/secondhand axle",0,0.83699999999999997,"TURNED WHEEL SET 33 INCH, 6 X 11 AXLE",921.23,0,0,118.22,1039.45]
[3334,"D","Wheel set with reconditioned roller bearings and new axle",0,0.83699999999999997,"TURNED WHEEL SET 33 INCH, 6 X 11 AXLE",948.02,0,0,118.22,1066.24]
[3334,"F","Purchased core wheel set with reconditioned roller bearings and reconditioned/secondhand axle",0,0.83699999999999997,"TURNED WHEEL SET 33 INCH, 6 X 11 AXLE",905.23,0,0,118.22,1023.45]
[3334,"G","Purchased core wheel set with new roller bearings and reconditioned/ secondhand axle",0,0.83699999999999997,"TURNED WHEEL SET 33 INCH, 6 X 11 AXLE",1320.75,0,0,118.22,1438.97]
[3336,"A","Wheel set with new roller bearings and new axle",0,0.83699999999999997,"NEW WHL SET 36 IN, 1-W  6 1/2 X 12 AXLE",2793.49,0,0,118.22,2911.7099999999996]
[3336,"B","Wheel set with reconditioned roller bearings and reconditioned/ secondhand axle",0,0.83699999999999997,"NEW WHL SET 36 IN, 1-W  6 1/2 X 12 AXLE",1500.46,0,0,118.22,1618.68]
[3336,"C","Wheel set with new roller bearings and reconditioned/secondhand axle",0,0.83699999999999997,"NEW WHL SET 36 IN, 1-W  6 1/2 X 12 AXLE",2007.91,0,0,118.22,2126.13]
[3336,"D","Wheel set with reconditioned roller bearings and new axle",0,0.83699999999999997,"NEW WHL SET 36 IN, 1-W  6 1/2 X 12 AXLE",2286.04,0,0,118.22,2404.2599999999998]
[3337,"A","Wheel set with new roller bearings and new axle",0,0.83699999999999997,"TURNED WHEEL SET 36 IN, 6 1/2 X 12 AXLE",1829.77,0,0,118.22,1947.99]
[3337,"B","Wheel set with reconditioned roller bearings and reconditioned/ secondhand axle",0,0.83699999999999997,"TURNED WHEEL SET 36 IN, 6 1/2 X 12 AXLE",536.74,0,0,118.22,654.96]
[3337,"C","Wheel set with new roller bearings and reconditioned/secondhand axle",0,0.83699999999999997,"TURNED WHEEL SET 36 IN, 6 1/2 X 12 AXLE",1044.19,0,0,118.22,1162.4100000000001]
[3337,"D","Wheel set with reconditioned roller bearings and new axle",0,0.83699999999999997,"TURNED WHEEL SET 36 IN, 6 1/2 X 12 AXLE",1322.32,0,0,118.22,1440.54]
[3337,"F","Purchased core wheel set with reconditioned roller bearings and reconditioned/secondhand axle",0,0.83699999999999997,"TURNED WHEEL SET 36 IN, 6 1/2 X 12 AXLE",975.94,0,0,118.22,1094.1600000000001]
[3337,"G","Purchased core wheel set with new roller bearings and reconditioned/ secondhand axle",0,0.83699999999999997,"TURNED WHEEL SET 36 IN, 6 1/2 X 12 AXLE",1483.39,0,0,118.22,1601.6100000000001]
[3338,"A","Wheel set with new roller bearings and new axle",0,0.83699999999999997,"NEW WHEEL SET 38 INCH, 7 X 12 AXLE",3518.87,0,0,118.22,3637.0899999999997]
[3338,"B","Wheel set with reconditioned roller bearings and reconditioned/ secondhand axle",0,0.83699999999999997,"NEW WHEEL SET 38 INCH, 7 X 12 AXLE",1924,0,0,118.22,2042.22]
[3338,"C","Wheel set with new roller bearings and reconditioned/secondhand axle",0,0.83699999999999997,"NEW WHEEL SET 38 INCH, 7 X 12 AXLE",2566.87,0,0,118.22,2685.0899999999997]
[3338,"D","Wheel set with reconditioned roller bearings and new axle",0,0.83699999999999997,"NEW WHEEL SET 38 INCH, 7 X 12 AXLE",2875,0,0,118.22,2993.22]
[3339,"A","Wheel set with new roller bearings and new axle",0,0.83699999999999997,"TURNED WHEEL SET 38 INCH, 7 X 12 AXLE",2253.38,0,0,118.22,2371.6]
[3339,"B","Wheel set with reconditioned roller bearings and reconditioned/ secondhand axle",0,0.83699999999999997,"TURNED WHEEL SET 38 INCH, 7 X 12 AXLE",659.51,0,0,118.22,777.73]
[3339,"C","Wheel set with new roller bearings and reconditioned/secondhand axle",0,0.83699999999999997,"TURNED WHEEL SET 38 INCH, 7 X 12 AXLE",1302.3800000000001,0,0,118.22,1420.6000000000001]
[3339,"D","Wheel set with reconditioned roller bearings and new axle",0,0.83699999999999997,"TURNED WHEEL SET 38 INCH, 7 X 12 AXLE",1610.51,0,0,118.22,1728.73]
[3339,"F","Purchased core wheel set with reconditioned roller bearings and reconditioned/secondhand axle",0,0.83699999999999997,"TURNED WHEEL SET 38 INCH, 7 X 12 AXLE",1316.28,0,0,118.22,1434.5]
[3339,"G","Purchased core wheel set with new roller bearings and reconditioned/ secondhand axle",0,0.83699999999999997,"TURNED WHEEL SET 38 INCH, 7 X 12 AXLE",1959.15,0,0,118.22,2077.37]
[3340,"A","Wheel set with new roller bearings and new axle",0,0.83699999999999997,"NEW WHL SET 36,  2-W  6 1/2 X 12 AXLE",2946.82,0,0,118.22,3065.04]
[3340,"B","Wheel set with reconditioned roller bearings and reconditioned/ secondhand axle",0,0.83699999999999997,"NEW WHL SET 36,  2-W  6 1/2 X 12 AXLE",1653.79,0,0,118.22,1772.01]
[3340,"C","Wheel set with new roller bearings and reconditioned/secondhand axle",0,0.83699999999999997,"NEW WHL SET 36,  2-W  6 1/2 X 12 AXLE",2161.2399999999998,0,0,118.22,2279.4599999999996]
[3340,"D",{"$f":"VLOOKUP(B2123,$B$2686:$C$2701,2,FALSE)","v":"Wheel set with reconditioned roller bearings and new axle"},0,0.83699999999999997,"NEW WHL SET 36,  2-W  6 1/2 X 12 AXLE",2439.37,0,0,118.22,2557.5899999999997]
[3341,"A","Wheel set with new roller bearings and new axle",0,0.83699999999999997,"NEW  WHL SET 36 IN,  1-W 6 1/2 X 9 AXLE",2696.91,0,0,118.22,{"$f":"G2124+J2124","v":2815.1299999999997}]
[3341,"B","Wheel set with reconditioned roller bearings and reconditioned/ secondhand axle",0,0.83699999999999997,"NEW  WHL SET 36 IN,  1-W 6 1/2 X 9 AXLE",1437.26,0,0,118.22,1555.48]
[3341,"C","Wheel set with new roller bearings and reconditioned/secondhand axle",0,0.83699999999999997,"NEW  WHL SET 36 IN,  1-W 6 1/2 X 9 AXLE",1932.09,0,0,118.22,2050.31]
[3341,"D","Wheel set with reconditioned roller bearings and new axle",0,0.83699999999999997,"NEW  WHL SET 36 IN,  1-W 6 1/2 X 9 AXLE",2202.08,0,0,118.22,2320.2999999999997]
[3342,"A","Wheel set with new roller bearings and new axle",0,0.83699999999999997,"TURNED WHL SET 36 IN, 6 1/2 X 9 AXLE",1774.68,0,0,118.22,1892.9]
[3342,"B","Wheel set with reconditioned roller bearings and reconditioned/ secondhand axle",0,0.83699999999999997,"TURNED WHL SET 36 IN, 6 1/2 X 9 AXLE",515.03,0,0,118.22,633.25]
[3342,"C","Wheel set with new roller bearings and reconditioned/secondhand axle",0,0.83699999999999997,"TURNED WHL SET 36 IN, 6 1/2 X 9 AXLE",1009.86,0,0,118.22,1128.08]
[3342,"D","Wheel set with reconditioned roller bearings and new axle",0,0.83699999999999997,"TURNED WHL SET 36 IN, 6 1/2 X 9 AXLE",1279.8499999999999,0,0,118.22,1398.07]
[3342,"F","Purchased core wheel set with reconditioned roller bearings and reconditioned/secondhand axle",0,0.83699999999999997,"TURNED WHL SET 36 IN, 6 1/2 X 9 AXLE",932.87,0,0,118.22,1051.0899999999999]
[3342,"G","Purchased core wheel set with new roller bearings and reconditioned/ secondhand axle",0,0.83699999999999997,"TURNED WHL SET 36 IN, 6 1/2 X 9 AXLE",1427.7,0,0,118.22,1545.92]
[3343,"A","Wheel set with new roller bearings and new axle",0,0.83699999999999997,"NEW WHL SET 36, 2-W  6 1/2 X 9 AXLE",2850.24,0,0,118.22,2968.4599999999996]
[3343,"B","Wheel set with reconditioned roller bearings and reconditioned/ secondhand axle",0,0.83699999999999997,"NEW WHL SET 36, 2-W  6 1/2 X 9 AXLE",1590.59,0,0,118.22,1708.81]
[3343,"C","Wheel set with new roller bearings and reconditioned/secondhand axle",0,0.83699999999999997,"NEW WHL SET 36, 2-W  6 1/2 X 9 AXLE",2085.42,0,0,118.22,2203.64]
[3343,"D","Wheel set with reconditioned roller bearings and new axle",0,0.83699999999999997,"NEW WHL SET 36, 2-W  6 1/2 X 9 AXLE",2355.41,0,0,118.22,2473.6299999999997]
[3344,"B","Wheel set with reconditioned roller bearings and reconditioned/ secondhand axle",0,0.83699999999999997,"NEW WHL SET 36 IN, 1-W  6 1/2 X 12 AXLE, UBR",1579.38,0,0,118.22,1697.6000000000001]
[3344,"C","Wheel set with new roller bearings and reconditioned/secondhand axle",0,0.83699999999999997,"NEW WHL SET 36 IN, 1-W  6 1/2 X 12 AXLE, UBR",2127.13,0,0,118.22,2245.35]
[3345,"B","Wheel set with reconditioned roller bearings and reconditioned/ secondhand axle",0,0.83699999999999997,"TURNED WHEEL SET 36 IN, 6 1/2 X 12 AXLE, UBR",615.66,0,0,118.22,733.88]
[3345,"C","Wheel set with new roller bearings and reconditioned/secondhand axle",0,0.83699999999999997,"TURNED WHEEL SET 36 IN, 6 1/2 X 12 AXLE, UBR",1163.4100000000001,0,0,118.22,1281.6300000000001]
[3345,"F","Purchased core wheel set with reconditioned roller bearings and reconditioned/secondhand axle",0,0.83699999999999997,"TURNED WHEEL SET 36 IN, 6 1/2 X 12 AXLE, UBR",1054.8599999999999,0,0,118.22,1173.08]
[3345,"G","Purchased core wheel set with new roller bearings and reconditioned/ secondhand axle",0,0.83699999999999997,"TURNED WHEEL SET 36 IN, 6 1/2 X 12 AXLE, UBR",1602.61,0,0,118.22,1720.83]
[3346,"B","Wheel set with reconditioned roller bearings and reconditioned/ secondhand axle",0,0.83699999999999997,"NEW WHL SET 36,  2-W  6 1/2 X 12 AXLE,  UBR",1732.71,0,0,118.22,1850.93]
[3346,"C","Wheel set with new roller bearings and reconditioned/secondhand axle",0,0.83699999999999997,"NEW WHL SET 36,  2-W  6 1/2 X 12 AXLE,  UBR",2280.46,0,0,118.22,2398.6799999999998]
[3347,"B","Wheel set with reconditioned roller bearings and reconditioned/ secondhand axle",0,0.83699999999999997,"NEW WHEEL SET 33 INCH, 1W 6 X 11 AXLE, UBR",1514.45,0,0,118.22,1632.67]
[3347,"C","Wheel set with new roller bearings and reconditioned/secondhand axle",0,0.83699999999999997,"NEW WHEEL SET 33 INCH, 1W 6 X 11 AXLE, UBR",1957.17,0,0,118.22,2075.39]
[3348,"B","Wheel set with reconditioned roller bearings and reconditioned/ secondhand axle",0,0.83699999999999997,"TURNED WHEEL SET 33 INCH, 6 X 11 AXLE, UBR",587.45000000000005,0,0,118.22,705.67000000000007]
[3348,"C","Wheel set with new roller bearings and reconditioned/secondhand axle",0,0.83699999999999997,"TURNED WHEEL SET 33 INCH, 6 X 11 AXLE, UBR",1030.17,0,0,118.22,1148.3900000000001]
[3348,"F","Purchased core wheel set with reconditioned roller bearings and reconditioned/secondhand axle",0,0.83699999999999997,"TURNED WHEEL SET 33 INCH, 6 X 11 AXLE, UBR",986.97,0,0,118.22,1105.19]
[3348,"G","Purchased core wheel set with new roller bearings and reconditioned/ secondhand axle",0,0.83699999999999997,"TURNED WHEEL SET 33 INCH, 6 X 11 AXLE, UBR",1429.69,0,0,118.22,1547.91]
[3349,"B","Wheel set with reconditioned roller bearings and reconditioned/ secondhand axle",0,0.83699999999999997,"NEW WHEEL SET 28 INCH, 1W 6 X 11 AXLE, UBR",1538.38,0,0,118.22,1656.6000000000001]
[3349,"C","Wheel set with new roller bearings and reconditioned/secondhand axle",0,0.83699999999999997,"NEW WHEEL SET 28 INCH, 1W 6 X 11 AXLE, UBR",1981.1,0,0,118.22,2099.3199999999997]
[3350,"B","Wheel set with reconditioned roller bearings and reconditioned/ secondhand axle",0,0.83699999999999997,"TURNED WHEEL SET 28 INCH, 6 X 11 AXLE, UBR",558.64,0,0,118.22,676.86]
[3350,"C","Wheel set with new roller bearings and reconditioned/secondhand axle",0,0.83699999999999997,"TURNED WHEEL SET 28 INCH, 6 X 11 AXLE, UBR",1001.36,0,0,118.22,1119.58]
[3350,"F","Purchased core wheel set with reconditioned roller bearings and reconditioned/secondhand axle",0,0.83699999999999997,"TURNED WHEEL SET 28 INCH, 6 X 11 AXLE, UBR",1017.98,0,0,118.22,1136.2]
[3350,"G","Purchased core wheel set with new roller bearings and reconditioned/ secondhand axle",0,0.83699999999999997,"TURNED WHEEL SET 28 INCH, 6 X 11 AXLE, UBR",1460.7,0,0,118.22,1578.92]
[3352,"B","Wheel set with reconditioned roller bearings and reconditioned/ secondhand axle",0,0.83699999999999997,"NEW WHL SET 36 IN, 1-W  6 1/2 X 9 AXLE, UBR",1516.6,0,0,118.22,1634.82]
[3352,"C","Wheel set with new roller bearings and reconditioned/secondhand axle",0,0.83699999999999997,"NEW WHL SET 36 IN, 1-W  6 1/2 X 9 AXLE, UBR",2044.89,0,0,118.22,2163.11]
[3353,"B","Wheel set with reconditioned roller bearings and reconditioned/ secondhand axle",0,0.83699999999999997,"TURNED WHEEL SET 36 IN, 6 1/2 X 9 AXLE, UBR",594.37,0,0,118.22,712.59]
[3353,"C","Wheel set with new roller bearings and reconditioned/secondhand axle",0,0.83699999999999997,"TURNED WHEEL SET 36 IN, 6 1/2 X 9 AXLE, UBR",1122.6600000000001,0,0,118.22,1240.8800000000001]
[3353,"F","Purchased core wheel set with reconditioned roller bearings and reconditioned/secondhand axle",0,0.83699999999999997,"TURNED WHEEL SET 36 IN, 6 1/2 X 9 AXLE, UBR",1012.21,0,0,118.22,1130.43]
[3353,"G","Purchased core wheel set with new roller bearings and reconditioned/ secondhand axle",0,0.83699999999999997,"TURNED WHEEL SET 36 IN, 6 1/2 X 9 AXLE, UBR",1540.5,0,0,118.22,1658.72]
[3354,"B","Wheel set with reconditioned roller bearings and reconditioned/ secondhand axle",0,0.83699999999999997,"NEW WHL SET 36,  2-W  6 1/2 X 9 AXLE, UBR",1669.93,0,0,118.22,1788.15]
[3354,"C","Wheel set with new roller bearings and reconditioned/secondhand axle",0,0.83699999999999997,"NEW WHL SET 36,  2-W  6 1/2 X 9 AXLE, UBR",2198.2199999999998,0,0,118.22,2316.4399999999996]
[3360,"A","Wheel set with new roller bearings and new axle",0,0.83699999999999997,"NEW WHEEL SET 33 INCH 1-W, 6 X 11 AXLE, CLASS D",2593.85,0,0,118.22,2712.0699999999997]
[3360,"B","Wheel set with reconditioned roller bearings and reconditioned/ secondhand axle",0,0.83699999999999997,"NEW WHEEL SET 33 INCH 1-W, 6 X 11 AXLE, CLASS D",1736.02,0,0,118.22,1854.24]
[3360,"C","Wheel set with new roller bearings and reconditioned/secondhand axle",0,0.83699999999999997,"NEW WHEEL SET 33 INCH 1-W, 6 X 11 AXLE, CLASS D",2151.54,0,0,118.22,2269.7599999999998]
[3360,"D","Wheel set with reconditioned roller bearings and new axle",0,0.83699999999999997,"NEW WHEEL SET 33 INCH 1-W, 6 X 11 AXLE, CLASS D",2178.33,0,0,118.22,2296.5499999999997]
[3362,"B","Wheel set with reconditioned roller bearings and reconditioned/ secondhand axle",0,0.83699999999999997,"NEW WHL SET 33-IN 1-W, 6 X 11 AXLE, CLASS D, UBR",1817.76,0,0,118.22,1935.98]
[3362,"C","Wheel set with new roller bearings and reconditioned/secondhand axle",0,0.83699999999999997,"NEW WHL SET 33-IN 1-W, 6 X 11 AXLE, CLASS D, UBR",2260.48,0,0,118.22,2378.6999999999998]
[3366,"A","Wheel set with new roller bearings and new axle",0,0.83699999999999997,"NEW WHL SET 36 IN, 1-W  6 1/2 X 12 AXLE, CLASS D",3082.65,0,0,118.22,3200.87]
[3366,"B","Wheel set with reconditioned roller bearings and reconditioned/ secondhand axle",0,0.83699999999999997,"NEW WHL SET 36 IN, 1-W  6 1/2 X 12 AXLE, CLASS D",1789.62,0,0,118.22,1907.84]
[3366,"C","Wheel set with new roller bearings and reconditioned/secondhand axle",0,0.83699999999999997,"NEW WHL SET 36 IN, 1-W  6 1/2 X 12 AXLE, CLASS D",2297.0700000000002,0,0,118.22,2415.29]
[3366,"D","Wheel set with reconditioned roller bearings and new axle",0,0.83699999999999997,"NEW WHL SET 36 IN, 1-W  6 1/2 X 12 AXLE, CLASS D",2575.1999999999998,0,0,118.22,2693.4199999999996]
[3368,"A","Wheel set with new roller bearings and new axle",0,0.83699999999999997,"NEW WHL SET 38 IN, 1-W  7 X 12 AXLE, CLASS D",3906.06,0,0,118.22,4024.2799999999997]
[3368,"B","Wheel set with reconditioned roller bearings and reconditioned/ secondhand axle",0,0.83699999999999997,"NEW WHL SET 38 IN, 1-W  7 X 12 AXLE, CLASS D",2312.19,0,0,118.22,2430.41]
[3368,"C","Wheel set with new roller bearings and reconditioned/secondhand axle",0,0.83699999999999997,"NEW WHL SET 38 IN, 1-W  7 X 12 AXLE, CLASS D",2955.06,0,0,118.22,3073.2799999999997]
[3368,"D","Wheel set with reconditioned roller bearings and new axle",0,0.83699999999999997,"NEW WHL SET 38 IN, 1-W  7 X 12 AXLE, CLASS D",3263.19,0,0,118.22,3381.41]
[3370,"A","Wheel set with new roller bearings and new axle",0,0.83699999999999997,"NEW WHL SET 36 IN, 2-W  6 1/2 X 12 AXLE, CLASS D",3255.31,0,0,118.22,3373.5299999999997]
[3370,"B","Wheel set with reconditioned roller bearings and reconditioned/ secondhand axle",0,0.83699999999999997,"NEW WHL SET 36 IN, 2-W  6 1/2 X 12 AXLE, CLASS D",1962.28,0,0,118.22,2080.5]
[3370,"C","Wheel set with new roller bearings and reconditioned/secondhand axle",0,0.83699999999999997,"NEW WHL SET 36 IN, 2-W  6 1/2 X 12 AXLE, CLASS D",2469.73,0,0,118.22,2587.9499999999998]
[3370,"D","Wheel set with reconditioned roller bearings and new axle",0,0.83699999999999997,"NEW WHL SET 36 IN, 2-W  6 1/2 X 12 AXLE, CLASS D",2747.86,0,0,118.22,2866.08]
[3371,"A","Wheel set with new roller bearings and new axle",0,0.83699999999999997,"NEW WHL SET 36 IN, 1-W  6 1/2 X 9 AXLE, CLASS D",2986.07,0,0,118.22,3104.29]
[3371,"B","Wheel set with reconditioned roller bearings and reconditioned/ secondhand axle",0,0.83699999999999997,"NEW WHL SET 36 IN, 1-W  6 1/2 X 9 AXLE, CLASS D",1726.42,0,0,118.22,1844.64]
[3371,"C","Wheel set with new roller bearings and reconditioned/secondhand axle",0,0.83699999999999997,"NEW WHL SET 36 IN, 1-W  6 1/2 X 9 AXLE, CLASS D",2221.25,0,0,118.22,2339.4699999999998]
[3371,"D",{"$f":"VLOOKUP(B2187,$B$2686:$C$2701,2,FALSE)","v":"Wheel set with reconditioned roller bearings and new axle"},0,0.83699999999999997,"NEW WHL SET 36 IN, 1-W  6 1/2 X 9 AXLE, CLASS D",2491.2399999999998,0,0,118.22,2609.4599999999996]
[3373,"A","Wheel set with new roller bearings and new axle",0,0.83699999999999997,"NEW WHL SET 36 IN, 2-W  6 1/2 X 9 AXLE, CLASS D",3158.73,0,0,118.22,{"$f":"G2188+J2188","v":3276.95}]
[3373,"B","Wheel set with reconditioned roller bearings and reconditioned/ secondhand axle",0,0.83699999999999997,"NEW WHL SET 36 IN, 2-W  6 1/2 X 9 AXLE, CLASS D",1899.08,0,0,118.22,2017.3]
[3373,"C","Wheel set with new roller bearings and reconditioned/secondhand axle",0,0.83699999999999997,"NEW WHL SET 36 IN, 2-W  6 1/2 X 9 AXLE, CLASS D",2393.91,0,0,118.22,2512.1299999999997]
[3373,"D","Wheel set with reconditioned roller bearings and new axle",0,0.83699999999999997,"NEW WHL SET 36 IN, 2-W  6 1/2 X 9 AXLE, CLASS D",2663.9,0,0,118.22,2782.12]
[3374,"B","Wheel set with reconditioned roller bearings and reconditioned/ secondhand axle",0,0.83699999999999997,"NEW WHLSET 36 IN 1-W  6 1/2 X 12 AXLE CLASS D UBR",1868.54,0,0,118.22,1986.76]
[3374,"C","Wheel set with new roller bearings and reconditioned/secondhand axle",0,0.83699999999999997,"NEW WHLSET 36 IN 1-W  6 1/2 X 12 AXLE CLASS D UBR",2416.29,0,0,118.22,2534.5099999999998]
[3376,"B","Wheel set with reconditioned roller bearings and reconditioned/ secondhand axle",0,0.83699999999999997,"NEW WHLSET 36 IN 2-W  6 1/2 X 12 AXLE CLASS D UBR",2041.2,0,0,118.22,2159.42]
[3376,"C","Wheel set with new roller bearings and reconditioned/secondhand axle",0,0.83699999999999997,"NEW WHLSET 36 IN 2-W  6 1/2 X 12 AXLE CLASS D UBR",2588.9499999999998,0,0,118.22,2707.1699999999996]
[3377,"B","Wheel set with reconditioned roller bearings and reconditioned/ secondhand axle",0,0.83699999999999997,"NEW WHLSET 36 IN,1-W  6 1/2 X 9 AXLE CLASS D UBR",1805.76,0,0,118.22,1923.98]
[3377,"C","Wheel set with new roller bearings and reconditioned/secondhand axle",0,0.83699999999999997,"NEW WHLSET 36 IN,1-W  6 1/2 X 9 AXLE CLASS D UBR",2334.0500000000002,0,0,118.22,2452.27]
[3379,"B","Wheel set with reconditioned roller bearings and reconditioned/ secondhand axle",0,0.83699999999999997,"NEW WHLSET 36 IN 2-W  6 1/2 X 9 AXLE CLASS D UBR",1978.42,0,0,118.22,2096.64]
[3379,"C","Wheel set with new roller bearings and reconditioned/secondhand axle",0,0.83699999999999997,"NEW WHLSET 36 IN 2-W  6 1/2 X 9 AXLE CLASS D UBR",2506.71,0,0,118.22,2624.93]
[3399,"T","Component transfer",0,0,"WHEEL SET TRANSFER",0,0,0,0,0]
[3470,1,"New Material Applied",0,5.04,"GROUP COC-1",3127.84,68.53,0,711.85,3839.69]
[3470,3,"Reconditioned or Recertified Material Applied",0,5.04,"GROUP COC-1",2060.35,0,0,711.85,2772.2]
[3470,9,"Remove and replace same part",0,4.5830000000000002,"GROUP COC-1",45.56,0,0,647.29999999999995,692.8599999999999]
[3472,1,"New Material Applied",0,5.04,"GROUP COC-2",3375.35,68.53,0,711.85,4087.2]
[3472,3,"Reconditioned or Recertified Material Applied",0,5.04,"GROUP COC-2",2216.7800000000002,0,0,711.85,2928.63]
[3472,9,"Remove and replace same part",0,4.5830000000000002,"GROUP COC-2",45.56,0,0,647.29999999999995,692.8599999999999]
[3476,1,"New Material Applied",0,5.04,"GROUP COC-4",2108.9699999999998,68.53,0,711.85,2820.8199999999997]
[3476,3,"Reconditioned or Recertified Material Applied",0,5.04,"GROUP COC-4",1134.44,0,0,711.85,1846.29]
[3476,9,"Remove and replace same part",0,4.5830000000000002,"GROUP COC-4",45.56,0,0,647.29999999999995,692.8599999999999]
[3480,1,"New Material Applied",0,5.04,"GROUP COC-6",2673.55,148.5,0,711.85,3385.4]
[3480,3,"Reconditioned or Recertified Material Applied",0,5.04,"GROUP COC-6",1383.29,0,0,711.85,2095.14]
[3480,9,"Remove and replace same part",0,4.5830000000000002,"GROUP COC-6",45.56,0,0,647.29999999999995,692.8599999999999]
[3520,1,"New Material Applied",0,1.861,"TRUCK BOLSTER-70 TON",1444.13,115.5,0,262.85000000000002,1706.98]
[3520,2,"Secondhand Material Applied",0,1.861,"TRUCK BOLSTER-70 TON",530.41,0,0,262.85000000000002,793.26]
[3520,3,"Reconditioned or Recertified Material Applied",0,1.861,"TRUCK BOLSTER-70 TON",802.89,0,0,262.85000000000002,1065.74]
[3520,"T","Component transfer",0,0,"TRUCK BOLSTER-70 TON",0,0,0,0,0]
[3524,1,"New Material Applied",0,1.861,"TRUCK BOLSTER-100 OR 110 TON",1228.67,137.5,0,262.85000000000002,1491.52]
[3524,2,"Secondhand Material Applied",0,1.861,"TRUCK BOLSTER-100 OR 110 TON",529.37,0,0,262.85000000000002,792.22]
[3524,3,"Reconditioned or Recertified Material Applied",0,1.861,"TRUCK BOLSTER-100 OR 110 TON",801.31,0,0,262.85000000000002,1064.1599999999999]
[3524,"T","Component transfer",0,0,"TRUCK BOLSTER-100 OR 110 TON",0,0,0,0,0]
[3528,1,"New Material Applied",0,1.861,"TRUCK BOLSTER-125 TON",1639.97,183.15,0,262.85000000000002,1902.8200000000002]
[3528,2,"Secondhand Material Applied",0,1.861,"TRUCK BOLSTER-125 TON",812.54,0,0,262.85000000000002,1075.3899999999999]
[3528,3,"Reconditioned or Recertified Material Applied",0,1.861,"TRUCK BOLSTER-125 TON",1230.3499999999999,0,0,262.85000000000002,1493.1999999999998]
[3528,"T","Component transfer",0,0,"TRUCK BOLSTER-125 TON",0,0,0,0,0]
[3560,1,"New Material Applied",0,0.10100000000000001,"CENTER PIN",7.13,1.32,0,14.27,21.4]
[3560,2,"Secondhand Material Applied",0,0.10100000000000001,"CENTER PIN",7.13,1.32,0,14.27,21.4]
[3562,0,"Labor attention such as: \nactual labor, replacing or rechanging doors, welding, vacant, painting or stenciling, other labor attention",0,0,"CENTER BOWL HORIZONTAL LINER, NON-METALLIC",0,0,0,0,0]
[3562,1,"New Material Applied",0,0.14399999999999999,"CENTER BOWL HORIZONTAL LINER, NON-METALLIC",19.28,0,0,20.34,39.620000000000005]
[3564,0,"Labor attention such as: \nactual labor, replacing or rechanging doors, welding, vacant, painting or stenciling, other labor attention",0,0,"FULL BOWL LINER, NON-METALLIC",0,0,0,0,0]
[3564,1,"New Material Applied",0,0.14399999999999999,"FULL BOWL LINER, NON-METALLIC",40.99,0,0,20.34,61.33]
[3566,1,"New Material Applied",0,0.54900000000000004,"VERTICAL WEAR LINER - CARBON STEEL",41.26,0.44,0,77.540000000000006,118.80000000000001]
[3566,9,"Remove and replace same part",0,0.313,"VERTICAL WEAR LINER - CARBON STEEL",0,0,0,44.21,44.21]
[3567,1,"New Material Applied",0,0.54900000000000004,"VERTICAL WEAR LINER - STAINLESS STEEL",35.549999999999997,0.44,0,77.540000000000006,113.09]
[3567,9,"Remove and replace same part",0,0.313,"VERTICAL WEAR LINER - STAINLESS STEEL",0,0,0,44.21,44.21]
[3570,0,"Labor attention such as: \nactual labor, replacing or rechanging doors, welding, vacant, painting or stenciling, other labor attention",0,0.14399999999999999,"CENTER BOWL LINER, METALLIC",0,0,0,20.34,20.34]
[3570,1,"New Material Applied",0,0.14399999999999999,"CENTER BOWL LINER, METALLIC",14.92,0,0,20.34,35.26]
[3571,0,"Labor attention such as: \nactual labor, replacing or rechanging doors, welding, vacant, painting or stenciling, other labor attention",0,0,"FULL BOWL LINER, METALLIC",0,0,0,0,0]
[3571,1,"New Material Applied",0,0.14399999999999999,"FULL BOWL LINER, METALLIC",101.31,0,0,20.34,121.65]
[3572,1,"New Material Applied",0,7.5999999999999998E-2,"TRK SIDE BEARING ROLLER OR FRICT BLOCK",14.18,1.32,0,10.73,24.91]
[3572,2,"Secondhand Material Applied",0,7.5999999999999998E-2,"TRK SIDE BEARING ROLLER OR FRICT BLOCK",7.09,1.32,0,10.73,17.82]
[3576,1,"New Material Applied",0,0.44800000000000001,"TRK SIDE BEARING HOUSING",48.79,2.09,0,63.28,112.07]
[3576,2,"Secondhand Material Applied",0,0.44800000000000001,"TRK SIDE BEARING HOUSING",26.45,2.09,0,63.28,89.73]
[3580,1,"New Material Applied",0,0.44800000000000001,"TRK SIDE BEARING ROLLER HOUSING DOUBLE",46.11,2.2000000000000002,0,63.28,109.39]
[3580,2,"Secondhand Material Applied",0,0.44800000000000001,"TRK SIDE BEARING ROLLER HOUSING DOUBLE",25.11,2.2000000000000002,0,63.28,88.39]
[3582,1,"New Material Applied",8.2000000000000003E-2,0.20300000000000001,"FRICTION CASTING - RIDE CONTROL",41.15,0.55000000000000004,11.58,28.67,69.819999999999993]
[3582,2,"Secondhand Material Applied",8.2000000000000003E-2,0.20300000000000001,"FRICTION CASTING - RIDE CONTROL",20.65,0.55000000000000004,11.58,28.67,49.32]
[3583,1,"New Material Applied",8.2000000000000003E-2,0.20300000000000001,"FRICTION CASTING - XCR",96.5,3.85,11.58,28.67,125.17]
[3583,2,"Secondhand Material Applied",8.2000000000000003E-2,0.20300000000000001,"FRICTION CASTING - XCR",48.33,3.85,11.58,28.67,77]
[3584,1,"New Material Applied",7.8E-2,0.20300000000000001,"FRICTION CASTING - STABILIZED TRUCK",37.72,1.21,11.02,28.67,66.39]
[3584,2,"Secondhand Material Applied",7.8E-2,0.20300000000000001,"FRICTION CASTING - STABILIZED TRUCK",18.940000000000001,1.21,11.02,28.67,47.61]
[3585,1,{"$f":"VLOOKUP(B2251,$B$2686:$C$2701,2,FALSE)","v":"New Material Applied"},7.8E-2,0.20300000000000001,"FRICTION CASTING - SWING MOTION TRUCK",107.88,2.5299999999999998,11.02,28.67,136.55000000000001]
[3585,2,"Secondhand Material Applied",7.8E-2,0.20300000000000001,"FRICTION CASTING - SWING MOTION TRUCK",54.02,2.5299999999999998,11.02,28.67,{"$f":"G2252+J2252","v":82.69}]
[3588,0,"Labor attention such as: \nactual labor, replacing or rechanging doors, welding, vacant, painting or stenciling, other labor attention",0.10299999999999999,0.33400000000000002,"TRUCK SIDE BEARING SHIM",3.96,0,14.55,47.17,51.13]
[3588,1,"New Material Applied",0.10299999999999999,0.33400000000000002,"TRUCK SIDE BEARING SHIM",14.44,0,14.55,47.17,61.61]
[3720,1,"New Material Applied",0,1.506,"SIDE FRAME-70 TON OR LESS",477.14,82.5,0,212.71,689.85]
[3720,2,"Secondhand Material Applied",0,1.506,"SIDE FRAME-70 TON OR LESS",285.3,82.5,0,212.71,498.01]
[3720,3,"Reconditioned or Recertified Material Applied",0,1.506,"SIDE FRAME-70 TON OR LESS",430.58,0,0,212.71,643.29]
[3720,"T","Component transfer",0,0,"SIDE FRAME-70 TON OR LESS",0,0,0,0,0]
[3724,1,"New Material Applied",0,1.506,"SIDE FRAME-100 OR 110 TON",846.84,99,0,212.71,1059.55]
[3724,2,"Secondhand Material Applied",0,1.506,"SIDE FRAME-100 OR 110 TON",409.52,0,0,212.71,622.23]
[3724,3,"Reconditioned or Recertified Material Applied",0,1.506,"SIDE FRAME-100 OR 110 TON",618.79,0,0,212.71,831.5]
[3724,"T","Component transfer",0,0,"SIDE FRAME-100 OR 110 TON",0,0,0,0,0]
[3728,1,"New Material Applied",0,1.506,"SIDE FRAME-125 TON",1041.22,117.15,0,212.71,1253.93]
[3728,2,"Secondhand Material Applied",0,1.506,"SIDE FRAME-125 TON",433.42,0,0,212.71,646.13]
[3728,3,"Reconditioned or Recertified Material Applied",0,1.506,"SIDE FRAME-125 TON",655.01,0,0,212.71,867.72]
[3728,"T","Component transfer",0,0,"SIDE FRAME-125 TON",0,0,0,0,0]
[3760,1,"New Material Applied",0,0.46600000000000003,"TRANSOM-MOUNTED INSIDE SIDE FRAME UNDER SPRINGS",976.27,26.84,0,65.819999999999993,1042.0899999999999]
[3760,2,"Secondhand Material Applied",0,0.46600000000000003,"TRANSOM-MOUNTED INSIDE SIDE FRAME UNDER SPRINGS",491.06,26.84,0,65.819999999999993,556.88]
[3760,9,"Remove and replace same part",0,0.25600000000000001,"TRANSOM-MOUNTED INSIDE SIDE FRAME UNDER SPRINGS",2.92,0,0,36.159999999999997,39.08]
[3762,1,"New Material Applied",0,0.45400000000000001,"TRANSOM-MOUNTED UNDER SIDEFRAMES",1076.8,20.9,0,64.12,1140.92]
[3762,2,"Secondhand Material Applied",0,0.45400000000000001,"TRANSOM-MOUNTED UNDER SIDEFRAMES",539.86,20.9,0,64.12,603.98]
[3762,9,"Remove and replace same part",0,0.24399999999999999,"TRANSOM-MOUNTED UNDER SIDEFRAMES",2.92,0,0,34.46,37.380000000000003]
[3772,1,"New Material Applied",7.8E-2,0.187,"TRK SD FR/BLSTR FRCT CAST WEAR PLT-RD CNTRL OR XCR",20.96,0,11.02,26.41,47.370000000000005]
[3774,1,"New Material Applied",7.8E-2,0.187,"TRK SD FR/BLSTR FRCT CAST WEAR PLT-BARBER/SWNG MTN",20.96,0,11.02,26.41,47.370000000000005]
[3778,1,"New Material Applied",0,0.247,"PEDESTAL ROOF LINER, CLIP ON TYPE",3.24,0.22,0,34.89,38.130000000000003]
[3904,1,"New Material Applied",0.105,0,"TRUCK SPRING, OUTER COIL, D3",12.71,2.31,14.83,0,12.71]
[3904,2,"Secondhand Material Applied",0.105,0,"TRUCK SPRING, OUTER COIL, D3",6.43,2.31,14.83,0,6.43]
[3904,3,"Reconditioned or Recertified Material Applied",0.105,0,"TRUCK SPRING, OUTER COIL, D3",8.31,2.31,14.83,0,8.31]
[3908,1,"New Material Applied",0.105,0,"TRUCK SPRING, OUTER COIL, D4",12.66,2.2000000000000002,14.83,0,12.66]
[3908,2,"Secondhand Material Applied",0.105,0,"TRUCK SPRING, OUTER COIL, D4",6.41,2.2000000000000002,14.83,0,6.41]
[3908,3,"Reconditioned or Recertified Material Applied",0.105,0,"TRUCK SPRING, OUTER COIL, D4",8.2799999999999994,2.2000000000000002,14.83,0,8.2799999999999994]
[3912,1,"New Material Applied",0.105,0,"TRUCK SPRING, OUTER COIL, D5",14.82,2.2000000000000002,14.83,0,14.82]
[3912,2,"Secondhand Material Applied",0.105,0,"TRUCK SPRING, OUTER COIL, D5",7.49,2.2000000000000002,14.83,0,7.49]
[3912,3,"Reconditioned or Recertified Material Applied",0.105,0,"TRUCK SPRING, OUTER COIL, D5",9.69,2.2000000000000002,14.83,0,9.69]
[3914,1,"New Material Applied",0.105,0,"TRUCK SPRING,OUTER COIL, D7",12.1,2.31,14.83,0,12.1]
[3914,2,"Secondhand Material Applied",0.105,0,"TRUCK SPRING,OUTER COIL, D7",6.13,2.31,14.83,0,6.13]
[3914,3,"Reconditioned or Recertified Material Applied",0.105,0,"TRUCK SPRING,OUTER COIL, D7",7.92,2.31,14.83,0,7.92]
[3920,1,"New Material Applied",0.105,0,"TRUCK SPRING, INNER COIL, D3",5.68,0.88,14.83,0,5.68]
[3920,2,"Secondhand Material Applied",0.105,0,"TRUCK SPRING, INNER COIL, D3",2.92,0.88,14.83,0,2.92]
[3920,3,"Reconditioned or Recertified Material Applied",0.105,0,"TRUCK SPRING, INNER COIL, D3",3.74,0.88,14.83,0,3.74]
[3924,1,"New Material Applied",0.105,0,"TRUCK SPRING, INNER COIL, D4",5.76,0.88,14.83,0,5.76]
[3924,2,"Secondhand Material Applied",0.105,0,"TRUCK SPRING, INNER COIL, D4",2.96,0.88,14.83,0,2.96]
[3924,3,"Reconditioned or Recertified Material Applied",0.105,0,"TRUCK SPRING, INNER COIL, D4",3.8,0.88,14.83,0,3.8]
[3928,1,"New Material Applied",0.105,0,"TRUCK SPRING, INNER COIL, D5",6.63,0.88,14.83,0,6.63]
[3928,2,"Secondhand Material Applied",0.105,0,"TRUCK SPRING, INNER COIL, D5",3.39,0.88,14.83,0,3.39]
[3928,3,"Reconditioned or Recertified Material Applied",0.105,0,"TRUCK SPRING, INNER COIL, D5",4.3600000000000003,0.88,14.83,0,4.3600000000000003]
[3932,1,"New Material Applied",0.105,0,"TRUCK SPRING, INNER COIL, D6",5.74,0.88,14.83,0,5.74]
[3932,2,"Secondhand Material Applied",0.105,0,"TRUCK SPRING, INNER COIL, D6",2.95,0.88,14.83,0,2.95]
[3932,3,"Reconditioned or Recertified Material Applied",0.105,0,"TRUCK SPRING, INNER COIL, D6",3.78,0.88,14.83,0,3.78]
[3933,1,"New Material Applied",0.105,0,"TRUCK SPRING, INNER COIL, D6A",3.87,0.88,14.83,0,3.87]
[3933,2,"Secondhand Material Applied",0.105,0,"TRUCK SPRING, INNER COIL, D6A",2.0099999999999998,0.88,14.83,0,2.0099999999999998]
[3933,3,"Reconditioned or Recertified Material Applied",0.105,0,"TRUCK SPRING, INNER COIL, D6A",2.57,0.88,14.83,0,2.57]
[3934,1,"New Material Applied",0.105,0,"TRUCK SPRING, INNER COIL, D7",5.83,0.88,14.83,0,5.83]
[3934,2,"Secondhand Material Applied",0.105,0,"TRUCK SPRING, INNER COIL, D7",2.99,0.88,14.83,0,2.99]
[3934,3,"Reconditioned or Recertified Material Applied",0.105,0,"TRUCK SPRING, INNER COIL, D7",3.84,0.88,14.83,0,3.84]
[3940,1,"New Material Applied",7.8E-2,0,"TRK STABILIZING SPRING-BARBER OR SWING MOTION TRK",8.02,0.33,11.02,0,8.02]
[3940,2,"Secondhand Material Applied",7.8E-2,0,"TRK STABILIZING SPRING-BARBER OR SWING MOTION TRK",4.09,0.33,11.02,0,4.09]
[3942,1,"New Material Applied",8.2000000000000003E-2,0.20300000000000001,"TRUCK STABILIZING SPRING - RIDE CONTROL OR XCR TRK",8.02,0.33,11.58,28.67,36.69]
[3942,2,"Secondhand Material Applied",8.2000000000000003E-2,0.20300000000000001,"TRUCK STABILIZING SPRING - RIDE CONTROL OR XCR TRK",4.09,0.33,11.58,28.67,32.760000000000005]
[3952,1,"New Material Applied",0.105,0,"TRUCK SPRING FRICTION SNUBBER",216.55,4.62,14.83,0,216.55]
[3952,2,"Secondhand Material Applied",0.105,0,"TRUCK SPRING FRICTION SNUBBER",108.35,4.62,14.83,0,108.35]
[3954,1,"New Material Applied",0.105,0,"TRUCK SPRING HYDRAULIC SNUBBER",144.25,3.85,14.83,0,144.25]
[3954,3,"Reconditioned or Recertified Material Applied",0.105,0,"TRUCK SPRING HYDRAULIC SNUBBER",72.13,3.85,14.83,0,72.13]
[4001,1,"New Material Applied",0.19700000000000001,4.9000000000000002E-2,"METAL RUNNING BOARD, GRATE TYPE 20 IN WIDE OR LESS",18.649999999999999,0.88,27.82,6.92,25.57]
[4001,2,{"$f":"VLOOKUP(B2315,$B$2686:$C$2701,2,FALSE)","v":"Secondhand Material Applied"},0.19700000000000001,4.9000000000000002E-2,"METAL RUNNING BOARD, GRATE TYPE 20 IN WIDE OR LESS",9.69,0.88,27.82,6.92,16.61]
[4001,8,"Remove, repair, and replace same part",0.19700000000000001,4.9000000000000002E-2,"METAL RUNNING BOARD, GRATE TYPE 20 IN WIDE OR LESS",10.89,0,27.82,6.92,{"$f":"G2316+J2316","v":17.810000000000002}]
[4001,9,"Remove and replace same part",0.114,4.9000000000000002E-2,"METAL RUNNING BOARD, GRATE TYPE 20 IN WIDE OR LESS",0.73,0,16.100000000000001,6.92,7.65]
[4002,1,"New Material Applied",0.19700000000000001,4.9000000000000002E-2,"METAL RUNNING BOARD, GRATE TYPE OVER 20 INCH WIDE",15.82,0.88,27.82,6.92,22.740000000000002]
[4002,2,"Secondhand Material Applied",0.19700000000000001,4.9000000000000002E-2,"METAL RUNNING BOARD, GRATE TYPE OVER 20 INCH WIDE",8.2799999999999994,0.88,27.82,6.92,15.2]
[4002,8,"Remove, repair, and replace same part",0.19700000000000001,4.9000000000000002E-2,"METAL RUNNING BOARD, GRATE TYPE OVER 20 INCH WIDE",10.89,0,27.82,6.92,17.810000000000002]
[4002,9,"Remove and replace same part",0.114,4.9000000000000002E-2,"METAL RUNNING BOARD, GRATE TYPE OVER 20 INCH WIDE",0.73,0,16.100000000000001,6.92,7.65]
[4005,1,"New Material Applied",0.19700000000000001,4.9000000000000002E-2,"METAL RUNNING BOARD, PLATE TYPE 20 IN WIDE OR LESS",12.89,1.32,27.82,6.92,19.810000000000002]
[4005,2,"Secondhand Material Applied",0.19700000000000001,4.9000000000000002E-2,"METAL RUNNING BOARD, PLATE TYPE 20 IN WIDE OR LESS",6.81,1.32,27.82,6.92,13.73]
[4005,8,"Remove, repair, and replace same part",0.19700000000000001,4.9000000000000002E-2,"METAL RUNNING BOARD, PLATE TYPE 20 IN WIDE OR LESS",10.64,0,27.82,6.92,17.560000000000002]
[4005,9,"Remove and replace same part",0.114,4.9000000000000002E-2,"METAL RUNNING BOARD, PLATE TYPE 20 IN WIDE OR LESS",0.73,0,16.100000000000001,6.92,7.65]
[4006,1,"New Material Applied",0.19700000000000001,4.9000000000000002E-2,"METAL RUNNING BOARD, PLATE TYPE OVER 20 INCH WIDE",15.49,1.32,27.82,6.92,22.41]
[4006,2,"Secondhand Material Applied",0.19700000000000001,4.9000000000000002E-2,"METAL RUNNING BOARD, PLATE TYPE OVER 20 INCH WIDE",8.11,1.32,27.82,6.92,15.03]
[4006,8,"Remove, repair, and replace same part",0.19700000000000001,4.9000000000000002E-2,"METAL RUNNING BOARD, PLATE TYPE OVER 20 INCH WIDE",13.23,0,27.82,6.92,20.149999999999999]
[4006,9,"Remove and replace same part",0.114,4.9000000000000002E-2,"METAL RUNNING BOARD, PLATE TYPE OVER 20 INCH WIDE",0.73,0,16.100000000000001,6.92,7.65]
[4008,1,"New Material Applied",0,0.95599999999999996,"METAL RUNNING BOARD, END",175.51,10.23,0,135.03,310.53999999999996]
[4008,2,"Secondhand Material Applied",0,0.95599999999999996,"METAL RUNNING BOARD, END",102.62,10.23,0,135.03,237.65]
[4008,8,"Remove, repair, and replace same part",0,1.837,"METAL RUNNING BOARD, END",35.630000000000003,0,0,259.45999999999998,295.08999999999997]
[4008,9,"Remove and replace same part",0,0.79,"METAL RUNNING BOARD, END",8.76,0,0,111.58,120.34]
[4012,1,"New Material Applied",0,0.214,"METAL RUNNING BOARD, SIDE",28.11,1.21,0,30.23,58.34]
[4012,2,"Secondhand Material Applied",0,0.214,"METAL RUNNING BOARD, SIDE",14.61,1.21,0,30.23,44.84]
[4012,8,"Remove, repair, and replace same part",0,0.214,"METAL RUNNING BOARD, SIDE",15.07,0,0,30.23,45.3]
[4012,9,"Remove and replace same part",0,0.214,"METAL RUNNING BOARD, SIDE",1.1000000000000001,0,0,30.23,31.330000000000002]
[4017,1,"New Material Applied",0,0.42299999999999999,"METAL END CROSSOVER BOARD, 72 INCHES OR LESS",31.75,2.09,0,59.74,91.490000000000009]
[4017,2,"Secondhand Material Applied",0,0.42299999999999999,"METAL END CROSSOVER BOARD, 72 INCHES OR LESS",18.8,2.09,0,59.74,78.540000000000006]
[4017,8,"Remove, repair, and replace same part",0,0.42299999999999999,"METAL END CROSSOVER BOARD, 72 INCHES OR LESS",29.25,0,0,59.74,88.990000000000009]
[4017,9,"Remove and replace same part",0,0.31900000000000001,"METAL END CROSSOVER BOARD, 72 INCHES OR LESS",5.84,0,0,45.06,50.900000000000006]
[4018,1,"New Material Applied",0.13500000000000001,0.58099999999999996,"METAL END CROSSOVER BOARD, OVER 72 INCHES",56.78,4.4000000000000004,19.07,82.06,138.84]
[4018,2,"Secondhand Material Applied",0.13500000000000001,0.58099999999999996,"METAL END CROSSOVER BOARD, OVER 72 INCHES",31.31,4.4000000000000004,19.07,82.06,113.37]
[4018,8,"Remove, repair, and replace same part",0.13500000000000001,0.58099999999999996,"METAL END CROSSOVER BOARD, OVER 72 INCHES",49.02,0,19.07,82.06,131.08000000000001]
[4018,9,"Remove and replace same part",0,0.46200000000000002,"METAL END CROSSOVER BOARD, OVER 72 INCHES",5.84,0,0,65.25,71.09]
[4020,1,"New Material Applied",0,0.47199999999999998,"METAL BRAKE STEP",22.61,1.32,0,66.67,89.28]
[4020,2,"Secondhand Material Applied",0,0.47199999999999998,"METAL BRAKE STEP",12.77,1.32,0,66.67,79.44]
[4020,8,"Remove, repair, and replace same part",0,0.47199999999999998,"METAL BRAKE STEP",18.16,0,0,66.67,84.83]
[4020,9,"Remove and replace same part",0,0.47199999999999998,"METAL BRAKE STEP",2.92,0,0,66.67,69.59]
[4024,1,"New Material Applied",0.19700000000000001,4.9000000000000002E-2,"FBRGLASS RUN BRD, GRATE  OVER 12 UP TO 24 IN WIDE",31.36,0,27.82,6.92,38.28]
[4024,2,"Secondhand Material Applied",0.19700000000000001,4.9000000000000002E-2,"FBRGLASS RUN BRD, GRATE  OVER 12 UP TO 24 IN WIDE",16.05,0,27.82,6.92,22.97]
[4024,9,"Remove and replace same part",0.114,4.9000000000000002E-2,"FBRGLASS RUN BRD, GRATE  OVER 12 UP TO 24 IN WIDE",0.73,0,16.100000000000001,6.92,7.65]
[4026,1,"New Material Applied",0.19700000000000001,4.9000000000000002E-2,"FIBERGLASS RUN BRD, GRATE TYPE OVER 24 INCHES WIDE",46.65,0,27.82,6.92,53.57]
[4026,2,"Secondhand Material Applied",0.19700000000000001,4.9000000000000002E-2,"FIBERGLASS RUN BRD, GRATE TYPE OVER 24 INCHES WIDE",23.69,0,27.82,6.92,30.61]
[4026,9,"Remove and replace same part",0.114,4.9000000000000002E-2,"FIBERGLASS RUN BRD, GRATE TYPE OVER 24 INCHES WIDE",0.73,0,16.100000000000001,6.92,7.65]
[4070,1,"New Material Applied",0,1.8819999999999999,"LABOR, EOC  CUSHIONING   UNIT",24.12,0,0,265.81,289.93]
[4070,9,"Remove and replace same part",0,1.4,"LABOR, EOC  CUSHIONING   UNIT",24.12,0,0,197.74,221.86]
[4071,1,"New Material Applied",0,5.04,"LABOR,  COC CUSHIONING UNIT",45.56,0,0,711.85,757.41000000000008]
[4071,9,"Remove and replace same part",0,4.5830000000000002,"LABOR,  COC CUSHIONING UNIT",45.56,0,0,647.29999999999995,692.8599999999999]
[4074,1,"New Material Applied",0,0.30399999999999999,"LABOR, REPAIR EOCC RESTORING MECHANISM ON CAR",5.36,0,0,42.94,48.3]
[4080,1,"New Material Applied",0.56999999999999995,0,"SEPARABLE BODY CENTER PLATE 14 INCH",263.13,10.45,80.510000000000005,0,263.13]
[4080,2,"Secondhand Material Applied",0.56999999999999995,0,"SEPARABLE BODY CENTER PLATE 14 INCH",131.57,10.45,80.510000000000005,0,131.57]
[4081,1,"New Material Applied",0.56999999999999995,0,"SEPARABLE BODY CENTER PLATE 16 INCH",379.13,15.4,80.510000000000005,0,379.13]
[4081,2,"Secondhand Material Applied",0.56999999999999995,0,"SEPARABLE BODY CENTER PLATE 16 INCH",189.57,15.4,80.510000000000005,0,189.57]
[4082,1,"New Material Applied",0.56999999999999995,0,"LOW PROFILE BODY CENTER PLATE ANY SIZE",220.59,20.350000000000001,80.510000000000005,0,220.59]
[4082,2,"Secondhand Material Applied",0.56999999999999995,0,"LOW PROFILE BODY CENTER PLATE ANY SIZE",110.3,20.350000000000001,80.510000000000005,0,110.3]
[4090,1,"New Material Applied",0.11,7.6999999999999999E-2,"BODY SIDE BEARING",33.25,1.65,15.54,10.88,44.13]
[4090,2,"Secondhand Material Applied",0.11,7.6999999999999999E-2,"BODY SIDE BEARING",17.36,1.65,15.54,10.88,28.240000000000002]
[4092,0,"Labor attention such as: \nactual labor, replacing or rechanging doors, welding, vacant, painting or stenciling, other labor attention",0.19500000000000001,0,"BODY SIDE BEARING SHIM",3.96,0,27.54,0,3.96]
[4092,1,"New Material Applied",0.19500000000000001,0,"BODY SIDE BEARING SHIM",14.44,0,27.54,0,14.44]
[4092,2,"Secondhand Material Applied",0.19500000000000001,0,"BODY SIDE BEARING SHIM",3.96,0,27.54,0,3.96]
[4093,0,"Labor attention such as: \nactual labor, replacing or rechanging doors, welding, vacant, painting or stenciling, other labor attention",0.19500000000000001,0,"BODY SIDE BEARING SHIM-MALE ART. CONNECTOR POS.",3.96,0,27.54,0,3.96]
[4093,1,"New Material Applied",0.19500000000000001,0,"BODY SIDE BEARING SHIM-MALE ART. CONNECTOR POS.",14.44,0,27.54,0,14.44]
[4093,2,"Secondhand Material Applied",0.19500000000000001,0,"BODY SIDE BEARING SHIM-MALE ART. CONNECTOR POS.",3.96,0,27.54,0,3.96]
[4094,0,"Labor attention such as: \nactual labor, replacing or rechanging doors, welding, vacant, painting or stenciling, other labor attention",0.19500000000000001,0,"BODY SIDE BEARING SHIM-FEMALE ART. CONNECTOR POS.",3.96,0,27.54,0,3.96]
[4094,1,"New Material Applied",0.19500000000000001,0,"BODY SIDE BEARING SHIM-FEMALE ART. CONNECTOR POS.",14.44,0,27.54,0,14.44]
[4094,2,"Secondhand Material Applied",0.19500000000000001,0,"BODY SIDE BEARING SHIM-FEMALE ART. CONNECTOR POS.",3.96,0,27.54,0,3.96]
[4102,1,"New Material Applied",0,4.4999999999999998E-2,"ENGINE LUBRICATING OIL",1.46,0,0,6.36,7.82]
[4110,0,{"$f":"VLOOKUP(B2379,$B$2686:$C$2701,2,FALSE)","v":"Labor attention such as: \nactual labor, replacing or rechanging doors, welding, vacant, painting or stenciling, other labor attention"},0,0.4,"BATTERY SERVICE",0,0,0,56.5,56.5]
[4114,1,"New Material Applied",0,0.29599999999999999,"ANTI-FREEZE, PERMANENT TYPE",7.93,0,0,41.81,{"$f":"G2380+J2380","v":49.74}]
[4128,0,"Labor attention such as: \nactual labor, replacing or rechanging doors, welding, vacant, painting or stenciling, other labor attention",0,1.333,"BATTERY RENEWED",0,0,0,188.27,188.27]
[4144,0,"Labor attention such as: \nactual labor, replacing or rechanging doors, welding, vacant, painting or stenciling, other labor attention",0,1,"CHECK UNIT FOR CAUSE OF FAILURE",0,0,0,141.24,141.24]
[4148,0,"Labor attention such as: \nactual labor, replacing or rechanging doors, welding, vacant, painting or stenciling, other labor attention",0,0.5,"CHECK UNIT AFTER REPAIR",0,0,0,70.62,70.62]
[4150,0,"Labor attention such as: \nactual labor, replacing or rechanging doors, welding, vacant, painting or stenciling, other labor attention",0,1,"LABOR, REFRIGERATION SYSTEM",0,0,0,141.24,141.24]
[4160,1,"New Material Applied",0,0.5,"FUEL/OIL FILTER",5.68,0,0,70.62,76.300000000000011]
[4162,0,"Labor attention such as: \nactual labor, replacing or rechanging doors, welding, vacant, painting or stenciling, other labor attention",0,0.3,"PURGE AND PRIME ENGINE",0,0,0,42.37,42.37]
[4180,7,"Periodic or Service Attention \n(includes: vacant, single car testing of air brakes, cleaning of brke cyclinder, B-1 Quick Service Valves, Lubrication, Servicing mechanical refrigeration units, vacant, all wheels applied)",0,3.3000000000000002E-2,"NUT OR SCREW TIGHTENED",0,0,0,4.66,4.66]
[4200,1,"New Material Applied",0,0,"CHAIN",6.36,0.11,0,0,6.36]
[4200,2,"Secondhand Material Applied",0,0,"CHAIN",6.36,0.11,0,0,6.36]
[4202,1,"New Material Applied",0,0,"HIGH STRENGTH LOW ALLOY STEEL",2.2799999999999998,0.11,0,0,2.2799999999999998]
[4202,2,"Secondhand Material Applied",0,0,"HIGH STRENGTH LOW ALLOY STEEL",1.1399999999999999,0.11,0,0,1.1399999999999999]
[4204,1,"New Material Applied",0,0,"CARBON STEEL, STRUCTURAL, PRESSED",2.62,0.11,0,0,2.62]
[4204,2,"Secondhand Material Applied",0,0,"CARBON STEEL, STRUCTURAL, PRESSED",1.31,0.11,0,0,1.31]
[4206,1,"New Material Applied",0,0,"HIGH STRENGTH ALUMINUM, STRUCTURAL, PRESSED",7.86,0.31,0,0,7.86]
[4206,2,"Secondhand Material Applied",0,0,"HIGH STRENGTH ALUMINUM, STRUCTURAL, PRESSED",3.93,0.31,0,0,3.93]
[4216,1,"New Material Applied",0,0,"FORGINGS",3.37,0.11,0,0,3.37]
[4216,2,"Secondhand Material Applied",0,0,"FORGINGS",1.69,0.11,0,0,1.69]
[4222,1,"New Material Applied",0,0,"CASTING, STEEL",1.92,0.11,0,0,1.92]
[4222,2,"Secondhand Material Applied",0,0,"CASTING, STEEL",0.96,0.11,0,0,0.96]
[4236,1,"New Material Applied",0,0,"ALUMINUM CREDIT",0,0.31,0,0,0]
[4244,1,"New Material Applied",0,0,"STEEL CREDIT",0,0.11,0,0,0]
[4246,1,"New Material Applied",0,0,"STAINLESS STEEL CREDIT",0,0.28999999999999998,0,0,0]
[4320,1,"New Material Applied",0,0.13700000000000001,"CARD BOARD",2.75,0,0,19.350000000000001,22.1]
[4322,1,"New Material Applied",0,0.224,"CARD BOARD BRACKET",20.07,0.22,0,31.64,51.71]
[4324,1,"New Material Applied",0,0.29699999999999999,"METAL, DOT PLACARD HOLDER",8.52,0,0,41.95,50.47]
[4328,1,"New Material Applied",0,0.27300000000000002,"WOOD, DOT PLACARD HOLDER",8.25,0,0,38.56,46.81]
[4330,1,"New Material Applied",0,0.224,"PLACARD BRACKET",25.31,0.44,0,31.64,56.95]
[4342,1,"New Material Applied",0,0.47699999999999998,"STANDARD TEMPERATURE AEI TAG, AT5118-AAR",29.4,0,0,67.37,96.77000000000001]
[4342,2,"Secondhand Material Applied",0,0.47699999999999998,"STANDARD TEMPERATURE AEI TAG, AT5118-AAR",15.43,0,0,67.37,82.800000000000011]
[4342,8,"Remove, repair, and replace same part",0,0.41699999999999998,"STANDARD TEMPERATURE AEI TAG, AT5118-AAR",1.46,0,0,58.9,60.36]
[4342,9,"Remove and replace same part",0,0.151,"STANDARD TEMPERATURE AEI TAG, AT5118-AAR",1.46,0,0,21.33,22.79]
[4344,1,"New Material Applied",0,0.23799999999999999,"EOT AEI TAG, AT5549-AAR",45.27,0,0,33.619999999999997,78.89]
[4344,2,"Secondhand Material Applied",0,0.23799999999999999,"EOT AEI TAG, AT5549-AAR",23.37,0,0,33.619999999999997,56.989999999999995]
[4344,8,"Remove, repair, and replace same part",0,0.23799999999999999,"EOT AEI TAG, AT5549-AAR",1.46,0,0,33.619999999999997,35.08]
[4344,9,"Remove and replace same part",0,0.23799999999999999,"EOT AEI TAG, AT5549-AAR",1.46,0,0,33.619999999999997,35.08]
[4350,1,"New Material Applied",0,0.47699999999999998,"HIGH TEMPERATURE AEI TAG, AT5133-AAR",33.14,0,0,67.37,100.51]
[4350,2,"Secondhand Material Applied",0,0.47699999999999998,"HIGH TEMPERATURE AEI TAG, AT5133-AAR",17.3,0,0,67.37,84.67]
[4350,8,"Remove, repair, and replace same part",0,0.41699999999999998,"HIGH TEMPERATURE AEI TAG, AT5133-AAR",1.46,0,0,58.9,60.36]
[4350,9,"Remove and replace same part",0,0.151,"HIGH TEMPERATURE AEI TAG, AT5133-AAR",1.46,0,0,21.33,22.79]
[4356,1,"New Material Applied",0,0.39700000000000002,"AEI BRACKET W/MECH. FASTENERS",4.07,0,0,56.07,60.14]
[4356,2,"Secondhand Material Applied",0,0.39700000000000002,"AEI BRACKET W/MECH. FASTENERS",2.77,0,0,56.07,58.84]
[4356,9,"Remove and replace same part",0,0.39700000000000002,"AEI BRACKET W/MECH. FASTENERS",1.46,0,0,56.07,57.53]
[4358,1,"New Material Applied",0,0.49299999999999999,"AEI BRACKET WELDED",2.61,0,0,69.63,72.239999999999995]
[4358,2,"Secondhand Material Applied",0,0.49299999999999999,"AEI BRACKET WELDED",1.31,0,0,69.63,70.94]
[4358,9,"Remove and replace same part",0,0.49299999999999999,"AEI BRACKET WELDED",0,0,0,69.63,69.63]
[4360,1,"New Material Applied",0,3.7999999999999999E-2,"FIBERGLASS HATCH COVER TROUGH, 20\" WIDE",22.79,0,0,5.37,28.16]
[4360,2,"Secondhand Material Applied",0,3.7999999999999999E-2,"FIBERGLASS HATCH COVER TROUGH, 20\" WIDE",11.64,0,0,5.37,17.010000000000002]
[4360,9,"Remove and replace same part",0,3.7999999999999999E-2,"FIBERGLASS HATCH COVER TROUGH, 20\" WIDE",0.48,0,0,5.37,5.85]
[4362,1,"New Material Applied",0,3.7999999999999999E-2,"FIBERGLASS HATCH COVER TROUGH, 24\" WIDE",25.46,0,0,5.37,30.830000000000002]
[4362,2,"Secondhand Material Applied",0,3.7999999999999999E-2,"FIBERGLASS HATCH COVER TROUGH, 24\" WIDE",12.97,0,0,5.37,18.34]
[4362,9,"Remove and replace same part",0,3.7999999999999999E-2,"FIBERGLASS HATCH COVER TROUGH, 24\" WIDE",0.48,0,0,5.37,5.85]
[4364,1,"New Material Applied",0,3.7999999999999999E-2,"ALUMINUM HATCH COVER TROUGH, 20\" WIDE",24.55,1.55,0,5.37,29.92]
[4364,2,"Secondhand Material Applied",0,3.7999999999999999E-2,"ALUMINUM HATCH COVER TROUGH, 20\" WIDE",12.52,1.55,0,5.37,17.89]
[4364,9,"Remove and replace same part",0,3.7999999999999999E-2,"ALUMINUM HATCH COVER TROUGH, 20\" WIDE",0.48,0,0,5.37,5.85]
[4366,1,"New Material Applied",0,3.7999999999999999E-2,"ALUMINUM HATCH COVER TROUGH, 24\" WIDE",36.46,1.86,0,5.37,41.83]
[4366,2,"Secondhand Material Applied",0,3.7999999999999999E-2,"ALUMINUM HATCH COVER TROUGH, 24\" WIDE",20.68,1.86,0,5.37,26.05]
[4366,9,"Remove and replace same part",0,3.7999999999999999E-2,"ALUMINUM HATCH COVER TROUGH, 24\" WIDE",4.9000000000000004,0,0,5.37,10.27]
[4400,1,"New Material Applied",0,8.4000000000000005E-2,"COTTER OR SPLIT KEY",0.15,0,0,11.86,12.01]
[4404,1,"New Material Applied",8.5999999999999993E-2,5.3999999999999999E-2,"BOLT, COMMON STANDARD",0.37,0,12.15,7.63,8]
[4406,1,"New Material Applied",8.5999999999999993E-2,5.3999999999999999E-2,"BOLT,HT,FLT HD. 3/4\" DIA. OR OVER",2.11,0,12.15,7.63,9.74]
[4410,1,"New Material Applied",8.5999999999999993E-2,5.3999999999999999E-2,"BOLT,HT,5/8 IN.DIA.OR LESS UNDER 6\" LONG",0.73,0,12.15,7.63,8.36]
[4412,1,"New Material Applied",8.5999999999999993E-2,5.3999999999999999E-2,"BOLT,HT, 5/8\" DIA. OR LESS",2.4500000000000002,0,12.15,7.63,10.08]
[4414,1,{"$f":"VLOOKUP(B2443,$B$2686:$C$2701,2,FALSE)","v":"New Material Applied"},8.5999999999999993E-2,5.3999999999999999E-2,"BOLT,HT,3/4\" DIA.OR OVER,UNDER 6\" LONG",1.34,0,12.15,7.63,8.9700000000000006]
[4416,1,"New Material Applied",8.5999999999999993E-2,5.3999999999999999E-2,"BOLT,HT, 3/4\" DIA. OR OVER",2.27,0,12.15,7.63,{"$f":"G2444+J2444","v":9.9}]
[4418,1,"New Material Applied",8.5999999999999993E-2,5.3999999999999999E-2,"TWO-PIECE RIVET, NON-COATED LESS THAN 5/8 INCH DIA",0.63,0,12.15,7.63,8.26]
[4422,1,"New Material Applied",8.5999999999999993E-2,5.3999999999999999E-2,"TWO-PIECE RIVET, NON-COATED 5/8 INCH DIA OR OVER",1.98,0,12.15,7.63,9.61]
[4424,1,"New Material Applied",8.5999999999999993E-2,5.3999999999999999E-2,"BOLT,COATED, LESS THAN 5/8\" DIA",0.55000000000000004,0,12.15,7.63,8.18]
[4426,1,"New Material Applied",8.5999999999999993E-2,5.3999999999999999E-2,"BOLT,COATED, 5/8\" DIA. OR OVER",0.42,0,12.15,7.63,8.0500000000000007]
[4428,1,"New Material Applied",8.5999999999999993E-2,5.3999999999999999E-2,"TWO-PIECE RIVET, COATED LESS THAN 5/8 INCH DIAM",0.83,0,12.15,7.63,8.4599999999999991]
[4430,1,"New Material Applied",8.5999999999999993E-2,5.3999999999999999E-2,"TWO-PIECE RIVET, COATED 5/8 INCH DIA OR OVER",1.42,0,12.15,7.63,9.0500000000000007]
[4445,1,"New Material Applied",0,0.17,"NAILS, PER ONE TENTH POUND",0.08,0,0,24.01,24.09]
[4450,0,"Labor attention such as: \nactual labor, replacing or rechanging doors, welding, vacant, painting or stenciling, other labor attention",0,1,"LABOR, FREIGHT CAR",0,0,0,141.24,141.24]
[4452,0,"Labor attention such as: \nactual labor, replacing or rechanging doors, welding, vacant, painting or stenciling, other labor attention",0,7.5999999999999998E-2,"LABOR,CONSTANT CONTACT SIDE BEARING COMPONENTS",0,0,0,10.73,10.73]
[4454,0,"Labor attention such as: \nactual labor, replacing or rechanging doors, welding, vacant, painting or stenciling, other labor attention",0,4.9000000000000002E-2,"MA/EW INSPECTIONS-TO REPORT EW/MA INSPECTIONS",0,0,0,6.92,6.92]
[4455,0,"Labor attention such as: \nactual labor, replacing or rechanging doors, welding, vacant, painting or stenciling, other labor attention",0,0,"RULE 88 B2 INSPECTION - LABOR",0,0,0,0,0]
[4456,0,"Labor attention such as: \nactual labor, replacing or rechanging doors, welding, vacant, painting or stenciling, other labor attention",0,2.7429999999999999,"TRAIN DELAY ALLOWANCE, LINE OF ROAD",0,0,0,387.42,387.42]
[4457,0,"Labor attention such as: \nactual labor, replacing or rechanging doors, welding, vacant, painting or stenciling, other labor attention",0,1.075,"SETOUT/PICKUP ALLOWANCE, LINE OF ROAD",0,0,0,151.83000000000001,151.83000000000001]
[4458,1,"New Material Applied",0,0.82899999999999996,"LABOR, JACK CAR WITH TRUCK SEPARATION",0.15,0,0,117.09,117.24000000000001]
[4459,1,"New Material Applied",0,1.724,"LABOR, JACK CAR - LINE OF ROAD",0,0,0,243.5,243.5]
[4461,1,"New Material Applied",0,0.54200000000000004,"LABOR, JACK CAR WITHOUT TRUCK SEPARATION",0.15,0,0,76.55,76.7]
[4462,9,"Remove and replace same part",0,0.88200000000000001,"SOLID DRAW BAR CONNECTION - LABOR",4.38,0,0,124.57,128.94999999999999]
[4465,0,"Labor attention such as: \nactual labor, replacing or rechanging doors, welding, vacant, painting or stenciling, other labor attention",0,0.32500000000000001,"LABOR-ACC TRK SIDE FRM WEAR PLT-RIDE CNTRL OR XCR",0,0,0,45.9,45.9]
[4466,0,"Labor attention such as: \nactual labor, replacing or rechanging doors, welding, vacant, painting or stenciling, other labor attention",0,0.19700000000000001,"LABOR-ACC TRK SIDE FRAME WEAR PLT-BARBER/SWING MTN",0,0,0,27.82,27.82]
[4467,0,"Labor attention such as: \nactual labor, replacing or rechanging doors, welding, vacant, painting or stenciling, other labor attention",0,0.33600000000000002,"LABOR, R&R RIDE CONTROL OR XCR SIDE FRAME",0,0,0,47.46,47.46]
[4469,9,"Remove and replace same part",0,0.61499999999999999,"R & R SLACK ADJUSTER, ANY TYPE",0.45,0,0,86.86,87.31]
[4470,1,"New Material Applied",0,1.492,"LABOR, DRAFT GEAR AND/OR YOKE",8.0399999999999991,0,0,210.73,218.76999999999998]
[4470,9,"Remove and replace same part",0,0.76700000000000002,"LABOR, DRAFT GEAR AND/OR YOKE",8.0399999999999991,0,0,108.33,116.37]
[4474,9,"Remove and replace same part",0,0.56499999999999995,"R&R COUPLER BODY, E TYPE",0.15,0,0,79.8,79.95]
[4474,"T","Component transfer",0,0,"R&R COUPLER BODY, E TYPE",0,0,0,0,0]
[4478,9,"Remove and replace same part",0,0.86699999999999999,"R&R COUPLER BODY, TYPE E/F OR F",0.15,0,0,122.46,122.61]
[4478,"T","Component transfer",0,0,"R&R COUPLER BODY, TYPE E/F OR F",0,0,0,0,0]
[4480,9,"Remove and replace same part",0,1,"LOAD R&R FOR SAFETY APPL, OPEN TOP CAR",0,0,0,141.24,141.24]
[4482,0,"Labor attention such as: \nactual labor, replacing or rechanging doors, welding, vacant, painting or stenciling, other labor attention",0,0.107,"LABOR, FALL PROTECTION",0,0,0,15.11,15.11]
[4486,0,"Labor attention such as: \nactual labor, replacing or rechanging doors, welding, vacant, painting or stenciling, other labor attention",0,32.058,"LOADING ALLOWANCE",0,0,0,4527.87,4527.87]
[4488,0,"Labor attention such as: \nactual labor, replacing or rechanging doors, welding, vacant, painting or stenciling, other labor attention",0,8.1229999999999993,"UNLOADING ALLOWANCE",0,0,0,1147.29,1147.29]
[4489,0,"Labor attention such as: \nactual labor, replacing or rechanging doors, welding, vacant, painting or stenciling, other labor attention",0,1.7290000000000001,"DISMANTLING ALLOWANCE",0,0,0,244.2,244.2]
[4490,8,"Remove, repair, and replace same part",0,8.9999999999999993E-3,"STRAIGHTEN  PART OFF CAR",0,0,0,1.27,1.27]
[4500,1,"New Material Applied",0,0.2,"SEAL HOOK-PIN-WEDGE",14.04,0,0,28.25,42.29]
[4500,2,"Secondhand Material Applied",0,0.2,"SEAL HOOK-PIN-WEDGE",7.02,0,0,28.25,35.269999999999996]
[4506,1,"New Material Applied",0,0.66,"SIDE DOOR LOCK ASSEMBLY",81.59,1.43,0,93.22,174.81]
[4506,2,"Secondhand Material Applied",0,0.66,"SIDE DOOR LOCK ASSEMBLY",41.43,1.43,0,93.22,134.65]
[4508,1,"New Material Applied",0,0.35399999999999998,"DOOR HASP",24.71,0,0,50,74.710000000000008]
[4508,2,"Secondhand Material Applied",0,0.35399999999999998,"DOOR HASP",12.36,0,0,50,62.36]
[4512,1,"New Material Applied",0,0.47199999999999998,"DOOR HASP FASTENER",54.89,0,0,66.67,121.56]
[4512,2,"Secondhand Material Applied",0,0.47199999999999998,"DOOR HASP FASTENER",27.45,0,0,66.67,94.12]
[4528,9,"Remove and replace same part",0,0.8,"SIDE DOOR, R&R OR R, NON-FLUSH TYPE",0,0,0,112.99,112.99]
[4530,1,"New Material Applied",0,0,"PLUG DOOR ROLLER ASSEMBLY",82.95,1.43,0,0,82.95]
[4530,2,"Secondhand Material Applied",0,0,"PLUG DOOR ROLLER ASSEMBLY",41.48,1.43,0,0,41.48]
[4532,9,"Remove and replace same part",0,3,"SIDE DOOR, R&R OR R, FLUSH PLUG TYPE",0,0,0,423.72,423.72]
[4534,0,"Labor attention such as: \nactual labor, replacing or rechanging doors, welding, vacant, painting or stenciling, other labor attention",0,1.456,"FLUSH PLUG TYPE DOOR REPLACED",0,0,0,205.65,205.65]
[4536,0,"Labor attention such as: \nactual labor, replacing or rechanging doors, welding, vacant, painting or stenciling, other labor attention",0,0.4,"NON-FLUSH SIDE DOOR REPLACED",0,0,0,56.5,56.5]
[4538,0,"Labor attention such as: \nactual labor, replacing or rechanging doors, welding, vacant, painting or stenciling, other labor attention",0,0,"SIDE DOOR OR END DOOR CLOSED",0,0,0,0,0]
[4540,0,"Labor attention such as: \nactual labor, replacing or rechanging doors, welding, vacant, painting or stenciling, other labor attention",0,0,"BOXCAR DOOR INSPECTION & LUBRICATION",0,0,0,0,0]
[4550,1,"New Material Applied",0,0,"LUMBER",2.75,0,0,0,2.75]
[4554,1,"New Material Applied",0,0.01,"PLYWOOD, 1/4 INCH THICK",0.66,0,0,1.41,2.0699999999999998]
[4558,1,"New Material Applied",0,0.01,"PLYWOOD, 1/2 INCH THICK",0.88,0,0,1.41,2.29]
[4580,1,"New Material Applied",9.4E-2,0.1,"HAND HOLD OR GRAB IRON 36 INCH OR LESS",14.94,0.55000000000000004,13.28,14.12,29.06]
[4580,8,"Remove, repair, and replace same part",9.4E-2,0.1,"HAND HOLD OR GRAB IRON 36 INCH OR LESS",14.94,0.55000000000000004,13.28,14.12,29.06]
[4582,1,"New Material Applied",9.4E-2,0.1,"HAND HOLD OR GRAB IRON OVER 36\" LONG -UP TO 72\"",29.15,0.88,13.28,14.12,43.269999999999996]
[4582,8,"Remove, repair, and replace same part",9.4E-2,0.1,"HAND HOLD OR GRAB IRON OVER 36\" LONG -UP TO 72\"",29.15,0.88,13.28,14.12,43.269999999999996]
[4583,8,"Remove, repair, and replace same part",9.4E-2,0.1,"HAND HOLD OR GRAB IRON OVER 72\" LONG",29.15,1.65,13.28,14.12,43.269999999999996]
[4584,1,"New Material Applied",0,0.20399999999999999,"SILL STEP WITHOUT CENTER TREAD",42.63,1.32,0,28.81,71.44]
[4584,8,"Remove, repair, and replace same part",0,0.20399999999999999,"SILL STEP WITHOUT CENTER TREAD",42.63,1.32,0,28.81,71.44]
[4588,1,"New Material Applied",0,0.42,"SILL STEP WITH CENTER TREAD",56.84,1.76,0,59.32,116.16]
[4588,8,"Remove, repair, and replace same part",0,0.42,"SILL STEP WITH CENTER TREAD",56.84,1.76,0,59.32,116.16]
[4592,1,"New Material Applied",0,0.13600000000000001,"LADDER TREAD",14.94,0.44,0,19.21,34.15]
[4592,8,{"$f":"VLOOKUP(B2507,$B$2686:$C$2701,2,FALSE)","v":"Remove, repair, and replace same part"},0,0.13600000000000001,"LADDER TREAD",14.94,0.44,0,19.21,34.15]
[4593,1,"New Material Applied",9.4E-2,0.34799999999999998,"LADDER COMPLETE 2, 3, OR 4 TREADS",64.290000000000006,3.74,13.28,49.15,{"$f":"G2508+J2508","v":113.44}]
[4593,8,"Remove, repair, and replace same part",9.4E-2,0.34799999999999998,"LADDER COMPLETE 2, 3, OR 4 TREADS",57.79,0,13.28,49.15,106.94]
[4594,1,"New Material Applied",0,2.6280000000000001,"LADDER COMPLETE 5, 6, OR 7 TREADS",120.83,7.15,0,371.18,492.01]
[4594,8,"Remove, repair, and replace same part",0,2.6280000000000001,"LADDER COMPLETE 5, 6, OR 7 TREADS",108.75,0,0,371.18,479.93]
[4595,1,"New Material Applied",0,3.504,"LADDER COMPLETE 8, 9, OR 10 TREADS",132.63999999999999,9.24,0,494.91,627.54999999999995]
[4595,8,"Remove, repair, and replace same part",0,3.504,"LADDER COMPLETE 8, 9, OR 10 TREADS",118.71,0,0,494.91,613.62]
[4602,1,"New Material Applied",0,1.4E-2,"PAINT, ALKYD OR LATEX",0.24,0,0,1.98,2.2199999999999998]
[4606,0,"Labor attention such as: \nactual labor, replacing or rechanging doors, welding, vacant, painting or stenciling, other labor attention",0,1.4E-2,"PAINT LABOR",0,0,0,1.98,1.98]
[4608,0,"Labor attention such as: \nactual labor, replacing or rechanging doors, welding, vacant, painting or stenciling, other labor attention",0,0.36699999999999999,"STENCIL REPORTING MARKS- 1 END",0,0,0,51.84,51.84]
[4612,0,"Labor attention such as: \nactual labor, replacing or rechanging doors, welding, vacant, painting or stenciling, other labor attention",0,0.36699999999999999,"STENCIL REPORTING MARKS - 1 SIDE",0,0,0,51.84,51.84]
[4616,0,"Labor attention such as: \nactual labor, replacing or rechanging doors, welding, vacant, painting or stenciling, other labor attention",0,1.4670000000000001,"STENCIL REPORTING MARKS- 2 SIDES  & ENDS",0,0,0,207.2,207.2]
[4624,1,"New Material Applied",8.8999999999999996E-2,0.03,"BUILT STENCIL-PER SIDE",3.94,0,12.57,4.24,8.18]
[4626,1,"New Material Applied",0,9.4E-2,"BRAKE CYLINDER PISTON TRAVEL DECAL",2.2599999999999998,0,0,13.28,15.54]
[4628,1,"New Material Applied",8.8999999999999996E-2,2.3E-2,"THIS CAR EXCESS HEIGHT DECAL",2.89,0,12.57,3.25,6.1400000000000006]
[4712,0,"Labor attention such as: \nactual labor, replacing or rechanging doors, welding, vacant, painting or stenciling, other labor attention",0,0.216,"BOTTOM OUTLET CAP, THREADED TYPE",0,0,0,30.51,30.51]
[4712,9,"Remove and replace same part",0,0.216,"BOTTOM OUTLET CAP, THREADED TYPE",0,0,0,30.51,30.51]
[4716,0,"Labor attention such as: \nactual labor, replacing or rechanging doors, welding, vacant, painting or stenciling, other labor attention",0,7.5999999999999998E-2,"BOTTOM OUTLET CAP, CAM-LOCK TYPE",0,0,0,10.73,10.73]
[4716,9,"Remove and replace same part",0,7.5999999999999998E-2,"BOTTOM OUTLET CAP, CAM-LOCK TYPE",0,0,0,10.73,10.73]
[4744,1,"New Material Applied",0,0,"WATER FOR TESTING TANK",0.57999999999999996,0,0,0,0.57999999999999996]
[4748,1,"New Material Applied",0,0,"PIPE FOR RAILINGS, 1-1/4 INCHES",3.38,0.33,0,0,3.38]
[4748,2,"Secondhand Material Applied",0,0,"PIPE FOR RAILINGS, 1-1/4 INCHES",1.69,0.33,0,0,1.69]
[4750,0,"Labor attention such as: \nactual labor, replacing or rechanging doors, welding, vacant, painting or stenciling, other labor attention",0,0.15,"THREADING PIPE, PER END",0,0,0,21.19,21.19]
[4752,1,"New Material Applied",0,0.1,"PIPE FITTING, COUPLING, ANY TYPE",9.1999999999999993,0,0,14.12,23.32]
[4752,2,"Secondhand Material Applied",0,0.1,"PIPE FITTING, COUPLING, ANY TYPE",4.5999999999999996,0,0,14.12,18.72]
[4754,1,"New Material Applied",0,0,"7/8 INCHES DIAMETER SOLID STEEL ROD",6.74,0.22,0,0,6.74]
[4754,2,"Secondhand Material Applied",0,0,"7/8 INCHES DIAMETER SOLID STEEL ROD",3.37,0.22,0,0,3.37]
[4756,0,"Labor attention such as: \nactual labor, replacing or rechanging doors, welding, vacant, painting or stenciling, other labor attention",0,0.3,"HANDRAILS/PLATFORM RAILS - BENDING",0,0,0,42.37,42.37]
[4758,0,"Labor attention such as: \nactual labor, replacing or rechanging doors, welding, vacant, painting or stenciling, other labor attention",0,0.35199999999999998,"HANDRAILS/PLATFORM RAILS - END FLATTENED",0,0,0,49.72,49.72]
[4760,0,"Labor attention such as: \nactual labor, replacing or rechanging doors, welding, vacant, painting or stenciling, other labor attention",0,2,"DISCONNECTION OF TANKTRAIN COUPLING",0,0,0,282.48,282.48]
[4764,0,"Labor attention such as: \nactual labor, replacing or rechanging doors, welding, vacant, painting or stenciling, other labor attention",0,0,"TANK CAR END PLTFRM RAIL FIELD REPR-OWNER NOTIFY",0,0,0,0,0]
[4800,0,"Labor attention such as: \nactual labor, replacing or rechanging doors, welding, vacant, painting or stenciling, other labor attention",0,0.04,"TACK OR FILLET WELD",0,0,0,5.65,5.65]
[4804,0,"Labor attention such as: \nactual labor, replacing or rechanging doors, welding, vacant, painting or stenciling, other labor attention",0,0.04,"GROOVE JOINT WELD, 1/8 INCH OR LESS",0,0,0,5.65,5.65]
[4808,0,"Labor attention such as: \nactual labor, replacing or rechanging doors, welding, vacant, painting or stenciling, other labor attention",0,5.3999999999999999E-2,"GROOVE JOINT WELD, OVER 1/8 INCH TO 1/2 INCH",0,0,0,7.63,7.63]
[4812,0,"Labor attention such as: \nactual labor, replacing or rechanging doors, welding, vacant, painting or stenciling, other labor attention",0,0.11,"GROOVE JOINT WELD, OVER 1/2 INCH TO 1 INCH",0,0,0,15.54,15.54]
[4900,1,"New Material Applied",0,0.17299999999999999,"CHAIN-TIE DOWN 3/8\" ALLOY",81.16,1.76,0,24.43,105.59]
[4900,2,"Secondhand Material Applied",0,0.17299999999999999,"CHAIN-TIE DOWN 3/8\" ALLOY",40.58,1.76,0,24.43,65.009999999999991]
[4900,3,"Reconditioned or Recertified Material Applied",0,0.17299999999999999,"CHAIN-TIE DOWN 3/8\" ALLOY",60.87,1.76,0,24.43,85.3]
[4900,9,"Remove and replace same part",0,0.17299999999999999,"CHAIN-TIE DOWN 3/8\" ALLOY",0,0,0,24.43,24.43]
[4904,1,"New Material Applied",0,0.20499999999999999,"WINCH SWIVEL TYPE",111.88,3.85,0,28.95,140.82999999999998]
[4904,2,"Secondhand Material Applied",0,0.20499999999999999,"WINCH SWIVEL TYPE",55.94,3.85,0,28.95,84.89]
[4904,3,"Reconditioned or Recertified Material Applied",0,0.20499999999999999,"WINCH SWIVEL TYPE",83.91,3.85,0,28.95,112.86]
[4904,9,"Remove and replace same part",0,0.20499999999999999,"WINCH SWIVEL TYPE",0,0,0,28.95,28.95]
[4908,1,"New Material Applied",0,0.17299999999999999,"CHAIN-TIE DOWN 1/2\" ALLOY",252.05,3.96,0,24.43,276.48]
[4908,2,"Secondhand Material Applied",0,0.17299999999999999,"CHAIN-TIE DOWN 1/2\" ALLOY",126.03,3.96,0,24.43,150.46]
[4908,3,"Reconditioned or Recertified Material Applied",0,0.17299999999999999,"CHAIN-TIE DOWN 1/2\" ALLOY",189.04,3.96,0,24.43,213.47]
[4908,9,"Remove and replace same part",0,0.17299999999999999,"CHAIN-TIE DOWN 1/2\" ALLOY",0,0,0,24.43,24.43]
[4912,1,"New Material Applied",0,8.2000000000000003E-2,"REPAIR LINK, CHAIN",15.95,0,0,11.58,27.53]
[4912,9,"Remove and replace same part",0,8.2000000000000003E-2,"REPAIR LINK, CHAIN",0,0,0,11.58,11.58]
[4916,1,"New Material Applied",0,0.20499999999999999,"CHAIN ANCHOR ASSEMBLY",43.08,1.54,0,28.95,72.03]
[4916,2,"Secondhand Material Applied",0,0.20499999999999999,"CHAIN ANCHOR ASSEMBLY",21.54,1.54,0,28.95,50.489999999999995]
[4916,9,"Remove and replace same part",0,0.20499999999999999,"CHAIN ANCHOR ASSEMBLY",0,0,0,28.95,28.95]
[4921,1,"New Material Applied",0,0.35899999999999999,"CONTAINER PEDESTAL WITH AUTO LOW PROFILE LOCK",133.96,1.43,0,50.71,184.67000000000002]
[4921,2,"Secondhand Material Applied",0,0.35899999999999999,"CONTAINER PEDESTAL WITH AUTO LOW PROFILE LOCK",66.98,1.43,0,50.71,117.69]
[4921,9,"Remove and replace same part",0,0.35899999999999999,"CONTAINER PEDESTAL WITH AUTO LOW PROFILE LOCK",0,0,0,50.71,50.71]
[4923,1,"New Material Applied",0,0.20300000000000001,"PEDESTAL LATCH ASSEMBLY TWIST TYPE",165.65,1.43,0,28.67,194.32]
[4923,9,"Remove and replace same part",0,0.20300000000000001,"PEDESTAL LATCH ASSEMBLY TWIST TYPE",0,0,0,28.67,28.67]
[4924,1,"New Material Applied",0,0.17100000000000001,"PEDESTAL LATCH ASSEMBLY HOOK TYPE",43.48,1.76,0,24.15,67.63]
[4924,9,"Remove and replace same part",0,0.17100000000000001,"PEDESTAL LATCH ASSEMBLY HOOK TYPE",0,0,0,24.15,24.15]
[4925,1,"New Material Applied",0.154,0.58599999999999997,"RATCHET WINCH FOR CABLE TIE DOWN",88.45,1.98,21.75,82.77,171.22]
[4925,9,"Remove and replace same part",0.154,0.58599999999999997,"RATCHET WINCH FOR CABLE TIE DOWN",0,0,21.75,82.77,82.77]
[4926,1,"New Material Applied",0.154,8.4000000000000005E-2,"CABLE ASSEMBLY, 3/8\" X APPROX. 17'",16.82,1.98,21.75,11.86,28.68]
[4926,9,"Remove and replace same part",6.2E-2,8.1000000000000003E-2,"CABLE ASSEMBLY, 3/8\" X APPROX. 17'",0,0,8.76,11.44,11.44]
[4928,1,"New Material Applied",0,0.17399999999999999,"EDGE PROTECTOR, METAL",9.02,0,0,24.58,33.599999999999994]
[4928,2,{"$f":"VLOOKUP(B2571,$B$2686:$C$2701,2,FALSE)","v":"Secondhand Material Applied"},0,0.17399999999999999,"EDGE PROTECTOR, METAL",4.51,0,0,24.58,29.089999999999996]
[4930,1,"New Material Applied",0,7.0999999999999994E-2,"EDGE PROTECTOR, PLASTIC",4.04,0,0,10.029999999999999,{"$f":"G2572+J2572","v":14.07}]
[4930,2,"Secondhand Material Applied",0,7.0999999999999994E-2,"EDGE PROTECTOR, PLASTIC",2.02,0,0,10.029999999999999,12.049999999999999]
[5428,1,"New Material Applied",0,0.46700000000000003,"UPPER VERTICAL STRUT PIVOT PIN",4.7,0,0,65.959999999999994,70.66]
[5428,2,"Secondhand Material Applied",0,0.46700000000000003,"UPPER VERTICAL STRUT PIVOT PIN",2.35,0,0,65.959999999999994,68.309999999999988]
[5456,1,"New Material Applied",0,0.28299999999999997,"LOCK JAW STOP",39.369999999999997,0,0,39.97,79.34]
[5456,2,"Secondhand Material Applied",0,0.28299999999999997,"LOCK JAW STOP",19.690000000000001,0,0,39.97,59.66]
[5500,1,"New Material Applied",0.11,4.3999999999999997E-2,"REFLECTIVE SHEETING, INITIAL APPLICATION OR RENEW",1.35,0,15.54,6.21,7.5600000000000005]
[5502,1,"New Material Applied",0.11,4.3999999999999997E-2,"REFLECTIVE SHEETING",1.35,0,15.54,6.21,7.5600000000000005]
[5702,1,"New Material Applied",0,1.8819999999999999,"GROUP EOC-1D",2162.48,105.93,0,265.81,2428.29]
[5702,3,"Reconditioned or Recertified Material Applied",0,1.8819999999999999,"GROUP EOC-1D",1427.64,0,0,265.81,1693.45]
[5702,9,"Remove and replace same part",0,1.4,"GROUP EOC-1D",24.12,0,0,197.74,221.86]
[5704,1,"New Material Applied",0,1.8819999999999999,"GROUP EOC-1B",2255.0500000000002,105.93,0,265.81,2520.86]
[5704,3,"Reconditioned or Recertified Material Applied",0,1.8819999999999999,"GROUP EOC-1B",1361.22,0,0,265.81,1627.03]
[5704,9,"Remove and replace same part",0,1.4,"GROUP EOC-1B",24.12,0,0,197.74,221.86]
[5708,1,"New Material Applied",0,1.8819999999999999,"GROUP EOC-2D",2136.17,91.74,0,265.81,2401.98]
[5708,3,"Reconditioned or Recertified Material Applied",0,1.8819999999999999,"GROUP EOC-2D",1463.71,0,0,265.81,1729.52]
[5708,9,"Remove and replace same part",0,1.4,"GROUP EOC-2D",24.12,0,0,197.74,221.86]
[5710,1,"New Material Applied",0,1.8819999999999999,"GROUP EOC-2B",2232.2199999999998,91.74,0,265.81,2498.0299999999997]
[5710,3,"Reconditioned or Recertified Material Applied",0,1.8819999999999999,"GROUP EOC-2B",1556.67,0,0,265.81,1822.48]
[5710,9,"Remove and replace same part",0,1.4,"GROUP EOC-2B",24.12,0,0,197.74,221.86]
[5716,1,"New Material Applied",0,1.8819999999999999,"GROUP EOC-3B",2413.54,55,0,265.81,2679.35]
[5716,3,"Reconditioned or Recertified Material Applied",0,1.8819999999999999,"GROUP EOC-3B",1243.46,0,0,265.81,1509.27]
[5716,9,"Remove and replace same part",0,1.4,"GROUP EOC-3B",24.12,0,0,197.74,221.86]
[5722,1,"New Material Applied",0,1.8819999999999999,"GROUP EOC-4B",2835.49,55,0,265.81,3101.2999999999997]
[5722,3,"Reconditioned or Recertified Material Applied",0,1.8819999999999999,"GROUP EOC-4B",1344.42,0,0,265.81,1610.23]
[5722,9,"Remove and replace same part",0,1.4,"GROUP EOC-4B",24.12,0,0,197.74,221.86]
[5726,1,"New Material Applied",0,1.8819999999999999,"GROUP EOC-5D",2259.4899999999998,91.74,0,265.81,2525.2999999999997]
[5726,3,"Reconditioned or Recertified Material Applied",0,1.8819999999999999,"GROUP EOC-5D",1552.88,0,0,265.81,1818.69]
[5726,9,"Remove and replace same part",0,1.4,"GROUP EOC-5D",24.12,0,0,197.74,221.86]
[5728,1,"New Material Applied",0,1.8819999999999999,"GROUP EOC-5B",2308.9899999999998,91.74,0,265.81,2574.7999999999997]
[5728,3,"Reconditioned or Recertified Material Applied",0,1.8819999999999999,"GROUP EOC-5B",1602.9,0,0,265.81,1868.71]
[5728,9,"Remove and replace same part",0,1.4,"GROUP EOC-5B",24.12,0,0,197.74,221.86]
[5732,1,"New Material Applied",0,1.8819999999999999,"GROUP EOC-6D",2251.6999999999998,105.93,0,265.81,2517.5099999999998]
[5732,3,"Reconditioned or Recertified Material Applied",0,1.8819999999999999,"GROUP EOC-6D",1438.88,0,0,265.81,1704.69]
[5732,9,"Remove and replace same part",0,1.4,"GROUP EOC-6D",24.12,0,0,197.74,221.86]
[5734,1,"New Material Applied",0,1.8819999999999999,"GROUP EOC-6B",2251.94,105.93,0,265.81,2517.75]
[5734,3,"Reconditioned or Recertified Material Applied",0,1.8819999999999999,"GROUP EOC-6B",1443.09,0,0,265.81,1708.8999999999999]
[5734,9,"Remove and replace same part",0,1.4,"GROUP EOC-6B",24.12,0,0,197.74,221.86]
[5740,1,"New Material Applied",0,1.8819999999999999,"GROUP EOC-7B",1592.53,91.74,0,265.81,1858.34]
[5740,3,"Reconditioned or Recertified Material Applied",0,1.8819999999999999,"GROUP EOC-7B",1014.89,0,0,265.81,1280.7]
[5740,9,"Remove and replace same part",0,1.4,"GROUP EOC-7B",24.12,0,0,197.74,221.86]
[5746,1,"New Material Applied",0,1.8819999999999999,"GROUP EOC-8B",1726.97,55,0,265.81,1992.78]
[5746,3,"Reconditioned or Recertified Material Applied",0,1.8819999999999999,"GROUP EOC-8B",1143.73,0,0,265.81,1409.54]
[5746,9,"Remove and replace same part",0,1.4,"GROUP EOC-8B",24.12,0,0,197.74,221.86]
[5747,1,"New Material Applied",0,1.8819999999999999,"GROUP EOC-8F",1693.84,55,0,265.81,1959.6499999999999]
[5747,3,"Reconditioned or Recertified Material Applied",0,1.8819999999999999,"GROUP EOC-8F",1121.25,0,0,265.81,1387.06]
[5747,9,"Remove and replace same part",0,1.4,"GROUP EOC-8F",24.12,0,0,197.74,221.86]
[5750,1,"New Material Applied",0,1.8819999999999999,"GROUP EOC-9D",1569.12,55,0,265.81,1834.9299999999998]
[5750,3,"Reconditioned or Recertified Material Applied",0,1.8819999999999999,"GROUP EOC-9D",1079.75,0,0,265.81,1345.56]
[5750,9,"Remove and replace same part",0,1.4,"GROUP EOC-9D",24.12,0,0,197.74,221.86]
[5752,1,"New Material Applied",0,1.8819999999999999,"GROUP EOC-9B",1404.13,55,0,265.81,1669.94]
[5752,3,"Reconditioned or Recertified Material Applied",0,1.8819999999999999,"GROUP EOC-9B",1020.51,0,0,265.81,1286.32]
[5752,9,"Remove and replace same part",0,1.4,"GROUP EOC-9B",24.12,0,0,197.74,221.86]
[5756,1,"New Material Applied",0,1.8819999999999999,"GROUP EOC-10D",1444.67,60.28,0,265.81,1710.48]
[5756,3,"Reconditioned or Recertified Material Applied",0,1.8819999999999999,"GROUP EOC-10D",1180.43,0,0,265.81,1446.24]
[5756,9,"Remove and replace same part",0,1.4,"GROUP EOC-10D",24.12,0,0,197.74,221.86]
[5758,1,"New Material Applied",0,1.8819999999999999,"GROUP EOC-10B",1627.22,60.28,0,265.81,1893.03]
[5758,3,"Reconditioned or Recertified Material Applied",0,1.8819999999999999,"GROUP EOC-10B",1138.8499999999999,0,0,265.81,1404.6599999999999]
[5758,9,"Remove and replace same part",0,1.4,"GROUP EOC-10B",24.12,0,0,197.74,221.86]
[5759,1,"New Material Applied",0,1.8819999999999999,"GROUP EOC-10F",1493.84,60.28,0,265.81,1759.6499999999999]
[5759,3,"Reconditioned or Recertified Material Applied",0,1.8819999999999999,"GROUP EOC-10F",1150.7,0,0,265.81,1416.51]
[5759,9,"Remove and replace same part",0,1.4,"GROUP EOC-10F",24.12,0,0,197.74,221.86]
[5762,1,"New Material Applied",0,1.8819999999999999,"GROUP EOC-11D",2236.4499999999998,114.73,0,265.81,2502.2599999999998]
[5762,3,{"$f":"VLOOKUP(B2635,$B$2686:$C$2701,2,FALSE)","v":"Reconditioned or Recertified Material Applied"},0,1.8819999999999999,"GROUP EOC-11D",1601.55,0,0,265.81,1867.36]
[5762,9,"Remove and replace same part",0,1.4,"GROUP EOC-11D",24.12,0,0,197.74,{"$f":"G2636+J2636","v":221.86}]
[5764,1,"New Material Applied",0,1.8819999999999999,"GROUP EOC-11B",1964.65,114.73,0,265.81,2230.46]
[5764,3,"Reconditioned or Recertified Material Applied",0,1.8819999999999999,"GROUP EOC-11B",1731.8,0,0,265.81,1997.61]
[5764,9,"Remove and replace same part",0,1.4,"GROUP EOC-11B",24.12,0,0,197.74,221.86]
[5768,1,"New Material Applied",0,1.8819999999999999,"GROUP EOC-12D",2294.9899999999998,124.19,0,265.81,2560.7999999999997]
[5768,3,"Reconditioned or Recertified Material Applied",0,1.8819999999999999,"GROUP EOC-12D",1797.87,0,0,265.81,2063.6799999999998]
[5768,9,"Remove and replace same part",0,1.4,"GROUP EOC-12D",24.12,0,0,197.74,221.86]
[5770,1,"New Material Applied",0,1.8819999999999999,"GROUP EOC-12B",2285.4899999999998,124.19,0,265.81,2551.2999999999997]
[5770,3,"Reconditioned or Recertified Material Applied",0,1.8819999999999999,"GROUP EOC-12B",1757.85,0,0,265.81,2023.6599999999999]
[5770,9,"Remove and replace same part",0,1.4,"GROUP EOC-12B",24.12,0,0,197.74,221.86]
[5776,1,"New Material Applied",0,1.8819999999999999,"GROUP EOC-13B",1691.48,93.5,0,265.81,1957.29]
[5776,3,"Reconditioned or Recertified Material Applied",0,1.8819999999999999,"GROUP EOC-13B",1360.77,0,0,265.81,1626.58]
[5776,9,"Remove and replace same part",0,1.4,"GROUP EOC-13B",24.12,0,0,197.74,221.86]
[5782,1,"New Material Applied",0,1.8819999999999999,"GROUP EOC-14B",2233.61,93.5,0,265.81,2499.42]
[5782,3,"Reconditioned or Recertified Material Applied",0,1.8819999999999999,"GROUP EOC-14B",1666.63,0,0,265.81,1932.44]
[5782,9,"Remove and replace same part",0,1.4,"GROUP EOC-14B",24.12,0,0,197.74,221.86]
[5786,1,"New Material Applied",0,1.8819999999999999,"GROUP EOC-15D",1689.35,142.12,0,265.81,1955.1599999999999]
[5786,3,"Reconditioned or Recertified Material Applied",0,1.8819999999999999,"GROUP EOC-15D",1667.02,0,0,265.81,1932.83]
[5786,9,"Remove and replace same part",0,1.4,"GROUP EOC-15D",24.12,0,0,197.74,221.86]
[5788,1,"New Material Applied",0,1.8819999999999999,"GROUP EOC-15B",2057.12,142.12,0,265.81,2322.9299999999998]
[5788,3,"Reconditioned or Recertified Material Applied",0,1.8819999999999999,"GROUP EOC-15B",1669.18,0,0,265.81,1934.99]
[5788,9,"Remove and replace same part",0,1.4,"GROUP EOC-15B",24.12,0,0,197.74,221.86]
[5792,1,"New Material Applied",0,1.8819999999999999,"GROUP EOC-16D",2071.3200000000002,119.46,0,265.81,2337.13]
[5792,3,"Reconditioned or Recertified Material Applied",0,1.8819999999999999,"GROUP EOC-16D",1527.87,0,0,265.81,1793.6799999999998]
[5792,9,"Remove and replace same part",0,1.4,"GROUP EOC-16D",24.12,0,0,197.74,221.86]
[5794,1,"New Material Applied",0,1.8819999999999999,"GROUP EOC-16B",2160.58,92.4,0,265.81,2426.39]
[5794,3,"Reconditioned or Recertified Material Applied",0,1.8819999999999999,"GROUP EOC-16B",1434.96,0,0,265.81,1700.77]
[5794,9,"Remove and replace same part",0,1.4,"GROUP EOC-16B",24.12,0,0,197.74,221.86]
[5842,1,"New Material Applied",0,1.8819999999999999,"GROUP EOC-24B",1986.19,93.5,0,265.81,2252]
[5842,3,"Reconditioned or Recertified Material Applied",0,1.8819999999999999,"GROUP EOC-24B",1746.7,0,0,265.81,2012.51]
[5842,9,"Remove and replace same part",0,1.4,"GROUP EOC-24B",24.12,0,0,197.74,221.86]
[5843,1,"New Material Applied",0,1.8819999999999999,"GROUP EOC-25E",1478.89,93.5,0,265.81,1744.7]
[5843,3,"Reconditioned or Recertified Material Applied",0,1.8819999999999999,"GROUP EOC-25E",1230.33,0,0,265.81,1496.1399999999999]
[5843,9,"Remove and replace same part",0,1.4,"GROUP EOC-25E",24.12,0,0,197.74,221.86]
[5846,1,"New Material Applied",0,1.8819999999999999,"GROUP EOC-26B",1855.75,93.5,0,265.81,2121.56]
[5846,3,"Reconditioned or Recertified Material Applied",0,1.8819999999999999,"GROUP EOC-26B",1067.1600000000001,0,0,265.81,1332.97]
[5846,9,"Remove and replace same part",0,1.4,"GROUP EOC-26B",24.12,0,0,197.74,221.86]
[5847,1,"New Material Applied",0,1.8819999999999999,"GROUP EOC-26F",2303.12,93.5,0,265.81,2568.9299999999998]
[5847,3,"Reconditioned or Recertified Material Applied",0,1.8819999999999999,"GROUP EOC-26F",1658.28,0,0,265.81,1924.09]
[5847,9,"Remove and replace same part",0,1.4,"GROUP EOC-26F",24.12,0,0,197.74,221.86]
[5850,1,"New Material Applied",0,1.8819999999999999,"GROUP EOC-27D",1245.24,93.5,0,265.81,1511.05]
[5850,3,"Reconditioned or Recertified Material Applied",0,1.8819999999999999,"GROUP EOC-27D",1170.42,0,0,265.81,1436.23]
[5850,9,"Remove and replace same part",0,1.4,"GROUP EOC-27D",24.12,0,0,197.74,221.86]
[5880,1,"New Material Applied",0,0,"E-TYPE CUSHION UNIT FLOATING YOKE",909.63,44,0,0,909.63]
[5880,3,"Reconditioned or Recertified Material Applied",0,0,"E-TYPE CUSHION UNIT FLOATING YOKE",682.22,44,0,0,682.22]
[5884,1,"New Material Applied",0,0,"F-TYPE CUSHION UNIT FLOATING YOKE",904.69,34.32,0,0,904.69]
[5884,3,"Reconditioned or Recertified Material Applied",0,0,"F-TYPE CUSHION UNIT FLOATING YOKE",678.52,34.32,0,0,678.52]
[]
["Source: AAR. Technology Transportation Center, Inc. 2020. "]
[]
[null,"Condition Code","Description"]
[null,1,"New Material Applied"," "]
[null,2,"Secondhand Material Applied"," "]
[null,3,"Reconditioned or Recertified Material Applied"," "]
[null,7,"Periodic or Service Attention \n(includes: vacant, single car testing of air brakes, cleaning of brke cyclinder, B-1 Quick Service Valves, Lubrication, Servicing mechanical refrigeration units, vacant, all wheels applied)"," "]
[null,8,"Remove, repair, and replace same part"," "]
[null,9,"Remove and replace same part"," "]
[null,0,"Labor attention such as: \nactual labor, replacing or rechanging doors, welding, vacant, painting or stenciling, other labor attention"," "]
[null,"A","Wheel set with new roller bearings and new axle"," "]
[null,"B","Wheel set with reconditioned roller bearings and reconditioned/ secondhand axle"," "]
[null,"C","Wheel set with new roller bearings and reconditioned/secondhand axle"," "]
[null,"D","Wheel set with reconditioned roller bearings and new axle"," "]
[null,"F","Purchased core wheel set with reconditioned roller bearings and reconditioned/secondhand axle"," "]
[null,"G","Purchased core wheel set with new roller bearings and reconditioned/ secondhand axle"," "]
[null,"T","Component transfer"," "]
[null,"U","Upgraded"," "]

{"sheet":"Injuries_WorkMissed","index":4,"n_rows":1621,"n_cols":36,"rows_kept":1621,"cut":false,"hidden":false,"merged":[[8,8,8,9],[12,0,12,6],[1,0,2,35],[3,0,4,35],[9,0,9,6],[10,0,10,6],[12,8,12,13],[12,15,12,24],[12,25,12,34]]}
[]
["Comprehensive Cost of Rail Incidents: Cost Tool                                                                       Comprehensive Cost of Rail Incidents: Cost Tool                                                                              Comprehensive Cost of Rail Incidents: Cost Tool"]
[]
["Injury Events - Work Days Missed                                                                                                       Injury Events - Work Days Missed                                                                                                         Injury Events - Work Days Missed"]
[]
[]
["Injury Work Days Missed Input Sheet"]
[]
["Step by Step Guidance",null,null,null,null,null,null,null,"Cost Estimate Output"]
["Step 1 | Fill in Table 1 with details from an injury-related absence due to a rail event ",null,null,null,null,null,null,null,"From Table 1 Below",{"$f":"SUM(G15:G104)","v":0}]
["Step 2 | Monetized costs will populate in cell H9 on this sheet and in Step 2.K on the Cost Calculator sheet. "]
[]
["Table 1: Input Table for Days of Work Missed Due to a Rail Incident in North Carolina",null,null,null,null,null,null,null,"Table 2: Hourly Wage By Occupation",null,null,null,null,null,null,"Table 3A: Summary Statistics for Days of Work Missed Resulting from A Rail Incident Injury (Zero Day Absences Included)",null,null,null,null,null,null,null,null,null,"Table 3B: Summary Statistics for Days of Work Missed Resulting from A Rail Incident Injury (Zero Day Absences Excluded)",null,null,null,null,null,null,null,null,null,"3A or 3B"]
["Person/Employee Type "," Hourly Wage Dropdown"," Hourly Wage Value","Days Missed Dropdown","Days Missed Value","No. of Employees Subject to Scenario","Monetized Cost",null,"Hourly 10th Percentile","Hourly 25th Percentile","Hourly Median","Hourly 75th Percentile","Hourly 90th Percentile","Custom",null,"Minimum (3A)","Percentile (10) (3A)","Percentile (25) (3A)","Mean (3A)","Median* (3A)","Mode (3A)","Percentile (75) (3A)","Percentile (90) (3A)","Maximum (3A)","No. of Observations","Minimum (3B)","Percentile (10) (3B)","Percentile (25) (3B)","Mean (3B)","Median* (3B)","Mode (3B)","Percentile (75) (3B)","Percentile (90) (3B)","Maximum (3B)","No. of Observations","Custom"]
[null,null,{"$f":"IF(ISBLANK(A15),\"--\",IF(B15=$I$14,I15,IF(B15=$J$14,J15,IF(B15=$K$14,K15,IF(B15=$L$14,L15,IF(B15=$N$14,N15,IF(B15=$M$14,M15,IF(B15='Dropdown Lists'!$O$23,Injuries_WorkMissed!N15,\"--\"))))))))","v":"--"},null,{"$f":"IF(ISBLANK(D15),\"--\",IF(D15='Dropdown Lists'!$K$37,P15,IF(D15='Dropdown Lists'!$K$38,Q15,IF(D15='Dropdown Lists'!$K$39,R15,IF(D15='Dropdown Lists'!$K$40,S15,IF(D15='Dropdown Lists'!$K$41,T15,IF(D15='Dropdown Lists'!$K$42,U15,IF(D15='Dropdown Lists'!$K$43,V15,IF(D15='Dropdown Lists'!$K$44,W15,IF(D15='Dropdown Lists'!$K$45,X15,IF(D15='Dropdown Lists'!$K$46,Z15,IF(D15='Dropdown Lists'!$K$47,AA15,IF(D15='Dropdown Lists'!$K$48,AB15,IF(D15='Dropdown Lists'!$K$49,AC15,IF(D15='Dropdown Lists'!$K$50,AD15,IF(D15='Dropdown Lists'!$K$51,AE15,IF(D15='Dropdown Lists'!$K$52,AF15,IF(D15='Dropdown Lists'!$K$53,AG15,IF(D15='Dropdown Lists'!$K$54,AH15,IF(D15='Dropdown Lists'!$K$55,AJ15,\"\"))))))))))))))))))))","v":"--"},null,{"$f":"IF(ISBLANK(F15),\"--\",(C15*(E15*8)*F15))","v":"--"},null,{"$f":"IF(ISBLANK(A15),\"--\",VLOOKUP(A15,Injuries_WorkMissed!$B$109:$G$863,2,FALSE))","v":"--"},{"$f":"IF(ISBLANK(A15),\"--\",VLOOKUP(A15,Injuries_WorkMissed!$B$109:$G$863,3,FALSE))","v":"--"},{"$f":"IF(ISBLANK(A15),\"--\",VLOOKUP(A15,Injuries_WorkMissed!$B$109:$G$863,4,FALSE))","v":"--"},{"$f":"IF(ISBLANK(A15),\"--\",VLOOKUP(A15,Injuries_WorkMissed!$B$109:$G$863,5,FALSE))","v":"--"},{"$f":"IF(ISBLANK(A15),\"--\",VLOOKUP(A15,Injuries_WorkMissed!$B$109:$G$863,6,FALSE))","v":"--"},null,null,{"$f":"MIN(DataExtract!$BP$3:$BP$1597)","v":0},{"$f":"_xlfn.PERCENTILE.EXC(DataExtract!$BP$3:$BP$1597,0.1)","v":0},{"$f":"_xlfn.PERCENTILE.EXC(DataExtract!$BP$3:$BP$1597,0.25)","v":0},{"$f":"AVERAGE(DataExtract!$BP$3:$BP$5302)","v":23.924716981132075},1.5,{"$f":"MODE(DataExtract!$BP$3:$BP$5302)","v":0},{"$f":"_xlfn.PERCENTILE.EXC(DataExtract!$BP$3:$BP$5302,0.75)","v":5},{"$f":"_xlfn.PERCENTILE.EXC(DataExtract!$BP$3:$BP$5302,0.9)","v":92},{"$f":"MAX(DataExtract!$BP$3:$BP$5302)","v":365},{"$f":"COUNT(DataExtract!$BP$3:$BP$5302)","v":5300},{"$f":"MIN(DataExtract!$BO$3:$BO$1597)","v":1},{"$f":"_xlfn.PERCENTILE.EXC(DataExtract!$BO$3:$BO$1597,0.1)","v":3},{"$f":"_xlfn.PERCENTILE.EXC(DataExtract!$BO$3:$BO$1597,0.25)","v":8},{"$f":"AVERAGE(DataExtract!$BO$3:$BO$1597)","v":79.499059561128533},{"$f":"MEDIAN(DataExtract!$BO$3:$BO$1597)","v":46},{"$f":"MODE(DataExtract!$BO$3:$BO$1597)","v":180},{"$f":"_xlfn.PERCENTILE.EXC(DataExtract!$BO$3:$BO$1597,0.75)","v":132},{"$f":"_xlfn.PERCENTILE.EXC(DataExtract!$BO$3:$BO$1597,0.9)","v":202},{"$f":"MAX(DataExtract!$BO$3:$BO$1597,0.25)","v":365},{"$f":"COUNT(DataExtract!$BO$3:$BO$1597)","v":1595}]
[null,null,{"$f":"IF(ISBLANK(A16),\"--\",IF(B16=$I$14,I16,IF(B16=$J$14,J16,IF(B16=$K$14,K16,IF(B16=$L$14,L16,IF(B16=$N$14,N16,IF(B16=$M$14,M16,IF(B16='Dropdown Lists'!$O$23,Injuries_WorkMissed!N16,\"--\"))))))))","v":"--"},null,{"$f":"IF(ISBLANK(D16),\"--\",IF(D16='Dropdown Lists'!$K$37,P16,IF(D16='Dropdown Lists'!$K$38,Q16,IF(D16='Dropdown Lists'!$K$39,R16,IF(D16='Dropdown Lists'!$K$40,S16,IF(D16='Dropdown Lists'!$K$41,T16,IF(D16='Dropdown Lists'!$K$42,U16,IF(D16='Dropdown Lists'!$K$43,V16,IF(D16='Dropdown Lists'!$K$44,W16,IF(D16='Dropdown Lists'!$K$45,X16,IF(D16='Dropdown Lists'!$K$46,Z16,IF(D16='Dropdown Lists'!$K$47,AA16,IF(D16='Dropdown Lists'!$K$48,AB16,IF(D16='Dropdown Lists'!$K$49,AC16,IF(D16='Dropdown Lists'!$K$50,AD16,IF(D16='Dropdown Lists'!$K$51,AE16,IF(D16='Dropdown Lists'!$K$52,AF16,IF(D16='Dropdown Lists'!$K$53,AG16,IF(D16='Dropdown Lists'!$K$54,AH16,IF(D16='Dropdown Lists'!$K$55,AJ16,\"\"))))))))))))))))))))","v":"--"},null,{"$f":"IF(ISBLANK(F16),\"--\",(C16*(E16*8)*F16))","v":"--"},null,{"$f":"IF(ISBLANK(A16),\"--\",VLOOKUP(A16,Injuries_WorkMissed!$B$109:$G$863,2,FALSE))","v":"--"},{"$f":"IF(ISBLANK(A16),\"--\",VLOOKUP(A16,Injuries_WorkMissed!$B$109:$G$863,3,FALSE))","v":"--"},{"$f":"IF(ISBLANK(A16),\"--\",VLOOKUP(A16,Injuries_WorkMissed!$B$109:$G$863,4,FALSE))","v":"--"},{"$f":"IF(ISBLANK(A16),\"--\",VLOOKUP(A16,Injuries_WorkMissed!$B$109:$G$863,5,FALSE))","v":"--"},{"$f":"IF(ISBLANK(A16),\"--\",VLOOKUP(A16,Injuries_WorkMissed!$B$109:$G$863,6,FALSE))","v":"--"},null,null,{"$f":"MIN(DataExtract!$BP$3:$BP$1597)","v":0},{"$f":"_xlfn.PERCENTILE.EXC(DataExtract!$BP$3:$BP$1597,0.1)","v":0},{"$f":"_xlfn.PERCENTILE.EXC(DataExtract!$BP$3:$BP$1597,0.25)","v":0},{"$f":"AVERAGE(DataExtract!$BP$3:$BP$5302)","v":23.924716981132075},1.5,{"$f":"MODE(DataExtract!$BP$1598:$BP$5302)","v":0},{"$f":"_xlfn.PERCENTILE.EXC(DataExtract!$BP$3:$BP$5302,0.75)","v":5},{"$f":"_xlfn.PERCENTILE.EXC(DataExtract!$BP$3:$BP$5302,0.9)","v":92},{"$f":"MAX(DataExtract!$BP$3:$BP$5302)","v":365},{"$f":"COUNT(DataExtract!$BP$3:$BP$5302)","v":5300},{"$f":"MIN(DataExtract!$BO$3:$BO$1597)","v":1},{"$f":"_xlfn.PERCENTILE.EXC(DataExtract!$BO$3:$BO$1597,0.1)","v":3},{"$f":"_xlfn.PERCENTILE.EXC(DataExtract!$BO$3:$BO$1597,0.25)","v":8},{"$f":"AVERAGE(DataExtract!$BO$3:$BO$1597)","v":79.499059561128533},{"$f":"MEDIAN(DataExtract!$BO$3:$BO$1597)","v":46},{"$f":"MODE(DataExtract!$BO$3:$BO$1597)","v":180},{"$f":"_xlfn.PERCENTILE.EXC(DataExtract!$BO$3:$BO$1597,0.75)","v":132},{"$f":"_xlfn.PERCENTILE.EXC(DataExtract!$BO$3:$BO$1597,0.9)","v":202},{"$f":"MAX(DataExtract!$BO$3:$BO$1597,0.25)","v":365},{"$f":"COUNT(DataExtract!$BO$3:$BO$1597)","v":1595}]
[null,null,{"$f":"IF(ISBLANK(A17),\"--\",IF(B17=$I$14,I17,IF(B17=$J$14,J17,IF(B17=$K$14,K17,IF(B17=$L$14,L17,IF(B17=$N$14,N17,IF(B17=$M$14,M17,IF(B17='Dropdown Lists'!$O$23,Injuries_WorkMissed!N17,\"--\"))))))))","v":"--"},null,{"$f":"IF(ISBLANK(D17),\"--\",IF(D17='Dropdown Lists'!$K$37,P17,IF(D17='Dropdown Lists'!$K$38,Q17,IF(D17='Dropdown Lists'!$K$39,R17,IF(D17='Dropdown Lists'!$K$40,S17,IF(D17='Dropdown Lists'!$K$41,T17,IF(D17='Dropdown Lists'!$K$42,U17,IF(D17='Dropdown Lists'!$K$43,V17,IF(D17='Dropdown Lists'!$K$44,W17,IF(D17='Dropdown Lists'!$K$45,X17,IF(D17='Dropdown Lists'!$K$46,Z17,IF(D17='Dropdown Lists'!$K$47,AA17,IF(D17='Dropdown Lists'!$K$48,AB17,IF(D17='Dropdown Lists'!$K$49,AC17,IF(D17='Dropdown Lists'!$K$50,AD17,IF(D17='Dropdown Lists'!$K$51,AE17,IF(D17='Dropdown Lists'!$K$52,AF17,IF(D17='Dropdown Lists'!$K$53,AG17,IF(D17='Dropdown Lists'!$K$54,AH17,IF(D17='Dropdown Lists'!$K$55,AJ17,\"\"))))))))))))))))))))","v":"--"},null,{"$f":"IF(ISBLANK(F17),\"--\",(C17*(E17*8)*F17))","v":"--"},null,{"$f":"IF(ISBLANK(A17),\"--\",VLOOKUP(A17,Injuries_WorkMissed!$B$109:$G$863,2,FALSE))","v":"--"},{"$f":"IF(ISBLANK(A17),\"--\",VLOOKUP(A17,Injuries_WorkMissed!$B$109:$G$863,3,FALSE))","v":"--"},{"$f":"IF(ISBLANK(A17),\"--\",VLOOKUP(A17,Injuries_WorkMissed!$B$109:$G$863,4,FALSE))","v":"--"},{"$f":"IF(ISBLANK(A17),\"--\",VLOOKUP(A17,Injuries_WorkMissed!$B$109:$G$863,5,FALSE))","v":"--"},{"$f":"IF(ISBLANK(A17),\"--\",VLOOKUP(A17,Injuries_WorkMissed!$B$109:$G$863,6,FALSE))","v":"--"},null,null,{"$f":"MIN(DataExtract!$BP$3:$BP$1597)","v":0},{"$f":"_xlfn.PERCENTILE.EXC(DataExtract!$BP$3:$BP$1597,0.1)","v":0},{"$f":"_xlfn.PERCENTILE.EXC(DataExtract!$BP$3:$BP$1597,0.25)","v":0},{"$f":"AVERAGE(DataExtract!$BP$3:$BP$5302)","v":23.924716981132075},1.5,{"$f":"MODE(DataExtract!$BP$1598:$BP$5302)","v":0},{"$f":"_xlfn.PERCENTILE.EXC(DataExtract!$BP$3:$BP$5302,0.75)","v":5},{"$f":"_xlfn.PERCENTILE.EXC(DataExtract!$BP$3:$BP$5302,0.9)","v":92},{"$f":"MAX(DataExtract!$BP$3:$BP$5302)","v":365},{"$f":"COUNT(DataExtract!$BP$3:$BP$5302)","v":5300},{"$f":"MIN(DataExtract!$BO$3:$BO$1597)","v":1},{"$f":"_xlfn.PERCENTILE.EXC(DataExtract!$BO$3:$BO$1597,0.1)","v":3},{"$f":"_xlfn.PERCENTILE.EXC(DataExtract!$BO$3:$BO$1597,0.25)","v":8},{"$f":"AVERAGE(DataExtract!$BO$3:$BO$1597)","v":79.499059561128533},{"$f":"MEDIAN(DataExtract!$BO$3:$BO$1597)","v":46},{"$f":"MODE(DataExtract!$BO$3:$BO$1597)","v":180},{"$f":"_xlfn.PERCENTILE.EXC(DataExtract!$BO$3:$BO$1597,0.75)","v":132},{"$f":"_xlfn.PERCENTILE.EXC(DataExtract!$BO$3:$BO$1597,0.9)","v":202},{"$f":"MAX(DataExtract!$BO$3:$BO$1597,0.25)","v":365},{"$f":"COUNT(DataExtract!$BO$3:$BO$1597)","v":1595}]
[null,null,{"$f":"IF(ISBLANK(A18),\"--\",IF(B18=$I$14,I18,IF(B18=$J$14,J18,IF(B18=$K$14,K18,IF(B18=$L$14,L18,IF(B18=$N$14,N18,IF(B18=$M$14,M18,IF(B18='Dropdown Lists'!$O$23,Injuries_WorkMissed!N18,\"--\"))))))))","v":"--"},null,{"$f":"IF(ISBLANK(D18),\"--\",IF(D18='Dropdown Lists'!$K$37,P18,IF(D18='Dropdown Lists'!$K$38,Q18,IF(D18='Dropdown Lists'!$K$39,R18,IF(D18='Dropdown Lists'!$K$40,S18,IF(D18='Dropdown Lists'!$K$41,T18,IF(D18='Dropdown Lists'!$K$42,U18,IF(D18='Dropdown Lists'!$K$43,V18,IF(D18='Dropdown Lists'!$K$44,W18,IF(D18='Dropdown Lists'!$K$45,X18,IF(D18='Dropdown Lists'!$K$46,Z18,IF(D18='Dropdown Lists'!$K$47,AA18,IF(D18='Dropdown Lists'!$K$48,AB18,IF(D18='Dropdown Lists'!$K$49,AC18,IF(D18='Dropdown Lists'!$K$50,AD18,IF(D18='Dropdown Lists'!$K$51,AE18,IF(D18='Dropdown Lists'!$K$52,AF18,IF(D18='Dropdown Lists'!$K$53,AG18,IF(D18='Dropdown Lists'!$K$54,AH18,IF(D18='Dropdown Lists'!$K$55,AJ18,\"\"))))))))))))))))))))","v":"--"},null,"--",null,{"$f":"IF(ISBLANK(A18),\"--\",VLOOKUP(A18,Injuries_WorkMissed!$B$109:$G$863,2,FALSE))","v":"--"},{"$f":"IF(ISBLANK(A18),\"--\",VLOOKUP(A18,Injuries_WorkMissed!$B$109:$G$863,3,FALSE))","v":"--"},{"$f":"IF(ISBLANK(A18),\"--\",VLOOKUP(A18,Injuries_WorkMissed!$B$109:$G$863,4,FALSE))","v":"--"},{"$f":"IF(ISBLANK(A18),\"--\",VLOOKUP(A18,Injuries_WorkMissed!$B$109:$G$863,5,FALSE))","v":"--"},{"$f":"IF(ISBLANK(A18),\"--\",VLOOKUP(A18,Injuries_WorkMissed!$B$109:$G$863,6,FALSE))","v":"--"},null,null,{"$f":"MIN(DataExtract!$BP$3:$BP$1597)","v":0},{"$f":"_xlfn.PERCENTILE.EXC(DataExtract!$BP$3:$BP$1597,0.1)","v":0},{"$f":"_xlfn.PERCENTILE.EXC(DataExtract!$BP$3:$BP$1597,0.25)","v":0},{"$f":"AVERAGE(DataExtract!$BP$3:$BP$5302)","v":23.924716981132075},1.5,{"$f":"MODE(DataExtract!$BP$1598:$BP$5302)","v":0},{"$f":"_xlfn.PERCENTILE.EXC(DataExtract!$BP$3:$BP$5302,0.75)","v":5},{"$f":"_xlfn.PERCENTILE.EXC(DataExtract!$BP$3:$BP$5302,0.9)","v":92},{"$f":"MAX(DataExtract!$BP$3:$BP$5302)","v":365},{"$f":"COUNT(DataExtract!$BP$3:$BP$5302)","v":5300},{"$f":"MIN(DataExtract!$BO$3:$BO$1597)","v":1},{"$f":"_xlfn.PERCENTILE.EXC(DataExtract!$BO$3:$BO$1597,0.1)","v":3},{"$f":"_xlfn.PERCENTILE.EXC(DataExtract!$BO$3:$BO$1597,0.25)","v":8},{"$f":"AVERAGE(DataExtract!$BO$3:$BO$1597)","v":79.499059561128533},{"$f":"MEDIAN(DataExtract!$BO$3:$BO$1597)","v":46},{"$f":"MODE(DataExtract!$BO$3:$BO$1597)","v":180},{"$f":"_xlfn.PERCENTILE.EXC(DataExtract!$BO$3:$BO$1597,0.75)","v":132},{"$f":"_xlfn.PERCENTILE.EXC(DataExtract!$BO$3:$BO$1597,0.9)","v":202},{"$f":"MAX(DataExtract!$BO$3:$BO$1597,0.25)","v":365},{"$f":"COUNT(DataExtract!$BO$3:$BO$1597)","v":1595}]
[null,null,{"$f":"IF(ISBLANK(A19),\"--\",IF(B19=$I$14,I19,IF(B19=$J$14,J19,IF(B19=$K$14,K19,IF(B19=$L$14,L19,IF(B19=$N$14,N19,IF(B19=$M$14,M19,IF(B19='Dropdown Lists'!$O$23,Injuries_WorkMissed!N19,\"--\"))))))))","v":"--"},null,{"$f":"IF(ISBLANK(D19),\"--\",IF(D19='Dropdown Lists'!$K$37,P19,IF(D19='Dropdown Lists'!$K$38,Q19,IF(D19='Dropdown Lists'!$K$39,R19,IF(D19='Dropdown Lists'!$K$40,S19,IF(D19='Dropdown Lists'!$K$41,T19,IF(D19='Dropdown Lists'!$K$42,U19,IF(D19='Dropdown Lists'!$K$43,V19,IF(D19='Dropdown Lists'!$K$44,W19,IF(D19='Dropdown Lists'!$K$45,X19,IF(D19='Dropdown Lists'!$K$46,Z19,IF(D19='Dropdown Lists'!$K$47,AA19,IF(D19='Dropdown Lists'!$K$48,AB19,IF(D19='Dropdown Lists'!$K$49,AC19,IF(D19='Dropdown Lists'!$K$50,AD19,IF(D19='Dropdown Lists'!$K$51,AE19,IF(D19='Dropdown Lists'!$K$52,AF19,IF(D19='Dropdown Lists'!$K$53,AG19,IF(D19='Dropdown Lists'!$K$54,AH19,IF(D19='Dropdown Lists'!$K$55,AJ19,\"\"))))))))))))))))))))","v":"--"},null,"--",null,{"$f":"IF(ISBLANK(A19),\"--\",VLOOKUP(A19,Injuries_WorkMissed!$B$109:$G$863,2,FALSE))","v":"--"},{"$f":"IF(ISBLANK(A19),\"--\",VLOOKUP(A19,Injuries_WorkMissed!$B$109:$G$863,3,FALSE))","v":"--"},{"$f":"IF(ISBLANK(A19),\"--\",VLOOKUP(A19,Injuries_WorkMissed!$B$109:$G$863,4,FALSE))","v":"--"},{"$f":"IF(ISBLANK(A19),\"--\",VLOOKUP(A19,Injuries_WorkMissed!$B$109:$G$863,5,FALSE))","v":"--"},{"$f":"IF(ISBLANK(A19),\"--\",VLOOKUP(A19,Injuries_WorkMissed!$B$109:$G$863,6,FALSE))","v":"--"},null,null,{"$f":"MIN(DataExtract!$BP$3:$BP$1597)","v":0},{"$f":"_xlfn.PERCENTILE.EXC(DataExtract!$BP$3:$BP$1597,0.1)","v":0},{"$f":"_xlfn.PERCENTILE.EXC(DataExtract!$BP$3:$BP$1597,0.25)","v":0},{"$f":"AVERAGE(DataExtract!$BP$3:$BP$5302)","v":23.924716981132075},1.5,{"$f":"MODE(DataExtract!$BP$1598:$BP$5302)","v":0},{"$f":"_xlfn.PERCENTILE.EXC(DataExtract!$BP$3:$BP$5302,0.75)","v":5},{"$f":"_xlfn.PERCENTILE.EXC(DataExtract!$BP$3:$BP$5302,0.9)","v":92},{"$f":"MAX(DataExtract!$BP$3:$BP$5302)","v":365},{"$f":"COUNT(DataExtract!$BP$3:$BP$5302)","v":5300},{"$f":"MIN(DataExtract!$BO$3:$BO$1597)","v":1},{"$f":"_xlfn.PERCENTILE.EXC(DataExtract!$BO$3:$BO$1597,0.1)","v":3},{"$f":"_xlfn.PERCENTILE.EXC(DataExtract!$BO$3:$BO$1597,0.25)","v":8},{"$f":"AVERAGE(DataExtract!$BO$3:$BO$1597)","v":79.499059561128533},{"$f":"MEDIAN(DataExtract!$BO$3:$BO$1597)","v":46},{"$f":"MODE(DataExtract!$BO$3:$BO$1597)","v":180},{"$f":"_xlfn.PERCENTILE.EXC(DataExtract!$BO$3:$BO$1597,0.75)","v":132},{"$f":"_xlfn.PERCENTILE.EXC(DataExtract!$BO$3:$BO$1597,0.9)","v":202},{"$f":"MAX(DataExtract!$BO$3:$BO$1597,0.25)","v":365},{"$f":"COUNT(DataExtract!$BO$3:$BO$1597)","v":1595}]
[null,null,{"$f":"IF(ISBLANK(A20),\"--\",IF(B20=$I$14,I20,IF(B20=$J$14,J20,IF(B20=$K$14,K20,IF(B20=$L$14,L20,IF(B20=$N$14,N20,IF(B20=$M$14,M20,IF(B20='Dropdown Lists'!$O$23,Injuries_WorkMissed!N20,\"--\"))))))))","v":"--"},null,{"$f":"IF(ISBLANK(D20),\"--\",IF(D20='Dropdown Lists'!$K$37,P20,IF(D20='Dropdown Lists'!$K$38,Q20,IF(D20='Dropdown Lists'!$K$39,R20,IF(D20='Dropdown Lists'!$K$40,S20,IF(D20='Dropdown Lists'!$K$41,T20,IF(D20='Dropdown Lists'!$K$42,U20,IF(D20='Dropdown Lists'!$K$43,V20,IF(D20='Dropdown Lists'!$K$44,W20,IF(D20='Dropdown Lists'!$K$45,X20,IF(D20='Dropdown Lists'!$K$46,Z20,IF(D20='Dropdown Lists'!$K$47,AA20,IF(D20='Dropdown Lists'!$K$48,AB20,IF(D20='Dropdown Lists'!$K$49,AC20,IF(D20='Dropdown Lists'!$K$50,AD20,IF(D20='Dropdown Lists'!$K$51,AE20,IF(D20='Dropdown Lists'!$K$52,AF20,IF(D20='Dropdown Lists'!$K$53,AG20,IF(D20='Dropdown Lists'!$K$54,AH20,IF(D20='Dropdown Lists'!$K$55,AJ20,\"\"))))))))))))))))))))","v":"--"},null,"--",null,{"$f":"IF(ISBLANK(A20),\"--\",VLOOKUP(A20,Injuries_WorkMissed!$B$109:$G$863,2,FALSE))","v":"--"},{"$f":"IF(ISBLANK(A20),\"--\",VLOOKUP(A20,Injuries_WorkMissed!$B$109:$G$863,3,FALSE))","v":"--"},{"$f":"IF(ISBLANK(A20),\"--\",VLOOKUP(A20,Injuries_WorkMissed!$B$109:$G$863,4,FALSE))","v":"--"},{"$f":"IF(ISBLANK(A20),\"--\",VLOOKUP(A20,Injuries_WorkMissed!$B$109:$G$863,5,FALSE))","v":"--"},{"$f":"IF(ISBLANK(A20),\"--\",VLOOKUP(A20,Injuries_WorkMissed!$B$109:$G$863,6,FALSE))","v":"--"},null,null,{"$f":"MIN(DataExtract!$BP$3:$BP$1597)","v":0},{"$f":"_xlfn.PERCENTILE.EXC(DataExtract!$BP$3:$BP$1597,0.1)","v":0},{"$f":"_xlfn.PERCENTILE.EXC(DataExtract!$BP$3:$BP$1597,0.25)","v":0},{"$f":"AVERAGE(DataExtract!$BP$3:$BP$5302)","v":23.924716981132075},1.5,{"$f":"MODE(DataExtract!$BP$1598:$BP$5302)","v":0},{"$f":"_xlfn.PERCENTILE.EXC(DataExtract!$BP$3:$BP$5302,0.75)","v":5},{"$f":"_xlfn.PERCENTILE.EXC(DataExtract!$BP$3:$BP$5302,0.9)","v":92},{"$f":"MAX(DataExtract!$BP$3:$BP$5302)","v":365},{"$f":"COUNT(DataExtract!$BP$3:$BP$5302)","v":5300},{"$f":"MIN(DataExtract!$BO$3:$BO$1597)","v":1},{"$f":"_xlfn.PERCENTILE.EXC(DataExtract!$BO$3:$BO$1597,0.1)","v":3},{"$f":"_xlfn.PERCENTILE.EXC(DataExtract!$BO$3:$BO$1597,0.25)","v":8},{"$f":"AVERAGE(DataExtract!$BO$3:$BO$1597)","v":79.499059561128533},{"$f":"MEDIAN(DataExtract!$BO$3:$BO$1597)","v":46},{"$f":"MODE(DataExtract!$BO$3:$BO$1597)","v":180},{"$f":"_xlfn.PERCENTILE.EXC(DataExtract!$BO$3:$BO$1597,0.75)","v":132},{"$f":"_xlfn.PERCENTILE.EXC(DataExtract!$BO$3:$BO$1597,0.9)","v":202},{"$f":"MAX(DataExtract!$BO$3:$BO$1597,0.25)","v":365},{"$f":"COUNT(DataExtract!$BO$3:$BO$1597)","v":1595}]
[null,null,{"$f":"IF(ISBLANK(A21),\"--\",IF(B21=$I$14,I21,IF(B21=$J$14,J21,IF(B21=$K$14,K21,IF(B21=$L$14,L21,IF(B21=$N$14,N21,IF(B21=$M$14,M21,IF(B21='Dropdown Lists'!$O$23,Injuries_WorkMissed!N21,\"--\"))))))))","v":"--"},null,{"$f":"IF(ISBLANK(D21),\"--\",IF(D21='Dropdown Lists'!$K$37,P21,IF(D21='Dropdown Lists'!$K$38,Q21,IF(D21='Dropdown Lists'!$K$39,R21,IF(D21='Dropdown Lists'!$K$40,S21,IF(D21='Dropdown Lists'!$K$41,T21,IF(D21='Dropdown Lists'!$K$42,U21,IF(D21='Dropdown Lists'!$K$43,V21,IF(D21='Dropdown Lists'!$K$44,W21,IF(D21='Dropdown Lists'!$K$45,X21,IF(D21='Dropdown Lists'!$K$46,Z21,IF(D21='Dropdown Lists'!$K$47,AA21,IF(D21='Dropdown Lists'!$K$48,AB21,IF(D21='Dropdown Lists'!$K$49,AC21,IF(D21='Dropdown Lists'!$K$50,AD21,IF(D21='Dropdown Lists'!$K$51,AE21,IF(D21='Dropdown Lists'!$K$52,AF21,IF(D21='Dropdown Lists'!$K$53,AG21,IF(D21='Dropdown Lists'!$K$54,AH21,IF(D21='Dropdown Lists'!$K$55,AJ21,\"\"))))))))))))))))))))","v":"--"},null,"--",null,{"$f":"IF(ISBLANK(A21),\"--\",VLOOKUP(A21,Injuries_WorkMissed!$B$109:$G$863,2,FALSE))","v":"--"},{"$f":"IF(ISBLANK(A21),\"--\",VLOOKUP(A21,Injuries_WorkMissed!$B$109:$G$863,3,FALSE))","v":"--"},{"$f":"IF(ISBLANK(A21),\"--\",VLOOKUP(A21,Injuries_WorkMissed!$B$109:$G$863,4,FALSE))","v":"--"},{"$f":"IF(ISBLANK(A21),\"--\",VLOOKUP(A21,Injuries_WorkMissed!$B$109:$G$863,5,FALSE))","v":"--"},{"$f":"IF(ISBLANK(A21),\"--\",VLOOKUP(A21,Injuries_WorkMissed!$B$109:$G$863,6,FALSE))","v":"--"},null,null,{"$f":"MIN(DataExtract!$BP$3:$BP$1597)","v":0},{"$f":"_xlfn.PERCENTILE.EXC(DataExtract!$BP$3:$BP$1597,0.1)","v":0},{"$f":"_xlfn.PERCENTILE.EXC(DataExtract!$BP$3:$BP$1597,0.25)","v":0},{"$f":"AVERAGE(DataExtract!$BP$3:$BP$5302)","v":23.924716981132075},1.5,{"$f":"MODE(DataExtract!$BP$1598:$BP$5302)","v":0},{"$f":"_xlfn.PERCENTILE.EXC(DataExtract!$BP$3:$BP$5302,0.75)","v":5},{"$f":"_xlfn.PERCENTILE.EXC(DataExtract!$BP$3:$BP$5302,0.9)","v":92},{"$f":"MAX(DataExtract!$BP$3:$BP$5302)","v":365},{"$f":"COUNT(DataExtract!$BP$3:$BP$5302)","v":5300},{"$f":"MIN(DataExtract!$BO$3:$BO$1597)","v":1},{"$f":"_xlfn.PERCENTILE.EXC(DataExtract!$BO$3:$BO$1597,0.1)","v":3},{"$f":"_xlfn.PERCENTILE.EXC(DataExtract!$BO$3:$BO$1597,0.25)","v":8},{"$f":"AVERAGE(DataExtract!$BO$3:$BO$1597)","v":79.499059561128533},{"$f":"MEDIAN(DataExtract!$BO$3:$BO$1597)","v":46},{"$f":"MODE(DataExtract!$BO$3:$BO$1597)","v":180},{"$f":"_xlfn.PERCENTILE.EXC(DataExtract!$BO$3:$BO$1597,0.75)","v":132},{"$f":"_xlfn.PERCENTILE.EXC(DataExtract!$BO$3:$BO$1597,0.9)","v":202},{"$f":"MAX(DataExtract!$BO$3:$BO$1597,0.25)","v":365},{"$f":"COUNT(DataExtract!$BO$3:$BO$1597)","v":1595}]
[null,null,{"$f":"IF(ISBLANK(A22),\"--\",IF(B22=$I$14,I22,IF(B22=$J$14,J22,IF(B22=$K$14,K22,IF(B22=$L$14,L22,IF(B22=$N$14,N22,IF(B22=$M$14,M22,IF(B22='Dropdown Lists'!$O$23,Injuries_WorkMissed!N22,\"--\"))))))))","v":"--"},null,{"$f":"IF(ISBLANK(D22),\"--\",IF(D22='Dropdown Lists'!$K$37,P22,IF(D22='Dropdown Lists'!$K$38,Q22,IF(D22='Dropdown Lists'!$K$39,R22,IF(D22='Dropdown Lists'!$K$40,S22,IF(D22='Dropdown Lists'!$K$41,T22,IF(D22='Dropdown Lists'!$K$42,U22,IF(D22='Dropdown Lists'!$K$43,V22,IF(D22='Dropdown Lists'!$K$44,W22,IF(D22='Dropdown Lists'!$K$45,X22,IF(D22='Dropdown Lists'!$K$46,Z22,IF(D22='Dropdown Lists'!$K$47,AA22,IF(D22='Dropdown Lists'!$K$48,AB22,IF(D22='Dropdown Lists'!$K$49,AC22,IF(D22='Dropdown Lists'!$K$50,AD22,IF(D22='Dropdown Lists'!$K$51,AE22,IF(D22='Dropdown Lists'!$K$52,AF22,IF(D22='Dropdown Lists'!$K$53,AG22,IF(D22='Dropdown Lists'!$K$54,AH22,IF(D22='Dropdown Lists'!$K$55,AJ22,\"\"))))))))))))))))))))","v":"--"},null,"--",null,{"$f":"IF(ISBLANK(A22),\"--\",VLOOKUP(A22,Injuries_WorkMissed!$B$109:$G$863,2,FALSE))","v":"--"},{"$f":"IF(ISBLANK(A22),\"--\",VLOOKUP(A22,Injuries_WorkMissed!$B$109:$G$863,3,FALSE))","v":"--"},{"$f":"IF(ISBLANK(A22),\"--\",VLOOKUP(A22,Injuries_WorkMissed!$B$109:$G$863,4,FALSE))","v":"--"},{"$f":"IF(ISBLANK(A22),\"--\",VLOOKUP(A22,Injuries_WorkMissed!$B$109:$G$863,5,FALSE))","v":"--"},{"$f":"IF(ISBLANK(A22),\"--\",VLOOKUP(A22,Injuries_WorkMissed!$B$109:$G$863,6,FALSE))","v":"--"},null,null,{"$f":"MIN(DataExtract!$BP$3:$BP$1597)","v":0},{"$f":"_xlfn.PERCENTILE.EXC(DataExtract!$BP$3:$BP$1597,0.1)","v":0},{"$f":"_xlfn.PERCENTILE.EXC(DataExtract!$BP$3:$BP$1597,0.25)","v":0},{"$f":"AVERAGE(DataExtract!$BP$3:$BP$5302)","v":23.924716981132075},1.5,{"$f":"MODE(DataExtract!$BP$1598:$BP$5302)","v":0},{"$f":"_xlfn.PERCENTILE.EXC(DataExtract!$BP$3:$BP$5302,0.75)","v":5},{"$f":"_xlfn.PERCENTILE.EXC(DataExtract!$BP$3:$BP$5302,0.9)","v":92},{"$f":"MAX(DataExtract!$BP$3:$BP$5302)","v":365},{"$f":"COUNT(DataExtract!$BP$3:$BP$5302)","v":5300},{"$f":"MIN(DataExtract!$BO$3:$BO$1597)","v":1},{"$f":"_xlfn.PERCENTILE.EXC(DataExtract!$BO$3:$BO$1597,0.1)","v":3},{"$f":"_xlfn.PERCENTILE.EXC(DataExtract!$BO$3:$BO$1597,0.25)","v":8},{"$f":"AVERAGE(DataExtract!$BO$3:$BO$1597)","v":79.499059561128533},{"$f":"MEDIAN(DataExtract!$BO$3:$BO$1597)","v":46},{"$f":"MODE(DataExtract!$BO$3:$BO$1597)","v":180},{"$f":"_xlfn.PERCENTILE.EXC(DataExtract!$BO$3:$BO$1597,0.75)","v":132},{"$f":"_xlfn.PERCENTILE.EXC(DataExtract!$BO$3:$BO$1597,0.9)","v":202},{"$f":"MAX(DataExtract!$BO$3:$BO$1597,0.25)","v":365},{"$f":"COUNT(DataExtract!$BO$3:$BO$1597)","v":1595}]
[null,null,{"$f":"IF(ISBLANK(A23),\"--\",IF(B23=$I$14,I23,IF(B23=$J$14,J23,IF(B23=$K$14,K23,IF(B23=$L$14,L23,IF(B23=$N$14,N23,IF(B23=$M$14,M23,IF(B23='Dropdown Lists'!$O$23,Injuries_WorkMissed!N23,\"--\"))))))))","v":"--"},null,{"$f":"IF(ISBLANK(D23),\"--\",IF(D23='Dropdown Lists'!$K$37,P23,IF(D23='Dropdown Lists'!$K$38,Q23,IF(D23='Dropdown Lists'!$K$39,R23,IF(D23='Dropdown Lists'!$K$40,S23,IF(D23='Dropdown Lists'!$K$41,T23,IF(D23='Dropdown Lists'!$K$42,U23,IF(D23='Dropdown Lists'!$K$43,V23,IF(D23='Dropdown Lists'!$K$44,W23,IF(D23='Dropdown Lists'!$K$45,X23,IF(D23='Dropdown Lists'!$K$46,Z23,IF(D23='Dropdown Lists'!$K$47,AA23,IF(D23='Dropdown Lists'!$K$48,AB23,IF(D23='Dropdown Lists'!$K$49,AC23,IF(D23='Dropdown Lists'!$K$50,AD23,IF(D23='Dropdown Lists'!$K$51,AE23,IF(D23='Dropdown Lists'!$K$52,AF23,IF(D23='Dropdown Lists'!$K$53,AG23,IF(D23='Dropdown Lists'!$K$54,AH23,IF(D23='Dropdown Lists'!$K$55,AJ23,\"\"))))))))))))))))))))","v":"--"},null,"--",null,{"$f":"IF(ISBLANK(A23),\"--\",VLOOKUP(A23,Injuries_WorkMissed!$B$109:$G$863,2,FALSE))","v":"--"},{"$f":"IF(ISBLANK(A23),\"--\",VLOOKUP(A23,Injuries_WorkMissed!$B$109:$G$863,3,FALSE))","v":"--"},{"$f":"IF(ISBLANK(A23),\"--\",VLOOKUP(A23,Injuries_WorkMissed!$B$109:$G$863,4,FALSE))","v":"--"},{"$f":"IF(ISBLANK(A23),\"--\",VLOOKUP(A23,Injuries_WorkMissed!$B$109:$G$863,5,FALSE))","v":"--"},{"$f":"IF(ISBLANK(A23),\"--\",VLOOKUP(A23,Injuries_WorkMissed!$B$109:$G$863,6,FALSE))","v":"--"},null,null,{"$f":"MIN(DataExtract!$BP$3:$BP$1597)","v":0},{"$f":"_xlfn.PERCENTILE.EXC(DataExtract!$BP$3:$BP$1597,0.1)","v":0},{"$f":"_xlfn.PERCENTILE.EXC(DataExtract!$BP$3:$BP$1597,0.25)","v":0},{"$f":"AVERAGE(DataExtract!$BP$3:$BP$5302)","v":23.924716981132075},1.5,{"$f":"MODE(DataExtract!$BP$1598:$BP$5302)","v":0},{"$f":"_xlfn.PERCENTILE.EXC(DataExtract!$BP$3:$BP$5302,0.75)","v":5},{"$f":"_xlfn.PERCENTILE.EXC(DataExtract!$BP$3:$BP$5302,0.9)","v":92},{"$f":"MAX(DataExtract!$BP$3:$BP$5302)","v":365},{"$f":"COUNT(DataExtract!$BP$3:$BP$5302)","v":5300},{"$f":"MIN(DataExtract!$BO$3:$BO$1597)","v":1},{"$f":"_xlfn.PERCENTILE.EXC(DataExtract!$BO$3:$BO$1597,0.1)","v":3},{"$f":"_xlfn.PERCENTILE.EXC(DataExtract!$BO$3:$BO$1597,0.25)","v":8},{"$f":"AVERAGE(DataExtract!$BO$3:$BO$1597)","v":79.499059561128533},{"$f":"MEDIAN(DataExtract!$BO$3:$BO$1597)","v":46},{"$f":"MODE(DataExtract!$BO$3:$BO$1597)","v":180},{"$f":"_xlfn.PERCENTILE.EXC(DataExtract!$BO$3:$BO$1597,0.75)","v":132},{"$f":"_xlfn.PERCENTILE.EXC(DataExtract!$BO$3:$BO$1597,0.9)","v":202},{"$f":"MAX(DataExtract!$BO$3:$BO$1597,0.25)","v":365},{"$f":"COUNT(DataExtract!$BO$3:$BO$1597)","v":1595}]
[null,null,{"$f":"IF(ISBLANK(A24),\"--\",IF(B24=$I$14,I24,IF(B24=$J$14,J24,IF(B24=$K$14,K24,IF(B24=$L$14,L24,IF(B24=$N$14,N24,IF(B24=$M$14,M24,IF(B24='Dropdown Lists'!$O$23,Injuries_WorkMissed!N24,\"--\"))))))))","v":"--"},null,{"$f":"IF(ISBLANK(D24),\"--\",IF(D24='Dropdown Lists'!$K$37,P24,IF(D24='Dropdown Lists'!$K$38,Q24,IF(D24='Dropdown Lists'!$K$39,R24,IF(D24='Dropdown Lists'!$K$40,S24,IF(D24='Dropdown Lists'!$K$41,T24,IF(D24='Dropdown Lists'!$K$42,U24,IF(D24='Dropdown Lists'!$K$43,V24,IF(D24='Dropdown Lists'!$K$44,W24,IF(D24='Dropdown Lists'!$K$45,X24,IF(D24='Dropdown Lists'!$K$46,Z24,IF(D24='Dropdown Lists'!$K$47,AA24,IF(D24='Dropdown Lists'!$K$48,AB24,IF(D24='Dropdown Lists'!$K$49,AC24,IF(D24='Dropdown Lists'!$K$50,AD24,IF(D24='Dropdown Lists'!$K$51,AE24,IF(D24='Dropdown Lists'!$K$52,AF24,IF(D24='Dropdown Lists'!$K$53,AG24,IF(D24='Dropdown Lists'!$K$54,AH24,IF(D24='Dropdown Lists'!$K$55,AJ24,\"\"))))))))))))))))))))","v":"--"},null,{"$f":"IF(ISBLANK(F24),\"--\",(C24*(E24*8)*F24))","v":"--"},null,{"$f":"IF(ISBLANK(A24),\"--\",VLOOKUP(A24,Injuries_WorkMissed!$B$109:$G$863,2,FALSE))","v":"--"},{"$f":"IF(ISBLANK(A24),\"--\",VLOOKUP(A24,Injuries_WorkMissed!$B$109:$G$863,3,FALSE))","v":"--"},{"$f":"IF(ISBLANK(A24),\"--\",VLOOKUP(A24,Injuries_WorkMissed!$B$109:$G$863,4,FALSE))","v":"--"},{"$f":"IF(ISBLANK(A24),\"--\",VLOOKUP(A24,Injuries_WorkMissed!$B$109:$G$863,5,FALSE))","v":"--"},{"$f":"IF(ISBLANK(A24),\"--\",VLOOKUP(A24,Injuries_WorkMissed!$B$109:$G$863,6,FALSE))","v":"--"},null,null,{"$f":"MIN(DataExtract!$BP$3:$BP$1597)","v":0},{"$f":"_xlfn.PERCENTILE.EXC(DataExtract!$BP$3:$BP$1597,0.1)","v":0},{"$f":"_xlfn.PERCENTILE.EXC(DataExtract!$BP$3:$BP$1597,0.25)","v":0},{"$f":"AVERAGE(DataExtract!$BP$3:$BP$5302)","v":23.924716981132075},1.5,{"$f":"MODE(DataExtract!$BP$1598:$BP$5302)","v":0},{"$f":"_xlfn.PERCENTILE.EXC(DataExtract!$BP$3:$BP$5302,0.75)","v":5},{"$f":"_xlfn.PERCENTILE.EXC(DataExtract!$BP$3:$BP$5302,0.9)","v":92},{"$f":"MAX(DataExtract!$BP$3:$BP$5302)","v":365},{"$f":"COUNT(DataExtract!$BP$3:$BP$5302)","v":5300},{"$f":"MIN(DataExtract!$BO$3:$BO$1597)","v":1},{"$f":"_xlfn.PERCENTILE.EXC(DataExtract!$BO$3:$BO$1597,0.1)","v":3},{"$f":"_xlfn.PERCENTILE.EXC(DataExtract!$BO$3:$BO$1597,0.25)","v":8},{"$f":"AVERAGE(DataExtract!$BO$3:$BO$1597)","v":79.499059561128533},{"$f":"MEDIAN(DataExtract!$BO$3:$BO$1597)","v":46},{"$f":"MODE(DataExtract!$BO$3:$BO$1597)","v":180},{"$f":"_xlfn.PERCENTILE.EXC(DataExtract!$BO$3:$BO$1597,0.75)","v":132},{"$f":"_xlfn.PERCENTILE.EXC(DataExtract!$BO$3:$BO$1597,0.9)","v":202},{"$f":"MAX(DataExtract!$BO$3:$BO$1597,0.25)","v":365},{"$f":"COUNT(DataExtract!$BO$3:$BO$1597)","v":1595}]
[null,null,{"$f":"IF(ISBLANK(A25),\"--\",IF(B25=$I$14,I25,IF(B25=$J$14,J25,IF(B25=$K$14,K25,IF(B25=$L$14,L25,IF(B25=$N$14,N25,IF(B25=$M$14,M25,IF(B25='Dropdown Lists'!$O$23,Injuries_WorkMissed!N25,\"--\"))))))))","v":"--"},null,{"$f":"IF(ISBLANK(D25),\"--\",IF(D25='Dropdown Lists'!$K$37,P25,IF(D25='Dropdown Lists'!$K$38,Q25,IF(D25='Dropdown Lists'!$K$39,R25,IF(D25='Dropdown Lists'!$K$40,S25,IF(D25='Dropdown Lists'!$K$41,T25,IF(D25='Dropdown Lists'!$K$42,U25,IF(D25='Dropdown Lists'!$K$43,V25,IF(D25='Dropdown Lists'!$K$44,W25,IF(D25='Dropdown Lists'!$K$45,X25,IF(D25='Dropdown Lists'!$K$46,Z25,IF(D25='Dropdown Lists'!$K$47,AA25,IF(D25='Dropdown Lists'!$K$48,AB25,IF(D25='Dropdown Lists'!$K$49,AC25,IF(D25='Dropdown Lists'!$K$50,AD25,IF(D25='Dropdown Lists'!$K$51,AE25,IF(D25='Dropdown Lists'!$K$52,AF25,IF(D25='Dropdown Lists'!$K$53,AG25,IF(D25='Dropdown Lists'!$K$54,AH25,IF(D25='Dropdown Lists'!$K$55,AJ25,\"\"))))))))))))))))))))","v":"--"},null,"--",null,{"$f":"IF(ISBLANK(A25),\"--\",VLOOKUP(A25,Injuries_WorkMissed!$B$109:$G$863,2,FALSE))","v":"--"},{"$f":"IF(ISBLANK(A25),\"--\",VLOOKUP(A25,Injuries_WorkMissed!$B$109:$G$863,3,FALSE))","v":"--"},{"$f":"IF(ISBLANK(A25),\"--\",VLOOKUP(A25,Injuries_WorkMissed!$B$109:$G$863,4,FALSE))","v":"--"},{"$f":"IF(ISBLANK(A25),\"--\",VLOOKUP(A25,Injuries_WorkMissed!$B$109:$G$863,5,FALSE))","v":"--"},{"$f":"IF(ISBLANK(A25),\"--\",VLOOKUP(A25,Injuries_WorkMissed!$B$109:$G$863,6,FALSE))","v":"--"},null,null,{"$f":"MIN(DataExtract!$BP$3:$BP$1597)","v":0},{"$f":"_xlfn.PERCENTILE.EXC(DataExtract!$BP$3:$BP$1597,0.1)","v":0},{"$f":"_xlfn.PERCENTILE.EXC(DataExtract!$BP$3:$BP$1597,0.25)","v":0},{"$f":"AVERAGE(DataExtract!$BP$3:$BP$5302)","v":23.924716981132075},1.5,{"$f":"MODE(DataExtract!$BP$1598:$BP$5302)","v":0},{"$f":"_xlfn.PERCENTILE.EXC(DataExtract!$BP$3:$BP$5302,0.75)","v":5},{"$f":"_xlfn.PERCENTILE.EXC(DataExtract!$BP$3:$BP$5302,0.9)","v":92},{"$f":"MAX(DataExtract!$BP$3:$BP$5302)","v":365},{"$f":"COUNT(DataExtract!$BP$3:$BP$5302)","v":5300},{"$f":"MIN(DataExtract!$BO$3:$BO$1597)","v":1},{"$f":"_xlfn.PERCENTILE.EXC(DataExtract!$BO$3:$BO$1597,0.1)","v":3},{"$f":"_xlfn.PERCENTILE.EXC(DataExtract!$BO$3:$BO$1597,0.25)","v":8},{"$f":"AVERAGE(DataExtract!$BO$3:$BO$1597)","v":79.499059561128533},{"$f":"MEDIAN(DataExtract!$BO$3:$BO$1597)","v":46},{"$f":"MODE(DataExtract!$BO$3:$BO$1597)","v":180},{"$f":"_xlfn.PERCENTILE.EXC(DataExtract!$BO$3:$BO$1597,0.75)","v":132},{"$f":"_xlfn.PERCENTILE.EXC(DataExtract!$BO$3:$BO$1597,0.9)","v":202},{"$f":"MAX(DataExtract!$BO$3:$BO$1597,0.25)","v":365},{"$f":"COUNT(DataExtract!$BO$3:$BO$1597)","v":1595}]
[null,null,{"$f":"IF(ISBLANK(A26),\"--\",IF(B26=$I$14,I26,IF(B26=$J$14,J26,IF(B26=$K$14,K26,IF(B26=$L$14,L26,IF(B26=$N$14,N26,IF(B26=$M$14,M26,IF(B26='Dropdown Lists'!$O$23,Injuries_WorkMissed!N26,\"--\"))))))))","v":"--"},null,{"$f":"IF(ISBLANK(D26),\"--\",IF(D26='Dropdown Lists'!$K$37,P26,IF(D26='Dropdown Lists'!$K$38,Q26,IF(D26='Dropdown Lists'!$K$39,R26,IF(D26='Dropdown Lists'!$K$40,S26,IF(D26='Dropdown Lists'!$K$41,T26,IF(D26='Dropdown Lists'!$K$42,U26,IF(D26='Dropdown Lists'!$K$43,V26,IF(D26='Dropdown Lists'!$K$44,W26,IF(D26='Dropdown Lists'!$K$45,X26,IF(D26='Dropdown Lists'!$K$46,Z26,IF(D26='Dropdown Lists'!$K$47,AA26,IF(D26='Dropdown Lists'!$K$48,AB26,IF(D26='Dropdown Lists'!$K$49,AC26,IF(D26='Dropdown Lists'!$K$50,AD26,IF(D26='Dropdown Lists'!$K$51,AE26,IF(D26='Dropdown Lists'!$K$52,AF26,IF(D26='Dropdown Lists'!$K$53,AG26,IF(D26='Dropdown Lists'!$K$54,AH26,IF(D26='Dropdown Lists'!$K$55,AJ26,\"\"))))))))))))))))))))","v":"--"},null,"--",null,{"$f":"IF(ISBLANK(A26),\"--\",VLOOKUP(A26,Injuries_WorkMissed!$B$109:$G$863,2,FALSE))","v":"--"},{"$f":"IF(ISBLANK(A26),\"--\",VLOOKUP(A26,Injuries_WorkMissed!$B$109:$G$863,3,FALSE))","v":"--"},{"$f":"IF(ISBLANK(A26),\"--\",VLOOKUP(A26,Injuries_WorkMissed!$B$109:$G$863,4,FALSE))","v":"--"},{"$f":"IF(ISBLANK(A26),\"--\",VLOOKUP(A26,Injuries_WorkMissed!$B$109:$G$863,5,FALSE))","v":"--"},{"$f":"IF(ISBLANK(A26),\"--\",VLOOKUP(A26,Injuries_WorkMissed!$B$109:$G$863,6,FALSE))","v":"--"},null,null,{"$f":"MIN(DataExtract!$BP$3:$BP$1597)","v":0},{"$f":"_xlfn.PERCENTILE.EXC(DataExtract!$BP$3:$BP$1597,0.1)","v":0},{"$f":"_xlfn.PERCENTILE.EXC(DataExtract!$BP$3:$BP$1597,0.25)","v":0},{"$f":"AVERAGE(DataExtract!$BP$3:$BP$5302)","v":23.924716981132075},1.5,{"$f":"MODE(DataExtract!$BP$1598:$BP$5302)","v":0},{"$f":"_xlfn.PERCENTILE.EXC(DataExtract!$BP$3:$BP$5302,0.75)","v":5},{"$f":"_xlfn.PERCENTILE.EXC(DataExtract!$BP$3:$BP$5302,0.9)","v":92},{"$f":"MAX(DataExtract!$BP$3:$BP$5302)","v":365},{"$f":"COUNT(DataExtract!$BP$3:$BP$5302)","v":5300},{"$f":"MIN(DataExtract!$BO$3:$BO$1597)","v":1},{"$f":"_xlfn.PERCENTILE.EXC(DataExtract!$BO$3:$BO$1597,0.1)","v":3},{"$f":"_xlfn.PERCENTILE.EXC(DataExtract!$BO$3:$BO$1597,0.25)","v":8},{"$f":"AVERAGE(DataExtract!$BO$3:$BO$1597)","v":79.499059561128533},{"$f":"MEDIAN(DataExtract!$BO$3:$BO$1597)","v":46},{"$f":"MODE(DataExtract!$BO$3:$BO$1597)","v":180},{"$f":"_xlfn.PERCENTILE.EXC(DataExtract!$BO$3:$BO$1597,0.75)","v":132},{"$f":"_xlfn.PERCENTILE.EXC(DataExtract!$BO$3:$BO$1597,0.9)","v":202},{"$f":"MAX(DataExtract!$BO$3:$BO$1597,0.25)","v":365},{"$f":"COUNT(DataExtract!$BO$3:$BO$1597)","v":1595}]
[null,null,{"$f":"IF(ISBLANK(A27),\"--\",IF(B27=$I$14,I27,IF(B27=$J$14,J27,IF(B27=$K$14,K27,IF(B27=$L$14,L27,IF(B27=$N$14,N27,IF(B27=$M$14,M27,IF(B27='Dropdown Lists'!$O$23,Injuries_WorkMissed!N27,\"--\"))))))))","v":"--"},null,{"$f":"IF(ISBLANK(D27),\"--\",IF(D27='Dropdown Lists'!$K$37,P27,IF(D27='Dropdown Lists'!$K$38,Q27,IF(D27='Dropdown Lists'!$K$39,R27,IF(D27='Dropdown Lists'!$K$40,S27,IF(D27='Dropdown Lists'!$K$41,T27,IF(D27='Dropdown Lists'!$K$42,U27,IF(D27='Dropdown Lists'!$K$43,V27,IF(D27='Dropdown Lists'!$K$44,W27,IF(D27='Dropdown Lists'!$K$45,X27,IF(D27='Dropdown Lists'!$K$46,Z27,IF(D27='Dropdown Lists'!$K$47,AA27,IF(D27='Dropdown Lists'!$K$48,AB27,IF(D27='Dropdown Lists'!$K$49,AC27,IF(D27='Dropdown Lists'!$K$50,AD27,IF(D27='Dropdown Lists'!$K$51,AE27,IF(D27='Dropdown Lists'!$K$52,AF27,IF(D27='Dropdown Lists'!$K$53,AG27,IF(D27='Dropdown Lists'!$K$54,AH27,IF(D27='Dropdown Lists'!$K$55,AJ27,\"\"))))))))))))))))))))","v":"--"},null,"--",null,{"$f":"IF(ISBLANK(A27),\"--\",VLOOKUP(A27,Injuries_WorkMissed!$B$109:$G$863,2,FALSE))","v":"--"},{"$f":"IF(ISBLANK(A27),\"--\",VLOOKUP(A27,Injuries_WorkMissed!$B$109:$G$863,3,FALSE))","v":"--"},{"$f":"IF(ISBLANK(A27),\"--\",VLOOKUP(A27,Injuries_WorkMissed!$B$109:$G$863,4,FALSE))","v":"--"},{"$f":"IF(ISBLANK(A27),\"--\",VLOOKUP(A27,Injuries_WorkMissed!$B$109:$G$863,5,FALSE))","v":"--"},{"$f":"IF(ISBLANK(A27),\"--\",VLOOKUP(A27,Injuries_WorkMissed!$B$109:$G$863,6,FALSE))","v":"--"},null,null,{"$f":"MIN(DataExtract!$BP$3:$BP$1597)","v":0},{"$f":"_xlfn.PERCENTILE.EXC(DataExtract!$BP$3:$BP$1597,0.1)","v":0},{"$f":"_xlfn.PERCENTILE.EXC(DataExtract!$BP$3:$BP$1597,0.25)","v":0},{"$f":"AVERAGE(DataExtract!$BP$3:$BP$5302)","v":23.924716981132075},1.5,{"$f":"MODE(DataExtract!$BP$1598:$BP$5302)","v":0},{"$f":"_xlfn.PERCENTILE.EXC(DataExtract!$BP$3:$BP$5302,0.75)","v":5},{"$f":"_xlfn.PERCENTILE.EXC(DataExtract!$BP$3:$BP$5302,0.9)","v":92},{"$f":"MAX(DataExtract!$BP$3:$BP$5302)","v":365},{"$f":"COUNT(DataExtract!$BP$3:$BP$5302)","v":5300},{"$f":"MIN(DataExtract!$BO$3:$BO$1597)","v":1},{"$f":"_xlfn.PERCENTILE.EXC(DataExtract!$BO$3:$BO$1597,0.1)","v":3},{"$f":"_xlfn.PERCENTILE.EXC(DataExtract!$BO$3:$BO$1597,0.25)","v":8},{"$f":"AVERAGE(DataExtract!$BO$3:$BO$1597)","v":79.499059561128533},{"$f":"MEDIAN(DataExtract!$BO$3:$BO$1597)","v":46},{"$f":"MODE(DataExtract!$BO$3:$BO$1597)","v":180},{"$f":"_xlfn.PERCENTILE.EXC(DataExtract!$BO$3:$BO$1597,0.75)","v":132},{"$f":"_xlfn.PERCENTILE.EXC(DataExtract!$BO$3:$BO$1597,0.9)","v":202},{"$f":"MAX(DataExtract!$BO$3:$BO$1597,0.25)","v":365},{"$f":"COUNT(DataExtract!$BO$3:$BO$1597)","v":1595}]
[null,null,{"$f":"IF(ISBLANK(A28),\"--\",IF(B28=$I$14,I28,IF(B28=$J$14,J28,IF(B28=$K$14,K28,IF(B28=$L$14,L28,IF(B28=$N$14,N28,IF(B28=$M$14,M28,IF(B28='Dropdown Lists'!$O$23,Injuries_WorkMissed!N28,\"--\"))))))))","v":"--"},null,{"$f":"IF(ISBLANK(D28),\"--\",IF(D28='Dropdown Lists'!$K$37,P28,IF(D28='Dropdown Lists'!$K$38,Q28,IF(D28='Dropdown Lists'!$K$39,R28,IF(D28='Dropdown Lists'!$K$40,S28,IF(D28='Dropdown Lists'!$K$41,T28,IF(D28='Dropdown Lists'!$K$42,U28,IF(D28='Dropdown Lists'!$K$43,V28,IF(D28='Dropdown Lists'!$K$44,W28,IF(D28='Dropdown Lists'!$K$45,X28,IF(D28='Dropdown Lists'!$K$46,Z28,IF(D28='Dropdown Lists'!$K$47,AA28,IF(D28='Dropdown Lists'!$K$48,AB28,IF(D28='Dropdown Lists'!$K$49,AC28,IF(D28='Dropdown Lists'!$K$50,AD28,IF(D28='Dropdown Lists'!$K$51,AE28,IF(D28='Dropdown Lists'!$K$52,AF28,IF(D28='Dropdown Lists'!$K$53,AG28,IF(D28='Dropdown Lists'!$K$54,AH28,IF(D28='Dropdown Lists'!$K$55,AJ28,\"\"))))))))))))))))))))","v":"--"},null,"--",null,{"$f":"IF(ISBLANK(A28),\"--\",VLOOKUP(A28,Injuries_WorkMissed!$B$109:$G$863,2,FALSE))","v":"--"},{"$f":"IF(ISBLANK(A28),\"--\",VLOOKUP(A28,Injuries_WorkMissed!$B$109:$G$863,3,FALSE))","v":"--"},{"$f":"IF(ISBLANK(A28),\"--\",VLOOKUP(A28,Injuries_WorkMissed!$B$109:$G$863,4,FALSE))","v":"--"},{"$f":"IF(ISBLANK(A28),\"--\",VLOOKUP(A28,Injuries_WorkMissed!$B$109:$G$863,5,FALSE))","v":"--"},{"$f":"IF(ISBLANK(A28),\"--\",VLOOKUP(A28,Injuries_WorkMissed!$B$109:$G$863,6,FALSE))","v":"--"},null,null,{"$f":"MIN(DataExtract!$BP$3:$BP$1597)","v":0},{"$f":"_xlfn.PERCENTILE.EXC(DataExtract!$BP$3:$BP$1597,0.1)","v":0},{"$f":"_xlfn.PERCENTILE.EXC(DataExtract!$BP$3:$BP$1597,0.25)","v":0},{"$f":"AVERAGE(DataExtract!$BP$3:$BP$5302)","v":23.924716981132075},1.5,{"$f":"MODE(DataExtract!$BP$1598:$BP$5302)","v":0},{"$f":"_xlfn.PERCENTILE.EXC(DataExtract!$BP$3:$BP$5302,0.75)","v":5},{"$f":"_xlfn.PERCENTILE.EXC(DataExtract!$BP$3:$BP$5302,0.9)","v":92},{"$f":"MAX(DataExtract!$BP$3:$BP$5302)","v":365},{"$f":"COUNT(DataExtract!$BP$3:$BP$5302)","v":5300},{"$f":"MIN(DataExtract!$BO$3:$BO$1597)","v":1},{"$f":"_xlfn.PERCENTILE.EXC(DataExtract!$BO$3:$BO$1597,0.1)","v":3},{"$f":"_xlfn.PERCENTILE.EXC(DataExtract!$BO$3:$BO$1597,0.25)","v":8},{"$f":"AVERAGE(DataExtract!$BO$3:$BO$1597)","v":79.499059561128533},{"$f":"MEDIAN(DataExtract!$BO$3:$BO$1597)","v":46},{"$f":"MODE(DataExtract!$BO$3:$BO$1597)","v":180},{"$f":"_xlfn.PERCENTILE.EXC(DataExtract!$BO$3:$BO$1597,0.75)","v":132},{"$f":"_xlfn.PERCENTILE.EXC(DataExtract!$BO$3:$BO$1597,0.9)","v":202},{"$f":"MAX(DataExtract!$BO$3:$BO$1597,0.25)","v":365},{"$f":"COUNT(DataExtract!$BO$3:$BO$1597)","v":1595}]
[null,null,{"$f":"IF(ISBLANK(A29),\"--\",IF(B29=$I$14,I29,IF(B29=$J$14,J29,IF(B29=$K$14,K29,IF(B29=$L$14,L29,IF(B29=$N$14,N29,IF(B29=$M$14,M29,IF(B29='Dropdown Lists'!$O$23,Injuries_WorkMissed!N29,\"--\"))))))))","v":"--"},null,{"$f":"IF(ISBLANK(D29),\"--\",IF(D29='Dropdown Lists'!$K$37,P29,IF(D29='Dropdown Lists'!$K$38,Q29,IF(D29='Dropdown Lists'!$K$39,R29,IF(D29='Dropdown Lists'!$K$40,S29,IF(D29='Dropdown Lists'!$K$41,T29,IF(D29='Dropdown Lists'!$K$42,U29,IF(D29='Dropdown Lists'!$K$43,V29,IF(D29='Dropdown Lists'!$K$44,W29,IF(D29='Dropdown Lists'!$K$45,X29,IF(D29='Dropdown Lists'!$K$46,Z29,IF(D29='Dropdown Lists'!$K$47,AA29,IF(D29='Dropdown Lists'!$K$48,AB29,IF(D29='Dropdown Lists'!$K$49,AC29,IF(D29='Dropdown Lists'!$K$50,AD29,IF(D29='Dropdown Lists'!$K$51,AE29,IF(D29='Dropdown Lists'!$K$52,AF29,IF(D29='Dropdown Lists'!$K$53,AG29,IF(D29='Dropdown Lists'!$K$54,AH29,IF(D29='Dropdown Lists'!$K$55,AJ29,\"\"))))))))))))))))))))","v":"--"},null,"--",null,{"$f":"IF(ISBLANK(A29),\"--\",VLOOKUP(A29,Injuries_WorkMissed!$B$109:$G$863,2,FALSE))","v":"--"},{"$f":"IF(ISBLANK(A29),\"--\",VLOOKUP(A29,Injuries_WorkMissed!$B$109:$G$863,3,FALSE))","v":"--"},{"$f":"IF(ISBLANK(A29),\"--\",VLOOKUP(A29,Injuries_WorkMissed!$B$109:$G$863,4,FALSE))","v":"--"},{"$f":"IF(ISBLANK(A29),\"--\",VLOOKUP(A29,Injuries_WorkMissed!$B$109:$G$863,5,FALSE))","v":"--"},{"$f":"IF(ISBLANK(A29),\"--\",VLOOKUP(A29,Injuries_WorkMissed!$B$109:$G$863,6,FALSE))","v":"--"},null,null,{"$f":"MIN(DataExtract!$BP$3:$BP$1597)","v":0},{"$f":"_xlfn.PERCENTILE.EXC(DataExtract!$BP$3:$BP$1597,0.1)","v":0},{"$f":"_xlfn.PERCENTILE.EXC(DataExtract!$BP$3:$BP$1597,0.25)","v":0},{"$f":"AVERAGE(DataExtract!$BP$3:$BP$5302)","v":23.924716981132075},1.5,{"$f":"MODE(DataExtract!$BP$1598:$BP$5302)","v":0},{"$f":"_xlfn.PERCENTILE.EXC(DataExtract!$BP$3:$BP$5302,0.75)","v":5},{"$f":"_xlfn.PERCENTILE.EXC(DataExtract!$BP$3:$BP$5302,0.9)","v":92},{"$f":"MAX(DataExtract!$BP$3:$BP$5302)","v":365},{"$f":"COUNT(DataExtract!$BP$3:$BP$5302)","v":5300},{"$f":"MIN(DataExtract!$BO$3:$BO$1597)","v":1},{"$f":"_xlfn.PERCENTILE.EXC(DataExtract!$BO$3:$BO$1597,0.1)","v":3},{"$f":"_xlfn.PERCENTILE.EXC(DataExtract!$BO$3:$BO$1597,0.25)","v":8},{"$f":"AVERAGE(DataExtract!$BO$3:$BO$1597)","v":79.499059561128533},{"$f":"MEDIAN(DataExtract!$BO$3:$BO$1597)","v":46},{"$f":"MODE(DataExtract!$BO$3:$BO$1597)","v":180},{"$f":"_xlfn.PERCENTILE.EXC(DataExtract!$BO$3:$BO$1597,0.75)","v":132},{"$f":"_xlfn.PERCENTILE.EXC(DataExtract!$BO$3:$BO$1597,0.9)","v":202},{"$f":"MAX(DataExtract!$BO$3:$BO$1597,0.25)","v":365},{"$f":"COUNT(DataExtract!$BO$3:$BO$1597)","v":1595}]
[null,null,{"$f":"IF(ISBLANK(A30),\"--\",IF(B30=$I$14,I30,IF(B30=$J$14,J30,IF(B30=$K$14,K30,IF(B30=$L$14,L30,IF(B30=$N$14,N30,IF(B30=$M$14,M30,IF(B30='Dropdown Lists'!$O$23,Injuries_WorkMissed!N30,\"--\"))))))))","v":"--"},null,{"$f":"IF(ISBLANK(D30),\"--\",IF(D30='Dropdown Lists'!$K$37,P30,IF(D30='Dropdown Lists'!$K$38,Q30,IF(D30='Dropdown Lists'!$K$39,R30,IF(D30='Dropdown Lists'!$K$40,S30,IF(D30='Dropdown Lists'!$K$41,T30,IF(D30='Dropdown Lists'!$K$42,U30,IF(D30='Dropdown Lists'!$K$43,V30,IF(D30='Dropdown Lists'!$K$44,W30,IF(D30='Dropdown Lists'!$K$45,X30,IF(D30='Dropdown Lists'!$K$46,Z30,IF(D30='Dropdown Lists'!$K$47,AA30,IF(D30='Dropdown Lists'!$K$48,AB30,IF(D30='Dropdown Lists'!$K$49,AC30,IF(D30='Dropdown Lists'!$K$50,AD30,IF(D30='Dropdown Lists'!$K$51,AE30,IF(D30='Dropdown Lists'!$K$52,AF30,IF(D30='Dropdown Lists'!$K$53,AG30,IF(D30='Dropdown Lists'!$K$54,AH30,IF(D30='Dropdown Lists'!$K$55,AJ30,\"\"))))))))))))))))))))","v":"--"},null,"--",null,{"$f":"IF(ISBLANK(A30),\"--\",VLOOKUP(A30,Injuries_WorkMissed!$B$109:$G$863,2,FALSE))","v":"--"},{"$f":"IF(ISBLANK(A30),\"--\",VLOOKUP(A30,Injuries_WorkMissed!$B$109:$G$863,3,FALSE))","v":"--"},{"$f":"IF(ISBLANK(A30),\"--\",VLOOKUP(A30,Injuries_WorkMissed!$B$109:$G$863,4,FALSE))","v":"--"},{"$f":"IF(ISBLANK(A30),\"--\",VLOOKUP(A30,Injuries_WorkMissed!$B$109:$G$863,5,FALSE))","v":"--"},{"$f":"IF(ISBLANK(A30),\"--\",VLOOKUP(A30,Injuries_WorkMissed!$B$109:$G$863,6,FALSE))","v":"--"},null,null,{"$f":"MIN(DataExtract!$BP$3:$BP$1597)","v":0},{"$f":"_xlfn.PERCENTILE.EXC(DataExtract!$BP$3:$BP$1597,0.1)","v":0},{"$f":"_xlfn.PERCENTILE.EXC(DataExtract!$BP$3:$BP$1597,0.25)","v":0},{"$f":"AVERAGE(DataExtract!$BP$3:$BP$5302)","v":23.924716981132075},1.5,{"$f":"MODE(DataExtract!$BP$1598:$BP$5302)","v":0},{"$f":"_xlfn.PERCENTILE.EXC(DataExtract!$BP$3:$BP$5302,0.75)","v":5},{"$f":"_xlfn.PERCENTILE.EXC(DataExtract!$BP$3:$BP$5302,0.9)","v":92},{"$f":"MAX(DataExtract!$BP$3:$BP$5302)","v":365},{"$f":"COUNT(DataExtract!$BP$3:$BP$5302)","v":5300},{"$f":"MIN(DataExtract!$BO$3:$BO$1597)","v":1},{"$f":"_xlfn.PERCENTILE.EXC(DataExtract!$BO$3:$BO$1597,0.1)","v":3},{"$f":"_xlfn.PERCENTILE.EXC(DataExtract!$BO$3:$BO$1597,0.25)","v":8},{"$f":"AVERAGE(DataExtract!$BO$3:$BO$1597)","v":79.499059561128533},{"$f":"MEDIAN(DataExtract!$BO$3:$BO$1597)","v":46},{"$f":"MODE(DataExtract!$BO$3:$BO$1597)","v":180},{"$f":"_xlfn.PERCENTILE.EXC(DataExtract!$BO$3:$BO$1597,0.75)","v":132},{"$f":"_xlfn.PERCENTILE.EXC(DataExtract!$BO$3:$BO$1597,0.9)","v":202},{"$f":"MAX(DataExtract!$BO$3:$BO$1597,0.25)","v":365},{"$f":"COUNT(DataExtract!$BO$3:$BO$1597)","v":1595}]
[null,null,{"$f":"IF(ISBLANK(A31),\"--\",IF(B31=$I$14,I31,IF(B31=$J$14,J31,IF(B31=$K$14,K31,IF(B31=$L$14,L31,IF(B31=$N$14,N31,IF(B31=$M$14,M31,IF(B31='Dropdown Lists'!$O$23,Injuries_WorkMissed!N31,\"--\"))))))))","v":"--"},null,{"$f":"IF(ISBLANK(D31),\"--\",IF(D31='Dropdown Lists'!$K$37,P31,IF(D31='Dropdown Lists'!$K$38,Q31,IF(D31='Dropdown Lists'!$K$39,R31,IF(D31='Dropdown Lists'!$K$40,S31,IF(D31='Dropdown Lists'!$K$41,T31,IF(D31='Dropdown Lists'!$K$42,U31,IF(D31='Dropdown Lists'!$K$43,V31,IF(D31='Dropdown Lists'!$K$44,W31,IF(D31='Dropdown Lists'!$K$45,X31,IF(D31='Dropdown Lists'!$K$46,Z31,IF(D31='Dropdown Lists'!$K$47,AA31,IF(D31='Dropdown Lists'!$K$48,AB31,IF(D31='Dropdown Lists'!$K$49,AC31,IF(D31='Dropdown Lists'!$K$50,AD31,IF(D31='Dropdown Lists'!$K$51,AE31,IF(D31='Dropdown Lists'!$K$52,AF31,IF(D31='Dropdown Lists'!$K$53,AG31,IF(D31='Dropdown Lists'!$K$54,AH31,IF(D31='Dropdown Lists'!$K$55,AJ31,\"\"))))))))))))))))))))","v":"--"},null,"--",null,{"$f":"IF(ISBLANK(A31),\"--\",VLOOKUP(A31,Injuries_WorkMissed!$B$109:$G$863,2,FALSE))","v":"--"},{"$f":"IF(ISBLANK(A31),\"--\",VLOOKUP(A31,Injuries_WorkMissed!$B$109:$G$863,3,FALSE))","v":"--"},{"$f":"IF(ISBLANK(A31),\"--\",VLOOKUP(A31,Injuries_WorkMissed!$B$109:$G$863,4,FALSE))","v":"--"},{"$f":"IF(ISBLANK(A31),\"--\",VLOOKUP(A31,Injuries_WorkMissed!$B$109:$G$863,5,FALSE))","v":"--"},{"$f":"IF(ISBLANK(A31),\"--\",VLOOKUP(A31,Injuries_WorkMissed!$B$109:$G$863,6,FALSE))","v":"--"},null,null,{"$f":"MIN(DataExtract!$BP$3:$BP$1597)","v":0},{"$f":"_xlfn.PERCENTILE.EXC(DataExtract!$BP$3:$BP$1597,0.1)","v":0},{"$f":"_xlfn.PERCENTILE.EXC(DataExtract!$BP$3:$BP$1597,0.25)","v":0},{"$f":"AVERAGE(DataExtract!$BP$3:$BP$5302)","v":23.924716981132075},1.5,{"$f":"MODE(DataExtract!$BP$1598:$BP$5302)","v":0},{"$f":"_xlfn.PERCENTILE.EXC(DataExtract!$BP$3:$BP$5302,0.75)","v":5},{"$f":"_xlfn.PERCENTILE.EXC(DataExtract!$BP$3:$BP$5302,0.9)","v":92},{"$f":"MAX(DataExtract!$BP$3:$BP$5302)","v":365},{"$f":"COUNT(DataExtract!$BP$3:$BP$5302)","v":5300},{"$f":"MIN(DataExtract!$BO$3:$BO$1597)","v":1},{"$f":"_xlfn.PERCENTILE.EXC(DataExtract!$BO$3:$BO$1597,0.1)","v":3},{"$f":"_xlfn.PERCENTILE.EXC(DataExtract!$BO$3:$BO$1597,0.25)","v":8},{"$f":"AVERAGE(DataExtract!$BO$3:$BO$1597)","v":79.499059561128533},{"$f":"MEDIAN(DataExtract!$BO$3:$BO$1597)","v":46},{"$f":"MODE(DataExtract!$BO$3:$BO$1597)","v":180},{"$f":"_xlfn.PERCENTILE.EXC(DataExtract!$BO$3:$BO$1597,0.75)","v":132},{"$f":"_xlfn.PERCENTILE.EXC(DataExtract!$BO$3:$BO$1597,0.9)","v":202},{"$f":"MAX(DataExtract!$BO$3:$BO$1597,0.25)","v":365},{"$f":"COUNT(DataExtract!$BO$3:$BO$1597)","v":1595}]
[null,null,{"$f":"IF(ISBLANK(A32),\"--\",IF(B32=$I$14,I32,IF(B32=$J$14,J32,IF(B32=$K$14,K32,IF(B32=$L$14,L32,IF(B32=$N$14,N32,IF(B32=$M$14,M32,IF(B32='Dropdown Lists'!$O$23,Injuries_WorkMissed!N32,\"--\"))))))))","v":"--"},null,{"$f":"IF(ISBLANK(D32),\"--\",IF(D32='Dropdown Lists'!$K$37,P32,IF(D32='Dropdown Lists'!$K$38,Q32,IF(D32='Dropdown Lists'!$K$39,R32,IF(D32='Dropdown Lists'!$K$40,S32,IF(D32='Dropdown Lists'!$K$41,T32,IF(D32='Dropdown Lists'!$K$42,U32,IF(D32='Dropdown Lists'!$K$43,V32,IF(D32='Dropdown Lists'!$K$44,W32,IF(D32='Dropdown Lists'!$K$45,X32,IF(D32='Dropdown Lists'!$K$46,Z32,IF(D32='Dropdown Lists'!$K$47,AA32,IF(D32='Dropdown Lists'!$K$48,AB32,IF(D32='Dropdown Lists'!$K$49,AC32,IF(D32='Dropdown Lists'!$K$50,AD32,IF(D32='Dropdown Lists'!$K$51,AE32,IF(D32='Dropdown Lists'!$K$52,AF32,IF(D32='Dropdown Lists'!$K$53,AG32,IF(D32='Dropdown Lists'!$K$54,AH32,IF(D32='Dropdown Lists'!$K$55,AJ32,\"\"))))))))))))))))))))","v":"--"},null,"--",null,{"$f":"IF(ISBLANK(A32),\"--\",VLOOKUP(A32,Injuries_WorkMissed!$B$109:$G$863,2,FALSE))","v":"--"},{"$f":"IF(ISBLANK(A32),\"--\",VLOOKUP(A32,Injuries_WorkMissed!$B$109:$G$863,3,FALSE))","v":"--"},{"$f":"IF(ISBLANK(A32),\"--\",VLOOKUP(A32,Injuries_WorkMissed!$B$109:$G$863,4,FALSE))","v":"--"},{"$f":"IF(ISBLANK(A32),\"--\",VLOOKUP(A32,Injuries_WorkMissed!$B$109:$G$863,5,FALSE))","v":"--"},{"$f":"IF(ISBLANK(A32),\"--\",VLOOKUP(A32,Injuries_WorkMissed!$B$109:$G$863,6,FALSE))","v":"--"},null,null,{"$f":"MIN(DataExtract!$BP$3:$BP$1597)","v":0},{"$f":"_xlfn.PERCENTILE.EXC(DataExtract!$BP$3:$BP$1597,0.1)","v":0},{"$f":"_xlfn.PERCENTILE.EXC(DataExtract!$BP$3:$BP$1597,0.25)","v":0},{"$f":"AVERAGE(DataExtract!$BP$3:$BP$5302)","v":23.924716981132075},1.5,{"$f":"MODE(DataExtract!$BP$1598:$BP$5302)","v":0},{"$f":"_xlfn.PERCENTILE.EXC(DataExtract!$BP$3:$BP$5302,0.75)","v":5},{"$f":"_xlfn.PERCENTILE.EXC(DataExtract!$BP$3:$BP$5302,0.9)","v":92},{"$f":"MAX(DataExtract!$BP$3:$BP$5302)","v":365},{"$f":"COUNT(DataExtract!$BP$3:$BP$5302)","v":5300},{"$f":"MIN(DataExtract!$BO$3:$BO$1597)","v":1},{"$f":"_xlfn.PERCENTILE.EXC(DataExtract!$BO$3:$BO$1597,0.1)","v":3},{"$f":"_xlfn.PERCENTILE.EXC(DataExtract!$BO$3:$BO$1597,0.25)","v":8},{"$f":"AVERAGE(DataExtract!$BO$3:$BO$1597)","v":79.499059561128533},{"$f":"MEDIAN(DataExtract!$BO$3:$BO$1597)","v":46},{"$f":"MODE(DataExtract!$BO$3:$BO$1597)","v":180},{"$f":"_xlfn.PERCENTILE.EXC(DataExtract!$BO$3:$BO$1597,0.75)","v":132},{"$f":"_xlfn.PERCENTILE.EXC(DataExtract!$BO$3:$BO$1597,0.9)","v":202},{"$f":"MAX(DataExtract!$BO$3:$BO$1597,0.25)","v":365},{"$f":"COUNT(DataExtract!$BO$3:$BO$1597)","v":1595}]
[null,null,{"$f":"IF(ISBLANK(A33),\"--\",IF(B33=$I$14,I33,IF(B33=$J$14,J33,IF(B33=$K$14,K33,IF(B33=$L$14,L33,IF(B33=$N$14,N33,IF(B33=$M$14,M33,IF(B33='Dropdown Lists'!$O$23,Injuries_WorkMissed!N33,\"--\"))))))))","v":"--"},null,{"$f":"IF(ISBLANK(D33),\"--\",IF(D33='Dropdown Lists'!$K$37,P33,IF(D33='Dropdown Lists'!$K$38,Q33,IF(D33='Dropdown Lists'!$K$39,R33,IF(D33='Dropdown Lists'!$K$40,S33,IF(D33='Dropdown Lists'!$K$41,T33,IF(D33='Dropdown Lists'!$K$42,U33,IF(D33='Dropdown Lists'!$K$43,V33,IF(D33='Dropdown Lists'!$K$44,W33,IF(D33='Dropdown Lists'!$K$45,X33,IF(D33='Dropdown Lists'!$K$46,Z33,IF(D33='Dropdown Lists'!$K$47,AA33,IF(D33='Dropdown Lists'!$K$48,AB33,IF(D33='Dropdown Lists'!$K$49,AC33,IF(D33='Dropdown Lists'!$K$50,AD33,IF(D33='Dropdown Lists'!$K$51,AE33,IF(D33='Dropdown Lists'!$K$52,AF33,IF(D33='Dropdown Lists'!$K$53,AG33,IF(D33='Dropdown Lists'!$K$54,AH33,IF(D33='Dropdown Lists'!$K$55,AJ33,\"\"))))))))))))))))))))","v":"--"},null,"--",null,{"$f":"IF(ISBLANK(A33),\"--\",VLOOKUP(A33,Injuries_WorkMissed!$B$109:$G$863,2,FALSE))","v":"--"},{"$f":"IF(ISBLANK(A33),\"--\",VLOOKUP(A33,Injuries_WorkMissed!$B$109:$G$863,3,FALSE))","v":"--"},{"$f":"IF(ISBLANK(A33),\"--\",VLOOKUP(A33,Injuries_WorkMissed!$B$109:$G$863,4,FALSE))","v":"--"},{"$f":"IF(ISBLANK(A33),\"--\",VLOOKUP(A33,Injuries_WorkMissed!$B$109:$G$863,5,FALSE))","v":"--"},{"$f":"IF(ISBLANK(A33),\"--\",VLOOKUP(A33,Injuries_WorkMissed!$B$109:$G$863,6,FALSE))","v":"--"},null,null,{"$f":"MIN(DataExtract!$BP$3:$BP$1597)","v":0},{"$f":"_xlfn.PERCENTILE.EXC(DataExtract!$BP$3:$BP$1597,0.1)","v":0},{"$f":"_xlfn.PERCENTILE.EXC(DataExtract!$BP$3:$BP$1597,0.25)","v":0},{"$f":"AVERAGE(DataExtract!$BP$3:$BP$5302)","v":23.924716981132075},1.5,{"$f":"MODE(DataExtract!$BP$1598:$BP$5302)","v":0},{"$f":"_xlfn.PERCENTILE.EXC(DataExtract!$BP$3:$BP$5302,0.75)","v":5},{"$f":"_xlfn.PERCENTILE.EXC(DataExtract!$BP$3:$BP$5302,0.9)","v":92},{"$f":"MAX(DataExtract!$BP$3:$BP$5302)","v":365},{"$f":"COUNT(DataExtract!$BP$3:$BP$5302)","v":5300},{"$f":"MIN(DataExtract!$BO$3:$BO$1597)","v":1},{"$f":"_xlfn.PERCENTILE.EXC(DataExtract!$BO$3:$BO$1597,0.1)","v":3},{"$f":"_xlfn.PERCENTILE.EXC(DataExtract!$BO$3:$BO$1597,0.25)","v":8},{"$f":"AVERAGE(DataExtract!$BO$3:$BO$1597)","v":79.499059561128533},{"$f":"MEDIAN(DataExtract!$BO$3:$BO$1597)","v":46},{"$f":"MODE(DataExtract!$BO$3:$BO$1597)","v":180},{"$f":"_xlfn.PERCENTILE.EXC(DataExtract!$BO$3:$BO$1597,0.75)","v":132},{"$f":"_xlfn.PERCENTILE.EXC(DataExtract!$BO$3:$BO$1597,0.9)","v":202},{"$f":"MAX(DataExtract!$BO$3:$BO$1597,0.25)","v":365},{"$f":"COUNT(DataExtract!$BO$3:$BO$1597)","v":1595}]
[null,null,{"$f":"IF(ISBLANK(A34),\"--\",IF(B34=$I$14,I34,IF(B34=$J$14,J34,IF(B34=$K$14,K34,IF(B34=$L$14,L34,IF(B34=$N$14,N34,IF(B34=$M$14,M34,IF(B34='Dropdown Lists'!$O$23,Injuries_WorkMissed!N34,\"--\"))))))))","v":"--"},null,{"$f":"IF(ISBLANK(D34),\"--\",IF(D34='Dropdown Lists'!$K$37,P34,IF(D34='Dropdown Lists'!$K$38,Q34,IF(D34='Dropdown Lists'!$K$39,R34,IF(D34='Dropdown Lists'!$K$40,S34,IF(D34='Dropdown Lists'!$K$41,T34,IF(D34='Dropdown Lists'!$K$42,U34,IF(D34='Dropdown Lists'!$K$43,V34,IF(D34='Dropdown Lists'!$K$44,W34,IF(D34='Dropdown Lists'!$K$45,X34,IF(D34='Dropdown Lists'!$K$46,Z34,IF(D34='Dropdown Lists'!$K$47,AA34,IF(D34='Dropdown Lists'!$K$48,AB34,IF(D34='Dropdown Lists'!$K$49,AC34,IF(D34='Dropdown Lists'!$K$50,AD34,IF(D34='Dropdown Lists'!$K$51,AE34,IF(D34='Dropdown Lists'!$K$52,AF34,IF(D34='Dropdown Lists'!$K$53,AG34,IF(D34='Dropdown Lists'!$K$54,AH34,IF(D34='Dropdown Lists'!$K$55,AJ34,\"\"))))))))))))))))))))","v":"--"},null,"--",null,{"$f":"IF(ISBLANK(A34),\"--\",VLOOKUP(A34,Injuries_WorkMissed!$B$109:$G$863,2,FALSE))","v":"--"},{"$f":"IF(ISBLANK(A34),\"--\",VLOOKUP(A34,Injuries_WorkMissed!$B$109:$G$863,3,FALSE))","v":"--"},{"$f":"IF(ISBLANK(A34),\"--\",VLOOKUP(A34,Injuries_WorkMissed!$B$109:$G$863,4,FALSE))","v":"--"},{"$f":"IF(ISBLANK(A34),\"--\",VLOOKUP(A34,Injuries_WorkMissed!$B$109:$G$863,5,FALSE))","v":"--"},{"$f":"IF(ISBLANK(A34),\"--\",VLOOKUP(A34,Injuries_WorkMissed!$B$109:$G$863,6,FALSE))","v":"--"},null,null,{"$f":"MIN(DataExtract!$BP$3:$BP$1597)","v":0},{"$f":"_xlfn.PERCENTILE.EXC(DataExtract!$BP$3:$BP$1597,0.1)","v":0},{"$f":"_xlfn.PERCENTILE.EXC(DataExtract!$BP$3:$BP$1597,0.25)","v":0},{"$f":"AVERAGE(DataExtract!$BP$3:$BP$5302)","v":23.924716981132075},1.5,{"$f":"MODE(DataExtract!$BP$1598:$BP$5302)","v":0},{"$f":"_xlfn.PERCENTILE.EXC(DataExtract!$BP$3:$BP$5302,0.75)","v":5},{"$f":"_xlfn.PERCENTILE.EXC(DataExtract!$BP$3:$BP$5302,0.9)","v":92},{"$f":"MAX(DataExtract!$BP$3:$BP$5302)","v":365},{"$f":"COUNT(DataExtract!$BP$3:$BP$5302)","v":5300},{"$f":"MIN(DataExtract!$BO$3:$BO$1597)","v":1},{"$f":"_xlfn.PERCENTILE.EXC(DataExtract!$BO$3:$BO$1597,0.1)","v":3},{"$f":"_xlfn.PERCENTILE.EXC(DataExtract!$BO$3:$BO$1597,0.25)","v":8},{"$f":"AVERAGE(DataExtract!$BO$3:$BO$1597)","v":79.499059561128533},{"$f":"MEDIAN(DataExtract!$BO$3:$BO$1597)","v":46},{"$f":"MODE(DataExtract!$BO$3:$BO$1597)","v":180},{"$f":"_xlfn.PERCENTILE.EXC(DataExtract!$BO$3:$BO$1597,0.75)","v":132},{"$f":"_xlfn.PERCENTILE.EXC(DataExtract!$BO$3:$BO$1597,0.9)","v":202},{"$f":"MAX(DataExtract!$BO$3:$BO$1597,0.25)","v":365},{"$f":"COUNT(DataExtract!$BO$3:$BO$1597)","v":1595}]
[null,null,{"$f":"IF(ISBLANK(A35),\"--\",IF(B35=$I$14,I35,IF(B35=$J$14,J35,IF(B35=$K$14,K35,IF(B35=$L$14,L35,IF(B35=$N$14,N35,IF(B35=$M$14,M35,IF(B35='Dropdown Lists'!$O$23,Injuries_WorkMissed!N35,\"--\"))))))))","v":"--"},null,{"$f":"IF(ISBLANK(D35),\"--\",IF(D35='Dropdown Lists'!$K$37,P35,IF(D35='Dropdown Lists'!$K$38,Q35,IF(D35='Dropdown Lists'!$K$39,R35,IF(D35='Dropdown Lists'!$K$40,S35,IF(D35='Dropdown Lists'!$K$41,T35,IF(D35='Dropdown Lists'!$K$42,U35,IF(D35='Dropdown Lists'!$K$43,V35,IF(D35='Dropdown Lists'!$K$44,W35,IF(D35='Dropdown Lists'!$K$45,X35,IF(D35='Dropdown Lists'!$K$46,Z35,IF(D35='Dropdown Lists'!$K$47,AA35,IF(D35='Dropdown Lists'!$K$48,AB35,IF(D35='Dropdown Lists'!$K$49,AC35,IF(D35='Dropdown Lists'!$K$50,AD35,IF(D35='Dropdown Lists'!$K$51,AE35,IF(D35='Dropdown Lists'!$K$52,AF35,IF(D35='Dropdown Lists'!$K$53,AG35,IF(D35='Dropdown Lists'!$K$54,AH35,IF(D35='Dropdown Lists'!$K$55,AJ35,\"\"))))))))))))))))))))","v":"--"},null,"--",null,{"$f":"IF(ISBLANK(A35),\"--\",VLOOKUP(A35,Injuries_WorkMissed!$B$109:$G$863,2,FALSE))","v":"--"},{"$f":"IF(ISBLANK(A35),\"--\",VLOOKUP(A35,Injuries_WorkMissed!$B$109:$G$863,3,FALSE))","v":"--"},{"$f":"IF(ISBLANK(A35),\"--\",VLOOKUP(A35,Injuries_WorkMissed!$B$109:$G$863,4,FALSE))","v":"--"},{"$f":"IF(ISBLANK(A35),\"--\",VLOOKUP(A35,Injuries_WorkMissed!$B$109:$G$863,5,FALSE))","v":"--"},{"$f":"IF(ISBLANK(A35),\"--\",VLOOKUP(A35,Injuries_WorkMissed!$B$109:$G$863,6,FALSE))","v":"--"},null,null,{"$f":"MIN(DataExtract!$BP$3:$BP$1597)","v":0},{"$f":"_xlfn.PERCENTILE.EXC(DataExtract!$BP$3:$BP$1597,0.1)","v":0},{"$f":"_xlfn.PERCENTILE.EXC(DataExtract!$BP$3:$BP$1597,0.25)","v":0},{"$f":"AVERAGE(DataExtract!$BP$3:$BP$5302)","v":23.924716981132075},1.5,{"$f":"MODE(DataExtract!$BP$1598:$BP$5302)","v":0},{"$f":"_xlfn.PERCENTILE.EXC(DataExtract!$BP$3:$BP$5302,0.75)","v":5},{"$f":"_xlfn.PERCENTILE.EXC(DataExtract!$BP$3:$BP$5302,0.9)","v":92},{"$f":"MAX(DataExtract!$BP$3:$BP$5302)","v":365},{"$f":"COUNT(DataExtract!$BP$3:$BP$5302)","v":5300},{"$f":"MIN(DataExtract!$BO$3:$BO$1597)","v":1},{"$f":"_xlfn.PERCENTILE.EXC(DataExtract!$BO$3:$BO$1597,0.1)","v":3},{"$f":"_xlfn.PERCENTILE.EXC(DataExtract!$BO$3:$BO$1597,0.25)","v":8},{"$f":"AVERAGE(DataExtract!$BO$3:$BO$1597)","v":79.499059561128533},{"$f":"MEDIAN(DataExtract!$BO$3:$BO$1597)","v":46},{"$f":"MODE(DataExtract!$BO$3:$BO$1597)","v":180},{"$f":"_xlfn.PERCENTILE.EXC(DataExtract!$BO$3:$BO$1597,0.75)","v":132},{"$f":"_xlfn.PERCENTILE.EXC(DataExtract!$BO$3:$BO$1597,0.9)","v":202},{"$f":"MAX(DataExtract!$BO$3:$BO$1597,0.25)","v":365},{"$f":"COUNT(DataExtract!$BO$3:$BO$1597)","v":1595}]
[null,null,{"$f":"IF(ISBLANK(A36),\"--\",IF(B36=$I$14,I36,IF(B36=$J$14,J36,IF(B36=$K$14,K36,IF(B36=$L$14,L36,IF(B36=$N$14,N36,IF(B36=$M$14,M36,IF(B36='Dropdown Lists'!$O$23,Injuries_WorkMissed!N36,\"--\"))))))))","v":"--"},null,{"$f":"IF(ISBLANK(D36),\"--\",IF(D36='Dropdown Lists'!$K$37,P36,IF(D36='Dropdown Lists'!$K$38,Q36,IF(D36='Dropdown Lists'!$K$39,R36,IF(D36='Dropdown Lists'!$K$40,S36,IF(D36='Dropdown Lists'!$K$41,T36,IF(D36='Dropdown Lists'!$K$42,U36,IF(D36='Dropdown Lists'!$K$43,V36,IF(D36='Dropdown Lists'!$K$44,W36,IF(D36='Dropdown Lists'!$K$45,X36,IF(D36='Dropdown Lists'!$K$46,Z36,IF(D36='Dropdown Lists'!$K$47,AA36,IF(D36='Dropdown Lists'!$K$48,AB36,IF(D36='Dropdown Lists'!$K$49,AC36,IF(D36='Dropdown Lists'!$K$50,AD36,IF(D36='Dropdown Lists'!$K$51,AE36,IF(D36='Dropdown Lists'!$K$52,AF36,IF(D36='Dropdown Lists'!$K$53,AG36,IF(D36='Dropdown Lists'!$K$54,AH36,IF(D36='Dropdown Lists'!$K$55,AJ36,\"\"))))))))))))))))))))","v":"--"},null,"--",null,{"$f":"IF(ISBLANK(A36),\"--\",VLOOKUP(A36,Injuries_WorkMissed!$B$109:$G$863,2,FALSE))","v":"--"},{"$f":"IF(ISBLANK(A36),\"--\",VLOOKUP(A36,Injuries_WorkMissed!$B$109:$G$863,3,FALSE))","v":"--"},{"$f":"IF(ISBLANK(A36),\"--\",VLOOKUP(A36,Injuries_WorkMissed!$B$109:$G$863,4,FALSE))","v":"--"},{"$f":"IF(ISBLANK(A36),\"--\",VLOOKUP(A36,Injuries_WorkMissed!$B$109:$G$863,5,FALSE))","v":"--"},{"$f":"IF(ISBLANK(A36),\"--\",VLOOKUP(A36,Injuries_WorkMissed!$B$109:$G$863,6,FALSE))","v":"--"},null,null,{"$f":"MIN(DataExtract!$BP$3:$BP$1597)","v":0},{"$f":"_xlfn.PERCENTILE.EXC(DataExtract!$BP$3:$BP$1597,0.1)","v":0},{"$f":"_xlfn.PERCENTILE.EXC(DataExtract!$BP$3:$BP$1597,0.25)","v":0},{"$f":"AVERAGE(DataExtract!$BP$3:$BP$5302)","v":23.924716981132075},1.5,{"$f":"MODE(DataExtract!$BP$1598:$BP$5302)","v":0},{"$f":"_xlfn.PERCENTILE.EXC(DataExtract!$BP$3:$BP$5302,0.75)","v":5},{"$f":"_xlfn.PERCENTILE.EXC(DataExtract!$BP$3:$BP$5302,0.9)","v":92},{"$f":"MAX(DataExtract!$BP$3:$BP$5302)","v":365},{"$f":"COUNT(DataExtract!$BP$3:$BP$5302)","v":5300},{"$f":"MIN(DataExtract!$BO$3:$BO$1597)","v":1},{"$f":"_xlfn.PERCENTILE.EXC(DataExtract!$BO$3:$BO$1597,0.1)","v":3},{"$f":"_xlfn.PERCENTILE.EXC(DataExtract!$BO$3:$BO$1597,0.25)","v":8},{"$f":"AVERAGE(DataExtract!$BO$3:$BO$1597)","v":79.499059561128533},{"$f":"MEDIAN(DataExtract!$BO$3:$BO$1597)","v":46},{"$f":"MODE(DataExtract!$BO$3:$BO$1597)","v":180},{"$f":"_xlfn.PERCENTILE.EXC(DataExtract!$BO$3:$BO$1597,0.75)","v":132},{"$f":"_xlfn.PERCENTILE.EXC(DataExtract!$BO$3:$BO$1597,0.9)","v":202},{"$f":"MAX(DataExtract!$BO$3:$BO$1597,0.25)","v":365},{"$f":"COUNT(DataExtract!$BO$3:$BO$1597)","v":1595}]
[null,null,{"$f":"IF(ISBLANK(A37),\"--\",IF(B37=$I$14,I37,IF(B37=$J$14,J37,IF(B37=$K$14,K37,IF(B37=$L$14,L37,IF(B37=$N$14,N37,IF(B37=$M$14,M37,IF(B37='Dropdown Lists'!$O$23,Injuries_WorkMissed!N37,\"--\"))))))))","v":"--"},null,{"$f":"IF(ISBLANK(D37),\"--\",IF(D37='Dropdown Lists'!$K$37,P37,IF(D37='Dropdown Lists'!$K$38,Q37,IF(D37='Dropdown Lists'!$K$39,R37,IF(D37='Dropdown Lists'!$K$40,S37,IF(D37='Dropdown Lists'!$K$41,T37,IF(D37='Dropdown Lists'!$K$42,U37,IF(D37='Dropdown Lists'!$K$43,V37,IF(D37='Dropdown Lists'!$K$44,W37,IF(D37='Dropdown Lists'!$K$45,X37,IF(D37='Dropdown Lists'!$K$46,Z37,IF(D37='Dropdown Lists'!$K$47,AA37,IF(D37='Dropdown Lists'!$K$48,AB37,IF(D37='Dropdown Lists'!$K$49,AC37,IF(D37='Dropdown Lists'!$K$50,AD37,IF(D37='Dropdown Lists'!$K$51,AE37,IF(D37='Dropdown Lists'!$K$52,AF37,IF(D37='Dropdown Lists'!$K$53,AG37,IF(D37='Dropdown Lists'!$K$54,AH37,IF(D37='Dropdown Lists'!$K$55,AJ37,\"\"))))))))))))))))))))","v":"--"},null,"--",null,{"$f":"IF(ISBLANK(A37),\"--\",VLOOKUP(A37,Injuries_WorkMissed!$B$109:$G$863,2,FALSE))","v":"--"},{"$f":"IF(ISBLANK(A37),\"--\",VLOOKUP(A37,Injuries_WorkMissed!$B$109:$G$863,3,FALSE))","v":"--"},{"$f":"IF(ISBLANK(A37),\"--\",VLOOKUP(A37,Injuries_WorkMissed!$B$109:$G$863,4,FALSE))","v":"--"},{"$f":"IF(ISBLANK(A37),\"--\",VLOOKUP(A37,Injuries_WorkMissed!$B$109:$G$863,5,FALSE))","v":"--"},{"$f":"IF(ISBLANK(A37),\"--\",VLOOKUP(A37,Injuries_WorkMissed!$B$109:$G$863,6,FALSE))","v":"--"},null,null,{"$f":"MIN(DataExtract!$BP$3:$BP$1597)","v":0},{"$f":"_xlfn.PERCENTILE.EXC(DataExtract!$BP$3:$BP$1597,0.1)","v":0},{"$f":"_xlfn.PERCENTILE.EXC(DataExtract!$BP$3:$BP$1597,0.25)","v":0},{"$f":"AVERAGE(DataExtract!$BP$3:$BP$5302)","v":23.924716981132075},1.5,{"$f":"MODE(DataExtract!$BP$1598:$BP$5302)","v":0},{"$f":"_xlfn.PERCENTILE.EXC(DataExtract!$BP$3:$BP$5302,0.75)","v":5},{"$f":"_xlfn.PERCENTILE.EXC(DataExtract!$BP$3:$BP$5302,0.9)","v":92},{"$f":"MAX(DataExtract!$BP$3:$BP$5302)","v":365},{"$f":"COUNT(DataExtract!$BP$3:$BP$5302)","v":5300},{"$f":"MIN(DataExtract!$BO$3:$BO$1597)","v":1},{"$f":"_xlfn.PERCENTILE.EXC(DataExtract!$BO$3:$BO$1597,0.1)","v":3},{"$f":"_xlfn.PERCENTILE.EXC(DataExtract!$BO$3:$BO$1597,0.25)","v":8},{"$f":"AVERAGE(DataExtract!$BO$3:$BO$1597)","v":79.499059561128533},{"$f":"MEDIAN(DataExtract!$BO$3:$BO$1597)","v":46},{"$f":"MODE(DataExtract!$BO$3:$BO$1597)","v":180},{"$f":"_xlfn.PERCENTILE.EXC(DataExtract!$BO$3:$BO$1597,0.75)","v":132},{"$f":"_xlfn.PERCENTILE.EXC(DataExtract!$BO$3:$BO$1597,0.9)","v":202},{"$f":"MAX(DataExtract!$BO$3:$BO$1597,0.25)","v":365},{"$f":"COUNT(DataExtract!$BO$3:$BO$1597)","v":1595}]
[null,null,{"$f":"IF(ISBLANK(A38),\"--\",IF(B38=$I$14,I38,IF(B38=$J$14,J38,IF(B38=$K$14,K38,IF(B38=$L$14,L38,IF(B38=$N$14,N38,IF(B38=$M$14,M38,IF(B38='Dropdown Lists'!$O$23,Injuries_WorkMissed!N38,\"--\"))))))))","v":"--"},null,{"$f":"IF(ISBLANK(D38),\"--\",IF(D38='Dropdown Lists'!$K$37,P38,IF(D38='Dropdown Lists'!$K$38,Q38,IF(D38='Dropdown Lists'!$K$39,R38,IF(D38='Dropdown Lists'!$K$40,S38,IF(D38='Dropdown Lists'!$K$41,T38,IF(D38='Dropdown Lists'!$K$42,U38,IF(D38='Dropdown Lists'!$K$43,V38,IF(D38='Dropdown Lists'!$K$44,W38,IF(D38='Dropdown Lists'!$K$45,X38,IF(D38='Dropdown Lists'!$K$46,Z38,IF(D38='Dropdown Lists'!$K$47,AA38,IF(D38='Dropdown Lists'!$K$48,AB38,IF(D38='Dropdown Lists'!$K$49,AC38,IF(D38='Dropdown Lists'!$K$50,AD38,IF(D38='Dropdown Lists'!$K$51,AE38,IF(D38='Dropdown Lists'!$K$52,AF38,IF(D38='Dropdown Lists'!$K$53,AG38,IF(D38='Dropdown Lists'!$K$54,AH38,IF(D38='Dropdown Lists'!$K$55,AJ38,\"\"))))))))))))))))))))","v":"--"},null,"--",null,{"$f":"IF(ISBLANK(A38),\"--\",VLOOKUP(A38,Injuries_WorkMissed!$B$109:$G$863,2,FALSE))","v":"--"},{"$f":"IF(ISBLANK(A38),\"--\",VLOOKUP(A38,Injuries_WorkMissed!$B$109:$G$863,3,FALSE))","v":"--"},{"$f":"IF(ISBLANK(A38),\"--\",VLOOKUP(A38,Injuries_WorkMissed!$B$109:$G$863,4,FALSE))","v":"--"},{"$f":"IF(ISBLANK(A38),\"--\",VLOOKUP(A38,Injuries_WorkMissed!$B$109:$G$863,5,FALSE))","v":"--"},{"$f":"IF(ISBLANK(A38),\"--\",VLOOKUP(A38,Injuries_WorkMissed!$B$109:$G$863,6,FALSE))","v":"--"},null,null,{"$f":"MIN(DataExtract!$BP$3:$BP$1597)","v":0},{"$f":"_xlfn.PERCENTILE.EXC(DataExtract!$BP$3:$BP$1597,0.1)","v":0},{"$f":"_xlfn.PERCENTILE.EXC(DataExtract!$BP$3:$BP$1597,0.25)","v":0},{"$f":"AVERAGE(DataExtract!$BP$3:$BP$5302)","v":23.924716981132075},1.5,{"$f":"MODE(DataExtract!$BP$1598:$BP$5302)","v":0},{"$f":"_xlfn.PERCENTILE.EXC(DataExtract!$BP$3:$BP$5302,0.75)","v":5},{"$f":"_xlfn.PERCENTILE.EXC(DataExtract!$BP$3:$BP$5302,0.9)","v":92},{"$f":"MAX(DataExtract!$BP$3:$BP$5302)","v":365},{"$f":"COUNT(DataExtract!$BP$3:$BP$5302)","v":5300},{"$f":"MIN(DataExtract!$BO$3:$BO$1597)","v":1},{"$f":"_xlfn.PERCENTILE.EXC(DataExtract!$BO$3:$BO$1597,0.1)","v":3},{"$f":"_xlfn.PERCENTILE.EXC(DataExtract!$BO$3:$BO$1597,0.25)","v":8},{"$f":"AVERAGE(DataExtract!$BO$3:$BO$1597)","v":79.499059561128533},{"$f":"MEDIAN(DataExtract!$BO$3:$BO$1597)","v":46},{"$f":"MODE(DataExtract!$BO$3:$BO$1597)","v":180},{"$f":"_xlfn.PERCENTILE.EXC(DataExtract!$BO$3:$BO$1597,0.75)","v":132},{"$f":"_xlfn.PERCENTILE.EXC(DataExtract!$BO$3:$BO$1597,0.9)","v":202},{"$f":"MAX(DataExtract!$BO$3:$BO$1597,0.25)","v":365},{"$f":"COUNT(DataExtract!$BO$3:$BO$1597)","v":1595}]
[null,null,{"$f":"IF(ISBLANK(A39),\"--\",IF(B39=$I$14,I39,IF(B39=$J$14,J39,IF(B39=$K$14,K39,IF(B39=$L$14,L39,IF(B39=$N$14,N39,IF(B39=$M$14,M39,IF(B39='Dropdown Lists'!$O$23,Injuries_WorkMissed!N39,\"--\"))))))))","v":"--"},null,{"$f":"IF(ISBLANK(D39),\"--\",IF(D39='Dropdown Lists'!$K$37,P39,IF(D39='Dropdown Lists'!$K$38,Q39,IF(D39='Dropdown Lists'!$K$39,R39,IF(D39='Dropdown Lists'!$K$40,S39,IF(D39='Dropdown Lists'!$K$41,T39,IF(D39='Dropdown Lists'!$K$42,U39,IF(D39='Dropdown Lists'!$K$43,V39,IF(D39='Dropdown Lists'!$K$44,W39,IF(D39='Dropdown Lists'!$K$45,X39,IF(D39='Dropdown Lists'!$K$46,Z39,IF(D39='Dropdown Lists'!$K$47,AA39,IF(D39='Dropdown Lists'!$K$48,AB39,IF(D39='Dropdown Lists'!$K$49,AC39,IF(D39='Dropdown Lists'!$K$50,AD39,IF(D39='Dropdown Lists'!$K$51,AE39,IF(D39='Dropdown Lists'!$K$52,AF39,IF(D39='Dropdown Lists'!$K$53,AG39,IF(D39='Dropdown Lists'!$K$54,AH39,IF(D39='Dropdown Lists'!$K$55,AJ39,\"\"))))))))))))))))))))","v":"--"},null,"--",null,{"$f":"IF(ISBLANK(A39),\"--\",VLOOKUP(A39,Injuries_WorkMissed!$B$109:$G$863,2,FALSE))","v":"--"},{"$f":"IF(ISBLANK(A39),\"--\",VLOOKUP(A39,Injuries_WorkMissed!$B$109:$G$863,3,FALSE))","v":"--"},{"$f":"IF(ISBLANK(A39),\"--\",VLOOKUP(A39,Injuries_WorkMissed!$B$109:$G$863,4,FALSE))","v":"--"},{"$f":"IF(ISBLANK(A39),\"--\",VLOOKUP(A39,Injuries_WorkMissed!$B$109:$G$863,5,FALSE))","v":"--"},{"$f":"IF(ISBLANK(A39),\"--\",VLOOKUP(A39,Injuries_WorkMissed!$B$109:$G$863,6,FALSE))","v":"--"},null,null,{"$f":"MIN(DataExtract!$BP$3:$BP$1597)","v":0},{"$f":"_xlfn.PERCENTILE.EXC(DataExtract!$BP$3:$BP$1597,0.1)","v":0},{"$f":"_xlfn.PERCENTILE.EXC(DataExtract!$BP$3:$BP$1597,0.25)","v":0},{"$f":"AVERAGE(DataExtract!$BP$3:$BP$5302)","v":23.924716981132075},1.5,{"$f":"MODE(DataExtract!$BP$1598:$BP$5302)","v":0},{"$f":"_xlfn.PERCENTILE.EXC(DataExtract!$BP$3:$BP$5302,0.75)","v":5},{"$f":"_xlfn.PERCENTILE.EXC(DataExtract!$BP$3:$BP$5302,0.9)","v":92},{"$f":"MAX(DataExtract!$BP$3:$BP$5302)","v":365},{"$f":"COUNT(DataExtract!$BP$3:$BP$5302)","v":5300},{"$f":"MIN(DataExtract!$BO$3:$BO$1597)","v":1},{"$f":"_xlfn.PERCENTILE.EXC(DataExtract!$BO$3:$BO$1597,0.1)","v":3},{"$f":"_xlfn.PERCENTILE.EXC(DataExtract!$BO$3:$BO$1597,0.25)","v":8},{"$f":"AVERAGE(DataExtract!$BO$3:$BO$1597)","v":79.499059561128533},{"$f":"MEDIAN(DataExtract!$BO$3:$BO$1597)","v":46},{"$f":"MODE(DataExtract!$BO$3:$BO$1597)","v":180},{"$f":"_xlfn.PERCENTILE.EXC(DataExtract!$BO$3:$BO$1597,0.75)","v":132},{"$f":"_xlfn.PERCENTILE.EXC(DataExtract!$BO$3:$BO$1597,0.9)","v":202},{"$f":"MAX(DataExtract!$BO$3:$BO$1597,0.25)","v":365},{"$f":"COUNT(DataExtract!$BO$3:$BO$1597)","v":1595}]
[null,null,{"$f":"IF(ISBLANK(A40),\"--\",IF(B40=$I$14,I40,IF(B40=$J$14,J40,IF(B40=$K$14,K40,IF(B40=$L$14,L40,IF(B40=$N$14,N40,IF(B40=$M$14,M40,IF(B40='Dropdown Lists'!$O$23,Injuries_WorkMissed!N40,\"--\"))))))))","v":"--"},null,{"$f":"IF(ISBLANK(D40),\"--\",IF(D40='Dropdown Lists'!$K$37,P40,IF(D40='Dropdown Lists'!$K$38,Q40,IF(D40='Dropdown Lists'!$K$39,R40,IF(D40='Dropdown Lists'!$K$40,S40,IF(D40='Dropdown Lists'!$K$41,T40,IF(D40='Dropdown Lists'!$K$42,U40,IF(D40='Dropdown Lists'!$K$43,V40,IF(D40='Dropdown Lists'!$K$44,W40,IF(D40='Dropdown Lists'!$K$45,X40,IF(D40='Dropdown Lists'!$K$46,Z40,IF(D40='Dropdown Lists'!$K$47,AA40,IF(D40='Dropdown Lists'!$K$48,AB40,IF(D40='Dropdown Lists'!$K$49,AC40,IF(D40='Dropdown Lists'!$K$50,AD40,IF(D40='Dropdown Lists'!$K$51,AE40,IF(D40='Dropdown Lists'!$K$52,AF40,IF(D40='Dropdown Lists'!$K$53,AG40,IF(D40='Dropdown Lists'!$K$54,AH40,IF(D40='Dropdown Lists'!$K$55,AJ40,\"\"))))))))))))))))))))","v":"--"},null,"--",null,{"$f":"IF(ISBLANK(A40),\"--\",VLOOKUP(A40,Injuries_WorkMissed!$B$109:$G$863,2,FALSE))","v":"--"},{"$f":"IF(ISBLANK(A40),\"--\",VLOOKUP(A40,Injuries_WorkMissed!$B$109:$G$863,3,FALSE))","v":"--"},{"$f":"IF(ISBLANK(A40),\"--\",VLOOKUP(A40,Injuries_WorkMissed!$B$109:$G$863,4,FALSE))","v":"--"},{"$f":"IF(ISBLANK(A40),\"--\",VLOOKUP(A40,Injuries_WorkMissed!$B$109:$G$863,5,FALSE))","v":"--"},{"$f":"IF(ISBLANK(A40),\"--\",VLOOKUP(A40,Injuries_WorkMissed!$B$109:$G$863,6,FALSE))","v":"--"},null,null,{"$f":"MIN(DataExtract!$BP$3:$BP$1597)","v":0},{"$f":"_xlfn.PERCENTILE.EXC(DataExtract!$BP$3:$BP$1597,0.1)","v":0},{"$f":"_xlfn.PERCENTILE.EXC(DataExtract!$BP$3:$BP$1597,0.25)","v":0},{"$f":"AVERAGE(DataExtract!$BP$3:$BP$5302)","v":23.924716981132075},1.5,{"$f":"MODE(DataExtract!$BP$1598:$BP$5302)","v":0},{"$f":"_xlfn.PERCENTILE.EXC(DataExtract!$BP$3:$BP$5302,0.75)","v":5},{"$f":"_xlfn.PERCENTILE.EXC(DataExtract!$BP$3:$BP$5302,0.9)","v":92},{"$f":"MAX(DataExtract!$BP$3:$BP$5302)","v":365},{"$f":"COUNT(DataExtract!$BP$3:$BP$5302)","v":5300},{"$f":"MIN(DataExtract!$BO$3:$BO$1597)","v":1},{"$f":"_xlfn.PERCENTILE.EXC(DataExtract!$BO$3:$BO$1597,0.1)","v":3},{"$f":"_xlfn.PERCENTILE.EXC(DataExtract!$BO$3:$BO$1597,0.25)","v":8},{"$f":"AVERAGE(DataExtract!$BO$3:$BO$1597)","v":79.499059561128533},{"$f":"MEDIAN(DataExtract!$BO$3:$BO$1597)","v":46},{"$f":"MODE(DataExtract!$BO$3:$BO$1597)","v":180},{"$f":"_xlfn.PERCENTILE.EXC(DataExtract!$BO$3:$BO$1597,0.75)","v":132},{"$f":"_xlfn.PERCENTILE.EXC(DataExtract!$BO$3:$BO$1597,0.9)","v":202},{"$f":"MAX(DataExtract!$BO$3:$BO$1597,0.25)","v":365},{"$f":"COUNT(DataExtract!$BO$3:$BO$1597)","v":1595}]
[null,null,{"$f":"IF(ISBLANK(A41),\"--\",IF(B41=$I$14,I41,IF(B41=$J$14,J41,IF(B41=$K$14,K41,IF(B41=$L$14,L41,IF(B41=$N$14,N41,IF(B41=$M$14,M41,IF(B41='Dropdown Lists'!$O$23,Injuries_WorkMissed!N41,\"--\"))))))))","v":"--"},null,{"$f":"IF(ISBLANK(D41),\"--\",IF(D41='Dropdown Lists'!$K$37,P41,IF(D41='Dropdown Lists'!$K$38,Q41,IF(D41='Dropdown Lists'!$K$39,R41,IF(D41='Dropdown Lists'!$K$40,S41,IF(D41='Dropdown Lists'!$K$41,T41,IF(D41='Dropdown Lists'!$K$42,U41,IF(D41='Dropdown Lists'!$K$43,V41,IF(D41='Dropdown Lists'!$K$44,W41,IF(D41='Dropdown Lists'!$K$45,X41,IF(D41='Dropdown Lists'!$K$46,Z41,IF(D41='Dropdown Lists'!$K$47,AA41,IF(D41='Dropdown Lists'!$K$48,AB41,IF(D41='Dropdown Lists'!$K$49,AC41,IF(D41='Dropdown Lists'!$K$50,AD41,IF(D41='Dropdown Lists'!$K$51,AE41,IF(D41='Dropdown Lists'!$K$52,AF41,IF(D41='Dropdown Lists'!$K$53,AG41,IF(D41='Dropdown Lists'!$K$54,AH41,IF(D41='Dropdown Lists'!$K$55,AJ41,\"\"))))))))))))))))))))","v":"--"},null,"--",null,{"$f":"IF(ISBLANK(A41),\"--\",VLOOKUP(A41,Injuries_WorkMissed!$B$109:$G$863,2,FALSE))","v":"--"},{"$f":"IF(ISBLANK(A41),\"--\",VLOOKUP(A41,Injuries_WorkMissed!$B$109:$G$863,3,FALSE))","v":"--"},{"$f":"IF(ISBLANK(A41),\"--\",VLOOKUP(A41,Injuries_WorkMissed!$B$109:$G$863,4,FALSE))","v":"--"},{"$f":"IF(ISBLANK(A41),\"--\",VLOOKUP(A41,Injuries_WorkMissed!$B$109:$G$863,5,FALSE))","v":"--"},{"$f":"IF(ISBLANK(A41),\"--\",VLOOKUP(A41,Injuries_WorkMissed!$B$109:$G$863,6,FALSE))","v":"--"},null,null,{"$f":"MIN(DataExtract!$BP$3:$BP$1597)","v":0},{"$f":"_xlfn.PERCENTILE.EXC(DataExtract!$BP$3:$BP$1597,0.1)","v":0},{"$f":"_xlfn.PERCENTILE.EXC(DataExtract!$BP$3:$BP$1597,0.25)","v":0},{"$f":"AVERAGE(DataExtract!$BP$3:$BP$5302)","v":23.924716981132075},1.5,{"$f":"MODE(DataExtract!$BP$1598:$BP$5302)","v":0},{"$f":"_xlfn.PERCENTILE.EXC(DataExtract!$BP$3:$BP$5302,0.75)","v":5},{"$f":"_xlfn.PERCENTILE.EXC(DataExtract!$BP$3:$BP$5302,0.9)","v":92},{"$f":"MAX(DataExtract!$BP$3:$BP$5302)","v":365},{"$f":"COUNT(DataExtract!$BP$3:$BP$5302)","v":5300},{"$f":"MIN(DataExtract!$BO$3:$BO$1597)","v":1},{"$f":"_xlfn.PERCENTILE.EXC(DataExtract!$BO$3:$BO$1597,0.1)","v":3},{"$f":"_xlfn.PERCENTILE.EXC(DataExtract!$BO$3:$BO$1597,0.25)","v":8},{"$f":"AVERAGE(DataExtract!$BO$3:$BO$1597)","v":79.499059561128533},{"$f":"MEDIAN(DataExtract!$BO$3:$BO$1597)","v":46},{"$f":"MODE(DataExtract!$BO$3:$BO$1597)","v":180},{"$f":"_xlfn.PERCENTILE.EXC(DataExtract!$BO$3:$BO$1597,0.75)","v":132},{"$f":"_xlfn.PERCENTILE.EXC(DataExtract!$BO$3:$BO$1597,0.9)","v":202},{"$f":"MAX(DataExtract!$BO$3:$BO$1597,0.25)","v":365},{"$f":"COUNT(DataExtract!$BO$3:$BO$1597)","v":1595}]
[null,null,{"$f":"IF(ISBLANK(A42),\"--\",IF(B42=$I$14,I42,IF(B42=$J$14,J42,IF(B42=$K$14,K42,IF(B42=$L$14,L42,IF(B42=$N$14,N42,IF(B42=$M$14,M42,IF(B42='Dropdown Lists'!$O$23,Injuries_WorkMissed!N42,\"--\"))))))))","v":"--"},null,{"$f":"IF(ISBLANK(D42),\"--\",IF(D42='Dropdown Lists'!$K$37,P42,IF(D42='Dropdown Lists'!$K$38,Q42,IF(D42='Dropdown Lists'!$K$39,R42,IF(D42='Dropdown Lists'!$K$40,S42,IF(D42='Dropdown Lists'!$K$41,T42,IF(D42='Dropdown Lists'!$K$42,U42,IF(D42='Dropdown Lists'!$K$43,V42,IF(D42='Dropdown Lists'!$K$44,W42,IF(D42='Dropdown Lists'!$K$45,X42,IF(D42='Dropdown Lists'!$K$46,Z42,IF(D42='Dropdown Lists'!$K$47,AA42,IF(D42='Dropdown Lists'!$K$48,AB42,IF(D42='Dropdown Lists'!$K$49,AC42,IF(D42='Dropdown Lists'!$K$50,AD42,IF(D42='Dropdown Lists'!$K$51,AE42,IF(D42='Dropdown Lists'!$K$52,AF42,IF(D42='Dropdown Lists'!$K$53,AG42,IF(D42='Dropdown Lists'!$K$54,AH42,IF(D42='Dropdown Lists'!$K$55,AJ42,\"\"))))))))))))))))))))","v":"--"},null,"--",null,{"$f":"IF(ISBLANK(A42),\"--\",VLOOKUP(A42,Injuries_WorkMissed!$B$109:$G$863,2,FALSE))","v":"--"},{"$f":"IF(ISBLANK(A42),\"--\",VLOOKUP(A42,Injuries_WorkMissed!$B$109:$G$863,3,FALSE))","v":"--"},{"$f":"IF(ISBLANK(A42),\"--\",VLOOKUP(A42,Injuries_WorkMissed!$B$109:$G$863,4,FALSE))","v":"--"},{"$f":"IF(ISBLANK(A42),\"--\",VLOOKUP(A42,Injuries_WorkMissed!$B$109:$G$863,5,FALSE))","v":"--"},{"$f":"IF(ISBLANK(A42),\"--\",VLOOKUP(A42,Injuries_WorkMissed!$B$109:$G$863,6,FALSE))","v":"--"},null,null,{"$f":"MIN(DataExtract!$BP$3:$BP$1597)","v":0},{"$f":"_xlfn.PERCENTILE.EXC(DataExtract!$BP$3:$BP$1597,0.1)","v":0},{"$f":"_xlfn.PERCENTILE.EXC(DataExtract!$BP$3:$BP$1597,0.25)","v":0},{"$f":"AVERAGE(DataExtract!$BP$3:$BP$5302)","v":23.924716981132075},1.5,{"$f":"MODE(DataExtract!$BP$1598:$BP$5302)","v":0},{"$f":"_xlfn.PERCENTILE.EXC(DataExtract!$BP$3:$BP$5302,0.75)","v":5},{"$f":"_xlfn.PERCENTILE.EXC(DataExtract!$BP$3:$BP$5302,0.9)","v":92},{"$f":"MAX(DataExtract!$BP$3:$BP$5302)","v":365},{"$f":"COUNT(DataExtract!$BP$3:$BP$5302)","v":5300},{"$f":"MIN(DataExtract!$BO$3:$BO$1597)","v":1},{"$f":"_xlfn.PERCENTILE.EXC(DataExtract!$BO$3:$BO$1597,0.1)","v":3},{"$f":"_xlfn.PERCENTILE.EXC(DataExtract!$BO$3:$BO$1597,0.25)","v":8},{"$f":"AVERAGE(DataExtract!$BO$3:$BO$1597)","v":79.499059561128533},{"$f":"MEDIAN(DataExtract!$BO$3:$BO$1597)","v":46},{"$f":"MODE(DataExtract!$BO$3:$BO$1597)","v":180},{"$f":"_xlfn.PERCENTILE.EXC(DataExtract!$BO$3:$BO$1597,0.75)","v":132},{"$f":"_xlfn.PERCENTILE.EXC(DataExtract!$BO$3:$BO$1597,0.9)","v":202},{"$f":"MAX(DataExtract!$BO$3:$BO$1597,0.25)","v":365},{"$f":"COUNT(DataExtract!$BO$3:$BO$1597)","v":1595}]
[null,null,{"$f":"IF(ISBLANK(A43),\"--\",IF(B43=$I$14,I43,IF(B43=$J$14,J43,IF(B43=$K$14,K43,IF(B43=$L$14,L43,IF(B43=$N$14,N43,IF(B43=$M$14,M43,IF(B43='Dropdown Lists'!$O$23,Injuries_WorkMissed!N43,\"--\"))))))))","v":"--"},null,{"$f":"IF(ISBLANK(D43),\"--\",IF(D43='Dropdown Lists'!$K$37,P43,IF(D43='Dropdown Lists'!$K$38,Q43,IF(D43='Dropdown Lists'!$K$39,R43,IF(D43='Dropdown Lists'!$K$40,S43,IF(D43='Dropdown Lists'!$K$41,T43,IF(D43='Dropdown Lists'!$K$42,U43,IF(D43='Dropdown Lists'!$K$43,V43,IF(D43='Dropdown Lists'!$K$44,W43,IF(D43='Dropdown Lists'!$K$45,X43,IF(D43='Dropdown Lists'!$K$46,Z43,IF(D43='Dropdown Lists'!$K$47,AA43,IF(D43='Dropdown Lists'!$K$48,AB43,IF(D43='Dropdown Lists'!$K$49,AC43,IF(D43='Dropdown Lists'!$K$50,AD43,IF(D43='Dropdown Lists'!$K$51,AE43,IF(D43='Dropdown Lists'!$K$52,AF43,IF(D43='Dropdown Lists'!$K$53,AG43,IF(D43='Dropdown Lists'!$K$54,AH43,IF(D43='Dropdown Lists'!$K$55,AJ43,\"\"))))))))))))))))))))","v":"--"},null,"--",null,{"$f":"IF(ISBLANK(A43),\"--\",VLOOKUP(A43,Injuries_WorkMissed!$B$109:$G$863,2,FALSE))","v":"--"},{"$f":"IF(ISBLANK(A43),\"--\",VLOOKUP(A43,Injuries_WorkMissed!$B$109:$G$863,3,FALSE))","v":"--"},{"$f":"IF(ISBLANK(A43),\"--\",VLOOKUP(A43,Injuries_WorkMissed!$B$109:$G$863,4,FALSE))","v":"--"},{"$f":"IF(ISBLANK(A43),\"--\",VLOOKUP(A43,Injuries_WorkMissed!$B$109:$G$863,5,FALSE))","v":"--"},{"$f":"IF(ISBLANK(A43),\"--\",VLOOKUP(A43,Injuries_WorkMissed!$B$109:$G$863,6,FALSE))","v":"--"},null,null,{"$f":"MIN(DataExtract!$BP$3:$BP$1597)","v":0},{"$f":"_xlfn.PERCENTILE.EXC(DataExtract!$BP$3:$BP$1597,0.1)","v":0},{"$f":"_xlfn.PERCENTILE.EXC(DataExtract!$BP$3:$BP$1597,0.25)","v":0},{"$f":"AVERAGE(DataExtract!$BP$3:$BP$5302)","v":23.924716981132075},1.5,{"$f":"MODE(DataExtract!$BP$1598:$BP$5302)","v":0},{"$f":"_xlfn.PERCENTILE.EXC(DataExtract!$BP$3:$BP$5302,0.75)","v":5},{"$f":"_xlfn.PERCENTILE.EXC(DataExtract!$BP$3:$BP$5302,0.9)","v":92},{"$f":"MAX(DataExtract!$BP$3:$BP$5302)","v":365},{"$f":"COUNT(DataExtract!$BP$3:$BP$5302)","v":5300},{"$f":"MIN(DataExtract!$BO$3:$BO$1597)","v":1},{"$f":"_xlfn.PERCENTILE.EXC(DataExtract!$BO$3:$BO$1597,0.1)","v":3},{"$f":"_xlfn.PERCENTILE.EXC(DataExtract!$BO$3:$BO$1597,0.25)","v":8},{"$f":"AVERAGE(DataExtract!$BO$3:$BO$1597)","v":79.499059561128533},{"$f":"MEDIAN(DataExtract!$BO$3:$BO$1597)","v":46},{"$f":"MODE(DataExtract!$BO$3:$BO$1597)","v":180},{"$f":"_xlfn.PERCENTILE.EXC(DataExtract!$BO$3:$BO$1597,0.75)","v":132},{"$f":"_xlfn.PERCENTILE.EXC(DataExtract!$BO$3:$BO$1597,0.9)","v":202},{"$f":"MAX(DataExtract!$BO$3:$BO$1597,0.25)","v":365},{"$f":"COUNT(DataExtract!$BO$3:$BO$1597)","v":1595}]
[null,null,{"$f":"IF(ISBLANK(A44),\"--\",IF(B44=$I$14,I44,IF(B44=$J$14,J44,IF(B44=$K$14,K44,IF(B44=$L$14,L44,IF(B44=$N$14,N44,IF(B44=$M$14,M44,IF(B44='Dropdown Lists'!$O$23,Injuries_WorkMissed!N44,\"--\"))))))))","v":"--"},null,{"$f":"IF(ISBLANK(D44),\"--\",IF(D44='Dropdown Lists'!$K$37,P44,IF(D44='Dropdown Lists'!$K$38,Q44,IF(D44='Dropdown Lists'!$K$39,R44,IF(D44='Dropdown Lists'!$K$40,S44,IF(D44='Dropdown Lists'!$K$41,T44,IF(D44='Dropdown Lists'!$K$42,U44,IF(D44='Dropdown Lists'!$K$43,V44,IF(D44='Dropdown Lists'!$K$44,W44,IF(D44='Dropdown Lists'!$K$45,X44,IF(D44='Dropdown Lists'!$K$46,Z44,IF(D44='Dropdown Lists'!$K$47,AA44,IF(D44='Dropdown Lists'!$K$48,AB44,IF(D44='Dropdown Lists'!$K$49,AC44,IF(D44='Dropdown Lists'!$K$50,AD44,IF(D44='Dropdown Lists'!$K$51,AE44,IF(D44='Dropdown Lists'!$K$52,AF44,IF(D44='Dropdown Lists'!$K$53,AG44,IF(D44='Dropdown Lists'!$K$54,AH44,IF(D44='Dropdown Lists'!$K$55,AJ44,\"\"))))))))))))))))))))","v":"--"},null,"--",null,{"$f":"IF(ISBLANK(A44),\"--\",VLOOKUP(A44,Injuries_WorkMissed!$B$109:$G$863,2,FALSE))","v":"--"},{"$f":"IF(ISBLANK(A44),\"--\",VLOOKUP(A44,Injuries_WorkMissed!$B$109:$G$863,3,FALSE))","v":"--"},{"$f":"IF(ISBLANK(A44),\"--\",VLOOKUP(A44,Injuries_WorkMissed!$B$109:$G$863,4,FALSE))","v":"--"},{"$f":"IF(ISBLANK(A44),\"--\",VLOOKUP(A44,Injuries_WorkMissed!$B$109:$G$863,5,FALSE))","v":"--"},{"$f":"IF(ISBLANK(A44),\"--\",VLOOKUP(A44,Injuries_WorkMissed!$B$109:$G$863,6,FALSE))","v":"--"},null,null,{"$f":"MIN(DataExtract!$BP$3:$BP$1597)","v":0},{"$f":"_xlfn.PERCENTILE.EXC(DataExtract!$BP$3:$BP$1597,0.1)","v":0},{"$f":"_xlfn.PERCENTILE.EXC(DataExtract!$BP$3:$BP$1597,0.25)","v":0},{"$f":"AVERAGE(DataExtract!$BP$3:$BP$5302)","v":23.924716981132075},1.5,{"$f":"MODE(DataExtract!$BP$1598:$BP$5302)","v":0},{"$f":"_xlfn.PERCENTILE.EXC(DataExtract!$BP$3:$BP$5302,0.75)","v":5},{"$f":"_xlfn.PERCENTILE.EXC(DataExtract!$BP$3:$BP$5302,0.9)","v":92},{"$f":"MAX(DataExtract!$BP$3:$BP$5302)","v":365},{"$f":"COUNT(DataExtract!$BP$3:$BP$5302)","v":5300},{"$f":"MIN(DataExtract!$BO$3:$BO$1597)","v":1},{"$f":"_xlfn.PERCENTILE.EXC(DataExtract!$BO$3:$BO$1597,0.1)","v":3},{"$f":"_xlfn.PERCENTILE.EXC(DataExtract!$BO$3:$BO$1597,0.25)","v":8},{"$f":"AVERAGE(DataExtract!$BO$3:$BO$1597)","v":79.499059561128533},{"$f":"MEDIAN(DataExtract!$BO$3:$BO$1597)","v":46},{"$f":"MODE(DataExtract!$BO$3:$BO$1597)","v":180},{"$f":"_xlfn.PERCENTILE.EXC(DataExtract!$BO$3:$BO$1597,0.75)","v":132},{"$f":"_xlfn.PERCENTILE.EXC(DataExtract!$BO$3:$BO$1597,0.9)","v":202},{"$f":"MAX(DataExtract!$BO$3:$BO$1597,0.25)","v":365},{"$f":"COUNT(DataExtract!$BO$3:$BO$1597)","v":1595}]
[null,null,{"$f":"IF(ISBLANK(A45),\"--\",IF(B45=$I$14,I45,IF(B45=$J$14,J45,IF(B45=$K$14,K45,IF(B45=$L$14,L45,IF(B45=$N$14,N45,IF(B45=$M$14,M45,IF(B45='Dropdown Lists'!$O$23,Injuries_WorkMissed!N45,\"--\"))))))))","v":"--"},null,{"$f":"IF(ISBLANK(D45),\"--\",IF(D45='Dropdown Lists'!$K$37,P45,IF(D45='Dropdown Lists'!$K$38,Q45,IF(D45='Dropdown Lists'!$K$39,R45,IF(D45='Dropdown Lists'!$K$40,S45,IF(D45='Dropdown Lists'!$K$41,T45,IF(D45='Dropdown Lists'!$K$42,U45,IF(D45='Dropdown Lists'!$K$43,V45,IF(D45='Dropdown Lists'!$K$44,W45,IF(D45='Dropdown Lists'!$K$45,X45,IF(D45='Dropdown Lists'!$K$46,Z45,IF(D45='Dropdown Lists'!$K$47,AA45,IF(D45='Dropdown Lists'!$K$48,AB45,IF(D45='Dropdown Lists'!$K$49,AC45,IF(D45='Dropdown Lists'!$K$50,AD45,IF(D45='Dropdown Lists'!$K$51,AE45,IF(D45='Dropdown Lists'!$K$52,AF45,IF(D45='Dropdown Lists'!$K$53,AG45,IF(D45='Dropdown Lists'!$K$54,AH45,IF(D45='Dropdown Lists'!$K$55,AJ45,\"\"))))))))))))))))))))","v":"--"},null,"--",null,{"$f":"IF(ISBLANK(A45),\"--\",VLOOKUP(A45,Injuries_WorkMissed!$B$109:$G$863,2,FALSE))","v":"--"},{"$f":"IF(ISBLANK(A45),\"--\",VLOOKUP(A45,Injuries_WorkMissed!$B$109:$G$863,3,FALSE))","v":"--"},{"$f":"IF(ISBLANK(A45),\"--\",VLOOKUP(A45,Injuries_WorkMissed!$B$109:$G$863,4,FALSE))","v":"--"},{"$f":"IF(ISBLANK(A45),\"--\",VLOOKUP(A45,Injuries_WorkMissed!$B$109:$G$863,5,FALSE))","v":"--"},{"$f":"IF(ISBLANK(A45),\"--\",VLOOKUP(A45,Injuries_WorkMissed!$B$109:$G$863,6,FALSE))","v":"--"},null,null,{"$f":"MIN(DataExtract!$BP$3:$BP$1597)","v":0},{"$f":"_xlfn.PERCENTILE.EXC(DataExtract!$BP$3:$BP$1597,0.1)","v":0},{"$f":"_xlfn.PERCENTILE.EXC(DataExtract!$BP$3:$BP$1597,0.25)","v":0},{"$f":"AVERAGE(DataExtract!$BP$3:$BP$5302)","v":23.924716981132075},1.5,{"$f":"MODE(DataExtract!$BP$1598:$BP$5302)","v":0},{"$f":"_xlfn.PERCENTILE.EXC(DataExtract!$BP$3:$BP$5302,0.75)","v":5},{"$f":"_xlfn.PERCENTILE.EXC(DataExtract!$BP$3:$BP$5302,0.9)","v":92},{"$f":"MAX(DataExtract!$BP$3:$BP$5302)","v":365},{"$f":"COUNT(DataExtract!$BP$3:$BP$5302)","v":5300},{"$f":"MIN(DataExtract!$BO$3:$BO$1597)","v":1},{"$f":"_xlfn.PERCENTILE.EXC(DataExtract!$BO$3:$BO$1597,0.1)","v":3},{"$f":"_xlfn.PERCENTILE.EXC(DataExtract!$BO$3:$BO$1597,0.25)","v":8},{"$f":"AVERAGE(DataExtract!$BO$3:$BO$1597)","v":79.499059561128533},{"$f":"MEDIAN(DataExtract!$BO$3:$BO$1597)","v":46},{"$f":"MODE(DataExtract!$BO$3:$BO$1597)","v":180},{"$f":"_xlfn.PERCENTILE.EXC(DataExtract!$BO$3:$BO$1597,0.75)","v":132},{"$f":"_xlfn.PERCENTILE.EXC(DataExtract!$BO$3:$BO$1597,0.9)","v":202},{"$f":"MAX(DataExtract!$BO$3:$BO$1597,0.25)","v":365},{"$f":"COUNT(DataExtract!$BO$3:$BO$1597)","v":1595}]
[null,null,{"$f":"IF(ISBLANK(A46),\"--\",IF(B46=$I$14,I46,IF(B46=$J$14,J46,IF(B46=$K$14,K46,IF(B46=$L$14,L46,IF(B46=$N$14,N46,IF(B46=$M$14,M46,IF(B46='Dropdown Lists'!$O$23,Injuries_WorkMissed!N46,\"--\"))))))))","v":"--"},null,{"$f":"IF(ISBLANK(D46),\"--\",IF(D46='Dropdown Lists'!$K$37,P46,IF(D46='Dropdown Lists'!$K$38,Q46,IF(D46='Dropdown Lists'!$K$39,R46,IF(D46='Dropdown Lists'!$K$40,S46,IF(D46='Dropdown Lists'!$K$41,T46,IF(D46='Dropdown Lists'!$K$42,U46,IF(D46='Dropdown Lists'!$K$43,V46,IF(D46='Dropdown Lists'!$K$44,W46,IF(D46='Dropdown Lists'!$K$45,X46,IF(D46='Dropdown Lists'!$K$46,Z46,IF(D46='Dropdown Lists'!$K$47,AA46,IF(D46='Dropdown Lists'!$K$48,AB46,IF(D46='Dropdown Lists'!$K$49,AC46,IF(D46='Dropdown Lists'!$K$50,AD46,IF(D46='Dropdown Lists'!$K$51,AE46,IF(D46='Dropdown Lists'!$K$52,AF46,IF(D46='Dropdown Lists'!$K$53,AG46,IF(D46='Dropdown Lists'!$K$54,AH46,IF(D46='Dropdown Lists'!$K$55,AJ46,\"\"))))))))))))))))))))","v":"--"},null,"--",null,{"$f":"IF(ISBLANK(A46),\"--\",VLOOKUP(A46,Injuries_WorkMissed!$B$109:$G$863,2,FALSE))","v":"--"},{"$f":"IF(ISBLANK(A46),\"--\",VLOOKUP(A46,Injuries_WorkMissed!$B$109:$G$863,3,FALSE))","v":"--"},{"$f":"IF(ISBLANK(A46),\"--\",VLOOKUP(A46,Injuries_WorkMissed!$B$109:$G$863,4,FALSE))","v":"--"},{"$f":"IF(ISBLANK(A46),\"--\",VLOOKUP(A46,Injuries_WorkMissed!$B$109:$G$863,5,FALSE))","v":"--"},{"$f":"IF(ISBLANK(A46),\"--\",VLOOKUP(A46,Injuries_WorkMissed!$B$109:$G$863,6,FALSE))","v":"--"},null,null,{"$f":"MIN(DataExtract!$BP$3:$BP$1597)","v":0},{"$f":"_xlfn.PERCENTILE.EXC(DataExtract!$BP$3:$BP$1597,0.1)","v":0},{"$f":"_xlfn.PERCENTILE.EXC(DataExtract!$BP$3:$BP$1597,0.25)","v":0},{"$f":"AVERAGE(DataExtract!$BP$3:$BP$5302)","v":23.924716981132075},1.5,{"$f":"MODE(DataExtract!$BP$1598:$BP$5302)","v":0},{"$f":"_xlfn.PERCENTILE.EXC(DataExtract!$BP$3:$BP$5302,0.75)","v":5},{"$f":"_xlfn.PERCENTILE.EXC(DataExtract!$BP$3:$BP$5302,0.9)","v":92},{"$f":"MAX(DataExtract!$BP$3:$BP$5302)","v":365},{"$f":"COUNT(DataExtract!$BP$3:$BP$5302)","v":5300},{"$f":"MIN(DataExtract!$BO$3:$BO$1597)","v":1},{"$f":"_xlfn.PERCENTILE.EXC(DataExtract!$BO$3:$BO$1597,0.1)","v":3},{"$f":"_xlfn.PERCENTILE.EXC(DataExtract!$BO$3:$BO$1597,0.25)","v":8},{"$f":"AVERAGE(DataExtract!$BO$3:$BO$1597)","v":79.499059561128533},{"$f":"MEDIAN(DataExtract!$BO$3:$BO$1597)","v":46},{"$f":"MODE(DataExtract!$BO$3:$BO$1597)","v":180},{"$f":"_xlfn.PERCENTILE.EXC(DataExtract!$BO$3:$BO$1597,0.75)","v":132},{"$f":"_xlfn.PERCENTILE.EXC(DataExtract!$BO$3:$BO$1597,0.9)","v":202},{"$f":"MAX(DataExtract!$BO$3:$BO$1597,0.25)","v":365},{"$f":"COUNT(DataExtract!$BO$3:$BO$1597)","v":1595}]
[null,null,{"$f":"IF(ISBLANK(A47),\"--\",IF(B47=$I$14,I47,IF(B47=$J$14,J47,IF(B47=$K$14,K47,IF(B47=$L$14,L47,IF(B47=$N$14,N47,IF(B47=$M$14,M47,IF(B47='Dropdown Lists'!$O$23,Injuries_WorkMissed!N47,\"--\"))))))))","v":"--"},null,{"$f":"IF(ISBLANK(D47),\"--\",IF(D47='Dropdown Lists'!$K$37,P47,IF(D47='Dropdown Lists'!$K$38,Q47,IF(D47='Dropdown Lists'!$K$39,R47,IF(D47='Dropdown Lists'!$K$40,S47,IF(D47='Dropdown Lists'!$K$41,T47,IF(D47='Dropdown Lists'!$K$42,U47,IF(D47='Dropdown Lists'!$K$43,V47,IF(D47='Dropdown Lists'!$K$44,W47,IF(D47='Dropdown Lists'!$K$45,X47,IF(D47='Dropdown Lists'!$K$46,Z47,IF(D47='Dropdown Lists'!$K$47,AA47,IF(D47='Dropdown Lists'!$K$48,AB47,IF(D47='Dropdown Lists'!$K$49,AC47,IF(D47='Dropdown Lists'!$K$50,AD47,IF(D47='Dropdown Lists'!$K$51,AE47,IF(D47='Dropdown Lists'!$K$52,AF47,IF(D47='Dropdown Lists'!$K$53,AG47,IF(D47='Dropdown Lists'!$K$54,AH47,IF(D47='Dropdown Lists'!$K$55,AJ47,\"\"))))))))))))))))))))","v":"--"},null,"--",null,{"$f":"IF(ISBLANK(A47),\"--\",VLOOKUP(A47,Injuries_WorkMissed!$B$109:$G$863,2,FALSE))","v":"--"},{"$f":"IF(ISBLANK(A47),\"--\",VLOOKUP(A47,Injuries_WorkMissed!$B$109:$G$863,3,FALSE))","v":"--"},{"$f":"IF(ISBLANK(A47),\"--\",VLOOKUP(A47,Injuries_WorkMissed!$B$109:$G$863,4,FALSE))","v":"--"},{"$f":"IF(ISBLANK(A47),\"--\",VLOOKUP(A47,Injuries_WorkMissed!$B$109:$G$863,5,FALSE))","v":"--"},{"$f":"IF(ISBLANK(A47),\"--\",VLOOKUP(A47,Injuries_WorkMissed!$B$109:$G$863,6,FALSE))","v":"--"},null,null,{"$f":"MIN(DataExtract!$BP$3:$BP$1597)","v":0},{"$f":"_xlfn.PERCENTILE.EXC(DataExtract!$BP$3:$BP$1597,0.1)","v":0},{"$f":"_xlfn.PERCENTILE.EXC(DataExtract!$BP$3:$BP$1597,0.25)","v":0},{"$f":"AVERAGE(DataExtract!$BP$3:$BP$5302)","v":23.924716981132075},1.5,{"$f":"MODE(DataExtract!$BP$1598:$BP$5302)","v":0},{"$f":"_xlfn.PERCENTILE.EXC(DataExtract!$BP$3:$BP$5302,0.75)","v":5},{"$f":"_xlfn.PERCENTILE.EXC(DataExtract!$BP$3:$BP$5302,0.9)","v":92},{"$f":"MAX(DataExtract!$BP$3:$BP$5302)","v":365},{"$f":"COUNT(DataExtract!$BP$3:$BP$5302)","v":5300},{"$f":"MIN(DataExtract!$BO$3:$BO$1597)","v":1},{"$f":"_xlfn.PERCENTILE.EXC(DataExtract!$BO$3:$BO$1597,0.1)","v":3},{"$f":"_xlfn.PERCENTILE.EXC(DataExtract!$BO$3:$BO$1597,0.25)","v":8},{"$f":"AVERAGE(DataExtract!$BO$3:$BO$1597)","v":79.499059561128533},{"$f":"MEDIAN(DataExtract!$BO$3:$BO$1597)","v":46},{"$f":"MODE(DataExtract!$BO$3:$BO$1597)","v":180},{"$f":"_xlfn.PERCENTILE.EXC(DataExtract!$BO$3:$BO$1597,0.75)","v":132},{"$f":"_xlfn.PERCENTILE.EXC(DataExtract!$BO$3:$BO$1597,0.9)","v":202},{"$f":"MAX(DataExtract!$BO$3:$BO$1597,0.25)","v":365},{"$f":"COUNT(DataExtract!$BO$3:$BO$1597)","v":1595}]
[null,null,{"$f":"IF(ISBLANK(A48),\"--\",IF(B48=$I$14,I48,IF(B48=$J$14,J48,IF(B48=$K$14,K48,IF(B48=$L$14,L48,IF(B48=$N$14,N48,IF(B48=$M$14,M48,IF(B48='Dropdown Lists'!$O$23,Injuries_WorkMissed!N48,\"--\"))))))))","v":"--"},null,{"$f":"IF(ISBLANK(D48),\"--\",IF(D48='Dropdown Lists'!$K$37,P48,IF(D48='Dropdown Lists'!$K$38,Q48,IF(D48='Dropdown Lists'!$K$39,R48,IF(D48='Dropdown Lists'!$K$40,S48,IF(D48='Dropdown Lists'!$K$41,T48,IF(D48='Dropdown Lists'!$K$42,U48,IF(D48='Dropdown Lists'!$K$43,V48,IF(D48='Dropdown Lists'!$K$44,W48,IF(D48='Dropdown Lists'!$K$45,X48,IF(D48='Dropdown Lists'!$K$46,Z48,IF(D48='Dropdown Lists'!$K$47,AA48,IF(D48='Dropdown Lists'!$K$48,AB48,IF(D48='Dropdown Lists'!$K$49,AC48,IF(D48='Dropdown Lists'!$K$50,AD48,IF(D48='Dropdown Lists'!$K$51,AE48,IF(D48='Dropdown Lists'!$K$52,AF48,IF(D48='Dropdown Lists'!$K$53,AG48,IF(D48='Dropdown Lists'!$K$54,AH48,IF(D48='Dropdown Lists'!$K$55,AJ48,\"\"))))))))))))))))))))","v":"--"},null,"--",null,{"$f":"IF(ISBLANK(A48),\"--\",VLOOKUP(A48,Injuries_WorkMissed!$B$109:$G$863,2,FALSE))","v":"--"},{"$f":"IF(ISBLANK(A48),\"--\",VLOOKUP(A48,Injuries_WorkMissed!$B$109:$G$863,3,FALSE))","v":"--"},{"$f":"IF(ISBLANK(A48),\"--\",VLOOKUP(A48,Injuries_WorkMissed!$B$109:$G$863,4,FALSE))","v":"--"},{"$f":"IF(ISBLANK(A48),\"--\",VLOOKUP(A48,Injuries_WorkMissed!$B$109:$G$863,5,FALSE))","v":"--"},{"$f":"IF(ISBLANK(A48),\"--\",VLOOKUP(A48,Injuries_WorkMissed!$B$109:$G$863,6,FALSE))","v":"--"},null,null,{"$f":"MIN(DataExtract!$BP$3:$BP$1597)","v":0},{"$f":"_xlfn.PERCENTILE.EXC(DataExtract!$BP$3:$BP$1597,0.1)","v":0},{"$f":"_xlfn.PERCENTILE.EXC(DataExtract!$BP$3:$BP$1597,0.25)","v":0},{"$f":"AVERAGE(DataExtract!$BP$3:$BP$5302)","v":23.924716981132075},1.5,{"$f":"MODE(DataExtract!$BP$1598:$BP$5302)","v":0},{"$f":"_xlfn.PERCENTILE.EXC(DataExtract!$BP$3:$BP$5302,0.75)","v":5},{"$f":"_xlfn.PERCENTILE.EXC(DataExtract!$BP$3:$BP$5302,0.9)","v":92},{"$f":"MAX(DataExtract!$BP$3:$BP$5302)","v":365},{"$f":"COUNT(DataExtract!$BP$3:$BP$5302)","v":5300},{"$f":"MIN(DataExtract!$BO$3:$BO$1597)","v":1},{"$f":"_xlfn.PERCENTILE.EXC(DataExtract!$BO$3:$BO$1597,0.1)","v":3},{"$f":"_xlfn.PERCENTILE.EXC(DataExtract!$BO$3:$BO$1597,0.25)","v":8},{"$f":"AVERAGE(DataExtract!$BO$3:$BO$1597)","v":79.499059561128533},{"$f":"MEDIAN(DataExtract!$BO$3:$BO$1597)","v":46},{"$f":"MODE(DataExtract!$BO$3:$BO$1597)","v":180},{"$f":"_xlfn.PERCENTILE.EXC(DataExtract!$BO$3:$BO$1597,0.75)","v":132},{"$f":"_xlfn.PERCENTILE.EXC(DataExtract!$BO$3:$BO$1597,0.9)","v":202},{"$f":"MAX(DataExtract!$BO$3:$BO$1597,0.25)","v":365},{"$f":"COUNT(DataExtract!$BO$3:$BO$1597)","v":1595}]
[null,null,{"$f":"IF(ISBLANK(A49),\"--\",IF(B49=$I$14,I49,IF(B49=$J$14,J49,IF(B49=$K$14,K49,IF(B49=$L$14,L49,IF(B49=$N$14,N49,IF(B49=$M$14,M49,IF(B49='Dropdown Lists'!$O$23,Injuries_WorkMissed!N49,\"--\"))))))))","v":"--"},null,{"$f":"IF(ISBLANK(D49),\"--\",IF(D49='Dropdown Lists'!$K$37,P49,IF(D49='Dropdown Lists'!$K$38,Q49,IF(D49='Dropdown Lists'!$K$39,R49,IF(D49='Dropdown Lists'!$K$40,S49,IF(D49='Dropdown Lists'!$K$41,T49,IF(D49='Dropdown Lists'!$K$42,U49,IF(D49='Dropdown Lists'!$K$43,V49,IF(D49='Dropdown Lists'!$K$44,W49,IF(D49='Dropdown Lists'!$K$45,X49,IF(D49='Dropdown Lists'!$K$46,Z49,IF(D49='Dropdown Lists'!$K$47,AA49,IF(D49='Dropdown Lists'!$K$48,AB49,IF(D49='Dropdown Lists'!$K$49,AC49,IF(D49='Dropdown Lists'!$K$50,AD49,IF(D49='Dropdown Lists'!$K$51,AE49,IF(D49='Dropdown Lists'!$K$52,AF49,IF(D49='Dropdown Lists'!$K$53,AG49,IF(D49='Dropdown Lists'!$K$54,AH49,IF(D49='Dropdown Lists'!$K$55,AJ49,\"\"))))))))))))))))))))","v":"--"},null,"--",null,{"$f":"IF(ISBLANK(A49),\"--\",VLOOKUP(A49,Injuries_WorkMissed!$B$109:$G$863,2,FALSE))","v":"--"},{"$f":"IF(ISBLANK(A49),\"--\",VLOOKUP(A49,Injuries_WorkMissed!$B$109:$G$863,3,FALSE))","v":"--"},{"$f":"IF(ISBLANK(A49),\"--\",VLOOKUP(A49,Injuries_WorkMissed!$B$109:$G$863,4,FALSE))","v":"--"},{"$f":"IF(ISBLANK(A49),\"--\",VLOOKUP(A49,Injuries_WorkMissed!$B$109:$G$863,5,FALSE))","v":"--"},{"$f":"IF(ISBLANK(A49),\"--\",VLOOKUP(A49,Injuries_WorkMissed!$B$109:$G$863,6,FALSE))","v":"--"},null,null,{"$f":"MIN(DataExtract!$BP$3:$BP$1597)","v":0},{"$f":"_xlfn.PERCENTILE.EXC(DataExtract!$BP$3:$BP$1597,0.1)","v":0},{"$f":"_xlfn.PERCENTILE.EXC(DataExtract!$BP$3:$BP$1597,0.25)","v":0},{"$f":"AVERAGE(DataExtract!$BP$3:$BP$5302)","v":23.924716981132075},1.5,{"$f":"MODE(DataExtract!$BP$1598:$BP$5302)","v":0},{"$f":"_xlfn.PERCENTILE.EXC(DataExtract!$BP$3:$BP$5302,0.75)","v":5},{"$f":"_xlfn.PERCENTILE.EXC(DataExtract!$BP$3:$BP$5302,0.9)","v":92},{"$f":"MAX(DataExtract!$BP$3:$BP$5302)","v":365},{"$f":"COUNT(DataExtract!$BP$3:$BP$5302)","v":5300},{"$f":"MIN(DataExtract!$BO$3:$BO$1597)","v":1},{"$f":"_xlfn.PERCENTILE.EXC(DataExtract!$BO$3:$BO$1597,0.1)","v":3},{"$f":"_xlfn.PERCENTILE.EXC(DataExtract!$BO$3:$BO$1597,0.25)","v":8},{"$f":"AVERAGE(DataExtract!$BO$3:$BO$1597)","v":79.499059561128533},{"$f":"MEDIAN(DataExtract!$BO$3:$BO$1597)","v":46},{"$f":"MODE(DataExtract!$BO$3:$BO$1597)","v":180},{"$f":"_xlfn.PERCENTILE.EXC(DataExtract!$BO$3:$BO$1597,0.75)","v":132},{"$f":"_xlfn.PERCENTILE.EXC(DataExtract!$BO$3:$BO$1597,0.9)","v":202},{"$f":"MAX(DataExtract!$BO$3:$BO$1597,0.25)","v":365},{"$f":"COUNT(DataExtract!$BO$3:$BO$1597)","v":1595}]
[null,null,{"$f":"IF(ISBLANK(A50),\"--\",IF(B50=$I$14,I50,IF(B50=$J$14,J50,IF(B50=$K$14,K50,IF(B50=$L$14,L50,IF(B50=$N$14,N50,IF(B50=$M$14,M50,IF(B50='Dropdown Lists'!$O$23,Injuries_WorkMissed!N50,\"--\"))))))))","v":"--"},null,{"$f":"IF(ISBLANK(D50),\"--\",IF(D50='Dropdown Lists'!$K$37,P50,IF(D50='Dropdown Lists'!$K$38,Q50,IF(D50='Dropdown Lists'!$K$39,R50,IF(D50='Dropdown Lists'!$K$40,S50,IF(D50='Dropdown Lists'!$K$41,T50,IF(D50='Dropdown Lists'!$K$42,U50,IF(D50='Dropdown Lists'!$K$43,V50,IF(D50='Dropdown Lists'!$K$44,W50,IF(D50='Dropdown Lists'!$K$45,X50,IF(D50='Dropdown Lists'!$K$46,Z50,IF(D50='Dropdown Lists'!$K$47,AA50,IF(D50='Dropdown Lists'!$K$48,AB50,IF(D50='Dropdown Lists'!$K$49,AC50,IF(D50='Dropdown Lists'!$K$50,AD50,IF(D50='Dropdown Lists'!$K$51,AE50,IF(D50='Dropdown Lists'!$K$52,AF50,IF(D50='Dropdown Lists'!$K$53,AG50,IF(D50='Dropdown Lists'!$K$54,AH50,IF(D50='Dropdown Lists'!$K$55,AJ50,\"\"))))))))))))))))))))","v":"--"},null,"--",null,{"$f":"IF(ISBLANK(A50),\"--\",VLOOKUP(A50,Injuries_WorkMissed!$B$109:$G$863,2,FALSE))","v":"--"},{"$f":"IF(ISBLANK(A50),\"--\",VLOOKUP(A50,Injuries_WorkMissed!$B$109:$G$863,3,FALSE))","v":"--"},{"$f":"IF(ISBLANK(A50),\"--\",VLOOKUP(A50,Injuries_WorkMissed!$B$109:$G$863,4,FALSE))","v":"--"},{"$f":"IF(ISBLANK(A50),\"--\",VLOOKUP(A50,Injuries_WorkMissed!$B$109:$G$863,5,FALSE))","v":"--"},{"$f":"IF(ISBLANK(A50),\"--\",VLOOKUP(A50,Injuries_WorkMissed!$B$109:$G$863,6,FALSE))","v":"--"},null,null,{"$f":"MIN(DataExtract!$BP$3:$BP$1597)","v":0},{"$f":"_xlfn.PERCENTILE.EXC(DataExtract!$BP$3:$BP$1597,0.1)","v":0},{"$f":"_xlfn.PERCENTILE.EXC(DataExtract!$BP$3:$BP$1597,0.25)","v":0},{"$f":"AVERAGE(DataExtract!$BP$3:$BP$5302)","v":23.924716981132075},1.5,{"$f":"MODE(DataExtract!$BP$1598:$BP$5302)","v":0},{"$f":"_xlfn.PERCENTILE.EXC(DataExtract!$BP$3:$BP$5302,0.75)","v":5},{"$f":"_xlfn.PERCENTILE.EXC(DataExtract!$BP$3:$BP$5302,0.9)","v":92},{"$f":"MAX(DataExtract!$BP$3:$BP$5302)","v":365},{"$f":"COUNT(DataExtract!$BP$3:$BP$5302)","v":5300},{"$f":"MIN(DataExtract!$BO$3:$BO$1597)","v":1},{"$f":"_xlfn.PERCENTILE.EXC(DataExtract!$BO$3:$BO$1597,0.1)","v":3},{"$f":"_xlfn.PERCENTILE.EXC(DataExtract!$BO$3:$BO$1597,0.25)","v":8},{"$f":"AVERAGE(DataExtract!$BO$3:$BO$1597)","v":79.499059561128533},{"$f":"MEDIAN(DataExtract!$BO$3:$BO$1597)","v":46},{"$f":"MODE(DataExtract!$BO$3:$BO$1597)","v":180},{"$f":"_xlfn.PERCENTILE.EXC(DataExtract!$BO$3:$BO$1597,0.75)","v":132},{"$f":"_xlfn.PERCENTILE.EXC(DataExtract!$BO$3:$BO$1597,0.9)","v":202},{"$f":"MAX(DataExtract!$BO$3:$BO$1597,0.25)","v":365},{"$f":"COUNT(DataExtract!$BO$3:$BO$1597)","v":1595}]
[null,null,{"$f":"IF(ISBLANK(A51),\"--\",IF(B51=$I$14,I51,IF(B51=$J$14,J51,IF(B51=$K$14,K51,IF(B51=$L$14,L51,IF(B51=$N$14,N51,IF(B51=$M$14,M51,IF(B51='Dropdown Lists'!$O$23,Injuries_WorkMissed!N51,\"--\"))))))))","v":"--"},null,{"$f":"IF(ISBLANK(D51),\"--\",IF(D51='Dropdown Lists'!$K$37,P51,IF(D51='Dropdown Lists'!$K$38,Q51,IF(D51='Dropdown Lists'!$K$39,R51,IF(D51='Dropdown Lists'!$K$40,S51,IF(D51='Dropdown Lists'!$K$41,T51,IF(D51='Dropdown Lists'!$K$42,U51,IF(D51='Dropdown Lists'!$K$43,V51,IF(D51='Dropdown Lists'!$K$44,W51,IF(D51='Dropdown Lists'!$K$45,X51,IF(D51='Dropdown Lists'!$K$46,Z51,IF(D51='Dropdown Lists'!$K$47,AA51,IF(D51='Dropdown Lists'!$K$48,AB51,IF(D51='Dropdown Lists'!$K$49,AC51,IF(D51='Dropdown Lists'!$K$50,AD51,IF(D51='Dropdown Lists'!$K$51,AE51,IF(D51='Dropdown Lists'!$K$52,AF51,IF(D51='Dropdown Lists'!$K$53,AG51,IF(D51='Dropdown Lists'!$K$54,AH51,IF(D51='Dropdown Lists'!$K$55,AJ51,\"\"))))))))))))))))))))","v":"--"},null,"--",null,{"$f":"IF(ISBLANK(A51),\"--\",VLOOKUP(A51,Injuries_WorkMissed!$B$109:$G$863,2,FALSE))","v":"--"},{"$f":"IF(ISBLANK(A51),\"--\",VLOOKUP(A51,Injuries_WorkMissed!$B$109:$G$863,3,FALSE))","v":"--"},{"$f":"IF(ISBLANK(A51),\"--\",VLOOKUP(A51,Injuries_WorkMissed!$B$109:$G$863,4,FALSE))","v":"--"},{"$f":"IF(ISBLANK(A51),\"--\",VLOOKUP(A51,Injuries_WorkMissed!$B$109:$G$863,5,FALSE))","v":"--"},{"$f":"IF(ISBLANK(A51),\"--\",VLOOKUP(A51,Injuries_WorkMissed!$B$109:$G$863,6,FALSE))","v":"--"},null,null,{"$f":"MIN(DataExtract!$BP$3:$BP$1597)","v":0},{"$f":"_xlfn.PERCENTILE.EXC(DataExtract!$BP$3:$BP$1597,0.1)","v":0},{"$f":"_xlfn.PERCENTILE.EXC(DataExtract!$BP$3:$BP$1597,0.25)","v":0},{"$f":"AVERAGE(DataExtract!$BP$3:$BP$5302)","v":23.924716981132075},1.5,{"$f":"MODE(DataExtract!$BP$1598:$BP$5302)","v":0},{"$f":"_xlfn.PERCENTILE.EXC(DataExtract!$BP$3:$BP$5302,0.75)","v":5},{"$f":"_xlfn.PERCENTILE.EXC(DataExtract!$BP$3:$BP$5302,0.9)","v":92},{"$f":"MAX(DataExtract!$BP$3:$BP$5302)","v":365},{"$f":"COUNT(DataExtract!$BP$3:$BP$5302)","v":5300},{"$f":"MIN(DataExtract!$BO$3:$BO$1597)","v":1},{"$f":"_xlfn.PERCENTILE.EXC(DataExtract!$BO$3:$BO$1597,0.1)","v":3},{"$f":"_xlfn.PERCENTILE.EXC(DataExtract!$BO$3:$BO$1597,0.25)","v":8},{"$f":"AVERAGE(DataExtract!$BO$3:$BO$1597)","v":79.499059561128533},{"$f":"MEDIAN(DataExtract!$BO$3:$BO$1597)","v":46},{"$f":"MODE(DataExtract!$BO$3:$BO$1597)","v":180},{"$f":"_xlfn.PERCENTILE.EXC(DataExtract!$BO$3:$BO$1597,0.75)","v":132},{"$f":"_xlfn.PERCENTILE.EXC(DataExtract!$BO$3:$BO$1597,0.9)","v":202},{"$f":"MAX(DataExtract!$BO$3:$BO$1597,0.25)","v":365},{"$f":"COUNT(DataExtract!$BO$3:$BO$1597)","v":1595}]
[null,null,{"$f":"IF(ISBLANK(A52),\"--\",IF(B52=$I$14,I52,IF(B52=$J$14,J52,IF(B52=$K$14,K52,IF(B52=$L$14,L52,IF(B52=$N$14,N52,IF(B52=$M$14,M52,IF(B52='Dropdown Lists'!$O$23,Injuries_WorkMissed!N52,\"--\"))))))))","v":"--"},null,{"$f":"IF(ISBLANK(D52),\"--\",IF(D52='Dropdown Lists'!$K$37,P52,IF(D52='Dropdown Lists'!$K$38,Q52,IF(D52='Dropdown Lists'!$K$39,R52,IF(D52='Dropdown Lists'!$K$40,S52,IF(D52='Dropdown Lists'!$K$41,T52,IF(D52='Dropdown Lists'!$K$42,U52,IF(D52='Dropdown Lists'!$K$43,V52,IF(D52='Dropdown Lists'!$K$44,W52,IF(D52='Dropdown Lists'!$K$45,X52,IF(D52='Dropdown Lists'!$K$46,Z52,IF(D52='Dropdown Lists'!$K$47,AA52,IF(D52='Dropdown Lists'!$K$48,AB52,IF(D52='Dropdown Lists'!$K$49,AC52,IF(D52='Dropdown Lists'!$K$50,AD52,IF(D52='Dropdown Lists'!$K$51,AE52,IF(D52='Dropdown Lists'!$K$52,AF52,IF(D52='Dropdown Lists'!$K$53,AG52,IF(D52='Dropdown Lists'!$K$54,AH52,IF(D52='Dropdown Lists'!$K$55,AJ52,\"\"))))))))))))))))))))","v":"--"},null,"--",null,{"$f":"IF(ISBLANK(A52),\"--\",VLOOKUP(A52,Injuries_WorkMissed!$B$109:$G$863,2,FALSE))","v":"--"},{"$f":"IF(ISBLANK(A52),\"--\",VLOOKUP(A52,Injuries_WorkMissed!$B$109:$G$863,3,FALSE))","v":"--"},{"$f":"IF(ISBLANK(A52),\"--\",VLOOKUP(A52,Injuries_WorkMissed!$B$109:$G$863,4,FALSE))","v":"--"},{"$f":"IF(ISBLANK(A52),\"--\",VLOOKUP(A52,Injuries_WorkMissed!$B$109:$G$863,5,FALSE))","v":"--"},{"$f":"IF(ISBLANK(A52),\"--\",VLOOKUP(A52,Injuries_WorkMissed!$B$109:$G$863,6,FALSE))","v":"--"},null,null,{"$f":"MIN(DataExtract!$BP$3:$BP$1597)","v":0},{"$f":"_xlfn.PERCENTILE.EXC(DataExtract!$BP$3:$BP$1597,0.1)","v":0},{"$f":"_xlfn.PERCENTILE.EXC(DataExtract!$BP$3:$BP$1597,0.25)","v":0},{"$f":"AVERAGE(DataExtract!$BP$3:$BP$5302)","v":23.924716981132075},1.5,{"$f":"MODE(DataExtract!$BP$1598:$BP$5302)","v":0},{"$f":"_xlfn.PERCENTILE.EXC(DataExtract!$BP$3:$BP$5302,0.75)","v":5},{"$f":"_xlfn.PERCENTILE.EXC(DataExtract!$BP$3:$BP$5302,0.9)","v":92},{"$f":"MAX(DataExtract!$BP$3:$BP$5302)","v":365},{"$f":"COUNT(DataExtract!$BP$3:$BP$5302)","v":5300},{"$f":"MIN(DataExtract!$BO$3:$BO$1597)","v":1},{"$f":"_xlfn.PERCENTILE.EXC(DataExtract!$BO$3:$BO$1597,0.1)","v":3},{"$f":"_xlfn.PERCENTILE.EXC(DataExtract!$BO$3:$BO$1597,0.25)","v":8},{"$f":"AVERAGE(DataExtract!$BO$3:$BO$1597)","v":79.499059561128533},{"$f":"MEDIAN(DataExtract!$BO$3:$BO$1597)","v":46},{"$f":"MODE(DataExtract!$BO$3:$BO$1597)","v":180},{"$f":"_xlfn.PERCENTILE.EXC(DataExtract!$BO$3:$BO$1597,0.75)","v":132},{"$f":"_xlfn.PERCENTILE.EXC(DataExtract!$BO$3:$BO$1597,0.9)","v":202},{"$f":"MAX(DataExtract!$BO$3:$BO$1597,0.25)","v":365},{"$f":"COUNT(DataExtract!$BO$3:$BO$1597)","v":1595}]
[null,null,{"$f":"IF(ISBLANK(A53),\"--\",IF(B53=$I$14,I53,IF(B53=$J$14,J53,IF(B53=$K$14,K53,IF(B53=$L$14,L53,IF(B53=$N$14,N53,IF(B53=$M$14,M53,IF(B53='Dropdown Lists'!$O$23,Injuries_WorkMissed!N53,\"--\"))))))))","v":"--"},null,{"$f":"IF(ISBLANK(D53),\"--\",IF(D53='Dropdown Lists'!$K$37,P53,IF(D53='Dropdown Lists'!$K$38,Q53,IF(D53='Dropdown Lists'!$K$39,R53,IF(D53='Dropdown Lists'!$K$40,S53,IF(D53='Dropdown Lists'!$K$41,T53,IF(D53='Dropdown Lists'!$K$42,U53,IF(D53='Dropdown Lists'!$K$43,V53,IF(D53='Dropdown Lists'!$K$44,W53,IF(D53='Dropdown Lists'!$K$45,X53,IF(D53='Dropdown Lists'!$K$46,Z53,IF(D53='Dropdown Lists'!$K$47,AA53,IF(D53='Dropdown Lists'!$K$48,AB53,IF(D53='Dropdown Lists'!$K$49,AC53,IF(D53='Dropdown Lists'!$K$50,AD53,IF(D53='Dropdown Lists'!$K$51,AE53,IF(D53='Dropdown Lists'!$K$52,AF53,IF(D53='Dropdown Lists'!$K$53,AG53,IF(D53='Dropdown Lists'!$K$54,AH53,IF(D53='Dropdown Lists'!$K$55,AJ53,\"\"))))))))))))))))))))","v":"--"},null,"--",null,{"$f":"IF(ISBLANK(A53),\"--\",VLOOKUP(A53,Injuries_WorkMissed!$B$109:$G$863,2,FALSE))","v":"--"},{"$f":"IF(ISBLANK(A53),\"--\",VLOOKUP(A53,Injuries_WorkMissed!$B$109:$G$863,3,FALSE))","v":"--"},{"$f":"IF(ISBLANK(A53),\"--\",VLOOKUP(A53,Injuries_WorkMissed!$B$109:$G$863,4,FALSE))","v":"--"},{"$f":"IF(ISBLANK(A53),\"--\",VLOOKUP(A53,Injuries_WorkMissed!$B$109:$G$863,5,FALSE))","v":"--"},{"$f":"IF(ISBLANK(A53),\"--\",VLOOKUP(A53,Injuries_WorkMissed!$B$109:$G$863,6,FALSE))","v":"--"},null,null,{"$f":"MIN(DataExtract!$BP$3:$BP$1597)","v":0},{"$f":"_xlfn.PERCENTILE.EXC(DataExtract!$BP$3:$BP$1597,0.1)","v":0},{"$f":"_xlfn.PERCENTILE.EXC(DataExtract!$BP$3:$BP$1597,0.25)","v":0},{"$f":"AVERAGE(DataExtract!$BP$3:$BP$5302)","v":23.924716981132075},1.5,{"$f":"MODE(DataExtract!$BP$1598:$BP$5302)","v":0},{"$f":"_xlfn.PERCENTILE.EXC(DataExtract!$BP$3:$BP$5302,0.75)","v":5},{"$f":"_xlfn.PERCENTILE.EXC(DataExtract!$BP$3:$BP$5302,0.9)","v":92},{"$f":"MAX(DataExtract!$BP$3:$BP$5302)","v":365},{"$f":"COUNT(DataExtract!$BP$3:$BP$5302)","v":5300},{"$f":"MIN(DataExtract!$BO$3:$BO$1597)","v":1},{"$f":"_xlfn.PERCENTILE.EXC(DataExtract!$BO$3:$BO$1597,0.1)","v":3},{"$f":"_xlfn.PERCENTILE.EXC(DataExtract!$BO$3:$BO$1597,0.25)","v":8},{"$f":"AVERAGE(DataExtract!$BO$3:$BO$1597)","v":79.499059561128533},{"$f":"MEDIAN(DataExtract!$BO$3:$BO$1597)","v":46},{"$f":"MODE(DataExtract!$BO$3:$BO$1597)","v":180},{"$f":"_xlfn.PERCENTILE.EXC(DataExtract!$BO$3:$BO$1597,0.75)","v":132},{"$f":"_xlfn.PERCENTILE.EXC(DataExtract!$BO$3:$BO$1597,0.9)","v":202},{"$f":"MAX(DataExtract!$BO$3:$BO$1597,0.25)","v":365},{"$f":"COUNT(DataExtract!$BO$3:$BO$1597)","v":1595}]
[null,null,{"$f":"IF(ISBLANK(A54),\"--\",IF(B54=$I$14,I54,IF(B54=$J$14,J54,IF(B54=$K$14,K54,IF(B54=$L$14,L54,IF(B54=$N$14,N54,IF(B54=$M$14,M54,IF(B54='Dropdown Lists'!$O$23,Injuries_WorkMissed!N54,\"--\"))))))))","v":"--"},null,{"$f":"IF(ISBLANK(D54),\"--\",IF(D54='Dropdown Lists'!$K$37,P54,IF(D54='Dropdown Lists'!$K$38,Q54,IF(D54='Dropdown Lists'!$K$39,R54,IF(D54='Dropdown Lists'!$K$40,S54,IF(D54='Dropdown Lists'!$K$41,T54,IF(D54='Dropdown Lists'!$K$42,U54,IF(D54='Dropdown Lists'!$K$43,V54,IF(D54='Dropdown Lists'!$K$44,W54,IF(D54='Dropdown Lists'!$K$45,X54,IF(D54='Dropdown Lists'!$K$46,Z54,IF(D54='Dropdown Lists'!$K$47,AA54,IF(D54='Dropdown Lists'!$K$48,AB54,IF(D54='Dropdown Lists'!$K$49,AC54,IF(D54='Dropdown Lists'!$K$50,AD54,IF(D54='Dropdown Lists'!$K$51,AE54,IF(D54='Dropdown Lists'!$K$52,AF54,IF(D54='Dropdown Lists'!$K$53,AG54,IF(D54='Dropdown Lists'!$K$54,AH54,IF(D54='Dropdown Lists'!$K$55,AJ54,\"\"))))))))))))))))))))","v":"--"},null,"--",null,{"$f":"IF(ISBLANK(A54),\"--\",VLOOKUP(A54,Injuries_WorkMissed!$B$109:$G$863,2,FALSE))","v":"--"},{"$f":"IF(ISBLANK(A54),\"--\",VLOOKUP(A54,Injuries_WorkMissed!$B$109:$G$863,3,FALSE))","v":"--"},{"$f":"IF(ISBLANK(A54),\"--\",VLOOKUP(A54,Injuries_WorkMissed!$B$109:$G$863,4,FALSE))","v":"--"},{"$f":"IF(ISBLANK(A54),\"--\",VLOOKUP(A54,Injuries_WorkMissed!$B$109:$G$863,5,FALSE))","v":"--"},{"$f":"IF(ISBLANK(A54),\"--\",VLOOKUP(A54,Injuries_WorkMissed!$B$109:$G$863,6,FALSE))","v":"--"},null,null,{"$f":"MIN(DataExtract!$BP$3:$BP$1597)","v":0},{"$f":"_xlfn.PERCENTILE.EXC(DataExtract!$BP$3:$BP$1597,0.1)","v":0},{"$f":"_xlfn.PERCENTILE.EXC(DataExtract!$BP$3:$BP$1597,0.25)","v":0},{"$f":"AVERAGE(DataExtract!$BP$3:$BP$5302)","v":23.924716981132075},1.5,{"$f":"MODE(DataExtract!$BP$1598:$BP$5302)","v":0},{"$f":"_xlfn.PERCENTILE.EXC(DataExtract!$BP$3:$BP$5302,0.75)","v":5},{"$f":"_xlfn.PERCENTILE.EXC(DataExtract!$BP$3:$BP$5302,0.9)","v":92},{"$f":"MAX(DataExtract!$BP$3:$BP$5302)","v":365},{"$f":"COUNT(DataExtract!$BP$3:$BP$5302)","v":5300},{"$f":"MIN(DataExtract!$BO$3:$BO$1597)","v":1},{"$f":"_xlfn.PERCENTILE.EXC(DataExtract!$BO$3:$BO$1597,0.1)","v":3},{"$f":"_xlfn.PERCENTILE.EXC(DataExtract!$BO$3:$BO$1597,0.25)","v":8},{"$f":"AVERAGE(DataExtract!$BO$3:$BO$1597)","v":79.499059561128533},{"$f":"MEDIAN(DataExtract!$BO$3:$BO$1597)","v":46},{"$f":"MODE(DataExtract!$BO$3:$BO$1597)","v":180},{"$f":"_xlfn.PERCENTILE.EXC(DataExtract!$BO$3:$BO$1597,0.75)","v":132},{"$f":"_xlfn.PERCENTILE.EXC(DataExtract!$BO$3:$BO$1597,0.9)","v":202},{"$f":"MAX(DataExtract!$BO$3:$BO$1597,0.25)","v":365},{"$f":"COUNT(DataExtract!$BO$3:$BO$1597)","v":1595}]
[null,null,{"$f":"IF(ISBLANK(A55),\"--\",IF(B55=$I$14,I55,IF(B55=$J$14,J55,IF(B55=$K$14,K55,IF(B55=$L$14,L55,IF(B55=$N$14,N55,IF(B55=$M$14,M55,IF(B55='Dropdown Lists'!$O$23,Injuries_WorkMissed!N55,\"--\"))))))))","v":"--"},null,{"$f":"IF(ISBLANK(D55),\"--\",IF(D55='Dropdown Lists'!$K$37,P55,IF(D55='Dropdown Lists'!$K$38,Q55,IF(D55='Dropdown Lists'!$K$39,R55,IF(D55='Dropdown Lists'!$K$40,S55,IF(D55='Dropdown Lists'!$K$41,T55,IF(D55='Dropdown Lists'!$K$42,U55,IF(D55='Dropdown Lists'!$K$43,V55,IF(D55='Dropdown Lists'!$K$44,W55,IF(D55='Dropdown Lists'!$K$45,X55,IF(D55='Dropdown Lists'!$K$46,Z55,IF(D55='Dropdown Lists'!$K$47,AA55,IF(D55='Dropdown Lists'!$K$48,AB55,IF(D55='Dropdown Lists'!$K$49,AC55,IF(D55='Dropdown Lists'!$K$50,AD55,IF(D55='Dropdown Lists'!$K$51,AE55,IF(D55='Dropdown Lists'!$K$52,AF55,IF(D55='Dropdown Lists'!$K$53,AG55,IF(D55='Dropdown Lists'!$K$54,AH55,IF(D55='Dropdown Lists'!$K$55,AJ55,\"\"))))))))))))))))))))","v":"--"},null,"--",null,{"$f":"IF(ISBLANK(A55),\"--\",VLOOKUP(A55,Injuries_WorkMissed!$B$109:$G$863,2,FALSE))","v":"--"},{"$f":"IF(ISBLANK(A55),\"--\",VLOOKUP(A55,Injuries_WorkMissed!$B$109:$G$863,3,FALSE))","v":"--"},{"$f":"IF(ISBLANK(A55),\"--\",VLOOKUP(A55,Injuries_WorkMissed!$B$109:$G$863,4,FALSE))","v":"--"},{"$f":"IF(ISBLANK(A55),\"--\",VLOOKUP(A55,Injuries_WorkMissed!$B$109:$G$863,5,FALSE))","v":"--"},{"$f":"IF(ISBLANK(A55),\"--\",VLOOKUP(A55,Injuries_WorkMissed!$B$109:$G$863,6,FALSE))","v":"--"},null,null,{"$f":"MIN(DataExtract!$BP$3:$BP$1597)","v":0},{"$f":"_xlfn.PERCENTILE.EXC(DataExtract!$BP$3:$BP$1597,0.1)","v":0},{"$f":"_xlfn.PERCENTILE.EXC(DataExtract!$BP$3:$BP$1597,0.25)","v":0},{"$f":"AVERAGE(DataExtract!$BP$3:$BP$5302)","v":23.924716981132075},1.5,{"$f":"MODE(DataExtract!$BP$1598:$BP$5302)","v":0},{"$f":"_xlfn.PERCENTILE.EXC(DataExtract!$BP$3:$BP$5302,0.75)","v":5},{"$f":"_xlfn.PERCENTILE.EXC(DataExtract!$BP$3:$BP$5302,0.9)","v":92},{"$f":"MAX(DataExtract!$BP$3:$BP$5302)","v":365},{"$f":"COUNT(DataExtract!$BP$3:$BP$5302)","v":5300},{"$f":"MIN(DataExtract!$BO$3:$BO$1597)","v":1},{"$f":"_xlfn.PERCENTILE.EXC(DataExtract!$BO$3:$BO$1597,0.1)","v":3},{"$f":"_xlfn.PERCENTILE.EXC(DataExtract!$BO$3:$BO$1597,0.25)","v":8},{"$f":"AVERAGE(DataExtract!$BO$3:$BO$1597)","v":79.499059561128533},{"$f":"MEDIAN(DataExtract!$BO$3:$BO$1597)","v":46},{"$f":"MODE(DataExtract!$BO$3:$BO$1597)","v":180},{"$f":"_xlfn.PERCENTILE.EXC(DataExtract!$BO$3:$BO$1597,0.75)","v":132},{"$f":"_xlfn.PERCENTILE.EXC(DataExtract!$BO$3:$BO$1597,0.9)","v":202},{"$f":"MAX(DataExtract!$BO$3:$BO$1597,0.25)","v":365},{"$f":"COUNT(DataExtract!$BO$3:$BO$1597)","v":1595}]
[null,null,{"$f":"IF(ISBLANK(A56),\"--\",IF(B56=$I$14,I56,IF(B56=$J$14,J56,IF(B56=$K$14,K56,IF(B56=$L$14,L56,IF(B56=$N$14,N56,IF(B56=$M$14,M56,IF(B56='Dropdown Lists'!$O$23,Injuries_WorkMissed!N56,\"--\"))))))))","v":"--"},null,{"$f":"IF(ISBLANK(D56),\"--\",IF(D56='Dropdown Lists'!$K$37,P56,IF(D56='Dropdown Lists'!$K$38,Q56,IF(D56='Dropdown Lists'!$K$39,R56,IF(D56='Dropdown Lists'!$K$40,S56,IF(D56='Dropdown Lists'!$K$41,T56,IF(D56='Dropdown Lists'!$K$42,U56,IF(D56='Dropdown Lists'!$K$43,V56,IF(D56='Dropdown Lists'!$K$44,W56,IF(D56='Dropdown Lists'!$K$45,X56,IF(D56='Dropdown Lists'!$K$46,Z56,IF(D56='Dropdown Lists'!$K$47,AA56,IF(D56='Dropdown Lists'!$K$48,AB56,IF(D56='Dropdown Lists'!$K$49,AC56,IF(D56='Dropdown Lists'!$K$50,AD56,IF(D56='Dropdown Lists'!$K$51,AE56,IF(D56='Dropdown Lists'!$K$52,AF56,IF(D56='Dropdown Lists'!$K$53,AG56,IF(D56='Dropdown Lists'!$K$54,AH56,IF(D56='Dropdown Lists'!$K$55,AJ56,\"\"))))))))))))))))))))","v":"--"},null,"--",null,{"$f":"IF(ISBLANK(A56),\"--\",VLOOKUP(A56,Injuries_WorkMissed!$B$109:$G$863,2,FALSE))","v":"--"},{"$f":"IF(ISBLANK(A56),\"--\",VLOOKUP(A56,Injuries_WorkMissed!$B$109:$G$863,3,FALSE))","v":"--"},{"$f":"IF(ISBLANK(A56),\"--\",VLOOKUP(A56,Injuries_WorkMissed!$B$109:$G$863,4,FALSE))","v":"--"},{"$f":"IF(ISBLANK(A56),\"--\",VLOOKUP(A56,Injuries_WorkMissed!$B$109:$G$863,5,FALSE))","v":"--"},{"$f":"IF(ISBLANK(A56),\"--\",VLOOKUP(A56,Injuries_WorkMissed!$B$109:$G$863,6,FALSE))","v":"--"},null,null,{"$f":"MIN(DataExtract!$BP$3:$BP$1597)","v":0},{"$f":"_xlfn.PERCENTILE.EXC(DataExtract!$BP$3:$BP$1597,0.1)","v":0},{"$f":"_xlfn.PERCENTILE.EXC(DataExtract!$BP$3:$BP$1597,0.25)","v":0},{"$f":"AVERAGE(DataExtract!$BP$3:$BP$5302)","v":23.924716981132075},1.5,{"$f":"MODE(DataExtract!$BP$1598:$BP$5302)","v":0},{"$f":"_xlfn.PERCENTILE.EXC(DataExtract!$BP$3:$BP$5302,0.75)","v":5},{"$f":"_xlfn.PERCENTILE.EXC(DataExtract!$BP$3:$BP$5302,0.9)","v":92},{"$f":"MAX(DataExtract!$BP$3:$BP$5302)","v":365},{"$f":"COUNT(DataExtract!$BP$3:$BP$5302)","v":5300},{"$f":"MIN(DataExtract!$BO$3:$BO$1597)","v":1},{"$f":"_xlfn.PERCENTILE.EXC(DataExtract!$BO$3:$BO$1597,0.1)","v":3},{"$f":"_xlfn.PERCENTILE.EXC(DataExtract!$BO$3:$BO$1597,0.25)","v":8},{"$f":"AVERAGE(DataExtract!$BO$3:$BO$1597)","v":79.499059561128533},{"$f":"MEDIAN(DataExtract!$BO$3:$BO$1597)","v":46},{"$f":"MODE(DataExtract!$BO$3:$BO$1597)","v":180},{"$f":"_xlfn.PERCENTILE.EXC(DataExtract!$BO$3:$BO$1597,0.75)","v":132},{"$f":"_xlfn.PERCENTILE.EXC(DataExtract!$BO$3:$BO$1597,0.9)","v":202},{"$f":"MAX(DataExtract!$BO$3:$BO$1597,0.25)","v":365},{"$f":"COUNT(DataExtract!$BO$3:$BO$1597)","v":1595}]
[null,null,{"$f":"IF(ISBLANK(A57),\"--\",IF(B57=$I$14,I57,IF(B57=$J$14,J57,IF(B57=$K$14,K57,IF(B57=$L$14,L57,IF(B57=$N$14,N57,IF(B57=$M$14,M57,IF(B57='Dropdown Lists'!$O$23,Injuries_WorkMissed!N57,\"--\"))))))))","v":"--"},null,{"$f":"IF(ISBLANK(D57),\"--\",IF(D57='Dropdown Lists'!$K$37,P57,IF(D57='Dropdown Lists'!$K$38,Q57,IF(D57='Dropdown Lists'!$K$39,R57,IF(D57='Dropdown Lists'!$K$40,S57,IF(D57='Dropdown Lists'!$K$41,T57,IF(D57='Dropdown Lists'!$K$42,U57,IF(D57='Dropdown Lists'!$K$43,V57,IF(D57='Dropdown Lists'!$K$44,W57,IF(D57='Dropdown Lists'!$K$45,X57,IF(D57='Dropdown Lists'!$K$46,Z57,IF(D57='Dropdown Lists'!$K$47,AA57,IF(D57='Dropdown Lists'!$K$48,AB57,IF(D57='Dropdown Lists'!$K$49,AC57,IF(D57='Dropdown Lists'!$K$50,AD57,IF(D57='Dropdown Lists'!$K$51,AE57,IF(D57='Dropdown Lists'!$K$52,AF57,IF(D57='Dropdown Lists'!$K$53,AG57,IF(D57='Dropdown Lists'!$K$54,AH57,IF(D57='Dropdown Lists'!$K$55,AJ57,\"\"))))))))))))))))))))","v":"--"},null,"--",null,{"$f":"IF(ISBLANK(A57),\"--\",VLOOKUP(A57,Injuries_WorkMissed!$B$109:$G$863,2,FALSE))","v":"--"},{"$f":"IF(ISBLANK(A57),\"--\",VLOOKUP(A57,Injuries_WorkMissed!$B$109:$G$863,3,FALSE))","v":"--"},{"$f":"IF(ISBLANK(A57),\"--\",VLOOKUP(A57,Injuries_WorkMissed!$B$109:$G$863,4,FALSE))","v":"--"},{"$f":"IF(ISBLANK(A57),\"--\",VLOOKUP(A57,Injuries_WorkMissed!$B$109:$G$863,5,FALSE))","v":"--"},{"$f":"IF(ISBLANK(A57),\"--\",VLOOKUP(A57,Injuries_WorkMissed!$B$109:$G$863,6,FALSE))","v":"--"},null,null,{"$f":"MIN(DataExtract!$BP$3:$BP$1597)","v":0},{"$f":"_xlfn.PERCENTILE.EXC(DataExtract!$BP$3:$BP$1597,0.1)","v":0},{"$f":"_xlfn.PERCENTILE.EXC(DataExtract!$BP$3:$BP$1597,0.25)","v":0},{"$f":"AVERAGE(DataExtract!$BP$3:$BP$5302)","v":23.924716981132075},1.5,{"$f":"MODE(DataExtract!$BP$1598:$BP$5302)","v":0},{"$f":"_xlfn.PERCENTILE.EXC(DataExtract!$BP$3:$BP$5302,0.75)","v":5},{"$f":"_xlfn.PERCENTILE.EXC(DataExtract!$BP$3:$BP$5302,0.9)","v":92},{"$f":"MAX(DataExtract!$BP$3:$BP$5302)","v":365},{"$f":"COUNT(DataExtract!$BP$3:$BP$5302)","v":5300},{"$f":"MIN(DataExtract!$BO$3:$BO$1597)","v":1},{"$f":"_xlfn.PERCENTILE.EXC(DataExtract!$BO$3:$BO$1597,0.1)","v":3},{"$f":"_xlfn.PERCENTILE.EXC(DataExtract!$BO$3:$BO$1597,0.25)","v":8},{"$f":"AVERAGE(DataExtract!$BO$3:$BO$1597)","v":79.499059561128533},{"$f":"MEDIAN(DataExtract!$BO$3:$BO$1597)","v":46},{"$f":"MODE(DataExtract!$BO$3:$BO$1597)","v":180},{"$f":"_xlfn.PERCENTILE.EXC(DataExtract!$BO$3:$BO$1597,0.75)","v":132},{"$f":"_xlfn.PERCENTILE.EXC(DataExtract!$BO$3:$BO$1597,0.9)","v":202},{"$f":"MAX(DataExtract!$BO$3:$BO$1597,0.25)","v":365},{"$f":"COUNT(DataExtract!$BO$3:$BO$1597)","v":1595}]
[null,null,{"$f":"IF(ISBLANK(A58),\"--\",IF(B58=$I$14,I58,IF(B58=$J$14,J58,IF(B58=$K$14,K58,IF(B58=$L$14,L58,IF(B58=$N$14,N58,IF(B58=$M$14,M58,IF(B58='Dropdown Lists'!$O$23,Injuries_WorkMissed!N58,\"--\"))))))))","v":"--"},null,{"$f":"IF(ISBLANK(D58),\"--\",IF(D58='Dropdown Lists'!$K$37,P58,IF(D58='Dropdown Lists'!$K$38,Q58,IF(D58='Dropdown Lists'!$K$39,R58,IF(D58='Dropdown Lists'!$K$40,S58,IF(D58='Dropdown Lists'!$K$41,T58,IF(D58='Dropdown Lists'!$K$42,U58,IF(D58='Dropdown Lists'!$K$43,V58,IF(D58='Dropdown Lists'!$K$44,W58,IF(D58='Dropdown Lists'!$K$45,X58,IF(D58='Dropdown Lists'!$K$46,Z58,IF(D58='Dropdown Lists'!$K$47,AA58,IF(D58='Dropdown Lists'!$K$48,AB58,IF(D58='Dropdown Lists'!$K$49,AC58,IF(D58='Dropdown Lists'!$K$50,AD58,IF(D58='Dropdown Lists'!$K$51,AE58,IF(D58='Dropdown Lists'!$K$52,AF58,IF(D58='Dropdown Lists'!$K$53,AG58,IF(D58='Dropdown Lists'!$K$54,AH58,IF(D58='Dropdown Lists'!$K$55,AJ58,\"\"))))))))))))))))))))","v":"--"},null,"--",null,{"$f":"IF(ISBLANK(A58),\"--\",VLOOKUP(A58,Injuries_WorkMissed!$B$109:$G$863,2,FALSE))","v":"--"},{"$f":"IF(ISBLANK(A58),\"--\",VLOOKUP(A58,Injuries_WorkMissed!$B$109:$G$863,3,FALSE))","v":"--"},{"$f":"IF(ISBLANK(A58),\"--\",VLOOKUP(A58,Injuries_WorkMissed!$B$109:$G$863,4,FALSE))","v":"--"},{"$f":"IF(ISBLANK(A58),\"--\",VLOOKUP(A58,Injuries_WorkMissed!$B$109:$G$863,5,FALSE))","v":"--"},{"$f":"IF(ISBLANK(A58),\"--\",VLOOKUP(A58,Injuries_WorkMissed!$B$109:$G$863,6,FALSE))","v":"--"},null,null,{"$f":"MIN(DataExtract!$BP$3:$BP$1597)","v":0},{"$f":"_xlfn.PERCENTILE.EXC(DataExtract!$BP$3:$BP$1597,0.1)","v":0},{"$f":"_xlfn.PERCENTILE.EXC(DataExtract!$BP$3:$BP$1597,0.25)","v":0},{"$f":"AVERAGE(DataExtract!$BP$3:$BP$5302)","v":23.924716981132075},1.5,{"$f":"MODE(DataExtract!$BP$1598:$BP$5302)","v":0},{"$f":"_xlfn.PERCENTILE.EXC(DataExtract!$BP$3:$BP$5302,0.75)","v":5},{"$f":"_xlfn.PERCENTILE.EXC(DataExtract!$BP$3:$BP$5302,0.9)","v":92},{"$f":"MAX(DataExtract!$BP$3:$BP$5302)","v":365},{"$f":"COUNT(DataExtract!$BP$3:$BP$5302)","v":5300},{"$f":"MIN(DataExtract!$BO$3:$BO$1597)","v":1},{"$f":"_xlfn.PERCENTILE.EXC(DataExtract!$BO$3:$BO$1597,0.1)","v":3},{"$f":"_xlfn.PERCENTILE.EXC(DataExtract!$BO$3:$BO$1597,0.25)","v":8},{"$f":"AVERAGE(DataExtract!$BO$3:$BO$1597)","v":79.499059561128533},{"$f":"MEDIAN(DataExtract!$BO$3:$BO$1597)","v":46},{"$f":"MODE(DataExtract!$BO$3:$BO$1597)","v":180},{"$f":"_xlfn.PERCENTILE.EXC(DataExtract!$BO$3:$BO$1597,0.75)","v":132},{"$f":"_xlfn.PERCENTILE.EXC(DataExtract!$BO$3:$BO$1597,0.9)","v":202},{"$f":"MAX(DataExtract!$BO$3:$BO$1597,0.25)","v":365},{"$f":"COUNT(DataExtract!$BO$3:$BO$1597)","v":1595}]
[null,null,{"$f":"IF(ISBLANK(A59),\"--\",IF(B59=$I$14,I59,IF(B59=$J$14,J59,IF(B59=$K$14,K59,IF(B59=$L$14,L59,IF(B59=$N$14,N59,IF(B59=$M$14,M59,IF(B59='Dropdown Lists'!$O$23,Injuries_WorkMissed!N59,\"--\"))))))))","v":"--"},null,{"$f":"IF(ISBLANK(D59),\"--\",IF(D59='Dropdown Lists'!$K$37,P59,IF(D59='Dropdown Lists'!$K$38,Q59,IF(D59='Dropdown Lists'!$K$39,R59,IF(D59='Dropdown Lists'!$K$40,S59,IF(D59='Dropdown Lists'!$K$41,T59,IF(D59='Dropdown Lists'!$K$42,U59,IF(D59='Dropdown Lists'!$K$43,V59,IF(D59='Dropdown Lists'!$K$44,W59,IF(D59='Dropdown Lists'!$K$45,X59,IF(D59='Dropdown Lists'!$K$46,Z59,IF(D59='Dropdown Lists'!$K$47,AA59,IF(D59='Dropdown Lists'!$K$48,AB59,IF(D59='Dropdown Lists'!$K$49,AC59,IF(D59='Dropdown Lists'!$K$50,AD59,IF(D59='Dropdown Lists'!$K$51,AE59,IF(D59='Dropdown Lists'!$K$52,AF59,IF(D59='Dropdown Lists'!$K$53,AG59,IF(D59='Dropdown Lists'!$K$54,AH59,IF(D59='Dropdown Lists'!$K$55,AJ59,\"\"))))))))))))))))))))","v":"--"},null,"--",null,{"$f":"IF(ISBLANK(A59),\"--\",VLOOKUP(A59,Injuries_WorkMissed!$B$109:$G$863,2,FALSE))","v":"--"},{"$f":"IF(ISBLANK(A59),\"--\",VLOOKUP(A59,Injuries_WorkMissed!$B$109:$G$863,3,FALSE))","v":"--"},{"$f":"IF(ISBLANK(A59),\"--\",VLOOKUP(A59,Injuries_WorkMissed!$B$109:$G$863,4,FALSE))","v":"--"},{"$f":"IF(ISBLANK(A59),\"--\",VLOOKUP(A59,Injuries_WorkMissed!$B$109:$G$863,5,FALSE))","v":"--"},{"$f":"IF(ISBLANK(A59),\"--\",VLOOKUP(A59,Injuries_WorkMissed!$B$109:$G$863,6,FALSE))","v":"--"},null,null,{"$f":"MIN(DataExtract!$BP$3:$BP$1597)","v":0},{"$f":"_xlfn.PERCENTILE.EXC(DataExtract!$BP$3:$BP$1597,0.1)","v":0},{"$f":"_xlfn.PERCENTILE.EXC(DataExtract!$BP$3:$BP$1597,0.25)","v":0},{"$f":"AVERAGE(DataExtract!$BP$3:$BP$5302)","v":23.924716981132075},1.5,{"$f":"MODE(DataExtract!$BP$1598:$BP$5302)","v":0},{"$f":"_xlfn.PERCENTILE.EXC(DataExtract!$BP$3:$BP$5302,0.75)","v":5},{"$f":"_xlfn.PERCENTILE.EXC(DataExtract!$BP$3:$BP$5302,0.9)","v":92},{"$f":"MAX(DataExtract!$BP$3:$BP$5302)","v":365},{"$f":"COUNT(DataExtract!$BP$3:$BP$5302)","v":5300},{"$f":"MIN(DataExtract!$BO$3:$BO$1597)","v":1},{"$f":"_xlfn.PERCENTILE.EXC(DataExtract!$BO$3:$BO$1597,0.1)","v":3},{"$f":"_xlfn.PERCENTILE.EXC(DataExtract!$BO$3:$BO$1597,0.25)","v":8},{"$f":"AVERAGE(DataExtract!$BO$3:$BO$1597)","v":79.499059561128533},{"$f":"MEDIAN(DataExtract!$BO$3:$BO$1597)","v":46},{"$f":"MODE(DataExtract!$BO$3:$BO$1597)","v":180},{"$f":"_xlfn.PERCENTILE.EXC(DataExtract!$BO$3:$BO$1597,0.75)","v":132},{"$f":"_xlfn.PERCENTILE.EXC(DataExtract!$BO$3:$BO$1597,0.9)","v":202},{"$f":"MAX(DataExtract!$BO$3:$BO$1597,0.25)","v":365},{"$f":"COUNT(DataExtract!$BO$3:$BO$1597)","v":1595}]
[null,null,{"$f":"IF(ISBLANK(A60),\"--\",IF(B60=$I$14,I60,IF(B60=$J$14,J60,IF(B60=$K$14,K60,IF(B60=$L$14,L60,IF(B60=$N$14,N60,IF(B60=$M$14,M60,IF(B60='Dropdown Lists'!$O$23,Injuries_WorkMissed!N60,\"--\"))))))))","v":"--"},null,{"$f":"IF(ISBLANK(D60),\"--\",IF(D60='Dropdown Lists'!$K$37,P60,IF(D60='Dropdown Lists'!$K$38,Q60,IF(D60='Dropdown Lists'!$K$39,R60,IF(D60='Dropdown Lists'!$K$40,S60,IF(D60='Dropdown Lists'!$K$41,T60,IF(D60='Dropdown Lists'!$K$42,U60,IF(D60='Dropdown Lists'!$K$43,V60,IF(D60='Dropdown Lists'!$K$44,W60,IF(D60='Dropdown Lists'!$K$45,X60,IF(D60='Dropdown Lists'!$K$46,Z60,IF(D60='Dropdown Lists'!$K$47,AA60,IF(D60='Dropdown Lists'!$K$48,AB60,IF(D60='Dropdown Lists'!$K$49,AC60,IF(D60='Dropdown Lists'!$K$50,AD60,IF(D60='Dropdown Lists'!$K$51,AE60,IF(D60='Dropdown Lists'!$K$52,AF60,IF(D60='Dropdown Lists'!$K$53,AG60,IF(D60='Dropdown Lists'!$K$54,AH60,IF(D60='Dropdown Lists'!$K$55,AJ60,\"\"))))))))))))))))))))","v":"--"},null,"--",null,{"$f":"IF(ISBLANK(A60),\"--\",VLOOKUP(A60,Injuries_WorkMissed!$B$109:$G$863,2,FALSE))","v":"--"},{"$f":"IF(ISBLANK(A60),\"--\",VLOOKUP(A60,Injuries_WorkMissed!$B$109:$G$863,3,FALSE))","v":"--"},{"$f":"IF(ISBLANK(A60),\"--\",VLOOKUP(A60,Injuries_WorkMissed!$B$109:$G$863,4,FALSE))","v":"--"},{"$f":"IF(ISBLANK(A60),\"--\",VLOOKUP(A60,Injuries_WorkMissed!$B$109:$G$863,5,FALSE))","v":"--"},{"$f":"IF(ISBLANK(A60),\"--\",VLOOKUP(A60,Injuries_WorkMissed!$B$109:$G$863,6,FALSE))","v":"--"},null,null,{"$f":"MIN(DataExtract!$BP$3:$BP$1597)","v":0},{"$f":"_xlfn.PERCENTILE.EXC(DataExtract!$BP$3:$BP$1597,0.1)","v":0},{"$f":"_xlfn.PERCENTILE.EXC(DataExtract!$BP$3:$BP$1597,0.25)","v":0},{"$f":"AVERAGE(DataExtract!$BP$3:$BP$5302)","v":23.924716981132075},1.5,{"$f":"MODE(DataExtract!$BP$1598:$BP$5302)","v":0},{"$f":"_xlfn.PERCENTILE.EXC(DataExtract!$BP$3:$BP$5302,0.75)","v":5},{"$f":"_xlfn.PERCENTILE.EXC(DataExtract!$BP$3:$BP$5302,0.9)","v":92},{"$f":"MAX(DataExtract!$BP$3:$BP$5302)","v":365},{"$f":"COUNT(DataExtract!$BP$3:$BP$5302)","v":5300},{"$f":"MIN(DataExtract!$BO$3:$BO$1597)","v":1},{"$f":"_xlfn.PERCENTILE.EXC(DataExtract!$BO$3:$BO$1597,0.1)","v":3},{"$f":"_xlfn.PERCENTILE.EXC(DataExtract!$BO$3:$BO$1597,0.25)","v":8},{"$f":"AVERAGE(DataExtract!$BO$3:$BO$1597)","v":79.499059561128533},{"$f":"MEDIAN(DataExtract!$BO$3:$BO$1597)","v":46},{"$f":"MODE(DataExtract!$BO$3:$BO$1597)","v":180},{"$f":"_xlfn.PERCENTILE.EXC(DataExtract!$BO$3:$BO$1597,0.75)","v":132},{"$f":"_xlfn.PERCENTILE.EXC(DataExtract!$BO$3:$BO$1597,0.9)","v":202},{"$f":"MAX(DataExtract!$BO$3:$BO$1597,0.25)","v":365},{"$f":"COUNT(DataExtract!$BO$3:$BO$1597)","v":1595}]
[null,null,{"$f":"IF(ISBLANK(A61),\"--\",IF(B61=$I$14,I61,IF(B61=$J$14,J61,IF(B61=$K$14,K61,IF(B61=$L$14,L61,IF(B61=$N$14,N61,IF(B61=$M$14,M61,IF(B61='Dropdown Lists'!$O$23,Injuries_WorkMissed!N61,\"--\"))))))))","v":"--"},null,{"$f":"IF(ISBLANK(D61),\"--\",IF(D61='Dropdown Lists'!$K$37,P61,IF(D61='Dropdown Lists'!$K$38,Q61,IF(D61='Dropdown Lists'!$K$39,R61,IF(D61='Dropdown Lists'!$K$40,S61,IF(D61='Dropdown Lists'!$K$41,T61,IF(D61='Dropdown Lists'!$K$42,U61,IF(D61='Dropdown Lists'!$K$43,V61,IF(D61='Dropdown Lists'!$K$44,W61,IF(D61='Dropdown Lists'!$K$45,X61,IF(D61='Dropdown Lists'!$K$46,Z61,IF(D61='Dropdown Lists'!$K$47,AA61,IF(D61='Dropdown Lists'!$K$48,AB61,IF(D61='Dropdown Lists'!$K$49,AC61,IF(D61='Dropdown Lists'!$K$50,AD61,IF(D61='Dropdown Lists'!$K$51,AE61,IF(D61='Dropdown Lists'!$K$52,AF61,IF(D61='Dropdown Lists'!$K$53,AG61,IF(D61='Dropdown Lists'!$K$54,AH61,IF(D61='Dropdown Lists'!$K$55,AJ61,\"\"))))))))))))))))))))","v":"--"},null,"--",null,{"$f":"IF(ISBLANK(A61),\"--\",VLOOKUP(A61,Injuries_WorkMissed!$B$109:$G$863,2,FALSE))","v":"--"},{"$f":"IF(ISBLANK(A61),\"--\",VLOOKUP(A61,Injuries_WorkMissed!$B$109:$G$863,3,FALSE))","v":"--"},{"$f":"IF(ISBLANK(A61),\"--\",VLOOKUP(A61,Injuries_WorkMissed!$B$109:$G$863,4,FALSE))","v":"--"},{"$f":"IF(ISBLANK(A61),\"--\",VLOOKUP(A61,Injuries_WorkMissed!$B$109:$G$863,5,FALSE))","v":"--"},{"$f":"IF(ISBLANK(A61),\"--\",VLOOKUP(A61,Injuries_WorkMissed!$B$109:$G$863,6,FALSE))","v":"--"},null,null,{"$f":"MIN(DataExtract!$BP$3:$BP$1597)","v":0},{"$f":"_xlfn.PERCENTILE.EXC(DataExtract!$BP$3:$BP$1597,0.1)","v":0},{"$f":"_xlfn.PERCENTILE.EXC(DataExtract!$BP$3:$BP$1597,0.25)","v":0},{"$f":"AVERAGE(DataExtract!$BP$3:$BP$5302)","v":23.924716981132075},1.5,{"$f":"MODE(DataExtract!$BP$1598:$BP$5302)","v":0},{"$f":"_xlfn.PERCENTILE.EXC(DataExtract!$BP$3:$BP$5302,0.75)","v":5},{"$f":"_xlfn.PERCENTILE.EXC(DataExtract!$BP$3:$BP$5302,0.9)","v":92},{"$f":"MAX(DataExtract!$BP$3:$BP$5302)","v":365},{"$f":"COUNT(DataExtract!$BP$3:$BP$5302)","v":5300},{"$f":"MIN(DataExtract!$BO$3:$BO$1597)","v":1},{"$f":"_xlfn.PERCENTILE.EXC(DataExtract!$BO$3:$BO$1597,0.1)","v":3},{"$f":"_xlfn.PERCENTILE.EXC(DataExtract!$BO$3:$BO$1597,0.25)","v":8},{"$f":"AVERAGE(DataExtract!$BO$3:$BO$1597)","v":79.499059561128533},{"$f":"MEDIAN(DataExtract!$BO$3:$BO$1597)","v":46},{"$f":"MODE(DataExtract!$BO$3:$BO$1597)","v":180},{"$f":"_xlfn.PERCENTILE.EXC(DataExtract!$BO$3:$BO$1597,0.75)","v":132},{"$f":"_xlfn.PERCENTILE.EXC(DataExtract!$BO$3:$BO$1597,0.9)","v":202},{"$f":"MAX(DataExtract!$BO$3:$BO$1597,0.25)","v":365},{"$f":"COUNT(DataExtract!$BO$3:$BO$1597)","v":1595}]
[null,null,{"$f":"IF(ISBLANK(A62),\"--\",IF(B62=$I$14,I62,IF(B62=$J$14,J62,IF(B62=$K$14,K62,IF(B62=$L$14,L62,IF(B62=$N$14,N62,IF(B62=$M$14,M62,IF(B62='Dropdown Lists'!$O$23,Injuries_WorkMissed!N62,\"--\"))))))))","v":"--"},null,{"$f":"IF(ISBLANK(D62),\"--\",IF(D62='Dropdown Lists'!$K$37,P62,IF(D62='Dropdown Lists'!$K$38,Q62,IF(D62='Dropdown Lists'!$K$39,R62,IF(D62='Dropdown Lists'!$K$40,S62,IF(D62='Dropdown Lists'!$K$41,T62,IF(D62='Dropdown Lists'!$K$42,U62,IF(D62='Dropdown Lists'!$K$43,V62,IF(D62='Dropdown Lists'!$K$44,W62,IF(D62='Dropdown Lists'!$K$45,X62,IF(D62='Dropdown Lists'!$K$46,Z62,IF(D62='Dropdown Lists'!$K$47,AA62,IF(D62='Dropdown Lists'!$K$48,AB62,IF(D62='Dropdown Lists'!$K$49,AC62,IF(D62='Dropdown Lists'!$K$50,AD62,IF(D62='Dropdown Lists'!$K$51,AE62,IF(D62='Dropdown Lists'!$K$52,AF62,IF(D62='Dropdown Lists'!$K$53,AG62,IF(D62='Dropdown Lists'!$K$54,AH62,IF(D62='Dropdown Lists'!$K$55,AJ62,\"\"))))))))))))))))))))","v":"--"},null,"--",null,{"$f":"IF(ISBLANK(A62),\"--\",VLOOKUP(A62,Injuries_WorkMissed!$B$109:$G$863,2,FALSE))","v":"--"},{"$f":"IF(ISBLANK(A62),\"--\",VLOOKUP(A62,Injuries_WorkMissed!$B$109:$G$863,3,FALSE))","v":"--"},{"$f":"IF(ISBLANK(A62),\"--\",VLOOKUP(A62,Injuries_WorkMissed!$B$109:$G$863,4,FALSE))","v":"--"},{"$f":"IF(ISBLANK(A62),\"--\",VLOOKUP(A62,Injuries_WorkMissed!$B$109:$G$863,5,FALSE))","v":"--"},{"$f":"IF(ISBLANK(A62),\"--\",VLOOKUP(A62,Injuries_WorkMissed!$B$109:$G$863,6,FALSE))","v":"--"},null,null,{"$f":"MIN(DataExtract!$BP$3:$BP$1597)","v":0},{"$f":"_xlfn.PERCENTILE.EXC(DataExtract!$BP$3:$BP$1597,0.1)","v":0},{"$f":"_xlfn.PERCENTILE.EXC(DataExtract!$BP$3:$BP$1597,0.25)","v":0},{"$f":"AVERAGE(DataExtract!$BP$3:$BP$5302)","v":23.924716981132075},1.5,{"$f":"MODE(DataExtract!$BP$1598:$BP$5302)","v":0},{"$f":"_xlfn.PERCENTILE.EXC(DataExtract!$BP$3:$BP$5302,0.75)","v":5},{"$f":"_xlfn.PERCENTILE.EXC(DataExtract!$BP$3:$BP$5302,0.9)","v":92},{"$f":"MAX(DataExtract!$BP$3:$BP$5302)","v":365},{"$f":"COUNT(DataExtract!$BP$3:$BP$5302)","v":5300},{"$f":"MIN(DataExtract!$BO$3:$BO$1597)","v":1},{"$f":"_xlfn.PERCENTILE.EXC(DataExtract!$BO$3:$BO$1597,0.1)","v":3},{"$f":"_xlfn.PERCENTILE.EXC(DataExtract!$BO$3:$BO$1597,0.25)","v":8},{"$f":"AVERAGE(DataExtract!$BO$3:$BO$1597)","v":79.499059561128533},{"$f":"MEDIAN(DataExtract!$BO$3:$BO$1597)","v":46},{"$f":"MODE(DataExtract!$BO$3:$BO$1597)","v":180},{"$f":"_xlfn.PERCENTILE.EXC(DataExtract!$BO$3:$BO$1597,0.75)","v":132},{"$f":"_xlfn.PERCENTILE.EXC(DataExtract!$BO$3:$BO$1597,0.9)","v":202},{"$f":"MAX(DataExtract!$BO$3:$BO$1597,0.25)","v":365},{"$f":"COUNT(DataExtract!$BO$3:$BO$1597)","v":1595}]
[null,null,{"$f":"IF(ISBLANK(A63),\"--\",IF(B63=$I$14,I63,IF(B63=$J$14,J63,IF(B63=$K$14,K63,IF(B63=$L$14,L63,IF(B63=$N$14,N63,IF(B63=$M$14,M63,IF(B63='Dropdown Lists'!$O$23,Injuries_WorkMissed!N63,\"--\"))))))))","v":"--"},null,{"$f":"IF(ISBLANK(D63),\"--\",IF(D63='Dropdown Lists'!$K$37,P63,IF(D63='Dropdown Lists'!$K$38,Q63,IF(D63='Dropdown Lists'!$K$39,R63,IF(D63='Dropdown Lists'!$K$40,S63,IF(D63='Dropdown Lists'!$K$41,T63,IF(D63='Dropdown Lists'!$K$42,U63,IF(D63='Dropdown Lists'!$K$43,V63,IF(D63='Dropdown Lists'!$K$44,W63,IF(D63='Dropdown Lists'!$K$45,X63,IF(D63='Dropdown Lists'!$K$46,Z63,IF(D63='Dropdown Lists'!$K$47,AA63,IF(D63='Dropdown Lists'!$K$48,AB63,IF(D63='Dropdown Lists'!$K$49,AC63,IF(D63='Dropdown Lists'!$K$50,AD63,IF(D63='Dropdown Lists'!$K$51,AE63,IF(D63='Dropdown Lists'!$K$52,AF63,IF(D63='Dropdown Lists'!$K$53,AG63,IF(D63='Dropdown Lists'!$K$54,AH63,IF(D63='Dropdown Lists'!$K$55,AJ63,\"\"))))))))))))))))))))","v":"--"},null,"--",null,{"$f":"IF(ISBLANK(A63),\"--\",VLOOKUP(A63,Injuries_WorkMissed!$B$109:$G$863,2,FALSE))","v":"--"},{"$f":"IF(ISBLANK(A63),\"--\",VLOOKUP(A63,Injuries_WorkMissed!$B$109:$G$863,3,FALSE))","v":"--"},{"$f":"IF(ISBLANK(A63),\"--\",VLOOKUP(A63,Injuries_WorkMissed!$B$109:$G$863,4,FALSE))","v":"--"},{"$f":"IF(ISBLANK(A63),\"--\",VLOOKUP(A63,Injuries_WorkMissed!$B$109:$G$863,5,FALSE))","v":"--"},{"$f":"IF(ISBLANK(A63),\"--\",VLOOKUP(A63,Injuries_WorkMissed!$B$109:$G$863,6,FALSE))","v":"--"},null,null,{"$f":"MIN(DataExtract!$BP$3:$BP$1597)","v":0},{"$f":"_xlfn.PERCENTILE.EXC(DataExtract!$BP$3:$BP$1597,0.1)","v":0},{"$f":"_xlfn.PERCENTILE.EXC(DataExtract!$BP$3:$BP$1597,0.25)","v":0},{"$f":"AVERAGE(DataExtract!$BP$3:$BP$5302)","v":23.924716981132075},1.5,{"$f":"MODE(DataExtract!$BP$1598:$BP$5302)","v":0},{"$f":"_xlfn.PERCENTILE.EXC(DataExtract!$BP$3:$BP$5302,0.75)","v":5},{"$f":"_xlfn.PERCENTILE.EXC(DataExtract!$BP$3:$BP$5302,0.9)","v":92},{"$f":"MAX(DataExtract!$BP$3:$BP$5302)","v":365},{"$f":"COUNT(DataExtract!$BP$3:$BP$5302)","v":5300},{"$f":"MIN(DataExtract!$BO$3:$BO$1597)","v":1},{"$f":"_xlfn.PERCENTILE.EXC(DataExtract!$BO$3:$BO$1597,0.1)","v":3},{"$f":"_xlfn.PERCENTILE.EXC(DataExtract!$BO$3:$BO$1597,0.25)","v":8},{"$f":"AVERAGE(DataExtract!$BO$3:$BO$1597)","v":79.499059561128533},{"$f":"MEDIAN(DataExtract!$BO$3:$BO$1597)","v":46},{"$f":"MODE(DataExtract!$BO$3:$BO$1597)","v":180},{"$f":"_xlfn.PERCENTILE.EXC(DataExtract!$BO$3:$BO$1597,0.75)","v":132},{"$f":"_xlfn.PERCENTILE.EXC(DataExtract!$BO$3:$BO$1597,0.9)","v":202},{"$f":"MAX(DataExtract!$BO$3:$BO$1597,0.25)","v":365},{"$f":"COUNT(DataExtract!$BO$3:$BO$1597)","v":1595}]
[null,null,{"$f":"IF(ISBLANK(A64),\"--\",IF(B64=$I$14,I64,IF(B64=$J$14,J64,IF(B64=$K$14,K64,IF(B64=$L$14,L64,IF(B64=$N$14,N64,IF(B64=$M$14,M64,IF(B64='Dropdown Lists'!$O$23,Injuries_WorkMissed!N64,\"--\"))))))))","v":"--"},null,{"$f":"IF(ISBLANK(D64),\"--\",IF(D64='Dropdown Lists'!$K$37,P64,IF(D64='Dropdown Lists'!$K$38,Q64,IF(D64='Dropdown Lists'!$K$39,R64,IF(D64='Dropdown Lists'!$K$40,S64,IF(D64='Dropdown Lists'!$K$41,T64,IF(D64='Dropdown Lists'!$K$42,U64,IF(D64='Dropdown Lists'!$K$43,V64,IF(D64='Dropdown Lists'!$K$44,W64,IF(D64='Dropdown Lists'!$K$45,X64,IF(D64='Dropdown Lists'!$K$46,Z64,IF(D64='Dropdown Lists'!$K$47,AA64,IF(D64='Dropdown Lists'!$K$48,AB64,IF(D64='Dropdown Lists'!$K$49,AC64,IF(D64='Dropdown Lists'!$K$50,AD64,IF(D64='Dropdown Lists'!$K$51,AE64,IF(D64='Dropdown Lists'!$K$52,AF64,IF(D64='Dropdown Lists'!$K$53,AG64,IF(D64='Dropdown Lists'!$K$54,AH64,IF(D64='Dropdown Lists'!$K$55,AJ64,\"\"))))))))))))))))))))","v":"--"},null,"--",null,{"$f":"IF(ISBLANK(A64),\"--\",VLOOKUP(A64,Injuries_WorkMissed!$B$109:$G$863,2,FALSE))","v":"--"},{"$f":"IF(ISBLANK(A64),\"--\",VLOOKUP(A64,Injuries_WorkMissed!$B$109:$G$863,3,FALSE))","v":"--"},{"$f":"IF(ISBLANK(A64),\"--\",VLOOKUP(A64,Injuries_WorkMissed!$B$109:$G$863,4,FALSE))","v":"--"},{"$f":"IF(ISBLANK(A64),\"--\",VLOOKUP(A64,Injuries_WorkMissed!$B$109:$G$863,5,FALSE))","v":"--"},{"$f":"IF(ISBLANK(A64),\"--\",VLOOKUP(A64,Injuries_WorkMissed!$B$109:$G$863,6,FALSE))","v":"--"},null,null,{"$f":"MIN(DataExtract!$BP$3:$BP$1597)","v":0},{"$f":"_xlfn.PERCENTILE.EXC(DataExtract!$BP$3:$BP$1597,0.1)","v":0},{"$f":"_xlfn.PERCENTILE.EXC(DataExtract!$BP$3:$BP$1597,0.25)","v":0},{"$f":"AVERAGE(DataExtract!$BP$3:$BP$5302)","v":23.924716981132075},1.5,{"$f":"MODE(DataExtract!$BP$1598:$BP$5302)","v":0},{"$f":"_xlfn.PERCENTILE.EXC(DataExtract!$BP$3:$BP$5302,0.75)","v":5},{"$f":"_xlfn.PERCENTILE.EXC(DataExtract!$BP$3:$BP$5302,0.9)","v":92},{"$f":"MAX(DataExtract!$BP$3:$BP$5302)","v":365},{"$f":"COUNT(DataExtract!$BP$3:$BP$5302)","v":5300},{"$f":"MIN(DataExtract!$BO$3:$BO$1597)","v":1},{"$f":"_xlfn.PERCENTILE.EXC(DataExtract!$BO$3:$BO$1597,0.1)","v":3},{"$f":"_xlfn.PERCENTILE.EXC(DataExtract!$BO$3:$BO$1597,0.25)","v":8},{"$f":"AVERAGE(DataExtract!$BO$3:$BO$1597)","v":79.499059561128533},{"$f":"MEDIAN(DataExtract!$BO$3:$BO$1597)","v":46},{"$f":"MODE(DataExtract!$BO$3:$BO$1597)","v":180},{"$f":"_xlfn.PERCENTILE.EXC(DataExtract!$BO$3:$BO$1597,0.75)","v":132},{"$f":"_xlfn.PERCENTILE.EXC(DataExtract!$BO$3:$BO$1597,0.9)","v":202},{"$f":"MAX(DataExtract!$BO$3:$BO$1597,0.25)","v":365},{"$f":"COUNT(DataExtract!$BO$3:$BO$1597)","v":1595}]
[null,null,{"$f":"IF(ISBLANK(A65),\"--\",IF(B65=$I$14,I65,IF(B65=$J$14,J65,IF(B65=$K$14,K65,IF(B65=$L$14,L65,IF(B65=$N$14,N65,IF(B65=$M$14,M65,IF(B65='Dropdown Lists'!$O$23,Injuries_WorkMissed!N65,\"--\"))))))))","v":"--"},null,{"$f":"IF(ISBLANK(D65),\"--\",IF(D65='Dropdown Lists'!$K$37,P65,IF(D65='Dropdown Lists'!$K$38,Q65,IF(D65='Dropdown Lists'!$K$39,R65,IF(D65='Dropdown Lists'!$K$40,S65,IF(D65='Dropdown Lists'!$K$41,T65,IF(D65='Dropdown Lists'!$K$42,U65,IF(D65='Dropdown Lists'!$K$43,V65,IF(D65='Dropdown Lists'!$K$44,W65,IF(D65='Dropdown Lists'!$K$45,X65,IF(D65='Dropdown Lists'!$K$46,Z65,IF(D65='Dropdown Lists'!$K$47,AA65,IF(D65='Dropdown Lists'!$K$48,AB65,IF(D65='Dropdown Lists'!$K$49,AC65,IF(D65='Dropdown Lists'!$K$50,AD65,IF(D65='Dropdown Lists'!$K$51,AE65,IF(D65='Dropdown Lists'!$K$52,AF65,IF(D65='Dropdown Lists'!$K$53,AG65,IF(D65='Dropdown Lists'!$K$54,AH65,IF(D65='Dropdown Lists'!$K$55,AJ65,\"\"))))))))))))))))))))","v":"--"},null,"--",null,{"$f":"IF(ISBLANK(A65),\"--\",VLOOKUP(A65,Injuries_WorkMissed!$B$109:$G$863,2,FALSE))","v":"--"},{"$f":"IF(ISBLANK(A65),\"--\",VLOOKUP(A65,Injuries_WorkMissed!$B$109:$G$863,3,FALSE))","v":"--"},{"$f":"IF(ISBLANK(A65),\"--\",VLOOKUP(A65,Injuries_WorkMissed!$B$109:$G$863,4,FALSE))","v":"--"},{"$f":"IF(ISBLANK(A65),\"--\",VLOOKUP(A65,Injuries_WorkMissed!$B$109:$G$863,5,FALSE))","v":"--"},{"$f":"IF(ISBLANK(A65),\"--\",VLOOKUP(A65,Injuries_WorkMissed!$B$109:$G$863,6,FALSE))","v":"--"},null,null,{"$f":"MIN(DataExtract!$BP$3:$BP$1597)","v":0},{"$f":"_xlfn.PERCENTILE.EXC(DataExtract!$BP$3:$BP$1597,0.1)","v":0},{"$f":"_xlfn.PERCENTILE.EXC(DataExtract!$BP$3:$BP$1597,0.25)","v":0},{"$f":"AVERAGE(DataExtract!$BP$3:$BP$5302)","v":23.924716981132075},1.5,{"$f":"MODE(DataExtract!$BP$1598:$BP$5302)","v":0},{"$f":"_xlfn.PERCENTILE.EXC(DataExtract!$BP$3:$BP$5302,0.75)","v":5},{"$f":"_xlfn.PERCENTILE.EXC(DataExtract!$BP$3:$BP$5302,0.9)","v":92},{"$f":"MAX(DataExtract!$BP$3:$BP$5302)","v":365},{"$f":"COUNT(DataExtract!$BP$3:$BP$5302)","v":5300},{"$f":"MIN(DataExtract!$BO$3:$BO$1597)","v":1},{"$f":"_xlfn.PERCENTILE.EXC(DataExtract!$BO$3:$BO$1597,0.1)","v":3},{"$f":"_xlfn.PERCENTILE.EXC(DataExtract!$BO$3:$BO$1597,0.25)","v":8},{"$f":"AVERAGE(DataExtract!$BO$3:$BO$1597)","v":79.499059561128533},{"$f":"MEDIAN(DataExtract!$BO$3:$BO$1597)","v":46},{"$f":"MODE(DataExtract!$BO$3:$BO$1597)","v":180},{"$f":"_xlfn.PERCENTILE.EXC(DataExtract!$BO$3:$BO$1597,0.75)","v":132},{"$f":"_xlfn.PERCENTILE.EXC(DataExtract!$BO$3:$BO$1597,0.9)","v":202},{"$f":"MAX(DataExtract!$BO$3:$BO$1597,0.25)","v":365},{"$f":"COUNT(DataExtract!$BO$3:$BO$1597)","v":1595}]
[null,null,{"$f":"IF(ISBLANK(A66),\"--\",IF(B66=$I$14,I66,IF(B66=$J$14,J66,IF(B66=$K$14,K66,IF(B66=$L$14,L66,IF(B66=$N$14,N66,IF(B66=$M$14,M66,IF(B66='Dropdown Lists'!$O$23,Injuries_WorkMissed!N66,\"--\"))))))))","v":"--"},null,{"$f":"IF(ISBLANK(D66),\"--\",IF(D66='Dropdown Lists'!$K$37,P66,IF(D66='Dropdown Lists'!$K$38,Q66,IF(D66='Dropdown Lists'!$K$39,R66,IF(D66='Dropdown Lists'!$K$40,S66,IF(D66='Dropdown Lists'!$K$41,T66,IF(D66='Dropdown Lists'!$K$42,U66,IF(D66='Dropdown Lists'!$K$43,V66,IF(D66='Dropdown Lists'!$K$44,W66,IF(D66='Dropdown Lists'!$K$45,X66,IF(D66='Dropdown Lists'!$K$46,Z66,IF(D66='Dropdown Lists'!$K$47,AA66,IF(D66='Dropdown Lists'!$K$48,AB66,IF(D66='Dropdown Lists'!$K$49,AC66,IF(D66='Dropdown Lists'!$K$50,AD66,IF(D66='Dropdown Lists'!$K$51,AE66,IF(D66='Dropdown Lists'!$K$52,AF66,IF(D66='Dropdown Lists'!$K$53,AG66,IF(D66='Dropdown Lists'!$K$54,AH66,IF(D66='Dropdown Lists'!$K$55,AJ66,\"\"))))))))))))))))))))","v":"--"},null,"--",null,{"$f":"IF(ISBLANK(A66),\"--\",VLOOKUP(A66,Injuries_WorkMissed!$B$109:$G$863,2,FALSE))","v":"--"},{"$f":"IF(ISBLANK(A66),\"--\",VLOOKUP(A66,Injuries_WorkMissed!$B$109:$G$863,3,FALSE))","v":"--"},{"$f":"IF(ISBLANK(A66),\"--\",VLOOKUP(A66,Injuries_WorkMissed!$B$109:$G$863,4,FALSE))","v":"--"},{"$f":"IF(ISBLANK(A66),\"--\",VLOOKUP(A66,Injuries_WorkMissed!$B$109:$G$863,5,FALSE))","v":"--"},{"$f":"IF(ISBLANK(A66),\"--\",VLOOKUP(A66,Injuries_WorkMissed!$B$109:$G$863,6,FALSE))","v":"--"},null,null,{"$f":"MIN(DataExtract!$BP$3:$BP$1597)","v":0},{"$f":"_xlfn.PERCENTILE.EXC(DataExtract!$BP$3:$BP$1597,0.1)","v":0},{"$f":"_xlfn.PERCENTILE.EXC(DataExtract!$BP$3:$BP$1597,0.25)","v":0},{"$f":"AVERAGE(DataExtract!$BP$3:$BP$5302)","v":23.924716981132075},1.5,{"$f":"MODE(DataExtract!$BP$1598:$BP$5302)","v":0},{"$f":"_xlfn.PERCENTILE.EXC(DataExtract!$BP$3:$BP$5302,0.75)","v":5},{"$f":"_xlfn.PERCENTILE.EXC(DataExtract!$BP$3:$BP$5302,0.9)","v":92},{"$f":"MAX(DataExtract!$BP$3:$BP$5302)","v":365},{"$f":"COUNT(DataExtract!$BP$3:$BP$5302)","v":5300},{"$f":"MIN(DataExtract!$BO$3:$BO$1597)","v":1},{"$f":"_xlfn.PERCENTILE.EXC(DataExtract!$BO$3:$BO$1597,0.1)","v":3},{"$f":"_xlfn.PERCENTILE.EXC(DataExtract!$BO$3:$BO$1597,0.25)","v":8},{"$f":"AVERAGE(DataExtract!$BO$3:$BO$1597)","v":79.499059561128533},{"$f":"MEDIAN(DataExtract!$BO$3:$BO$1597)","v":46},{"$f":"MODE(DataExtract!$BO$3:$BO$1597)","v":180},{"$f":"_xlfn.PERCENTILE.EXC(DataExtract!$BO$3:$BO$1597,0.75)","v":132},{"$f":"_xlfn.PERCENTILE.EXC(DataExtract!$BO$3:$BO$1597,0.9)","v":202},{"$f":"MAX(DataExtract!$BO$3:$BO$1597,0.25)","v":365},{"$f":"COUNT(DataExtract!$BO$3:$BO$1597)","v":1595}]
[null,null,{"$f":"IF(ISBLANK(A67),\"--\",IF(B67=$I$14,I67,IF(B67=$J$14,J67,IF(B67=$K$14,K67,IF(B67=$L$14,L67,IF(B67=$N$14,N67,IF(B67=$M$14,M67,IF(B67='Dropdown Lists'!$O$23,Injuries_WorkMissed!N67,\"--\"))))))))","v":"--"},null,{"$f":"IF(ISBLANK(D67),\"--\",IF(D67='Dropdown Lists'!$K$37,P67,IF(D67='Dropdown Lists'!$K$38,Q67,IF(D67='Dropdown Lists'!$K$39,R67,IF(D67='Dropdown Lists'!$K$40,S67,IF(D67='Dropdown Lists'!$K$41,T67,IF(D67='Dropdown Lists'!$K$42,U67,IF(D67='Dropdown Lists'!$K$43,V67,IF(D67='Dropdown Lists'!$K$44,W67,IF(D67='Dropdown Lists'!$K$45,X67,IF(D67='Dropdown Lists'!$K$46,Z67,IF(D67='Dropdown Lists'!$K$47,AA67,IF(D67='Dropdown Lists'!$K$48,AB67,IF(D67='Dropdown Lists'!$K$49,AC67,IF(D67='Dropdown Lists'!$K$50,AD67,IF(D67='Dropdown Lists'!$K$51,AE67,IF(D67='Dropdown Lists'!$K$52,AF67,IF(D67='Dropdown Lists'!$K$53,AG67,IF(D67='Dropdown Lists'!$K$54,AH67,IF(D67='Dropdown Lists'!$K$55,AJ67,\"\"))))))))))))))))))))","v":"--"},null,"--",null,{"$f":"IF(ISBLANK(A67),\"--\",VLOOKUP(A67,Injuries_WorkMissed!$B$109:$G$863,2,FALSE))","v":"--"},{"$f":"IF(ISBLANK(A67),\"--\",VLOOKUP(A67,Injuries_WorkMissed!$B$109:$G$863,3,FALSE))","v":"--"},{"$f":"IF(ISBLANK(A67),\"--\",VLOOKUP(A67,Injuries_WorkMissed!$B$109:$G$863,4,FALSE))","v":"--"},{"$f":"IF(ISBLANK(A67),\"--\",VLOOKUP(A67,Injuries_WorkMissed!$B$109:$G$863,5,FALSE))","v":"--"},{"$f":"IF(ISBLANK(A67),\"--\",VLOOKUP(A67,Injuries_WorkMissed!$B$109:$G$863,6,FALSE))","v":"--"},null,null,{"$f":"MIN(DataExtract!$BP$3:$BP$1597)","v":0},{"$f":"_xlfn.PERCENTILE.EXC(DataExtract!$BP$3:$BP$1597,0.1)","v":0},{"$f":"_xlfn.PERCENTILE.EXC(DataExtract!$BP$3:$BP$1597,0.25)","v":0},{"$f":"AVERAGE(DataExtract!$BP$3:$BP$5302)","v":23.924716981132075},1.5,{"$f":"MODE(DataExtract!$BP$1598:$BP$5302)","v":0},{"$f":"_xlfn.PERCENTILE.EXC(DataExtract!$BP$3:$BP$5302,0.75)","v":5},{"$f":"_xlfn.PERCENTILE.EXC(DataExtract!$BP$3:$BP$5302,0.9)","v":92},{"$f":"MAX(DataExtract!$BP$3:$BP$5302)","v":365},{"$f":"COUNT(DataExtract!$BP$3:$BP$5302)","v":5300},{"$f":"MIN(DataExtract!$BO$3:$BO$1597)","v":1},{"$f":"_xlfn.PERCENTILE.EXC(DataExtract!$BO$3:$BO$1597,0.1)","v":3},{"$f":"_xlfn.PERCENTILE.EXC(DataExtract!$BO$3:$BO$1597,0.25)","v":8},{"$f":"AVERAGE(DataExtract!$BO$3:$BO$1597)","v":79.499059561128533},{"$f":"MEDIAN(DataExtract!$BO$3:$BO$1597)","v":46},{"$f":"MODE(DataExtract!$BO$3:$BO$1597)","v":180},{"$f":"_xlfn.PERCENTILE.EXC(DataExtract!$BO$3:$BO$1597,0.75)","v":132},{"$f":"_xlfn.PERCENTILE.EXC(DataExtract!$BO$3:$BO$1597,0.9)","v":202},{"$f":"MAX(DataExtract!$BO$3:$BO$1597,0.25)","v":365},{"$f":"COUNT(DataExtract!$BO$3:$BO$1597)","v":1595}]
[null,null,{"$f":"IF(ISBLANK(A68),\"--\",IF(B68=$I$14,I68,IF(B68=$J$14,J68,IF(B68=$K$14,K68,IF(B68=$L$14,L68,IF(B68=$N$14,N68,IF(B68=$M$14,M68,IF(B68='Dropdown Lists'!$O$23,Injuries_WorkMissed!N68,\"--\"))))))))","v":"--"},null,{"$f":"IF(ISBLANK(D68),\"--\",IF(D68='Dropdown Lists'!$K$37,P68,IF(D68='Dropdown Lists'!$K$38,Q68,IF(D68='Dropdown Lists'!$K$39,R68,IF(D68='Dropdown Lists'!$K$40,S68,IF(D68='Dropdown Lists'!$K$41,T68,IF(D68='Dropdown Lists'!$K$42,U68,IF(D68='Dropdown Lists'!$K$43,V68,IF(D68='Dropdown Lists'!$K$44,W68,IF(D68='Dropdown Lists'!$K$45,X68,IF(D68='Dropdown Lists'!$K$46,Z68,IF(D68='Dropdown Lists'!$K$47,AA68,IF(D68='Dropdown Lists'!$K$48,AB68,IF(D68='Dropdown Lists'!$K$49,AC68,IF(D68='Dropdown Lists'!$K$50,AD68,IF(D68='Dropdown Lists'!$K$51,AE68,IF(D68='Dropdown Lists'!$K$52,AF68,IF(D68='Dropdown Lists'!$K$53,AG68,IF(D68='Dropdown Lists'!$K$54,AH68,IF(D68='Dropdown Lists'!$K$55,AJ68,\"\"))))))))))))))))))))","v":"--"},null,"--",null,{"$f":"IF(ISBLANK(A68),\"--\",VLOOKUP(A68,Injuries_WorkMissed!$B$109:$G$863,2,FALSE))","v":"--"},{"$f":"IF(ISBLANK(A68),\"--\",VLOOKUP(A68,Injuries_WorkMissed!$B$109:$G$863,3,FALSE))","v":"--"},{"$f":"IF(ISBLANK(A68),\"--\",VLOOKUP(A68,Injuries_WorkMissed!$B$109:$G$863,4,FALSE))","v":"--"},{"$f":"IF(ISBLANK(A68),\"--\",VLOOKUP(A68,Injuries_WorkMissed!$B$109:$G$863,5,FALSE))","v":"--"},{"$f":"IF(ISBLANK(A68),\"--\",VLOOKUP(A68,Injuries_WorkMissed!$B$109:$G$863,6,FALSE))","v":"--"},null,null,{"$f":"MIN(DataExtract!$BP$3:$BP$1597)","v":0},{"$f":"_xlfn.PERCENTILE.EXC(DataExtract!$BP$3:$BP$1597,0.1)","v":0},{"$f":"_xlfn.PERCENTILE.EXC(DataExtract!$BP$3:$BP$1597,0.25)","v":0},{"$f":"AVERAGE(DataExtract!$BP$3:$BP$5302)","v":23.924716981132075},1.5,{"$f":"MODE(DataExtract!$BP$1598:$BP$5302)","v":0},{"$f":"_xlfn.PERCENTILE.EXC(DataExtract!$BP$3:$BP$5302,0.75)","v":5},{"$f":"_xlfn.PERCENTILE.EXC(DataExtract!$BP$3:$BP$5302,0.9)","v":92},{"$f":"MAX(DataExtract!$BP$3:$BP$5302)","v":365},{"$f":"COUNT(DataExtract!$BP$3:$BP$5302)","v":5300},{"$f":"MIN(DataExtract!$BO$3:$BO$1597)","v":1},{"$f":"_xlfn.PERCENTILE.EXC(DataExtract!$BO$3:$BO$1597,0.1)","v":3},{"$f":"_xlfn.PERCENTILE.EXC(DataExtract!$BO$3:$BO$1597,0.25)","v":8},{"$f":"AVERAGE(DataExtract!$BO$3:$BO$1597)","v":79.499059561128533},{"$f":"MEDIAN(DataExtract!$BO$3:$BO$1597)","v":46},{"$f":"MODE(DataExtract!$BO$3:$BO$1597)","v":180},{"$f":"_xlfn.PERCENTILE.EXC(DataExtract!$BO$3:$BO$1597,0.75)","v":132},{"$f":"_xlfn.PERCENTILE.EXC(DataExtract!$BO$3:$BO$1597,0.9)","v":202},{"$f":"MAX(DataExtract!$BO$3:$BO$1597,0.25)","v":365},{"$f":"COUNT(DataExtract!$BO$3:$BO$1597)","v":1595}]
[null,null,{"$f":"IF(ISBLANK(A69),\"--\",IF(B69=$I$14,I69,IF(B69=$J$14,J69,IF(B69=$K$14,K69,IF(B69=$L$14,L69,IF(B69=$N$14,N69,IF(B69=$M$14,M69,IF(B69='Dropdown Lists'!$O$23,Injuries_WorkMissed!N69,\"--\"))))))))","v":"--"},null,{"$f":"IF(ISBLANK(D69),\"--\",IF(D69='Dropdown Lists'!$K$37,P69,IF(D69='Dropdown Lists'!$K$38,Q69,IF(D69='Dropdown Lists'!$K$39,R69,IF(D69='Dropdown Lists'!$K$40,S69,IF(D69='Dropdown Lists'!$K$41,T69,IF(D69='Dropdown Lists'!$K$42,U69,IF(D69='Dropdown Lists'!$K$43,V69,IF(D69='Dropdown Lists'!$K$44,W69,IF(D69='Dropdown Lists'!$K$45,X69,IF(D69='Dropdown Lists'!$K$46,Z69,IF(D69='Dropdown Lists'!$K$47,AA69,IF(D69='Dropdown Lists'!$K$48,AB69,IF(D69='Dropdown Lists'!$K$49,AC69,IF(D69='Dropdown Lists'!$K$50,AD69,IF(D69='Dropdown Lists'!$K$51,AE69,IF(D69='Dropdown Lists'!$K$52,AF69,IF(D69='Dropdown Lists'!$K$53,AG69,IF(D69='Dropdown Lists'!$K$54,AH69,IF(D69='Dropdown Lists'!$K$55,AJ69,\"\"))))))))))))))))))))","v":"--"},null,"--",null,{"$f":"IF(ISBLANK(A69),\"--\",VLOOKUP(A69,Injuries_WorkMissed!$B$109:$G$863,2,FALSE))","v":"--"},{"$f":"IF(ISBLANK(A69),\"--\",VLOOKUP(A69,Injuries_WorkMissed!$B$109:$G$863,3,FALSE))","v":"--"},{"$f":"IF(ISBLANK(A69),\"--\",VLOOKUP(A69,Injuries_WorkMissed!$B$109:$G$863,4,FALSE))","v":"--"},{"$f":"IF(ISBLANK(A69),\"--\",VLOOKUP(A69,Injuries_WorkMissed!$B$109:$G$863,5,FALSE))","v":"--"},{"$f":"IF(ISBLANK(A69),\"--\",VLOOKUP(A69,Injuries_WorkMissed!$B$109:$G$863,6,FALSE))","v":"--"},null,null,{"$f":"MIN(DataExtract!$BP$3:$BP$1597)","v":0},{"$f":"_xlfn.PERCENTILE.EXC(DataExtract!$BP$3:$BP$1597,0.1)","v":0},{"$f":"_xlfn.PERCENTILE.EXC(DataExtract!$BP$3:$BP$1597,0.25)","v":0},{"$f":"AVERAGE(DataExtract!$BP$3:$BP$5302)","v":23.924716981132075},1.5,{"$f":"MODE(DataExtract!$BP$1598:$BP$5302)","v":0},{"$f":"_xlfn.PERCENTILE.EXC(DataExtract!$BP$3:$BP$5302,0.75)","v":5},{"$f":"_xlfn.PERCENTILE.EXC(DataExtract!$BP$3:$BP$5302,0.9)","v":92},{"$f":"MAX(DataExtract!$BP$3:$BP$5302)","v":365},{"$f":"COUNT(DataExtract!$BP$3:$BP$5302)","v":5300},{"$f":"MIN(DataExtract!$BO$3:$BO$1597)","v":1},{"$f":"_xlfn.PERCENTILE.EXC(DataExtract!$BO$3:$BO$1597,0.1)","v":3},{"$f":"_xlfn.PERCENTILE.EXC(DataExtract!$BO$3:$BO$1597,0.25)","v":8},{"$f":"AVERAGE(DataExtract!$BO$3:$BO$1597)","v":79.499059561128533},{"$f":"MEDIAN(DataExtract!$BO$3:$BO$1597)","v":46},{"$f":"MODE(DataExtract!$BO$3:$BO$1597)","v":180},{"$f":"_xlfn.PERCENTILE.EXC(DataExtract!$BO$3:$BO$1597,0.75)","v":132},{"$f":"_xlfn.PERCENTILE.EXC(DataExtract!$BO$3:$BO$1597,0.9)","v":202},{"$f":"MAX(DataExtract!$BO$3:$BO$1597,0.25)","v":365},{"$f":"COUNT(DataExtract!$BO$3:$BO$1597)","v":1595}]
[null,null,{"$f":"IF(ISBLANK(A70),\"--\",IF(B70=$I$14,I70,IF(B70=$J$14,J70,IF(B70=$K$14,K70,IF(B70=$L$14,L70,IF(B70=$N$14,N70,IF(B70=$M$14,M70,IF(B70='Dropdown Lists'!$O$23,Injuries_WorkMissed!N70,\"--\"))))))))","v":"--"},null,{"$f":"IF(ISBLANK(D70),\"--\",IF(D70='Dropdown Lists'!$K$37,P70,IF(D70='Dropdown Lists'!$K$38,Q70,IF(D70='Dropdown Lists'!$K$39,R70,IF(D70='Dropdown Lists'!$K$40,S70,IF(D70='Dropdown Lists'!$K$41,T70,IF(D70='Dropdown Lists'!$K$42,U70,IF(D70='Dropdown Lists'!$K$43,V70,IF(D70='Dropdown Lists'!$K$44,W70,IF(D70='Dropdown Lists'!$K$45,X70,IF(D70='Dropdown Lists'!$K$46,Z70,IF(D70='Dropdown Lists'!$K$47,AA70,IF(D70='Dropdown Lists'!$K$48,AB70,IF(D70='Dropdown Lists'!$K$49,AC70,IF(D70='Dropdown Lists'!$K$50,AD70,IF(D70='Dropdown Lists'!$K$51,AE70,IF(D70='Dropdown Lists'!$K$52,AF70,IF(D70='Dropdown Lists'!$K$53,AG70,IF(D70='Dropdown Lists'!$K$54,AH70,IF(D70='Dropdown Lists'!$K$55,AJ70,\"\"))))))))))))))))))))","v":"--"},null,"--",null,{"$f":"IF(ISBLANK(A70),\"--\",VLOOKUP(A70,Injuries_WorkMissed!$B$109:$G$863,2,FALSE))","v":"--"},{"$f":"IF(ISBLANK(A70),\"--\",VLOOKUP(A70,Injuries_WorkMissed!$B$109:$G$863,3,FALSE))","v":"--"},{"$f":"IF(ISBLANK(A70),\"--\",VLOOKUP(A70,Injuries_WorkMissed!$B$109:$G$863,4,FALSE))","v":"--"},{"$f":"IF(ISBLANK(A70),\"--\",VLOOKUP(A70,Injuries_WorkMissed!$B$109:$G$863,5,FALSE))","v":"--"},{"$f":"IF(ISBLANK(A70),\"--\",VLOOKUP(A70,Injuries_WorkMissed!$B$109:$G$863,6,FALSE))","v":"--"},null,null,{"$f":"MIN(DataExtract!$BP$3:$BP$1597)","v":0},{"$f":"_xlfn.PERCENTILE.EXC(DataExtract!$BP$3:$BP$1597,0.1)","v":0},{"$f":"_xlfn.PERCENTILE.EXC(DataExtract!$BP$3:$BP$1597,0.25)","v":0},{"$f":"AVERAGE(DataExtract!$BP$3:$BP$5302)","v":23.924716981132075},1.5,{"$f":"MODE(DataExtract!$BP$1598:$BP$5302)","v":0},{"$f":"_xlfn.PERCENTILE.EXC(DataExtract!$BP$3:$BP$5302,0.75)","v":5},{"$f":"_xlfn.PERCENTILE.EXC(DataExtract!$BP$3:$BP$5302,0.9)","v":92},{"$f":"MAX(DataExtract!$BP$3:$BP$5302)","v":365},{"$f":"COUNT(DataExtract!$BP$3:$BP$5302)","v":5300},{"$f":"MIN(DataExtract!$BO$3:$BO$1597)","v":1},{"$f":"_xlfn.PERCENTILE.EXC(DataExtract!$BO$3:$BO$1597,0.1)","v":3},{"$f":"_xlfn.PERCENTILE.EXC(DataExtract!$BO$3:$BO$1597,0.25)","v":8},{"$f":"AVERAGE(DataExtract!$BO$3:$BO$1597)","v":79.499059561128533},{"$f":"MEDIAN(DataExtract!$BO$3:$BO$1597)","v":46},{"$f":"MODE(DataExtract!$BO$3:$BO$1597)","v":180},{"$f":"_xlfn.PERCENTILE.EXC(DataExtract!$BO$3:$BO$1597,0.75)","v":132},{"$f":"_xlfn.PERCENTILE.EXC(DataExtract!$BO$3:$BO$1597,0.9)","v":202},{"$f":"MAX(DataExtract!$BO$3:$BO$1597,0.25)","v":365},{"$f":"COUNT(DataExtract!$BO$3:$BO$1597)","v":1595}]
[null,null,{"$f":"IF(ISBLANK(A71),\"--\",IF(B71=$I$14,I71,IF(B71=$J$14,J71,IF(B71=$K$14,K71,IF(B71=$L$14,L71,IF(B71=$N$14,N71,IF(B71=$M$14,M71,IF(B71='Dropdown Lists'!$O$23,Injuries_WorkMissed!N71,\"--\"))))))))","v":"--"},null,{"$f":"IF(ISBLANK(D71),\"--\",IF(D71='Dropdown Lists'!$K$37,P71,IF(D71='Dropdown Lists'!$K$38,Q71,IF(D71='Dropdown Lists'!$K$39,R71,IF(D71='Dropdown Lists'!$K$40,S71,IF(D71='Dropdown Lists'!$K$41,T71,IF(D71='Dropdown Lists'!$K$42,U71,IF(D71='Dropdown Lists'!$K$43,V71,IF(D71='Dropdown Lists'!$K$44,W71,IF(D71='Dropdown Lists'!$K$45,X71,IF(D71='Dropdown Lists'!$K$46,Z71,IF(D71='Dropdown Lists'!$K$47,AA71,IF(D71='Dropdown Lists'!$K$48,AB71,IF(D71='Dropdown Lists'!$K$49,AC71,IF(D71='Dropdown Lists'!$K$50,AD71,IF(D71='Dropdown Lists'!$K$51,AE71,IF(D71='Dropdown Lists'!$K$52,AF71,IF(D71='Dropdown Lists'!$K$53,AG71,IF(D71='Dropdown Lists'!$K$54,AH71,IF(D71='Dropdown Lists'!$K$55,AJ71,\"\"))))))))))))))))))))","v":"--"},null,"--",null,{"$f":"IF(ISBLANK(A71),\"--\",VLOOKUP(A71,Injuries_WorkMissed!$B$109:$G$863,2,FALSE))","v":"--"},{"$f":"IF(ISBLANK(A71),\"--\",VLOOKUP(A71,Injuries_WorkMissed!$B$109:$G$863,3,FALSE))","v":"--"},{"$f":"IF(ISBLANK(A71),\"--\",VLOOKUP(A71,Injuries_WorkMissed!$B$109:$G$863,4,FALSE))","v":"--"},{"$f":"IF(ISBLANK(A71),\"--\",VLOOKUP(A71,Injuries_WorkMissed!$B$109:$G$863,5,FALSE))","v":"--"},{"$f":"IF(ISBLANK(A71),\"--\",VLOOKUP(A71,Injuries_WorkMissed!$B$109:$G$863,6,FALSE))","v":"--"},null,null,{"$f":"MIN(DataExtract!$BP$3:$BP$1597)","v":0},{"$f":"_xlfn.PERCENTILE.EXC(DataExtract!$BP$3:$BP$1597,0.1)","v":0},{"$f":"_xlfn.PERCENTILE.EXC(DataExtract!$BP$3:$BP$1597,0.25)","v":0},{"$f":"AVERAGE(DataExtract!$BP$3:$BP$5302)","v":23.924716981132075},1.5,{"$f":"MODE(DataExtract!$BP$1598:$BP$5302)","v":0},{"$f":"_xlfn.PERCENTILE.EXC(DataExtract!$BP$3:$BP$5302,0.75)","v":5},{"$f":"_xlfn.PERCENTILE.EXC(DataExtract!$BP$3:$BP$5302,0.9)","v":92},{"$f":"MAX(DataExtract!$BP$3:$BP$5302)","v":365},{"$f":"COUNT(DataExtract!$BP$3:$BP$5302)","v":5300},{"$f":"MIN(DataExtract!$BO$3:$BO$1597)","v":1},{"$f":"_xlfn.PERCENTILE.EXC(DataExtract!$BO$3:$BO$1597,0.1)","v":3},{"$f":"_xlfn.PERCENTILE.EXC(DataExtract!$BO$3:$BO$1597,0.25)","v":8},{"$f":"AVERAGE(DataExtract!$BO$3:$BO$1597)","v":79.499059561128533},{"$f":"MEDIAN(DataExtract!$BO$3:$BO$1597)","v":46},{"$f":"MODE(DataExtract!$BO$3:$BO$1597)","v":180},{"$f":"_xlfn.PERCENTILE.EXC(DataExtract!$BO$3:$BO$1597,0.75)","v":132},{"$f":"_xlfn.PERCENTILE.EXC(DataExtract!$BO$3:$BO$1597,0.9)","v":202},{"$f":"MAX(DataExtract!$BO$3:$BO$1597,0.25)","v":365},{"$f":"COUNT(DataExtract!$BO$3:$BO$1597)","v":1595}]
[null,null,{"$f":"IF(ISBLANK(A72),\"--\",IF(B72=$I$14,I72,IF(B72=$J$14,J72,IF(B72=$K$14,K72,IF(B72=$L$14,L72,IF(B72=$N$14,N72,IF(B72=$M$14,M72,IF(B72='Dropdown Lists'!$O$23,Injuries_WorkMissed!N72,\"--\"))))))))","v":"--"},null,{"$f":"IF(ISBLANK(D72),\"--\",IF(D72='Dropdown Lists'!$K$37,P72,IF(D72='Dropdown Lists'!$K$38,Q72,IF(D72='Dropdown Lists'!$K$39,R72,IF(D72='Dropdown Lists'!$K$40,S72,IF(D72='Dropdown Lists'!$K$41,T72,IF(D72='Dropdown Lists'!$K$42,U72,IF(D72='Dropdown Lists'!$K$43,V72,IF(D72='Dropdown Lists'!$K$44,W72,IF(D72='Dropdown Lists'!$K$45,X72,IF(D72='Dropdown Lists'!$K$46,Z72,IF(D72='Dropdown Lists'!$K$47,AA72,IF(D72='Dropdown Lists'!$K$48,AB72,IF(D72='Dropdown Lists'!$K$49,AC72,IF(D72='Dropdown Lists'!$K$50,AD72,IF(D72='Dropdown Lists'!$K$51,AE72,IF(D72='Dropdown Lists'!$K$52,AF72,IF(D72='Dropdown Lists'!$K$53,AG72,IF(D72='Dropdown Lists'!$K$54,AH72,IF(D72='Dropdown Lists'!$K$55,AJ72,\"\"))))))))))))))))))))","v":"--"},null,"--",null,{"$f":"IF(ISBLANK(A72),\"--\",VLOOKUP(A72,Injuries_WorkMissed!$B$109:$G$863,2,FALSE))","v":"--"},{"$f":"IF(ISBLANK(A72),\"--\",VLOOKUP(A72,Injuries_WorkMissed!$B$109:$G$863,3,FALSE))","v":"--"},{"$f":"IF(ISBLANK(A72),\"--\",VLOOKUP(A72,Injuries_WorkMissed!$B$109:$G$863,4,FALSE))","v":"--"},{"$f":"IF(ISBLANK(A72),\"--\",VLOOKUP(A72,Injuries_WorkMissed!$B$109:$G$863,5,FALSE))","v":"--"},{"$f":"IF(ISBLANK(A72),\"--\",VLOOKUP(A72,Injuries_WorkMissed!$B$109:$G$863,6,FALSE))","v":"--"},null,null,{"$f":"MIN(DataExtract!$BP$3:$BP$1597)","v":0},{"$f":"_xlfn.PERCENTILE.EXC(DataExtract!$BP$3:$BP$1597,0.1)","v":0},{"$f":"_xlfn.PERCENTILE.EXC(DataExtract!$BP$3:$BP$1597,0.25)","v":0},{"$f":"AVERAGE(DataExtract!$BP$3:$BP$5302)","v":23.924716981132075},1.5,{"$f":"MODE(DataExtract!$BP$1598:$BP$5302)","v":0},{"$f":"_xlfn.PERCENTILE.EXC(DataExtract!$BP$3:$BP$5302,0.75)","v":5},{"$f":"_xlfn.PERCENTILE.EXC(DataExtract!$BP$3:$BP$5302,0.9)","v":92},{"$f":"MAX(DataExtract!$BP$3:$BP$5302)","v":365},{"$f":"COUNT(DataExtract!$BP$3:$BP$5302)","v":5300},{"$f":"MIN(DataExtract!$BO$3:$BO$1597)","v":1},{"$f":"_xlfn.PERCENTILE.EXC(DataExtract!$BO$3:$BO$1597,0.1)","v":3},{"$f":"_xlfn.PERCENTILE.EXC(DataExtract!$BO$3:$BO$1597,0.25)","v":8},{"$f":"AVERAGE(DataExtract!$BO$3:$BO$1597)","v":79.499059561128533},{"$f":"MEDIAN(DataExtract!$BO$3:$BO$1597)","v":46},{"$f":"MODE(DataExtract!$BO$3:$BO$1597)","v":180},{"$f":"_xlfn.PERCENTILE.EXC(DataExtract!$BO$3:$BO$1597,0.75)","v":132},{"$f":"_xlfn.PERCENTILE.EXC(DataExtract!$BO$3:$BO$1597,0.9)","v":202},{"$f":"MAX(DataExtract!$BO$3:$BO$1597,0.25)","v":365},{"$f":"COUNT(DataExtract!$BO$3:$BO$1597)","v":1595}]
[null,null,{"$f":"IF(ISBLANK(A73),\"--\",IF(B73=$I$14,I73,IF(B73=$J$14,J73,IF(B73=$K$14,K73,IF(B73=$L$14,L73,IF(B73=$N$14,N73,IF(B73=$M$14,M73,IF(B73='Dropdown Lists'!$O$23,Injuries_WorkMissed!N73,\"--\"))))))))","v":"--"},null,{"$f":"IF(ISBLANK(D73),\"--\",IF(D73='Dropdown Lists'!$K$37,P73,IF(D73='Dropdown Lists'!$K$38,Q73,IF(D73='Dropdown Lists'!$K$39,R73,IF(D73='Dropdown Lists'!$K$40,S73,IF(D73='Dropdown Lists'!$K$41,T73,IF(D73='Dropdown Lists'!$K$42,U73,IF(D73='Dropdown Lists'!$K$43,V73,IF(D73='Dropdown Lists'!$K$44,W73,IF(D73='Dropdown Lists'!$K$45,X73,IF(D73='Dropdown Lists'!$K$46,Z73,IF(D73='Dropdown Lists'!$K$47,AA73,IF(D73='Dropdown Lists'!$K$48,AB73,IF(D73='Dropdown Lists'!$K$49,AC73,IF(D73='Dropdown Lists'!$K$50,AD73,IF(D73='Dropdown Lists'!$K$51,AE73,IF(D73='Dropdown Lists'!$K$52,AF73,IF(D73='Dropdown Lists'!$K$53,AG73,IF(D73='Dropdown Lists'!$K$54,AH73,IF(D73='Dropdown Lists'!$K$55,AJ73,\"\"))))))))))))))))))))","v":"--"},null,"--",null,{"$f":"IF(ISBLANK(A73),\"--\",VLOOKUP(A73,Injuries_WorkMissed!$B$109:$G$863,2,FALSE))","v":"--"},{"$f":"IF(ISBLANK(A73),\"--\",VLOOKUP(A73,Injuries_WorkMissed!$B$109:$G$863,3,FALSE))","v":"--"},{"$f":"IF(ISBLANK(A73),\"--\",VLOOKUP(A73,Injuries_WorkMissed!$B$109:$G$863,4,FALSE))","v":"--"},{"$f":"IF(ISBLANK(A73),\"--\",VLOOKUP(A73,Injuries_WorkMissed!$B$109:$G$863,5,FALSE))","v":"--"},{"$f":"IF(ISBLANK(A73),\"--\",VLOOKUP(A73,Injuries_WorkMissed!$B$109:$G$863,6,FALSE))","v":"--"},null,null,{"$f":"MIN(DataExtract!$BP$3:$BP$1597)","v":0},{"$f":"_xlfn.PERCENTILE.EXC(DataExtract!$BP$3:$BP$1597,0.1)","v":0},{"$f":"_xlfn.PERCENTILE.EXC(DataExtract!$BP$3:$BP$1597,0.25)","v":0},{"$f":"AVERAGE(DataExtract!$BP$3:$BP$5302)","v":23.924716981132075},1.5,{"$f":"MODE(DataExtract!$BP$1598:$BP$5302)","v":0},{"$f":"_xlfn.PERCENTILE.EXC(DataExtract!$BP$3:$BP$5302,0.75)","v":5},{"$f":"_xlfn.PERCENTILE.EXC(DataExtract!$BP$3:$BP$5302,0.9)","v":92},{"$f":"MAX(DataExtract!$BP$3:$BP$5302)","v":365},{"$f":"COUNT(DataExtract!$BP$3:$BP$5302)","v":5300},{"$f":"MIN(DataExtract!$BO$3:$BO$1597)","v":1},{"$f":"_xlfn.PERCENTILE.EXC(DataExtract!$BO$3:$BO$1597,0.1)","v":3},{"$f":"_xlfn.PERCENTILE.EXC(DataExtract!$BO$3:$BO$1597,0.25)","v":8},{"$f":"AVERAGE(DataExtract!$BO$3:$BO$1597)","v":79.499059561128533},{"$f":"MEDIAN(DataExtract!$BO$3:$BO$1597)","v":46},{"$f":"MODE(DataExtract!$BO$3:$BO$1597)","v":180},{"$f":"_xlfn.PERCENTILE.EXC(DataExtract!$BO$3:$BO$1597,0.75)","v":132},{"$f":"_xlfn.PERCENTILE.EXC(DataExtract!$BO$3:$BO$1597,0.9)","v":202},{"$f":"MAX(DataExtract!$BO$3:$BO$1597,0.25)","v":365},{"$f":"COUNT(DataExtract!$BO$3:$BO$1597)","v":1595}]
[null,null,{"$f":"IF(ISBLANK(A74),\"--\",IF(B74=$I$14,I74,IF(B74=$J$14,J74,IF(B74=$K$14,K74,IF(B74=$L$14,L74,IF(B74=$N$14,N74,IF(B74=$M$14,M74,IF(B74='Dropdown Lists'!$O$23,Injuries_WorkMissed!N74,\"--\"))))))))","v":"--"},null,{"$f":"IF(ISBLANK(D74),\"--\",IF(D74='Dropdown Lists'!$K$37,P74,IF(D74='Dropdown Lists'!$K$38,Q74,IF(D74='Dropdown Lists'!$K$39,R74,IF(D74='Dropdown Lists'!$K$40,S74,IF(D74='Dropdown Lists'!$K$41,T74,IF(D74='Dropdown Lists'!$K$42,U74,IF(D74='Dropdown Lists'!$K$43,V74,IF(D74='Dropdown Lists'!$K$44,W74,IF(D74='Dropdown Lists'!$K$45,X74,IF(D74='Dropdown Lists'!$K$46,Z74,IF(D74='Dropdown Lists'!$K$47,AA74,IF(D74='Dropdown Lists'!$K$48,AB74,IF(D74='Dropdown Lists'!$K$49,AC74,IF(D74='Dropdown Lists'!$K$50,AD74,IF(D74='Dropdown Lists'!$K$51,AE74,IF(D74='Dropdown Lists'!$K$52,AF74,IF(D74='Dropdown Lists'!$K$53,AG74,IF(D74='Dropdown Lists'!$K$54,AH74,IF(D74='Dropdown Lists'!$K$55,AJ74,\"\"))))))))))))))))))))","v":"--"},null,"--",null,{"$f":"IF(ISBLANK(A74),\"--\",VLOOKUP(A74,Injuries_WorkMissed!$B$109:$G$863,2,FALSE))","v":"--"},{"$f":"IF(ISBLANK(A74),\"--\",VLOOKUP(A74,Injuries_WorkMissed!$B$109:$G$863,3,FALSE))","v":"--"},{"$f":"IF(ISBLANK(A74),\"--\",VLOOKUP(A74,Injuries_WorkMissed!$B$109:$G$863,4,FALSE))","v":"--"},{"$f":"IF(ISBLANK(A74),\"--\",VLOOKUP(A74,Injuries_WorkMissed!$B$109:$G$863,5,FALSE))","v":"--"},{"$f":"IF(ISBLANK(A74),\"--\",VLOOKUP(A74,Injuries_WorkMissed!$B$109:$G$863,6,FALSE))","v":"--"},null,null,{"$f":"MIN(DataExtract!$BP$3:$BP$1597)","v":0},{"$f":"_xlfn.PERCENTILE.EXC(DataExtract!$BP$3:$BP$1597,0.1)","v":0},{"$f":"_xlfn.PERCENTILE.EXC(DataExtract!$BP$3:$BP$1597,0.25)","v":0},{"$f":"AVERAGE(DataExtract!$BP$3:$BP$5302)","v":23.924716981132075},1.5,{"$f":"MODE(DataExtract!$BP$1598:$BP$5302)","v":0},{"$f":"_xlfn.PERCENTILE.EXC(DataExtract!$BP$3:$BP$5302,0.75)","v":5},{"$f":"_xlfn.PERCENTILE.EXC(DataExtract!$BP$3:$BP$5302,0.9)","v":92},{"$f":"MAX(DataExtract!$BP$3:$BP$5302)","v":365},{"$f":"COUNT(DataExtract!$BP$3:$BP$5302)","v":5300},{"$f":"MIN(DataExtract!$BO$3:$BO$1597)","v":1},{"$f":"_xlfn.PERCENTILE.EXC(DataExtract!$BO$3:$BO$1597,0.1)","v":3},{"$f":"_xlfn.PERCENTILE.EXC(DataExtract!$BO$3:$BO$1597,0.25)","v":8},{"$f":"AVERAGE(DataExtract!$BO$3:$BO$1597)","v":79.499059561128533},{"$f":"MEDIAN(DataExtract!$BO$3:$BO$1597)","v":46},{"$f":"MODE(DataExtract!$BO$3:$BO$1597)","v":180},{"$f":"_xlfn.PERCENTILE.EXC(DataExtract!$BO$3:$BO$1597,0.75)","v":132},{"$f":"_xlfn.PERCENTILE.EXC(DataExtract!$BO$3:$BO$1597,0.9)","v":202},{"$f":"MAX(DataExtract!$BO$3:$BO$1597,0.25)","v":365},{"$f":"COUNT(DataExtract!$BO$3:$BO$1597)","v":1595}]
[null,null,{"$f":"IF(ISBLANK(A75),\"--\",IF(B75=$I$14,I75,IF(B75=$J$14,J75,IF(B75=$K$14,K75,IF(B75=$L$14,L75,IF(B75=$N$14,N75,IF(B75=$M$14,M75,IF(B75='Dropdown Lists'!$O$23,Injuries_WorkMissed!N75,\"--\"))))))))","v":"--"},null,{"$f":"IF(ISBLANK(D75),\"--\",IF(D75='Dropdown Lists'!$K$37,P75,IF(D75='Dropdown Lists'!$K$38,Q75,IF(D75='Dropdown Lists'!$K$39,R75,IF(D75='Dropdown Lists'!$K$40,S75,IF(D75='Dropdown Lists'!$K$41,T75,IF(D75='Dropdown Lists'!$K$42,U75,IF(D75='Dropdown Lists'!$K$43,V75,IF(D75='Dropdown Lists'!$K$44,W75,IF(D75='Dropdown Lists'!$K$45,X75,IF(D75='Dropdown Lists'!$K$46,Z75,IF(D75='Dropdown Lists'!$K$47,AA75,IF(D75='Dropdown Lists'!$K$48,AB75,IF(D75='Dropdown Lists'!$K$49,AC75,IF(D75='Dropdown Lists'!$K$50,AD75,IF(D75='Dropdown Lists'!$K$51,AE75,IF(D75='Dropdown Lists'!$K$52,AF75,IF(D75='Dropdown Lists'!$K$53,AG75,IF(D75='Dropdown Lists'!$K$54,AH75,IF(D75='Dropdown Lists'!$K$55,AJ75,\"\"))))))))))))))))))))","v":"--"},null,"--",null,{"$f":"IF(ISBLANK(A75),\"--\",VLOOKUP(A75,Injuries_WorkMissed!$B$109:$G$863,2,FALSE))","v":"--"},{"$f":"IF(ISBLANK(A75),\"--\",VLOOKUP(A75,Injuries_WorkMissed!$B$109:$G$863,3,FALSE))","v":"--"},{"$f":"IF(ISBLANK(A75),\"--\",VLOOKUP(A75,Injuries_WorkMissed!$B$109:$G$863,4,FALSE))","v":"--"},{"$f":"IF(ISBLANK(A75),\"--\",VLOOKUP(A75,Injuries_WorkMissed!$B$109:$G$863,5,FALSE))","v":"--"},{"$f":"IF(ISBLANK(A75),\"--\",VLOOKUP(A75,Injuries_WorkMissed!$B$109:$G$863,6,FALSE))","v":"--"},null,null,{"$f":"MIN(DataExtract!$BP$3:$BP$1597)","v":0},{"$f":"_xlfn.PERCENTILE.EXC(DataExtract!$BP$3:$BP$1597,0.1)","v":0},{"$f":"_xlfn.PERCENTILE.EXC(DataExtract!$BP$3:$BP$1597,0.25)","v":0},{"$f":"AVERAGE(DataExtract!$BP$3:$BP$5302)","v":23.924716981132075},1.5,{"$f":"MODE(DataExtract!$BP$1598:$BP$5302)","v":0},{"$f":"_xlfn.PERCENTILE.EXC(DataExtract!$BP$3:$BP$5302,0.75)","v":5},{"$f":"_xlfn.PERCENTILE.EXC(DataExtract!$BP$3:$BP$5302,0.9)","v":92},{"$f":"MAX(DataExtract!$BP$3:$BP$5302)","v":365},{"$f":"COUNT(DataExtract!$BP$3:$BP$5302)","v":5300},{"$f":"MIN(DataExtract!$BO$3:$BO$1597)","v":1},{"$f":"_xlfn.PERCENTILE.EXC(DataExtract!$BO$3:$BO$1597,0.1)","v":3},{"$f":"_xlfn.PERCENTILE.EXC(DataExtract!$BO$3:$BO$1597,0.25)","v":8},{"$f":"AVERAGE(DataExtract!$BO$3:$BO$1597)","v":79.499059561128533},{"$f":"MEDIAN(DataExtract!$BO$3:$BO$1597)","v":46},{"$f":"MODE(DataExtract!$BO$3:$BO$1597)","v":180},{"$f":"_xlfn.PERCENTILE.EXC(DataExtract!$BO$3:$BO$1597,0.75)","v":132},{"$f":"_xlfn.PERCENTILE.EXC(DataExtract!$BO$3:$BO$1597,0.9)","v":202},{"$f":"MAX(DataExtract!$BO$3:$BO$1597,0.25)","v":365},{"$f":"COUNT(DataExtract!$BO$3:$BO$1597)","v":1595}]
[null,null,{"$f":"IF(ISBLANK(A76),\"--\",IF(B76=$I$14,I76,IF(B76=$J$14,J76,IF(B76=$K$14,K76,IF(B76=$L$14,L76,IF(B76=$N$14,N76,IF(B76=$M$14,M76,IF(B76='Dropdown Lists'!$O$23,Injuries_WorkMissed!N76,\"--\"))))))))","v":"--"},null,{"$f":"IF(ISBLANK(D76),\"--\",IF(D76='Dropdown Lists'!$K$37,P76,IF(D76='Dropdown Lists'!$K$38,Q76,IF(D76='Dropdown Lists'!$K$39,R76,IF(D76='Dropdown Lists'!$K$40,S76,IF(D76='Dropdown Lists'!$K$41,T76,IF(D76='Dropdown Lists'!$K$42,U76,IF(D76='Dropdown Lists'!$K$43,V76,IF(D76='Dropdown Lists'!$K$44,W76,IF(D76='Dropdown Lists'!$K$45,X76,IF(D76='Dropdown Lists'!$K$46,Z76,IF(D76='Dropdown Lists'!$K$47,AA76,IF(D76='Dropdown Lists'!$K$48,AB76,IF(D76='Dropdown Lists'!$K$49,AC76,IF(D76='Dropdown Lists'!$K$50,AD76,IF(D76='Dropdown Lists'!$K$51,AE76,IF(D76='Dropdown Lists'!$K$52,AF76,IF(D76='Dropdown Lists'!$K$53,AG76,IF(D76='Dropdown Lists'!$K$54,AH76,IF(D76='Dropdown Lists'!$K$55,AJ76,\"\"))))))))))))))))))))","v":"--"},null,"--",null,{"$f":"IF(ISBLANK(A76),\"--\",VLOOKUP(A76,Injuries_WorkMissed!$B$109:$G$863,2,FALSE))","v":"--"},{"$f":"IF(ISBLANK(A76),\"--\",VLOOKUP(A76,Injuries_WorkMissed!$B$109:$G$863,3,FALSE))","v":"--"},{"$f":"IF(ISBLANK(A76),\"--\",VLOOKUP(A76,Injuries_WorkMissed!$B$109:$G$863,4,FALSE))","v":"--"},{"$f":"IF(ISBLANK(A76),\"--\",VLOOKUP(A76,Injuries_WorkMissed!$B$109:$G$863,5,FALSE))","v":"--"},{"$f":"IF(ISBLANK(A76),\"--\",VLOOKUP(A76,Injuries_WorkMissed!$B$109:$G$863,6,FALSE))","v":"--"},null,null,{"$f":"MIN(DataExtract!$BP$3:$BP$1597)","v":0},{"$f":"_xlfn.PERCENTILE.EXC(DataExtract!$BP$3:$BP$1597,0.1)","v":0},{"$f":"_xlfn.PERCENTILE.EXC(DataExtract!$BP$3:$BP$1597,0.25)","v":0},{"$f":"AVERAGE(DataExtract!$BP$3:$BP$5302)","v":23.924716981132075},1.5,{"$f":"MODE(DataExtract!$BP$1598:$BP$5302)","v":0},{"$f":"_xlfn.PERCENTILE.EXC(DataExtract!$BP$3:$BP$5302,0.75)","v":5},{"$f":"_xlfn.PERCENTILE.EXC(DataExtract!$BP$3:$BP$5302,0.9)","v":92},{"$f":"MAX(DataExtract!$BP$3:$BP$5302)","v":365},{"$f":"COUNT(DataExtract!$BP$3:$BP$5302)","v":5300},{"$f":"MIN(DataExtract!$BO$3:$BO$1597)","v":1},{"$f":"_xlfn.PERCENTILE.EXC(DataExtract!$BO$3:$BO$1597,0.1)","v":3},{"$f":"_xlfn.PERCENTILE.EXC(DataExtract!$BO$3:$BO$1597,0.25)","v":8},{"$f":"AVERAGE(DataExtract!$BO$3:$BO$1597)","v":79.499059561128533},{"$f":"MEDIAN(DataExtract!$BO$3:$BO$1597)","v":46},{"$f":"MODE(DataExtract!$BO$3:$BO$1597)","v":180},{"$f":"_xlfn.PERCENTILE.EXC(DataExtract!$BO$3:$BO$1597,0.75)","v":132},{"$f":"_xlfn.PERCENTILE.EXC(DataExtract!$BO$3:$BO$1597,0.9)","v":202},{"$f":"MAX(DataExtract!$BO$3:$BO$1597,0.25)","v":365},{"$f":"COUNT(DataExtract!$BO$3:$BO$1597)","v":1595}]
[null,null,{"$f":"IF(ISBLANK(A77),\"--\",IF(B77=$I$14,I77,IF(B77=$J$14,J77,IF(B77=$K$14,K77,IF(B77=$L$14,L77,IF(B77=$N$14,N77,IF(B77=$M$14,M77,IF(B77='Dropdown Lists'!$O$23,Injuries_WorkMissed!N77,\"--\"))))))))","v":"--"},null,{"$f":"IF(ISBLANK(D77),\"--\",IF(D77='Dropdown Lists'!$K$37,P77,IF(D77='Dropdown Lists'!$K$38,Q77,IF(D77='Dropdown Lists'!$K$39,R77,IF(D77='Dropdown Lists'!$K$40,S77,IF(D77='Dropdown Lists'!$K$41,T77,IF(D77='Dropdown Lists'!$K$42,U77,IF(D77='Dropdown Lists'!$K$43,V77,IF(D77='Dropdown Lists'!$K$44,W77,IF(D77='Dropdown Lists'!$K$45,X77,IF(D77='Dropdown Lists'!$K$46,Z77,IF(D77='Dropdown Lists'!$K$47,AA77,IF(D77='Dropdown Lists'!$K$48,AB77,IF(D77='Dropdown Lists'!$K$49,AC77,IF(D77='Dropdown Lists'!$K$50,AD77,IF(D77='Dropdown Lists'!$K$51,AE77,IF(D77='Dropdown Lists'!$K$52,AF77,IF(D77='Dropdown Lists'!$K$53,AG77,IF(D77='Dropdown Lists'!$K$54,AH77,IF(D77='Dropdown Lists'!$K$55,AJ77,\"\"))))))))))))))))))))","v":"--"},null,"--",null,{"$f":"IF(ISBLANK(A77),\"--\",VLOOKUP(A77,Injuries_WorkMissed!$B$109:$G$863,2,FALSE))","v":"--"},{"$f":"IF(ISBLANK(A77),\"--\",VLOOKUP(A77,Injuries_WorkMissed!$B$109:$G$863,3,FALSE))","v":"--"},{"$f":"IF(ISBLANK(A77),\"--\",VLOOKUP(A77,Injuries_WorkMissed!$B$109:$G$863,4,FALSE))","v":"--"},{"$f":"IF(ISBLANK(A77),\"--\",VLOOKUP(A77,Injuries_WorkMissed!$B$109:$G$863,5,FALSE))","v":"--"},{"$f":"IF(ISBLANK(A77),\"--\",VLOOKUP(A77,Injuries_WorkMissed!$B$109:$G$863,6,FALSE))","v":"--"},null,null,{"$f":"MIN(DataExtract!$BP$3:$BP$1597)","v":0},{"$f":"_xlfn.PERCENTILE.EXC(DataExtract!$BP$3:$BP$1597,0.1)","v":0},{"$f":"_xlfn.PERCENTILE.EXC(DataExtract!$BP$3:$BP$1597,0.25)","v":0},{"$f":"AVERAGE(DataExtract!$BP$3:$BP$5302)","v":23.924716981132075},1.5,{"$f":"MODE(DataExtract!$BP$1598:$BP$5302)","v":0},{"$f":"_xlfn.PERCENTILE.EXC(DataExtract!$BP$3:$BP$5302,0.75)","v":5},{"$f":"_xlfn.PERCENTILE.EXC(DataExtract!$BP$3:$BP$5302,0.9)","v":92},{"$f":"MAX(DataExtract!$BP$3:$BP$5302)","v":365},{"$f":"COUNT(DataExtract!$BP$3:$BP$5302)","v":5300},{"$f":"MIN(DataExtract!$BO$3:$BO$1597)","v":1},{"$f":"_xlfn.PERCENTILE.EXC(DataExtract!$BO$3:$BO$1597,0.1)","v":3},{"$f":"_xlfn.PERCENTILE.EXC(DataExtract!$BO$3:$BO$1597,0.25)","v":8},{"$f":"AVERAGE(DataExtract!$BO$3:$BO$1597)","v":79.499059561128533},{"$f":"MEDIAN(DataExtract!$BO$3:$BO$1597)","v":46},{"$f":"MODE(DataExtract!$BO$3:$BO$1597)","v":180},{"$f":"_xlfn.PERCENTILE.EXC(DataExtract!$BO$3:$BO$1597,0.75)","v":132},{"$f":"_xlfn.PERCENTILE.EXC(DataExtract!$BO$3:$BO$1597,0.9)","v":202},{"$f":"MAX(DataExtract!$BO$3:$BO$1597,0.25)","v":365},{"$f":"COUNT(DataExtract!$BO$3:$BO$1597)","v":1595}]
[null,null,{"$f":"IF(ISBLANK(A78),\"--\",IF(B78=$I$14,I78,IF(B78=$J$14,J78,IF(B78=$K$14,K78,IF(B78=$L$14,L78,IF(B78=$N$14,N78,IF(B78=$M$14,M78,IF(B78='Dropdown Lists'!$O$23,Injuries_WorkMissed!N78,\"--\"))))))))","v":"--"},null,{"$f":"IF(ISBLANK(D78),\"--\",IF(D78='Dropdown Lists'!$K$37,P78,IF(D78='Dropdown Lists'!$K$38,Q78,IF(D78='Dropdown Lists'!$K$39,R78,IF(D78='Dropdown Lists'!$K$40,S78,IF(D78='Dropdown Lists'!$K$41,T78,IF(D78='Dropdown Lists'!$K$42,U78,IF(D78='Dropdown Lists'!$K$43,V78,IF(D78='Dropdown Lists'!$K$44,W78,IF(D78='Dropdown Lists'!$K$45,X78,IF(D78='Dropdown Lists'!$K$46,Z78,IF(D78='Dropdown Lists'!$K$47,AA78,IF(D78='Dropdown Lists'!$K$48,AB78,IF(D78='Dropdown Lists'!$K$49,AC78,IF(D78='Dropdown Lists'!$K$50,AD78,IF(D78='Dropdown Lists'!$K$51,AE78,IF(D78='Dropdown Lists'!$K$52,AF78,IF(D78='Dropdown Lists'!$K$53,AG78,IF(D78='Dropdown Lists'!$K$54,AH78,IF(D78='Dropdown Lists'!$K$55,AJ78,\"\"))))))))))))))))))))","v":"--"},null,"--",null,{"$f":"IF(ISBLANK(A78),\"--\",VLOOKUP(A78,Injuries_WorkMissed!$B$109:$G$863,2,FALSE))","v":"--"},{"$f":"IF(ISBLANK(A78),\"--\",VLOOKUP(A78,Injuries_WorkMissed!$B$109:$G$863,3,FALSE))","v":"--"},{"$f":"IF(ISBLANK(A78),\"--\",VLOOKUP(A78,Injuries_WorkMissed!$B$109:$G$863,4,FALSE))","v":"--"},{"$f":"IF(ISBLANK(A78),\"--\",VLOOKUP(A78,Injuries_WorkMissed!$B$109:$G$863,5,FALSE))","v":"--"},{"$f":"IF(ISBLANK(A78),\"--\",VLOOKUP(A78,Injuries_WorkMissed!$B$109:$G$863,6,FALSE))","v":"--"},null,null,{"$f":"MIN(DataExtract!$BP$3:$BP$1597)","v":0},{"$f":"_xlfn.PERCENTILE.EXC(DataExtract!$BP$3:$BP$1597,0.1)","v":0},{"$f":"_xlfn.PERCENTILE.EXC(DataExtract!$BP$3:$BP$1597,0.25)","v":0},{"$f":"AVERAGE(DataExtract!$BP$3:$BP$5302)","v":23.924716981132075},1.5,{"$f":"MODE(DataExtract!$BP$1598:$BP$5302)","v":0},{"$f":"_xlfn.PERCENTILE.EXC(DataExtract!$BP$3:$BP$5302,0.75)","v":5},{"$f":"_xlfn.PERCENTILE.EXC(DataExtract!$BP$3:$BP$5302,0.9)","v":92},{"$f":"MAX(DataExtract!$BP$3:$BP$5302)","v":365},{"$f":"COUNT(DataExtract!$BP$3:$BP$5302)","v":5300},{"$f":"MIN(DataExtract!$BO$3:$BO$1597)","v":1},{"$f":"_xlfn.PERCENTILE.EXC(DataExtract!$BO$3:$BO$1597,0.1)","v":3},{"$f":"_xlfn.PERCENTILE.EXC(DataExtract!$BO$3:$BO$1597,0.25)","v":8},{"$f":"AVERAGE(DataExtract!$BO$3:$BO$1597)","v":79.499059561128533},{"$f":"MEDIAN(DataExtract!$BO$3:$BO$1597)","v":46},{"$f":"MODE(DataExtract!$BO$3:$BO$1597)","v":180},{"$f":"_xlfn.PERCENTILE.EXC(DataExtract!$BO$3:$BO$1597,0.75)","v":132},{"$f":"_xlfn.PERCENTILE.EXC(DataExtract!$BO$3:$BO$1597,0.9)","v":202},{"$f":"MAX(DataExtract!$BO$3:$BO$1597,0.25)","v":365},{"$f":"COUNT(DataExtract!$BO$3:$BO$1597)","v":1595}]
[null,null,{"$f":"IF(ISBLANK(A79),\"--\",IF(B79=$I$14,I79,IF(B79=$J$14,J79,IF(B79=$K$14,K79,IF(B79=$L$14,L79,IF(B79=$N$14,N79,IF(B79=$M$14,M79,IF(B79='Dropdown Lists'!$O$23,Injuries_WorkMissed!N79,\"--\"))))))))","v":"--"},null,{"$f":"IF(ISBLANK(D79),\"--\",IF(D79='Dropdown Lists'!$K$37,P79,IF(D79='Dropdown Lists'!$K$38,Q79,IF(D79='Dropdown Lists'!$K$39,R79,IF(D79='Dropdown Lists'!$K$40,S79,IF(D79='Dropdown Lists'!$K$41,T79,IF(D79='Dropdown Lists'!$K$42,U79,IF(D79='Dropdown Lists'!$K$43,V79,IF(D79='Dropdown Lists'!$K$44,W79,IF(D79='Dropdown Lists'!$K$45,X79,IF(D79='Dropdown Lists'!$K$46,Z79,IF(D79='Dropdown Lists'!$K$47,AA79,IF(D79='Dropdown Lists'!$K$48,AB79,IF(D79='Dropdown Lists'!$K$49,AC79,IF(D79='Dropdown Lists'!$K$50,AD79,IF(D79='Dropdown Lists'!$K$51,AE79,IF(D79='Dropdown Lists'!$K$52,AF79,IF(D79='Dropdown Lists'!$K$53,AG79,IF(D79='Dropdown Lists'!$K$54,AH79,IF(D79='Dropdown Lists'!$K$55,AJ79,\"\"))))))))))))))))))))","v":"--"},null,"--",null,{"$f":"IF(ISBLANK(A79),\"--\",VLOOKUP(A79,Injuries_WorkMissed!$B$109:$G$863,2,FALSE))","v":"--"},{"$f":"IF(ISBLANK(A79),\"--\",VLOOKUP(A79,Injuries_WorkMissed!$B$109:$G$863,3,FALSE))","v":"--"},{"$f":"IF(ISBLANK(A79),\"--\",VLOOKUP(A79,Injuries_WorkMissed!$B$109:$G$863,4,FALSE))","v":"--"},{"$f":"IF(ISBLANK(A79),\"--\",VLOOKUP(A79,Injuries_WorkMissed!$B$109:$G$863,5,FALSE))","v":"--"},{"$f":"IF(ISBLANK(A79),\"--\",VLOOKUP(A79,Injuries_WorkMissed!$B$109:$G$863,6,FALSE))","v":"--"},null,null,{"$f":"MIN(DataExtract!$BP$3:$BP$1597)","v":0},{"$f":"_xlfn.PERCENTILE.EXC(DataExtract!$BP$3:$BP$1597,0.1)","v":0},{"$f":"_xlfn.PERCENTILE.EXC(DataExtract!$BP$3:$BP$1597,0.25)","v":0},{"$f":"AVERAGE(DataExtract!$BP$3:$BP$5302)","v":23.924716981132075},1.5,{"$f":"MODE(DataExtract!$BP$1598:$BP$5302)","v":0},{"$f":"_xlfn.PERCENTILE.EXC(DataExtract!$BP$3:$BP$5302,0.75)","v":5},{"$f":"_xlfn.PERCENTILE.EXC(DataExtract!$BP$3:$BP$5302,0.9)","v":92},{"$f":"MAX(DataExtract!$BP$3:$BP$5302)","v":365},{"$f":"COUNT(DataExtract!$BP$3:$BP$5302)","v":5300},{"$f":"MIN(DataExtract!$BO$3:$BO$1597)","v":1},{"$f":"_xlfn.PERCENTILE.EXC(DataExtract!$BO$3:$BO$1597,0.1)","v":3},{"$f":"_xlfn.PERCENTILE.EXC(DataExtract!$BO$3:$BO$1597,0.25)","v":8},{"$f":"AVERAGE(DataExtract!$BO$3:$BO$1597)","v":79.499059561128533},{"$f":"MEDIAN(DataExtract!$BO$3:$BO$1597)","v":46},{"$f":"MODE(DataExtract!$BO$3:$BO$1597)","v":180},{"$f":"_xlfn.PERCENTILE.EXC(DataExtract!$BO$3:$BO$1597,0.75)","v":132},{"$f":"_xlfn.PERCENTILE.EXC(DataExtract!$BO$3:$BO$1597,0.9)","v":202},{"$f":"MAX(DataExtract!$BO$3:$BO$1597,0.25)","v":365},{"$f":"COUNT(DataExtract!$BO$3:$BO$1597)","v":1595}]
[null,null,{"$f":"IF(ISBLANK(A80),\"--\",IF(B80=$I$14,I80,IF(B80=$J$14,J80,IF(B80=$K$14,K80,IF(B80=$L$14,L80,IF(B80=$N$14,N80,IF(B80=$M$14,M80,IF(B80='Dropdown Lists'!$O$23,Injuries_WorkMissed!N80,\"--\"))))))))","v":"--"},null,{"$f":"IF(ISBLANK(D80),\"--\",IF(D80='Dropdown Lists'!$K$37,P80,IF(D80='Dropdown Lists'!$K$38,Q80,IF(D80='Dropdown Lists'!$K$39,R80,IF(D80='Dropdown Lists'!$K$40,S80,IF(D80='Dropdown Lists'!$K$41,T80,IF(D80='Dropdown Lists'!$K$42,U80,IF(D80='Dropdown Lists'!$K$43,V80,IF(D80='Dropdown Lists'!$K$44,W80,IF(D80='Dropdown Lists'!$K$45,X80,IF(D80='Dropdown Lists'!$K$46,Z80,IF(D80='Dropdown Lists'!$K$47,AA80,IF(D80='Dropdown Lists'!$K$48,AB80,IF(D80='Dropdown Lists'!$K$49,AC80,IF(D80='Dropdown Lists'!$K$50,AD80,IF(D80='Dropdown Lists'!$K$51,AE80,IF(D80='Dropdown Lists'!$K$52,AF80,IF(D80='Dropdown Lists'!$K$53,AG80,IF(D80='Dropdown Lists'!$K$54,AH80,IF(D80='Dropdown Lists'!$K$55,AJ80,\"\"))))))))))))))))))))","v":"--"},null,{"$f":"IF(ISBLANK(F80),\"--\",(C80*(E80*8)*F80))","v":"--"},null,{"$f":"IF(ISBLANK(A80),\"--\",VLOOKUP(A80,Injuries_WorkMissed!$B$109:$G$863,2,FALSE))","v":"--"},{"$f":"IF(ISBLANK(A80),\"--\",VLOOKUP(A80,Injuries_WorkMissed!$B$109:$G$863,3,FALSE))","v":"--"},{"$f":"IF(ISBLANK(A80),\"--\",VLOOKUP(A80,Injuries_WorkMissed!$B$109:$G$863,4,FALSE))","v":"--"},{"$f":"IF(ISBLANK(A80),\"--\",VLOOKUP(A80,Injuries_WorkMissed!$B$109:$G$863,5,FALSE))","v":"--"},{"$f":"IF(ISBLANK(A80),\"--\",VLOOKUP(A80,Injuries_WorkMissed!$B$109:$G$863,6,FALSE))","v":"--"},null,null,{"$f":"MIN(DataExtract!$BP$3:$BP$1597)","v":0},{"$f":"_xlfn.PERCENTILE.EXC(DataExtract!$BP$3:$BP$1597,0.1)","v":0},{"$f":"_xlfn.PERCENTILE.EXC(DataExtract!$BP$3:$BP$1597,0.25)","v":0},{"$f":"AVERAGE(DataExtract!$BP$3:$BP$5302)","v":23.924716981132075},1.5,{"$f":"MODE(DataExtract!$BP$1598:$BP$5302)","v":0},{"$f":"_xlfn.PERCENTILE.EXC(DataExtract!$BP$3:$BP$5302,0.75)","v":5},{"$f":"_xlfn.PERCENTILE.EXC(DataExtract!$BP$3:$BP$5302,0.9)","v":92},{"$f":"MAX(DataExtract!$BP$3:$BP$5302)","v":365},{"$f":"COUNT(DataExtract!$BP$3:$BP$5302)","v":5300},{"$f":"MIN(DataExtract!$BO$3:$BO$1597)","v":1},{"$f":"_xlfn.PERCENTILE.EXC(DataExtract!$BO$3:$BO$1597,0.1)","v":3},{"$f":"_xlfn.PERCENTILE.EXC(DataExtract!$BO$3:$BO$1597,0.25)","v":8},{"$f":"AVERAGE(DataExtract!$BO$3:$BO$1597)","v":79.499059561128533},{"$f":"MEDIAN(DataExtract!$BO$3:$BO$1597)","v":46},{"$f":"MODE(DataExtract!$BO$3:$BO$1597)","v":180},{"$f":"_xlfn.PERCENTILE.EXC(DataExtract!$BO$3:$BO$1597,0.75)","v":132},{"$f":"_xlfn.PERCENTILE.EXC(DataExtract!$BO$3:$BO$1597,0.9)","v":202},{"$f":"MAX(DataExtract!$BO$3:$BO$1597,0.25)","v":365},{"$f":"COUNT(DataExtract!$BO$3:$BO$1597)","v":1595}]
[null,null,{"$f":"IF(ISBLANK(A81),\"--\",IF(B81=$I$14,I81,IF(B81=$J$14,J81,IF(B81=$K$14,K81,IF(B81=$L$14,L81,IF(B81=$N$14,N81,IF(B81=$M$14,M81,IF(B81='Dropdown Lists'!$O$23,Injuries_WorkMissed!N81,\"--\"))))))))","v":"--"},null,{"$f":"IF(ISBLANK(D81),\"--\",IF(D81='Dropdown Lists'!$K$37,P81,IF(D81='Dropdown Lists'!$K$38,Q81,IF(D81='Dropdown Lists'!$K$39,R81,IF(D81='Dropdown Lists'!$K$40,S81,IF(D81='Dropdown Lists'!$K$41,T81,IF(D81='Dropdown Lists'!$K$42,U81,IF(D81='Dropdown Lists'!$K$43,V81,IF(D81='Dropdown Lists'!$K$44,W81,IF(D81='Dropdown Lists'!$K$45,X81,IF(D81='Dropdown Lists'!$K$46,Z81,IF(D81='Dropdown Lists'!$K$47,AA81,IF(D81='Dropdown Lists'!$K$48,AB81,IF(D81='Dropdown Lists'!$K$49,AC81,IF(D81='Dropdown Lists'!$K$50,AD81,IF(D81='Dropdown Lists'!$K$51,AE81,IF(D81='Dropdown Lists'!$K$52,AF81,IF(D81='Dropdown Lists'!$K$53,AG81,IF(D81='Dropdown Lists'!$K$54,AH81,IF(D81='Dropdown Lists'!$K$55,AJ81,\"\"))))))))))))))))))))","v":"--"},null,"--",null,{"$f":"IF(ISBLANK(A81),\"--\",VLOOKUP(A81,Injuries_WorkMissed!$B$109:$G$863,2,FALSE))","v":"--"},{"$f":"IF(ISBLANK(A81),\"--\",VLOOKUP(A81,Injuries_WorkMissed!$B$109:$G$863,3,FALSE))","v":"--"},{"$f":"IF(ISBLANK(A81),\"--\",VLOOKUP(A81,Injuries_WorkMissed!$B$109:$G$863,4,FALSE))","v":"--"},{"$f":"IF(ISBLANK(A81),\"--\",VLOOKUP(A81,Injuries_WorkMissed!$B$109:$G$863,5,FALSE))","v":"--"},{"$f":"IF(ISBLANK(A81),\"--\",VLOOKUP(A81,Injuries_WorkMissed!$B$109:$G$863,6,FALSE))","v":"--"},null,null,{"$f":"MIN(DataExtract!$BP$3:$BP$1597)","v":0},{"$f":"_xlfn.PERCENTILE.EXC(DataExtract!$BP$3:$BP$1597,0.1)","v":0},{"$f":"_xlfn.PERCENTILE.EXC(DataExtract!$BP$3:$BP$1597,0.25)","v":0},{"$f":"AVERAGE(DataExtract!$BP$3:$BP$5302)","v":23.924716981132075},1.5,{"$f":"MODE(DataExtract!$BP$1598:$BP$5302)","v":0},{"$f":"_xlfn.PERCENTILE.EXC(DataExtract!$BP$3:$BP$5302,0.75)","v":5},{"$f":"_xlfn.PERCENTILE.EXC(DataExtract!$BP$3:$BP$5302,0.9)","v":92},{"$f":"MAX(DataExtract!$BP$3:$BP$5302)","v":365},{"$f":"COUNT(DataExtract!$BP$3:$BP$5302)","v":5300},{"$f":"MIN(DataExtract!$BO$3:$BO$1597)","v":1},{"$f":"_xlfn.PERCENTILE.EXC(DataExtract!$BO$3:$BO$1597,0.1)","v":3},{"$f":"_xlfn.PERCENTILE.EXC(DataExtract!$BO$3:$BO$1597,0.25)","v":8},{"$f":"AVERAGE(DataExtract!$BO$3:$BO$1597)","v":79.499059561128533},{"$f":"MEDIAN(DataExtract!$BO$3:$BO$1597)","v":46},{"$f":"MODE(DataExtract!$BO$3:$BO$1597)","v":180},{"$f":"_xlfn.PERCENTILE.EXC(DataExtract!$BO$3:$BO$1597,0.75)","v":132},{"$f":"_xlfn.PERCENTILE.EXC(DataExtract!$BO$3:$BO$1597,0.9)","v":202},{"$f":"MAX(DataExtract!$BO$3:$BO$1597,0.25)","v":365},{"$f":"COUNT(DataExtract!$BO$3:$BO$1597)","v":1595}]
[null,null,{"$f":"IF(ISBLANK(A82),\"--\",IF(B82=$I$14,I82,IF(B82=$J$14,J82,IF(B82=$K$14,K82,IF(B82=$L$14,L82,IF(B82=$N$14,N82,IF(B82=$M$14,M82,IF(B82='Dropdown Lists'!$O$23,Injuries_WorkMissed!N82,\"--\"))))))))","v":"--"},null,{"$f":"IF(ISBLANK(D82),\"--\",IF(D82='Dropdown Lists'!$K$37,P82,IF(D82='Dropdown Lists'!$K$38,Q82,IF(D82='Dropdown Lists'!$K$39,R82,IF(D82='Dropdown Lists'!$K$40,S82,IF(D82='Dropdown Lists'!$K$41,T82,IF(D82='Dropdown Lists'!$K$42,U82,IF(D82='Dropdown Lists'!$K$43,V82,IF(D82='Dropdown Lists'!$K$44,W82,IF(D82='Dropdown Lists'!$K$45,X82,IF(D82='Dropdown Lists'!$K$46,Z82,IF(D82='Dropdown Lists'!$K$47,AA82,IF(D82='Dropdown Lists'!$K$48,AB82,IF(D82='Dropdown Lists'!$K$49,AC82,IF(D82='Dropdown Lists'!$K$50,AD82,IF(D82='Dropdown Lists'!$K$51,AE82,IF(D82='Dropdown Lists'!$K$52,AF82,IF(D82='Dropdown Lists'!$K$53,AG82,IF(D82='Dropdown Lists'!$K$54,AH82,IF(D82='Dropdown Lists'!$K$55,AJ82,\"\"))))))))))))))))))))","v":"--"},null,"--",null,{"$f":"IF(ISBLANK(A82),\"--\",VLOOKUP(A82,Injuries_WorkMissed!$B$109:$G$863,2,FALSE))","v":"--"},{"$f":"IF(ISBLANK(A82),\"--\",VLOOKUP(A82,Injuries_WorkMissed!$B$109:$G$863,3,FALSE))","v":"--"},{"$f":"IF(ISBLANK(A82),\"--\",VLOOKUP(A82,Injuries_WorkMissed!$B$109:$G$863,4,FALSE))","v":"--"},{"$f":"IF(ISBLANK(A82),\"--\",VLOOKUP(A82,Injuries_WorkMissed!$B$109:$G$863,5,FALSE))","v":"--"},{"$f":"IF(ISBLANK(A82),\"--\",VLOOKUP(A82,Injuries_WorkMissed!$B$109:$G$863,6,FALSE))","v":"--"},null,null,{"$f":"MIN(DataExtract!$BP$3:$BP$1597)","v":0},{"$f":"_xlfn.PERCENTILE.EXC(DataExtract!$BP$3:$BP$1597,0.1)","v":0},{"$f":"_xlfn.PERCENTILE.EXC(DataExtract!$BP$3:$BP$1597,0.25)","v":0},{"$f":"AVERAGE(DataExtract!$BP$3:$BP$5302)","v":23.924716981132075},1.5,{"$f":"MODE(DataExtract!$BP$1598:$BP$5302)","v":0},{"$f":"_xlfn.PERCENTILE.EXC(DataExtract!$BP$3:$BP$5302,0.75)","v":5},{"$f":"_xlfn.PERCENTILE.EXC(DataExtract!$BP$3:$BP$5302,0.9)","v":92},{"$f":"MAX(DataExtract!$BP$3:$BP$5302)","v":365},{"$f":"COUNT(DataExtract!$BP$3:$BP$5302)","v":5300},{"$f":"MIN(DataExtract!$BO$3:$BO$1597)","v":1},{"$f":"_xlfn.PERCENTILE.EXC(DataExtract!$BO$3:$BO$1597,0.1)","v":3},{"$f":"_xlfn.PERCENTILE.EXC(DataExtract!$BO$3:$BO$1597,0.25)","v":8},{"$f":"AVERAGE(DataExtract!$BO$3:$BO$1597)","v":79.499059561128533},{"$f":"MEDIAN(DataExtract!$BO$3:$BO$1597)","v":46},{"$f":"MODE(DataExtract!$BO$3:$BO$1597)","v":180},{"$f":"_xlfn.PERCENTILE.EXC(DataExtract!$BO$3:$BO$1597,0.75)","v":132},{"$f":"_xlfn.PERCENTILE.EXC(DataExtract!$BO$3:$BO$1597,0.9)","v":202},{"$f":"MAX(DataExtract!$BO$3:$BO$1597,0.25)","v":365},{"$f":"COUNT(DataExtract!$BO$3:$BO$1597)","v":1595}]
[null,null,{"$f":"IF(ISBLANK(A83),\"--\",IF(B83=$I$14,I83,IF(B83=$J$14,J83,IF(B83=$K$14,K83,IF(B83=$L$14,L83,IF(B83=$N$14,N83,IF(B83=$M$14,M83,IF(B83='Dropdown Lists'!$O$23,Injuries_WorkMissed!N83,\"--\"))))))))","v":"--"},null,{"$f":"IF(ISBLANK(D83),\"--\",IF(D83='Dropdown Lists'!$K$37,P83,IF(D83='Dropdown Lists'!$K$38,Q83,IF(D83='Dropdown Lists'!$K$39,R83,IF(D83='Dropdown Lists'!$K$40,S83,IF(D83='Dropdown Lists'!$K$41,T83,IF(D83='Dropdown Lists'!$K$42,U83,IF(D83='Dropdown Lists'!$K$43,V83,IF(D83='Dropdown Lists'!$K$44,W83,IF(D83='Dropdown Lists'!$K$45,X83,IF(D83='Dropdown Lists'!$K$46,Z83,IF(D83='Dropdown Lists'!$K$47,AA83,IF(D83='Dropdown Lists'!$K$48,AB83,IF(D83='Dropdown Lists'!$K$49,AC83,IF(D83='Dropdown Lists'!$K$50,AD83,IF(D83='Dropdown Lists'!$K$51,AE83,IF(D83='Dropdown Lists'!$K$52,AF83,IF(D83='Dropdown Lists'!$K$53,AG83,IF(D83='Dropdown Lists'!$K$54,AH83,IF(D83='Dropdown Lists'!$K$55,AJ83,\"\"))))))))))))))))))))","v":"--"},null,"--",null,{"$f":"IF(ISBLANK(A83),\"--\",VLOOKUP(A83,Injuries_WorkMissed!$B$109:$G$863,2,FALSE))","v":"--"},{"$f":"IF(ISBLANK(A83),\"--\",VLOOKUP(A83,Injuries_WorkMissed!$B$109:$G$863,3,FALSE))","v":"--"},{"$f":"IF(ISBLANK(A83),\"--\",VLOOKUP(A83,Injuries_WorkMissed!$B$109:$G$863,4,FALSE))","v":"--"},{"$f":"IF(ISBLANK(A83),\"--\",VLOOKUP(A83,Injuries_WorkMissed!$B$109:$G$863,5,FALSE))","v":"--"},{"$f":"IF(ISBLANK(A83),\"--\",VLOOKUP(A83,Injuries_WorkMissed!$B$109:$G$863,6,FALSE))","v":"--"},null,null,{"$f":"MIN(DataExtract!$BP$3:$BP$1597)","v":0},{"$f":"_xlfn.PERCENTILE.EXC(DataExtract!$BP$3:$BP$1597,0.1)","v":0},{"$f":"_xlfn.PERCENTILE.EXC(DataExtract!$BP$3:$BP$1597,0.25)","v":0},{"$f":"AVERAGE(DataExtract!$BP$3:$BP$5302)","v":23.924716981132075},1.5,{"$f":"MODE(DataExtract!$BP$1598:$BP$5302)","v":0},{"$f":"_xlfn.PERCENTILE.EXC(DataExtract!$BP$3:$BP$5302,0.75)","v":5},{"$f":"_xlfn.PERCENTILE.EXC(DataExtract!$BP$3:$BP$5302,0.9)","v":92},{"$f":"MAX(DataExtract!$BP$3:$BP$5302)","v":365},{"$f":"COUNT(DataExtract!$BP$3:$BP$5302)","v":5300},{"$f":"MIN(DataExtract!$BO$3:$BO$1597)","v":1},{"$f":"_xlfn.PERCENTILE.EXC(DataExtract!$BO$3:$BO$1597,0.1)","v":3},{"$f":"_xlfn.PERCENTILE.EXC(DataExtract!$BO$3:$BO$1597,0.25)","v":8},{"$f":"AVERAGE(DataExtract!$BO$3:$BO$1597)","v":79.499059561128533},{"$f":"MEDIAN(DataExtract!$BO$3:$BO$1597)","v":46},{"$f":"MODE(DataExtract!$BO$3:$BO$1597)","v":180},{"$f":"_xlfn.PERCENTILE.EXC(DataExtract!$BO$3:$BO$1597,0.75)","v":132},{"$f":"_xlfn.PERCENTILE.EXC(DataExtract!$BO$3:$BO$1597,0.9)","v":202},{"$f":"MAX(DataExtract!$BO$3:$BO$1597,0.25)","v":365},{"$f":"COUNT(DataExtract!$BO$3:$BO$1597)","v":1595}]
[null,null,{"$f":"IF(ISBLANK(A84),\"--\",IF(B84=$I$14,I84,IF(B84=$J$14,J84,IF(B84=$K$14,K84,IF(B84=$L$14,L84,IF(B84=$N$14,N84,IF(B84=$M$14,M84,IF(B84='Dropdown Lists'!$O$23,Injuries_WorkMissed!N84,\"--\"))))))))","v":"--"},null,{"$f":"IF(ISBLANK(D84),\"--\",IF(D84='Dropdown Lists'!$K$37,P84,IF(D84='Dropdown Lists'!$K$38,Q84,IF(D84='Dropdown Lists'!$K$39,R84,IF(D84='Dropdown Lists'!$K$40,S84,IF(D84='Dropdown Lists'!$K$41,T84,IF(D84='Dropdown Lists'!$K$42,U84,IF(D84='Dropdown Lists'!$K$43,V84,IF(D84='Dropdown Lists'!$K$44,W84,IF(D84='Dropdown Lists'!$K$45,X84,IF(D84='Dropdown Lists'!$K$46,Z84,IF(D84='Dropdown Lists'!$K$47,AA84,IF(D84='Dropdown Lists'!$K$48,AB84,IF(D84='Dropdown Lists'!$K$49,AC84,IF(D84='Dropdown Lists'!$K$50,AD84,IF(D84='Dropdown Lists'!$K$51,AE84,IF(D84='Dropdown Lists'!$K$52,AF84,IF(D84='Dropdown Lists'!$K$53,AG84,IF(D84='Dropdown Lists'!$K$54,AH84,IF(D84='Dropdown Lists'!$K$55,AJ84,\"\"))))))))))))))))))))","v":"--"},null,"--",null,{"$f":"IF(ISBLANK(A84),\"--\",VLOOKUP(A84,Injuries_WorkMissed!$B$109:$G$863,2,FALSE))","v":"--"},{"$f":"IF(ISBLANK(A84),\"--\",VLOOKUP(A84,Injuries_WorkMissed!$B$109:$G$863,3,FALSE))","v":"--"},{"$f":"IF(ISBLANK(A84),\"--\",VLOOKUP(A84,Injuries_WorkMissed!$B$109:$G$863,4,FALSE))","v":"--"},{"$f":"IF(ISBLANK(A84),\"--\",VLOOKUP(A84,Injuries_WorkMissed!$B$109:$G$863,5,FALSE))","v":"--"},{"$f":"IF(ISBLANK(A84),\"--\",VLOOKUP(A84,Injuries_WorkMissed!$B$109:$G$863,6,FALSE))","v":"--"},null,null,{"$f":"MIN(DataExtract!$BP$3:$BP$1597)","v":0},{"$f":"_xlfn.PERCENTILE.EXC(DataExtract!$BP$3:$BP$1597,0.1)","v":0},{"$f":"_xlfn.PERCENTILE.EXC(DataExtract!$BP$3:$BP$1597,0.25)","v":0},{"$f":"AVERAGE(DataExtract!$BP$3:$BP$5302)","v":23.924716981132075},1.5,{"$f":"MODE(DataExtract!$BP$1598:$BP$5302)","v":0},{"$f":"_xlfn.PERCENTILE.EXC(DataExtract!$BP$3:$BP$5302,0.75)","v":5},{"$f":"_xlfn.PERCENTILE.EXC(DataExtract!$BP$3:$BP$5302,0.9)","v":92},{"$f":"MAX(DataExtract!$BP$3:$BP$5302)","v":365},{"$f":"COUNT(DataExtract!$BP$3:$BP$5302)","v":5300},{"$f":"MIN(DataExtract!$BO$3:$BO$1597)","v":1},{"$f":"_xlfn.PERCENTILE.EXC(DataExtract!$BO$3:$BO$1597,0.1)","v":3},{"$f":"_xlfn.PERCENTILE.EXC(DataExtract!$BO$3:$BO$1597,0.25)","v":8},{"$f":"AVERAGE(DataExtract!$BO$3:$BO$1597)","v":79.499059561128533},{"$f":"MEDIAN(DataExtract!$BO$3:$BO$1597)","v":46},{"$f":"MODE(DataExtract!$BO$3:$BO$1597)","v":180},{"$f":"_xlfn.PERCENTILE.EXC(DataExtract!$BO$3:$BO$1597,0.75)","v":132},{"$f":"_xlfn.PERCENTILE.EXC(DataExtract!$BO$3:$BO$1597,0.9)","v":202},{"$f":"MAX(DataExtract!$BO$3:$BO$1597,0.25)","v":365},{"$f":"COUNT(DataExtract!$BO$3:$BO$1597)","v":1595}]
[null,null,{"$f":"IF(ISBLANK(A85),\"--\",IF(B85=$I$14,I85,IF(B85=$J$14,J85,IF(B85=$K$14,K85,IF(B85=$L$14,L85,IF(B85=$N$14,N85,IF(B85=$M$14,M85,IF(B85='Dropdown Lists'!$O$23,Injuries_WorkMissed!N85,\"--\"))))))))","v":"--"},null,{"$f":"IF(ISBLANK(D85),\"--\",IF(D85='Dropdown Lists'!$K$37,P85,IF(D85='Dropdown Lists'!$K$38,Q85,IF(D85='Dropdown Lists'!$K$39,R85,IF(D85='Dropdown Lists'!$K$40,S85,IF(D85='Dropdown Lists'!$K$41,T85,IF(D85='Dropdown Lists'!$K$42,U85,IF(D85='Dropdown Lists'!$K$43,V85,IF(D85='Dropdown Lists'!$K$44,W85,IF(D85='Dropdown Lists'!$K$45,X85,IF(D85='Dropdown Lists'!$K$46,Z85,IF(D85='Dropdown Lists'!$K$47,AA85,IF(D85='Dropdown Lists'!$K$48,AB85,IF(D85='Dropdown Lists'!$K$49,AC85,IF(D85='Dropdown Lists'!$K$50,AD85,IF(D85='Dropdown Lists'!$K$51,AE85,IF(D85='Dropdown Lists'!$K$52,AF85,IF(D85='Dropdown Lists'!$K$53,AG85,IF(D85='Dropdown Lists'!$K$54,AH85,IF(D85='Dropdown Lists'!$K$55,AJ85,\"\"))))))))))))))))))))","v":"--"},null,"--",null,{"$f":"IF(ISBLANK(A85),\"--\",VLOOKUP(A85,Injuries_WorkMissed!$B$109:$G$863,2,FALSE))","v":"--"},{"$f":"IF(ISBLANK(A85),\"--\",VLOOKUP(A85,Injuries_WorkMissed!$B$109:$G$863,3,FALSE))","v":"--"},{"$f":"IF(ISBLANK(A85),\"--\",VLOOKUP(A85,Injuries_WorkMissed!$B$109:$G$863,4,FALSE))","v":"--"},{"$f":"IF(ISBLANK(A85),\"--\",VLOOKUP(A85,Injuries_WorkMissed!$B$109:$G$863,5,FALSE))","v":"--"},{"$f":"IF(ISBLANK(A85),\"--\",VLOOKUP(A85,Injuries_WorkMissed!$B$109:$G$863,6,FALSE))","v":"--"},null,null,{"$f":"MIN(DataExtract!$BP$3:$BP$1597)","v":0},{"$f":"_xlfn.PERCENTILE.EXC(DataExtract!$BP$3:$BP$1597,0.1)","v":0},{"$f":"_xlfn.PERCENTILE.EXC(DataExtract!$BP$3:$BP$1597,0.25)","v":0},{"$f":"AVERAGE(DataExtract!$BP$3:$BP$5302)","v":23.924716981132075},1.5,{"$f":"MODE(DataExtract!$BP$1598:$BP$5302)","v":0},{"$f":"_xlfn.PERCENTILE.EXC(DataExtract!$BP$3:$BP$5302,0.75)","v":5},{"$f":"_xlfn.PERCENTILE.EXC(DataExtract!$BP$3:$BP$5302,0.9)","v":92},{"$f":"MAX(DataExtract!$BP$3:$BP$5302)","v":365},{"$f":"COUNT(DataExtract!$BP$3:$BP$5302)","v":5300},{"$f":"MIN(DataExtract!$BO$3:$BO$1597)","v":1},{"$f":"_xlfn.PERCENTILE.EXC(DataExtract!$BO$3:$BO$1597,0.1)","v":3},{"$f":"_xlfn.PERCENTILE.EXC(DataExtract!$BO$3:$BO$1597,0.25)","v":8},{"$f":"AVERAGE(DataExtract!$BO$3:$BO$1597)","v":79.499059561128533},{"$f":"MEDIAN(DataExtract!$BO$3:$BO$1597)","v":46},{"$f":"MODE(DataExtract!$BO$3:$BO$1597)","v":180},{"$f":"_xlfn.PERCENTILE.EXC(DataExtract!$BO$3:$BO$1597,0.75)","v":132},{"$f":"_xlfn.PERCENTILE.EXC(DataExtract!$BO$3:$BO$1597,0.9)","v":202},{"$f":"MAX(DataExtract!$BO$3:$BO$1597,0.25)","v":365},{"$f":"COUNT(DataExtract!$BO$3:$BO$1597)","v":1595}]
[null,null,{"$f":"IF(ISBLANK(A86),\"--\",IF(B86=$I$14,I86,IF(B86=$J$14,J86,IF(B86=$K$14,K86,IF(B86=$L$14,L86,IF(B86=$N$14,N86,IF(B86=$M$14,M86,IF(B86='Dropdown Lists'!$O$23,Injuries_WorkMissed!N86,\"--\"))))))))","v":"--"},null,{"$f":"IF(ISBLANK(D86),\"--\",IF(D86='Dropdown Lists'!$K$37,P86,IF(D86='Dropdown Lists'!$K$38,Q86,IF(D86='Dropdown Lists'!$K$39,R86,IF(D86='Dropdown Lists'!$K$40,S86,IF(D86='Dropdown Lists'!$K$41,T86,IF(D86='Dropdown Lists'!$K$42,U86,IF(D86='Dropdown Lists'!$K$43,V86,IF(D86='Dropdown Lists'!$K$44,W86,IF(D86='Dropdown Lists'!$K$45,X86,IF(D86='Dropdown Lists'!$K$46,Z86,IF(D86='Dropdown Lists'!$K$47,AA86,IF(D86='Dropdown Lists'!$K$48,AB86,IF(D86='Dropdown Lists'!$K$49,AC86,IF(D86='Dropdown Lists'!$K$50,AD86,IF(D86='Dropdown Lists'!$K$51,AE86,IF(D86='Dropdown Lists'!$K$52,AF86,IF(D86='Dropdown Lists'!$K$53,AG86,IF(D86='Dropdown Lists'!$K$54,AH86,IF(D86='Dropdown Lists'!$K$55,AJ86,\"\"))))))))))))))))))))","v":"--"},null,"--",null,{"$f":"IF(ISBLANK(A86),\"--\",VLOOKUP(A86,Injuries_WorkMissed!$B$109:$G$863,2,FALSE))","v":"--"},{"$f":"IF(ISBLANK(A86),\"--\",VLOOKUP(A86,Injuries_WorkMissed!$B$109:$G$863,3,FALSE))","v":"--"},{"$f":"IF(ISBLANK(A86),\"--\",VLOOKUP(A86,Injuries_WorkMissed!$B$109:$G$863,4,FALSE))","v":"--"},{"$f":"IF(ISBLANK(A86),\"--\",VLOOKUP(A86,Injuries_WorkMissed!$B$109:$G$863,5,FALSE))","v":"--"},{"$f":"IF(ISBLANK(A86),\"--\",VLOOKUP(A86,Injuries_WorkMissed!$B$109:$G$863,6,FALSE))","v":"--"},null,null,{"$f":"MIN(DataExtract!$BP$3:$BP$1597)","v":0},{"$f":"_xlfn.PERCENTILE.EXC(DataExtract!$BP$3:$BP$1597,0.1)","v":0},{"$f":"_xlfn.PERCENTILE.EXC(DataExtract!$BP$3:$BP$1597,0.25)","v":0},{"$f":"AVERAGE(DataExtract!$BP$3:$BP$5302)","v":23.924716981132075},1.5,{"$f":"MODE(DataExtract!$BP$1598:$BP$5302)","v":0},{"$f":"_xlfn.PERCENTILE.EXC(DataExtract!$BP$3:$BP$5302,0.75)","v":5},{"$f":"_xlfn.PERCENTILE.EXC(DataExtract!$BP$3:$BP$5302,0.9)","v":92},{"$f":"MAX(DataExtract!$BP$3:$BP$5302)","v":365},{"$f":"COUNT(DataExtract!$BP$3:$BP$5302)","v":5300},{"$f":"MIN(DataExtract!$BO$3:$BO$1597)","v":1},{"$f":"_xlfn.PERCENTILE.EXC(DataExtract!$BO$3:$BO$1597,0.1)","v":3},{"$f":"_xlfn.PERCENTILE.EXC(DataExtract!$BO$3:$BO$1597,0.25)","v":8},{"$f":"AVERAGE(DataExtract!$BO$3:$BO$1597)","v":79.499059561128533},{"$f":"MEDIAN(DataExtract!$BO$3:$BO$1597)","v":46},{"$f":"MODE(DataExtract!$BO$3:$BO$1597)","v":180},{"$f":"_xlfn.PERCENTILE.EXC(DataExtract!$BO$3:$BO$1597,0.75)","v":132},{"$f":"_xlfn.PERCENTILE.EXC(DataExtract!$BO$3:$BO$1597,0.9)","v":202},{"$f":"MAX(DataExtract!$BO$3:$BO$1597,0.25)","v":365},{"$f":"COUNT(DataExtract!$BO$3:$BO$1597)","v":1595}]
[null,null,{"$f":"IF(ISBLANK(A87),\"--\",IF(B87=$I$14,I87,IF(B87=$J$14,J87,IF(B87=$K$14,K87,IF(B87=$L$14,L87,IF(B87=$N$14,N87,IF(B87=$M$14,M87,IF(B87='Dropdown Lists'!$O$23,Injuries_WorkMissed!N87,\"--\"))))))))","v":"--"},null,{"$f":"IF(ISBLANK(D87),\"--\",IF(D87='Dropdown Lists'!$K$37,P87,IF(D87='Dropdown Lists'!$K$38,Q87,IF(D87='Dropdown Lists'!$K$39,R87,IF(D87='Dropdown Lists'!$K$40,S87,IF(D87='Dropdown Lists'!$K$41,T87,IF(D87='Dropdown Lists'!$K$42,U87,IF(D87='Dropdown Lists'!$K$43,V87,IF(D87='Dropdown Lists'!$K$44,W87,IF(D87='Dropdown Lists'!$K$45,X87,IF(D87='Dropdown Lists'!$K$46,Z87,IF(D87='Dropdown Lists'!$K$47,AA87,IF(D87='Dropdown Lists'!$K$48,AB87,IF(D87='Dropdown Lists'!$K$49,AC87,IF(D87='Dropdown Lists'!$K$50,AD87,IF(D87='Dropdown Lists'!$K$51,AE87,IF(D87='Dropdown Lists'!$K$52,AF87,IF(D87='Dropdown Lists'!$K$53,AG87,IF(D87='Dropdown Lists'!$K$54,AH87,IF(D87='Dropdown Lists'!$K$55,AJ87,\"\"))))))))))))))))))))","v":"--"},null,"--",null,{"$f":"IF(ISBLANK(A87),\"--\",VLOOKUP(A87,Injuries_WorkMissed!$B$109:$G$863,2,FALSE))","v":"--"},{"$f":"IF(ISBLANK(A87),\"--\",VLOOKUP(A87,Injuries_WorkMissed!$B$109:$G$863,3,FALSE))","v":"--"},{"$f":"IF(ISBLANK(A87),\"--\",VLOOKUP(A87,Injuries_WorkMissed!$B$109:$G$863,4,FALSE))","v":"--"},{"$f":"IF(ISBLANK(A87),\"--\",VLOOKUP(A87,Injuries_WorkMissed!$B$109:$G$863,5,FALSE))","v":"--"},{"$f":"IF(ISBLANK(A87),\"--\",VLOOKUP(A87,Injuries_WorkMissed!$B$109:$G$863,6,FALSE))","v":"--"},null,null,{"$f":"MIN(DataExtract!$BP$3:$BP$1597)","v":0},{"$f":"_xlfn.PERCENTILE.EXC(DataExtract!$BP$3:$BP$1597,0.1)","v":0},{"$f":"_xlfn.PERCENTILE.EXC(DataExtract!$BP$3:$BP$1597,0.25)","v":0},{"$f":"AVERAGE(DataExtract!$BP$3:$BP$5302)","v":23.924716981132075},1.5,{"$f":"MODE(DataExtract!$BP$1598:$BP$5302)","v":0},{"$f":"_xlfn.PERCENTILE.EXC(DataExtract!$BP$3:$BP$5302,0.75)","v":5},{"$f":"_xlfn.PERCENTILE.EXC(DataExtract!$BP$3:$BP$5302,0.9)","v":92},{"$f":"MAX(DataExtract!$BP$3:$BP$5302)","v":365},{"$f":"COUNT(DataExtract!$BP$3:$BP$5302)","v":5300},{"$f":"MIN(DataExtract!$BO$3:$BO$1597)","v":1},{"$f":"_xlfn.PERCENTILE.EXC(DataExtract!$BO$3:$BO$1597,0.1)","v":3},{"$f":"_xlfn.PERCENTILE.EXC(DataExtract!$BO$3:$BO$1597,0.25)","v":8},{"$f":"AVERAGE(DataExtract!$BO$3:$BO$1597)","v":79.499059561128533},{"$f":"MEDIAN(DataExtract!$BO$3:$BO$1597)","v":46},{"$f":"MODE(DataExtract!$BO$3:$BO$1597)","v":180},{"$f":"_xlfn.PERCENTILE.EXC(DataExtract!$BO$3:$BO$1597,0.75)","v":132},{"$f":"_xlfn.PERCENTILE.EXC(DataExtract!$BO$3:$BO$1597,0.9)","v":202},{"$f":"MAX(DataExtract!$BO$3:$BO$1597,0.25)","v":365},{"$f":"COUNT(DataExtract!$BO$3:$BO$1597)","v":1595}]
[null,null,{"$f":"IF(ISBLANK(A88),\"--\",IF(B88=$I$14,I88,IF(B88=$J$14,J88,IF(B88=$K$14,K88,IF(B88=$L$14,L88,IF(B88=$N$14,N88,IF(B88=$M$14,M88,IF(B88='Dropdown Lists'!$O$23,Injuries_WorkMissed!N88,\"--\"))))))))","v":"--"},null,{"$f":"IF(ISBLANK(D88),\"--\",IF(D88='Dropdown Lists'!$K$37,P88,IF(D88='Dropdown Lists'!$K$38,Q88,IF(D88='Dropdown Lists'!$K$39,R88,IF(D88='Dropdown Lists'!$K$40,S88,IF(D88='Dropdown Lists'!$K$41,T88,IF(D88='Dropdown Lists'!$K$42,U88,IF(D88='Dropdown Lists'!$K$43,V88,IF(D88='Dropdown Lists'!$K$44,W88,IF(D88='Dropdown Lists'!$K$45,X88,IF(D88='Dropdown Lists'!$K$46,Z88,IF(D88='Dropdown Lists'!$K$47,AA88,IF(D88='Dropdown Lists'!$K$48,AB88,IF(D88='Dropdown Lists'!$K$49,AC88,IF(D88='Dropdown Lists'!$K$50,AD88,IF(D88='Dropdown Lists'!$K$51,AE88,IF(D88='Dropdown Lists'!$K$52,AF88,IF(D88='Dropdown Lists'!$K$53,AG88,IF(D88='Dropdown Lists'!$K$54,AH88,IF(D88='Dropdown Lists'!$K$55,AJ88,\"\"))))))))))))))))))))","v":"--"},null,"--",null,{"$f":"IF(ISBLANK(A88),\"--\",VLOOKUP(A88,Injuries_WorkMissed!$B$109:$G$863,2,FALSE))","v":"--"},{"$f":"IF(ISBLANK(A88),\"--\",VLOOKUP(A88,Injuries_WorkMissed!$B$109:$G$863,3,FALSE))","v":"--"},{"$f":"IF(ISBLANK(A88),\"--\",VLOOKUP(A88,Injuries_WorkMissed!$B$109:$G$863,4,FALSE))","v":"--"},{"$f":"IF(ISBLANK(A88),\"--\",VLOOKUP(A88,Injuries_WorkMissed!$B$109:$G$863,5,FALSE))","v":"--"},{"$f":"IF(ISBLANK(A88),\"--\",VLOOKUP(A88,Injuries_WorkMissed!$B$109:$G$863,6,FALSE))","v":"--"},null,null,{"$f":"MIN(DataExtract!$BP$3:$BP$1597)","v":0},{"$f":"_xlfn.PERCENTILE.EXC(DataExtract!$BP$3:$BP$1597,0.1)","v":0},{"$f":"_xlfn.PERCENTILE.EXC(DataExtract!$BP$3:$BP$1597,0.25)","v":0},{"$f":"AVERAGE(DataExtract!$BP$3:$BP$5302)","v":23.924716981132075},1.5,{"$f":"MODE(DataExtract!$BP$1598:$BP$5302)","v":0},{"$f":"_xlfn.PERCENTILE.EXC(DataExtract!$BP$3:$BP$5302,0.75)","v":5},{"$f":"_xlfn.PERCENTILE.EXC(DataExtract!$BP$3:$BP$5302,0.9)","v":92},{"$f":"MAX(DataExtract!$BP$3:$BP$5302)","v":365},{"$f":"COUNT(DataExtract!$BP$3:$BP$5302)","v":5300},{"$f":"MIN(DataExtract!$BO$3:$BO$1597)","v":1},{"$f":"_xlfn.PERCENTILE.EXC(DataExtract!$BO$3:$BO$1597,0.1)","v":3},{"$f":"_xlfn.PERCENTILE.EXC(DataExtract!$BO$3:$BO$1597,0.25)","v":8},{"$f":"AVERAGE(DataExtract!$BO$3:$BO$1597)","v":79.499059561128533},{"$f":"MEDIAN(DataExtract!$BO$3:$BO$1597)","v":46},{"$f":"MODE(DataExtract!$BO$3:$BO$1597)","v":180},{"$f":"_xlfn.PERCENTILE.EXC(DataExtract!$BO$3:$BO$1597,0.75)","v":132},{"$f":"_xlfn.PERCENTILE.EXC(DataExtract!$BO$3:$BO$1597,0.9)","v":202},{"$f":"MAX(DataExtract!$BO$3:$BO$1597,0.25)","v":365},{"$f":"COUNT(DataExtract!$BO$3:$BO$1597)","v":1595}]
[null,null,{"$f":"IF(ISBLANK(A89),\"--\",IF(B89=$I$14,I89,IF(B89=$J$14,J89,IF(B89=$K$14,K89,IF(B89=$L$14,L89,IF(B89=$N$14,N89,IF(B89=$M$14,M89,IF(B89='Dropdown Lists'!$O$23,Injuries_WorkMissed!N89,\"--\"))))))))","v":"--"},null,{"$f":"IF(ISBLANK(D89),\"--\",IF(D89='Dropdown Lists'!$K$37,P89,IF(D89='Dropdown Lists'!$K$38,Q89,IF(D89='Dropdown Lists'!$K$39,R89,IF(D89='Dropdown Lists'!$K$40,S89,IF(D89='Dropdown Lists'!$K$41,T89,IF(D89='Dropdown Lists'!$K$42,U89,IF(D89='Dropdown Lists'!$K$43,V89,IF(D89='Dropdown Lists'!$K$44,W89,IF(D89='Dropdown Lists'!$K$45,X89,IF(D89='Dropdown Lists'!$K$46,Z89,IF(D89='Dropdown Lists'!$K$47,AA89,IF(D89='Dropdown Lists'!$K$48,AB89,IF(D89='Dropdown Lists'!$K$49,AC89,IF(D89='Dropdown Lists'!$K$50,AD89,IF(D89='Dropdown Lists'!$K$51,AE89,IF(D89='Dropdown Lists'!$K$52,AF89,IF(D89='Dropdown Lists'!$K$53,AG89,IF(D89='Dropdown Lists'!$K$54,AH89,IF(D89='Dropdown Lists'!$K$55,AJ89,\"\"))))))))))))))))))))","v":"--"},null,"--",null,{"$f":"IF(ISBLANK(A89),\"--\",VLOOKUP(A89,Injuries_WorkMissed!$B$109:$G$863,2,FALSE))","v":"--"},{"$f":"IF(ISBLANK(A89),\"--\",VLOOKUP(A89,Injuries_WorkMissed!$B$109:$G$863,3,FALSE))","v":"--"},{"$f":"IF(ISBLANK(A89),\"--\",VLOOKUP(A89,Injuries_WorkMissed!$B$109:$G$863,4,FALSE))","v":"--"},{"$f":"IF(ISBLANK(A89),\"--\",VLOOKUP(A89,Injuries_WorkMissed!$B$109:$G$863,5,FALSE))","v":"--"},{"$f":"IF(ISBLANK(A89),\"--\",VLOOKUP(A89,Injuries_WorkMissed!$B$109:$G$863,6,FALSE))","v":"--"},null,null,{"$f":"MIN(DataExtract!$BP$3:$BP$1597)","v":0},{"$f":"_xlfn.PERCENTILE.EXC(DataExtract!$BP$3:$BP$1597,0.1)","v":0},{"$f":"_xlfn.PERCENTILE.EXC(DataExtract!$BP$3:$BP$1597,0.25)","v":0},{"$f":"AVERAGE(DataExtract!$BP$3:$BP$5302)","v":23.924716981132075},1.5,{"$f":"MODE(DataExtract!$BP$1598:$BP$5302)","v":0},{"$f":"_xlfn.PERCENTILE.EXC(DataExtract!$BP$3:$BP$5302,0.75)","v":5},{"$f":"_xlfn.PERCENTILE.EXC(DataExtract!$BP$3:$BP$5302,0.9)","v":92},{"$f":"MAX(DataExtract!$BP$3:$BP$5302)","v":365},{"$f":"COUNT(DataExtract!$BP$3:$BP$5302)","v":5300},{"$f":"MIN(DataExtract!$BO$3:$BO$1597)","v":1},{"$f":"_xlfn.PERCENTILE.EXC(DataExtract!$BO$3:$BO$1597,0.1)","v":3},{"$f":"_xlfn.PERCENTILE.EXC(DataExtract!$BO$3:$BO$1597,0.25)","v":8},{"$f":"AVERAGE(DataExtract!$BO$3:$BO$1597)","v":79.499059561128533},{"$f":"MEDIAN(DataExtract!$BO$3:$BO$1597)","v":46},{"$f":"MODE(DataExtract!$BO$3:$BO$1597)","v":180},{"$f":"_xlfn.PERCENTILE.EXC(DataExtract!$BO$3:$BO$1597,0.75)","v":132},{"$f":"_xlfn.PERCENTILE.EXC(DataExtract!$BO$3:$BO$1597,0.9)","v":202},{"$f":"MAX(DataExtract!$BO$3:$BO$1597,0.25)","v":365},{"$f":"COUNT(DataExtract!$BO$3:$BO$1597)","v":1595}]
[null,null,{"$f":"IF(ISBLANK(A90),\"--\",IF(B90=$I$14,I90,IF(B90=$J$14,J90,IF(B90=$K$14,K90,IF(B90=$L$14,L90,IF(B90=$N$14,N90,IF(B90=$M$14,M90,IF(B90='Dropdown Lists'!$O$23,Injuries_WorkMissed!N90,\"--\"))))))))","v":"--"},null,{"$f":"IF(ISBLANK(D90),\"--\",IF(D90='Dropdown Lists'!$K$37,P90,IF(D90='Dropdown Lists'!$K$38,Q90,IF(D90='Dropdown Lists'!$K$39,R90,IF(D90='Dropdown Lists'!$K$40,S90,IF(D90='Dropdown Lists'!$K$41,T90,IF(D90='Dropdown Lists'!$K$42,U90,IF(D90='Dropdown Lists'!$K$43,V90,IF(D90='Dropdown Lists'!$K$44,W90,IF(D90='Dropdown Lists'!$K$45,X90,IF(D90='Dropdown Lists'!$K$46,Z90,IF(D90='Dropdown Lists'!$K$47,AA90,IF(D90='Dropdown Lists'!$K$48,AB90,IF(D90='Dropdown Lists'!$K$49,AC90,IF(D90='Dropdown Lists'!$K$50,AD90,IF(D90='Dropdown Lists'!$K$51,AE90,IF(D90='Dropdown Lists'!$K$52,AF90,IF(D90='Dropdown Lists'!$K$53,AG90,IF(D90='Dropdown Lists'!$K$54,AH90,IF(D90='Dropdown Lists'!$K$55,AJ90,\"\"))))))))))))))))))))","v":"--"},null,"--",null,{"$f":"IF(ISBLANK(A90),\"--\",VLOOKUP(A90,Injuries_WorkMissed!$B$109:$G$863,2,FALSE))","v":"--"},{"$f":"IF(ISBLANK(A90),\"--\",VLOOKUP(A90,Injuries_WorkMissed!$B$109:$G$863,3,FALSE))","v":"--"},{"$f":"IF(ISBLANK(A90),\"--\",VLOOKUP(A90,Injuries_WorkMissed!$B$109:$G$863,4,FALSE))","v":"--"},{"$f":"IF(ISBLANK(A90),\"--\",VLOOKUP(A90,Injuries_WorkMissed!$B$109:$G$863,5,FALSE))","v":"--"},{"$f":"IF(ISBLANK(A90),\"--\",VLOOKUP(A90,Injuries_WorkMissed!$B$109:$G$863,6,FALSE))","v":"--"},null,null,{"$f":"MIN(DataExtract!$BP$3:$BP$1597)","v":0},{"$f":"_xlfn.PERCENTILE.EXC(DataExtract!$BP$3:$BP$1597,0.1)","v":0},{"$f":"_xlfn.PERCENTILE.EXC(DataExtract!$BP$3:$BP$1597,0.25)","v":0},{"$f":"AVERAGE(DataExtract!$BP$3:$BP$5302)","v":23.924716981132075},1.5,{"$f":"MODE(DataExtract!$BP$1598:$BP$5302)","v":0},{"$f":"_xlfn.PERCENTILE.EXC(DataExtract!$BP$3:$BP$5302,0.75)","v":5},{"$f":"_xlfn.PERCENTILE.EXC(DataExtract!$BP$3:$BP$5302,0.9)","v":92},{"$f":"MAX(DataExtract!$BP$3:$BP$5302)","v":365},{"$f":"COUNT(DataExtract!$BP$3:$BP$5302)","v":5300},{"$f":"MIN(DataExtract!$BO$3:$BO$1597)","v":1},{"$f":"_xlfn.PERCENTILE.EXC(DataExtract!$BO$3:$BO$1597,0.1)","v":3},{"$f":"_xlfn.PERCENTILE.EXC(DataExtract!$BO$3:$BO$1597,0.25)","v":8},{"$f":"AVERAGE(DataExtract!$BO$3:$BO$1597)","v":79.499059561128533},{"$f":"MEDIAN(DataExtract!$BO$3:$BO$1597)","v":46},{"$f":"MODE(DataExtract!$BO$3:$BO$1597)","v":180},{"$f":"_xlfn.PERCENTILE.EXC(DataExtract!$BO$3:$BO$1597,0.75)","v":132},{"$f":"_xlfn.PERCENTILE.EXC(DataExtract!$BO$3:$BO$1597,0.9)","v":202},{"$f":"MAX(DataExtract!$BO$3:$BO$1597,0.25)","v":365},{"$f":"COUNT(DataExtract!$BO$3:$BO$1597)","v":1595}]
[null,null,{"$f":"IF(ISBLANK(A91),\"--\",IF(B91=$I$14,I91,IF(B91=$J$14,J91,IF(B91=$K$14,K91,IF(B91=$L$14,L91,IF(B91=$N$14,N91,IF(B91=$M$14,M91,IF(B91='Dropdown Lists'!$O$23,Injuries_WorkMissed!N91,\"--\"))))))))","v":"--"},null,{"$f":"IF(ISBLANK(D91),\"--\",IF(D91='Dropdown Lists'!$K$37,P91,IF(D91='Dropdown Lists'!$K$38,Q91,IF(D91='Dropdown Lists'!$K$39,R91,IF(D91='Dropdown Lists'!$K$40,S91,IF(D91='Dropdown Lists'!$K$41,T91,IF(D91='Dropdown Lists'!$K$42,U91,IF(D91='Dropdown Lists'!$K$43,V91,IF(D91='Dropdown Lists'!$K$44,W91,IF(D91='Dropdown Lists'!$K$45,X91,IF(D91='Dropdown Lists'!$K$46,Z91,IF(D91='Dropdown Lists'!$K$47,AA91,IF(D91='Dropdown Lists'!$K$48,AB91,IF(D91='Dropdown Lists'!$K$49,AC91,IF(D91='Dropdown Lists'!$K$50,AD91,IF(D91='Dropdown Lists'!$K$51,AE91,IF(D91='Dropdown Lists'!$K$52,AF91,IF(D91='Dropdown Lists'!$K$53,AG91,IF(D91='Dropdown Lists'!$K$54,AH91,IF(D91='Dropdown Lists'!$K$55,AJ91,\"\"))))))))))))))))))))","v":"--"},null,"--",null,{"$f":"IF(ISBLANK(A91),\"--\",VLOOKUP(A91,Injuries_WorkMissed!$B$109:$G$863,2,FALSE))","v":"--"},{"$f":"IF(ISBLANK(A91),\"--\",VLOOKUP(A91,Injuries_WorkMissed!$B$109:$G$863,3,FALSE))","v":"--"},{"$f":"IF(ISBLANK(A91),\"--\",VLOOKUP(A91,Injuries_WorkMissed!$B$109:$G$863,4,FALSE))","v":"--"},{"$f":"IF(ISBLANK(A91),\"--\",VLOOKUP(A91,Injuries_WorkMissed!$B$109:$G$863,5,FALSE))","v":"--"},{"$f":"IF(ISBLANK(A91),\"--\",VLOOKUP(A91,Injuries_WorkMissed!$B$109:$G$863,6,FALSE))","v":"--"},null,null,{"$f":"MIN(DataExtract!$BP$3:$BP$1597)","v":0},{"$f":"_xlfn.PERCENTILE.EXC(DataExtract!$BP$3:$BP$1597,0.1)","v":0},{"$f":"_xlfn.PERCENTILE.EXC(DataExtract!$BP$3:$BP$1597,0.25)","v":0},{"$f":"AVERAGE(DataExtract!$BP$3:$BP$5302)","v":23.924716981132075},1.5,{"$f":"MODE(DataExtract!$BP$1598:$BP$5302)","v":0},{"$f":"_xlfn.PERCENTILE.EXC(DataExtract!$BP$3:$BP$5302,0.75)","v":5},{"$f":"_xlfn.PERCENTILE.EXC(DataExtract!$BP$3:$BP$5302,0.9)","v":92},{"$f":"MAX(DataExtract!$BP$3:$BP$5302)","v":365},{"$f":"COUNT(DataExtract!$BP$3:$BP$5302)","v":5300},{"$f":"MIN(DataExtract!$BO$3:$BO$1597)","v":1},{"$f":"_xlfn.PERCENTILE.EXC(DataExtract!$BO$3:$BO$1597,0.1)","v":3},{"$f":"_xlfn.PERCENTILE.EXC(DataExtract!$BO$3:$BO$1597,0.25)","v":8},{"$f":"AVERAGE(DataExtract!$BO$3:$BO$1597)","v":79.499059561128533},{"$f":"MEDIAN(DataExtract!$BO$3:$BO$1597)","v":46},{"$f":"MODE(DataExtract!$BO$3:$BO$1597)","v":180},{"$f":"_xlfn.PERCENTILE.EXC(DataExtract!$BO$3:$BO$1597,0.75)","v":132},{"$f":"_xlfn.PERCENTILE.EXC(DataExtract!$BO$3:$BO$1597,0.9)","v":202},{"$f":"MAX(DataExtract!$BO$3:$BO$1597,0.25)","v":365},{"$f":"COUNT(DataExtract!$BO$3:$BO$1597)","v":1595}]
[null,null,{"$f":"IF(ISBLANK(A92),\"--\",IF(B92=$I$14,I92,IF(B92=$J$14,J92,IF(B92=$K$14,K92,IF(B92=$L$14,L92,IF(B92=$N$14,N92,IF(B92=$M$14,M92,IF(B92='Dropdown Lists'!$O$23,Injuries_WorkMissed!N92,\"--\"))))))))","v":"--"},null,{"$f":"IF(ISBLANK(D92),\"--\",IF(D92='Dropdown Lists'!$K$37,P92,IF(D92='Dropdown Lists'!$K$38,Q92,IF(D92='Dropdown Lists'!$K$39,R92,IF(D92='Dropdown Lists'!$K$40,S92,IF(D92='Dropdown Lists'!$K$41,T92,IF(D92='Dropdown Lists'!$K$42,U92,IF(D92='Dropdown Lists'!$K$43,V92,IF(D92='Dropdown Lists'!$K$44,W92,IF(D92='Dropdown Lists'!$K$45,X92,IF(D92='Dropdown Lists'!$K$46,Z92,IF(D92='Dropdown Lists'!$K$47,AA92,IF(D92='Dropdown Lists'!$K$48,AB92,IF(D92='Dropdown Lists'!$K$49,AC92,IF(D92='Dropdown Lists'!$K$50,AD92,IF(D92='Dropdown Lists'!$K$51,AE92,IF(D92='Dropdown Lists'!$K$52,AF92,IF(D92='Dropdown Lists'!$K$53,AG92,IF(D92='Dropdown Lists'!$K$54,AH92,IF(D92='Dropdown Lists'!$K$55,AJ92,\"\"))))))))))))))))))))","v":"--"},null,"--",null,{"$f":"IF(ISBLANK(A92),\"--\",VLOOKUP(A92,Injuries_WorkMissed!$B$109:$G$863,2,FALSE))","v":"--"},{"$f":"IF(ISBLANK(A92),\"--\",VLOOKUP(A92,Injuries_WorkMissed!$B$109:$G$863,3,FALSE))","v":"--"},{"$f":"IF(ISBLANK(A92),\"--\",VLOOKUP(A92,Injuries_WorkMissed!$B$109:$G$863,4,FALSE))","v":"--"},{"$f":"IF(ISBLANK(A92),\"--\",VLOOKUP(A92,Injuries_WorkMissed!$B$109:$G$863,5,FALSE))","v":"--"},{"$f":"IF(ISBLANK(A92),\"--\",VLOOKUP(A92,Injuries_WorkMissed!$B$109:$G$863,6,FALSE))","v":"--"},null,null,{"$f":"MIN(DataExtract!$BP$3:$BP$1597)","v":0},{"$f":"_xlfn.PERCENTILE.EXC(DataExtract!$BP$3:$BP$1597,0.1)","v":0},{"$f":"_xlfn.PERCENTILE.EXC(DataExtract!$BP$3:$BP$1597,0.25)","v":0},{"$f":"AVERAGE(DataExtract!$BP$3:$BP$5302)","v":23.924716981132075},1.5,{"$f":"MODE(DataExtract!$BP$1598:$BP$5302)","v":0},{"$f":"_xlfn.PERCENTILE.EXC(DataExtract!$BP$3:$BP$5302,0.75)","v":5},{"$f":"_xlfn.PERCENTILE.EXC(DataExtract!$BP$3:$BP$5302,0.9)","v":92},{"$f":"MAX(DataExtract!$BP$3:$BP$5302)","v":365},{"$f":"COUNT(DataExtract!$BP$3:$BP$5302)","v":5300},{"$f":"MIN(DataExtract!$BO$3:$BO$1597)","v":1},{"$f":"_xlfn.PERCENTILE.EXC(DataExtract!$BO$3:$BO$1597,0.1)","v":3},{"$f":"_xlfn.PERCENTILE.EXC(DataExtract!$BO$3:$BO$1597,0.25)","v":8},{"$f":"AVERAGE(DataExtract!$BO$3:$BO$1597)","v":79.499059561128533},{"$f":"MEDIAN(DataExtract!$BO$3:$BO$1597)","v":46},{"$f":"MODE(DataExtract!$BO$3:$BO$1597)","v":180},{"$f":"_xlfn.PERCENTILE.EXC(DataExtract!$BO$3:$BO$1597,0.75)","v":132},{"$f":"_xlfn.PERCENTILE.EXC(DataExtract!$BO$3:$BO$1597,0.9)","v":202},{"$f":"MAX(DataExtract!$BO$3:$BO$1597,0.25)","v":365},{"$f":"COUNT(DataExtract!$BO$3:$BO$1597)","v":1595}]
[null,null,{"$f":"IF(ISBLANK(A93),\"--\",IF(B93=$I$14,I93,IF(B93=$J$14,J93,IF(B93=$K$14,K93,IF(B93=$L$14,L93,IF(B93=$N$14,N93,IF(B93=$M$14,M93,IF(B93='Dropdown Lists'!$O$23,Injuries_WorkMissed!N93,\"--\"))))))))","v":"--"},null,{"$f":"IF(ISBLANK(D93),\"--\",IF(D93='Dropdown Lists'!$K$37,P93,IF(D93='Dropdown Lists'!$K$38,Q93,IF(D93='Dropdown Lists'!$K$39,R93,IF(D93='Dropdown Lists'!$K$40,S93,IF(D93='Dropdown Lists'!$K$41,T93,IF(D93='Dropdown Lists'!$K$42,U93,IF(D93='Dropdown Lists'!$K$43,V93,IF(D93='Dropdown Lists'!$K$44,W93,IF(D93='Dropdown Lists'!$K$45,X93,IF(D93='Dropdown Lists'!$K$46,Z93,IF(D93='Dropdown Lists'!$K$47,AA93,IF(D93='Dropdown Lists'!$K$48,AB93,IF(D93='Dropdown Lists'!$K$49,AC93,IF(D93='Dropdown Lists'!$K$50,AD93,IF(D93='Dropdown Lists'!$K$51,AE93,IF(D93='Dropdown Lists'!$K$52,AF93,IF(D93='Dropdown Lists'!$K$53,AG93,IF(D93='Dropdown Lists'!$K$54,AH93,IF(D93='Dropdown Lists'!$K$55,AJ93,\"\"))))))))))))))))))))","v":"--"},null,"--",null,{"$f":"IF(ISBLANK(A93),\"--\",VLOOKUP(A93,Injuries_WorkMissed!$B$109:$G$863,2,FALSE))","v":"--"},{"$f":"IF(ISBLANK(A93),\"--\",VLOOKUP(A93,Injuries_WorkMissed!$B$109:$G$863,3,FALSE))","v":"--"},{"$f":"IF(ISBLANK(A93),\"--\",VLOOKUP(A93,Injuries_WorkMissed!$B$109:$G$863,4,FALSE))","v":"--"},{"$f":"IF(ISBLANK(A93),\"--\",VLOOKUP(A93,Injuries_WorkMissed!$B$109:$G$863,5,FALSE))","v":"--"},{"$f":"IF(ISBLANK(A93),\"--\",VLOOKUP(A93,Injuries_WorkMissed!$B$109:$G$863,6,FALSE))","v":"--"},null,null,{"$f":"MIN(DataExtract!$BP$3:$BP$1597)","v":0},{"$f":"_xlfn.PERCENTILE.EXC(DataExtract!$BP$3:$BP$1597,0.1)","v":0},{"$f":"_xlfn.PERCENTILE.EXC(DataExtract!$BP$3:$BP$1597,0.25)","v":0},{"$f":"AVERAGE(DataExtract!$BP$3:$BP$5302)","v":23.924716981132075},1.5,{"$f":"MODE(DataExtract!$BP$1598:$BP$5302)","v":0},{"$f":"_xlfn.PERCENTILE.EXC(DataExtract!$BP$3:$BP$5302,0.75)","v":5},{"$f":"_xlfn.PERCENTILE.EXC(DataExtract!$BP$3:$BP$5302,0.9)","v":92},{"$f":"MAX(DataExtract!$BP$3:$BP$5302)","v":365},{"$f":"COUNT(DataExtract!$BP$3:$BP$5302)","v":5300},{"$f":"MIN(DataExtract!$BO$3:$BO$1597)","v":1},{"$f":"_xlfn.PERCENTILE.EXC(DataExtract!$BO$3:$BO$1597,0.1)","v":3},{"$f":"_xlfn.PERCENTILE.EXC(DataExtract!$BO$3:$BO$1597,0.25)","v":8},{"$f":"AVERAGE(DataExtract!$BO$3:$BO$1597)","v":79.499059561128533},{"$f":"MEDIAN(DataExtract!$BO$3:$BO$1597)","v":46},{"$f":"MODE(DataExtract!$BO$3:$BO$1597)","v":180},{"$f":"_xlfn.PERCENTILE.EXC(DataExtract!$BO$3:$BO$1597,0.75)","v":132},{"$f":"_xlfn.PERCENTILE.EXC(DataExtract!$BO$3:$BO$1597,0.9)","v":202},{"$f":"MAX(DataExtract!$BO$3:$BO$1597,0.25)","v":365},{"$f":"COUNT(DataExtract!$BO$3:$BO$1597)","v":1595}]
[null,null,{"$f":"IF(ISBLANK(A94),\"--\",IF(B94=$I$14,I94,IF(B94=$J$14,J94,IF(B94=$K$14,K94,IF(B94=$L$14,L94,IF(B94=$N$14,N94,IF(B94=$M$14,M94,IF(B94='Dropdown Lists'!$O$23,Injuries_WorkMissed!N94,\"--\"))))))))","v":"--"},null,{"$f":"IF(ISBLANK(D94),\"--\",IF(D94='Dropdown Lists'!$K$37,P94,IF(D94='Dropdown Lists'!$K$38,Q94,IF(D94='Dropdown Lists'!$K$39,R94,IF(D94='Dropdown Lists'!$K$40,S94,IF(D94='Dropdown Lists'!$K$41,T94,IF(D94='Dropdown Lists'!$K$42,U94,IF(D94='Dropdown Lists'!$K$43,V94,IF(D94='Dropdown Lists'!$K$44,W94,IF(D94='Dropdown Lists'!$K$45,X94,IF(D94='Dropdown Lists'!$K$46,Z94,IF(D94='Dropdown Lists'!$K$47,AA94,IF(D94='Dropdown Lists'!$K$48,AB94,IF(D94='Dropdown Lists'!$K$49,AC94,IF(D94='Dropdown Lists'!$K$50,AD94,IF(D94='Dropdown Lists'!$K$51,AE94,IF(D94='Dropdown Lists'!$K$52,AF94,IF(D94='Dropdown Lists'!$K$53,AG94,IF(D94='Dropdown Lists'!$K$54,AH94,IF(D94='Dropdown Lists'!$K$55,AJ94,\"\"))))))))))))))))))))","v":"--"},null,"--",null,{"$f":"IF(ISBLANK(A94),\"--\",VLOOKUP(A94,Injuries_WorkMissed!$B$109:$G$863,2,FALSE))","v":"--"},{"$f":"IF(ISBLANK(A94),\"--\",VLOOKUP(A94,Injuries_WorkMissed!$B$109:$G$863,3,FALSE))","v":"--"},{"$f":"IF(ISBLANK(A94),\"--\",VLOOKUP(A94,Injuries_WorkMissed!$B$109:$G$863,4,FALSE))","v":"--"},{"$f":"IF(ISBLANK(A94),\"--\",VLOOKUP(A94,Injuries_WorkMissed!$B$109:$G$863,5,FALSE))","v":"--"},{"$f":"IF(ISBLANK(A94),\"--\",VLOOKUP(A94,Injuries_WorkMissed!$B$109:$G$863,6,FALSE))","v":"--"},null,null,{"$f":"MIN(DataExtract!$BP$3:$BP$1597)","v":0},{"$f":"_xlfn.PERCENTILE.EXC(DataExtract!$BP$3:$BP$1597,0.1)","v":0},{"$f":"_xlfn.PERCENTILE.EXC(DataExtract!$BP$3:$BP$1597,0.25)","v":0},{"$f":"AVERAGE(DataExtract!$BP$3:$BP$5302)","v":23.924716981132075},1.5,{"$f":"MODE(DataExtract!$BP$1598:$BP$5302)","v":0},{"$f":"_xlfn.PERCENTILE.EXC(DataExtract!$BP$3:$BP$5302,0.75)","v":5},{"$f":"_xlfn.PERCENTILE.EXC(DataExtract!$BP$3:$BP$5302,0.9)","v":92},{"$f":"MAX(DataExtract!$BP$3:$BP$5302)","v":365},{"$f":"COUNT(DataExtract!$BP$3:$BP$5302)","v":5300},{"$f":"MIN(DataExtract!$BO$3:$BO$1597)","v":1},{"$f":"_xlfn.PERCENTILE.EXC(DataExtract!$BO$3:$BO$1597,0.1)","v":3},{"$f":"_xlfn.PERCENTILE.EXC(DataExtract!$BO$3:$BO$1597,0.25)","v":8},{"$f":"AVERAGE(DataExtract!$BO$3:$BO$1597)","v":79.499059561128533},{"$f":"MEDIAN(DataExtract!$BO$3:$BO$1597)","v":46},{"$f":"MODE(DataExtract!$BO$3:$BO$1597)","v":180},{"$f":"_xlfn.PERCENTILE.EXC(DataExtract!$BO$3:$BO$1597,0.75)","v":132},{"$f":"_xlfn.PERCENTILE.EXC(DataExtract!$BO$3:$BO$1597,0.9)","v":202},{"$f":"MAX(DataExtract!$BO$3:$BO$1597,0.25)","v":365},{"$f":"COUNT(DataExtract!$BO$3:$BO$1597)","v":1595}]
[null,null,{"$f":"IF(ISBLANK(A95),\"--\",IF(B95=$I$14,I95,IF(B95=$J$14,J95,IF(B95=$K$14,K95,IF(B95=$L$14,L95,IF(B95=$N$14,N95,IF(B95=$M$14,M95,IF(B95='Dropdown Lists'!$O$23,Injuries_WorkMissed!N95,\"--\"))))))))","v":"--"},null,{"$f":"IF(ISBLANK(D95),\"--\",IF(D95='Dropdown Lists'!$K$37,P95,IF(D95='Dropdown Lists'!$K$38,Q95,IF(D95='Dropdown Lists'!$K$39,R95,IF(D95='Dropdown Lists'!$K$40,S95,IF(D95='Dropdown Lists'!$K$41,T95,IF(D95='Dropdown Lists'!$K$42,U95,IF(D95='Dropdown Lists'!$K$43,V95,IF(D95='Dropdown Lists'!$K$44,W95,IF(D95='Dropdown Lists'!$K$45,X95,IF(D95='Dropdown Lists'!$K$46,Z95,IF(D95='Dropdown Lists'!$K$47,AA95,IF(D95='Dropdown Lists'!$K$48,AB95,IF(D95='Dropdown Lists'!$K$49,AC95,IF(D95='Dropdown Lists'!$K$50,AD95,IF(D95='Dropdown Lists'!$K$51,AE95,IF(D95='Dropdown Lists'!$K$52,AF95,IF(D95='Dropdown Lists'!$K$53,AG95,IF(D95='Dropdown Lists'!$K$54,AH95,IF(D95='Dropdown Lists'!$K$55,AJ95,\"\"))))))))))))))))))))","v":"--"},null,"--",null,{"$f":"IF(ISBLANK(A95),\"--\",VLOOKUP(A95,Injuries_WorkMissed!$B$109:$G$863,2,FALSE))","v":"--"},{"$f":"IF(ISBLANK(A95),\"--\",VLOOKUP(A95,Injuries_WorkMissed!$B$109:$G$863,3,FALSE))","v":"--"},{"$f":"IF(ISBLANK(A95),\"--\",VLOOKUP(A95,Injuries_WorkMissed!$B$109:$G$863,4,FALSE))","v":"--"},{"$f":"IF(ISBLANK(A95),\"--\",VLOOKUP(A95,Injuries_WorkMissed!$B$109:$G$863,5,FALSE))","v":"--"},{"$f":"IF(ISBLANK(A95),\"--\",VLOOKUP(A95,Injuries_WorkMissed!$B$109:$G$863,6,FALSE))","v":"--"},null,null,{"$f":"MIN(DataExtract!$BP$3:$BP$1597)","v":0},{"$f":"_xlfn.PERCENTILE.EXC(DataExtract!$BP$3:$BP$1597,0.1)","v":0},{"$f":"_xlfn.PERCENTILE.EXC(DataExtract!$BP$3:$BP$1597,0.25)","v":0},{"$f":"AVERAGE(DataExtract!$BP$3:$BP$5302)","v":23.924716981132075},1.5,{"$f":"MODE(DataExtract!$BP$1598:$BP$5302)","v":0},{"$f":"_xlfn.PERCENTILE.EXC(DataExtract!$BP$3:$BP$5302,0.75)","v":5},{"$f":"_xlfn.PERCENTILE.EXC(DataExtract!$BP$3:$BP$5302,0.9)","v":92},{"$f":"MAX(DataExtract!$BP$3:$BP$5302)","v":365},{"$f":"COUNT(DataExtract!$BP$3:$BP$5302)","v":5300},{"$f":"MIN(DataExtract!$BO$3:$BO$1597)","v":1},{"$f":"_xlfn.PERCENTILE.EXC(DataExtract!$BO$3:$BO$1597,0.1)","v":3},{"$f":"_xlfn.PERCENTILE.EXC(DataExtract!$BO$3:$BO$1597,0.25)","v":8},{"$f":"AVERAGE(DataExtract!$BO$3:$BO$1597)","v":79.499059561128533},{"$f":"MEDIAN(DataExtract!$BO$3:$BO$1597)","v":46},{"$f":"MODE(DataExtract!$BO$3:$BO$1597)","v":180},{"$f":"_xlfn.PERCENTILE.EXC(DataExtract!$BO$3:$BO$1597,0.75)","v":132},{"$f":"_xlfn.PERCENTILE.EXC(DataExtract!$BO$3:$BO$1597,0.9)","v":202},{"$f":"MAX(DataExtract!$BO$3:$BO$1597,0.25)","v":365},{"$f":"COUNT(DataExtract!$BO$3:$BO$1597)","v":1595}]
[null,null,{"$f":"IF(ISBLANK(A96),\"--\",IF(B96=$I$14,I96,IF(B96=$J$14,J96,IF(B96=$K$14,K96,IF(B96=$L$14,L96,IF(B96=$N$14,N96,IF(B96=$M$14,M96,IF(B96='Dropdown Lists'!$O$23,Injuries_WorkMissed!N96,\"--\"))))))))","v":"--"},null,{"$f":"IF(ISBLANK(D96),\"--\",IF(D96='Dropdown Lists'!$K$37,P96,IF(D96='Dropdown Lists'!$K$38,Q96,IF(D96='Dropdown Lists'!$K$39,R96,IF(D96='Dropdown Lists'!$K$40,S96,IF(D96='Dropdown Lists'!$K$41,T96,IF(D96='Dropdown Lists'!$K$42,U96,IF(D96='Dropdown Lists'!$K$43,V96,IF(D96='Dropdown Lists'!$K$44,W96,IF(D96='Dropdown Lists'!$K$45,X96,IF(D96='Dropdown Lists'!$K$46,Z96,IF(D96='Dropdown Lists'!$K$47,AA96,IF(D96='Dropdown Lists'!$K$48,AB96,IF(D96='Dropdown Lists'!$K$49,AC96,IF(D96='Dropdown Lists'!$K$50,AD96,IF(D96='Dropdown Lists'!$K$51,AE96,IF(D96='Dropdown Lists'!$K$52,AF96,IF(D96='Dropdown Lists'!$K$53,AG96,IF(D96='Dropdown Lists'!$K$54,AH96,IF(D96='Dropdown Lists'!$K$55,AJ96,\"\"))))))))))))))))))))","v":"--"},null,"--",null,{"$f":"IF(ISBLANK(A96),\"--\",VLOOKUP(A96,Injuries_WorkMissed!$B$109:$G$863,2,FALSE))","v":"--"},{"$f":"IF(ISBLANK(A96),\"--\",VLOOKUP(A96,Injuries_WorkMissed!$B$109:$G$863,3,FALSE))","v":"--"},{"$f":"IF(ISBLANK(A96),\"--\",VLOOKUP(A96,Injuries_WorkMissed!$B$109:$G$863,4,FALSE))","v":"--"},{"$f":"IF(ISBLANK(A96),\"--\",VLOOKUP(A96,Injuries_WorkMissed!$B$109:$G$863,5,FALSE))","v":"--"},{"$f":"IF(ISBLANK(A96),\"--\",VLOOKUP(A96,Injuries_WorkMissed!$B$109:$G$863,6,FALSE))","v":"--"},null,null,{"$f":"MIN(DataExtract!$BP$3:$BP$1597)","v":0},{"$f":"_xlfn.PERCENTILE.EXC(DataExtract!$BP$3:$BP$1597,0.1)","v":0},{"$f":"_xlfn.PERCENTILE.EXC(DataExtract!$BP$3:$BP$1597,0.25)","v":0},{"$f":"AVERAGE(DataExtract!$BP$3:$BP$5302)","v":23.924716981132075},1.5,{"$f":"MODE(DataExtract!$BP$1598:$BP$5302)","v":0},{"$f":"_xlfn.PERCENTILE.EXC(DataExtract!$BP$3:$BP$5302,0.75)","v":5},{"$f":"_xlfn.PERCENTILE.EXC(DataExtract!$BP$3:$BP$5302,0.9)","v":92},{"$f":"MAX(DataExtract!$BP$3:$BP$5302)","v":365},{"$f":"COUNT(DataExtract!$BP$3:$BP$5302)","v":5300},{"$f":"MIN(DataExtract!$BO$3:$BO$1597)","v":1},{"$f":"_xlfn.PERCENTILE.EXC(DataExtract!$BO$3:$BO$1597,0.1)","v":3},{"$f":"_xlfn.PERCENTILE.EXC(DataExtract!$BO$3:$BO$1597,0.25)","v":8},{"$f":"AVERAGE(DataExtract!$BO$3:$BO$1597)","v":79.499059561128533},{"$f":"MEDIAN(DataExtract!$BO$3:$BO$1597)","v":46},{"$f":"MODE(DataExtract!$BO$3:$BO$1597)","v":180},{"$f":"_xlfn.PERCENTILE.EXC(DataExtract!$BO$3:$BO$1597,0.75)","v":132},{"$f":"_xlfn.PERCENTILE.EXC(DataExtract!$BO$3:$BO$1597,0.9)","v":202},{"$f":"MAX(DataExtract!$BO$3:$BO$1597,0.25)","v":365},{"$f":"COUNT(DataExtract!$BO$3:$BO$1597)","v":1595}]
[null,null,{"$f":"IF(ISBLANK(A97),\"--\",IF(B97=$I$14,I97,IF(B97=$J$14,J97,IF(B97=$K$14,K97,IF(B97=$L$14,L97,IF(B97=$N$14,N97,IF(B97=$M$14,M97,IF(B97='Dropdown Lists'!$O$23,Injuries_WorkMissed!N97,\"--\"))))))))","v":"--"},null,{"$f":"IF(ISBLANK(D97),\"--\",IF(D97='Dropdown Lists'!$K$37,P97,IF(D97='Dropdown Lists'!$K$38,Q97,IF(D97='Dropdown Lists'!$K$39,R97,IF(D97='Dropdown Lists'!$K$40,S97,IF(D97='Dropdown Lists'!$K$41,T97,IF(D97='Dropdown Lists'!$K$42,U97,IF(D97='Dropdown Lists'!$K$43,V97,IF(D97='Dropdown Lists'!$K$44,W97,IF(D97='Dropdown Lists'!$K$45,X97,IF(D97='Dropdown Lists'!$K$46,Z97,IF(D97='Dropdown Lists'!$K$47,AA97,IF(D97='Dropdown Lists'!$K$48,AB97,IF(D97='Dropdown Lists'!$K$49,AC97,IF(D97='Dropdown Lists'!$K$50,AD97,IF(D97='Dropdown Lists'!$K$51,AE97,IF(D97='Dropdown Lists'!$K$52,AF97,IF(D97='Dropdown Lists'!$K$53,AG97,IF(D97='Dropdown Lists'!$K$54,AH97,IF(D97='Dropdown Lists'!$K$55,AJ97,\"\"))))))))))))))))))))","v":"--"},null,"--",null,{"$f":"IF(ISBLANK(A97),\"--\",VLOOKUP(A97,Injuries_WorkMissed!$B$109:$G$863,2,FALSE))","v":"--"},{"$f":"IF(ISBLANK(A97),\"--\",VLOOKUP(A97,Injuries_WorkMissed!$B$109:$G$863,3,FALSE))","v":"--"},{"$f":"IF(ISBLANK(A97),\"--\",VLOOKUP(A97,Injuries_WorkMissed!$B$109:$G$863,4,FALSE))","v":"--"},{"$f":"IF(ISBLANK(A97),\"--\",VLOOKUP(A97,Injuries_WorkMissed!$B$109:$G$863,5,FALSE))","v":"--"},{"$f":"IF(ISBLANK(A97),\"--\",VLOOKUP(A97,Injuries_WorkMissed!$B$109:$G$863,6,FALSE))","v":"--"},null,null,{"$f":"MIN(DataExtract!$BP$3:$BP$1597)","v":0},{"$f":"_xlfn.PERCENTILE.EXC(DataExtract!$BP$3:$BP$1597,0.1)","v":0},{"$f":"_xlfn.PERCENTILE.EXC(DataExtract!$BP$3:$BP$1597,0.25)","v":0},{"$f":"AVERAGE(DataExtract!$BP$3:$BP$5302)","v":23.924716981132075},1.5,{"$f":"MODE(DataExtract!$BP$1598:$BP$5302)","v":0},{"$f":"_xlfn.PERCENTILE.EXC(DataExtract!$BP$3:$BP$5302,0.75)","v":5},{"$f":"_xlfn.PERCENTILE.EXC(DataExtract!$BP$3:$BP$5302,0.9)","v":92},{"$f":"MAX(DataExtract!$BP$3:$BP$5302)","v":365},{"$f":"COUNT(DataExtract!$BP$3:$BP$5302)","v":5300},{"$f":"MIN(DataExtract!$BO$3:$BO$1597)","v":1},{"$f":"_xlfn.PERCENTILE.EXC(DataExtract!$BO$3:$BO$1597,0.1)","v":3},{"$f":"_xlfn.PERCENTILE.EXC(DataExtract!$BO$3:$BO$1597,0.25)","v":8},{"$f":"AVERAGE(DataExtract!$BO$3:$BO$1597)","v":79.499059561128533},{"$f":"MEDIAN(DataExtract!$BO$3:$BO$1597)","v":46},{"$f":"MODE(DataExtract!$BO$3:$BO$1597)","v":180},{"$f":"_xlfn.PERCENTILE.EXC(DataExtract!$BO$3:$BO$1597,0.75)","v":132},{"$f":"_xlfn.PERCENTILE.EXC(DataExtract!$BO$3:$BO$1597,0.9)","v":202},{"$f":"MAX(DataExtract!$BO$3:$BO$1597,0.25)","v":365},{"$f":"COUNT(DataExtract!$BO$3:$BO$1597)","v":1595}]
[null,null,{"$f":"IF(ISBLANK(A98),\"--\",IF(B98=$I$14,I98,IF(B98=$J$14,J98,IF(B98=$K$14,K98,IF(B98=$L$14,L98,IF(B98=$N$14,N98,IF(B98=$M$14,M98,IF(B98='Dropdown Lists'!$O$23,Injuries_WorkMissed!N98,\"--\"))))))))","v":"--"},null,{"$f":"IF(ISBLANK(D98),\"--\",IF(D98='Dropdown Lists'!$K$37,P98,IF(D98='Dropdown Lists'!$K$38,Q98,IF(D98='Dropdown Lists'!$K$39,R98,IF(D98='Dropdown Lists'!$K$40,S98,IF(D98='Dropdown Lists'!$K$41,T98,IF(D98='Dropdown Lists'!$K$42,U98,IF(D98='Dropdown Lists'!$K$43,V98,IF(D98='Dropdown Lists'!$K$44,W98,IF(D98='Dropdown Lists'!$K$45,X98,IF(D98='Dropdown Lists'!$K$46,Z98,IF(D98='Dropdown Lists'!$K$47,AA98,IF(D98='Dropdown Lists'!$K$48,AB98,IF(D98='Dropdown Lists'!$K$49,AC98,IF(D98='Dropdown Lists'!$K$50,AD98,IF(D98='Dropdown Lists'!$K$51,AE98,IF(D98='Dropdown Lists'!$K$52,AF98,IF(D98='Dropdown Lists'!$K$53,AG98,IF(D98='Dropdown Lists'!$K$54,AH98,IF(D98='Dropdown Lists'!$K$55,AJ98,\"\"))))))))))))))))))))","v":"--"},null,"--",null,{"$f":"IF(ISBLANK(A98),\"--\",VLOOKUP(A98,Injuries_WorkMissed!$B$109:$G$863,2,FALSE))","v":"--"},{"$f":"IF(ISBLANK(A98),\"--\",VLOOKUP(A98,Injuries_WorkMissed!$B$109:$G$863,3,FALSE))","v":"--"},{"$f":"IF(ISBLANK(A98),\"--\",VLOOKUP(A98,Injuries_WorkMissed!$B$109:$G$863,4,FALSE))","v":"--"},{"$f":"IF(ISBLANK(A98),\"--\",VLOOKUP(A98,Injuries_WorkMissed!$B$109:$G$863,5,FALSE))","v":"--"},{"$f":"IF(ISBLANK(A98),\"--\",VLOOKUP(A98,Injuries_WorkMissed!$B$109:$G$863,6,FALSE))","v":"--"},null,null,{"$f":"MIN(DataExtract!$BP$3:$BP$1597)","v":0},{"$f":"_xlfn.PERCENTILE.EXC(DataExtract!$BP$3:$BP$1597,0.1)","v":0},{"$f":"_xlfn.PERCENTILE.EXC(DataExtract!$BP$3:$BP$1597,0.25)","v":0},{"$f":"AVERAGE(DataExtract!$BP$3:$BP$5302)","v":23.924716981132075},1.5,{"$f":"MODE(DataExtract!$BP$1598:$BP$5302)","v":0},{"$f":"_xlfn.PERCENTILE.EXC(DataExtract!$BP$3:$BP$5302,0.75)","v":5},{"$f":"_xlfn.PERCENTILE.EXC(DataExtract!$BP$3:$BP$5302,0.9)","v":92},{"$f":"MAX(DataExtract!$BP$3:$BP$5302)","v":365},{"$f":"COUNT(DataExtract!$BP$3:$BP$5302)","v":5300},{"$f":"MIN(DataExtract!$BO$3:$BO$1597)","v":1},{"$f":"_xlfn.PERCENTILE.EXC(DataExtract!$BO$3:$BO$1597,0.1)","v":3},{"$f":"_xlfn.PERCENTILE.EXC(DataExtract!$BO$3:$BO$1597,0.25)","v":8},{"$f":"AVERAGE(DataExtract!$BO$3:$BO$1597)","v":79.499059561128533},{"$f":"MEDIAN(DataExtract!$BO$3:$BO$1597)","v":46},{"$f":"MODE(DataExtract!$BO$3:$BO$1597)","v":180},{"$f":"_xlfn.PERCENTILE.EXC(DataExtract!$BO$3:$BO$1597,0.75)","v":132},{"$f":"_xlfn.PERCENTILE.EXC(DataExtract!$BO$3:$BO$1597,0.9)","v":202},{"$f":"MAX(DataExtract!$BO$3:$BO$1597,0.25)","v":365},{"$f":"COUNT(DataExtract!$BO$3:$BO$1597)","v":1595}]
[null,null,{"$f":"IF(ISBLANK(A99),\"--\",IF(B99=$I$14,I99,IF(B99=$J$14,J99,IF(B99=$K$14,K99,IF(B99=$L$14,L99,IF(B99=$N$14,N99,IF(B99=$M$14,M99,IF(B99='Dropdown Lists'!$O$23,Injuries_WorkMissed!N99,\"--\"))))))))","v":"--"},null,{"$f":"IF(ISBLANK(D99),\"--\",IF(D99='Dropdown Lists'!$K$37,P99,IF(D99='Dropdown Lists'!$K$38,Q99,IF(D99='Dropdown Lists'!$K$39,R99,IF(D99='Dropdown Lists'!$K$40,S99,IF(D99='Dropdown Lists'!$K$41,T99,IF(D99='Dropdown Lists'!$K$42,U99,IF(D99='Dropdown Lists'!$K$43,V99,IF(D99='Dropdown Lists'!$K$44,W99,IF(D99='Dropdown Lists'!$K$45,X99,IF(D99='Dropdown Lists'!$K$46,Z99,IF(D99='Dropdown Lists'!$K$47,AA99,IF(D99='Dropdown Lists'!$K$48,AB99,IF(D99='Dropdown Lists'!$K$49,AC99,IF(D99='Dropdown Lists'!$K$50,AD99,IF(D99='Dropdown Lists'!$K$51,AE99,IF(D99='Dropdown Lists'!$K$52,AF99,IF(D99='Dropdown Lists'!$K$53,AG99,IF(D99='Dropdown Lists'!$K$54,AH99,IF(D99='Dropdown Lists'!$K$55,AJ99,\"\"))))))))))))))))))))","v":"--"},null,"--",null,{"$f":"IF(ISBLANK(A99),\"--\",VLOOKUP(A99,Injuries_WorkMissed!$B$109:$G$863,2,FALSE))","v":"--"},{"$f":"IF(ISBLANK(A99),\"--\",VLOOKUP(A99,Injuries_WorkMissed!$B$109:$G$863,3,FALSE))","v":"--"},{"$f":"IF(ISBLANK(A99),\"--\",VLOOKUP(A99,Injuries_WorkMissed!$B$109:$G$863,4,FALSE))","v":"--"},{"$f":"IF(ISBLANK(A99),\"--\",VLOOKUP(A99,Injuries_WorkMissed!$B$109:$G$863,5,FALSE))","v":"--"},{"$f":"IF(ISBLANK(A99),\"--\",VLOOKUP(A99,Injuries_WorkMissed!$B$109:$G$863,6,FALSE))","v":"--"},null,null,{"$f":"MIN(DataExtract!$BP$3:$BP$1597)","v":0},{"$f":"_xlfn.PERCENTILE.EXC(DataExtract!$BP$3:$BP$1597,0.1)","v":0},{"$f":"_xlfn.PERCENTILE.EXC(DataExtract!$BP$3:$BP$1597,0.25)","v":0},{"$f":"AVERAGE(DataExtract!$BP$3:$BP$5302)","v":23.924716981132075},1.5,{"$f":"MODE(DataExtract!$BP$1598:$BP$5302)","v":0},{"$f":"_xlfn.PERCENTILE.EXC(DataExtract!$BP$3:$BP$5302,0.75)","v":5},{"$f":"_xlfn.PERCENTILE.EXC(DataExtract!$BP$3:$BP$5302,0.9)","v":92},{"$f":"MAX(DataExtract!$BP$3:$BP$5302)","v":365},{"$f":"COUNT(DataExtract!$BP$3:$BP$5302)","v":5300},{"$f":"MIN(DataExtract!$BO$3:$BO$1597)","v":1},{"$f":"_xlfn.PERCENTILE.EXC(DataExtract!$BO$3:$BO$1597,0.1)","v":3},{"$f":"_xlfn.PERCENTILE.EXC(DataExtract!$BO$3:$BO$1597,0.25)","v":8},{"$f":"AVERAGE(DataExtract!$BO$3:$BO$1597)","v":79.499059561128533},{"$f":"MEDIAN(DataExtract!$BO$3:$BO$1597)","v":46},{"$f":"MODE(DataExtract!$BO$3:$BO$1597)","v":180},{"$f":"_xlfn.PERCENTILE.EXC(DataExtract!$BO$3:$BO$1597,0.75)","v":132},{"$f":"_xlfn.PERCENTILE.EXC(DataExtract!$BO$3:$BO$1597,0.9)","v":202},{"$f":"MAX(DataExtract!$BO$3:$BO$1597,0.25)","v":365},{"$f":"COUNT(DataExtract!$BO$3:$BO$1597)","v":1595}]
[null,null,{"$f":"IF(ISBLANK(A100),\"--\",IF(B100=$I$14,I100,IF(B100=$J$14,J100,IF(B100=$K$14,K100,IF(B100=$L$14,L100,IF(B100=$N$14,N100,IF(B100=$M$14,M100,IF(B100='Dropdown Lists'!$O$23,Injuries_WorkMissed!N100,\"--\"))))))))","v":"--"},null,{"$f":"IF(ISBLANK(D100),\"--\",IF(D100='Dropdown Lists'!$K$37,P100,IF(D100='Dropdown Lists'!$K$38,Q100,IF(D100='Dropdown Lists'!$K$39,R100,IF(D100='Dropdown Lists'!$K$40,S100,IF(D100='Dropdown Lists'!$K$41,T100,IF(D100='Dropdown Lists'!$K$42,U100,IF(D100='Dropdown Lists'!$K$43,V100,IF(D100='Dropdown Lists'!$K$44,W100,IF(D100='Dropdown Lists'!$K$45,X100,IF(D100='Dropdown Lists'!$K$46,Z100,IF(D100='Dropdown Lists'!$K$47,AA100,IF(D100='Dropdown Lists'!$K$48,AB100,IF(D100='Dropdown Lists'!$K$49,AC100,IF(D100='Dropdown Lists'!$K$50,AD100,IF(D100='Dropdown Lists'!$K$51,AE100,IF(D100='Dropdown Lists'!$K$52,AF100,IF(D100='Dropdown Lists'!$K$53,AG100,IF(D100='Dropdown Lists'!$K$54,AH100,IF(D100='Dropdown Lists'!$K$55,AJ100,\"\"))))))))))))))))))))","v":"--"},null,"--",null,{"$f":"IF(ISBLANK(A100),\"--\",VLOOKUP(A100,Injuries_WorkMissed!$B$109:$G$863,2,FALSE))","v":"--"},{"$f":"IF(ISBLANK(A100),\"--\",VLOOKUP(A100,Injuries_WorkMissed!$B$109:$G$863,3,FALSE))","v":"--"},{"$f":"IF(ISBLANK(A100),\"--\",VLOOKUP(A100,Injuries_WorkMissed!$B$109:$G$863,4,FALSE))","v":"--"},{"$f":"IF(ISBLANK(A100),\"--\",VLOOKUP(A100,Injuries_WorkMissed!$B$109:$G$863,5,FALSE))","v":"--"},{"$f":"IF(ISBLANK(A100),\"--\",VLOOKUP(A100,Injuries_WorkMissed!$B$109:$G$863,6,FALSE))","v":"--"},null,null,{"$f":"MIN(DataExtract!$BP$3:$BP$1597)","v":0},{"$f":"_xlfn.PERCENTILE.EXC(DataExtract!$BP$3:$BP$1597,0.1)","v":0},{"$f":"_xlfn.PERCENTILE.EXC(DataExtract!$BP$3:$BP$1597,0.25)","v":0},{"$f":"AVERAGE(DataExtract!$BP$3:$BP$5302)","v":23.924716981132075},1.5,{"$f":"MODE(DataExtract!$BP$1598:$BP$5302)","v":0},{"$f":"_xlfn.PERCENTILE.EXC(DataExtract!$BP$3:$BP$5302,0.75)","v":5},{"$f":"_xlfn.PERCENTILE.EXC(DataExtract!$BP$3:$BP$5302,0.9)","v":92},{"$f":"MAX(DataExtract!$BP$3:$BP$5302)","v":365},{"$f":"COUNT(DataExtract!$BP$3:$BP$5302)","v":5300},{"$f":"MIN(DataExtract!$BO$3:$BO$1597)","v":1},{"$f":"_xlfn.PERCENTILE.EXC(DataExtract!$BO$3:$BO$1597,0.1)","v":3},{"$f":"_xlfn.PERCENTILE.EXC(DataExtract!$BO$3:$BO$1597,0.25)","v":8},{"$f":"AVERAGE(DataExtract!$BO$3:$BO$1597)","v":79.499059561128533},{"$f":"MEDIAN(DataExtract!$BO$3:$BO$1597)","v":46},{"$f":"MODE(DataExtract!$BO$3:$BO$1597)","v":180},{"$f":"_xlfn.PERCENTILE.EXC(DataExtract!$BO$3:$BO$1597,0.75)","v":132},{"$f":"_xlfn.PERCENTILE.EXC(DataExtract!$BO$3:$BO$1597,0.9)","v":202},{"$f":"MAX(DataExtract!$BO$3:$BO$1597,0.25)","v":365},{"$f":"COUNT(DataExtract!$BO$3:$BO$1597)","v":1595}]
[null,null,{"$f":"IF(ISBLANK(A101),\"--\",IF(B101=$I$14,I101,IF(B101=$J$14,J101,IF(B101=$K$14,K101,IF(B101=$L$14,L101,IF(B101=$N$14,N101,IF(B101=$M$14,M101,IF(B101='Dropdown Lists'!$O$23,Injuries_WorkMissed!N101,\"--\"))))))))","v":"--"},null,{"$f":"IF(ISBLANK(D101),\"--\",IF(D101='Dropdown Lists'!$K$37,P101,IF(D101='Dropdown Lists'!$K$38,Q101,IF(D101='Dropdown Lists'!$K$39,R101,IF(D101='Dropdown Lists'!$K$40,S101,IF(D101='Dropdown Lists'!$K$41,T101,IF(D101='Dropdown Lists'!$K$42,U101,IF(D101='Dropdown Lists'!$K$43,V101,IF(D101='Dropdown Lists'!$K$44,W101,IF(D101='Dropdown Lists'!$K$45,X101,IF(D101='Dropdown Lists'!$K$46,Z101,IF(D101='Dropdown Lists'!$K$47,AA101,IF(D101='Dropdown Lists'!$K$48,AB101,IF(D101='Dropdown Lists'!$K$49,AC101,IF(D101='Dropdown Lists'!$K$50,AD101,IF(D101='Dropdown Lists'!$K$51,AE101,IF(D101='Dropdown Lists'!$K$52,AF101,IF(D101='Dropdown Lists'!$K$53,AG101,IF(D101='Dropdown Lists'!$K$54,AH101,IF(D101='Dropdown Lists'!$K$55,AJ101,\"\"))))))))))))))))))))","v":"--"},null,"--",null,{"$f":"IF(ISBLANK(A101),\"--\",VLOOKUP(A101,Injuries_WorkMissed!$B$109:$G$863,2,FALSE))","v":"--"},{"$f":"IF(ISBLANK(A101),\"--\",VLOOKUP(A101,Injuries_WorkMissed!$B$109:$G$863,3,FALSE))","v":"--"},{"$f":"IF(ISBLANK(A101),\"--\",VLOOKUP(A101,Injuries_WorkMissed!$B$109:$G$863,4,FALSE))","v":"--"},{"$f":"IF(ISBLANK(A101),\"--\",VLOOKUP(A101,Injuries_WorkMissed!$B$109:$G$863,5,FALSE))","v":"--"},{"$f":"IF(ISBLANK(A101),\"--\",VLOOKUP(A101,Injuries_WorkMissed!$B$109:$G$863,6,FALSE))","v":"--"},null,null,{"$f":"MIN(DataExtract!$BP$3:$BP$1597)","v":0},{"$f":"_xlfn.PERCENTILE.EXC(DataExtract!$BP$3:$BP$1597,0.1)","v":0},{"$f":"_xlfn.PERCENTILE.EXC(DataExtract!$BP$3:$BP$1597,0.25)","v":0},{"$f":"AVERAGE(DataExtract!$BP$3:$BP$5302)","v":23.924716981132075},1.5,{"$f":"MODE(DataExtract!$BP$1598:$BP$5302)","v":0},{"$f":"_xlfn.PERCENTILE.EXC(DataExtract!$BP$3:$BP$5302,0.75)","v":5},{"$f":"_xlfn.PERCENTILE.EXC(DataExtract!$BP$3:$BP$5302,0.9)","v":92},{"$f":"MAX(DataExtract!$BP$3:$BP$5302)","v":365},{"$f":"COUNT(DataExtract!$BP$3:$BP$5302)","v":5300},{"$f":"MIN(DataExtract!$BO$3:$BO$1597)","v":1},{"$f":"_xlfn.PERCENTILE.EXC(DataExtract!$BO$3:$BO$1597,0.1)","v":3},{"$f":"_xlfn.PERCENTILE.EXC(DataExtract!$BO$3:$BO$1597,0.25)","v":8},{"$f":"AVERAGE(DataExtract!$BO$3:$BO$1597)","v":79.499059561128533},{"$f":"MEDIAN(DataExtract!$BO$3:$BO$1597)","v":46},{"$f":"MODE(DataExtract!$BO$3:$BO$1597)","v":180},{"$f":"_xlfn.PERCENTILE.EXC(DataExtract!$BO$3:$BO$1597,0.75)","v":132},{"$f":"_xlfn.PERCENTILE.EXC(DataExtract!$BO$3:$BO$1597,0.9)","v":202},{"$f":"MAX(DataExtract!$BO$3:$BO$1597,0.25)","v":365},{"$f":"COUNT(DataExtract!$BO$3:$BO$1597)","v":1595}]
[null,null,{"$f":"IF(ISBLANK(A102),\"--\",IF(B102=$I$14,I102,IF(B102=$J$14,J102,IF(B102=$K$14,K102,IF(B102=$L$14,L102,IF(B102=$N$14,N102,IF(B102=$M$14,M102,IF(B102='Dropdown Lists'!$O$23,Injuries_WorkMissed!N102,\"--\"))))))))","v":"--"},null,{"$f":"IF(ISBLANK(D102),\"--\",IF(D102='Dropdown Lists'!$K$37,P102,IF(D102='Dropdown Lists'!$K$38,Q102,IF(D102='Dropdown Lists'!$K$39,R102,IF(D102='Dropdown Lists'!$K$40,S102,IF(D102='Dropdown Lists'!$K$41,T102,IF(D102='Dropdown Lists'!$K$42,U102,IF(D102='Dropdown Lists'!$K$43,V102,IF(D102='Dropdown Lists'!$K$44,W102,IF(D102='Dropdown Lists'!$K$45,X102,IF(D102='Dropdown Lists'!$K$46,Z102,IF(D102='Dropdown Lists'!$K$47,AA102,IF(D102='Dropdown Lists'!$K$48,AB102,IF(D102='Dropdown Lists'!$K$49,AC102,IF(D102='Dropdown Lists'!$K$50,AD102,IF(D102='Dropdown Lists'!$K$51,AE102,IF(D102='Dropdown Lists'!$K$52,AF102,IF(D102='Dropdown Lists'!$K$53,AG102,IF(D102='Dropdown Lists'!$K$54,AH102,IF(D102='Dropdown Lists'!$K$55,AJ102,\"\"))))))))))))))))))))","v":"--"},null,"--",null,{"$f":"IF(ISBLANK(A102),\"--\",VLOOKUP(A102,Injuries_WorkMissed!$B$109:$G$863,2,FALSE))","v":"--"},{"$f":"IF(ISBLANK(A102),\"--\",VLOOKUP(A102,Injuries_WorkMissed!$B$109:$G$863,3,FALSE))","v":"--"},{"$f":"IF(ISBLANK(A102),\"--\",VLOOKUP(A102,Injuries_WorkMissed!$B$109:$G$863,4,FALSE))","v":"--"},{"$f":"IF(ISBLANK(A102),\"--\",VLOOKUP(A102,Injuries_WorkMissed!$B$109:$G$863,5,FALSE))","v":"--"},{"$f":"IF(ISBLANK(A102),\"--\",VLOOKUP(A102,Injuries_WorkMissed!$B$109:$G$863,6,FALSE))","v":"--"},null,null,{"$f":"MIN(DataExtract!$BP$3:$BP$1597)","v":0},{"$f":"_xlfn.PERCENTILE.EXC(DataExtract!$BP$3:$BP$1597,0.1)","v":0},{"$f":"_xlfn.PERCENTILE.EXC(DataExtract!$BP$3:$BP$1597,0.25)","v":0},{"$f":"AVERAGE(DataExtract!$BP$3:$BP$5302)","v":23.924716981132075},1.5,{"$f":"MODE(DataExtract!$BP$1598:$BP$5302)","v":0},{"$f":"_xlfn.PERCENTILE.EXC(DataExtract!$BP$3:$BP$5302,0.75)","v":5},{"$f":"_xlfn.PERCENTILE.EXC(DataExtract!$BP$3:$BP$5302,0.9)","v":92},{"$f":"MAX(DataExtract!$BP$3:$BP$5302)","v":365},{"$f":"COUNT(DataExtract!$BP$3:$BP$5302)","v":5300},{"$f":"MIN(DataExtract!$BO$3:$BO$1597)","v":1},{"$f":"_xlfn.PERCENTILE.EXC(DataExtract!$BO$3:$BO$1597,0.1)","v":3},{"$f":"_xlfn.PERCENTILE.EXC(DataExtract!$BO$3:$BO$1597,0.25)","v":8},{"$f":"AVERAGE(DataExtract!$BO$3:$BO$1597)","v":79.499059561128533},{"$f":"MEDIAN(DataExtract!$BO$3:$BO$1597)","v":46},{"$f":"MODE(DataExtract!$BO$3:$BO$1597)","v":180},{"$f":"_xlfn.PERCENTILE.EXC(DataExtract!$BO$3:$BO$1597,0.75)","v":132},{"$f":"_xlfn.PERCENTILE.EXC(DataExtract!$BO$3:$BO$1597,0.9)","v":202},{"$f":"MAX(DataExtract!$BO$3:$BO$1597,0.25)","v":365},{"$f":"COUNT(DataExtract!$BO$3:$BO$1597)","v":1595}]
[null,null,{"$f":"IF(ISBLANK(A103),\"--\",IF(B103=$I$14,I103,IF(B103=$J$14,J103,IF(B103=$K$14,K103,IF(B103=$L$14,L103,IF(B103=$N$14,N103,IF(B103=$M$14,M103,IF(B103='Dropdown Lists'!$O$23,Injuries_WorkMissed!N103,\"--\"))))))))","v":"--"},null,{"$f":"IF(ISBLANK(D103),\"--\",IF(D103='Dropdown Lists'!$K$37,P103,IF(D103='Dropdown Lists'!$K$38,Q103,IF(D103='Dropdown Lists'!$K$39,R103,IF(D103='Dropdown Lists'!$K$40,S103,IF(D103='Dropdown Lists'!$K$41,T103,IF(D103='Dropdown Lists'!$K$42,U103,IF(D103='Dropdown Lists'!$K$43,V103,IF(D103='Dropdown Lists'!$K$44,W103,IF(D103='Dropdown Lists'!$K$45,X103,IF(D103='Dropdown Lists'!$K$46,Z103,IF(D103='Dropdown Lists'!$K$47,AA103,IF(D103='Dropdown Lists'!$K$48,AB103,IF(D103='Dropdown Lists'!$K$49,AC103,IF(D103='Dropdown Lists'!$K$50,AD103,IF(D103='Dropdown Lists'!$K$51,AE103,IF(D103='Dropdown Lists'!$K$52,AF103,IF(D103='Dropdown Lists'!$K$53,AG103,IF(D103='Dropdown Lists'!$K$54,AH103,IF(D103='Dropdown Lists'!$K$55,AJ103,\"\"))))))))))))))))))))","v":"--"},null,"--",null,{"$f":"IF(ISBLANK(A103),\"--\",VLOOKUP(A103,Injuries_WorkMissed!$B$109:$G$863,2,FALSE))","v":"--"},{"$f":"IF(ISBLANK(A103),\"--\",VLOOKUP(A103,Injuries_WorkMissed!$B$109:$G$863,3,FALSE))","v":"--"},{"$f":"IF(ISBLANK(A103),\"--\",VLOOKUP(A103,Injuries_WorkMissed!$B$109:$G$863,4,FALSE))","v":"--"},{"$f":"IF(ISBLANK(A103),\"--\",VLOOKUP(A103,Injuries_WorkMissed!$B$109:$G$863,5,FALSE))","v":"--"},{"$f":"IF(ISBLANK(A103),\"--\",VLOOKUP(A103,Injuries_WorkMissed!$B$109:$G$863,6,FALSE))","v":"--"},null,null,{"$f":"MIN(DataExtract!$BP$3:$BP$1597)","v":0},{"$f":"_xlfn.PERCENTILE.EXC(DataExtract!$BP$3:$BP$1597,0.1)","v":0},{"$f":"_xlfn.PERCENTILE.EXC(DataExtract!$BP$3:$BP$1597,0.25)","v":0},{"$f":"AVERAGE(DataExtract!$BP$3:$BP$5302)","v":23.924716981132075},1.5,{"$f":"MODE(DataExtract!$BP$1598:$BP$5302)","v":0},{"$f":"_xlfn.PERCENTILE.EXC(DataExtract!$BP$3:$BP$5302,0.75)","v":5},{"$f":"_xlfn.PERCENTILE.EXC(DataExtract!$BP$3:$BP$5302,0.9)","v":92},{"$f":"MAX(DataExtract!$BP$3:$BP$5302)","v":365},{"$f":"COUNT(DataExtract!$BP$3:$BP$5302)","v":5300},{"$f":"MIN(DataExtract!$BO$3:$BO$1597)","v":1},{"$f":"_xlfn.PERCENTILE.EXC(DataExtract!$BO$3:$BO$1597,0.1)","v":3},{"$f":"_xlfn.PERCENTILE.EXC(DataExtract!$BO$3:$BO$1597,0.25)","v":8},{"$f":"AVERAGE(DataExtract!$BO$3:$BO$1597)","v":79.499059561128533},{"$f":"MEDIAN(DataExtract!$BO$3:$BO$1597)","v":46},{"$f":"MODE(DataExtract!$BO$3:$BO$1597)","v":180},{"$f":"_xlfn.PERCENTILE.EXC(DataExtract!$BO$3:$BO$1597,0.75)","v":132},{"$f":"_xlfn.PERCENTILE.EXC(DataExtract!$BO$3:$BO$1597,0.9)","v":202},{"$f":"MAX(DataExtract!$BO$3:$BO$1597,0.25)","v":365},{"$f":"COUNT(DataExtract!$BO$3:$BO$1597)","v":1595}]
[null,null,{"$f":"IF(ISBLANK(A104),\"--\",IF(B104=$I$14,I104,IF(B104=$J$14,J104,IF(B104=$K$14,K104,IF(B104=$L$14,L104,IF(B104=$N$14,N104,IF(B104=$M$14,M104,IF(B104='Dropdown Lists'!$O$23,Injuries_WorkMissed!N104,\"--\"))))))))","v":"--"},null,{"$f":"IF(ISBLANK(D104),\"--\",IF(D104='Dropdown Lists'!$K$37,P104,IF(D104='Dropdown Lists'!$K$38,Q104,IF(D104='Dropdown Lists'!$K$39,R104,IF(D104='Dropdown Lists'!$K$40,S104,IF(D104='Dropdown Lists'!$K$41,T104,IF(D104='Dropdown Lists'!$K$42,U104,IF(D104='Dropdown Lists'!$K$43,V104,IF(D104='Dropdown Lists'!$K$44,W104,IF(D104='Dropdown Lists'!$K$45,X104,IF(D104='Dropdown Lists'!$K$46,Z104,IF(D104='Dropdown Lists'!$K$47,AA104,IF(D104='Dropdown Lists'!$K$48,AB104,IF(D104='Dropdown Lists'!$K$49,AC104,IF(D104='Dropdown Lists'!$K$50,AD104,IF(D104='Dropdown Lists'!$K$51,AE104,IF(D104='Dropdown Lists'!$K$52,AF104,IF(D104='Dropdown Lists'!$K$53,AG104,IF(D104='Dropdown Lists'!$K$54,AH104,IF(D104='Dropdown Lists'!$K$55,AJ104,\"\"))))))))))))))))))))","v":"--"},null,"--",null,{"$f":"IF(ISBLANK(A104),\"--\",VLOOKUP(A104,Injuries_WorkMissed!$B$109:$G$863,2,FALSE))","v":"--"},{"$f":"IF(ISBLANK(A104),\"--\",VLOOKUP(A104,Injuries_WorkMissed!$B$109:$G$863,3,FALSE))","v":"--"},{"$f":"IF(ISBLANK(A104),\"--\",VLOOKUP(A104,Injuries_WorkMissed!$B$109:$G$863,4,FALSE))","v":"--"},{"$f":"IF(ISBLANK(A104),\"--\",VLOOKUP(A104,Injuries_WorkMissed!$B$109:$G$863,5,FALSE))","v":"--"},{"$f":"IF(ISBLANK(A104),\"--\",VLOOKUP(A104,Injuries_WorkMissed!$B$109:$G$863,6,FALSE))","v":"--"},null,null,{"$f":"MIN(DataExtract!$BP$3:$BP$1597)","v":0},{"$f":"_xlfn.PERCENTILE.EXC(DataExtract!$BP$3:$BP$1597,0.1)","v":0},{"$f":"_xlfn.PERCENTILE.EXC(DataExtract!$BP$3:$BP$1597,0.25)","v":0},{"$f":"AVERAGE(DataExtract!$BP$3:$BP$5302)","v":23.924716981132075},1.5,{"$f":"MODE(DataExtract!$BP$1598:$BP$5302)","v":0},{"$f":"_xlfn.PERCENTILE.EXC(DataExtract!$BP$3:$BP$5302,0.75)","v":5},{"$f":"_xlfn.PERCENTILE.EXC(DataExtract!$BP$3:$BP$5302,0.9)","v":92},{"$f":"MAX(DataExtract!$BP$3:$BP$5302)","v":365},{"$f":"COUNT(DataExtract!$BP$3:$BP$5302)","v":5300},{"$f":"MIN(DataExtract!$BO$3:$BO$1597)","v":1},{"$f":"_xlfn.PERCENTILE.EXC(DataExtract!$BO$3:$BO$1597,0.1)","v":3},{"$f":"_xlfn.PERCENTILE.EXC(DataExtract!$BO$3:$BO$1597,0.25)","v":8},{"$f":"AVERAGE(DataExtract!$BO$3:$BO$1597)","v":79.499059561128533},{"$f":"MEDIAN(DataExtract!$BO$3:$BO$1597)","v":46},{"$f":"MODE(DataExtract!$BO$3:$BO$1597)","v":180},{"$f":"_xlfn.PERCENTILE.EXC(DataExtract!$BO$3:$BO$1597,0.75)","v":132},{"$f":"_xlfn.PERCENTILE.EXC(DataExtract!$BO$3:$BO$1597,0.9)","v":202},{"$f":"MAX(DataExtract!$BO$3:$BO$1597,0.25)","v":365},{"$f":"COUNT(DataExtract!$BO$3:$BO$1597)","v":1595}]
[]
[]
[]
["Source or BLS Occupation Code","Occupational Title","Hourly 10th Percentile","Hourly 25th Percentile","Hourly Median","Hourly 75th Percentile","Hourly 90th Percentile"]
["00-0000","All Occupations",{"$f":"C867*'Lookup Tables'!$R$14","v":9.9953000000000003},{"$f":"D867*'Lookup Tables'!$R$14","v":12.981900000000001},{"$f":"E867*'Lookup Tables'!$R$14","v":19.3475},{"$f":"F867*'Lookup Tables'!$R$14","v":30.443700000000003},{"$f":"G867*'Lookup Tables'!$R$14","v":47.371400000000001}]
["NC Rail Division - SIAP Grant","Locomotive Engineer (SIAP)",{"$f":"C868*'Lookup Tables'!$R$14","v":45.344000000000008},{"$f":"D868*'Lookup Tables'!$R$14","v":45.344000000000008},{"$f":"E868*'Lookup Tables'!$R$14","v":45.344000000000008},{"$f":"F868*'Lookup Tables'!$R$14","v":45.344000000000008},{"$f":"G868*'Lookup Tables'!$R$14","v":45.344000000000008},null,null,null," "]
["NC Rail Division - SIAP Grant","PersonalLocal (SIAP)",{"$f":"C869*'Lookup Tables'!$R$14","v":14.824},{"$f":"D869*'Lookup Tables'!$R$14","v":14.824},{"$f":"E869*'Lookup Tables'!$R$14","v":14.824},{"$f":"F869*'Lookup Tables'!$R$14","v":14.824},{"$f":"G869*'Lookup Tables'!$R$14","v":14.824}]
["NC Rail Division - SIAP Grant","BusinessLocal (SIAP)",{"$f":"C870*'Lookup Tables'!$R$14","v":27.686},{"$f":"D870*'Lookup Tables'!$R$14","v":27.686},{"$f":"E870*'Lookup Tables'!$R$14","v":27.686},{"$f":"F870*'Lookup Tables'!$R$14","v":27.686},{"$f":"G870*'Lookup Tables'!$R$14","v":27.686}]
["NC Rail Division - SIAP Grant","PersonalIntercity (SIAP)",{"$f":"C871*'Lookup Tables'!$R$14","v":20.71},{"$f":"D871*'Lookup Tables'!$R$14","v":20.71},{"$f":"E871*'Lookup Tables'!$R$14","v":20.71},{"$f":"F871*'Lookup Tables'!$R$14","v":20.71},{"$f":"G871*'Lookup Tables'!$R$14","v":20.71}]
["NC Rail Division - SIAP Grant","BusinessIntercity (SIAP)",{"$f":"C872*'Lookup Tables'!$R$14","v":27.686},{"$f":"D872*'Lookup Tables'!$R$14","v":27.686},{"$f":"E872*'Lookup Tables'!$R$14","v":27.686},{"$f":"F872*'Lookup Tables'!$R$14","v":27.686},{"$f":"G872*'Lookup Tables'!$R$14","v":27.686}]
["NC Rail Division - SIAP Grant","Truck Driver (SIAP)",{"$f":"C873*'Lookup Tables'!$R$14","v":29.648},{"$f":"D873*'Lookup Tables'!$R$14","v":29.648},{"$f":"E873*'Lookup Tables'!$R$14","v":29.648},{"$f":"F873*'Lookup Tables'!$R$14","v":29.648},{"$f":"G873*'Lookup Tables'!$R$14","v":29.648}]
["NC Rail Division - SIAP Grant","Bus Driver (SIAP)",{"$f":"C874*'Lookup Tables'!$R$14","v":30.847000000000001},{"$f":"D874*'Lookup Tables'!$R$14","v":30.847000000000001},{"$f":"E874*'Lookup Tables'!$R$14","v":30.847000000000001},{"$f":"F874*'Lookup Tables'!$R$14","v":30.847000000000001},{"$f":"G874*'Lookup Tables'!$R$14","v":30.847000000000001}]
["NC Rail Division - SIAP Grant","WalkWaitTransfer (SIAP)",{"$f":"C875*'Lookup Tables'!$R$14","v":29.648},{"$f":"D875*'Lookup Tables'!$R$14","v":29.648},{"$f":"E875*'Lookup Tables'!$R$14","v":29.648},{"$f":"F875*'Lookup Tables'!$R$14","v":29.648},{"$f":"G875*'Lookup Tables'!$R$14","v":29.648}]
["11-0000","Management Occupations",{"$f":"C876*'Lookup Tables'!$R$14","v":28.786900000000003},{"$f":"D876*'Lookup Tables'!$R$14","v":39.1419},{"$f":"E876*'Lookup Tables'!$R$14","v":55.873400000000004},{"$f":"F876*'Lookup Tables'!$R$14","v":79.624499999999998},{"$f":"G876*'Lookup Tables'!$R$14","v":79.624499999999998}]
["11-1011","Chief Executives",{"$f":"C877*'Lookup Tables'!$R$14","v":37.910200000000003},{"$f":"D877*'Lookup Tables'!$R$14","v":63.645100000000006},{"$f":"E877*'Lookup Tables'!$R$14","v":107.3105},{"$f":"F877*'Lookup Tables'!$R$14","v":107.3105},{"$f":"G877*'Lookup Tables'!$R$14","v":107.3105}]
["11-1021","General and Operations Managers",{"$f":"C878*'Lookup Tables'!$R$14","v":27.206400000000002},{"$f":"D878*'Lookup Tables'!$R$14","v":37.365200000000002},{"$f":"E878*'Lookup Tables'!$R$14","v":56.211300000000001},{"$f":"F878*'Lookup Tables'!$R$14","v":84.736599999999996},{"$f":"G878*'Lookup Tables'!$R$14","v":84.736599999999996}]
["11-2011","Advertising and Promotions Managers",{"$f":"C879*'Lookup Tables'!$R$14","v":31.980600000000003},{"$f":"D879*'Lookup Tables'!$R$14","v":41.060300000000005},{"$f":"E879*'Lookup Tables'!$R$14","v":55.579100000000004},{"$f":"F879*'Lookup Tables'!$R$14","v":82.109700000000004},{"$f":"G879*'Lookup Tables'!$R$14","v":107.55030000000001}]
["11-2021","Marketing Managers",{"$f":"C880*'Lookup Tables'!$R$14","v":40.602500000000006},{"$f":"D880*'Lookup Tables'!$R$14","v":52.527100000000004},{"$f":"E880*'Lookup Tables'!$R$14","v":69.95620000000001},{"$f":"F880*'Lookup Tables'!$R$14","v":92.889800000000008},{"$f":"G880*'Lookup Tables'!$R$14","v":92.889800000000008}]
["11-2022","Sales Managers",{"$f":"C881*'Lookup Tables'!$R$14","v":31.991500000000006},{"$f":"D881*'Lookup Tables'!$R$14","v":44.831700000000005},{"$f":"E881*'Lookup Tables'!$R$14","v":67.165800000000004},{"$f":"F881*'Lookup Tables'!$R$14","v":95.778300000000016},{"$f":"G881*'Lookup Tables'!$R$14","v":95.778300000000016}]
["11-2030","Public Relations and Fundraising Managers",{"$f":"C882*'Lookup Tables'!$R$14","v":35.490400000000008},{"$f":"D882*'Lookup Tables'!$R$14","v":43.709000000000003},{"$f":"E882*'Lookup Tables'!$R$14","v":57.257700000000007},{"$f":"F882*'Lookup Tables'!$R$14","v":77.891400000000004},{"$f":"G882*'Lookup Tables'!$R$14","v":105.50110000000001}]
["11-3010","Administrative Services and Facilities Managers",{"$f":"C883*'Lookup Tables'!$R$14","v":32.362100000000005},{"$f":"D883*'Lookup Tables'!$R$14","v":41.954100000000004},{"$f":"E883*'Lookup Tables'!$R$14","v":52.102000000000004},{"$f":"F883*'Lookup Tables'!$R$14","v":67.045900000000003},{"$f":"G883*'Lookup Tables'!$R$14","v":86.011899999999997}]
["11-3021","Computer and Information Systems Managers",{"$f":"C884*'Lookup Tables'!$R$14","v":44.319400000000002},{"$f":"D884*'Lookup Tables'!$R$14","v":56.320300000000003},{"$f":"E884*'Lookup Tables'!$R$14","v":70.937200000000004},{"$f":"F884*'Lookup Tables'!$R$14","v":86.589600000000004},{"$f":"G884*'Lookup Tables'!$R$14","v":107.34320000000001}]
["11-3031","Financial Managers",{"$f":"C885*'Lookup Tables'!$R$14","v":37.888399999999997},{"$f":"D885*'Lookup Tables'!$R$14","v":51.458900000000007},{"$f":"E885*'Lookup Tables'!$R$14","v":70.283200000000008},{"$f":"F885*'Lookup Tables'!$R$14","v":96.530400000000014},{"$f":"G885*'Lookup Tables'!$R$14","v":96.530400000000014}]
["11-3051","Industrial Production Managers",{"$f":"C886*'Lookup Tables'!$R$14","v":34.836400000000005},{"$f":"D886*'Lookup Tables'!$R$14","v":43.534599999999998},{"$f":"E886*'Lookup Tables'!$R$14","v":54.380100000000006},{"$f":"F886*'Lookup Tables'!$R$14","v":70.163300000000007},{"$f":"G886*'Lookup Tables'!$R$14","v":87.581500000000005}]
["11-3061","Purchasing Managers",{"$f":"C887*'Lookup Tables'!$R$14","v":38.171800000000005},{"$f":"D887*'Lookup Tables'!$R$14","v":47.044400000000003},{"$f":"E887*'Lookup Tables'!$R$14","v":59.197900000000004},{"$f":"F887*'Lookup Tables'!$R$14","v":74.708600000000018},{"$f":"G887*'Lookup Tables'!$R$14","v":92.072299999999998}]
["11-3071","Transportation, Storage, and Distribution Managers",{"$f":"C888*'Lookup Tables'!$R$14","v":32.939799999999998},{"$f":"D888*'Lookup Tables'!$R$14","v":40.406300000000002},{"$f":"E888*'Lookup Tables'!$R$14","v":51.589700000000001},{"$f":"F888*'Lookup Tables'!$R$14","v":66.675300000000007},{"$f":"G888*'Lookup Tables'!$R$14","v":86.371600000000001}]
["11-3111","Compensation and Benefits Managers",{"$f":"C889*'Lookup Tables'!$R$14","v":30.6617},{"$f":"D889*'Lookup Tables'!$R$14","v":44.101400000000005},{"$f":"E889*'Lookup Tables'!$R$14","v":58.533000000000008},{"$f":"F889*'Lookup Tables'!$R$14","v":82.42580000000001},{"$f":"G889*'Lookup Tables'!$R$14","v":105.76270000000001}]
["11-3121","Human Resources Managers",{"$f":"C890*'Lookup Tables'!$R$14","v":37.866600000000005},{"$f":"D890*'Lookup Tables'!$R$14","v":46.717400000000005},{"$f":"E890*'Lookup Tables'!$R$14","v":59.426800000000007},{"$f":"F890*'Lookup Tables'!$R$14","v":78.109400000000008},{"$f":"G890*'Lookup Tables'!$R$14","v":103.82250000000001}]
["11-3131","Training and Development Managers",{"$f":"C891*'Lookup Tables'!$R$14","v":36.133499999999998},{"$f":"D891*'Lookup Tables'!$R$14","v":46.477600000000002},{"$f":"E891*'Lookup Tables'!$R$14","v":61.377900000000004},{"$f":"F891*'Lookup Tables'!$R$14","v":77.684300000000007},{"$f":"G891*'Lookup Tables'!$R$14","v":94.437600000000003}]
["11-9013","Farmers, Ranchers, and Other Agricultural Managers",{"$f":"C892*'Lookup Tables'!$R$14","v":30.956},{"$f":"D892*'Lookup Tables'!$R$14","v":37.158100000000005},{"$f":"E892*'Lookup Tables'!$R$14","v":44.057800000000007},{"$f":"F892*'Lookup Tables'!$R$14","v":52.472600000000007},{"$f":"G892*'Lookup Tables'!$R$14","v":72.397800000000004}]
["11-9021","Construction Managers",{"$f":"C893*'Lookup Tables'!$R$14","v":34.433100000000003},{"$f":"D893*'Lookup Tables'!$R$14","v":43.033200000000001},{"$f":"E893*'Lookup Tables'!$R$14","v":53.322800000000008},{"$f":"F893*'Lookup Tables'!$R$14","v":67.274799999999999},{"$f":"G893*'Lookup Tables'!$R$14","v":86.785800000000009}]
["11-9031","Education and Childcare Administrators, Preschool and Daycare",{"$f":"C894*'Lookup Tables'!$R$14","v":16.459},{"$f":"D894*'Lookup Tables'!$R$14","v":18.933300000000003},{"$f":"E894*'Lookup Tables'!$R$14","v":22.7592},{"$f":"F894*'Lookup Tables'!$R$14","v":26.770400000000002},{"$f":"G894*'Lookup Tables'!$R$14","v":33.321300000000001}]
["11-9032","Education Administrators, Kindergarten through Secondary","*","*","*","*","*"]
["11-9033","Education Administrators, Postsecondary",{"$f":"C896*'Lookup Tables'!$R$14","v":28.667000000000002},{"$f":"D896*'Lookup Tables'!$R$14","v":36.035400000000003},{"$f":"E896*'Lookup Tables'!$R$14","v":49.191700000000004},{"$f":"F896*'Lookup Tables'!$R$14","v":69.095100000000002},{"$f":"G896*'Lookup Tables'!$R$14","v":99.538799999999995}]
["11-9039","Education Administrators, All Other",{"$f":"C897*'Lookup Tables'!$R$14","v":23.140700000000002},{"$f":"D897*'Lookup Tables'!$R$14","v":31.446500000000004},{"$f":"E897*'Lookup Tables'!$R$14","v":41.038499999999999},{"$f":"F897*'Lookup Tables'!$R$14","v":51.262700000000002},{"$f":"G897*'Lookup Tables'!$R$14","v":60.0045}]
["11-9041","Architectural and Engineering Managers",{"$f":"C898*'Lookup Tables'!$R$14","v":49.159000000000006},{"$f":"D898*'Lookup Tables'!$R$14","v":59.66660000000001},{"$f":"E898*'Lookup Tables'!$R$14","v":70.839100000000002},{"$f":"F898*'Lookup Tables'!$R$14","v":85.3797},{"$f":"G898*'Lookup Tables'!$R$14","v":104.749}]
["11-9051","Food Service Managers",{"$f":"C899*'Lookup Tables'!$R$14","v":19.772600000000001},{"$f":"D899*'Lookup Tables'!$R$14","v":24.525000000000002},{"$f":"E899*'Lookup Tables'!$R$14","v":30.236599999999999},{"$f":"F899*'Lookup Tables'!$R$14","v":37.703100000000006},{"$f":"G899*'Lookup Tables'!$R$14","v":47.720200000000006}]
["11-9071","Gambling Managers",{"$f":"C900*'Lookup Tables'!$R$14","v":37.997399999999999},{"$f":"D900*'Lookup Tables'!$R$14","v":42.946000000000005},{"$f":"E900*'Lookup Tables'!$R$14","v":47.284200000000006},{"$f":"F900*'Lookup Tables'!$R$14","v":51.807700000000004},{"$f":"G900*'Lookup Tables'!$R$14","v":55.382900000000006}]
["11-9081","Lodging Managers",{"$f":"C901*'Lookup Tables'!$R$14","v":30.280200000000004},{"$f":"D901*'Lookup Tables'!$R$14","v":35.970000000000006},{"$f":"E901*'Lookup Tables'!$R$14","v":42.1721},{"$f":"F901*'Lookup Tables'!$R$14","v":51.829500000000003},{"$f":"G901*'Lookup Tables'!$R$14","v":67.231200000000001}]
["11-9111","Medical and Health Services Managers",{"$f":"C902*'Lookup Tables'!$R$14","v":36.133499999999998},{"$f":"D902*'Lookup Tables'!$R$14","v":43.251200000000004},{"$f":"E902*'Lookup Tables'!$R$14","v":53.366400000000006},{"$f":"F902*'Lookup Tables'!$R$14","v":68.953400000000002},{"$f":"G902*'Lookup Tables'!$R$14","v":98.154499999999999}]
["11-9121","Natural Sciences Managers",{"$f":"C903*'Lookup Tables'!$R$14","v":45.104200000000006},{"$f":"D903*'Lookup Tables'!$R$14","v":56.843500000000006},{"$f":"E903*'Lookup Tables'!$R$14","v":74.479700000000008},{"$f":"F903*'Lookup Tables'!$R$14","v":98.852100000000007},"*"]
["11-9131","Postmasters and Mail Superintendents",{"$f":"C904*'Lookup Tables'!$R$14","v":35.544900000000005},{"$f":"D904*'Lookup Tables'!$R$14","v":37.321600000000004},{"$f":"E904*'Lookup Tables'!$R$14","v":41.125700000000002},{"$f":"F904*'Lookup Tables'!$R$14","v":45.9435},{"$f":"G904*'Lookup Tables'!$R$14","v":49.845700000000001}]
["11-9141","Property, Real Estate, and Community Association Managers",{"$f":"C905*'Lookup Tables'!$R$14","v":16.8841},{"$f":"D905*'Lookup Tables'!$R$14","v":22.443100000000001},{"$f":"E905*'Lookup Tables'!$R$14","v":29.5717},{"$f":"F905*'Lookup Tables'!$R$14","v":38.411600000000007},{"$f":"G905*'Lookup Tables'!$R$14","v":60.342400000000005}]
["11-9151","Social and Community Service Managers",{"$f":"C906*'Lookup Tables'!$R$14","v":21.8218},{"$f":"D906*'Lookup Tables'!$R$14","v":27.282700000000002},{"$f":"E906*'Lookup Tables'!$R$14","v":33.615600000000001},{"$f":"F906*'Lookup Tables'!$R$14","v":43.621800000000007},{"$f":"G906*'Lookup Tables'!$R$14","v":56.004200000000004}]
["11-9161","Emergency Management Directors",{"$f":"C907*'Lookup Tables'!$R$14","v":25.407900000000001},{"$f":"D907*'Lookup Tables'!$R$14","v":29.397300000000001},{"$f":"E907*'Lookup Tables'!$R$14","v":35.980899999999998},{"$f":"F907*'Lookup Tables'!$R$14","v":43.578200000000002},{"$f":"G907*'Lookup Tables'!$R$14","v":52.396300000000004}]
["11-9171","Funeral Home Managers",{"$f":"C908*'Lookup Tables'!$R$14","v":25.745800000000003},{"$f":"D908*'Lookup Tables'!$R$14","v":34.542100000000005},{"$f":"E908*'Lookup Tables'!$R$14","v":40.820500000000003},{"$f":"F908*'Lookup Tables'!$R$14","v":52.930400000000006},{"$f":"G908*'Lookup Tables'!$R$14","v":82.469400000000007}]
["11-9198","Personal Service Managers, All Other; Entertainment and Recreation Managers, Except Gambling; and Managers, All Other",{"$f":"C909*'Lookup Tables'!$R$14","v":34.542100000000005},{"$f":"D909*'Lookup Tables'!$R$14","v":44.733600000000003},{"$f":"E909*'Lookup Tables'!$R$14","v":59.786500000000004},{"$f":"F909*'Lookup Tables'!$R$14","v":78.545400000000015},{"$f":"G909*'Lookup Tables'!$R$14","v":100.69420000000001}]
["13-0000","Business and Financial Operations Occupations",{"$f":"C910*'Lookup Tables'!$R$14","v":20.71},{"$f":"D910*'Lookup Tables'!$R$14","v":26.781300000000002},{"$f":"E910*'Lookup Tables'!$R$14","v":35.305100000000003},{"$f":"F910*'Lookup Tables'!$R$14","v":47.927300000000002},{"$f":"G910*'Lookup Tables'!$R$14","v":64.320900000000009}]
["13-1011","Agents and Business Managers of Artists, Performers, and Athletes",{"$f":"C911*'Lookup Tables'!$R$14","v":18.9224},{"$f":"D911*'Lookup Tables'!$R$14","v":25.288},{"$f":"E911*'Lookup Tables'!$R$14","v":32.155000000000001},{"$f":"F911*'Lookup Tables'!$R$14","v":52.200100000000006},"*"]
["13-1020","Buyers and Purchasing Agents",{"$f":"C912*'Lookup Tables'!$R$14","v":18.1267},{"$f":"D912*'Lookup Tables'!$R$14","v":23.870999999999999},{"$f":"E912*'Lookup Tables'!$R$14","v":30.988700000000001},{"$f":"F912*'Lookup Tables'!$R$14","v":40.439000000000007},{"$f":"G912*'Lookup Tables'!$R$14","v":51.949399999999997}]
["13-1031","Claims Adjusters, Examiners, and Investigators",{"$f":"C913*'Lookup Tables'!$R$14","v":21.462100000000003},{"$f":"D913*'Lookup Tables'!$R$14","v":25.200800000000005},{"$f":"E913*'Lookup Tables'!$R$14","v":32.340300000000006},{"$f":"F913*'Lookup Tables'!$R$14","v":40.373600000000003},{"$f":"G913*'Lookup Tables'!$R$14","v":48.308800000000005}]
["13-1032","Insurance Appraisers, Auto Damage",{"$f":"C914*'Lookup Tables'!$R$14","v":23.304200000000002},{"$f":"D914*'Lookup Tables'!$R$14","v":26.737700000000004},{"$f":"E914*'Lookup Tables'!$R$14","v":33.4848},{"$f":"F914*'Lookup Tables'!$R$14","v":41.518100000000004},{"$f":"G914*'Lookup Tables'!$R$14","v":48.134399999999999}]
["13-1041","Compliance Officers",{"$f":"C915*'Lookup Tables'!$R$14","v":20.622800000000005},{"$f":"D915*'Lookup Tables'!$R$14","v":25.07},{"$f":"E915*'Lookup Tables'!$R$14","v":33.430300000000003},{"$f":"F915*'Lookup Tables'!$R$14","v":43.196700000000007},{"$f":"G915*'Lookup Tables'!$R$14","v":53.628000000000007}]
["13-1051","Cost Estimators",{"$f":"C916*'Lookup Tables'!$R$14","v":17.799699999999998},{"$f":"D916*'Lookup Tables'!$R$14","v":24.285200000000003},{"$f":"E916*'Lookup Tables'!$R$14","v":32.013300000000001},{"$f":"F916*'Lookup Tables'!$R$14","v":41.24560000000001},{"$f":"G916*'Lookup Tables'!$R$14","v":51.84040000000001}]
["13-1071","Human Resources Specialists",{"$f":"C917*'Lookup Tables'!$R$14","v":20.252199999999998},{"$f":"D917*'Lookup Tables'!$R$14","v":24.830200000000001},{"$f":"E917*'Lookup Tables'!$R$14","v":31.522800000000004},{"$f":"F917*'Lookup Tables'!$R$14","v":41.398200000000003},{"$f":"G917*'Lookup Tables'!$R$14","v":53.442700000000002}]
["13-1075","Labor Relations Specialists",{"$f":"C918*'Lookup Tables'!$R$14","v":9.3413000000000004},{"$f":"D918*'Lookup Tables'!$R$14","v":19.696300000000001},{"$f":"E918*'Lookup Tables'!$R$14","v":32.689100000000003},{"$f":"F918*'Lookup Tables'!$R$14","v":43.981500000000004},{"$f":"G918*'Lookup Tables'!$R$14","v":55.786200000000001}]
["13-1081","Logisticians",{"$f":"C919*'Lookup Tables'!$R$14","v":22.377700000000004},{"$f":"D919*'Lookup Tables'!$R$14","v":28.274600000000003},{"$f":"E919*'Lookup Tables'!$R$14","v":36.558599999999998},{"$f":"F919*'Lookup Tables'!$R$14","v":47.741999999999997},{"$f":"G919*'Lookup Tables'!$R$14","v":60.015400000000007}]
["13-1111","Management Analysts",{"$f":"C920*'Lookup Tables'!$R$14","v":26.661400000000004},{"$f":"D920*'Lookup Tables'!$R$14","v":34.247800000000005},{"$f":"E920*'Lookup Tables'!$R$14","v":45.725500000000004},{"$f":"F920*'Lookup Tables'!$R$14","v":61.094500000000004},{"$f":"G920*'Lookup Tables'!$R$14","v":82.643799999999999}]
["13-1121","Meeting, Convention, and Event Planners",{"$f":"C921*'Lookup Tables'!$R$14","v":13.821200000000001},{"$f":"D921*'Lookup Tables'!$R$14","v":17.363700000000001},{"$f":"E921*'Lookup Tables'!$R$14","v":22.704699999999999},{"$f":"F921*'Lookup Tables'!$R$14","v":30.650800000000004},{"$f":"G921*'Lookup Tables'!$R$14","v":40.351800000000004}]
["13-1131","Fundraisers",{"$f":"C922*'Lookup Tables'!$R$14","v":18.322900000000001},{"$f":"D922*'Lookup Tables'!$R$14","v":22.988100000000003},{"$f":"E922*'Lookup Tables'!$R$14","v":28.885000000000002},{"$f":"F922*'Lookup Tables'!$R$14","v":36.689399999999999},{"$f":"G922*'Lookup Tables'!$R$14","v":43.894300000000008}]
["13-1141","Compensation, Benefits, and Job Analysis Specialists",{"$f":"C923*'Lookup Tables'!$R$14","v":21.909000000000002},{"$f":"D923*'Lookup Tables'!$R$14","v":25.822100000000002},{"$f":"E923*'Lookup Tables'!$R$14","v":32.656400000000005},{"$f":"F923*'Lookup Tables'!$R$14","v":43.534599999999998},{"$f":"G923*'Lookup Tables'!$R$14","v":54.151200000000003}]
["13-1151","Training and Development Specialists",{"$f":"C924*'Lookup Tables'!$R$14","v":17.843300000000003},{"$f":"D924*'Lookup Tables'!$R$14","v":23.565800000000003},{"$f":"E924*'Lookup Tables'!$R$14","v":31.043200000000002},{"$f":"F924*'Lookup Tables'!$R$14","v":41.1584},{"$f":"G924*'Lookup Tables'!$R$14","v":53.464500000000001}]
["13-1161","Market Research Analysts and Marketing Specialists",{"$f":"C925*'Lookup Tables'!$R$14","v":19.576400000000003},{"$f":"D925*'Lookup Tables'!$R$14","v":25.309799999999999},{"$f":"E925*'Lookup Tables'!$R$14","v":33.7682},{"$f":"F925*'Lookup Tables'!$R$14","v":46.139700000000005},{"$f":"G925*'Lookup Tables'!$R$14","v":61.759399999999999}]
["13-1198","Project Management Specialists and Business Operations Specialists, All Other",{"$f":"C926*'Lookup Tables'!$R$14","v":22.148800000000001},{"$f":"D926*'Lookup Tables'!$R$14","v":28.034800000000001},{"$f":"E926*'Lookup Tables'!$R$14","v":36.929200000000009},{"$f":"F926*'Lookup Tables'!$R$14","v":50.096400000000003},{"$f":"G926*'Lookup Tables'!$R$14","v":65.127499999999998}]
["13-2011","Accountants and Auditors",{"$f":"C927*'Lookup Tables'!$R$14","v":24.437800000000003},{"$f":"D927*'Lookup Tables'!$R$14","v":29.844200000000001},{"$f":"E927*'Lookup Tables'!$R$14","v":37.2562},{"$f":"F927*'Lookup Tables'!$R$14","v":48.592199999999998},{"$f":"G927*'Lookup Tables'!$R$14","v":63.732300000000002}]
["13-2020","Property Appraisers and Assessors",{"$f":"C928*'Lookup Tables'!$R$14","v":16.8078},{"$f":"D928*'Lookup Tables'!$R$14","v":21.603800000000003},{"$f":"E928*'Lookup Tables'!$R$14","v":29.233800000000002},{"$f":"F928*'Lookup Tables'!$R$14","v":37.201700000000002},{"$f":"G928*'Lookup Tables'!$R$14","v":50.270800000000001}]
["13-2031","Budget Analysts",{"$f":"C929*'Lookup Tables'!$R$14","v":24.852000000000004},{"$f":"D929*'Lookup Tables'!$R$14","v":30.389200000000002},{"$f":"E929*'Lookup Tables'!$R$14","v":37.550500000000007},{"$f":"F929*'Lookup Tables'!$R$14","v":45.998000000000005},{"$f":"G929*'Lookup Tables'!$R$14","v":53.693400000000004}]
["13-2041","Credit Analysts",{"$f":"C930*'Lookup Tables'!$R$14","v":24.623100000000001},{"$f":"D930*'Lookup Tables'!$R$14","v":30.116700000000002},{"$f":"E930*'Lookup Tables'!$R$14","v":40.090200000000003},{"$f":"F930*'Lookup Tables'!$R$14","v":57.388500000000001},{"$f":"G930*'Lookup Tables'!$R$14","v":75.351699999999994}]
["13-2052","Personal Financial Advisors",{"$f":"C931*'Lookup Tables'!$R$14","v":22.5412},{"$f":"D931*'Lookup Tables'!$R$14","v":30.6617},{"$f":"E931*'Lookup Tables'!$R$14","v":50.499700000000004},{"$f":"F931*'Lookup Tables'!$R$14","v":94.819100000000006},"*"]
["13-2053","Insurance Underwriters",{"$f":"C932*'Lookup Tables'!$R$14","v":22.770100000000003},{"$f":"D932*'Lookup Tables'!$R$14","v":27.369900000000001},{"$f":"E932*'Lookup Tables'!$R$14","v":36.634900000000002},{"$f":"F932*'Lookup Tables'!$R$14","v":49.431500000000007},{"$f":"G932*'Lookup Tables'!$R$14","v":63.983000000000011}]
["13-2061","Financial Examiners",{"$f":"C933*'Lookup Tables'!$R$14","v":18.159400000000002},{"$f":"D933*'Lookup Tables'!$R$14","v":22.2469},{"$f":"E933*'Lookup Tables'!$R$14","v":33.550200000000004},{"$f":"F933*'Lookup Tables'!$R$14","v":50.020100000000006},{"$f":"G933*'Lookup Tables'!$R$14","v":67.852500000000006}]
["13-2071","Credit Counselors",{"$f":"C934*'Lookup Tables'!$R$14","v":17.429100000000002},{"$f":"D934*'Lookup Tables'!$R$14","v":20.600999999999999},{"$f":"E934*'Lookup Tables'!$R$14","v":25.102700000000002},{"$f":"F934*'Lookup Tables'!$R$14","v":36.275200000000005},{"$f":"G934*'Lookup Tables'!$R$14","v":50.935699999999997}]
["13-2072","Loan Officers",{"$f":"C935*'Lookup Tables'!$R$14","v":18.889700000000001},{"$f":"D935*'Lookup Tables'!$R$14","v":24.328800000000001},{"$f":"E935*'Lookup Tables'!$R$14","v":33.811800000000005},{"$f":"F935*'Lookup Tables'!$R$14","v":46.444900000000004},{"$f":"G935*'Lookup Tables'!$R$14","v":69.182299999999998}]
["13-2081","Tax Examiners and Collectors, and Revenue Agents",{"$f":"C936*'Lookup Tables'!$R$14","v":19.729000000000003},{"$f":"D936*'Lookup Tables'!$R$14","v":23.653000000000002},{"$f":"E936*'Lookup Tables'!$R$14","v":30.062200000000001},{"$f":"F936*'Lookup Tables'!$R$14","v":39.730500000000006},{"$f":"G936*'Lookup Tables'!$R$14","v":49.987400000000001}]
["13-2082","Tax Preparers",{"$f":"C937*'Lookup Tables'!$R$14","v":8.8290000000000006},{"$f":"D937*'Lookup Tables'!$R$14","v":9.9844000000000008},{"$f":"E937*'Lookup Tables'!$R$14","v":12.644},{"$f":"F937*'Lookup Tables'!$R$14","v":28.972200000000001},{"$f":"G937*'Lookup Tables'!$R$14","v":48.254300000000008}]
["13-2098","Financial and Investment Analysts, Financial Risk Specialists, and Financial Specialists, All Other",{"$f":"C938*'Lookup Tables'!$R$14","v":27.457100000000004},{"$f":"D938*'Lookup Tables'!$R$14","v":32.852600000000002},{"$f":"E938*'Lookup Tables'!$R$14","v":42.335600000000007},{"$f":"F938*'Lookup Tables'!$R$14","v":53.791500000000006},{"$f":"G938*'Lookup Tables'!$R$14","v":69.607399999999998}]
["15-0000","Computer and Mathematical Occupations",{"$f":"C939*'Lookup Tables'!$R$14","v":23.456800000000001},{"$f":"D939*'Lookup Tables'!$R$14","v":32.340300000000006},{"$f":"E939*'Lookup Tables'!$R$14","v":45.071500000000007},{"$f":"F939*'Lookup Tables'!$R$14","v":59.928200000000004},{"$f":"G939*'Lookup Tables'!$R$14","v":73.858400000000017}]
["15-1211","Computer Systems Analysts",{"$f":"C940*'Lookup Tables'!$R$14","v":29.4954},{"$f":"D940*'Lookup Tables'!$R$14","v":37.06},{"$f":"E940*'Lookup Tables'!$R$14","v":47.469500000000004},{"$f":"F940*'Lookup Tables'!$R$14","v":60.09170000000001},{"$f":"G940*'Lookup Tables'!$R$14","v":72.092600000000004}]
["15-1212","Information Security Analysts",{"$f":"C941*'Lookup Tables'!$R$14","v":33.495700000000006},{"$f":"D941*'Lookup Tables'!$R$14","v":40.003000000000007},{"$f":"E941*'Lookup Tables'!$R$14","v":50.412500000000001},{"$f":"F941*'Lookup Tables'!$R$14","v":64.2119},{"$f":"G941*'Lookup Tables'!$R$14","v":78.698000000000008}]
["15-1221","Computer and Information Research Scientists",{"$f":"C942*'Lookup Tables'!$R$14","v":29.004900000000003},{"$f":"D942*'Lookup Tables'!$R$14","v":36.024499999999996},{"$f":"E942*'Lookup Tables'!$R$14","v":44.5047},{"$f":"F942*'Lookup Tables'!$R$14","v":58.772800000000004},{"$f":"G942*'Lookup Tables'!$R$14","v":81.259500000000003}]
["15-1231","Computer Network Support Specialists",{"$f":"C943*'Lookup Tables'!$R$14","v":19.7181},{"$f":"D943*'Lookup Tables'!$R$14","v":25.331600000000002},{"$f":"E943*'Lookup Tables'!$R$14","v":33.354000000000006},{"$f":"F943*'Lookup Tables'!$R$14","v":45.0824},{"$f":"G943*'Lookup Tables'!$R$14","v":56.418400000000005}]
["15-1232","Computer User Support Specialists",{"$f":"C944*'Lookup Tables'!$R$14","v":16.578900000000001},{"$f":"D944*'Lookup Tables'!$R$14","v":20.492000000000001},{"$f":"E944*'Lookup Tables'!$R$14","v":25.789400000000001},{"$f":"F944*'Lookup Tables'!$R$14","v":32.634600000000006},{"$f":"G944*'Lookup Tables'!$R$14","v":41.42}]
["15-1241","Computer Network Architects",{"$f":"C945*'Lookup Tables'!$R$14","v":32.732700000000001},{"$f":"D945*'Lookup Tables'!$R$14","v":41.452700000000007},{"$f":"E945*'Lookup Tables'!$R$14","v":55.971500000000006},{"$f":"F945*'Lookup Tables'!$R$14","v":70.403100000000009},{"$f":"G945*'Lookup Tables'!$R$14","v":84.398700000000019}]
["15-1244","Network and Computer Systems Administrators",{"$f":"C946*'Lookup Tables'!$R$14","v":26.203600000000002},{"$f":"D946*'Lookup Tables'!$R$14","v":33.495700000000006},{"$f":"E946*'Lookup Tables'!$R$14","v":43.316600000000008},{"$f":"F946*'Lookup Tables'!$R$14","v":54.478200000000001},{"$f":"G946*'Lookup Tables'!$R$14","v":66.718900000000005}]
["15-1245","Database Administrators and Architects",{"$f":"C947*'Lookup Tables'!$R$14","v":28.307300000000001},{"$f":"D947*'Lookup Tables'!$R$14","v":38.139100000000006},{"$f":"E947*'Lookup Tables'!$R$14","v":52.080200000000005},{"$f":"F947*'Lookup Tables'!$R$14","v":63.470700000000001},{"$f":"G947*'Lookup Tables'!$R$14","v":74.447000000000003}]
["15-1251","Computer Programmers",{"$f":"C948*'Lookup Tables'!$R$14","v":28.492600000000003},{"$f":"D948*'Lookup Tables'!$R$14","v":36.929200000000009},{"$f":"E948*'Lookup Tables'!$R$14","v":47.447700000000005},{"$f":"F948*'Lookup Tables'!$R$14","v":61.181700000000006},{"$f":"G948*'Lookup Tables'!$R$14","v":77.716999999999999}]
["15-1256","Software Developers and Software Quality Assurance Analysts and Testers",{"$f":"C949*'Lookup Tables'!$R$14","v":33.059699999999999},{"$f":"D949*'Lookup Tables'!$R$14","v":41.692500000000003},{"$f":"E949*'Lookup Tables'!$R$14","v":53.813299999999998},{"$f":"F949*'Lookup Tables'!$R$14","v":66.577200000000005},{"$f":"G949*'Lookup Tables'!$R$14","v":81.041499999999999}]
["15-1257","Web Developers and Digital Interface Designers",{"$f":"C950*'Lookup Tables'!$R$14","v":20.165000000000003},{"$f":"D950*'Lookup Tables'!$R$14","v":26.0837},{"$f":"E950*'Lookup Tables'!$R$14","v":35.468600000000002},{"$f":"F950*'Lookup Tables'!$R$14","v":50.695900000000002},{"$f":"G950*'Lookup Tables'!$R$14","v":65.356400000000008}]
["15-1299","Computer Occupations, All Other",{"$f":"C951*'Lookup Tables'!$R$14","v":24.317900000000002},{"$f":"D951*'Lookup Tables'!$R$14","v":33.855400000000003},{"$f":"E951*'Lookup Tables'!$R$14","v":44.995200000000004},{"$f":"F951*'Lookup Tables'!$R$14","v":58.424000000000007},{"$f":"G951*'Lookup Tables'!$R$14","v":69.040600000000012}]
["15-2011","Actuaries",{"$f":"C952*'Lookup Tables'!$R$14","v":35.239699999999999},{"$f":"D952*'Lookup Tables'!$R$14","v":45.496600000000008},{"$f":"E952*'Lookup Tables'!$R$14","v":64.560699999999997},{"$f":"F952*'Lookup Tables'!$R$14","v":90.132100000000008},{"$f":"G952*'Lookup Tables'!$R$14","v":107.58300000000001}]
["15-2031","Operations Research Analysts",{"$f":"C953*'Lookup Tables'!$R$14","v":26.181800000000003},{"$f":"D953*'Lookup Tables'!$R$14","v":34.051600000000001},{"$f":"E953*'Lookup Tables'!$R$14","v":45.812700000000007},{"$f":"F953*'Lookup Tables'!$R$14","v":58.729200000000006},{"$f":"G953*'Lookup Tables'!$R$14","v":69.08420000000001}]
["15-2041","Statisticians",{"$f":"C954*'Lookup Tables'!$R$14","v":33.877200000000002},{"$f":"D954*'Lookup Tables'!$R$14","v":42.826100000000004},{"$f":"E954*'Lookup Tables'!$R$14","v":52.287300000000002},{"$f":"F954*'Lookup Tables'!$R$14","v":64.29910000000001},{"$f":"G954*'Lookup Tables'!$R$14","v":79.22120000000001}]
["15-2098","Data Scientists and Mathematical Science Occupations, All Other",{"$f":"C955*'Lookup Tables'!$R$14","v":38.215400000000002},{"$f":"D955*'Lookup Tables'!$R$14","v":46.848199999999999},{"$f":"E955*'Lookup Tables'!$R$14","v":60.015400000000007},{"$f":"F955*'Lookup Tables'!$R$14","v":76.409000000000006},{"$f":"G955*'Lookup Tables'!$R$14","v":88.202800000000011}]
["17-0000","Architecture and Engineering Occupations",{"$f":"C956*'Lookup Tables'!$R$14","v":22.432199999999998},{"$f":"D956*'Lookup Tables'!$R$14","v":29.506300000000003},{"$f":"E956*'Lookup Tables'!$R$14","v":38.847600000000007},{"$f":"F956*'Lookup Tables'!$R$14","v":51.676900000000003},{"$f":"G956*'Lookup Tables'!$R$14","v":65.803300000000007}]
["17-1011","Architects, Except Landscape and Naval",{"$f":"C957*'Lookup Tables'!$R$14","v":25.909300000000002},{"$f":"D957*'Lookup Tables'!$R$14","v":31.261200000000002},{"$f":"E957*'Lookup Tables'!$R$14","v":39.545200000000001},{"$f":"F957*'Lookup Tables'!$R$14","v":50.685000000000002},{"$f":"G957*'Lookup Tables'!$R$14","v":64.429900000000004}]
["17-1012","Landscape Architects",{"$f":"C958*'Lookup Tables'!$R$14","v":24.535900000000005},{"$f":"D958*'Lookup Tables'!$R$14","v":29.321000000000002},{"$f":"E958*'Lookup Tables'!$R$14","v":35.675699999999999},{"$f":"F958*'Lookup Tables'!$R$14","v":47.415000000000006},{"$f":"G958*'Lookup Tables'!$R$14","v":64.462600000000009}]
["17-1021","Cartographers and Photogrammetrists",{"$f":"C959*'Lookup Tables'!$R$14","v":19.5655},{"$f":"D959*'Lookup Tables'!$R$14","v":23.98},{"$f":"E959*'Lookup Tables'!$R$14","v":31.435600000000001},{"$f":"F959*'Lookup Tables'!$R$14","v":38.716800000000006},{"$f":"G959*'Lookup Tables'!$R$14","v":44.254000000000005}]
["17-1022","Surveyors",{"$f":"C960*'Lookup Tables'!$R$14","v":21.189600000000002},{"$f":"D960*'Lookup Tables'!$R$14","v":27.664200000000001},{"$f":"E960*'Lookup Tables'!$R$14","v":35.817399999999999},{"$f":"F960*'Lookup Tables'!$R$14","v":43.262100000000004},{"$f":"G960*'Lookup Tables'!$R$14","v":54.162100000000002}]
["17-2011","Aerospace Engineers",{"$f":"C961*'Lookup Tables'!$R$14","v":31.413800000000002},{"$f":"D961*'Lookup Tables'!$R$14","v":38.455200000000005},{"$f":"E961*'Lookup Tables'!$R$14","v":48.777500000000003},{"$f":"F961*'Lookup Tables'!$R$14","v":58.1297},{"$f":"G961*'Lookup Tables'!$R$14","v":65.727000000000004}]
["17-2031","Bioengineers and Biomedical Engineers",{"$f":"C962*'Lookup Tables'!$R$14","v":29.669800000000002},{"$f":"D962*'Lookup Tables'!$R$14","v":35.904600000000002},{"$f":"E962*'Lookup Tables'!$R$14","v":44.036000000000001},{"$f":"F962*'Lookup Tables'!$R$14","v":53.322800000000008},{"$f":"G962*'Lookup Tables'!$R$14","v":67.253000000000014}]
["17-2041","Chemical Engineers",{"$f":"C963*'Lookup Tables'!$R$14","v":34.476700000000001},{"$f":"D963*'Lookup Tables'!$R$14","v":42.531800000000004},{"$f":"E963*'Lookup Tables'!$R$14","v":53.933199999999999},{"$f":"F963*'Lookup Tables'!$R$14","v":66.141199999999998},{"$f":"G963*'Lookup Tables'!$R$14","v":80.1477}]
["17-2051","Civil Engineers",{"$f":"C964*'Lookup Tables'!$R$14","v":29.059400000000004},{"$f":"D964*'Lookup Tables'!$R$14","v":35.010800000000003},{"$f":"E964*'Lookup Tables'!$R$14","v":42.858800000000002},{"$f":"F964*'Lookup Tables'!$R$14","v":54.456400000000002},{"$f":"G964*'Lookup Tables'!$R$14","v":67.176700000000011}]
["17-2061","Computer Hardware Engineers",{"$f":"C965*'Lookup Tables'!$R$14","v":30.258400000000005},{"$f":"D965*'Lookup Tables'!$R$14","v":42.967800000000004},{"$f":"E965*'Lookup Tables'!$R$14","v":58.827300000000001},{"$f":"F965*'Lookup Tables'!$R$14","v":73.171700000000001},{"$f":"G965*'Lookup Tables'!$R$14","v":85.46690000000001}]
["17-2071","Electrical Engineers",{"$f":"C966*'Lookup Tables'!$R$14","v":31.184900000000003},{"$f":"D966*'Lookup Tables'!$R$14","v":38.433399999999999},{"$f":"E966*'Lookup Tables'!$R$14","v":49.529600000000002},{"$f":"F966*'Lookup Tables'!$R$14","v":63.612400000000001},{"$f":"G966*'Lookup Tables'!$R$14","v":78.185700000000011}]
["17-2072","Electronics Engineers, Except Computer",{"$f":"C967*'Lookup Tables'!$R$14","v":30.182100000000002},{"$f":"D967*'Lookup Tables'!$R$14","v":38.106400000000001},{"$f":"E967*'Lookup Tables'!$R$14","v":49.660400000000003},{"$f":"F967*'Lookup Tables'!$R$14","v":64.680600000000013},{"$f":"G967*'Lookup Tables'!$R$14","v":81.237700000000004}]
["17-2081","Environmental Engineers",{"$f":"C968*'Lookup Tables'!$R$14","v":29.157500000000002},{"$f":"D968*'Lookup Tables'!$R$14","v":33.953499999999998},{"$f":"E968*'Lookup Tables'!$R$14","v":40.907700000000006},{"$f":"F968*'Lookup Tables'!$R$14","v":55.263000000000005},{"$f":"G968*'Lookup Tables'!$R$14","v":69.324000000000012}]
["17-2111","Health and Safety Engineers, Except Mining Safety Engineers and Inspectors",{"$f":"C969*'Lookup Tables'!$R$14","v":28.950400000000002},{"$f":"D969*'Lookup Tables'!$R$14","v":32.983400000000003},{"$f":"E969*'Lookup Tables'!$R$14","v":43.273000000000003},{"$f":"F969*'Lookup Tables'!$R$14","v":53.126600000000003},{"$f":"G969*'Lookup Tables'!$R$14","v":63.503399999999999}]
["17-2112","Industrial Engineers",{"$f":"C970*'Lookup Tables'!$R$14","v":29.037600000000001},{"$f":"D970*'Lookup Tables'!$R$14","v":35.6648},{"$f":"E970*'Lookup Tables'!$R$14","v":43.752600000000001},{"$f":"F970*'Lookup Tables'!$R$14","v":53.104800000000004},{"$f":"G970*'Lookup Tables'!$R$14","v":64.887700000000009}]
["17-2121","Marine Engineers and Naval Architects",{"$f":"C971*'Lookup Tables'!$R$14","v":26.846700000000002},{"$f":"D971*'Lookup Tables'!$R$14","v":34.411300000000004},{"$f":"E971*'Lookup Tables'!$R$14","v":41.790600000000005},{"$f":"F971*'Lookup Tables'!$R$14","v":50.881200000000007},{"$f":"G971*'Lookup Tables'!$R$14","v":61.247100000000003}]
["17-2131","Materials Engineers",{"$f":"C972*'Lookup Tables'!$R$14","v":31.9697},{"$f":"D972*'Lookup Tables'!$R$14","v":38.585999999999999},{"$f":"E972*'Lookup Tables'!$R$14","v":48.167099999999998},{"$f":"F972*'Lookup Tables'!$R$14","v":60.756600000000006},{"$f":"G972*'Lookup Tables'!$R$14","v":73.673100000000005}]
["17-2141","Mechanical Engineers",{"$f":"C973*'Lookup Tables'!$R$14","v":28.176500000000004},{"$f":"D973*'Lookup Tables'!$R$14","v":34.727400000000003},{"$f":"E973*'Lookup Tables'!$R$14","v":42.673500000000004},{"$f":"F973*'Lookup Tables'!$R$14","v":53.148400000000002},{"$f":"G973*'Lookup Tables'!$R$14","v":67.34020000000001}]
["17-2199","Engineers, All Other",{"$f":"C974*'Lookup Tables'!$R$14","v":20.186800000000002},{"$f":"D974*'Lookup Tables'!$R$14","v":31.762600000000003},{"$f":"E974*'Lookup Tables'!$R$14","v":46.139700000000005},{"$f":"F974*'Lookup Tables'!$R$14","v":59.426800000000007},{"$f":"G974*'Lookup Tables'!$R$14","v":72.768400000000014}]
["17-3011","Architectural and Civil Drafters",{"$f":"C975*'Lookup Tables'!$R$14","v":19.129500000000004},{"$f":"D975*'Lookup Tables'!$R$14","v":23.326000000000001},{"$f":"E975*'Lookup Tables'!$R$14","v":28.558},{"$f":"F975*'Lookup Tables'!$R$14","v":33.550200000000004},{"$f":"G975*'Lookup Tables'!$R$14","v":40.177400000000006}]
["17-3012","Electrical and Electronics Drafters",{"$f":"C976*'Lookup Tables'!$R$14","v":16.132000000000001},{"$f":"D976*'Lookup Tables'!$R$14","v":19.467400000000001},{"$f":"E976*'Lookup Tables'!$R$14","v":25.048200000000001},{"$f":"F976*'Lookup Tables'!$R$14","v":31.468300000000003},{"$f":"G976*'Lookup Tables'!$R$14","v":38.891200000000005}]
["17-3013","Mechanical Drafters",{"$f":"C977*'Lookup Tables'!$R$14","v":19.62},{"$f":"D977*'Lookup Tables'!$R$14","v":23.892800000000005},{"$f":"E977*'Lookup Tables'!$R$14","v":29.506300000000003},{"$f":"F977*'Lookup Tables'!$R$14","v":37.1145},{"$f":"G977*'Lookup Tables'!$R$14","v":46.303199999999997}]
["17-3019","Drafters, All Other",{"$f":"C978*'Lookup Tables'!$R$14","v":16.764200000000002},{"$f":"D978*'Lookup Tables'!$R$14","v":18.7698},{"$f":"E978*'Lookup Tables'!$R$14","v":23.0535},{"$f":"F978*'Lookup Tables'!$R$14","v":33.6374},{"$f":"G978*'Lookup Tables'!$R$14","v":47.011700000000005}]
["17-3022","Civil Engineering Technologists and Technicians",{"$f":"C979*'Lookup Tables'!$R$14","v":17.549000000000003},{"$f":"D979*'Lookup Tables'!$R$14","v":21.712800000000005},{"$f":"E979*'Lookup Tables'!$R$14","v":27.064699999999998},{"$f":"F979*'Lookup Tables'!$R$14","v":30.705300000000005},{"$f":"G979*'Lookup Tables'!$R$14","v":35.708399999999997}]
["17-3023","Electrical and Electronic Engineering Technologists and Technicians",{"$f":"C980*'Lookup Tables'!$R$14","v":20.132300000000001},{"$f":"D980*'Lookup Tables'!$R$14","v":25.309799999999999},{"$f":"E980*'Lookup Tables'!$R$14","v":32.558300000000003},{"$f":"F980*'Lookup Tables'!$R$14","v":38.487900000000003},{"$f":"G980*'Lookup Tables'!$R$14","v":45.017000000000003}]
["17-3024","Electro-Mechanical and Mechatronics Technologists and Technicians",{"$f":"C981*'Lookup Tables'!$R$14","v":17.014900000000001},{"$f":"D981*'Lookup Tables'!$R$14","v":24.873800000000003},{"$f":"E981*'Lookup Tables'!$R$14","v":30.258400000000005},{"$f":"F981*'Lookup Tables'!$R$14","v":35.632100000000001},{"$f":"G981*'Lookup Tables'!$R$14","v":44.112300000000005}]
["17-3025","Environmental Engineering Technologists and Technicians",{"$f":"C982*'Lookup Tables'!$R$14","v":13.832100000000001},{"$f":"D982*'Lookup Tables'!$R$14","v":20.851700000000001},{"$f":"E982*'Lookup Tables'!$R$14","v":28.994000000000003},{"$f":"F982*'Lookup Tables'!$R$14","v":32.863500000000002},{"$f":"G982*'Lookup Tables'!$R$14","v":37.594100000000005}]
["17-3026","Industrial Engineering Technologists and Technicians",{"$f":"C983*'Lookup Tables'!$R$14","v":18.366500000000002},{"$f":"D983*'Lookup Tables'!$R$14","v":22.0398},{"$f":"E983*'Lookup Tables'!$R$14","v":26.105500000000003},{"$f":"F983*'Lookup Tables'!$R$14","v":31.326599999999999},{"$f":"G983*'Lookup Tables'!$R$14","v":36.634900000000002}]
["17-3027","Mechanical Engineering Technologists and Technicians",{"$f":"C984*'Lookup Tables'!$R$14","v":19.423800000000004},{"$f":"D984*'Lookup Tables'!$R$14","v":23.424099999999999},{"$f":"E984*'Lookup Tables'!$R$14","v":28.677900000000001},{"$f":"F984*'Lookup Tables'!$R$14","v":33.452100000000002},{"$f":"G984*'Lookup Tables'!$R$14","v":40.395400000000002}]
["17-3031","Surveying and Mapping Technicians",{"$f":"C985*'Lookup Tables'!$R$14","v":14.769500000000003},{"$f":"D985*'Lookup Tables'!$R$14","v":18.246600000000001},{"$f":"E985*'Lookup Tables'!$R$14","v":22.661100000000001},{"$f":"F985*'Lookup Tables'!$R$14","v":28.612500000000001},{"$f":"G985*'Lookup Tables'!$R$14","v":34.869100000000003}]
["17-3098","Calibration Technologists and Technicians and Engineering Technologists and Technicians, Except Drafters, All Other",{"$f":"C986*'Lookup Tables'!$R$14","v":22.0943},{"$f":"D986*'Lookup Tables'!$R$14","v":30.476400000000002},{"$f":"E986*'Lookup Tables'!$R$14","v":36.177100000000003},{"$f":"F986*'Lookup Tables'!$R$14","v":41.114800000000002},{"$f":"G986*'Lookup Tables'!$R$14","v":49.431500000000007}]
["19-0000","Life, Physical, and Social Science Occupations",{"$f":"C987*'Lookup Tables'!$R$14","v":19.6418},{"$f":"D987*'Lookup Tables'!$R$14","v":25.222600000000003},{"$f":"E987*'Lookup Tables'!$R$14","v":32.503800000000005},{"$f":"F987*'Lookup Tables'!$R$14","v":44.853500000000004},{"$f":"G987*'Lookup Tables'!$R$14","v":60.996400000000008}]
["19-1011","Animal Scientists","*","*","*","*","*"]
["19-1012","Food Scientists and Technologists",{"$f":"C989*'Lookup Tables'!$R$14","v":18.235700000000001},{"$f":"D989*'Lookup Tables'!$R$14","v":20.982500000000002},{"$f":"E989*'Lookup Tables'!$R$14","v":29.113900000000005},{"$f":"F989*'Lookup Tables'!$R$14","v":37.528700000000001},{"$f":"G989*'Lookup Tables'!$R$14","v":52.799599999999998}]
["19-1013","Soil and Plant Scientists",{"$f":"C990*'Lookup Tables'!$R$14","v":18.420999999999999},{"$f":"D990*'Lookup Tables'!$R$14","v":22.595700000000001},{"$f":"E990*'Lookup Tables'!$R$14","v":28.4054},{"$f":"F990*'Lookup Tables'!$R$14","v":38.313500000000005},{"$f":"G990*'Lookup Tables'!$R$14","v":49.311600000000006}]
["19-1021","Biochemists and Biophysicists",{"$f":"C991*'Lookup Tables'!$R$14","v":29.735200000000003},{"$f":"D991*'Lookup Tables'!$R$14","v":35.871899999999997},{"$f":"E991*'Lookup Tables'!$R$14","v":44.570100000000004},{"$f":"F991*'Lookup Tables'!$R$14","v":56.821700000000007},{"$f":"G991*'Lookup Tables'!$R$14","v":67.34020000000001}]
["19-1022","Microbiologists",{"$f":"C992*'Lookup Tables'!$R$14","v":22.857300000000002},{"$f":"D992*'Lookup Tables'!$R$14","v":27.042899999999999},{"$f":"E992*'Lookup Tables'!$R$14","v":32.100500000000004},{"$f":"F992*'Lookup Tables'!$R$14","v":40.308199999999999},{"$f":"G992*'Lookup Tables'!$R$14","v":60.495000000000005}]
["19-1023","Zoologists and Wildlife Biologists",{"$f":"C993*'Lookup Tables'!$R$14","v":22.0943},{"$f":"D993*'Lookup Tables'!$R$14","v":24.601300000000002},{"$f":"E993*'Lookup Tables'!$R$14","v":28.416300000000003},{"$f":"F993*'Lookup Tables'!$R$14","v":35.294200000000004},{"$f":"G993*'Lookup Tables'!$R$14","v":47.425899999999999}]
["19-1029","Biological Scientists, All Other",{"$f":"C994*'Lookup Tables'!$R$14","v":24.557700000000004},{"$f":"D994*'Lookup Tables'!$R$14","v":34.640200000000007},{"$f":"E994*'Lookup Tables'!$R$14","v":43.578200000000002},{"$f":"F994*'Lookup Tables'!$R$14","v":51.785900000000005},{"$f":"G994*'Lookup Tables'!$R$14","v":70.533900000000003}]
["19-1031","Conservation Scientists",{"$f":"C995*'Lookup Tables'!$R$14","v":19.881599999999999},{"$f":"D995*'Lookup Tables'!$R$14","v":24.023600000000002},{"$f":"E995*'Lookup Tables'!$R$14","v":30.5091},{"$f":"F995*'Lookup Tables'!$R$14","v":42.302900000000008},{"$f":"G995*'Lookup Tables'!$R$14","v":51.818600000000004}]
["19-1032","Foresters",{"$f":"C996*'Lookup Tables'!$R$14","v":21.680100000000003},{"$f":"D996*'Lookup Tables'!$R$14","v":27.326300000000003},{"$f":"E996*'Lookup Tables'!$R$14","v":32.591000000000001},{"$f":"F996*'Lookup Tables'!$R$14","v":39.654200000000003},{"$f":"G996*'Lookup Tables'!$R$14","v":49.507800000000003}]
["19-1041","Epidemiologists",{"$f":"C997*'Lookup Tables'!$R$14","v":26.279900000000001},{"$f":"D997*'Lookup Tables'!$R$14","v":30.825200000000002},{"$f":"E997*'Lookup Tables'!$R$14","v":34.967199999999998},{"$f":"F997*'Lookup Tables'!$R$14","v":44.417500000000004},{"$f":"G997*'Lookup Tables'!$R$14","v":53.584400000000002}]
["19-1042","Medical Scientists, Except Epidemiologists",{"$f":"C998*'Lookup Tables'!$R$14","v":27.424400000000002},{"$f":"D998*'Lookup Tables'!$R$14","v":32.449300000000001},{"$f":"E998*'Lookup Tables'!$R$14","v":44.995200000000004},{"$f":"F998*'Lookup Tables'!$R$14","v":63.383500000000005},{"$f":"G998*'Lookup Tables'!$R$14","v":84.126200000000011}]
["19-1099","Life Scientists, All Other",{"$f":"C999*'Lookup Tables'!$R$14","v":29.4954},{"$f":"D999*'Lookup Tables'!$R$14","v":37.365200000000002},{"$f":"E999*'Lookup Tables'!$R$14","v":51.676900000000003},{"$f":"F999*'Lookup Tables'!$R$14","v":65.835999999999999},{"$f":"G999*'Lookup Tables'!$R$14","v":80.649100000000004}]
["19-2012","Physicists",{"$f":"C1000*'Lookup Tables'!$R$14","v":29.593500000000002},{"$f":"D1000*'Lookup Tables'!$R$14","v":47.327800000000003},{"$f":"E1000*'Lookup Tables'!$R$14","v":73.466000000000008},{"$f":"F1000*'Lookup Tables'!$R$14","v":93.216800000000006},"*"]
["19-2021","Atmospheric and Space Scientists",{"$f":"C1001*'Lookup Tables'!$R$14","v":22.573900000000002},{"$f":"D1001*'Lookup Tables'!$R$14","v":27.849500000000003},{"$f":"E1001*'Lookup Tables'!$R$14","v":46.303199999999997},{"$f":"F1001*'Lookup Tables'!$R$14","v":53.747900000000008},{"$f":"G1001*'Lookup Tables'!$R$14","v":61.585000000000008}]
["19-2031","Chemists",{"$f":"C1002*'Lookup Tables'!$R$14","v":24.012700000000002},{"$f":"D1002*'Lookup Tables'!$R$14","v":29.2774},{"$f":"E1002*'Lookup Tables'!$R$14","v":38.520600000000009},{"$f":"F1002*'Lookup Tables'!$R$14","v":51.84040000000001},{"$f":"G1002*'Lookup Tables'!$R$14","v":66.370100000000008}]
["19-2032","Materials Scientists",{"$f":"C1003*'Lookup Tables'!$R$14","v":42.967800000000004},{"$f":"D1003*'Lookup Tables'!$R$14","v":47.829200000000007},{"$f":"E1003*'Lookup Tables'!$R$14","v":55.415600000000005},{"$f":"F1003*'Lookup Tables'!$R$14","v":69.302199999999999},{"$f":"G1003*'Lookup Tables'!$R$14","v":85.565000000000012}]
["19-2041","Environmental Scientists and Specialists, Including Health",{"$f":"C1004*'Lookup Tables'!$R$14","v":21.919900000000002},{"$f":"D1004*'Lookup Tables'!$R$14","v":25.724000000000004},{"$f":"E1004*'Lookup Tables'!$R$14","v":31.021400000000003},{"$f":"F1004*'Lookup Tables'!$R$14","v":39.588800000000006},{"$f":"G1004*'Lookup Tables'!$R$14","v":52.112900000000003}]
["19-2042","Geoscientists, Except Hydrologists and Geographers",{"$f":"C1005*'Lookup Tables'!$R$14","v":25.026400000000002},{"$f":"D1005*'Lookup Tables'!$R$14","v":29.081200000000003},{"$f":"E1005*'Lookup Tables'!$R$14","v":35.294200000000004},{"$f":"F1005*'Lookup Tables'!$R$14","v":44.853500000000004},{"$f":"G1005*'Lookup Tables'!$R$14","v":55.938800000000008}]
["19-2043","Hydrologists",{"$f":"C1006*'Lookup Tables'!$R$14","v":27.653300000000002},{"$f":"D1006*'Lookup Tables'!$R$14","v":29.746100000000002},{"$f":"E1006*'Lookup Tables'!$R$14","v":33.430300000000003},{"$f":"F1006*'Lookup Tables'!$R$14","v":37.419699999999999},{"$f":"G1006*'Lookup Tables'!$R$14","v":69.433000000000007}]
["19-2099","Physical Scientists, All Other",{"$f":"C1007*'Lookup Tables'!$R$14","v":26.901200000000003},{"$f":"D1007*'Lookup Tables'!$R$14","v":32.612800000000007},{"$f":"E1007*'Lookup Tables'!$R$14","v":48.951900000000002},{"$f":"F1007*'Lookup Tables'!$R$14","v":63.438000000000009},{"$f":"G1007*'Lookup Tables'!$R$14","v":76.76870000000001}]
["19-3011","Economists",{"$f":"C1008*'Lookup Tables'!$R$14","v":28.525300000000005},{"$f":"D1008*'Lookup Tables'!$R$14","v":32.3185},{"$f":"E1008*'Lookup Tables'!$R$14","v":41.583500000000001},{"$f":"F1008*'Lookup Tables'!$R$14","v":51.785900000000005},{"$f":"G1008*'Lookup Tables'!$R$14","v":58.631100000000004}]
["19-3022","Survey Researchers",{"$f":"C1009*'Lookup Tables'!$R$14","v":21.843600000000002},{"$f":"D1009*'Lookup Tables'!$R$14","v":27.402600000000003},{"$f":"E1009*'Lookup Tables'!$R$14","v":33.866300000000003},{"$f":"F1009*'Lookup Tables'!$R$14","v":45.376700000000007},{"$f":"G1009*'Lookup Tables'!$R$14","v":58.914500000000004}]
["19-3031","Clinical, Counseling, and School Psychologists",{"$f":"C1010*'Lookup Tables'!$R$14","v":23.892800000000005},{"$f":"D1010*'Lookup Tables'!$R$14","v":28.895900000000005},{"$f":"E1010*'Lookup Tables'!$R$14","v":34.662000000000006},{"$f":"F1010*'Lookup Tables'!$R$14","v":46.172400000000003},{"$f":"G1010*'Lookup Tables'!$R$14","v":65.280100000000004}]
["19-3039","Psychologists, All Other",{"$f":"C1011*'Lookup Tables'!$R$14","v":24.960999999999999},{"$f":"D1011*'Lookup Tables'!$R$14","v":38.847600000000007},{"$f":"E1011*'Lookup Tables'!$R$14","v":52.102000000000004},{"$f":"F1011*'Lookup Tables'!$R$14","v":56.3857},{"$f":"G1011*'Lookup Tables'!$R$14","v":59.873700000000007}]
["19-3041","Sociologists",{"$f":"C1012*'Lookup Tables'!$R$14","v":33.092400000000005},{"$f":"D1012*'Lookup Tables'!$R$14","v":45.965300000000006},{"$f":"E1012*'Lookup Tables'!$R$14","v":57.693700000000007},{"$f":"F1012*'Lookup Tables'!$R$14","v":70.065200000000004},{"$f":"G1012*'Lookup Tables'!$R$14","v":86.218999999999994}]
["19-3051","Urban and Regional Planners",{"$f":"C1013*'Lookup Tables'!$R$14","v":22.999000000000002},{"$f":"D1013*'Lookup Tables'!$R$14","v":27.3154},{"$f":"E1013*'Lookup Tables'!$R$14","v":33.528400000000005},{"$f":"F1013*'Lookup Tables'!$R$14","v":40.755100000000006},{"$f":"G1013*'Lookup Tables'!$R$14","v":49.224400000000003}]
["19-3091","Anthropologists and Archeologists",{"$f":"C1014*'Lookup Tables'!$R$14","v":20.699100000000001},{"$f":"D1014*'Lookup Tables'!$R$14","v":23.838300000000004},{"$f":"E1014*'Lookup Tables'!$R$14","v":34.0625},{"$f":"F1014*'Lookup Tables'!$R$14","v":42.368299999999998},{"$f":"G1014*'Lookup Tables'!$R$14","v":48.1235}]
["19-3093","Historians",{"$f":"C1015*'Lookup Tables'!$R$14","v":22.454000000000004},{"$f":"D1015*'Lookup Tables'!$R$14","v":24.448700000000002},{"$f":"E1015*'Lookup Tables'!$R$14","v":28.895900000000005},{"$f":"F1015*'Lookup Tables'!$R$14","v":46.423100000000005},{"$f":"G1015*'Lookup Tables'!$R$14","v":55.982400000000005}]
["19-3099","Social Scientists and Related Workers, All Other",{"$f":"C1016*'Lookup Tables'!$R$14","v":24.6449},{"$f":"D1016*'Lookup Tables'!$R$14","v":29.037600000000001},{"$f":"E1016*'Lookup Tables'!$R$14","v":34.989000000000004},{"$f":"F1016*'Lookup Tables'!$R$14","v":43.818000000000005},{"$f":"G1016*'Lookup Tables'!$R$14","v":54.456400000000002}]
["19-4010","Agricultural and Food Science Technicians",{"$f":"C1017*'Lookup Tables'!$R$14","v":14.584200000000003},{"$f":"D1017*'Lookup Tables'!$R$14","v":18.0504},{"$f":"E1017*'Lookup Tables'!$R$14","v":20.8081},{"$f":"F1017*'Lookup Tables'!$R$14","v":27.162800000000004},{"$f":"G1017*'Lookup Tables'!$R$14","v":35.861000000000004}]
["19-4021","Biological Technicians",{"$f":"C1018*'Lookup Tables'!$R$14","v":15.772300000000001},{"$f":"D1018*'Lookup Tables'!$R$14","v":17.985000000000003},{"$f":"E1018*'Lookup Tables'!$R$14","v":21.396699999999999},{"$f":"F1018*'Lookup Tables'!$R$14","v":28.3291},{"$f":"G1018*'Lookup Tables'!$R$14","v":33.986200000000004}]
["19-4031","Chemical Technicians",{"$f":"C1019*'Lookup Tables'!$R$14","v":17.320100000000004},{"$f":"D1019*'Lookup Tables'!$R$14","v":21.113300000000002},{"$f":"E1019*'Lookup Tables'!$R$14","v":26.988400000000002},{"$f":"F1019*'Lookup Tables'!$R$14","v":32.503800000000005},{"$f":"G1019*'Lookup Tables'!$R$14","v":38.422499999999999}]
["19-4042","Environmental Science and Protection Technicians, Including Health",{"$f":"C1020*'Lookup Tables'!$R$14","v":14.889400000000002},{"$f":"D1020*'Lookup Tables'!$R$14","v":17.701599999999999},{"$f":"E1020*'Lookup Tables'!$R$14","v":21.636500000000002},{"$f":"F1020*'Lookup Tables'!$R$14","v":27.3154},{"$f":"G1020*'Lookup Tables'!$R$14","v":33.354000000000006}]
["19-4045","Geological and Hydrologic Technicians",{"$f":"C1021*'Lookup Tables'!$R$14","v":17.788800000000002},{"$f":"D1021*'Lookup Tables'!$R$14","v":18.966000000000001},{"$f":"E1021*'Lookup Tables'!$R$14","v":20.786300000000001},{"$f":"F1021*'Lookup Tables'!$R$14","v":26.312600000000003},{"$f":"G1021*'Lookup Tables'!$R$14","v":36.286100000000005}]
["19-4061","Social Science Research Assistants",{"$f":"C1022*'Lookup Tables'!$R$14","v":16.9495},{"$f":"D1022*'Lookup Tables'!$R$14","v":20.840800000000002},{"$f":"E1022*'Lookup Tables'!$R$14","v":24.677600000000002},{"$f":"F1022*'Lookup Tables'!$R$14","v":29.844200000000001},{"$f":"G1022*'Lookup Tables'!$R$14","v":34.018900000000002}]
["19-4071","Forest and Conservation Technicians",{"$f":"C1023*'Lookup Tables'!$R$14","v":16.535299999999999},{"$f":"D1023*'Lookup Tables'!$R$14","v":17.494500000000002},{"$f":"E1023*'Lookup Tables'!$R$14","v":21.309500000000003},{"$f":"F1023*'Lookup Tables'!$R$14","v":24.154400000000003},{"$f":"G1023*'Lookup Tables'!$R$14","v":27.620600000000003}]
["19-4092","Forensic Science Technicians",{"$f":"C1024*'Lookup Tables'!$R$14","v":18.104900000000001},{"$f":"D1024*'Lookup Tables'!$R$14","v":20.993400000000005},{"$f":"E1024*'Lookup Tables'!$R$14","v":23.947300000000002},{"$f":"F1024*'Lookup Tables'!$R$14","v":28.165600000000001},{"$f":"G1024*'Lookup Tables'!$R$14","v":34.335000000000001}]
["19-4099","Life, Physical, and Social Science Technicians, All Other",{"$f":"C1025*'Lookup Tables'!$R$14","v":17.352800000000002},{"$f":"D1025*'Lookup Tables'!$R$14","v":21.985300000000002},{"$f":"E1025*'Lookup Tables'!$R$14","v":28.383600000000001},{"$f":"F1025*'Lookup Tables'!$R$14","v":32.3185},{"$f":"G1025*'Lookup Tables'!$R$14","v":38.782200000000003}]
["19-5011","Occupational Health and Safety Specialists",{"$f":"C1026*'Lookup Tables'!$R$14","v":23.522200000000002},{"$f":"D1026*'Lookup Tables'!$R$14","v":28.743300000000005},{"$f":"E1026*'Lookup Tables'!$R$14","v":35.893700000000003},{"$f":"F1026*'Lookup Tables'!$R$14","v":43.414700000000003},{"$f":"G1026*'Lookup Tables'!$R$14","v":53.27920000000001}]
["19-5012","Occupational Health and Safety Technicians",{"$f":"C1027*'Lookup Tables'!$R$14","v":17.625300000000003},{"$f":"D1027*'Lookup Tables'!$R$14","v":22.257800000000003},{"$f":"E1027*'Lookup Tables'!$R$14","v":27.980300000000003},{"$f":"F1027*'Lookup Tables'!$R$14","v":35.555799999999998},{"$f":"G1027*'Lookup Tables'!$R$14","v":44.363000000000007}]
["21-0000","Community and Social Service Occupations",{"$f":"C1028*'Lookup Tables'!$R$14","v":15.129200000000003},{"$f":"D1028*'Lookup Tables'!$R$14","v":19.238499999999998},{"$f":"E1028*'Lookup Tables'!$R$14","v":23.805600000000002},{"$f":"F1028*'Lookup Tables'!$R$14","v":29.288300000000003},{"$f":"G1028*'Lookup Tables'!$R$14","v":34.531200000000005}]
["21-1012","Educational, Guidance, and Career Counselors and Advisors",{"$f":"C1029*'Lookup Tables'!$R$14","v":18.431900000000002},{"$f":"D1029*'Lookup Tables'!$R$14","v":22.922700000000003},{"$f":"E1029*'Lookup Tables'!$R$14","v":27.326300000000003},{"$f":"F1029*'Lookup Tables'!$R$14","v":31.795300000000005},{"$f":"G1029*'Lookup Tables'!$R$14","v":36.765700000000002}]
["21-1013","Marriage and Family Therapists",{"$f":"C1030*'Lookup Tables'!$R$14","v":17.222000000000001},{"$f":"D1030*'Lookup Tables'!$R$14","v":18.824300000000001},{"$f":"E1030*'Lookup Tables'!$R$14","v":21.810900000000004},{"$f":"F1030*'Lookup Tables'!$R$14","v":25.091800000000003},{"$f":"G1030*'Lookup Tables'!$R$14","v":29.2011}]
["21-1015","Rehabilitation Counselors",{"$f":"C1031*'Lookup Tables'!$R$14","v":11.445},{"$f":"D1031*'Lookup Tables'!$R$14","v":14.246300000000002},{"$f":"E1031*'Lookup Tables'!$R$14","v":21.189600000000002},{"$f":"F1031*'Lookup Tables'!$R$14","v":24.873800000000003},{"$f":"G1031*'Lookup Tables'!$R$14","v":29.321000000000002}]
["21-1018","Substance Abuse, Behavioral Disorder, and Mental Health Counselors",{"$f":"C1032*'Lookup Tables'!$R$14","v":17.2547},{"$f":"D1032*'Lookup Tables'!$R$14","v":20.230399999999999},{"$f":"E1032*'Lookup Tables'!$R$14","v":24.743000000000002},{"$f":"F1032*'Lookup Tables'!$R$14","v":30.552700000000005},{"$f":"G1032*'Lookup Tables'!$R$14","v":36.776600000000002}]
["21-1019","Counselors, All Other",{"$f":"C1033*'Lookup Tables'!$R$14","v":14.736800000000001},{"$f":"D1033*'Lookup Tables'!$R$14","v":17.211100000000002},{"$f":"E1033*'Lookup Tables'!$R$14","v":22.290500000000002},{"$f":"F1033*'Lookup Tables'!$R$14","v":27.435300000000005},{"$f":"G1033*'Lookup Tables'!$R$14","v":32.591000000000001}]
["21-1021","Child, Family, and School Social Workers",{"$f":"C1034*'Lookup Tables'!$R$14","v":17.734300000000001},{"$f":"D1034*'Lookup Tables'!$R$14","v":21.135100000000001},{"$f":"E1034*'Lookup Tables'!$R$14","v":24.579500000000003},{"$f":"F1034*'Lookup Tables'!$R$14","v":29.299200000000003},{"$f":"G1034*'Lookup Tables'!$R$14","v":34.073400000000007}]
["21-1022","Healthcare Social Workers",{"$f":"C1035*'Lookup Tables'!$R$14","v":20.568300000000004},{"$f":"D1035*'Lookup Tables'!$R$14","v":23.718400000000003},{"$f":"E1035*'Lookup Tables'!$R$14","v":28.340000000000003},{"$f":"F1035*'Lookup Tables'!$R$14","v":32.656400000000005},{"$f":"G1035*'Lookup Tables'!$R$14","v":38.531500000000001}]
["21-1023","Mental Health and Substance Abuse Social Workers",{"$f":"C1036*'Lookup Tables'!$R$14","v":19.750800000000002},{"$f":"D1036*'Lookup Tables'!$R$14","v":22.780999999999999},{"$f":"E1036*'Lookup Tables'!$R$14","v":26.923000000000002},{"$f":"F1036*'Lookup Tables'!$R$14","v":31.468300000000003},{"$f":"G1036*'Lookup Tables'!$R$14","v":37.016400000000004}]
["21-1029","Social Workers, All Other",{"$f":"C1037*'Lookup Tables'!$R$14","v":18.028600000000001},{"$f":"D1037*'Lookup Tables'!$R$14","v":18.976900000000001},{"$f":"E1037*'Lookup Tables'!$R$14","v":33.234099999999998},{"$f":"F1037*'Lookup Tables'!$R$14","v":39.741400000000006},{"$f":"G1037*'Lookup Tables'!$R$14","v":43.828900000000004}]
["21-1091","Health Education Specialists",{"$f":"C1038*'Lookup Tables'!$R$14","v":18.53},{"$f":"D1038*'Lookup Tables'!$R$14","v":22.050700000000003},{"$f":"E1038*'Lookup Tables'!$R$14","v":27.5443},{"$f":"F1038*'Lookup Tables'!$R$14","v":36.0899},{"$f":"G1038*'Lookup Tables'!$R$14","v":44.613700000000001}]
["21-1092","Probation Officers and Correctional Treatment Specialists",{"$f":"C1039*'Lookup Tables'!$R$14","v":20.197700000000001},{"$f":"D1039*'Lookup Tables'!$R$14","v":21.211400000000001},{"$f":"E1039*'Lookup Tables'!$R$14","v":22.672000000000004},{"$f":"F1039*'Lookup Tables'!$R$14","v":25.037300000000002},{"$f":"G1039*'Lookup Tables'!$R$14","v":28.241900000000001}]
["21-1093","Social and Human Service Assistants",{"$f":"C1040*'Lookup Tables'!$R$14","v":11.314200000000001},{"$f":"D1040*'Lookup Tables'!$R$14","v":13.537800000000001},{"$f":"E1040*'Lookup Tables'!$R$14","v":16.698800000000002},{"$f":"F1040*'Lookup Tables'!$R$14","v":20.971599999999999},{"$f":"G1040*'Lookup Tables'!$R$14","v":25.4297}]
["21-1094","Community Health Workers",{"$f":"C1041*'Lookup Tables'!$R$14","v":11.4777},{"$f":"D1041*'Lookup Tables'!$R$14","v":15.270900000000001},{"$f":"E1041*'Lookup Tables'!$R$14","v":19.042300000000001},{"$f":"F1041*'Lookup Tables'!$R$14","v":23.391400000000004},{"$f":"G1041*'Lookup Tables'!$R$14","v":30.530900000000003}]
["21-1099","Community and Social Service Specialists, All Other",{"$f":"C1042*'Lookup Tables'!$R$14","v":15.630600000000001},{"$f":"D1042*'Lookup Tables'!$R$14","v":18.660800000000002},{"$f":"E1042*'Lookup Tables'!$R$14","v":22.726500000000001},{"$f":"F1042*'Lookup Tables'!$R$14","v":27.947600000000001},{"$f":"G1042*'Lookup Tables'!$R$14","v":32.351199999999999}]
["21-2011","Clergy",{"$f":"C1043*'Lookup Tables'!$R$14","v":15.794100000000002},{"$f":"D1043*'Lookup Tables'!$R$14","v":19.2712},{"$f":"E1043*'Lookup Tables'!$R$14","v":25.189900000000002},{"$f":"F1043*'Lookup Tables'!$R$14","v":30.857900000000001},{"$f":"G1043*'Lookup Tables'!$R$14","v":37.5396}]
["21-2021","Directors, Religious Activities and Education",{"$f":"C1044*'Lookup Tables'!$R$14","v":25.822100000000002},{"$f":"D1044*'Lookup Tables'!$R$14","v":35.970000000000006},{"$f":"E1044*'Lookup Tables'!$R$14","v":43.022300000000001},{"$f":"F1044*'Lookup Tables'!$R$14","v":53.301000000000002},{"$f":"G1044*'Lookup Tables'!$R$14","v":63.525200000000005}]
["21-2099","Religious Workers, All Other",{"$f":"C1045*'Lookup Tables'!$R$14","v":9.2650000000000006},{"$f":"D1045*'Lookup Tables'!$R$14","v":10.801900000000002},{"$f":"E1045*'Lookup Tables'!$R$14","v":16.938600000000001},{"$f":"F1045*'Lookup Tables'!$R$14","v":23.326000000000001},{"$f":"G1045*'Lookup Tables'!$R$14","v":36.711200000000005}]
["23-0000","Legal Occupations",{"$f":"C1046*'Lookup Tables'!$R$14","v":17.407300000000003},{"$f":"D1046*'Lookup Tables'!$R$14","v":23.391400000000004},{"$f":"E1046*'Lookup Tables'!$R$14","v":33.441200000000002},{"$f":"F1046*'Lookup Tables'!$R$14","v":59.819200000000009},{"$f":"G1046*'Lookup Tables'!$R$14","v":104.31300000000002}]
["23-1011","Lawyers",{"$f":"C1047*'Lookup Tables'!$R$14","v":28.198300000000003},{"$f":"D1047*'Lookup Tables'!$R$14","v":36.820200000000007},{"$f":"E1047*'Lookup Tables'!$R$14","v":54.87060000000001},{"$f":"F1047*'Lookup Tables'!$R$14","v":91.363799999999998},"*"]
["23-1021","Administrative Law Judges, Adjudicators, and Hearing Officers",{"$f":"C1048*'Lookup Tables'!$R$14","v":23.6312},{"$f":"D1048*'Lookup Tables'!$R$14","v":28.688800000000004},{"$f":"E1048*'Lookup Tables'!$R$14","v":53.3446},{"$f":"F1048*'Lookup Tables'!$R$14","v":70.762800000000013},{"$f":"G1048*'Lookup Tables'!$R$14","v":91.440100000000001}]
["23-1022","Arbitrators, Mediators, and Conciliators",{"$f":"C1049*'Lookup Tables'!$R$14","v":15.238200000000001},{"$f":"D1049*'Lookup Tables'!$R$14","v":19.848900000000004},{"$f":"E1049*'Lookup Tables'!$R$14","v":25.865700000000004},{"$f":"F1049*'Lookup Tables'!$R$14","v":33.659199999999998},{"$f":"G1049*'Lookup Tables'!$R$14","v":36.460500000000003}]
["23-2011","Paralegals and Legal Assistants",{"$f":"C1050*'Lookup Tables'!$R$14","v":14.9984},{"$f":"D1050*'Lookup Tables'!$R$14","v":18.5518},{"$f":"E1050*'Lookup Tables'!$R$14","v":23.598500000000001},{"$f":"F1050*'Lookup Tables'!$R$14","v":29.767900000000001},{"$f":"G1050*'Lookup Tables'!$R$14","v":36.722099999999998}]
["23-2093","Title Examiners, Abstractors, and Searchers",{"$f":"C1051*'Lookup Tables'!$R$14","v":18.083100000000002},{"$f":"D1051*'Lookup Tables'!$R$14","v":21.789100000000001},{"$f":"E1051*'Lookup Tables'!$R$14","v":26.835800000000003},{"$f":"F1051*'Lookup Tables'!$R$14","v":32.198599999999999},{"$f":"G1051*'Lookup Tables'!$R$14","v":38.357100000000003}]
["23-2099","Legal Support Workers, All Other",{"$f":"C1052*'Lookup Tables'!$R$14","v":19.510999999999999},{"$f":"D1052*'Lookup Tables'!$R$14","v":22.007100000000005},{"$f":"E1052*'Lookup Tables'!$R$14","v":26.530600000000003},{"$f":"F1052*'Lookup Tables'!$R$14","v":52.712400000000002},{"$f":"G1052*'Lookup Tables'!$R$14","v":70.588400000000007}]
["25-0000","Educational Instruction and Library Occupations",{"$f":"C1053*'Lookup Tables'!$R$14","v":11.663},{"$f":"D1053*'Lookup Tables'!$R$14","v":15.565200000000001},{"$f":"E1053*'Lookup Tables'!$R$14","v":23.805600000000002},{"$f":"F1053*'Lookup Tables'!$R$14","v":31.261200000000002},{"$f":"G1053*'Lookup Tables'!$R$14","v":40.896800000000006}]
["25-1011","Business Teachers, Postsecondary","*","*","*","*","*"]
["25-1021","Computer Science Teachers, Postsecondary","*","*","*","*","*"]
["25-1022","Mathematical Science Teachers, Postsecondary","*","*","*","*","*"]
["25-1031","Architecture Teachers, Postsecondary","*","*","*","*","*"]
["25-1032","Engineering Teachers, Postsecondary","*","*","*","*","*"]
["25-1041","Agricultural Sciences Teachers, Postsecondary","*","*","*","*","*"]
["25-1042","Biological Science Teachers, Postsecondary","*","*","*","*","*"]
["25-1043","Forestry and Conservation Science Teachers, Postsecondary","*","*","*","*","*"]
["25-1051","Atmospheric, Earth, Marine, and Space Sciences Teachers, Postsecondary","*","*","*","*","*"]
["25-1052","Chemistry Teachers, Postsecondary","*","*","*","*","*"]
["25-1053","Environmental Science Teachers, Postsecondary","*","*","*","*","*"]
["25-1054","Physics Teachers, Postsecondary","*","*","*","*","*"]
["25-1061","Anthropology and Archeology Teachers, Postsecondary","*","*","*","*","*"]
["25-1062","Area, Ethnic, and Cultural Studies Teachers, Postsecondary","*","*","*","*","*"]
["25-1063","Economics Teachers, Postsecondary","*","*","*","*","*"]
["25-1064","Geography Teachers, Postsecondary","*","*","*","*","*"]
["25-1065","Political Science Teachers, Postsecondary","*","*","*","*","*"]
["25-1066","Psychology Teachers, Postsecondary","*","*","*","*","*"]
["25-1067","Sociology Teachers, Postsecondary","*","*","*","*","*"]
["25-1069","Social Sciences Teachers, Postsecondary, All Other","*","*","*","*","*"]
["25-1071","Health Specialties Teachers, Postsecondary","*","*","*","*","*"]
["25-1072","Nursing Instructors and Teachers, Postsecondary","*","*","*","*","*"]
["25-1081","Education Teachers, Postsecondary","*","*","*","*","*"]
["25-1082","Library Science Teachers, Postsecondary","*","*","*","*","*"]
["25-1111","Criminal Justice and Law Enforcement Teachers, Postsecondary","*","*","*","*","*"]
["25-1112","Law Teachers, Postsecondary","*","*","*","*","*"]
["25-1113","Social Work Teachers, Postsecondary","*","*","*","*","*"]
["25-1121","Art, Drama, and Music Teachers, Postsecondary","*","*","*","*","*"]
["25-1122","Communications Teachers, Postsecondary","*","*","*","*","*"]
["25-1123","English Language and Literature Teachers, Postsecondary","*","*","*","*","*"]
["25-1124","Foreign Language and Literature Teachers, Postsecondary","*","*","*","*","*"]
["25-1125","History Teachers, Postsecondary","*","*","*","*","*"]
["25-1126","Philosophy and Religion Teachers, Postsecondary","*","*","*","*","*"]
["25-1193","Recreation and Fitness Studies Teachers, Postsecondary","*","*","*","*","*"]
["25-1194","Career/Technical Education Teachers, Postsecondary",{"$f":"C1088*'Lookup Tables'!$R$14","v":18.595400000000001},{"$f":"D1088*'Lookup Tables'!$R$14","v":23.326000000000001},{"$f":"E1088*'Lookup Tables'!$R$14","v":29.059400000000004},{"$f":"F1088*'Lookup Tables'!$R$14","v":33.986200000000004},{"$f":"G1088*'Lookup Tables'!$R$14","v":41.507200000000005}]
["25-1199","Postsecondary Teachers, All Other","*","*","*","*","*"]
["25-2011","Preschool Teachers, Except Special Education",{"$f":"C1090*'Lookup Tables'!$R$14","v":9.7664000000000009},{"$f":"D1090*'Lookup Tables'!$R$14","v":11.4886},{"$f":"E1090*'Lookup Tables'!$R$14","v":13.984700000000002},{"$f":"F1090*'Lookup Tables'!$R$14","v":16.513500000000001},{"$f":"G1090*'Lookup Tables'!$R$14","v":21.331300000000002}]
["25-2012","Kindergarten Teachers, Except Special Education","*","*","*","*","*"]
["25-2021","Elementary School Teachers, Except Special Education","*","*","*","*","*"]
["25-2022","Middle School Teachers, Except Special and Career/Technical Education","*","*","*","*","*"]
["25-2023","Career/Technical Education Teachers, Middle School","*","*","*","*","*"]
["25-2031","Secondary School Teachers, Except Special and Career/Technical Education","*","*","*","*","*"]
["25-2032","Career/Technical Education Teachers, Secondary School","*","*","*","*","*"]
["25-2051","Special Education Teachers, Preschool","*","*","*","*","*"]
["25-2052","Special Education Teachers, Kindergarten and Elementary School","*","*","*","*","*"]
["25-2057","Special Education Teachers, Middle School","*","*","*","*","*"]
["25-2058","Special Education Teachers, Secondary School","*","*","*","*","*"]
["25-2059","Special Education Teachers, All Other","*","*","*","*","*"]
["25-3011","Adult Basic Education, Adult Secondary Education, and English as a Second Language Instructors",{"$f":"C1102*'Lookup Tables'!$R$14","v":17.211100000000002},{"$f":"D1102*'Lookup Tables'!$R$14","v":20.8735},{"$f":"E1102*'Lookup Tables'!$R$14","v":25.113600000000002},{"$f":"F1102*'Lookup Tables'!$R$14","v":30.607199999999999},{"$f":"G1102*'Lookup Tables'!$R$14","v":36.002700000000004}]
["25-3021","Self-Enrichment Teachers",{"$f":"C1103*'Lookup Tables'!$R$14","v":9.3849},{"$f":"D1103*'Lookup Tables'!$R$14","v":11.314200000000001},{"$f":"E1103*'Lookup Tables'!$R$14","v":15.412600000000001},{"$f":"F1103*'Lookup Tables'!$R$14","v":22.050700000000003},{"$f":"G1103*'Lookup Tables'!$R$14","v":31.871600000000001}]
["25-3031","Substitute Teachers, Short-Term",{"$f":"C1104*'Lookup Tables'!$R$14","v":10.2133},{"$f":"D1104*'Lookup Tables'!$R$14","v":11.0962},{"$f":"E1104*'Lookup Tables'!$R$14","v":12.262500000000001},{"$f":"F1104*'Lookup Tables'!$R$14","v":13.690400000000002},{"$f":"G1104*'Lookup Tables'!$R$14","v":15.685100000000002}]
["25-3097","Tutors and Teachers and Instructors, All Other","*","*","*","*","*"]
["25-4011","Archivists",{"$f":"C1106*'Lookup Tables'!$R$14","v":20.906200000000002},{"$f":"D1106*'Lookup Tables'!$R$14","v":23.075300000000002},{"$f":"E1106*'Lookup Tables'!$R$14","v":26.290800000000004},{"$f":"F1106*'Lookup Tables'!$R$14","v":31.5991},{"$f":"G1106*'Lookup Tables'!$R$14","v":41.125700000000002}]
["25-4012","Curators",{"$f":"C1107*'Lookup Tables'!$R$14","v":18.028600000000001},{"$f":"D1107*'Lookup Tables'!$R$14","v":21.407600000000002},{"$f":"E1107*'Lookup Tables'!$R$14","v":23.98},{"$f":"F1107*'Lookup Tables'!$R$14","v":30.062200000000001},{"$f":"G1107*'Lookup Tables'!$R$14","v":39.098300000000002}]
["25-4013","Museum Technicians and Conservators",{"$f":"C1108*'Lookup Tables'!$R$14","v":9.9298999999999999},{"$f":"D1108*'Lookup Tables'!$R$14","v":12.011800000000001},{"$f":"E1108*'Lookup Tables'!$R$14","v":16.862300000000001},{"$f":"F1108*'Lookup Tables'!$R$14","v":22.410399999999999},{"$f":"G1108*'Lookup Tables'!$R$14","v":27.8931}]
["25-4022","Librarians and Media Collections Specialists",{"$f":"C1109*'Lookup Tables'!$R$14","v":21.0261},{"$f":"D1109*'Lookup Tables'!$R$14","v":24.394200000000001},{"$f":"E1109*'Lookup Tables'!$R$14","v":29.288300000000003},{"$f":"F1109*'Lookup Tables'!$R$14","v":34.051600000000001},{"$f":"G1109*'Lookup Tables'!$R$14","v":40.842300000000002}]
["25-4031","Library Technicians",{"$f":"C1110*'Lookup Tables'!$R$14","v":12.229800000000001},{"$f":"D1110*'Lookup Tables'!$R$14","v":15.325400000000002},{"$f":"E1110*'Lookup Tables'!$R$14","v":18.660800000000002},{"$f":"F1110*'Lookup Tables'!$R$14","v":21.680100000000003},{"$f":"G1110*'Lookup Tables'!$R$14","v":25.843900000000001}]
["25-9021","Farm and Home Management Educators",{"$f":"C1111*'Lookup Tables'!$R$14","v":11.009},{"$f":"D1111*'Lookup Tables'!$R$14","v":14.257200000000001},{"$f":"E1111*'Lookup Tables'!$R$14","v":19.314800000000002},{"$f":"F1111*'Lookup Tables'!$R$14","v":24.808400000000002},{"$f":"G1111*'Lookup Tables'!$R$14","v":29.953200000000002}]
["25-9031","Instructional Coordinators",{"$f":"C1112*'Lookup Tables'!$R$14","v":19.674500000000002},{"$f":"D1112*'Lookup Tables'!$R$14","v":24.634000000000004},{"$f":"E1112*'Lookup Tables'!$R$14","v":30.345600000000001},{"$f":"F1112*'Lookup Tables'!$R$14","v":36.438700000000004},{"$f":"G1112*'Lookup Tables'!$R$14","v":41.910500000000006}]
["25-9044","Teaching Assistants, Postsecondary","*","*","*","*","*"]
["25-9045","Teaching Assistants, Except Postsecondary","*","*","*","*","*"]
["25-9099","Educational Instruction and Library Workers, All Other",{"$f":"C1115*'Lookup Tables'!$R$14","v":14.3771},{"$f":"D1115*'Lookup Tables'!$R$14","v":19.0641},{"$f":"E1115*'Lookup Tables'!$R$14","v":26.345300000000005},{"$f":"F1115*'Lookup Tables'!$R$14","v":36.820200000000007},{"$f":"G1115*'Lookup Tables'!$R$14","v":51.110100000000003}]
["27-0000","Arts, Design, Entertainment, Sports, and Media Occupations",{"$f":"C1116*'Lookup Tables'!$R$14","v":11.575799999999999},{"$f":"D1116*'Lookup Tables'!$R$14","v":16.404500000000002},{"$f":"E1116*'Lookup Tables'!$R$14","v":24.089000000000002},{"$f":"F1116*'Lookup Tables'!$R$14","v":35.435900000000004},{"$f":"G1116*'Lookup Tables'!$R$14","v":50.554200000000009}]
["27-1011","Art Directors",{"$f":"C1117*'Lookup Tables'!$R$14","v":28.023900000000005},{"$f":"D1117*'Lookup Tables'!$R$14","v":36.6785},{"$f":"E1117*'Lookup Tables'!$R$14","v":46.543000000000006},{"$f":"F1117*'Lookup Tables'!$R$14","v":59.66660000000001},{"$f":"G1117*'Lookup Tables'!$R$14","v":79.504599999999996}]
["27-1012","Craft Artists",{"$f":"C1118*'Lookup Tables'!$R$14","v":10.998100000000001},{"$f":"D1118*'Lookup Tables'!$R$14","v":14.039200000000001},{"$f":"E1118*'Lookup Tables'!$R$14","v":18.453700000000001},{"$f":"F1118*'Lookup Tables'!$R$14","v":23.707500000000003},{"$f":"G1118*'Lookup Tables'!$R$14","v":34.9236}]
["27-1013","Fine Artists, Including Painters, Sculptors, and Illustrators",{"$f":"C1119*'Lookup Tables'!$R$14","v":8.7200000000000006},{"$f":"D1119*'Lookup Tables'!$R$14","v":9.6247000000000007},{"$f":"E1119*'Lookup Tables'!$R$14","v":18.137600000000003},{"$f":"F1119*'Lookup Tables'!$R$14","v":25.800300000000004},{"$f":"G1119*'Lookup Tables'!$R$14","v":33.517500000000005}]
["27-1014","Special Effects Artists and Animators",{"$f":"C1120*'Lookup Tables'!$R$14","v":23.740200000000002},{"$f":"D1120*'Lookup Tables'!$R$14","v":30.596300000000003},{"$f":"E1120*'Lookup Tables'!$R$14","v":37.866600000000005},{"$f":"F1120*'Lookup Tables'!$R$14","v":43.687200000000004},{"$f":"G1120*'Lookup Tables'!$R$14","v":53.301000000000002}]
["27-1019","Artists and Related Workers, All Other",{"$f":"C1121*'Lookup Tables'!$R$14","v":21.3749},{"$f":"D1121*'Lookup Tables'!$R$14","v":23.958200000000001},{"$f":"E1121*'Lookup Tables'!$R$14","v":29.2011},{"$f":"F1121*'Lookup Tables'!$R$14","v":36.624000000000002},{"$f":"G1121*'Lookup Tables'!$R$14","v":49.126300000000001}]
["27-1021","Commercial and Industrial Designers",{"$f":"C1122*'Lookup Tables'!$R$14","v":21.658300000000004},{"$f":"D1122*'Lookup Tables'!$R$14","v":29.244700000000002},{"$f":"E1122*'Lookup Tables'!$R$14","v":40.395400000000002},{"$f":"F1122*'Lookup Tables'!$R$14","v":58.413100000000007},{"$f":"G1122*'Lookup Tables'!$R$14","v":72.397800000000004}]
["27-1022","Fashion Designers",{"$f":"C1123*'Lookup Tables'!$R$14","v":21.287700000000005},{"$f":"D1123*'Lookup Tables'!$R$14","v":25.843900000000001},{"$f":"E1123*'Lookup Tables'!$R$14","v":36.057200000000002},{"$f":"F1123*'Lookup Tables'!$R$14","v":44.744500000000002},{"$f":"G1123*'Lookup Tables'!$R$14","v":58.315000000000005}]
["27-1023","Floral Designers",{"$f":"C1124*'Lookup Tables'!$R$14","v":10.246},{"$f":"D1124*'Lookup Tables'!$R$14","v":12.4587},{"$f":"E1124*'Lookup Tables'!$R$14","v":15.1074},{"$f":"F1124*'Lookup Tables'!$R$14","v":18.606300000000001},{"$f":"G1124*'Lookup Tables'!$R$14","v":22.454000000000004}]
["27-1024","Graphic Designers",{"$f":"C1125*'Lookup Tables'!$R$14","v":13.930200000000001},{"$f":"D1125*'Lookup Tables'!$R$14","v":18.53},{"$f":"E1125*'Lookup Tables'!$R$14","v":24.917400000000001},{"$f":"F1125*'Lookup Tables'!$R$14","v":33.299500000000002},{"$f":"G1125*'Lookup Tables'!$R$14","v":42.837000000000003}]
["27-1025","Interior Designers",{"$f":"C1126*'Lookup Tables'!$R$14","v":15.924900000000001},{"$f":"D1126*'Lookup Tables'!$R$14","v":20.426600000000001},{"$f":"E1126*'Lookup Tables'!$R$14","v":26.617800000000003},{"$f":"F1126*'Lookup Tables'!$R$14","v":36.035400000000003},{"$f":"G1126*'Lookup Tables'!$R$14","v":43.7744}]
["27-1026","Merchandise Displayers and Window Trimmers",{"$f":"C1127*'Lookup Tables'!$R$14","v":11.619400000000001},{"$f":"D1127*'Lookup Tables'!$R$14","v":13.516000000000002},{"$f":"E1127*'Lookup Tables'!$R$14","v":16.775100000000002},{"$f":"F1127*'Lookup Tables'!$R$14","v":20.535600000000002},{"$f":"G1127*'Lookup Tables'!$R$14","v":26.770400000000002}]
["27-1027","Set and Exhibit Designers",{"$f":"C1128*'Lookup Tables'!$R$14","v":16.851400000000002},{"$f":"D1128*'Lookup Tables'!$R$14","v":21.3749},{"$f":"E1128*'Lookup Tables'!$R$14","v":29.462700000000002},{"$f":"F1128*'Lookup Tables'!$R$14","v":38.509700000000002},{"$f":"G1128*'Lookup Tables'!$R$14","v":47.905500000000004}]
["27-1029","Designers, All Other",{"$f":"C1129*'Lookup Tables'!$R$14","v":13.407000000000002},{"$f":"D1129*'Lookup Tables'!$R$14","v":17.1675},{"$f":"E1129*'Lookup Tables'!$R$14","v":20.350300000000004},{"$f":"F1129*'Lookup Tables'!$R$14","v":25.909300000000002},{"$f":"G1129*'Lookup Tables'!$R$14","v":31.315700000000003}]
["27-2011","Actors",{"$f":"C1130*'Lookup Tables'!$R$14","v":11.357800000000001},{"$f":"D1130*'Lookup Tables'!$R$14","v":12.731200000000001},{"$f":"E1130*'Lookup Tables'!$R$14","v":20.982500000000002},{"$f":"F1130*'Lookup Tables'!$R$14","v":56.5274},{"$f":"G1130*'Lookup Tables'!$R$14","v":99.015600000000006}]
["27-2012","Producers and Directors",{"$f":"C1131*'Lookup Tables'!$R$14","v":11.499500000000001},{"$f":"D1131*'Lookup Tables'!$R$14","v":19.107700000000001},{"$f":"E1131*'Lookup Tables'!$R$14","v":29.342800000000004},{"$f":"F1131*'Lookup Tables'!$R$14","v":42.597200000000001},{"$f":"G1131*'Lookup Tables'!$R$14","v":54.282000000000004}]
["27-2021","Athletes and Sports Competitors","*","*","*","*","*"]
["27-2022","Coaches and Scouts","*","*","*","*","*"]
["27-2023","Umpires, Referees, and Other Sports Officials","*","*","*","*","*"]
["27-2031","Dancers",{"$f":"C1135*'Lookup Tables'!$R$14","v":8.8399000000000001},{"$f":"D1135*'Lookup Tables'!$R$14","v":9.5266000000000002},{"$f":"E1135*'Lookup Tables'!$R$14","v":10.671099999999999},{"$f":"F1135*'Lookup Tables'!$R$14","v":15.848599999999999},{"$f":"G1135*'Lookup Tables'!$R$14","v":49.7258}]
["27-2041","Music Directors and Composers",{"$f":"C1136*'Lookup Tables'!$R$14","v":8.6110000000000007},{"$f":"D1136*'Lookup Tables'!$R$14","v":9.6138000000000012},{"$f":"E1136*'Lookup Tables'!$R$14","v":24.176200000000001},{"$f":"F1136*'Lookup Tables'!$R$14","v":38.575100000000006},{"$f":"G1136*'Lookup Tables'!$R$14","v":52.298200000000001}]
["27-2042","Musicians and Singers",{"$f":"C1137*'Lookup Tables'!$R$14","v":9.0143000000000004},{"$f":"D1137*'Lookup Tables'!$R$14","v":11.9137},{"$f":"E1137*'Lookup Tables'!$R$14","v":32.809000000000005},{"$f":"F1137*'Lookup Tables'!$R$14","v":60.1571},"*"]
["27-2090","Miscellaneous Entertainers and Performers, Sports and Related Workers",{"$f":"C1138*'Lookup Tables'!$R$14","v":8.9161999999999999},{"$f":"D1138*'Lookup Tables'!$R$14","v":10.562100000000001},{"$f":"E1138*'Lookup Tables'!$R$14","v":15.6524},{"$f":"F1138*'Lookup Tables'!$R$14","v":19.674500000000002},{"$f":"G1138*'Lookup Tables'!$R$14","v":28.819600000000005}]
["27-3011","Broadcast Announcers and Radio Disc Jockeys",{"$f":"C1139*'Lookup Tables'!$R$14","v":8.9380000000000006},{"$f":"D1139*'Lookup Tables'!$R$14","v":10.049800000000001},{"$f":"E1139*'Lookup Tables'!$R$14","v":14.5624},{"$f":"F1139*'Lookup Tables'!$R$14","v":27.947600000000001},{"$f":"G1139*'Lookup Tables'!$R$14","v":52.374499999999998}]
["27-3023","News Analysts, Reporters, and Journalists",{"$f":"C1140*'Lookup Tables'!$R$14","v":12.360600000000002},{"$f":"D1140*'Lookup Tables'!$R$14","v":14.758599999999999},{"$f":"E1140*'Lookup Tables'!$R$14","v":19.238499999999998},{"$f":"F1140*'Lookup Tables'!$R$14","v":26.715900000000005},{"$f":"G1140*'Lookup Tables'!$R$14","v":39.087400000000002}]
["27-3031","Public Relations Specialists",{"$f":"C1141*'Lookup Tables'!$R$14","v":19.434699999999999},{"$f":"D1141*'Lookup Tables'!$R$14","v":24.4923},{"$f":"E1141*'Lookup Tables'!$R$14","v":31.239400000000003},{"$f":"F1141*'Lookup Tables'!$R$14","v":40.2864},{"$f":"G1141*'Lookup Tables'!$R$14","v":52.232800000000005}]
["27-3041","Editors",{"$f":"C1142*'Lookup Tables'!$R$14","v":14.976600000000001},{"$f":"D1142*'Lookup Tables'!$R$14","v":21.8218},{"$f":"E1142*'Lookup Tables'!$R$14","v":29.288300000000003},{"$f":"F1142*'Lookup Tables'!$R$14","v":40.221000000000004},{"$f":"G1142*'Lookup Tables'!$R$14","v":52.483499999999999}]
["27-3042","Technical Writers",{"$f":"C1143*'Lookup Tables'!$R$14","v":24.470500000000001},{"$f":"D1143*'Lookup Tables'!$R$14","v":31.261200000000002},{"$f":"E1143*'Lookup Tables'!$R$14","v":38.804000000000002},{"$f":"F1143*'Lookup Tables'!$R$14","v":49.540500000000009},{"$f":"G1143*'Lookup Tables'!$R$14","v":61.290700000000001}]
["27-3043","Writers and Authors",{"$f":"C1144*'Lookup Tables'!$R$14","v":16.982200000000002},{"$f":"D1144*'Lookup Tables'!$R$14","v":22.1706},{"$f":"E1144*'Lookup Tables'!$R$14","v":29.844200000000001},{"$f":"F1144*'Lookup Tables'!$R$14","v":42.095799999999997},{"$f":"G1144*'Lookup Tables'!$R$14","v":58.293199999999999}]
["27-3091","Interpreters and Translators",{"$f":"C1145*'Lookup Tables'!$R$14","v":16.132000000000001},{"$f":"D1145*'Lookup Tables'!$R$14","v":18.115800000000004},{"$f":"E1145*'Lookup Tables'!$R$14","v":21.832700000000003},{"$f":"F1145*'Lookup Tables'!$R$14","v":42.684399999999997},{"$f":"G1145*'Lookup Tables'!$R$14","v":61.247100000000003}]
["27-3092","Court Reporters and Simultaneous Captioners",{"$f":"C1146*'Lookup Tables'!$R$14","v":15.859500000000002},{"$f":"D1146*'Lookup Tables'!$R$14","v":25.135400000000001},{"$f":"E1146*'Lookup Tables'!$R$14","v":31.130400000000002},{"$f":"F1146*'Lookup Tables'!$R$14","v":34.2151},{"$f":"G1146*'Lookup Tables'!$R$14","v":40.504399999999997}]
["27-3099","Media and Communication Workers, All Other",{"$f":"C1147*'Lookup Tables'!$R$14","v":9.5701999999999998},{"$f":"D1147*'Lookup Tables'!$R$14","v":12.011800000000001},{"$f":"E1147*'Lookup Tables'!$R$14","v":19.118600000000001},{"$f":"F1147*'Lookup Tables'!$R$14","v":25.756700000000002},{"$f":"G1147*'Lookup Tables'!$R$14","v":32.405700000000003}]
["27-4011","Audio and Video Technicians",{"$f":"C1148*'Lookup Tables'!$R$14","v":12.905600000000002},{"$f":"D1148*'Lookup Tables'!$R$14","v":16.219200000000001},{"$f":"E1148*'Lookup Tables'!$R$14","v":20.993400000000005},{"$f":"F1148*'Lookup Tables'!$R$14","v":30.323800000000002},{"$f":"G1148*'Lookup Tables'!$R$14","v":40.428100000000008}]
["27-4012","Broadcast Technicians",{"$f":"C1149*'Lookup Tables'!$R$14","v":10.169700000000001},{"$f":"D1149*'Lookup Tables'!$R$14","v":14.061000000000002},{"$f":"E1149*'Lookup Tables'!$R$14","v":18.966000000000001},{"$f":"F1149*'Lookup Tables'!$R$14","v":25.909300000000002},{"$f":"G1149*'Lookup Tables'!$R$14","v":34.454900000000002}]
["27-4014","Sound Engineering Technicians","*","*","*","*","*"]
["27-4021","Photographers",{"$f":"C1151*'Lookup Tables'!$R$14","v":10.311400000000003},{"$f":"D1151*'Lookup Tables'!$R$14","v":12.066300000000002},{"$f":"E1151*'Lookup Tables'!$R$14","v":15.3581},{"$f":"F1151*'Lookup Tables'!$R$14","v":22.857300000000002},{"$f":"G1151*'Lookup Tables'!$R$14","v":30.716200000000001}]
["27-4031","Camera Operators, Television, Video, and Film",{"$f":"C1152*'Lookup Tables'!$R$14","v":16.033900000000003},{"$f":"D1152*'Lookup Tables'!$R$14","v":19.107700000000001},{"$f":"E1152*'Lookup Tables'!$R$14","v":24.590399999999999},{"$f":"F1152*'Lookup Tables'!$R$14","v":31.130400000000002},{"$f":"G1152*'Lookup Tables'!$R$14","v":40.569800000000001}]
["27-4032","Film and Video Editors","*","*","*","*","*"]
["27-4098","Lighting Technicians and Media and Communication Equipment Workers, All Other",{"$f":"C1154*'Lookup Tables'!$R$14","v":17.396400000000003},{"$f":"D1154*'Lookup Tables'!$R$14","v":19.652700000000003},{"$f":"E1154*'Lookup Tables'!$R$14","v":31.206700000000001},{"$f":"F1154*'Lookup Tables'!$R$14","v":43.818000000000005},{"$f":"G1154*'Lookup Tables'!$R$14","v":52.374499999999998}]
["29-0000","Healthcare Practitioners and Technical Occupations",{"$f":"C1155*'Lookup Tables'!$R$14","v":17.9087},{"$f":"D1155*'Lookup Tables'!$R$14","v":24.241600000000002},{"$f":"E1155*'Lookup Tables'!$R$14","v":32.394800000000004},{"$f":"F1155*'Lookup Tables'!$R$14","v":43.381999999999998},{"$f":"G1155*'Lookup Tables'!$R$14","v":67.667200000000008}]
["29-1011","Chiropractors",{"$f":"C1156*'Lookup Tables'!$R$14","v":22.3123},{"$f":"D1156*'Lookup Tables'!$R$14","v":29.5717},{"$f":"E1156*'Lookup Tables'!$R$14","v":37.714000000000006},{"$f":"F1156*'Lookup Tables'!$R$14","v":54.009500000000003},{"$f":"G1156*'Lookup Tables'!$R$14","v":94.252300000000005}]
["29-1021","Dentists, General",{"$f":"C1157*'Lookup Tables'!$R$14","v":50.576000000000001},{"$f":"D1157*'Lookup Tables'!$R$14","v":69.760000000000005},{"$f":"E1157*'Lookup Tables'!$R$14","v":87.919399999999996},"*","*"]
["29-1022","Oral and Maxillofacial Surgeons",{"$f":"C1158*'Lookup Tables'!$R$14","v":108.7166},"*","*","*","*"]
["29-1023","Orthodontists",{"$f":"C1159*'Lookup Tables'!$R$14","v":37.408800000000006},"*","*","*","*"]
["29-1029","Dentists, All Other Specialists",{"$f":"C1160*'Lookup Tables'!$R$14","v":55.241200000000006},{"$f":"D1160*'Lookup Tables'!$R$14","v":57.552},{"$f":"E1160*'Lookup Tables'!$R$14","v":66.468199999999996},{"$f":"F1160*'Lookup Tables'!$R$14","v":104.2149},"*"]
["29-1031","Dietitians and Nutritionists",{"$f":"C1161*'Lookup Tables'!$R$14","v":21.102399999999999},{"$f":"D1161*'Lookup Tables'!$R$14","v":24.525000000000002},{"$f":"E1161*'Lookup Tables'!$R$14","v":29.539000000000005},{"$f":"F1161*'Lookup Tables'!$R$14","v":34.978100000000005},{"$f":"G1161*'Lookup Tables'!$R$14","v":40.471700000000006}]
["29-1041","Optometrists",{"$f":"C1162*'Lookup Tables'!$R$14","v":36.896500000000003},{"$f":"D1162*'Lookup Tables'!$R$14","v":42.847900000000003},{"$f":"E1162*'Lookup Tables'!$R$14","v":63.361700000000006},{"$f":"F1162*'Lookup Tables'!$R$14","v":85.336100000000016},"*"]
["29-1051","Pharmacists",{"$f":"C1163*'Lookup Tables'!$R$14","v":40.177400000000006},{"$f":"D1163*'Lookup Tables'!$R$14","v":58.674700000000001},{"$f":"E1163*'Lookup Tables'!$R$14","v":67.307500000000005},{"$f":"F1163*'Lookup Tables'!$R$14","v":77.760600000000011},{"$f":"G1163*'Lookup Tables'!$R$14","v":84.736599999999996}]
["29-1071","Physician Assistants",{"$f":"C1164*'Lookup Tables'!$R$14","v":43.665400000000005},{"$f":"D1164*'Lookup Tables'!$R$14","v":48.265200000000007},{"$f":"E1164*'Lookup Tables'!$R$14","v":55.786200000000001},{"$f":"F1164*'Lookup Tables'!$R$14","v":65.334600000000009},{"$f":"G1164*'Lookup Tables'!$R$14","v":76.049300000000002}]
["29-1081","Podiatrists",{"$f":"C1165*'Lookup Tables'!$R$14","v":38.596899999999998},{"$f":"D1165*'Lookup Tables'!$R$14","v":50.990200000000002},{"$f":"E1165*'Lookup Tables'!$R$14","v":74.392500000000013},"*","*"]
["29-1122","Occupational Therapists",{"$f":"C1166*'Lookup Tables'!$R$14","v":28.634300000000003},{"$f":"D1166*'Lookup Tables'!$R$14","v":34.073400000000007},{"$f":"E1166*'Lookup Tables'!$R$14","v":43.371100000000006},{"$f":"F1166*'Lookup Tables'!$R$14","v":52.091100000000004},{"$f":"G1166*'Lookup Tables'!$R$14","v":61.356100000000005}]
["29-1123","Physical Therapists",{"$f":"C1167*'Lookup Tables'!$R$14","v":33.4848},{"$f":"D1167*'Lookup Tables'!$R$14","v":38.444300000000005},{"$f":"E1167*'Lookup Tables'!$R$14","v":45.681899999999999},{"$f":"F1167*'Lookup Tables'!$R$14","v":52.668800000000005},{"$f":"G1167*'Lookup Tables'!$R$14","v":61.944700000000005}]
["29-1124","Radiation Therapists",{"$f":"C1168*'Lookup Tables'!$R$14","v":29.778800000000004},{"$f":"D1168*'Lookup Tables'!$R$14","v":34.967199999999998},{"$f":"E1168*'Lookup Tables'!$R$14","v":41.201999999999998},{"$f":"F1168*'Lookup Tables'!$R$14","v":48.657600000000002},{"$f":"G1168*'Lookup Tables'!$R$14","v":53.617100000000001}]
["29-1125","Recreational Therapists",{"$f":"C1169*'Lookup Tables'!$R$14","v":17.8324},{"$f":"D1169*'Lookup Tables'!$R$14","v":20.415700000000001},{"$f":"E1169*'Lookup Tables'!$R$14","v":23.271500000000003},{"$f":"F1169*'Lookup Tables'!$R$14","v":27.8931},{"$f":"G1169*'Lookup Tables'!$R$14","v":34.313200000000002}]
["29-1126","Respiratory Therapists",{"$f":"C1170*'Lookup Tables'!$R$14","v":22.900900000000004},{"$f":"D1170*'Lookup Tables'!$R$14","v":26.029199999999999},{"$f":"E1170*'Lookup Tables'!$R$14","v":30.051300000000001},{"$f":"F1170*'Lookup Tables'!$R$14","v":33.997100000000003},{"$f":"G1170*'Lookup Tables'!$R$14","v":39.370800000000003}]
["29-1127","Speech-Language Pathologists",{"$f":"C1171*'Lookup Tables'!$R$14","v":24.056300000000004},{"$f":"D1171*'Lookup Tables'!$R$14","v":29.342800000000004},{"$f":"E1171*'Lookup Tables'!$R$14","v":37.038199999999996},{"$f":"F1171*'Lookup Tables'!$R$14","v":48.2761},{"$f":"G1171*'Lookup Tables'!$R$14","v":58.914500000000004}]
["29-1128","Exercise Physiologists",{"$f":"C1172*'Lookup Tables'!$R$14","v":17.701599999999999},{"$f":"D1172*'Lookup Tables'!$R$14","v":19.7181},{"$f":"E1172*'Lookup Tables'!$R$14","v":23.293300000000002},{"$f":"F1172*'Lookup Tables'!$R$14","v":27.914900000000003},{"$f":"G1172*'Lookup Tables'!$R$14","v":32.961600000000004}]
["29-1129","Therapists, All Other",{"$f":"C1173*'Lookup Tables'!$R$14","v":17.189299999999999},{"$f":"D1173*'Lookup Tables'!$R$14","v":20.230399999999999},{"$f":"E1173*'Lookup Tables'!$R$14","v":27.206400000000002},{"$f":"F1173*'Lookup Tables'!$R$14","v":32.961600000000004},{"$f":"G1173*'Lookup Tables'!$R$14","v":46.61930000000001}]
["29-1131","Veterinarians",{"$f":"C1174*'Lookup Tables'!$R$14","v":36.079000000000008},{"$f":"D1174*'Lookup Tables'!$R$14","v":43.011400000000002},{"$f":"E1174*'Lookup Tables'!$R$14","v":51.295400000000008},{"$f":"F1174*'Lookup Tables'!$R$14","v":66.04310000000001},{"$f":"G1174*'Lookup Tables'!$R$14","v":97.217100000000002}]
["29-1141","Registered Nurses",{"$f":"C1175*'Lookup Tables'!$R$14","v":25.1572},{"$f":"D1175*'Lookup Tables'!$R$14","v":29.070300000000003},{"$f":"E1175*'Lookup Tables'!$R$14","v":33.855400000000003},{"$f":"F1175*'Lookup Tables'!$R$14","v":40.340899999999998},{"$f":"G1175*'Lookup Tables'!$R$14","v":46.684699999999999}]
["29-1151","Nurse Anesthetists",{"$f":"C1176*'Lookup Tables'!$R$14","v":71.820100000000011},{"$f":"D1176*'Lookup Tables'!$R$14","v":80.256699999999995},{"$f":"E1176*'Lookup Tables'!$R$14","v":94.077900000000014},{"$f":"F1176*'Lookup Tables'!$R$14","v":107.93180000000001},"*"]
["29-1161","Nurse Midwives",{"$f":"C1177*'Lookup Tables'!$R$14","v":39.087400000000002},{"$f":"D1177*'Lookup Tables'!$R$14","v":46.128800000000005},{"$f":"E1177*'Lookup Tables'!$R$14","v":52.625200000000007},{"$f":"F1177*'Lookup Tables'!$R$14","v":61.050900000000006},{"$f":"G1177*'Lookup Tables'!$R$14","v":67.122200000000007}]
["29-1171","Nurse Practitioners",{"$f":"C1178*'Lookup Tables'!$R$14","v":43.523700000000005},{"$f":"D1178*'Lookup Tables'!$R$14","v":47.654800000000002},{"$f":"E1178*'Lookup Tables'!$R$14","v":54.380100000000006},{"$f":"F1178*'Lookup Tables'!$R$14","v":63.743200000000002},{"$f":"G1178*'Lookup Tables'!$R$14","v":71.242400000000004}]
["29-1181","Audiologists",{"$f":"C1179*'Lookup Tables'!$R$14","v":27.860400000000002},{"$f":"D1179*'Lookup Tables'!$R$14","v":31.577300000000001},{"$f":"E1179*'Lookup Tables'!$R$14","v":37.463299999999997},{"$f":"F1179*'Lookup Tables'!$R$14","v":43.196700000000007},{"$f":"G1179*'Lookup Tables'!$R$14","v":50.161800000000007}]
["29-1211","Anesthesiologists",{"$f":"C1180*'Lookup Tables'!$R$14","v":68.898900000000012},"*","*","*","*"]
["29-1215","Family Medicine Physicians",{"$f":"C1181*'Lookup Tables'!$R$14","v":65.225600000000014},{"$f":"D1181*'Lookup Tables'!$R$14","v":82.545700000000011},{"$f":"E1181*'Lookup Tables'!$R$14","v":105.8717},"*","*"]
["29-1216","General Internal Medicine Physicians",{"$f":"C1182*'Lookup Tables'!$R$14","v":76.648799999999994},{"$f":"D1182*'Lookup Tables'!$R$14","v":99.397100000000009},"*","*","*"]
["29-1218","Obstetricians and Gynecologists",{"$f":"C1183*'Lookup Tables'!$R$14","v":73.008200000000016},{"$f":"D1183*'Lookup Tables'!$R$14","v":94.241399999999999},"*","*","*"]
["29-1221","Pediatricians, General",{"$f":"C1184*'Lookup Tables'!$R$14","v":58.685600000000008},{"$f":"D1184*'Lookup Tables'!$R$14","v":71.296900000000008},{"$f":"E1184*'Lookup Tables'!$R$14","v":81.0197},"*","*"]
["29-1223","Psychiatrists",{"$f":"C1185*'Lookup Tables'!$R$14","v":47.1098},{"$f":"D1185*'Lookup Tables'!$R$14","v":67.885200000000012},{"$f":"E1185*'Lookup Tables'!$R$14","v":94.59020000000001},"*","*"]
["29-1228","Physicians, All Other; and Ophthalmologists, Except Pediatric",{"$f":"C1186*'Lookup Tables'!$R$14","v":29.070300000000003},{"$f":"D1186*'Lookup Tables'!$R$14","v":33.3431},{"$f":"E1186*'Lookup Tables'!$R$14","v":94.819100000000006},"*","*"]
["29-1248","Surgeons, Except Ophthalmologists",{"$f":"C1187*'Lookup Tables'!$R$14","v":99.974800000000002},"*","*","*","*"]
["29-1292","Dental Hygienists",{"$f":"C1188*'Lookup Tables'!$R$14","v":28.209200000000003},{"$f":"D1188*'Lookup Tables'!$R$14","v":33.245000000000005},{"$f":"E1188*'Lookup Tables'!$R$14","v":37.441500000000005},{"$f":"F1188*'Lookup Tables'!$R$14","v":41.354599999999998},{"$f":"G1188*'Lookup Tables'!$R$14","v":46.630200000000002}]
["29-1298","Acupuncturists and Healthcare Diagnosing or Treating Practitioners, All Other",{"$f":"C1189*'Lookup Tables'!$R$14","v":28.754200000000001},{"$f":"D1189*'Lookup Tables'!$R$14","v":34.138800000000003},{"$f":"E1189*'Lookup Tables'!$R$14","v":47.425899999999999},{"$f":"F1189*'Lookup Tables'!$R$14","v":62.162700000000008},{"$f":"G1189*'Lookup Tables'!$R$14","v":72.768400000000014}]
["29-2010","Clinical Laboratory Technologists and Technicians",{"$f":"C1190*'Lookup Tables'!$R$14","v":17.549000000000003},{"$f":"D1190*'Lookup Tables'!$R$14","v":20.5029},{"$f":"E1190*'Lookup Tables'!$R$14","v":26.269000000000002},{"$f":"F1190*'Lookup Tables'!$R$14","v":32.667300000000004},{"$f":"G1190*'Lookup Tables'!$R$14","v":39.196400000000004}]
["29-2031","Cardiovascular Technologists and Technicians",{"$f":"C1191*'Lookup Tables'!$R$14","v":21.396699999999999},{"$f":"D1191*'Lookup Tables'!$R$14","v":28.394500000000004},{"$f":"E1191*'Lookup Tables'!$R$14","v":35.108900000000006},{"$f":"F1191*'Lookup Tables'!$R$14","v":41.332800000000006},{"$f":"G1191*'Lookup Tables'!$R$14","v":48.156200000000005}]
["29-2032","Diagnostic Medical Sonographers",{"$f":"C1192*'Lookup Tables'!$R$14","v":28.0566},{"$f":"D1192*'Lookup Tables'!$R$14","v":31.152200000000001},{"$f":"E1192*'Lookup Tables'!$R$14","v":36.209800000000001},{"$f":"F1192*'Lookup Tables'!$R$14","v":41.365500000000004},{"$f":"G1192*'Lookup Tables'!$R$14","v":47.861899999999999}]
["29-2033","Nuclear Medicine Technologists",{"$f":"C1193*'Lookup Tables'!$R$14","v":27.555200000000003},{"$f":"D1193*'Lookup Tables'!$R$14","v":30.901500000000002},{"$f":"E1193*'Lookup Tables'!$R$14","v":36.318800000000003},{"$f":"F1193*'Lookup Tables'!$R$14","v":41.485400000000006},{"$f":"G1193*'Lookup Tables'!$R$14","v":48.003600000000006}]
["29-2034","Radiologic Technologists and Technicians",{"$f":"C1194*'Lookup Tables'!$R$14","v":21.680100000000003},{"$f":"D1194*'Lookup Tables'!$R$14","v":24.9392},{"$f":"E1194*'Lookup Tables'!$R$14","v":30.116700000000002},{"$f":"F1194*'Lookup Tables'!$R$14","v":35.915500000000009},{"$f":"G1194*'Lookup Tables'!$R$14","v":41.016700000000007}]
["29-2035","Magnetic Resonance Imaging Technologists",{"$f":"C1195*'Lookup Tables'!$R$14","v":27.914900000000003},{"$f":"D1195*'Lookup Tables'!$R$14","v":31.511900000000004},{"$f":"E1195*'Lookup Tables'!$R$14","v":36.569499999999998},{"$f":"F1195*'Lookup Tables'!$R$14","v":41.147500000000001},{"$f":"G1195*'Lookup Tables'!$R$14","v":46.292300000000004}]
["29-2040","Emergency Medical Technicians and Paramedics",{"$f":"C1196*'Lookup Tables'!$R$14","v":13.5596},{"$f":"D1196*'Lookup Tables'!$R$14","v":15.761400000000002},{"$f":"E1196*'Lookup Tables'!$R$14","v":19.009600000000002},{"$f":"F1196*'Lookup Tables'!$R$14","v":23.151599999999998},{"$f":"G1196*'Lookup Tables'!$R$14","v":27.064699999999998}]
["29-2051","Dietetic Technicians",{"$f":"C1197*'Lookup Tables'!$R$14","v":12.0336},{"$f":"D1197*'Lookup Tables'!$R$14","v":13.723100000000001},{"$f":"E1197*'Lookup Tables'!$R$14","v":15.063800000000002},{"$f":"F1197*'Lookup Tables'!$R$14","v":16.415400000000002},{"$f":"G1197*'Lookup Tables'!$R$14","v":19.194900000000001}]
["29-2052","Pharmacy Technicians",{"$f":"C1198*'Lookup Tables'!$R$14","v":11.891900000000001},{"$f":"D1198*'Lookup Tables'!$R$14","v":14.061000000000002},{"$f":"E1198*'Lookup Tables'!$R$14","v":16.8187},{"$f":"F1198*'Lookup Tables'!$R$14","v":19.881599999999999},{"$f":"G1198*'Lookup Tables'!$R$14","v":23.347800000000003}]
["29-2053","Psychiatric Technicians",{"$f":"C1199*'Lookup Tables'!$R$14","v":11.761100000000001},{"$f":"D1199*'Lookup Tables'!$R$14","v":14.050100000000002},{"$f":"E1199*'Lookup Tables'!$R$14","v":17.483599999999999},{"$f":"F1199*'Lookup Tables'!$R$14","v":20.7318},{"$f":"G1199*'Lookup Tables'!$R$14","v":24.208900000000003}]
["29-2055","Surgical Technologists",{"$f":"C1200*'Lookup Tables'!$R$14","v":17.494500000000002},{"$f":"D1200*'Lookup Tables'!$R$14","v":19.391100000000002},{"$f":"E1200*'Lookup Tables'!$R$14","v":22.780999999999999},{"$f":"F1200*'Lookup Tables'!$R$14","v":26.497900000000001},{"$f":"G1200*'Lookup Tables'!$R$14","v":30.890600000000003}]
["29-2056","Veterinary Technologists and Technicians",{"$f":"C1201*'Lookup Tables'!$R$14","v":13.1127},{"$f":"D1201*'Lookup Tables'!$R$14","v":15.216400000000002},{"$f":"E1201*'Lookup Tables'!$R$14","v":17.985000000000003},{"$f":"F1201*'Lookup Tables'!$R$14","v":20.426600000000001},{"$f":"G1201*'Lookup Tables'!$R$14","v":24.241600000000002}]
["29-2057","Ophthalmic Medical Technicians",{"$f":"C1202*'Lookup Tables'!$R$14","v":13.4724},{"$f":"D1202*'Lookup Tables'!$R$14","v":15.488900000000003},{"$f":"E1202*'Lookup Tables'!$R$14","v":18.780700000000003},{"$f":"F1202*'Lookup Tables'!$R$14","v":22.672000000000004},{"$f":"G1202*'Lookup Tables'!$R$14","v":26.258100000000002}]
["29-2061","Licensed Practical and Licensed Vocational Nurses",{"$f":"C1203*'Lookup Tables'!$R$14","v":18.671700000000001},{"$f":"D1203*'Lookup Tables'!$R$14","v":21.494800000000001},{"$f":"E1203*'Lookup Tables'!$R$14","v":24.078100000000003},{"$f":"F1203*'Lookup Tables'!$R$14","v":26.596},{"$f":"G1203*'Lookup Tables'!$R$14","v":30.400100000000002}]
["29-2081","Opticians, Dispensing",{"$f":"C1204*'Lookup Tables'!$R$14","v":14.682300000000001},{"$f":"D1204*'Lookup Tables'!$R$14","v":17.3855},{"$f":"E1204*'Lookup Tables'!$R$14","v":21.5275},{"$f":"F1204*'Lookup Tables'!$R$14","v":29.266500000000004},{"$f":"G1204*'Lookup Tables'!$R$14","v":32.863500000000002}]
["29-2091","Orthotists and Prosthetists",{"$f":"C1205*'Lookup Tables'!$R$14","v":21.843600000000002},{"$f":"D1205*'Lookup Tables'!$R$14","v":26.094600000000003},{"$f":"E1205*'Lookup Tables'!$R$14","v":34.225999999999999},{"$f":"F1205*'Lookup Tables'!$R$14","v":43.207600000000006},{"$f":"G1205*'Lookup Tables'!$R$14","v":53.213800000000006}]
["29-2092","Hearing Aid Specialists",{"$f":"C1206*'Lookup Tables'!$R$14","v":18.758900000000001},{"$f":"D1206*'Lookup Tables'!$R$14","v":27.206400000000002},{"$f":"E1206*'Lookup Tables'!$R$14","v":30.629000000000005},{"$f":"F1206*'Lookup Tables'!$R$14","v":34.454900000000002},{"$f":"G1206*'Lookup Tables'!$R$14","v":42.771600000000007}]
["29-2098","Medical Dosimetrists, Medical Records Specialists, and Health Technologists and Technicians, All Other",{"$f":"C1207*'Lookup Tables'!$R$14","v":13.952000000000002},{"$f":"D1207*'Lookup Tables'!$R$14","v":16.055700000000002},{"$f":"E1207*'Lookup Tables'!$R$14","v":19.500100000000003},{"$f":"F1207*'Lookup Tables'!$R$14","v":25.462400000000002},{"$f":"G1207*'Lookup Tables'!$R$14","v":32.0351}]
["29-9091","Athletic Trainers","*","*","*","*","*"]
["29-9092","Genetic Counselors",{"$f":"C1209*'Lookup Tables'!$R$14","v":29.255600000000001},{"$f":"D1209*'Lookup Tables'!$R$14","v":33.997100000000003},{"$f":"E1209*'Lookup Tables'!$R$14","v":38.618700000000004},{"$f":"F1209*'Lookup Tables'!$R$14","v":43.131300000000003},{"$f":"G1209*'Lookup Tables'!$R$14","v":50.030999999999999}]
["29-9098","Health Information Technologists, Medical Registrars, Surgical Assistants, and Healthcare Practitioners and Technical Workers, All Other",{"$f":"C1210*'Lookup Tables'!$R$14","v":11.772000000000002},{"$f":"D1210*'Lookup Tables'!$R$14","v":15.706900000000001},{"$f":"E1210*'Lookup Tables'!$R$14","v":24.917400000000001},{"$f":"F1210*'Lookup Tables'!$R$14","v":35.174300000000009},{"$f":"G1210*'Lookup Tables'!$R$14","v":49.1372}]
["31-0000","Healthcare Support Occupations",{"$f":"C1211*'Lookup Tables'!$R$14","v":9.6138000000000012},{"$f":"D1211*'Lookup Tables'!$R$14","v":11.216099999999999},{"$f":"E1211*'Lookup Tables'!$R$14","v":13.690400000000002},{"$f":"F1211*'Lookup Tables'!$R$14","v":17.080300000000001},{"$f":"G1211*'Lookup Tables'!$R$14","v":21.2441}]
["31-1120","Home Health and Personal Care Aides",{"$f":"C1212*'Lookup Tables'!$R$14","v":8.9380000000000006},{"$f":"D1212*'Lookup Tables'!$R$14","v":9.8209},{"$f":"E1212*'Lookup Tables'!$R$14","v":11.237900000000002},{"$f":"F1212*'Lookup Tables'!$R$14","v":12.774800000000001},{"$f":"G1212*'Lookup Tables'!$R$14","v":14.649600000000001}]
["31-1131","Nursing Assistants",{"$f":"C1213*'Lookup Tables'!$R$14","v":10.1806},{"$f":"D1213*'Lookup Tables'!$R$14","v":11.695700000000002},{"$f":"E1213*'Lookup Tables'!$R$14","v":13.810300000000002},{"$f":"F1213*'Lookup Tables'!$R$14","v":15.914000000000001},{"$f":"G1213*'Lookup Tables'!$R$14","v":18.1812}]
["31-1132","Orderlies",{"$f":"C1214*'Lookup Tables'!$R$14","v":11.652100000000001},{"$f":"D1214*'Lookup Tables'!$R$14","v":13.352500000000001},{"$f":"E1214*'Lookup Tables'!$R$14","v":14.704100000000002},{"$f":"F1214*'Lookup Tables'!$R$14","v":16.077500000000001},{"$f":"G1214*'Lookup Tables'!$R$14","v":18.1812}]
["31-1133","Psychiatric Aides",{"$f":"C1215*'Lookup Tables'!$R$14","v":16.1647},{"$f":"D1215*'Lookup Tables'!$R$14","v":16.7424},{"$f":"E1215*'Lookup Tables'!$R$14","v":16.753299999999999},{"$f":"F1215*'Lookup Tables'!$R$14","v":17.4618},{"$f":"G1215*'Lookup Tables'!$R$14","v":18.802500000000002}]
["31-2011","Occupational Therapy Assistants",{"$f":"C1216*'Lookup Tables'!$R$14","v":23.805600000000002},{"$f":"D1216*'Lookup Tables'!$R$14","v":29.364600000000003},{"$f":"E1216*'Lookup Tables'!$R$14","v":34.607500000000002},{"$f":"F1216*'Lookup Tables'!$R$14","v":39.545200000000001},{"$f":"G1216*'Lookup Tables'!$R$14","v":42.520899999999997}]
["31-2012","Occupational Therapy Aides",{"$f":"C1217*'Lookup Tables'!$R$14","v":11.684800000000001},{"$f":"D1217*'Lookup Tables'!$R$14","v":13.308900000000001},{"$f":"E1217*'Lookup Tables'!$R$14","v":15.194600000000001},{"$f":"F1217*'Lookup Tables'!$R$14","v":17.483599999999999},{"$f":"G1217*'Lookup Tables'!$R$14","v":20.535600000000002}]
["31-2021","Physical Therapist Assistants",{"$f":"C1218*'Lookup Tables'!$R$14","v":23.914600000000004},{"$f":"D1218*'Lookup Tables'!$R$14","v":28.013000000000002},{"$f":"E1218*'Lookup Tables'!$R$14","v":32.187700000000007},{"$f":"F1218*'Lookup Tables'!$R$14","v":37.288900000000005},{"$f":"G1218*'Lookup Tables'!$R$14","v":41.550800000000002}]
["31-2022","Physical Therapist Aides",{"$f":"C1219*'Lookup Tables'!$R$14","v":11.0962},{"$f":"D1219*'Lookup Tables'!$R$14","v":12.524100000000001},{"$f":"E1219*'Lookup Tables'!$R$14","v":14.366200000000001},{"$f":"F1219*'Lookup Tables'!$R$14","v":16.077500000000001},{"$f":"G1219*'Lookup Tables'!$R$14","v":18.453700000000001}]
["31-9011","Massage Therapists",{"$f":"C1220*'Lookup Tables'!$R$14","v":11.652100000000001},{"$f":"D1220*'Lookup Tables'!$R$14","v":17.799699999999998},{"$f":"E1220*'Lookup Tables'!$R$14","v":21.276800000000001},{"$f":"F1220*'Lookup Tables'!$R$14","v":26.116400000000002},{"$f":"G1220*'Lookup Tables'!$R$14","v":35.566700000000004}]
["31-9091","Dental Assistants",{"$f":"C1221*'Lookup Tables'!$R$14","v":16.557100000000002},{"$f":"D1221*'Lookup Tables'!$R$14","v":19.0532},{"$f":"E1221*'Lookup Tables'!$R$14","v":22.399500000000003},{"$f":"F1221*'Lookup Tables'!$R$14","v":25.920200000000005},{"$f":"G1221*'Lookup Tables'!$R$14","v":29.440900000000003}]
["31-9092","Medical Assistants",{"$f":"C1222*'Lookup Tables'!$R$14","v":13.3743},{"$f":"D1222*'Lookup Tables'!$R$14","v":15.085600000000001},{"$f":"E1222*'Lookup Tables'!$R$14","v":17.549000000000003},{"$f":"F1222*'Lookup Tables'!$R$14","v":19.9361},{"$f":"G1222*'Lookup Tables'!$R$14","v":21.919900000000002}]
["31-9093","Medical Equipment Preparers",{"$f":"C1223*'Lookup Tables'!$R$14","v":13.276200000000001},{"$f":"D1223*'Lookup Tables'!$R$14","v":14.6387},{"$f":"E1223*'Lookup Tables'!$R$14","v":16.677000000000003},{"$f":"F1223*'Lookup Tables'!$R$14","v":19.750800000000002},{"$f":"G1223*'Lookup Tables'!$R$14","v":22.693800000000003}]
["31-9094","Medical Transcriptionists",{"$f":"C1224*'Lookup Tables'!$R$14","v":10.7256},{"$f":"D1224*'Lookup Tables'!$R$14","v":11.826500000000001},{"$f":"E1224*'Lookup Tables'!$R$14","v":14.3771},{"$f":"F1224*'Lookup Tables'!$R$14","v":19.162199999999999},{"$f":"G1224*'Lookup Tables'!$R$14","v":23.707500000000003}]
["31-9095","Pharmacy Aides",{"$f":"C1225*'Lookup Tables'!$R$14","v":9.5048000000000012},{"$f":"D1225*'Lookup Tables'!$R$14","v":10.605700000000001},{"$f":"E1225*'Lookup Tables'!$R$14","v":12.3933},{"$f":"F1225*'Lookup Tables'!$R$14","v":15.172800000000001},{"$f":"G1225*'Lookup Tables'!$R$14","v":22.497600000000002}]
["31-9096","Veterinary Assistants and Laboratory Animal Caretakers",{"$f":"C1226*'Lookup Tables'!$R$14","v":10.6493},{"$f":"D1226*'Lookup Tables'!$R$14","v":12.360600000000002},{"$f":"E1226*'Lookup Tables'!$R$14","v":14.845800000000001},{"$f":"F1226*'Lookup Tables'!$R$14","v":17.7561},{"$f":"G1226*'Lookup Tables'!$R$14","v":20.764500000000002}]
["31-9097","Phlebotomists",{"$f":"C1227*'Lookup Tables'!$R$14","v":13.243500000000001},{"$f":"D1227*'Lookup Tables'!$R$14","v":14.9984},{"$f":"E1227*'Lookup Tables'!$R$14","v":17.418200000000002},{"$f":"F1227*'Lookup Tables'!$R$14","v":19.881599999999999},{"$f":"G1227*'Lookup Tables'!$R$14","v":21.734600000000004}]
["31-9099","Healthcare Support Workers, All Other",{"$f":"C1228*'Lookup Tables'!$R$14","v":12.436900000000001},{"$f":"D1228*'Lookup Tables'!$R$14","v":14.333500000000001},{"$f":"E1228*'Lookup Tables'!$R$14","v":17.014900000000001},{"$f":"F1228*'Lookup Tables'!$R$14","v":21.102399999999999},{"$f":"G1228*'Lookup Tables'!$R$14","v":25.604099999999999}]
["33-0000","Protective Service Occupations",{"$f":"C1229*'Lookup Tables'!$R$14","v":11.5649},{"$f":"D1229*'Lookup Tables'!$R$14","v":15.205500000000001},{"$f":"E1229*'Lookup Tables'!$R$14","v":20.0669},{"$f":"F1229*'Lookup Tables'!$R$14","v":26.138200000000001},{"$f":"G1229*'Lookup Tables'!$R$14","v":34.313200000000002}]
["33-1011","First-Line Supervisors of Correctional Officers",{"$f":"C1230*'Lookup Tables'!$R$14","v":21.854500000000002},{"$f":"D1230*'Lookup Tables'!$R$14","v":24.5686},{"$f":"E1230*'Lookup Tables'!$R$14","v":28.089300000000001},{"$f":"F1230*'Lookup Tables'!$R$14","v":32.187700000000007},{"$f":"G1230*'Lookup Tables'!$R$14","v":40.439000000000007}]
["33-1012","First-Line Supervisors of Police and Detectives",{"$f":"C1231*'Lookup Tables'!$R$14","v":23.947300000000002},{"$f":"D1231*'Lookup Tables'!$R$14","v":28.296400000000002},{"$f":"E1231*'Lookup Tables'!$R$14","v":34.553000000000004},{"$f":"F1231*'Lookup Tables'!$R$14","v":42.422800000000002},{"$f":"G1231*'Lookup Tables'!$R$14","v":51.578800000000001}]
["33-1021","First-Line Supervisors of Firefighting and Prevention Workers",{"$f":"C1232*'Lookup Tables'!$R$14","v":17.930500000000002},{"$f":"D1232*'Lookup Tables'!$R$14","v":23.533100000000001},{"$f":"E1232*'Lookup Tables'!$R$14","v":30.432800000000004},{"$f":"F1232*'Lookup Tables'!$R$14","v":37.746700000000004},{"$f":"G1232*'Lookup Tables'!$R$14","v":45.300400000000003}]
["33-1090","Miscellaneous First-Line Supervisors, Protective Service Workers",{"$f":"C1233*'Lookup Tables'!$R$14","v":14.431600000000001},{"$f":"D1233*'Lookup Tables'!$R$14","v":18.453700000000001},{"$f":"E1233*'Lookup Tables'!$R$14","v":26.236300000000004},{"$f":"F1233*'Lookup Tables'!$R$14","v":32.917999999999999},{"$f":"G1233*'Lookup Tables'!$R$14","v":42.117600000000003}]
["33-2011","Firefighters",{"$f":"C1234*'Lookup Tables'!$R$14","v":11.0962},{"$f":"D1234*'Lookup Tables'!$R$14","v":13.265300000000002},{"$f":"E1234*'Lookup Tables'!$R$14","v":16.437200000000001},{"$f":"F1234*'Lookup Tables'!$R$14","v":21.342199999999998},{"$f":"G1234*'Lookup Tables'!$R$14","v":26.8794}]
["33-2021","Fire Inspectors and Investigators",{"$f":"C1235*'Lookup Tables'!$R$14","v":20.230399999999999},{"$f":"D1235*'Lookup Tables'!$R$14","v":23.369600000000002},{"$f":"E1235*'Lookup Tables'!$R$14","v":28.1874},{"$f":"F1235*'Lookup Tables'!$R$14","v":33.321300000000001},{"$f":"G1235*'Lookup Tables'!$R$14","v":38.858499999999999}]
["33-3011","Bailiffs",{"$f":"C1236*'Lookup Tables'!$R$14","v":13.189},{"$f":"D1236*'Lookup Tables'!$R$14","v":15.063800000000002},{"$f":"E1236*'Lookup Tables'!$R$14","v":18.867899999999999},{"$f":"F1236*'Lookup Tables'!$R$14","v":23.064400000000003},{"$f":"G1236*'Lookup Tables'!$R$14","v":25.669500000000003}]
["33-3012","Correctional Officers and Jailers",{"$f":"C1237*'Lookup Tables'!$R$14","v":17.734300000000001},{"$f":"D1237*'Lookup Tables'!$R$14","v":18.377400000000002},{"$f":"E1237*'Lookup Tables'!$R$14","v":20.034200000000002},{"$f":"F1237*'Lookup Tables'!$R$14","v":22.268700000000003},{"$f":"G1237*'Lookup Tables'!$R$14","v":26.160000000000004}]
["33-3021","Detectives and Criminal Investigators",{"$f":"C1238*'Lookup Tables'!$R$14","v":21.135100000000001},{"$f":"D1238*'Lookup Tables'!$R$14","v":23.565800000000003},{"$f":"E1238*'Lookup Tables'!$R$14","v":26.737700000000004},{"$f":"F1238*'Lookup Tables'!$R$14","v":34.411300000000004},{"$f":"G1238*'Lookup Tables'!$R$14","v":61.192600000000006}]
["33-3031","Fish and Game Wardens",{"$f":"C1239*'Lookup Tables'!$R$14","v":21.690999999999999},{"$f":"D1239*'Lookup Tables'!$R$14","v":23.173400000000004},{"$f":"E1239*'Lookup Tables'!$R$14","v":25.898400000000002},{"$f":"F1239*'Lookup Tables'!$R$14","v":31.021400000000003},{"$f":"G1239*'Lookup Tables'!$R$14","v":31.032299999999999}]
["33-3041","Parking Enforcement Workers",{"$f":"C1240*'Lookup Tables'!$R$14","v":12.000900000000001},{"$f":"D1240*'Lookup Tables'!$R$14","v":14.0283},{"$f":"E1240*'Lookup Tables'!$R$14","v":15.8268},{"$f":"F1240*'Lookup Tables'!$R$14","v":19.282100000000003},{"$f":"G1240*'Lookup Tables'!$R$14","v":21.985300000000002}]
["33-3051","Police and Sheriff's Patrol Officers",{"$f":"C1241*'Lookup Tables'!$R$14","v":17.396400000000003},{"$f":"D1241*'Lookup Tables'!$R$14","v":19.772600000000001},{"$f":"E1241*'Lookup Tables'!$R$14","v":23.816500000000005},{"$f":"F1241*'Lookup Tables'!$R$14","v":29.2011},{"$f":"G1241*'Lookup Tables'!$R$14","v":34.465800000000002}]
["33-9011","Animal Control Workers",{"$f":"C1242*'Lookup Tables'!$R$14","v":13.995600000000001},{"$f":"D1242*'Lookup Tables'!$R$14","v":16.241000000000003},{"$f":"E1242*'Lookup Tables'!$R$14","v":18.595400000000001},{"$f":"F1242*'Lookup Tables'!$R$14","v":20.917100000000001},{"$f":"G1242*'Lookup Tables'!$R$14","v":24.339700000000001}]
["33-9021","Private Detectives and Investigators",{"$f":"C1243*'Lookup Tables'!$R$14","v":16.655200000000001},{"$f":"D1243*'Lookup Tables'!$R$14","v":20.034200000000002},{"$f":"E1243*'Lookup Tables'!$R$14","v":25.451500000000003},{"$f":"F1243*'Lookup Tables'!$R$14","v":32.547400000000003},{"$f":"G1243*'Lookup Tables'!$R$14","v":41.093000000000004}]
["33-9031","Gambling Surveillance Officers and Gambling Investigators",{"$f":"C1244*'Lookup Tables'!$R$14","v":14.627800000000001},{"$f":"D1244*'Lookup Tables'!$R$14","v":16.175599999999999},{"$f":"E1244*'Lookup Tables'!$R$14","v":22.355900000000002},{"$f":"F1244*'Lookup Tables'!$R$14","v":25.048200000000001},{"$f":"G1244*'Lookup Tables'!$R$14","v":26.661400000000004}]
["33-9032","Security Guards",{"$f":"C1245*'Lookup Tables'!$R$14","v":10.769200000000001},{"$f":"D1245*'Lookup Tables'!$R$14","v":12.229800000000001},{"$f":"E1245*'Lookup Tables'!$R$14","v":15.227300000000001},{"$f":"F1245*'Lookup Tables'!$R$14","v":20.568300000000004},{"$f":"G1245*'Lookup Tables'!$R$14","v":29.898700000000002}]
["33-9091","Crossing Guards and Flaggers",{"$f":"C1246*'Lookup Tables'!$R$14","v":9.5701999999999998},{"$f":"D1246*'Lookup Tables'!$R$14","v":11.128900000000002},{"$f":"E1246*'Lookup Tables'!$R$14","v":12.480499999999999},{"$f":"F1246*'Lookup Tables'!$R$14","v":13.973800000000001},{"$f":"G1246*'Lookup Tables'!$R$14","v":16.502600000000001}]
["33-9092","Lifeguards, Ski Patrol, and Other Recreational Protective Service Workers",{"$f":"C1247*'Lookup Tables'!$R$14","v":8.676400000000001},{"$f":"D1247*'Lookup Tables'!$R$14","v":9.2104999999999997},{"$f":"E1247*'Lookup Tables'!$R$14","v":10.1152},{"$f":"F1247*'Lookup Tables'!$R$14","v":11.826500000000001},{"$f":"G1247*'Lookup Tables'!$R$14","v":13.679500000000003}]
["33-9093","Transportation Security Screeners",{"$f":"C1248*'Lookup Tables'!$R$14","v":17.222000000000001},{"$f":"D1248*'Lookup Tables'!$R$14","v":19.630900000000004},{"$f":"E1248*'Lookup Tables'!$R$14","v":20.404800000000002},{"$f":"F1248*'Lookup Tables'!$R$14","v":21.767299999999999},{"$f":"G1248*'Lookup Tables'!$R$14","v":23.990900000000003}]
["33-9098","School Bus Monitors and Protective Service Workers, All Other",{"$f":"C1249*'Lookup Tables'!$R$14","v":12.306100000000001},{"$f":"D1249*'Lookup Tables'!$R$14","v":15.641500000000001},{"$f":"E1249*'Lookup Tables'!$R$14","v":19.848900000000004},{"$f":"F1249*'Lookup Tables'!$R$14","v":26.923000000000002},{"$f":"G1249*'Lookup Tables'!$R$14","v":32.220399999999998}]
["35-0000","Food Preparation and Serving Related Occupations",{"$f":"C1250*'Lookup Tables'!$R$14","v":8.785400000000001},{"$f":"D1250*'Lookup Tables'!$R$14","v":9.4720999999999993},{"$f":"E1250*'Lookup Tables'!$R$14","v":10.747400000000001},{"$f":"F1250*'Lookup Tables'!$R$14","v":13.843},{"$f":"G1250*'Lookup Tables'!$R$14","v":18.246600000000001}]
["35-1011","Chefs and Head Cooks",{"$f":"C1251*'Lookup Tables'!$R$14","v":17.418200000000002},{"$f":"D1251*'Lookup Tables'!$R$14","v":21.037000000000003},{"$f":"E1251*'Lookup Tables'!$R$14","v":26.181800000000003},{"$f":"F1251*'Lookup Tables'!$R$14","v":32.383900000000004},{"$f":"G1251*'Lookup Tables'!$R$14","v":41.365500000000004}]
["35-1012","First-Line Supervisors of Food Preparation and Serving Workers",{"$f":"C1252*'Lookup Tables'!$R$14","v":11.237900000000002},{"$f":"D1252*'Lookup Tables'!$R$14","v":13.5487},{"$f":"E1252*'Lookup Tables'!$R$14","v":17.080300000000001},{"$f":"F1252*'Lookup Tables'!$R$14","v":22.3123},{"$f":"G1252*'Lookup Tables'!$R$14","v":27.914900000000003}]
["35-2011","Cooks, Fast Food",{"$f":"C1253*'Lookup Tables'!$R$14","v":8.5456000000000003},{"$f":"D1253*'Lookup Tables'!$R$14","v":9.1233000000000004},{"$f":"E1253*'Lookup Tables'!$R$14","v":10.060700000000001},{"$f":"F1253*'Lookup Tables'!$R$14","v":11.837400000000001},{"$f":"G1253*'Lookup Tables'!$R$14","v":14.137300000000002}]
["35-2012","Cooks, Institution and Cafeteria",{"$f":"C1254*'Lookup Tables'!$R$14","v":9.81},{"$f":"D1254*'Lookup Tables'!$R$14","v":11.434100000000001},{"$f":"E1254*'Lookup Tables'!$R$14","v":13.614100000000001},{"$f":"F1254*'Lookup Tables'!$R$14","v":15.674200000000003},{"$f":"G1254*'Lookup Tables'!$R$14","v":17.636200000000002}]
["35-2014","Cooks, Restaurant",{"$f":"C1255*'Lookup Tables'!$R$14","v":9.2867999999999995},{"$f":"D1255*'Lookup Tables'!$R$14","v":10.780100000000001},{"$f":"E1255*'Lookup Tables'!$R$14","v":13.1999},{"$f":"F1255*'Lookup Tables'!$R$14","v":15.794100000000002},{"$f":"G1255*'Lookup Tables'!$R$14","v":19.4892}]
["35-2015","Cooks, Short Order",{"$f":"C1256*'Lookup Tables'!$R$14","v":8.9380000000000006},{"$f":"D1256*'Lookup Tables'!$R$14","v":9.5810999999999993},{"$f":"E1256*'Lookup Tables'!$R$14","v":10.692900000000002},{"$f":"F1256*'Lookup Tables'!$R$14","v":14.224500000000003},{"$f":"G1256*'Lookup Tables'!$R$14","v":18.2575}]
["35-2019","Cooks, All Other",{"$f":"C1257*'Lookup Tables'!$R$14","v":9.3631000000000011},{"$f":"D1257*'Lookup Tables'!$R$14","v":10.6602},{"$f":"E1257*'Lookup Tables'!$R$14","v":12.8293},{"$f":"F1257*'Lookup Tables'!$R$14","v":16.241000000000003},{"$f":"G1257*'Lookup Tables'!$R$14","v":25.124500000000001}]
["35-2021","Food Preparation Workers",{"$f":"C1258*'Lookup Tables'!$R$14","v":9.1778000000000013},{"$f":"D1258*'Lookup Tables'!$R$14","v":10.322300000000002},{"$f":"E1258*'Lookup Tables'!$R$14","v":11.935499999999999},{"$f":"F1258*'Lookup Tables'!$R$14","v":13.755800000000001},{"$f":"G1258*'Lookup Tables'!$R$14","v":16.469899999999999}]
["35-3011","Bartenders",{"$f":"C1259*'Lookup Tables'!$R$14","v":8.7091000000000012},{"$f":"D1259*'Lookup Tables'!$R$14","v":9.3522000000000016},{"$f":"E1259*'Lookup Tables'!$R$14","v":10.5403},{"$f":"F1259*'Lookup Tables'!$R$14","v":17.320100000000004},{"$f":"G1259*'Lookup Tables'!$R$14","v":24.470500000000001}]
["35-3023","Fast Food and Counter Workers",{"$f":"C1260*'Lookup Tables'!$R$14","v":8.6982000000000017},{"$f":"D1260*'Lookup Tables'!$R$14","v":9.2214000000000009},{"$f":"E1260*'Lookup Tables'!$R$14","v":10.1043},{"$f":"F1260*'Lookup Tables'!$R$14","v":11.7502},{"$f":"G1260*'Lookup Tables'!$R$14","v":13.875700000000002}]
["35-3031","Waiters and Waitresses",{"$f":"C1261*'Lookup Tables'!$R$14","v":8.676400000000001},{"$f":"D1261*'Lookup Tables'!$R$14","v":9.2104999999999997},{"$f":"E1261*'Lookup Tables'!$R$14","v":10.1152},{"$f":"F1261*'Lookup Tables'!$R$14","v":12.992800000000001},{"$f":"G1261*'Lookup Tables'!$R$14","v":18.508200000000002}]
["35-3041","Food Servers, Nonrestaurant",{"$f":"C1262*'Lookup Tables'!$R$14","v":8.9489000000000019},{"$f":"D1262*'Lookup Tables'!$R$14","v":9.7773000000000021},{"$f":"E1262*'Lookup Tables'!$R$14","v":11.2052},{"$f":"F1262*'Lookup Tables'!$R$14","v":13.189},{"$f":"G1262*'Lookup Tables'!$R$14","v":15.488900000000003}]
["35-9011","Dining Room and Cafeteria Attendants and Bartender Helpers",{"$f":"C1263*'Lookup Tables'!$R$14","v":8.7200000000000006},{"$f":"D1263*'Lookup Tables'!$R$14","v":9.2650000000000006},{"$f":"E1263*'Lookup Tables'!$R$14","v":10.169700000000001},{"$f":"F1263*'Lookup Tables'!$R$14","v":12.044500000000001},{"$f":"G1263*'Lookup Tables'!$R$14","v":15.303599999999999}]
["35-9021","Dishwashers",{"$f":"C1264*'Lookup Tables'!$R$14","v":8.8399000000000001},{"$f":"D1264*'Lookup Tables'!$R$14","v":9.5266000000000002},{"$f":"E1264*'Lookup Tables'!$R$14","v":10.6602},{"$f":"F1264*'Lookup Tables'!$R$14","v":12.251600000000002},{"$f":"G1264*'Lookup Tables'!$R$14","v":13.516000000000002}]
["35-9031","Hosts and Hostesses, Restaurant, Lounge, and Coffee Shop",{"$f":"C1265*'Lookup Tables'!$R$14","v":8.567400000000001},{"$f":"D1265*'Lookup Tables'!$R$14","v":9.1014999999999997},{"$f":"E1265*'Lookup Tables'!$R$14","v":9.9517000000000024},{"$f":"F1265*'Lookup Tables'!$R$14","v":11.6303},{"$f":"G1265*'Lookup Tables'!$R$14","v":13.581400000000002}]
["35-9099","Food Preparation and Serving Related Workers, All Other",{"$f":"C1266*'Lookup Tables'!$R$14","v":9.0688000000000013},{"$f":"D1266*'Lookup Tables'!$R$14","v":10.147900000000002},{"$f":"E1266*'Lookup Tables'!$R$14","v":11.881000000000002},{"$f":"F1266*'Lookup Tables'!$R$14","v":14.398900000000001},{"$f":"G1266*'Lookup Tables'!$R$14","v":16.644300000000001}]
["37-0000","Building and Grounds Cleaning and Maintenance Occupations",{"$f":"C1267*'Lookup Tables'!$R$14","v":9.3195000000000014},{"$f":"D1267*'Lookup Tables'!$R$14","v":10.801900000000002},{"$f":"E1267*'Lookup Tables'!$R$14","v":13.298},{"$f":"F1267*'Lookup Tables'!$R$14","v":16.339100000000002},{"$f":"G1267*'Lookup Tables'!$R$14","v":20.252199999999998}]
["37-1011","First-Line Supervisors of Housekeeping and Janitorial Workers",{"$f":"C1268*'Lookup Tables'!$R$14","v":13.210800000000001},{"$f":"D1268*'Lookup Tables'!$R$14","v":15.532500000000001},{"$f":"E1268*'Lookup Tables'!$R$14","v":19.630900000000004},{"$f":"F1268*'Lookup Tables'!$R$14","v":25.331600000000002},{"$f":"G1268*'Lookup Tables'!$R$14","v":32.373000000000005}]
["37-1012","First-Line Supervisors of Landscaping, Lawn Service, and Groundskeeping Workers",{"$f":"C1269*'Lookup Tables'!$R$14","v":17.777899999999999},{"$f":"D1269*'Lookup Tables'!$R$14","v":21.582000000000001},{"$f":"E1269*'Lookup Tables'!$R$14","v":27.108300000000003},{"$f":"F1269*'Lookup Tables'!$R$14","v":33.888100000000001},{"$f":"G1269*'Lookup Tables'!$R$14","v":42.401000000000003}]
["37-2011","Janitors and Cleaners, Except Maids and Housekeeping Cleaners",{"$f":"C1270*'Lookup Tables'!$R$14","v":9.1123999999999992},{"$f":"D1270*'Lookup Tables'!$R$14","v":10.322300000000002},{"$f":"E1270*'Lookup Tables'!$R$14","v":12.491400000000002},{"$f":"F1270*'Lookup Tables'!$R$14","v":15.303599999999999},{"$f":"G1270*'Lookup Tables'!$R$14","v":17.592600000000001}]
["37-2012","Maids and Housekeeping Cleaners",{"$f":"C1271*'Lookup Tables'!$R$14","v":8.9816000000000003},{"$f":"D1271*'Lookup Tables'!$R$14","v":9.9298999999999999},{"$f":"E1271*'Lookup Tables'!$R$14","v":11.597600000000002},{"$f":"F1271*'Lookup Tables'!$R$14","v":13.592300000000002},{"$f":"G1271*'Lookup Tables'!$R$14","v":15.946700000000002}]
["37-2019","Building Cleaning Workers, All Other",{"$f":"C1272*'Lookup Tables'!$R$14","v":10.780100000000001},{"$f":"D1272*'Lookup Tables'!$R$14","v":11.979100000000001},{"$f":"E1272*'Lookup Tables'!$R$14","v":13.930200000000001},{"$f":"F1272*'Lookup Tables'!$R$14","v":16.502600000000001},{"$f":"G1272*'Lookup Tables'!$R$14","v":22.279600000000002}]
["37-2021","Pest Control Workers",{"$f":"C1273*'Lookup Tables'!$R$14","v":11.445},{"$f":"D1273*'Lookup Tables'!$R$14","v":14.355300000000002},{"$f":"E1273*'Lookup Tables'!$R$14","v":17.341900000000003},{"$f":"F1273*'Lookup Tables'!$R$14","v":21.701900000000002},{"$f":"G1273*'Lookup Tables'!$R$14","v":26.214500000000001}]
["37-3011","Landscaping and Groundskeeping Workers",{"$f":"C1274*'Lookup Tables'!$R$14","v":10.9},{"$f":"D1274*'Lookup Tables'!$R$14","v":12.785700000000002},{"$f":"E1274*'Lookup Tables'!$R$14","v":15.085600000000001},{"$f":"F1274*'Lookup Tables'!$R$14","v":17.505400000000002},{"$f":"G1274*'Lookup Tables'!$R$14","v":20.382999999999999}]
["37-3012","Pesticide Handlers, Sprayers, and Applicators, Vegetation",{"$f":"C1275*'Lookup Tables'!$R$14","v":8.458400000000001},{"$f":"D1275*'Lookup Tables'!$R$14","v":9.2759},{"$f":"E1275*'Lookup Tables'!$R$14","v":13.407000000000002},{"$f":"F1275*'Lookup Tables'!$R$14","v":18.758900000000001},{"$f":"G1275*'Lookup Tables'!$R$14","v":23.6966}]
["37-3013","Tree Trimmers and Pruners",{"$f":"C1276*'Lookup Tables'!$R$14","v":13.6577},{"$f":"D1276*'Lookup Tables'!$R$14","v":15.554300000000001},{"$f":"E1276*'Lookup Tables'!$R$14","v":18.6172},{"$f":"F1276*'Lookup Tables'!$R$14","v":21.3749},{"$f":"G1276*'Lookup Tables'!$R$14","v":25.506}]
["37-3019","Grounds Maintenance Workers, All Other",{"$f":"C1277*'Lookup Tables'!$R$14","v":10.017100000000001},{"$f":"D1277*'Lookup Tables'!$R$14","v":11.663},{"$f":"E1277*'Lookup Tables'!$R$14","v":20.404800000000002},{"$f":"F1277*'Lookup Tables'!$R$14","v":34.291400000000003},{"$f":"G1277*'Lookup Tables'!$R$14","v":34.302300000000002}]
["39-0000","Personal Care and Service Occupations",{"$f":"C1278*'Lookup Tables'!$R$14","v":8.9270999999999994},{"$f":"D1278*'Lookup Tables'!$R$14","v":9.8863000000000003},{"$f":"E1278*'Lookup Tables'!$R$14","v":12.251600000000002},{"$f":"F1278*'Lookup Tables'!$R$14","v":16.698800000000002},{"$f":"G1278*'Lookup Tables'!$R$14","v":23.870999999999999}]
["39-1098","First-Line Supervisors of Personal Service and Entertainment and Recreation Workers, Except Gambling Services",{"$f":"C1279*'Lookup Tables'!$R$14","v":13.396100000000001},{"$f":"D1279*'Lookup Tables'!$R$14","v":16.142900000000001},{"$f":"E1279*'Lookup Tables'!$R$14","v":20.459300000000002},{"$f":"F1279*'Lookup Tables'!$R$14","v":26.105500000000003},{"$f":"G1279*'Lookup Tables'!$R$14","v":32.950700000000005}]
["39-2011","Animal Trainers",{"$f":"C1280*'Lookup Tables'!$R$14","v":10.1152},{"$f":"D1280*'Lookup Tables'!$R$14","v":11.641200000000001},{"$f":"E1280*'Lookup Tables'!$R$14","v":13.973800000000001},{"$f":"F1280*'Lookup Tables'!$R$14","v":18.867899999999999},{"$f":"G1280*'Lookup Tables'!$R$14","v":25.931100000000001}]
["39-2021","Animal Caretakers",{"$f":"C1281*'Lookup Tables'!$R$14","v":9.003400000000001},{"$f":"D1281*'Lookup Tables'!$R$14","v":10.126099999999999},{"$f":"E1281*'Lookup Tables'!$R$14","v":12.000900000000001},{"$f":"F1281*'Lookup Tables'!$R$14","v":14.7477},{"$f":"G1281*'Lookup Tables'!$R$14","v":18.453700000000001}]
["39-3031","Ushers, Lobby Attendants, and Ticket Takers",{"$f":"C1282*'Lookup Tables'!$R$14","v":8.6110000000000007},{"$f":"D1282*'Lookup Tables'!$R$14","v":9.1996000000000002},{"$f":"E1282*'Lookup Tables'!$R$14","v":10.1915},{"$f":"F1282*'Lookup Tables'!$R$14","v":11.684800000000001},{"$f":"G1282*'Lookup Tables'!$R$14","v":12.8293}]
["39-3091","Amusement and Recreation Attendants",{"$f":"C1283*'Lookup Tables'!$R$14","v":8.6982000000000017},{"$f":"D1283*'Lookup Tables'!$R$14","v":9.2759},{"$f":"E1283*'Lookup Tables'!$R$14","v":10.267800000000001},{"$f":"F1283*'Lookup Tables'!$R$14","v":12.229800000000001},{"$f":"G1283*'Lookup Tables'!$R$14","v":14.5733}]
["39-3092","Costume Attendants",{"$f":"C1284*'Lookup Tables'!$R$14","v":9.2541000000000011},{"$f":"D1284*'Lookup Tables'!$R$14","v":11.118},{"$f":"E1284*'Lookup Tables'!$R$14","v":14.3771},{"$f":"F1284*'Lookup Tables'!$R$14","v":17.559899999999999},{"$f":"G1284*'Lookup Tables'!$R$14","v":23.2606}]
["39-3093","Locker Room, Coatroom, and Dressing Room Attendants",{"$f":"C1285*'Lookup Tables'!$R$14","v":9.5048000000000012},{"$f":"D1285*'Lookup Tables'!$R$14","v":10.8346},{"$f":"E1285*'Lookup Tables'!$R$14","v":12.3497},{"$f":"F1285*'Lookup Tables'!$R$14","v":14.834900000000001},{"$f":"G1285*'Lookup Tables'!$R$14","v":18.279299999999999}]
["39-4021","Funeral Attendants",{"$f":"C1286*'Lookup Tables'!$R$14","v":9.4720999999999993},{"$f":"D1286*'Lookup Tables'!$R$14","v":11.3033},{"$f":"E1286*'Lookup Tables'!$R$14","v":13.581400000000002},{"$f":"F1286*'Lookup Tables'!$R$14","v":16.186500000000002},{"$f":"G1286*'Lookup Tables'!$R$14","v":20.186800000000002}]
["39-4031","Morticians, Undertakers, and Funeral Arrangers",{"$f":"C1287*'Lookup Tables'!$R$14","v":14.5733},{"$f":"D1287*'Lookup Tables'!$R$14","v":19.3475},{"$f":"E1287*'Lookup Tables'!$R$14","v":28.536200000000001},{"$f":"F1287*'Lookup Tables'!$R$14","v":38.673200000000001},{"$f":"G1287*'Lookup Tables'!$R$14","v":44.210400000000007}]
["39-5011","Barbers",{"$f":"C1288*'Lookup Tables'!$R$14","v":9.908100000000001},{"$f":"D1288*'Lookup Tables'!$R$14","v":13.864800000000002},{"$f":"E1288*'Lookup Tables'!$R$14","v":17.723400000000002},{"$f":"F1288*'Lookup Tables'!$R$14","v":20.840800000000002},{"$f":"G1288*'Lookup Tables'!$R$14","v":24.056300000000004}]
["39-5012","Hairdressers, Hairstylists, and Cosmetologists",{"$f":"C1289*'Lookup Tables'!$R$14","v":8.7963000000000005},{"$f":"D1289*'Lookup Tables'!$R$14","v":9.5810999999999993},{"$f":"E1289*'Lookup Tables'!$R$14","v":11.891900000000001},{"$f":"F1289*'Lookup Tables'!$R$14","v":17.374600000000001},{"$f":"G1289*'Lookup Tables'!$R$14","v":25.800300000000004}]
["39-5092","Manicurists and Pedicurists",{"$f":"C1290*'Lookup Tables'!$R$14","v":8.9707000000000008},{"$f":"D1290*'Lookup Tables'!$R$14","v":9.690100000000001},{"$f":"E1290*'Lookup Tables'!$R$14","v":10.954500000000001},{"$f":"F1290*'Lookup Tables'!$R$14","v":15.325400000000002},{"$f":"G1290*'Lookup Tables'!$R$14","v":20.459300000000002}]
["39-5093","Shampooers",{"$f":"C1291*'Lookup Tables'!$R$14","v":9.2759},{"$f":"D1291*'Lookup Tables'!$R$14","v":10.311400000000003},{"$f":"E1291*'Lookup Tables'!$R$14","v":11.663},{"$f":"F1291*'Lookup Tables'!$R$14","v":12.8184},{"$f":"G1291*'Lookup Tables'!$R$14","v":13.505100000000002}]
["39-5094","Skincare Specialists",{"$f":"C1292*'Lookup Tables'!$R$14","v":10.812800000000001},{"$f":"D1292*'Lookup Tables'!$R$14","v":14.987500000000001},{"$f":"E1292*'Lookup Tables'!$R$14","v":20.186800000000002},{"$f":"F1292*'Lookup Tables'!$R$14","v":30.694400000000002},{"$f":"G1292*'Lookup Tables'!$R$14","v":38.847600000000007}]
["39-6011","Baggage Porters and Bellhops",{"$f":"C1293*'Lookup Tables'!$R$14","v":8.8507999999999996},{"$f":"D1293*'Lookup Tables'!$R$14","v":9.5593000000000004},{"$f":"E1293*'Lookup Tables'!$R$14","v":10.812800000000001},{"$f":"F1293*'Lookup Tables'!$R$14","v":12.633100000000001},{"$f":"G1293*'Lookup Tables'!$R$14","v":13.973800000000001}]
["39-6012","Concierges",{"$f":"C1294*'Lookup Tables'!$R$14","v":10.616600000000002},{"$f":"D1294*'Lookup Tables'!$R$14","v":12.338800000000001},{"$f":"E1294*'Lookup Tables'!$R$14","v":14.682300000000001},{"$f":"F1294*'Lookup Tables'!$R$14","v":16.644300000000001},{"$f":"G1294*'Lookup Tables'!$R$14","v":19.336600000000001}]
["39-7010","Tour and Travel Guides",{"$f":"C1295*'Lookup Tables'!$R$14","v":9.0579000000000018},{"$f":"D1295*'Lookup Tables'!$R$14","v":10.4313},{"$f":"E1295*'Lookup Tables'!$R$14","v":13.3634},{"$f":"F1295*'Lookup Tables'!$R$14","v":15.728700000000002},{"$f":"G1295*'Lookup Tables'!$R$14","v":17.897800000000004}]
["39-9011","Childcare Workers",{"$f":"C1296*'Lookup Tables'!$R$14","v":8.8835000000000015},{"$f":"D1296*'Lookup Tables'!$R$14","v":9.7446000000000002},{"$f":"E1296*'Lookup Tables'!$R$14","v":11.575799999999999},{"$f":"F1296*'Lookup Tables'!$R$14","v":14.246300000000002},{"$f":"G1296*'Lookup Tables'!$R$14","v":16.916800000000002}]
["39-9031","Exercise Trainers and Group Fitness Instructors",{"$f":"C1297*'Lookup Tables'!$R$14","v":9.9626000000000019},{"$f":"D1297*'Lookup Tables'!$R$14","v":12.796600000000002},{"$f":"E1297*'Lookup Tables'!$R$14","v":18.246600000000001},{"$f":"F1297*'Lookup Tables'!$R$14","v":24.841100000000001},{"$f":"G1297*'Lookup Tables'!$R$14","v":32.274900000000002}]
["39-9032","Recreation Workers",{"$f":"C1298*'Lookup Tables'!$R$14","v":9.1233000000000004},{"$f":"D1298*'Lookup Tables'!$R$14","v":10.420400000000001},{"$f":"E1298*'Lookup Tables'!$R$14","v":14.104600000000001},{"$f":"F1298*'Lookup Tables'!$R$14","v":19.151300000000003},{"$f":"G1298*'Lookup Tables'!$R$14","v":24.873800000000003}]
["39-9041","Residential Advisors",{"$f":"C1299*'Lookup Tables'!$R$14","v":9.7446000000000002},{"$f":"D1299*'Lookup Tables'!$R$14","v":11.782900000000001},{"$f":"E1299*'Lookup Tables'!$R$14","v":16.535299999999999},{"$f":"F1299*'Lookup Tables'!$R$14","v":21.494800000000001},{"$f":"G1299*'Lookup Tables'!$R$14","v":25.8766}]
["39-9098","Crematory Operators and Personal Care and Service Workers, All Other",{"$f":"C1300*'Lookup Tables'!$R$14","v":9.2867999999999995},{"$f":"D1300*'Lookup Tables'!$R$14","v":10.562100000000001},{"$f":"E1300*'Lookup Tables'!$R$14","v":13.821200000000001},{"$f":"F1300*'Lookup Tables'!$R$14","v":16.0121},{"$f":"G1300*'Lookup Tables'!$R$14","v":20.4375}]
["41-0000","Sales and Related Occupations",{"$f":"C1301*'Lookup Tables'!$R$14","v":9.2104999999999997},{"$f":"D1301*'Lookup Tables'!$R$14","v":10.627500000000001},{"$f":"E1301*'Lookup Tables'!$R$14","v":14.257200000000001},{"$f":"F1301*'Lookup Tables'!$R$14","v":25.255300000000005},{"$f":"G1301*'Lookup Tables'!$R$14","v":43.469200000000008}]
["41-1011","First-Line Supervisors of Retail Sales Workers",{"$f":"C1302*'Lookup Tables'!$R$14","v":13.788500000000001},{"$f":"D1302*'Lookup Tables'!$R$14","v":16.796900000000001},{"$f":"E1302*'Lookup Tables'!$R$14","v":21.407600000000002},{"$f":"F1302*'Lookup Tables'!$R$14","v":28.350900000000003},{"$f":"G1302*'Lookup Tables'!$R$14","v":37.397900000000007}]
["41-1012","First-Line Supervisors of Non-Retail Sales Workers",{"$f":"C1303*'Lookup Tables'!$R$14","v":25.854800000000001},{"$f":"D1303*'Lookup Tables'!$R$14","v":32.678200000000004},{"$f":"E1303*'Lookup Tables'!$R$14","v":45.594700000000003},{"$f":"F1303*'Lookup Tables'!$R$14","v":65.879599999999996},{"$f":"G1303*'Lookup Tables'!$R$14","v":87.690500000000014}]
["41-2011","Cashiers",{"$f":"C1304*'Lookup Tables'!$R$14","v":8.7200000000000006},{"$f":"D1304*'Lookup Tables'!$R$14","v":9.3740000000000006},{"$f":"E1304*'Lookup Tables'!$R$14","v":10.507600000000002},{"$f":"F1304*'Lookup Tables'!$R$14","v":12.415100000000001},{"$f":"G1304*'Lookup Tables'!$R$14","v":14.4861}]
["41-2021","Counter and Rental Clerks",{"$f":"C1305*'Lookup Tables'!$R$14","v":9.2650000000000006},{"$f":"D1305*'Lookup Tables'!$R$14","v":10.823700000000001},{"$f":"E1305*'Lookup Tables'!$R$14","v":13.788500000000001},{"$f":"F1305*'Lookup Tables'!$R$14","v":18.3992},{"$f":"G1305*'Lookup Tables'!$R$14","v":24.1435}]
["41-2022","Parts Salespersons",{"$f":"C1306*'Lookup Tables'!$R$14","v":9.6029000000000018},{"$f":"D1306*'Lookup Tables'!$R$14","v":11.793800000000001},{"$f":"E1306*'Lookup Tables'!$R$14","v":15.805000000000001},{"$f":"F1306*'Lookup Tables'!$R$14","v":20.600999999999999},{"$f":"G1306*'Lookup Tables'!$R$14","v":27.075600000000001}]
["41-2031","Retail Salespersons",{"$f":"C1307*'Lookup Tables'!$R$14","v":9.0579000000000018},{"$f":"D1307*'Lookup Tables'!$R$14","v":10.202400000000001},{"$f":"E1307*'Lookup Tables'!$R$14","v":12.197100000000001},{"$f":"F1307*'Lookup Tables'!$R$14","v":15.630600000000001},{"$f":"G1307*'Lookup Tables'!$R$14","v":21.930800000000001}]
["41-3011","Advertising Sales Agents",{"$f":"C1308*'Lookup Tables'!$R$14","v":13.810300000000002},{"$f":"D1308*'Lookup Tables'!$R$14","v":19.238499999999998},{"$f":"E1308*'Lookup Tables'!$R$14","v":26.770400000000002},{"$f":"F1308*'Lookup Tables'!$R$14","v":40.918600000000005},{"$f":"G1308*'Lookup Tables'!$R$14","v":63.743200000000002}]
["41-3021","Insurance Sales Agents",{"$f":"C1309*'Lookup Tables'!$R$14","v":14.671400000000002},{"$f":"D1309*'Lookup Tables'!$R$14","v":18.377400000000002},{"$f":"E1309*'Lookup Tables'!$R$14","v":24.9392},{"$f":"F1309*'Lookup Tables'!$R$14","v":36.3733},{"$f":"G1309*'Lookup Tables'!$R$14","v":62.555100000000003}]
["41-3031","Securities, Commodities, and Financial Services Sales Agents",{"$f":"C1310*'Lookup Tables'!$R$14","v":18.889700000000001},{"$f":"D1310*'Lookup Tables'!$R$14","v":23.151599999999998},{"$f":"E1310*'Lookup Tables'!$R$14","v":32.373000000000005},{"$f":"F1310*'Lookup Tables'!$R$14","v":56.516500000000008},{"$f":"G1310*'Lookup Tables'!$R$14","v":88.2791}]
["41-3041","Travel Agents",{"$f":"C1311*'Lookup Tables'!$R$14","v":12.251600000000002},{"$f":"D1311*'Lookup Tables'!$R$14","v":16.0121},{"$f":"E1311*'Lookup Tables'!$R$14","v":20.535600000000002},{"$f":"F1311*'Lookup Tables'!$R$14","v":27.577000000000002},{"$f":"G1311*'Lookup Tables'!$R$14","v":33.735500000000002}]
["41-3091","Sales Representatives of Services, Except Advertising, Insurance, Financial Services, and Travel",{"$f":"C1312*'Lookup Tables'!$R$14","v":14.050100000000002},{"$f":"D1312*'Lookup Tables'!$R$14","v":19.369300000000003},{"$f":"E1312*'Lookup Tables'!$R$14","v":27.882200000000001},{"$f":"F1312*'Lookup Tables'!$R$14","v":40.853200000000001},{"$f":"G1312*'Lookup Tables'!$R$14","v":62.021000000000001}]
["41-4011","Sales Representatives, Wholesale and Manufacturing, Technical and Scientific Products",{"$f":"C1313*'Lookup Tables'!$R$14","v":23.6966},{"$f":"D1313*'Lookup Tables'!$R$14","v":32.645499999999998},{"$f":"E1313*'Lookup Tables'!$R$14","v":50.009200000000007},{"$f":"F1313*'Lookup Tables'!$R$14","v":70.217800000000011},{"$f":"G1313*'Lookup Tables'!$R$14","v":91.679900000000004}]
["41-4012","Sales Representatives, Wholesale and Manufacturing, Except Technical and Scientific Products",{"$f":"C1314*'Lookup Tables'!$R$14","v":15.565200000000001},{"$f":"D1314*'Lookup Tables'!$R$14","v":22.050700000000003},{"$f":"E1314*'Lookup Tables'!$R$14","v":32.340300000000006},{"$f":"F1314*'Lookup Tables'!$R$14","v":47.578500000000005},{"$f":"G1314*'Lookup Tables'!$R$14","v":69.345799999999997}]
["41-9011","Demonstrators and Product Promoters",{"$f":"C1315*'Lookup Tables'!$R$14","v":10.9436},{"$f":"D1315*'Lookup Tables'!$R$14","v":11.957300000000002},{"$f":"E1315*'Lookup Tables'!$R$14","v":13.526900000000001},{"$f":"F1315*'Lookup Tables'!$R$14","v":19.500100000000003},{"$f":"G1315*'Lookup Tables'!$R$14","v":25.691300000000002}]
["41-9021","Real Estate Brokers",{"$f":"C1316*'Lookup Tables'!$R$14","v":12.851100000000001},{"$f":"D1316*'Lookup Tables'!$R$14","v":16.8841},{"$f":"E1316*'Lookup Tables'!$R$14","v":31.348400000000005},{"$f":"F1316*'Lookup Tables'!$R$14","v":56.5383},{"$f":"G1316*'Lookup Tables'!$R$14","v":103.97510000000001}]
["41-9022","Real Estate Sales Agents",{"$f":"C1317*'Lookup Tables'!$R$14","v":12.240700000000002},{"$f":"D1317*'Lookup Tables'!$R$14","v":15.957600000000001},{"$f":"E1317*'Lookup Tables'!$R$14","v":20.71},{"$f":"F1317*'Lookup Tables'!$R$14","v":31.021400000000003},{"$f":"G1317*'Lookup Tables'!$R$14","v":43.818000000000005}]
["41-9031","Sales Engineers",{"$f":"C1318*'Lookup Tables'!$R$14","v":31.664500000000004},{"$f":"D1318*'Lookup Tables'!$R$14","v":38.302600000000005},{"$f":"E1318*'Lookup Tables'!$R$14","v":47.840100000000007},{"$f":"F1318*'Lookup Tables'!$R$14","v":62.587800000000009},{"$f":"G1318*'Lookup Tables'!$R$14","v":82.741900000000001}]
["41-9041","Telemarketers",{"$f":"C1319*'Lookup Tables'!$R$14","v":10.791},{"$f":"D1319*'Lookup Tables'!$R$14","v":12.164400000000001},{"$f":"E1319*'Lookup Tables'!$R$14","v":14.311700000000002},{"$f":"F1319*'Lookup Tables'!$R$14","v":17.701599999999999},{"$f":"G1319*'Lookup Tables'!$R$14","v":21.004300000000001}]
["41-9091","Door-to-Door Sales Workers, News and Street Vendors, and Related Workers",{"$f":"C1320*'Lookup Tables'!$R$14","v":9.2214000000000009},{"$f":"D1320*'Lookup Tables'!$R$14","v":10.998100000000001},{"$f":"E1320*'Lookup Tables'!$R$14","v":14.355300000000002},{"$f":"F1320*'Lookup Tables'!$R$14","v":25.5823},{"$f":"G1320*'Lookup Tables'!$R$14","v":41.823300000000003}]
["41-9099","Sales and Related Workers, All Other",{"$f":"C1321*'Lookup Tables'!$R$14","v":10.682000000000002},{"$f":"D1321*'Lookup Tables'!$R$14","v":11.499500000000001},{"$f":"E1321*'Lookup Tables'!$R$14","v":12.840199999999999},{"$f":"F1321*'Lookup Tables'!$R$14","v":17.472700000000003},{"$f":"G1321*'Lookup Tables'!$R$14","v":29.866}]
["43-0000","Office and Administrative Support Occupations",{"$f":"C1322*'Lookup Tables'!$R$14","v":11.772000000000002},{"$f":"D1322*'Lookup Tables'!$R$14","v":14.976600000000001},{"$f":"E1322*'Lookup Tables'!$R$14","v":18.987800000000004},{"$f":"F1322*'Lookup Tables'!$R$14","v":24.176200000000001},{"$f":"G1322*'Lookup Tables'!$R$14","v":31.0105}]
["43-1011","First-Line Supervisors of Office and Administrative Support Workers",{"$f":"C1323*'Lookup Tables'!$R$14","v":17.352800000000002},{"$f":"D1323*'Lookup Tables'!$R$14","v":21.494800000000001},{"$f":"E1323*'Lookup Tables'!$R$14","v":27.871300000000002},{"$f":"F1323*'Lookup Tables'!$R$14","v":34.258700000000005},{"$f":"G1323*'Lookup Tables'!$R$14","v":42.597200000000001}]
["43-2011","Switchboard Operators, Including Answering Service",{"$f":"C1324*'Lookup Tables'!$R$14","v":11.248800000000001},{"$f":"D1324*'Lookup Tables'!$R$14","v":12.916500000000001},{"$f":"E1324*'Lookup Tables'!$R$14","v":14.911200000000001},{"$f":"F1324*'Lookup Tables'!$R$14","v":16.786000000000001},{"$f":"G1324*'Lookup Tables'!$R$14","v":19.729000000000003}]
["43-2099","Communications Equipment Operators, All Other",{"$f":"C1325*'Lookup Tables'!$R$14","v":18.083100000000002},{"$f":"D1325*'Lookup Tables'!$R$14","v":19.260300000000004},{"$f":"E1325*'Lookup Tables'!$R$14","v":21.1569},{"$f":"F1325*'Lookup Tables'!$R$14","v":22.922700000000003},{"$f":"G1325*'Lookup Tables'!$R$14","v":29.855100000000004}]
["43-3011","Bill and Account Collectors",{"$f":"C1326*'Lookup Tables'!$R$14","v":13.090900000000001},{"$f":"D1326*'Lookup Tables'!$R$14","v":15.6524},{"$f":"E1326*'Lookup Tables'!$R$14","v":18.802500000000002},{"$f":"F1326*'Lookup Tables'!$R$14","v":21.778200000000002},{"$f":"G1326*'Lookup Tables'!$R$14","v":26.487000000000002}]
["43-3021","Billing and Posting Clerks",{"$f":"C1327*'Lookup Tables'!$R$14","v":14.257200000000001},{"$f":"D1327*'Lookup Tables'!$R$14","v":16.644300000000001},{"$f":"E1327*'Lookup Tables'!$R$14","v":19.282100000000003},{"$f":"F1327*'Lookup Tables'!$R$14","v":22.486699999999999},{"$f":"G1327*'Lookup Tables'!$R$14","v":26.388900000000003}]
["43-3031","Bookkeeping, Accounting, and Auditing Clerks",{"$f":"C1328*'Lookup Tables'!$R$14","v":13.287100000000001},{"$f":"D1328*'Lookup Tables'!$R$14","v":16.677000000000003},{"$f":"E1328*'Lookup Tables'!$R$14","v":20.481100000000001},{"$f":"F1328*'Lookup Tables'!$R$14","v":25.124500000000001},{"$f":"G1328*'Lookup Tables'!$R$14","v":30.040400000000002}]
["43-3051","Payroll and Timekeeping Clerks",{"$f":"C1329*'Lookup Tables'!$R$14","v":15.216400000000002},{"$f":"D1329*'Lookup Tables'!$R$14","v":18.497299999999999},{"$f":"E1329*'Lookup Tables'!$R$14","v":22.7592},{"$f":"F1329*'Lookup Tables'!$R$14","v":27.489800000000002},{"$f":"G1329*'Lookup Tables'!$R$14","v":32.373000000000005}]
["43-3061","Procurement Clerks",{"$f":"C1330*'Lookup Tables'!$R$14","v":14.050100000000002},{"$f":"D1330*'Lookup Tables'!$R$14","v":17.821500000000004},{"$f":"E1330*'Lookup Tables'!$R$14","v":21.0261},{"$f":"F1330*'Lookup Tables'!$R$14","v":24.753900000000002},{"$f":"G1330*'Lookup Tables'!$R$14","v":28.176500000000004}]
["43-3071","Tellers",{"$f":"C1331*'Lookup Tables'!$R$14","v":13.635900000000001},{"$f":"D1331*'Lookup Tables'!$R$14","v":15.227300000000001},{"$f":"E1331*'Lookup Tables'!$R$14","v":17.440000000000001},{"$f":"F1331*'Lookup Tables'!$R$14","v":19.903400000000005},{"$f":"G1331*'Lookup Tables'!$R$14","v":22.268700000000003}]
["43-3099","Financial Clerks, All Other",{"$f":"C1332*'Lookup Tables'!$R$14","v":16.600700000000003},{"$f":"D1332*'Lookup Tables'!$R$14","v":18.268400000000003},{"$f":"E1332*'Lookup Tables'!$R$14","v":20.9498},{"$f":"F1332*'Lookup Tables'!$R$14","v":27.119199999999999},{"$f":"G1332*'Lookup Tables'!$R$14","v":36.918300000000002}]
["43-4011","Brokerage Clerks",{"$f":"C1333*'Lookup Tables'!$R$14","v":19.216699999999999},{"$f":"D1333*'Lookup Tables'!$R$14","v":23.173400000000004},{"$f":"E1333*'Lookup Tables'!$R$14","v":27.304500000000004},{"$f":"F1333*'Lookup Tables'!$R$14","v":32.122300000000003},{"$f":"G1333*'Lookup Tables'!$R$14","v":36.3733}]
["43-4031","Court, Municipal, and License Clerks",{"$f":"C1334*'Lookup Tables'!$R$14","v":13.581400000000002},{"$f":"D1334*'Lookup Tables'!$R$14","v":16.6661},{"$f":"E1334*'Lookup Tables'!$R$14","v":19.205800000000004},{"$f":"F1334*'Lookup Tables'!$R$14","v":21.985300000000002},{"$f":"G1334*'Lookup Tables'!$R$14","v":25.647700000000004}]
["43-4041","Credit Authorizers, Checkers, and Clerks",{"$f":"C1335*'Lookup Tables'!$R$14","v":15.8377},{"$f":"D1335*'Lookup Tables'!$R$14","v":18.3338},{"$f":"E1335*'Lookup Tables'!$R$14","v":21.789100000000001},{"$f":"F1335*'Lookup Tables'!$R$14","v":25.331600000000002},{"$f":"G1335*'Lookup Tables'!$R$14","v":28.350900000000003}]
["43-4051","Customer Service Representatives",{"$f":"C1336*'Lookup Tables'!$R$14","v":11.314200000000001},{"$f":"D1336*'Lookup Tables'!$R$14","v":13.9084},{"$f":"E1336*'Lookup Tables'!$R$14","v":18.006800000000002},{"$f":"F1336*'Lookup Tables'!$R$14","v":22.421300000000002},{"$f":"G1336*'Lookup Tables'!$R$14","v":27.947600000000001}]
["43-4061","Eligibility Interviewers, Government Programs",{"$f":"C1337*'Lookup Tables'!$R$14","v":15.510700000000002},{"$f":"D1337*'Lookup Tables'!$R$14","v":17.570800000000002},{"$f":"E1337*'Lookup Tables'!$R$14","v":19.914300000000001},{"$f":"F1337*'Lookup Tables'!$R$14","v":23.620300000000004},{"$f":"G1337*'Lookup Tables'!$R$14","v":26.683200000000003}]
["43-4071","File Clerks",{"$f":"C1338*'Lookup Tables'!$R$14","v":11.4559},{"$f":"D1338*'Lookup Tables'!$R$14","v":14.082800000000001},{"$f":"E1338*'Lookup Tables'!$R$14","v":17.886900000000001},{"$f":"F1338*'Lookup Tables'!$R$14","v":20.960700000000003},{"$f":"G1338*'Lookup Tables'!$R$14","v":25.1572}]
["43-4081","Hotel, Motel, and Resort Desk Clerks",{"$f":"C1339*'Lookup Tables'!$R$14","v":8.8835000000000015},{"$f":"D1339*'Lookup Tables'!$R$14","v":9.81},{"$f":"E1339*'Lookup Tables'!$R$14","v":11.314200000000001},{"$f":"F1339*'Lookup Tables'!$R$14","v":12.949200000000001},{"$f":"G1339*'Lookup Tables'!$R$14","v":15.3581}]
["43-4111","Interviewers, Except Eligibility and Loan",{"$f":"C1340*'Lookup Tables'!$R$14","v":13.1127},{"$f":"D1340*'Lookup Tables'!$R$14","v":14.518800000000001},{"$f":"E1340*'Lookup Tables'!$R$14","v":16.7315},{"$f":"F1340*'Lookup Tables'!$R$14","v":19.805300000000003},{"$f":"G1340*'Lookup Tables'!$R$14","v":23.227900000000002}]
["43-4121","Library Assistants, Clerical",{"$f":"C1341*'Lookup Tables'!$R$14","v":9.0797000000000008},{"$f":"D1341*'Lookup Tables'!$R$14","v":10.256900000000002},{"$f":"E1341*'Lookup Tables'!$R$14","v":13.821200000000001},{"$f":"F1341*'Lookup Tables'!$R$14","v":16.469899999999999},{"$f":"G1341*'Lookup Tables'!$R$14","v":19.892500000000002}]
["43-4131","Loan Interviewers and Clerks",{"$f":"C1342*'Lookup Tables'!$R$14","v":16.775100000000002},{"$f":"D1342*'Lookup Tables'!$R$14","v":19.325700000000001},{"$f":"E1342*'Lookup Tables'!$R$14","v":23.2606},{"$f":"F1342*'Lookup Tables'!$R$14","v":27.293600000000001},{"$f":"G1342*'Lookup Tables'!$R$14","v":32.078700000000005}]
["43-4141","New Accounts Clerks",{"$f":"C1343*'Lookup Tables'!$R$14","v":15.706900000000001},{"$f":"D1343*'Lookup Tables'!$R$14","v":18.2575},{"$f":"E1343*'Lookup Tables'!$R$14","v":21.549300000000002},{"$f":"F1343*'Lookup Tables'!$R$14","v":27.435300000000005},{"$f":"G1343*'Lookup Tables'!$R$14","v":31.3048}]
["43-4151","Order Clerks",{"$f":"C1344*'Lookup Tables'!$R$14","v":11.314200000000001},{"$f":"D1344*'Lookup Tables'!$R$14","v":14.137300000000002},{"$f":"E1344*'Lookup Tables'!$R$14","v":18.366500000000002},{"$f":"F1344*'Lookup Tables'!$R$14","v":22.988100000000003},{"$f":"G1344*'Lookup Tables'!$R$14","v":27.032000000000004}]
["43-4161","Human Resources Assistants, Except Payroll and Timekeeping",{"$f":"C1345*'Lookup Tables'!$R$14","v":14.355300000000002},{"$f":"D1345*'Lookup Tables'!$R$14","v":17.483599999999999},{"$f":"E1345*'Lookup Tables'!$R$14","v":20.459300000000002},{"$f":"F1345*'Lookup Tables'!$R$14","v":23.98},{"$f":"G1345*'Lookup Tables'!$R$14","v":26.606900000000003}]
["43-4171","Receptionists and Information Clerks",{"$f":"C1346*'Lookup Tables'!$R$14","v":10.267800000000001},{"$f":"D1346*'Lookup Tables'!$R$14","v":12.698500000000001},{"$f":"E1346*'Lookup Tables'!$R$14","v":15.238200000000001},{"$f":"F1346*'Lookup Tables'!$R$14","v":18.224799999999998},{"$f":"G1346*'Lookup Tables'!$R$14","v":20.928000000000001}]
["43-4181","Reservation and Transportation Ticket Agents and Travel Clerks",{"$f":"C1347*'Lookup Tables'!$R$14","v":13.843},{"$f":"D1347*'Lookup Tables'!$R$14","v":16.895},{"$f":"E1347*'Lookup Tables'!$R$14","v":24.307000000000002},{"$f":"F1347*'Lookup Tables'!$R$14","v":36.558599999999998},{"$f":"G1347*'Lookup Tables'!$R$14","v":40.820500000000003}]
["43-4199","Information and Record Clerks, All Other",{"$f":"C1348*'Lookup Tables'!$R$14","v":11.957300000000002},{"$f":"D1348*'Lookup Tables'!$R$14","v":14.540600000000001},{"$f":"E1348*'Lookup Tables'!$R$14","v":19.892500000000002},{"$f":"F1348*'Lookup Tables'!$R$14","v":24.710300000000004},{"$f":"G1348*'Lookup Tables'!$R$14","v":28.394500000000004}]
["43-5011","Cargo and Freight Agents",{"$f":"C1349*'Lookup Tables'!$R$14","v":14.475200000000001},{"$f":"D1349*'Lookup Tables'!$R$14","v":18.519099999999998},{"$f":"E1349*'Lookup Tables'!$R$14","v":23.271500000000003},{"$f":"F1349*'Lookup Tables'!$R$14","v":28.972200000000001},{"$f":"G1349*'Lookup Tables'!$R$14","v":33.920800000000007}]
["43-5021","Couriers and Messengers",{"$f":"C1350*'Lookup Tables'!$R$14","v":11.0199},{"$f":"D1350*'Lookup Tables'!$R$14","v":12.622200000000001},{"$f":"E1350*'Lookup Tables'!$R$14","v":14.856700000000002},{"$f":"F1350*'Lookup Tables'!$R$14","v":17.2438},{"$f":"G1350*'Lookup Tables'!$R$14","v":20.088700000000003}]
["43-5031","Public Safety Telecommunicators",{"$f":"C1351*'Lookup Tables'!$R$14","v":14.246300000000002},{"$f":"D1351*'Lookup Tables'!$R$14","v":16.415400000000002},{"$f":"E1351*'Lookup Tables'!$R$14","v":18.7698},{"$f":"F1351*'Lookup Tables'!$R$14","v":20.971599999999999},{"$f":"G1351*'Lookup Tables'!$R$14","v":24.764800000000001}]
["43-5032","Dispatchers, Except Police, Fire, and Ambulance",{"$f":"C1352*'Lookup Tables'!$R$14","v":12.883800000000001},{"$f":"D1352*'Lookup Tables'!$R$14","v":16.415400000000002},{"$f":"E1352*'Lookup Tables'!$R$14","v":20.666400000000003},{"$f":"F1352*'Lookup Tables'!$R$14","v":25.898400000000002},{"$f":"G1352*'Lookup Tables'!$R$14","v":31.402900000000002}]
["43-5041","Meter Readers, Utilities",{"$f":"C1353*'Lookup Tables'!$R$14","v":13.984700000000002},{"$f":"D1353*'Lookup Tables'!$R$14","v":16.262800000000002},{"$f":"E1353*'Lookup Tables'!$R$14","v":19.543700000000001},{"$f":"F1353*'Lookup Tables'!$R$14","v":25.9529},{"$f":"G1353*'Lookup Tables'!$R$14","v":33.997100000000003}]
["43-5051","Postal Service Clerks",{"$f":"C1354*'Lookup Tables'!$R$14","v":21.7455},{"$f":"D1354*'Lookup Tables'!$R$14","v":23.2606},{"$f":"E1354*'Lookup Tables'!$R$14","v":25.767600000000002},{"$f":"F1354*'Lookup Tables'!$R$14","v":31.838900000000002},{"$f":"G1354*'Lookup Tables'!$R$14","v":32.482000000000006}]
["43-5052","Postal Service Mail Carriers",{"$f":"C1355*'Lookup Tables'!$R$14","v":19.380200000000002},{"$f":"D1355*'Lookup Tables'!$R$14","v":19.391100000000002},{"$f":"E1355*'Lookup Tables'!$R$14","v":26.203600000000002},{"$f":"F1355*'Lookup Tables'!$R$14","v":33.757300000000001},{"$f":"G1355*'Lookup Tables'!$R$14","v":35.534000000000006}]
["43-5053","Postal Service Mail Sorters, Processors, and Processing Machine Operators",{"$f":"C1356*'Lookup Tables'!$R$14","v":18.737100000000002},{"$f":"D1356*'Lookup Tables'!$R$14","v":18.748000000000001},{"$f":"E1356*'Lookup Tables'!$R$14","v":31.511900000000004},{"$f":"F1356*'Lookup Tables'!$R$14","v":31.838900000000002},{"$f":"G1356*'Lookup Tables'!$R$14","v":32.100500000000004}]
["43-5061","Production, Planning, and Expediting Clerks",{"$f":"C1357*'Lookup Tables'!$R$14","v":14.584200000000003},{"$f":"D1357*'Lookup Tables'!$R$14","v":18.268400000000003},{"$f":"E1357*'Lookup Tables'!$R$14","v":23.740200000000002},{"$f":"F1357*'Lookup Tables'!$R$14","v":30.400100000000002},{"$f":"G1357*'Lookup Tables'!$R$14","v":36.929200000000009}]
["43-5071","Shipping, Receiving, and Inventory Clerks",{"$f":"C1358*'Lookup Tables'!$R$14","v":11.652100000000001},{"$f":"D1358*'Lookup Tables'!$R$14","v":14.006500000000001},{"$f":"E1358*'Lookup Tables'!$R$14","v":16.927700000000002},{"$f":"F1358*'Lookup Tables'!$R$14","v":20.611900000000002},{"$f":"G1358*'Lookup Tables'!$R$14","v":25.266200000000001}]
["43-5111","Weighers, Measurers, Checkers, and Samplers, Recordkeeping",{"$f":"C1359*'Lookup Tables'!$R$14","v":12.8184},{"$f":"D1359*'Lookup Tables'!$R$14","v":14.475200000000001},{"$f":"E1359*'Lookup Tables'!$R$14","v":16.982200000000002},{"$f":"F1359*'Lookup Tables'!$R$14","v":20.644600000000004},{"$f":"G1359*'Lookup Tables'!$R$14","v":25.222600000000003}]
["43-6011","Executive Secretaries and Executive Administrative Assistants",{"$f":"C1360*'Lookup Tables'!$R$14","v":21.222300000000001},{"$f":"D1360*'Lookup Tables'!$R$14","v":24.557700000000004},{"$f":"E1360*'Lookup Tables'!$R$14","v":29.430000000000003},{"$f":"F1360*'Lookup Tables'!$R$14","v":34.967199999999998},{"$f":"G1360*'Lookup Tables'!$R$14","v":41.605300000000007}]
["43-6012","Legal Secretaries and Administrative Assistants",{"$f":"C1361*'Lookup Tables'!$R$14","v":13.047300000000002},{"$f":"D1361*'Lookup Tables'!$R$14","v":17.058500000000002},{"$f":"E1361*'Lookup Tables'!$R$14","v":23.249700000000001},{"$f":"F1361*'Lookup Tables'!$R$14","v":30.193000000000001},{"$f":"G1361*'Lookup Tables'!$R$14","v":38.673200000000001}]
["43-6013","Medical Secretaries and Administrative Assistants",{"$f":"C1362*'Lookup Tables'!$R$14","v":13.385200000000001},{"$f":"D1362*'Lookup Tables'!$R$14","v":15.194600000000001},{"$f":"E1362*'Lookup Tables'!$R$14","v":17.952300000000001},{"$f":"F1362*'Lookup Tables'!$R$14","v":20.71},{"$f":"G1362*'Lookup Tables'!$R$14","v":24.775700000000004}]
["43-6014","Secretaries and Administrative Assistants, Except Legal, Medical, and Executive",{"$f":"C1363*'Lookup Tables'!$R$14","v":13.5487},{"$f":"D1363*'Lookup Tables'!$R$14","v":16.655200000000001},{"$f":"E1363*'Lookup Tables'!$R$14","v":19.467400000000001},{"$f":"F1363*'Lookup Tables'!$R$14","v":23.140700000000002},{"$f":"G1363*'Lookup Tables'!$R$14","v":26.6723}]
["43-9021","Data Entry Keyers",{"$f":"C1364*'Lookup Tables'!$R$14","v":11.793800000000001},{"$f":"D1364*'Lookup Tables'!$R$14","v":14.126400000000002},{"$f":"E1364*'Lookup Tables'!$R$14","v":16.535299999999999},{"$f":"F1364*'Lookup Tables'!$R$14","v":19.761700000000001},{"$f":"G1364*'Lookup Tables'!$R$14","v":23.456800000000001}]
["43-9022","Word Processors and Typists",{"$f":"C1365*'Lookup Tables'!$R$14","v":14.5624},{"$f":"D1365*'Lookup Tables'!$R$14","v":16.339100000000002},{"$f":"E1365*'Lookup Tables'!$R$14","v":20.415700000000001},{"$f":"F1365*'Lookup Tables'!$R$14","v":24.045400000000001},{"$f":"G1365*'Lookup Tables'!$R$14","v":30.803400000000003}]
["43-9031","Desktop Publishers","*","*","*","*","*"]
["43-9041","Insurance Claims and Policy Processing Clerks",{"$f":"C1367*'Lookup Tables'!$R$14","v":16.5244},{"$f":"D1367*'Lookup Tables'!$R$14","v":18.486400000000003},{"$f":"E1367*'Lookup Tables'!$R$14","v":21.6692},{"$f":"F1367*'Lookup Tables'!$R$14","v":27.0974},{"$f":"G1367*'Lookup Tables'!$R$14","v":34.095200000000006}]
["43-9051","Mail Clerks and Mail Machine Operators, Except Postal Service",{"$f":"C1368*'Lookup Tables'!$R$14","v":9.6683000000000003},{"$f":"D1368*'Lookup Tables'!$R$14","v":11.99},{"$f":"E1368*'Lookup Tables'!$R$14","v":15.619700000000002},{"$f":"F1368*'Lookup Tables'!$R$14","v":18.944199999999999},{"$f":"G1368*'Lookup Tables'!$R$14","v":21.178700000000003}]
["43-9061","Office Clerks, General",{"$f":"C1369*'Lookup Tables'!$R$14","v":10.093400000000001},{"$f":"D1369*'Lookup Tables'!$R$14","v":13.1236},{"$f":"E1369*'Lookup Tables'!$R$14","v":16.655200000000001},{"$f":"F1369*'Lookup Tables'!$R$14","v":20.819000000000003},{"$f":"G1369*'Lookup Tables'!$R$14","v":26.323499999999999}]
["43-9071","Office Machine Operators, Except Computer",{"$f":"C1370*'Lookup Tables'!$R$14","v":11.423200000000001},{"$f":"D1370*'Lookup Tables'!$R$14","v":14.0283},{"$f":"E1370*'Lookup Tables'!$R$14","v":16.5898},{"$f":"F1370*'Lookup Tables'!$R$14","v":20.0669},{"$f":"G1370*'Lookup Tables'!$R$14","v":24.296099999999999}]
["43-9111","Statistical Assistants",{"$f":"C1371*'Lookup Tables'!$R$14","v":17.647100000000002},{"$f":"D1371*'Lookup Tables'!$R$14","v":19.4129},{"$f":"E1371*'Lookup Tables'!$R$14","v":22.530300000000004},{"$f":"F1371*'Lookup Tables'!$R$14","v":25.549600000000002},{"$f":"G1371*'Lookup Tables'!$R$14","v":28.078400000000002}]
["43-9199","Office and Administrative Support Workers, All Other",{"$f":"C1372*'Lookup Tables'!$R$14","v":14.050100000000002},{"$f":"D1372*'Lookup Tables'!$R$14","v":17.6035},{"$f":"E1372*'Lookup Tables'!$R$14","v":20.666400000000003},{"$f":"F1372*'Lookup Tables'!$R$14","v":25.473300000000002},{"$f":"G1372*'Lookup Tables'!$R$14","v":30.727100000000004}]
["45-0000","Farming, Fishing, and Forestry Occupations",{"$f":"C1373*'Lookup Tables'!$R$14","v":9.5484000000000009},{"$f":"D1373*'Lookup Tables'!$R$14","v":11.499500000000001},{"$f":"E1373*'Lookup Tables'!$R$14","v":14.943900000000003},{"$f":"F1373*'Lookup Tables'!$R$14","v":20.1432},{"$f":"G1373*'Lookup Tables'!$R$14","v":26.279900000000001}]
["45-1011","First-Line Supervisors of Farming, Fishing, and Forestry Workers",{"$f":"C1374*'Lookup Tables'!$R$14","v":15.9358},{"$f":"D1374*'Lookup Tables'!$R$14","v":22.007100000000005},{"$f":"E1374*'Lookup Tables'!$R$14","v":27.250000000000004},{"$f":"F1374*'Lookup Tables'!$R$14","v":36.841999999999999},{"$f":"G1374*'Lookup Tables'!$R$14","v":48.036300000000004}]
["45-2011","Agricultural Inspectors",{"$f":"C1375*'Lookup Tables'!$R$14","v":18.508200000000002},{"$f":"D1375*'Lookup Tables'!$R$14","v":20.230399999999999},{"$f":"E1375*'Lookup Tables'!$R$14","v":22.421300000000002},{"$f":"F1375*'Lookup Tables'!$R$14","v":26.007400000000001},{"$f":"G1375*'Lookup Tables'!$R$14","v":28.176500000000004}]
["45-2041","Graders and Sorters, Agricultural Products",{"$f":"C1376*'Lookup Tables'!$R$14","v":9.1123999999999992},{"$f":"D1376*'Lookup Tables'!$R$14","v":10.453100000000001},{"$f":"E1376*'Lookup Tables'!$R$14","v":13.3743},{"$f":"F1376*'Lookup Tables'!$R$14","v":15.706900000000001},{"$f":"G1376*'Lookup Tables'!$R$14","v":18.660800000000002}]
["45-2091","Agricultural Equipment Operators",{"$f":"C1377*'Lookup Tables'!$R$14","v":8.9161999999999999},{"$f":"D1377*'Lookup Tables'!$R$14","v":10.038900000000002},{"$f":"E1377*'Lookup Tables'!$R$14","v":13.755800000000001},{"$f":"F1377*'Lookup Tables'!$R$14","v":17.6035},{"$f":"G1377*'Lookup Tables'!$R$14","v":20.982500000000002}]
["45-2092","Farmworkers and Laborers, Crop, Nursery, and Greenhouse",{"$f":"C1378*'Lookup Tables'!$R$14","v":9.1451000000000011},{"$f":"D1378*'Lookup Tables'!$R$14","v":10.5403},{"$f":"E1378*'Lookup Tables'!$R$14","v":12.371500000000001},{"$f":"F1378*'Lookup Tables'!$R$14","v":15.260000000000002},{"$f":"G1378*'Lookup Tables'!$R$14","v":19.2712}]
["45-2093","Farmworkers, Farm, Ranch, and Aquacultural Animals",{"$f":"C1379*'Lookup Tables'!$R$14","v":9.1451000000000011},{"$f":"D1379*'Lookup Tables'!$R$14","v":10.485799999999999},{"$f":"E1379*'Lookup Tables'!$R$14","v":12.415100000000001},{"$f":"F1379*'Lookup Tables'!$R$14","v":15.336300000000001},{"$f":"G1379*'Lookup Tables'!$R$14","v":18.639000000000003}]
["45-2099","Agricultural Workers, All Other",{"$f":"C1380*'Lookup Tables'!$R$14","v":12.273400000000001},{"$f":"D1380*'Lookup Tables'!$R$14","v":16.404500000000002},{"$f":"E1380*'Lookup Tables'!$R$14","v":21.865400000000001},{"$f":"F1380*'Lookup Tables'!$R$14","v":26.018300000000004},{"$f":"G1380*'Lookup Tables'!$R$14","v":30.792500000000004}]
["45-4021","Fallers",{"$f":"C1381*'Lookup Tables'!$R$14","v":16.437200000000001},{"$f":"D1381*'Lookup Tables'!$R$14","v":18.3338},{"$f":"E1381*'Lookup Tables'!$R$14","v":21.473000000000003},{"$f":"F1381*'Lookup Tables'!$R$14","v":29.113900000000005},{"$f":"G1381*'Lookup Tables'!$R$14","v":33.146900000000002}]
["45-4022","Logging Equipment Operators",{"$f":"C1382*'Lookup Tables'!$R$14","v":14.4643},{"$f":"D1382*'Lookup Tables'!$R$14","v":16.982200000000002},{"$f":"E1382*'Lookup Tables'!$R$14","v":20.088700000000003},{"$f":"F1382*'Lookup Tables'!$R$14","v":25.037300000000002},{"$f":"G1382*'Lookup Tables'!$R$14","v":32.155000000000001}]
["45-4023","Log Graders and Scalers",{"$f":"C1383*'Lookup Tables'!$R$14","v":11.8156},{"$f":"D1383*'Lookup Tables'!$R$14","v":13.995600000000001},{"$f":"E1383*'Lookup Tables'!$R$14","v":16.633400000000002},{"$f":"F1383*'Lookup Tables'!$R$14","v":23.6312},{"$f":"G1383*'Lookup Tables'!$R$14","v":27.478900000000003}]
["45-4029","Logging Workers, All Other",{"$f":"C1384*'Lookup Tables'!$R$14","v":13.864800000000002},{"$f":"D1384*'Lookup Tables'!$R$14","v":14.704100000000002},{"$f":"E1384*'Lookup Tables'!$R$14","v":16.110199999999999},{"$f":"F1384*'Lookup Tables'!$R$14","v":22.443100000000001},{"$f":"G1384*'Lookup Tables'!$R$14","v":26.465200000000003}]
["47-0000","Construction and Extraction Occupations",{"$f":"C1385*'Lookup Tables'!$R$14","v":13.646800000000001},{"$f":"D1385*'Lookup Tables'!$R$14","v":16.633400000000002},{"$f":"E1385*'Lookup Tables'!$R$14","v":20.5029},{"$f":"F1385*'Lookup Tables'!$R$14","v":26.443400000000004},{"$f":"G1385*'Lookup Tables'!$R$14","v":33.375800000000005}]
["47-1011","First-Line Supervisors of Construction Trades and Extraction Workers",{"$f":"C1386*'Lookup Tables'!$R$14","v":21.647400000000001},{"$f":"D1386*'Lookup Tables'!$R$14","v":26.541500000000003},{"$f":"E1386*'Lookup Tables'!$R$14","v":31.446500000000004},{"$f":"F1386*'Lookup Tables'!$R$14","v":38.182700000000004},{"$f":"G1386*'Lookup Tables'!$R$14","v":44.624600000000001}]
["47-2011","Boilermakers",{"$f":"C1387*'Lookup Tables'!$R$14","v":17.331000000000003},{"$f":"D1387*'Lookup Tables'!$R$14","v":22.530300000000004},{"$f":"E1387*'Lookup Tables'!$R$14","v":30.8797},{"$f":"F1387*'Lookup Tables'!$R$14","v":37.757600000000004},{"$f":"G1387*'Lookup Tables'!$R$14","v":42.717100000000002}]
["47-2021","Brickmasons and Blockmasons",{"$f":"C1388*'Lookup Tables'!$R$14","v":14.693200000000001},{"$f":"D1388*'Lookup Tables'!$R$14","v":17.886900000000001},{"$f":"E1388*'Lookup Tables'!$R$14","v":20.938900000000004},{"$f":"F1388*'Lookup Tables'!$R$14","v":24.405100000000001},{"$f":"G1388*'Lookup Tables'!$R$14","v":26.606900000000003}]
["47-2022","Stonemasons",{"$f":"C1389*'Lookup Tables'!$R$14","v":11.063500000000001},{"$f":"D1389*'Lookup Tables'!$R$14","v":12.120800000000001},{"$f":"E1389*'Lookup Tables'!$R$14","v":17.505400000000002},{"$f":"F1389*'Lookup Tables'!$R$14","v":21.7455},{"$f":"G1389*'Lookup Tables'!$R$14","v":32.198599999999999}]
["47-2031","Carpenters",{"$f":"C1390*'Lookup Tables'!$R$14","v":13.973800000000001},{"$f":"D1390*'Lookup Tables'!$R$14","v":16.4481},{"$f":"E1390*'Lookup Tables'!$R$14","v":19.478300000000001},{"$f":"F1390*'Lookup Tables'!$R$14","v":23.718400000000003},{"$f":"G1390*'Lookup Tables'!$R$14","v":27.729600000000005}]
["47-2041","Carpet Installers",{"$f":"C1391*'Lookup Tables'!$R$14","v":11.4777},{"$f":"D1391*'Lookup Tables'!$R$14","v":14.7477},{"$f":"E1391*'Lookup Tables'!$R$14","v":18.606300000000001},{"$f":"F1391*'Lookup Tables'!$R$14","v":21.843600000000002},{"$f":"G1391*'Lookup Tables'!$R$14","v":27.239100000000001}]
["47-2042","Floor Layers, Except Carpet, Wood, and Hard Tiles",{"$f":"C1392*'Lookup Tables'!$R$14","v":9.9844000000000008},{"$f":"D1392*'Lookup Tables'!$R$14","v":13.221700000000002},{"$f":"E1392*'Lookup Tables'!$R$14","v":16.044800000000002},{"$f":"F1392*'Lookup Tables'!$R$14","v":20.2849},{"$f":"G1392*'Lookup Tables'!$R$14","v":26.497900000000001}]
["47-2043","Floor Sanders and Finishers",{"$f":"C1393*'Lookup Tables'!$R$14","v":11.390499999999999},{"$f":"D1393*'Lookup Tables'!$R$14","v":14.366200000000001},{"$f":"E1393*'Lookup Tables'!$R$14","v":17.091200000000001},{"$f":"F1393*'Lookup Tables'!$R$14","v":19.990600000000001},{"$f":"G1393*'Lookup Tables'!$R$14","v":22.639300000000002}]
["47-2044","Tile and Stone Setters",{"$f":"C1394*'Lookup Tables'!$R$14","v":12.535},{"$f":"D1394*'Lookup Tables'!$R$14","v":15.074700000000002},{"$f":"E1394*'Lookup Tables'!$R$14","v":19.292999999999999},{"$f":"F1394*'Lookup Tables'!$R$14","v":24.165300000000002},{"$f":"G1394*'Lookup Tables'!$R$14","v":33.354000000000006}]
["47-2051","Cement Masons and Concrete Finishers",{"$f":"C1395*'Lookup Tables'!$R$14","v":14.715000000000002},{"$f":"D1395*'Lookup Tables'!$R$14","v":17.472700000000003},{"$f":"E1395*'Lookup Tables'!$R$14","v":20.328499999999998},{"$f":"F1395*'Lookup Tables'!$R$14","v":24.045400000000001},{"$f":"G1395*'Lookup Tables'!$R$14","v":26.781300000000002}]
["47-2061","Construction Laborers",{"$f":"C1396*'Lookup Tables'!$R$14","v":10.7256},{"$f":"D1396*'Lookup Tables'!$R$14","v":13.635900000000001},{"$f":"E1396*'Lookup Tables'!$R$14","v":16.121100000000002},{"$f":"F1396*'Lookup Tables'!$R$14","v":19.205800000000004},{"$f":"G1396*'Lookup Tables'!$R$14","v":21.647400000000001}]
["47-2071","Paving, Surfacing, and Tamping Equipment Operators",{"$f":"C1397*'Lookup Tables'!$R$14","v":14.824},{"$f":"D1397*'Lookup Tables'!$R$14","v":16.862300000000001},{"$f":"E1397*'Lookup Tables'!$R$14","v":19.173100000000002},{"$f":"F1397*'Lookup Tables'!$R$14","v":22.257800000000003},{"$f":"G1397*'Lookup Tables'!$R$14","v":26.094600000000003}]
["47-2072","Pile Driver Operators",{"$f":"C1398*'Lookup Tables'!$R$14","v":16.0121},{"$f":"D1398*'Lookup Tables'!$R$14","v":17.941400000000002},{"$f":"E1398*'Lookup Tables'!$R$14","v":20.426600000000001},{"$f":"F1398*'Lookup Tables'!$R$14","v":26.890300000000003},{"$f":"G1398*'Lookup Tables'!$R$14","v":32.569200000000002}]
["47-2073","Operating Engineers and Other Construction Equipment Operators",{"$f":"C1399*'Lookup Tables'!$R$14","v":15.7178},{"$f":"D1399*'Lookup Tables'!$R$14","v":17.9087},{"$f":"E1399*'Lookup Tables'!$R$14","v":20.720900000000004},{"$f":"F1399*'Lookup Tables'!$R$14","v":24.841100000000001},{"$f":"G1399*'Lookup Tables'!$R$14","v":29.440900000000003}]
["47-2081","Drywall and Ceiling Tile Installers",{"$f":"C1400*'Lookup Tables'!$R$14","v":14.856700000000002},{"$f":"D1400*'Lookup Tables'!$R$14","v":17.396400000000003},{"$f":"E1400*'Lookup Tables'!$R$14","v":19.739900000000002},{"$f":"F1400*'Lookup Tables'!$R$14","v":23.249700000000001},{"$f":"G1400*'Lookup Tables'!$R$14","v":26.715900000000005}]
["47-2111","Electricians",{"$f":"C1401*'Lookup Tables'!$R$14","v":16.895},{"$f":"D1401*'Lookup Tables'!$R$14","v":19.554600000000004},{"$f":"E1401*'Lookup Tables'!$R$14","v":23.413200000000003},{"$f":"F1401*'Lookup Tables'!$R$14","v":27.413499999999999},{"$f":"G1401*'Lookup Tables'!$R$14","v":32.209500000000006}]
["47-2121","Glaziers",{"$f":"C1402*'Lookup Tables'!$R$14","v":13.614100000000001},{"$f":"D1402*'Lookup Tables'!$R$14","v":16.273700000000002},{"$f":"E1402*'Lookup Tables'!$R$14","v":18.878800000000002},{"$f":"F1402*'Lookup Tables'!$R$14","v":21.353100000000001},{"$f":"G1402*'Lookup Tables'!$R$14","v":25.571400000000004}]
["47-2131","Insulation Workers, Floor, Ceiling, and Wall",{"$f":"C1403*'Lookup Tables'!$R$14","v":11.346900000000002},{"$f":"D1403*'Lookup Tables'!$R$14","v":13.1127},{"$f":"E1403*'Lookup Tables'!$R$14","v":17.1784},{"$f":"F1403*'Lookup Tables'!$R$14","v":20.3612},{"$f":"G1403*'Lookup Tables'!$R$14","v":25.3643}]
["47-2132","Insulation Workers, Mechanical",{"$f":"C1404*'Lookup Tables'!$R$14","v":16.033900000000003},{"$f":"D1404*'Lookup Tables'!$R$14","v":17.876000000000001},{"$f":"E1404*'Lookup Tables'!$R$14","v":20.611900000000002},{"$f":"F1404*'Lookup Tables'!$R$14","v":24.176200000000001},{"$f":"G1404*'Lookup Tables'!$R$14","v":26.596}]
["47-2141","Painters, Construction and Maintenance",{"$f":"C1405*'Lookup Tables'!$R$14","v":12.6549},{"$f":"D1405*'Lookup Tables'!$R$14","v":14.791300000000001},{"$f":"E1405*'Lookup Tables'!$R$14","v":17.418200000000002},{"$f":"F1405*'Lookup Tables'!$R$14","v":19.892500000000002},{"$f":"G1405*'Lookup Tables'!$R$14","v":22.595700000000001}]
["47-2142","Paperhangers",{"$f":"C1406*'Lookup Tables'!$R$14","v":13.069100000000001},{"$f":"D1406*'Lookup Tables'!$R$14","v":17.0258},{"$f":"E1406*'Lookup Tables'!$R$14","v":19.020500000000002},{"$f":"F1406*'Lookup Tables'!$R$14","v":21.778200000000002},{"$f":"G1406*'Lookup Tables'!$R$14","v":26.6723}]
["47-2151","Pipelayers",{"$f":"C1407*'Lookup Tables'!$R$14","v":13.6577},{"$f":"D1407*'Lookup Tables'!$R$14","v":15.510700000000002},{"$f":"E1407*'Lookup Tables'!$R$14","v":18.115800000000004},{"$f":"F1407*'Lookup Tables'!$R$14","v":20.7318},{"$f":"G1407*'Lookup Tables'!$R$14","v":24.9937}]
["47-2152","Plumbers, Pipefitters, and Steamfitters",{"$f":"C1408*'Lookup Tables'!$R$14","v":15.270900000000001},{"$f":"D1408*'Lookup Tables'!$R$14","v":18.726200000000002},{"$f":"E1408*'Lookup Tables'!$R$14","v":23.151599999999998},{"$f":"F1408*'Lookup Tables'!$R$14","v":27.446200000000001},{"$f":"G1408*'Lookup Tables'!$R$14","v":32.732700000000001}]
["47-2161","Plasterers and Stucco Masons",{"$f":"C1409*'Lookup Tables'!$R$14","v":14.333500000000001},{"$f":"D1409*'Lookup Tables'!$R$14","v":16.284600000000001},{"$f":"E1409*'Lookup Tables'!$R$14","v":19.0641},{"$f":"F1409*'Lookup Tables'!$R$14","v":23.336900000000004},{"$f":"G1409*'Lookup Tables'!$R$14","v":29.2774}]
["47-2171","Reinforcing Iron and Rebar Workers",{"$f":"C1410*'Lookup Tables'!$R$14","v":17.701599999999999},{"$f":"D1410*'Lookup Tables'!$R$14","v":21.124200000000002},{"$f":"E1410*'Lookup Tables'!$R$14","v":24.176200000000001},{"$f":"F1410*'Lookup Tables'!$R$14","v":27.751400000000004},{"$f":"G1410*'Lookup Tables'!$R$14","v":34.084299999999999}]
["47-2181","Roofers",{"$f":"C1411*'Lookup Tables'!$R$14","v":13.897500000000001},{"$f":"D1411*'Lookup Tables'!$R$14","v":16.001200000000001},{"$f":"E1411*'Lookup Tables'!$R$14","v":18.9224},{"$f":"F1411*'Lookup Tables'!$R$14","v":22.497600000000002},{"$f":"G1411*'Lookup Tables'!$R$14","v":25.6586}]
["47-2211","Sheet Metal Workers",{"$f":"C1412*'Lookup Tables'!$R$14","v":13.3634},{"$f":"D1412*'Lookup Tables'!$R$14","v":16.044800000000002},{"$f":"E1412*'Lookup Tables'!$R$14","v":20.306699999999999},{"$f":"F1412*'Lookup Tables'!$R$14","v":25.887500000000003},{"$f":"G1412*'Lookup Tables'!$R$14","v":30.988700000000001}]
["47-2221","Structural Iron and Steel Workers",{"$f":"C1413*'Lookup Tables'!$R$14","v":17.2438},{"$f":"D1413*'Lookup Tables'!$R$14","v":18.998699999999999},{"$f":"E1413*'Lookup Tables'!$R$14","v":22.137900000000002},{"$f":"F1413*'Lookup Tables'!$R$14","v":25.854800000000001},{"$f":"G1413*'Lookup Tables'!$R$14","v":30.029500000000002}]
["47-2231","Solar Photovoltaic Installers",{"$f":"C1414*'Lookup Tables'!$R$14","v":13.712200000000001},{"$f":"D1414*'Lookup Tables'!$R$14","v":15.805000000000001},{"$f":"E1414*'Lookup Tables'!$R$14","v":18.410100000000003},{"$f":"F1414*'Lookup Tables'!$R$14","v":21.396699999999999},{"$f":"G1414*'Lookup Tables'!$R$14","v":27.729600000000005}]
["47-3011","Helpers--Brickmasons, Blockmasons, Stonemasons, and Tile and Marble Setters",{"$f":"C1415*'Lookup Tables'!$R$14","v":11.9246},{"$f":"D1415*'Lookup Tables'!$R$14","v":14.0174},{"$f":"E1415*'Lookup Tables'!$R$14","v":16.055700000000002},{"$f":"F1415*'Lookup Tables'!$R$14","v":18.453700000000001},{"$f":"G1415*'Lookup Tables'!$R$14","v":20.099600000000002}]
["47-3012","Helpers--Carpenters",{"$f":"C1416*'Lookup Tables'!$R$14","v":10.453100000000001},{"$f":"D1416*'Lookup Tables'!$R$14","v":12.8947},{"$f":"E1416*'Lookup Tables'!$R$14","v":15.554300000000001},{"$f":"F1416*'Lookup Tables'!$R$14","v":18.3338},{"$f":"G1416*'Lookup Tables'!$R$14","v":20.328499999999998}]
["47-3013","Helpers--Electricians",{"$f":"C1417*'Lookup Tables'!$R$14","v":11.4777},{"$f":"D1417*'Lookup Tables'!$R$14","v":13.712200000000001},{"$f":"E1417*'Lookup Tables'!$R$14","v":16.219200000000001},{"$f":"F1417*'Lookup Tables'!$R$14","v":19.0532},{"$f":"G1417*'Lookup Tables'!$R$14","v":20.938900000000004}]
["47-3014","Helpers--Painters, Paperhangers, Plasterers, and Stucco Masons",{"$f":"C1418*'Lookup Tables'!$R$14","v":11.499500000000001},{"$f":"D1418*'Lookup Tables'!$R$14","v":13.461500000000001},{"$f":"E1418*'Lookup Tables'!$R$14","v":15.805000000000001},{"$f":"F1418*'Lookup Tables'!$R$14","v":18.355600000000003},{"$f":"G1418*'Lookup Tables'!$R$14","v":20.230399999999999}]
["47-3015","Helpers--Pipelayers, Plumbers, Pipefitters, and Steamfitters",{"$f":"C1419*'Lookup Tables'!$R$14","v":10.311400000000003},{"$f":"D1419*'Lookup Tables'!$R$14","v":13.156300000000002},{"$f":"E1419*'Lookup Tables'!$R$14","v":15.303599999999999},{"$f":"F1419*'Lookup Tables'!$R$14","v":18.028600000000001},{"$f":"G1419*'Lookup Tables'!$R$14","v":20.404800000000002}]
["47-3016","Helpers--Roofers",{"$f":"C1420*'Lookup Tables'!$R$14","v":13.1999},{"$f":"D1420*'Lookup Tables'!$R$14","v":14.082800000000001},{"$f":"E1420*'Lookup Tables'!$R$14","v":15.303599999999999},{"$f":"F1420*'Lookup Tables'!$R$14","v":16.622500000000002},{"$f":"G1420*'Lookup Tables'!$R$14","v":19.260300000000004}]
["47-3019","Helpers, Construction Trades, All Other",{"$f":"C1421*'Lookup Tables'!$R$14","v":9.0906000000000002},{"$f":"D1421*'Lookup Tables'!$R$14","v":10.562100000000001},{"$f":"E1421*'Lookup Tables'!$R$14","v":14.224500000000003},{"$f":"F1421*'Lookup Tables'!$R$14","v":17.309200000000001},{"$f":"G1421*'Lookup Tables'!$R$14","v":19.957899999999999}]
["47-4011","Construction and Building Inspectors",{"$f":"C1422*'Lookup Tables'!$R$14","v":18.595400000000001},{"$f":"D1422*'Lookup Tables'!$R$14","v":23.227900000000002},{"$f":"E1422*'Lookup Tables'!$R$14","v":29.1248},{"$f":"F1422*'Lookup Tables'!$R$14","v":34.880000000000003},{"$f":"G1422*'Lookup Tables'!$R$14","v":41.398200000000003}]
["47-4021","Elevator and Escalator Installers and Repairers",{"$f":"C1423*'Lookup Tables'!$R$14","v":15.249100000000002},{"$f":"D1423*'Lookup Tables'!$R$14","v":19.848900000000004},{"$f":"E1423*'Lookup Tables'!$R$14","v":30.236599999999999},{"$f":"F1423*'Lookup Tables'!$R$14","v":39.370800000000003},{"$f":"G1423*'Lookup Tables'!$R$14","v":43.3384}]
["47-4031","Fence Erectors",{"$f":"C1424*'Lookup Tables'!$R$14","v":12.971000000000002},{"$f":"D1424*'Lookup Tables'!$R$14","v":15.5434},{"$f":"E1424*'Lookup Tables'!$R$14","v":21.571100000000001},{"$f":"F1424*'Lookup Tables'!$R$14","v":25.080900000000003},{"$f":"G1424*'Lookup Tables'!$R$14","v":28.645200000000003}]
["47-4041","Hazardous Materials Removal Workers",{"$f":"C1425*'Lookup Tables'!$R$14","v":9.1123999999999992},{"$f":"D1425*'Lookup Tables'!$R$14","v":10.202400000000001},{"$f":"E1425*'Lookup Tables'!$R$14","v":16.469899999999999},{"$f":"F1425*'Lookup Tables'!$R$14","v":20.1432},{"$f":"G1425*'Lookup Tables'!$R$14","v":24.895600000000002}]
["47-4051","Highway Maintenance Workers",{"$f":"C1426*'Lookup Tables'!$R$14","v":14.9221},{"$f":"D1426*'Lookup Tables'!$R$14","v":19.892500000000002},{"$f":"E1426*'Lookup Tables'!$R$14","v":19.914300000000001},{"$f":"F1426*'Lookup Tables'!$R$14","v":23.227900000000002},{"$f":"G1426*'Lookup Tables'!$R$14","v":25.538700000000002}]
["47-4061","Rail-Track Laying and Maintenance Equipment Operators",{"$f":"C1427*'Lookup Tables'!$R$14","v":18.039500000000004},{"$f":"D1427*'Lookup Tables'!$R$14","v":20.742700000000003},{"$f":"E1427*'Lookup Tables'!$R$14","v":28.176500000000004},{"$f":"F1427*'Lookup Tables'!$R$14","v":31.315700000000003},{"$f":"G1427*'Lookup Tables'!$R$14","v":33.3431}]
["47-4071","Septic Tank Servicers and Sewer Pipe Cleaners",{"$f":"C1428*'Lookup Tables'!$R$14","v":13.308900000000001},{"$f":"D1428*'Lookup Tables'!$R$14","v":14.889400000000002},{"$f":"E1428*'Lookup Tables'!$R$14","v":17.712500000000002},{"$f":"F1428*'Lookup Tables'!$R$14","v":21.636500000000002},{"$f":"G1428*'Lookup Tables'!$R$14","v":25.331600000000002}]
["47-4090","Miscellaneous Construction and Related Workers",{"$f":"C1429*'Lookup Tables'!$R$14","v":13.526900000000001},{"$f":"D1429*'Lookup Tables'!$R$14","v":15.8377},{"$f":"E1429*'Lookup Tables'!$R$14","v":19.162199999999999},{"$f":"F1429*'Lookup Tables'!$R$14","v":23.936400000000003},{"$f":"G1429*'Lookup Tables'!$R$14","v":29.430000000000003}]
["47-5022","Excavating and Loading Machine and Dragline Operators, Surface Mining",{"$f":"C1430*'Lookup Tables'!$R$14","v":16.7424},{"$f":"D1430*'Lookup Tables'!$R$14","v":18.540900000000004},{"$f":"E1430*'Lookup Tables'!$R$14","v":21.418500000000002},{"$f":"F1430*'Lookup Tables'!$R$14","v":25.647700000000004},{"$f":"G1430*'Lookup Tables'!$R$14","v":30.541800000000002}]
["47-5041","Continuous Mining Machine Operators",{"$f":"C1431*'Lookup Tables'!$R$14","v":20.644600000000004},{"$f":"D1431*'Lookup Tables'!$R$14","v":22.933600000000002},{"$f":"E1431*'Lookup Tables'!$R$14","v":24.852000000000004},{"$f":"F1431*'Lookup Tables'!$R$14","v":26.814000000000004},{"$f":"G1431*'Lookup Tables'!$R$14","v":28.034800000000001}]
["47-5044","Loading and Moving Machine Operators, Underground Mining",{"$f":"C1432*'Lookup Tables'!$R$14","v":17.527200000000001},{"$f":"D1432*'Lookup Tables'!$R$14","v":19.042300000000001},{"$f":"E1432*'Lookup Tables'!$R$14","v":22.0943},{"$f":"F1432*'Lookup Tables'!$R$14","v":24.819300000000002},{"$f":"G1432*'Lookup Tables'!$R$14","v":26.508800000000001}]
["47-5051","Rock Splitters, Quarry",{"$f":"C1433*'Lookup Tables'!$R$14","v":14.889400000000002},{"$f":"D1433*'Lookup Tables'!$R$14","v":17.004000000000001},{"$f":"E1433*'Lookup Tables'!$R$14","v":18.715300000000003},{"$f":"F1433*'Lookup Tables'!$R$14","v":20.4375},{"$f":"G1433*'Lookup Tables'!$R$14","v":26.138200000000001}]
["47-5081","Helpers--Extraction Workers",{"$f":"C1434*'Lookup Tables'!$R$14","v":13.4724},{"$f":"D1434*'Lookup Tables'!$R$14","v":14.366200000000001},{"$f":"E1434*'Lookup Tables'!$R$14","v":15.892200000000001},{"$f":"F1434*'Lookup Tables'!$R$14","v":18.7698},{"$f":"G1434*'Lookup Tables'!$R$14","v":22.454000000000004}]
["47-5097","Earth Drillers, Except Oil and Gas; and Explosives Workers, Ordnance Handling Experts, and Blasters",{"$f":"C1435*'Lookup Tables'!$R$14","v":17.341900000000003},{"$f":"D1435*'Lookup Tables'!$R$14","v":21.5929},{"$f":"E1435*'Lookup Tables'!$R$14","v":25.168100000000003},{"$f":"F1435*'Lookup Tables'!$R$14","v":29.244700000000002},{"$f":"G1435*'Lookup Tables'!$R$14","v":32.972500000000004}]
["49-0000","Installation, Maintenance, and Repair Occupations",{"$f":"C1436*'Lookup Tables'!$R$14","v":13.603200000000001},{"$f":"D1436*'Lookup Tables'!$R$14","v":17.647100000000002},{"$f":"E1436*'Lookup Tables'!$R$14","v":23.391400000000004},{"$f":"F1436*'Lookup Tables'!$R$14","v":30.5091},{"$f":"G1436*'Lookup Tables'!$R$14","v":38.280799999999999}]
["49-1011","First-Line Supervisors of Mechanics, Installers, and Repairers",{"$f":"C1437*'Lookup Tables'!$R$14","v":22.1706},{"$f":"D1437*'Lookup Tables'!$R$14","v":27.664200000000001},{"$f":"E1437*'Lookup Tables'!$R$14","v":34.051600000000001},{"$f":"F1437*'Lookup Tables'!$R$14","v":43.131300000000003},{"$f":"G1437*'Lookup Tables'!$R$14","v":53.43180000000001}]
["49-2011","Computer, Automated Teller, and Office Machine Repairers",{"$f":"C1438*'Lookup Tables'!$R$14","v":14.856700000000002},{"$f":"D1438*'Lookup Tables'!$R$14","v":17.963200000000001},{"$f":"E1438*'Lookup Tables'!$R$14","v":22.0943},{"$f":"F1438*'Lookup Tables'!$R$14","v":25.920200000000005},{"$f":"G1438*'Lookup Tables'!$R$14","v":30.770700000000001}]
["49-2021","Radio, Cellular, and Tower Equipment Installers and Repairers",{"$f":"C1439*'Lookup Tables'!$R$14","v":19.478300000000001},{"$f":"D1439*'Lookup Tables'!$R$14","v":22.846400000000003},{"$f":"E1439*'Lookup Tables'!$R$14","v":26.694099999999999},{"$f":"F1439*'Lookup Tables'!$R$14","v":31.773500000000002},{"$f":"G1439*'Lookup Tables'!$R$14","v":39.665100000000002}]
["49-2022","Telecommunications Equipment Installers and Repairers, Except Line Installers",{"$f":"C1440*'Lookup Tables'!$R$14","v":16.786000000000001},{"$f":"D1440*'Lookup Tables'!$R$14","v":23.020800000000001},{"$f":"E1440*'Lookup Tables'!$R$14","v":29.081200000000003},{"$f":"F1440*'Lookup Tables'!$R$14","v":34.465800000000002},{"$f":"G1440*'Lookup Tables'!$R$14","v":40.242800000000003}]
["49-2091","Avionics Technicians",{"$f":"C1441*'Lookup Tables'!$R$14","v":19.434699999999999},{"$f":"D1441*'Lookup Tables'!$R$14","v":23.838300000000004},{"$f":"E1441*'Lookup Tables'!$R$14","v":28.514400000000002},{"$f":"F1441*'Lookup Tables'!$R$14","v":32.874400000000001},{"$f":"G1441*'Lookup Tables'!$R$14","v":37.376100000000001}]
["49-2092","Electric Motor, Power Tool, and Related Repairers",{"$f":"C1442*'Lookup Tables'!$R$14","v":15.892200000000001},{"$f":"D1442*'Lookup Tables'!$R$14","v":18.976900000000001},{"$f":"E1442*'Lookup Tables'!$R$14","v":24.285200000000003},{"$f":"F1442*'Lookup Tables'!$R$14","v":30.084000000000003},{"$f":"G1442*'Lookup Tables'!$R$14","v":35.534000000000006}]
["49-2093","Electrical and Electronics Installers and Repairers, Transportation Equipment",{"$f":"C1443*'Lookup Tables'!$R$14","v":19.173100000000002},{"$f":"D1443*'Lookup Tables'!$R$14","v":27.849500000000003},{"$f":"E1443*'Lookup Tables'!$R$14","v":31.697199999999999},{"$f":"F1443*'Lookup Tables'!$R$14","v":36.656700000000008},{"$f":"G1443*'Lookup Tables'!$R$14","v":40.558900000000001}]
["49-2094","Electrical and Electronics Repairers, Commercial and Industrial Equipment",{"$f":"C1444*'Lookup Tables'!$R$14","v":18.159400000000002},{"$f":"D1444*'Lookup Tables'!$R$14","v":23.4786},{"$f":"E1444*'Lookup Tables'!$R$14","v":29.549900000000001},{"$f":"F1444*'Lookup Tables'!$R$14","v":34.738300000000002},{"$f":"G1444*'Lookup Tables'!$R$14","v":40.962200000000003}]
["49-2095","Electrical and Electronics Repairers, Powerhouse, Substation, and Relay",{"$f":"C1445*'Lookup Tables'!$R$14","v":19.870700000000003},{"$f":"D1445*'Lookup Tables'!$R$14","v":29.026700000000002},{"$f":"E1445*'Lookup Tables'!$R$14","v":38.073700000000002},{"$f":"F1445*'Lookup Tables'!$R$14","v":44.777200000000001},{"$f":"G1445*'Lookup Tables'!$R$14","v":50.456099999999999}]
["49-2096","Electronic Equipment Installers and Repairers, Motor Vehicles",{"$f":"C1446*'Lookup Tables'!$R$14","v":13.341600000000001},{"$f":"D1446*'Lookup Tables'!$R$14","v":15.347200000000001},{"$f":"E1446*'Lookup Tables'!$R$14","v":19.729000000000003},{"$f":"F1446*'Lookup Tables'!$R$14","v":24.666700000000002},{"$f":"G1446*'Lookup Tables'!$R$14","v":28.917700000000004}]
["49-2097","Audiovisual Equipment Installers and Repairers",{"$f":"C1447*'Lookup Tables'!$R$14","v":11.7502},{"$f":"D1447*'Lookup Tables'!$R$14","v":14.9984},{"$f":"E1447*'Lookup Tables'!$R$14","v":18.159400000000002},{"$f":"F1447*'Lookup Tables'!$R$14","v":22.628400000000003},{"$f":"G1447*'Lookup Tables'!$R$14","v":27.337199999999999}]
["49-2098","Security and Fire Alarm Systems Installers",{"$f":"C1448*'Lookup Tables'!$R$14","v":15.379900000000001},{"$f":"D1448*'Lookup Tables'!$R$14","v":18.780700000000003},{"$f":"E1448*'Lookup Tables'!$R$14","v":24.045400000000001},{"$f":"F1448*'Lookup Tables'!$R$14","v":30.018600000000003},{"$f":"G1448*'Lookup Tables'!$R$14","v":35.381400000000006}]
["49-3011","Aircraft Mechanics and Service Technicians",{"$f":"C1449*'Lookup Tables'!$R$14","v":19.663599999999999},{"$f":"D1449*'Lookup Tables'!$R$14","v":25.059100000000001},{"$f":"E1449*'Lookup Tables'!$R$14","v":31.054100000000002},{"$f":"F1449*'Lookup Tables'!$R$14","v":42.074000000000005},{"$f":"G1449*'Lookup Tables'!$R$14","v":50.314399999999999}]
["49-3021","Automotive Body and Related Repairers",{"$f":"C1450*'Lookup Tables'!$R$14","v":13.766700000000002},{"$f":"D1450*'Lookup Tables'!$R$14","v":17.777899999999999},{"$f":"E1450*'Lookup Tables'!$R$14","v":23.718400000000003},{"$f":"F1450*'Lookup Tables'!$R$14","v":32.994300000000003},{"$f":"G1450*'Lookup Tables'!$R$14","v":42.9024}]
["49-3022","Automotive Glass Installers and Repairers",{"$f":"C1451*'Lookup Tables'!$R$14","v":11.7502},{"$f":"D1451*'Lookup Tables'!$R$14","v":14.148200000000001},{"$f":"E1451*'Lookup Tables'!$R$14","v":19.0641},{"$f":"F1451*'Lookup Tables'!$R$14","v":23.086200000000002},{"$f":"G1451*'Lookup Tables'!$R$14","v":26.138200000000001}]
["49-3023","Automotive Service Technicians and Mechanics",{"$f":"C1452*'Lookup Tables'!$R$14","v":11.554},{"$f":"D1452*'Lookup Tables'!$R$14","v":15.085600000000001},{"$f":"E1452*'Lookup Tables'!$R$14","v":21.276800000000001},{"$f":"F1452*'Lookup Tables'!$R$14","v":28.863200000000003},{"$f":"G1452*'Lookup Tables'!$R$14","v":34.912700000000001}]
["49-3031","Bus and Truck Mechanics and Diesel Engine Specialists",{"$f":"C1453*'Lookup Tables'!$R$14","v":16.8078},{"$f":"D1453*'Lookup Tables'!$R$14","v":19.674500000000002},{"$f":"E1453*'Lookup Tables'!$R$14","v":24.023600000000002},{"$f":"F1453*'Lookup Tables'!$R$14","v":28.634300000000003},{"$f":"G1453*'Lookup Tables'!$R$14","v":33.179600000000001}]
["49-3041","Farm Equipment Mechanics and Service Technicians",{"$f":"C1454*'Lookup Tables'!$R$14","v":13.6577},{"$f":"D1454*'Lookup Tables'!$R$14","v":16.186500000000002},{"$f":"E1454*'Lookup Tables'!$R$14","v":19.609099999999998},{"$f":"F1454*'Lookup Tables'!$R$14","v":24.2743},{"$f":"G1454*'Lookup Tables'!$R$14","v":28.383600000000001}]
["49-3042","Mobile Heavy Equipment Mechanics, Except Engines",{"$f":"C1455*'Lookup Tables'!$R$14","v":17.341900000000003},{"$f":"D1455*'Lookup Tables'!$R$14","v":21.364000000000004},{"$f":"E1455*'Lookup Tables'!$R$14","v":25.288},{"$f":"F1455*'Lookup Tables'!$R$14","v":30.225700000000003},{"$f":"G1455*'Lookup Tables'!$R$14","v":34.247800000000005}]
["49-3043","Rail Car Repairers",{"$f":"C1456*'Lookup Tables'!$R$14","v":17.004000000000001},{"$f":"D1456*'Lookup Tables'!$R$14","v":18.606300000000001},{"$f":"E1456*'Lookup Tables'!$R$14","v":21.647400000000001},{"$f":"F1456*'Lookup Tables'!$R$14","v":26.955700000000004},{"$f":"G1456*'Lookup Tables'!$R$14","v":31.152200000000001}]
["49-3051","Motorboat Mechanics and Service Technicians",{"$f":"C1457*'Lookup Tables'!$R$14","v":11.793800000000001},{"$f":"D1457*'Lookup Tables'!$R$14","v":16.262800000000002},{"$f":"E1457*'Lookup Tables'!$R$14","v":20.230399999999999},{"$f":"F1457*'Lookup Tables'!$R$14","v":26.912100000000002},{"$f":"G1457*'Lookup Tables'!$R$14","v":30.748900000000003}]
["49-3052","Motorcycle Mechanics",{"$f":"C1458*'Lookup Tables'!$R$14","v":11.652100000000001},{"$f":"D1458*'Lookup Tables'!$R$14","v":14.366200000000001},{"$f":"E1458*'Lookup Tables'!$R$14","v":18.442800000000002},{"$f":"F1458*'Lookup Tables'!$R$14","v":23.238800000000001},{"$f":"G1458*'Lookup Tables'!$R$14","v":29.386400000000002}]
["49-3053","Outdoor Power Equipment and Other Small Engine Mechanics",{"$f":"C1459*'Lookup Tables'!$R$14","v":12.240700000000002},{"$f":"D1459*'Lookup Tables'!$R$14","v":15.096500000000001},{"$f":"E1459*'Lookup Tables'!$R$14","v":18.704400000000003},{"$f":"F1459*'Lookup Tables'!$R$14","v":22.8355},{"$f":"G1459*'Lookup Tables'!$R$14","v":27.141000000000002}]
["49-3091","Bicycle Repairers",{"$f":"C1460*'Lookup Tables'!$R$14","v":10.224200000000002},{"$f":"D1460*'Lookup Tables'!$R$14","v":11.728400000000001},{"$f":"E1460*'Lookup Tables'!$R$14","v":14.2681},{"$f":"F1460*'Lookup Tables'!$R$14","v":16.535299999999999},{"$f":"G1460*'Lookup Tables'!$R$14","v":19.358400000000003}]
["49-3092","Recreational Vehicle Service Technicians",{"$f":"C1461*'Lookup Tables'!$R$14","v":14.3771},{"$f":"D1461*'Lookup Tables'!$R$14","v":18.464600000000004},{"$f":"E1461*'Lookup Tables'!$R$14","v":23.151599999999998},{"$f":"F1461*'Lookup Tables'!$R$14","v":26.160000000000004},{"$f":"G1461*'Lookup Tables'!$R$14","v":28.656100000000002}]
["49-3093","Tire Repairers and Changers",{"$f":"C1462*'Lookup Tables'!$R$14","v":10.8346},{"$f":"D1462*'Lookup Tables'!$R$14","v":12.753},{"$f":"E1462*'Lookup Tables'!$R$14","v":15.347200000000001},{"$f":"F1462*'Lookup Tables'!$R$14","v":18.966000000000001},{"$f":"G1462*'Lookup Tables'!$R$14","v":23.576699999999999}]
["49-9011","Mechanical Door Repairers",{"$f":"C1463*'Lookup Tables'!$R$14","v":13.570500000000001},{"$f":"D1463*'Lookup Tables'!$R$14","v":15.990300000000001},{"$f":"E1463*'Lookup Tables'!$R$14","v":20.0669},{"$f":"F1463*'Lookup Tables'!$R$14","v":23.762000000000004},{"$f":"G1463*'Lookup Tables'!$R$14","v":25.963800000000003}]
["49-9012","Control and Valve Installers and Repairers, Except Mechanical Door",{"$f":"C1464*'Lookup Tables'!$R$14","v":12.665800000000001},{"$f":"D1464*'Lookup Tables'!$R$14","v":18.028600000000001},{"$f":"E1464*'Lookup Tables'!$R$14","v":28.547100000000004},{"$f":"F1464*'Lookup Tables'!$R$14","v":35.719300000000004},{"$f":"G1464*'Lookup Tables'!$R$14","v":41.529000000000003}]
["49-9021","Heating, Air Conditioning, and Refrigeration Mechanics and Installers",{"$f":"C1465*'Lookup Tables'!$R$14","v":14.3771},{"$f":"D1465*'Lookup Tables'!$R$14","v":18.006800000000002},{"$f":"E1465*'Lookup Tables'!$R$14","v":22.617500000000003},{"$f":"F1465*'Lookup Tables'!$R$14","v":27.3917},{"$f":"G1465*'Lookup Tables'!$R$14","v":32.917999999999999}]
["49-9031","Home Appliance Repairers",{"$f":"C1466*'Lookup Tables'!$R$14","v":10.376800000000001},{"$f":"D1466*'Lookup Tables'!$R$14","v":14.333500000000001},{"$f":"E1466*'Lookup Tables'!$R$14","v":18.246600000000001},{"$f":"F1466*'Lookup Tables'!$R$14","v":21.658300000000004},{"$f":"G1466*'Lookup Tables'!$R$14","v":26.443400000000004}]
["49-9041","Industrial Machinery Mechanics",{"$f":"C1467*'Lookup Tables'!$R$14","v":16.491700000000002},{"$f":"D1467*'Lookup Tables'!$R$14","v":20.3612},{"$f":"E1467*'Lookup Tables'!$R$14","v":25.822100000000002},{"$f":"F1467*'Lookup Tables'!$R$14","v":31.882500000000004},{"$f":"G1467*'Lookup Tables'!$R$14","v":38.444300000000005}]
["49-9043","Maintenance Workers, Machinery",{"$f":"C1468*'Lookup Tables'!$R$14","v":14.9221},{"$f":"D1468*'Lookup Tables'!$R$14","v":18.104900000000001},{"$f":"E1468*'Lookup Tables'!$R$14","v":22.236000000000001},{"$f":"F1468*'Lookup Tables'!$R$14","v":27.457100000000004},{"$f":"G1468*'Lookup Tables'!$R$14","v":31.958800000000004}]
["49-9044","Millwrights",{"$f":"C1469*'Lookup Tables'!$R$14","v":17.3855},{"$f":"D1469*'Lookup Tables'!$R$14","v":20.241300000000003},{"$f":"E1469*'Lookup Tables'!$R$14","v":24.699400000000001},{"$f":"F1469*'Lookup Tables'!$R$14","v":29.909600000000005},{"$f":"G1469*'Lookup Tables'!$R$14","v":33.495700000000006}]
["49-9051","Electrical Power-Line Installers and Repairers",{"$f":"C1470*'Lookup Tables'!$R$14","v":19.685400000000001},{"$f":"D1470*'Lookup Tables'!$R$14","v":25.3643},{"$f":"E1470*'Lookup Tables'!$R$14","v":31.926100000000002},{"$f":"F1470*'Lookup Tables'!$R$14","v":39.185500000000005},{"$f":"G1470*'Lookup Tables'!$R$14","v":44.809900000000006}]
["49-9052","Telecommunications Line Installers and Repairers",{"$f":"C1471*'Lookup Tables'!$R$14","v":14.682300000000001},{"$f":"D1471*'Lookup Tables'!$R$14","v":18.573599999999999},{"$f":"E1471*'Lookup Tables'!$R$14","v":24.416},{"$f":"F1471*'Lookup Tables'!$R$14","v":30.6617},{"$f":"G1471*'Lookup Tables'!$R$14","v":34.869100000000003}]
["49-9062","Medical Equipment Repairers",{"$f":"C1472*'Lookup Tables'!$R$14","v":17.668900000000001},{"$f":"D1472*'Lookup Tables'!$R$14","v":22.323200000000003},{"$f":"E1472*'Lookup Tables'!$R$14","v":29.103000000000002},{"$f":"F1472*'Lookup Tables'!$R$14","v":36.613100000000003},{"$f":"G1472*'Lookup Tables'!$R$14","v":46.412199999999999}]
["49-9063","Musical Instrument Repairers and Tuners",{"$f":"C1473*'Lookup Tables'!$R$14","v":11.728400000000001},{"$f":"D1473*'Lookup Tables'!$R$14","v":14.769500000000003},{"$f":"E1473*'Lookup Tables'!$R$14","v":19.216699999999999},{"$f":"F1473*'Lookup Tables'!$R$14","v":22.911799999999999},{"$f":"G1473*'Lookup Tables'!$R$14","v":26.192700000000002}]
["49-9069","Precision Instrument and Equipment Repairers, All Other",{"$f":"C1474*'Lookup Tables'!$R$14","v":18.715300000000003},{"$f":"D1474*'Lookup Tables'!$R$14","v":22.9772},{"$f":"E1474*'Lookup Tables'!$R$14","v":29.059400000000004},{"$f":"F1474*'Lookup Tables'!$R$14","v":35.610300000000002},{"$f":"G1474*'Lookup Tables'!$R$14","v":43.349300000000007}]
["49-9071","Maintenance and Repair Workers, General",{"$f":"C1475*'Lookup Tables'!$R$14","v":12.796600000000002},{"$f":"D1475*'Lookup Tables'!$R$14","v":16.077500000000001},{"$f":"E1475*'Lookup Tables'!$R$14","v":20.1541},{"$f":"F1475*'Lookup Tables'!$R$14","v":25.636800000000001},{"$f":"G1475*'Lookup Tables'!$R$14","v":31.620900000000002}]
["49-9091","Coin, Vending, and Amusement Machine Servicers and Repairers",{"$f":"C1476*'Lookup Tables'!$R$14","v":9.3086000000000002},{"$f":"D1476*'Lookup Tables'!$R$14","v":11.499500000000001},{"$f":"E1476*'Lookup Tables'!$R$14","v":18.235700000000001},{"$f":"F1476*'Lookup Tables'!$R$14","v":23.892800000000005},{"$f":"G1476*'Lookup Tables'!$R$14","v":29.103000000000002}]
["49-9094","Locksmiths and Safe Repairers",{"$f":"C1477*'Lookup Tables'!$R$14","v":10.954500000000001},{"$f":"D1477*'Lookup Tables'!$R$14","v":12.644},{"$f":"E1477*'Lookup Tables'!$R$14","v":18.366500000000002},{"$f":"F1477*'Lookup Tables'!$R$14","v":25.2117},{"$f":"G1477*'Lookup Tables'!$R$14","v":31.980600000000003}]
["49-9096","Riggers",{"$f":"C1478*'Lookup Tables'!$R$14","v":20.884400000000003},{"$f":"D1478*'Lookup Tables'!$R$14","v":26.628700000000002},{"$f":"E1478*'Lookup Tables'!$R$14","v":29.451800000000002},{"$f":"F1478*'Lookup Tables'!$R$14","v":32.078700000000005},{"$f":"G1478*'Lookup Tables'!$R$14","v":35.850100000000005}]
["49-9097","Signal and Track Switch Repairers",{"$f":"C1479*'Lookup Tables'!$R$14","v":23.969100000000001},{"$f":"D1479*'Lookup Tables'!$R$14","v":35.2288},{"$f":"E1479*'Lookup Tables'!$R$14","v":44.166800000000009},{"$f":"F1479*'Lookup Tables'!$R$14","v":50.804900000000004},{"$f":"G1479*'Lookup Tables'!$R$14","v":55.7971}]
["49-9098","Helpers--Installation, Maintenance, and Repair Workers",{"$f":"C1480*'Lookup Tables'!$R$14","v":10.049800000000001},{"$f":"D1480*'Lookup Tables'!$R$14","v":12.382400000000001},{"$f":"E1480*'Lookup Tables'!$R$14","v":15.456200000000001},{"$f":"F1480*'Lookup Tables'!$R$14","v":19.380200000000002},{"$f":"G1480*'Lookup Tables'!$R$14","v":23.271500000000003}]
["49-9099","Installation, Maintenance, and Repair Workers, All Other",{"$f":"C1481*'Lookup Tables'!$R$14","v":13.080000000000002},{"$f":"D1481*'Lookup Tables'!$R$14","v":15.892200000000001},{"$f":"E1481*'Lookup Tables'!$R$14","v":19.838000000000001},{"$f":"F1481*'Lookup Tables'!$R$14","v":26.214500000000001},{"$f":"G1481*'Lookup Tables'!$R$14","v":31.8062}]
["51-0000","Production Occupations",{"$f":"C1482*'Lookup Tables'!$R$14","v":11.139800000000001},{"$f":"D1482*'Lookup Tables'!$R$14","v":13.494200000000001},{"$f":"E1482*'Lookup Tables'!$R$14","v":16.938600000000001},{"$f":"F1482*'Lookup Tables'!$R$14","v":22.497600000000002},{"$f":"G1482*'Lookup Tables'!$R$14","v":29.473600000000001}]
["51-1011","First-Line Supervisors of Production and Operating Workers",{"$f":"C1483*'Lookup Tables'!$R$14","v":18.976900000000001},{"$f":"D1483*'Lookup Tables'!$R$14","v":24.001800000000003},{"$f":"E1483*'Lookup Tables'!$R$14","v":30.672600000000003},{"$f":"F1483*'Lookup Tables'!$R$14","v":38.716800000000006},{"$f":"G1483*'Lookup Tables'!$R$14","v":48.047200000000004}]
["51-2011","Aircraft Structure, Surfaces, Rigging, and Systems Assemblers",{"$f":"C1484*'Lookup Tables'!$R$14","v":16.197400000000002},{"$f":"D1484*'Lookup Tables'!$R$14","v":17.309200000000001},{"$f":"E1484*'Lookup Tables'!$R$14","v":19.325700000000001},{"$f":"F1484*'Lookup Tables'!$R$14","v":22.377700000000004},{"$f":"G1484*'Lookup Tables'!$R$14","v":25.309799999999999}]
["51-2021","Coil Winders, Tapers, and Finishers",{"$f":"C1485*'Lookup Tables'!$R$14","v":11.99},{"$f":"D1485*'Lookup Tables'!$R$14","v":13.712200000000001},{"$f":"E1485*'Lookup Tables'!$R$14","v":17.701599999999999},{"$f":"F1485*'Lookup Tables'!$R$14","v":24.383300000000002},{"$f":"G1485*'Lookup Tables'!$R$14","v":33.539300000000004}]
["51-2028","Electrical, Electronic, and Electromechanical Assemblers, Except Coil Winders, Tapers, and Finishers",{"$f":"C1486*'Lookup Tables'!$R$14","v":11.325100000000001},{"$f":"D1486*'Lookup Tables'!$R$14","v":13.407000000000002},{"$f":"E1486*'Lookup Tables'!$R$14","v":16.633400000000002},{"$f":"F1486*'Lookup Tables'!$R$14","v":21.146000000000001},{"$f":"G1486*'Lookup Tables'!$R$14","v":25.985600000000002}]
["51-2031","Engine and Other Machine Assemblers",{"$f":"C1487*'Lookup Tables'!$R$14","v":12.633100000000001},{"$f":"D1487*'Lookup Tables'!$R$14","v":15.3908},{"$f":"E1487*'Lookup Tables'!$R$14","v":18.3338},{"$f":"F1487*'Lookup Tables'!$R$14","v":21.385800000000003},{"$f":"G1487*'Lookup Tables'!$R$14","v":28.067500000000003}]
["51-2041","Structural Metal Fabricators and Fitters",{"$f":"C1488*'Lookup Tables'!$R$14","v":14.039200000000001},{"$f":"D1488*'Lookup Tables'!$R$14","v":17.0258},{"$f":"E1488*'Lookup Tables'!$R$14","v":20.110500000000002},{"$f":"F1488*'Lookup Tables'!$R$14","v":25.495100000000001},{"$f":"G1488*'Lookup Tables'!$R$14","v":30.520000000000003}]
["51-2051","Fiberglass Laminators and Fabricators",{"$f":"C1489*'Lookup Tables'!$R$14","v":11.009},{"$f":"D1489*'Lookup Tables'!$R$14","v":13.090900000000001},{"$f":"E1489*'Lookup Tables'!$R$14","v":15.772300000000001},{"$f":"F1489*'Lookup Tables'!$R$14","v":19.903400000000005},{"$f":"G1489*'Lookup Tables'!$R$14","v":24.546800000000001}]
["51-2090","Miscellaneous Assemblers and Fabricators",{"$f":"C1490*'Lookup Tables'!$R$14","v":10.6602},{"$f":"D1490*'Lookup Tables'!$R$14","v":12.4587},{"$f":"E1490*'Lookup Tables'!$R$14","v":15.434400000000002},{"$f":"F1490*'Lookup Tables'!$R$14","v":19.467400000000001},{"$f":"G1490*'Lookup Tables'!$R$14","v":24.121700000000001}]
["51-3011","Bakers",{"$f":"C1491*'Lookup Tables'!$R$14","v":9.6029000000000018},{"$f":"D1491*'Lookup Tables'!$R$14","v":11.009},{"$f":"E1491*'Lookup Tables'!$R$14","v":12.971000000000002},{"$f":"F1491*'Lookup Tables'!$R$14","v":16.393599999999999},{"$f":"G1491*'Lookup Tables'!$R$14","v":19.838000000000001}]
["51-3021","Butchers and Meat Cutters",{"$f":"C1492*'Lookup Tables'!$R$14","v":11.521300000000002},{"$f":"D1492*'Lookup Tables'!$R$14","v":14.148200000000001},{"$f":"E1492*'Lookup Tables'!$R$14","v":17.1021},{"$f":"F1492*'Lookup Tables'!$R$14","v":19.9361},{"$f":"G1492*'Lookup Tables'!$R$14","v":22.715600000000002}]
["51-3022","Meat, Poultry, and Fish Cutters and Trimmers",{"$f":"C1493*'Lookup Tables'!$R$14","v":11.150700000000001},{"$f":"D1493*'Lookup Tables'!$R$14","v":12.905600000000002},{"$f":"E1493*'Lookup Tables'!$R$14","v":14.409800000000002},{"$f":"F1493*'Lookup Tables'!$R$14","v":15.728700000000002},{"$f":"G1493*'Lookup Tables'!$R$14","v":16.546200000000002}]
["51-3023","Slaughterers and Meat Packers",{"$f":"C1494*'Lookup Tables'!$R$14","v":13.025500000000001},{"$f":"D1494*'Lookup Tables'!$R$14","v":14.311700000000002},{"$f":"E1494*'Lookup Tables'!$R$14","v":15.597900000000001},{"$f":"F1494*'Lookup Tables'!$R$14","v":16.829599999999999},{"$f":"G1494*'Lookup Tables'!$R$14","v":18.824300000000001}]
["51-3091","Food and Tobacco Roasting, Baking, and Drying Machine Operators and Tenders",{"$f":"C1495*'Lookup Tables'!$R$14","v":11.2706},{"$f":"D1495*'Lookup Tables'!$R$14","v":14.300800000000001},{"$f":"E1495*'Lookup Tables'!$R$14","v":22.268700000000003},{"$f":"F1495*'Lookup Tables'!$R$14","v":30.389200000000002},{"$f":"G1495*'Lookup Tables'!$R$14","v":37.332500000000003}]
["51-3092","Food Batchmakers",{"$f":"C1496*'Lookup Tables'!$R$14","v":9.4285000000000014},{"$f":"D1496*'Lookup Tables'!$R$14","v":10.747400000000001},{"$f":"E1496*'Lookup Tables'!$R$14","v":13.4724},{"$f":"F1496*'Lookup Tables'!$R$14","v":16.426300000000001},{"$f":"G1496*'Lookup Tables'!$R$14","v":20.492000000000001}]
["51-3093","Food Cooking Machine Operators and Tenders",{"$f":"C1497*'Lookup Tables'!$R$14","v":9.7773000000000021},{"$f":"D1497*'Lookup Tables'!$R$14","v":11.7502},{"$f":"E1497*'Lookup Tables'!$R$14","v":15.696000000000002},{"$f":"F1497*'Lookup Tables'!$R$14","v":18.813400000000001},{"$f":"G1497*'Lookup Tables'!$R$14","v":20.5029}]
["51-3099","Food Processing Workers, All Other",{"$f":"C1498*'Lookup Tables'!$R$14","v":11.107100000000001},{"$f":"D1498*'Lookup Tables'!$R$14","v":12.295199999999999},{"$f":"E1498*'Lookup Tables'!$R$14","v":14.507900000000001},{"$f":"F1498*'Lookup Tables'!$R$14","v":16.775100000000002},{"$f":"G1498*'Lookup Tables'!$R$14","v":19.249400000000001}]
["51-4021","Extruding and Drawing Machine Setters, Operators, and Tenders, Metal and Plastic",{"$f":"C1499*'Lookup Tables'!$R$14","v":13.6686},{"$f":"D1499*'Lookup Tables'!$R$14","v":16.8187},{"$f":"E1499*'Lookup Tables'!$R$14","v":21.418500000000002},{"$f":"F1499*'Lookup Tables'!$R$14","v":25.255300000000005},{"$f":"G1499*'Lookup Tables'!$R$14","v":27.980300000000003}]
["51-4022","Forging Machine Setters, Operators, and Tenders, Metal and Plastic",{"$f":"C1500*'Lookup Tables'!$R$14","v":12.8947},{"$f":"D1500*'Lookup Tables'!$R$14","v":14.954800000000002},{"$f":"E1500*'Lookup Tables'!$R$14","v":19.184000000000005},{"$f":"F1500*'Lookup Tables'!$R$14","v":25.593200000000003},{"$f":"G1500*'Lookup Tables'!$R$14","v":33.702800000000003}]
["51-4023","Rolling Machine Setters, Operators, and Tenders, Metal and Plastic",{"$f":"C1501*'Lookup Tables'!$R$14","v":12.251600000000002},{"$f":"D1501*'Lookup Tables'!$R$14","v":14.355300000000002},{"$f":"E1501*'Lookup Tables'!$R$14","v":17.407300000000003},{"$f":"F1501*'Lookup Tables'!$R$14","v":23.238800000000001},{"$f":"G1501*'Lookup Tables'!$R$14","v":31.054100000000002}]
["51-4031","Cutting, Punching, and Press Machine Setters, Operators, and Tenders, Metal and Plastic",{"$f":"C1502*'Lookup Tables'!$R$14","v":11.619400000000001},{"$f":"D1502*'Lookup Tables'!$R$14","v":13.5487},{"$f":"E1502*'Lookup Tables'!$R$14","v":16.241000000000003},{"$f":"F1502*'Lookup Tables'!$R$14","v":19.947000000000003},{"$f":"G1502*'Lookup Tables'!$R$14","v":24.2743}]
["51-4032","Drilling and Boring Machine Tool Setters, Operators, and Tenders, Metal and Plastic",{"$f":"C1503*'Lookup Tables'!$R$14","v":11.859200000000001},{"$f":"D1503*'Lookup Tables'!$R$14","v":13.4397},{"$f":"E1503*'Lookup Tables'!$R$14","v":16.197400000000002},{"$f":"F1503*'Lookup Tables'!$R$14","v":22.421300000000002},{"$f":"G1503*'Lookup Tables'!$R$14","v":33.157800000000002}]
["51-4033","Grinding, Lapping, Polishing, and Buffing Machine Tool Setters, Operators, and Tenders, Metal and Plastic",{"$f":"C1504*'Lookup Tables'!$R$14","v":12.862000000000002},{"$f":"D1504*'Lookup Tables'!$R$14","v":15.5434},{"$f":"E1504*'Lookup Tables'!$R$14","v":20.263100000000001},{"$f":"F1504*'Lookup Tables'!$R$14","v":24.437800000000003},{"$f":"G1504*'Lookup Tables'!$R$14","v":27.348100000000002}]
["51-4034","Lathe and Turning Machine Tool Setters, Operators, and Tenders, Metal and Plastic",{"$f":"C1505*'Lookup Tables'!$R$14","v":17.592600000000001},{"$f":"D1505*'Lookup Tables'!$R$14","v":21.767299999999999},{"$f":"E1505*'Lookup Tables'!$R$14","v":25.800300000000004},{"$f":"F1505*'Lookup Tables'!$R$14","v":30.138500000000001},{"$f":"G1505*'Lookup Tables'!$R$14","v":33.310400000000001}]
["51-4035","Milling and Planing Machine Setters, Operators, and Tenders, Metal and Plastic",{"$f":"C1506*'Lookup Tables'!$R$14","v":12.240700000000002},{"$f":"D1506*'Lookup Tables'!$R$14","v":15.063800000000002},{"$f":"E1506*'Lookup Tables'!$R$14","v":18.508200000000002},{"$f":"F1506*'Lookup Tables'!$R$14","v":23.140700000000002},{"$f":"G1506*'Lookup Tables'!$R$14","v":28.645200000000003}]
["51-4041","Machinists",{"$f":"C1507*'Lookup Tables'!$R$14","v":14.6387},{"$f":"D1507*'Lookup Tables'!$R$14","v":18.006800000000002},{"$f":"E1507*'Lookup Tables'!$R$14","v":22.1706},{"$f":"F1507*'Lookup Tables'!$R$14","v":28.045700000000004},{"$f":"G1507*'Lookup Tables'!$R$14","v":33.430300000000003}]
["51-4051","Metal-Refining Furnace Operators and Tenders",{"$f":"C1508*'Lookup Tables'!$R$14","v":15.3908},{"$f":"D1508*'Lookup Tables'!$R$14","v":18.704400000000003},{"$f":"E1508*'Lookup Tables'!$R$14","v":25.636800000000001},{"$f":"F1508*'Lookup Tables'!$R$14","v":31.108600000000003},{"$f":"G1508*'Lookup Tables'!$R$14","v":34.236900000000006}]
["51-4052","Pourers and Casters, Metal",{"$f":"C1509*'Lookup Tables'!$R$14","v":13.952000000000002},{"$f":"D1509*'Lookup Tables'!$R$14","v":16.633400000000002},{"$f":"E1509*'Lookup Tables'!$R$14","v":20.993400000000005},{"$f":"F1509*'Lookup Tables'!$R$14","v":31.533700000000003},{"$f":"G1509*'Lookup Tables'!$R$14","v":39.894000000000005}]
["51-4061","Model Makers, Metal and Plastic",{"$f":"C1510*'Lookup Tables'!$R$14","v":12.066300000000002},{"$f":"D1510*'Lookup Tables'!$R$14","v":15.205500000000001},{"$f":"E1510*'Lookup Tables'!$R$14","v":20.241300000000003},{"$f":"F1510*'Lookup Tables'!$R$14","v":30.541800000000002},{"$f":"G1510*'Lookup Tables'!$R$14","v":39.577900000000007}]
["51-4062","Patternmakers, Metal and Plastic",{"$f":"C1511*'Lookup Tables'!$R$14","v":14.649600000000001},{"$f":"D1511*'Lookup Tables'!$R$14","v":16.001200000000001},{"$f":"E1511*'Lookup Tables'!$R$14","v":18.508200000000002},{"$f":"F1511*'Lookup Tables'!$R$14","v":21.5166},{"$f":"G1511*'Lookup Tables'!$R$14","v":28.558}]
["51-4071","Foundry Mold and Coremakers",{"$f":"C1512*'Lookup Tables'!$R$14","v":11.608500000000001},{"$f":"D1512*'Lookup Tables'!$R$14","v":12.8293},{"$f":"E1512*'Lookup Tables'!$R$14","v":14.824},{"$f":"F1512*'Lookup Tables'!$R$14","v":16.916800000000002},{"$f":"G1512*'Lookup Tables'!$R$14","v":20.0669}]
["51-4072","Molding, Coremaking, and Casting Machine Setters, Operators, and Tenders, Metal and Plastic",{"$f":"C1513*'Lookup Tables'!$R$14","v":11.968200000000001},{"$f":"D1513*'Lookup Tables'!$R$14","v":14.246300000000002},{"$f":"E1513*'Lookup Tables'!$R$14","v":17.440000000000001},{"$f":"F1513*'Lookup Tables'!$R$14","v":22.366800000000001},{"$f":"G1513*'Lookup Tables'!$R$14","v":26.6723}]
["51-4081","Multiple Machine Tool Setters, Operators, and Tenders, Metal and Plastic",{"$f":"C1514*'Lookup Tables'!$R$14","v":12.611300000000002},{"$f":"D1514*'Lookup Tables'!$R$14","v":14.006500000000001},{"$f":"E1514*'Lookup Tables'!$R$14","v":15.794100000000002},{"$f":"F1514*'Lookup Tables'!$R$14","v":19.4129},{"$f":"G1514*'Lookup Tables'!$R$14","v":23.98}]
["51-4111","Tool and Die Makers",{"$f":"C1515*'Lookup Tables'!$R$14","v":17.1021},{"$f":"D1515*'Lookup Tables'!$R$14","v":21.004300000000001},{"$f":"E1515*'Lookup Tables'!$R$14","v":24.873800000000003},{"$f":"F1515*'Lookup Tables'!$R$14","v":30.269300000000001},{"$f":"G1515*'Lookup Tables'!$R$14","v":34.869100000000003}]
["51-4121","Welders, Cutters, Solderers, and Brazers",{"$f":"C1516*'Lookup Tables'!$R$14","v":15.2927},{"$f":"D1516*'Lookup Tables'!$R$14","v":18.083100000000002},{"$f":"E1516*'Lookup Tables'!$R$14","v":21.549300000000002},{"$f":"F1516*'Lookup Tables'!$R$14","v":25.931100000000001},{"$f":"G1516*'Lookup Tables'!$R$14","v":31.3048}]
["51-4122","Welding, Soldering, and Brazing Machine Setters, Operators, and Tenders",{"$f":"C1517*'Lookup Tables'!$R$14","v":14.518800000000001},{"$f":"D1517*'Lookup Tables'!$R$14","v":17.189299999999999},{"$f":"E1517*'Lookup Tables'!$R$14","v":21.614699999999999},{"$f":"F1517*'Lookup Tables'!$R$14","v":25.724000000000004},{"$f":"G1517*'Lookup Tables'!$R$14","v":29.898700000000002}]
["51-4191","Heat Treating Equipment Setters, Operators, and Tenders, Metal and Plastic",{"$f":"C1518*'Lookup Tables'!$R$14","v":14.409800000000002},{"$f":"D1518*'Lookup Tables'!$R$14","v":16.5244},{"$f":"E1518*'Lookup Tables'!$R$14","v":19.729000000000003},{"$f":"F1518*'Lookup Tables'!$R$14","v":24.9937},{"$f":"G1518*'Lookup Tables'!$R$14","v":30.421900000000001}]
["51-4192","Layout Workers, Metal and Plastic",{"$f":"C1519*'Lookup Tables'!$R$14","v":14.780400000000002},{"$f":"D1519*'Lookup Tables'!$R$14","v":17.2547},{"$f":"E1519*'Lookup Tables'!$R$14","v":20.590100000000003},{"$f":"F1519*'Lookup Tables'!$R$14","v":25.004600000000003},{"$f":"G1519*'Lookup Tables'!$R$14","v":28.209200000000003}]
["51-4193","Plating Machine Setters, Operators, and Tenders, Metal and Plastic",{"$f":"C1520*'Lookup Tables'!$R$14","v":12.0227},{"$f":"D1520*'Lookup Tables'!$R$14","v":14.333500000000001},{"$f":"E1520*'Lookup Tables'!$R$14","v":16.993100000000002},{"$f":"F1520*'Lookup Tables'!$R$14","v":19.805300000000003},{"$f":"G1520*'Lookup Tables'!$R$14","v":22.933600000000002}]
["51-4194","Tool Grinders, Filers, and Sharpeners",{"$f":"C1521*'Lookup Tables'!$R$14","v":14.671400000000002},{"$f":"D1521*'Lookup Tables'!$R$14","v":17.429100000000002},{"$f":"E1521*'Lookup Tables'!$R$14","v":22.148800000000001},{"$f":"F1521*'Lookup Tables'!$R$14","v":25.996500000000005},{"$f":"G1521*'Lookup Tables'!$R$14","v":31.3048}]
["51-4199","Metal Workers and Plastic Workers, All Other",{"$f":"C1522*'Lookup Tables'!$R$14","v":11.466800000000001},{"$f":"D1522*'Lookup Tables'!$R$14","v":14.311700000000002},{"$f":"E1522*'Lookup Tables'!$R$14","v":18.835200000000004},{"$f":"F1522*'Lookup Tables'!$R$14","v":25.484200000000001},{"$f":"G1522*'Lookup Tables'!$R$14","v":32.809000000000005}]
["51-5111","Prepress Technicians and Workers",{"$f":"C1523*'Lookup Tables'!$R$14","v":15.892200000000001},{"$f":"D1523*'Lookup Tables'!$R$14","v":18.104900000000001},{"$f":"E1523*'Lookup Tables'!$R$14","v":21.037000000000003},{"$f":"F1523*'Lookup Tables'!$R$14","v":25.113600000000002},{"$f":"G1523*'Lookup Tables'!$R$14","v":28.939500000000002}]
["51-5112","Printing Press Operators",{"$f":"C1524*'Lookup Tables'!$R$14","v":12.327900000000001},{"$f":"D1524*'Lookup Tables'!$R$14","v":15.532500000000001},{"$f":"E1524*'Lookup Tables'!$R$14","v":19.4129},{"$f":"F1524*'Lookup Tables'!$R$14","v":24.121700000000001},{"$f":"G1524*'Lookup Tables'!$R$14","v":29.081200000000003}]
["51-5113","Print Binding and Finishing Workers",{"$f":"C1525*'Lookup Tables'!$R$14","v":11.357800000000001},{"$f":"D1525*'Lookup Tables'!$R$14","v":13.821200000000001},{"$f":"E1525*'Lookup Tables'!$R$14","v":16.142900000000001},{"$f":"F1525*'Lookup Tables'!$R$14","v":20.2849},{"$f":"G1525*'Lookup Tables'!$R$14","v":25.146300000000004}]
["51-6011","Laundry and Dry-Cleaning Workers",{"$f":"C1526*'Lookup Tables'!$R$14","v":8.9598000000000013},{"$f":"D1526*'Lookup Tables'!$R$14","v":10.049800000000001},{"$f":"E1526*'Lookup Tables'!$R$14","v":11.652100000000001},{"$f":"F1526*'Lookup Tables'!$R$14","v":13.243500000000001},{"$f":"G1526*'Lookup Tables'!$R$14","v":15.401700000000002}]
["51-6021","Pressers, Textile, Garment, and Related Materials",{"$f":"C1527*'Lookup Tables'!$R$14","v":8.7636000000000003},{"$f":"D1527*'Lookup Tables'!$R$14","v":9.6138000000000012},{"$f":"E1527*'Lookup Tables'!$R$14","v":11.216099999999999},{"$f":"F1527*'Lookup Tables'!$R$14","v":13.341600000000001},{"$f":"G1527*'Lookup Tables'!$R$14","v":15.336300000000001}]
["51-6031","Sewing Machine Operators",{"$f":"C1528*'Lookup Tables'!$R$14","v":10.038900000000002},{"$f":"D1528*'Lookup Tables'!$R$14","v":11.434100000000001},{"$f":"E1528*'Lookup Tables'!$R$14","v":13.516000000000002},{"$f":"F1528*'Lookup Tables'!$R$14","v":17.3855},{"$f":"G1528*'Lookup Tables'!$R$14","v":21.647400000000001}]
["51-6041","Shoe and Leather Workers and Repairers",{"$f":"C1529*'Lookup Tables'!$R$14","v":10.518500000000001},{"$f":"D1529*'Lookup Tables'!$R$14","v":11.554},{"$f":"E1529*'Lookup Tables'!$R$14","v":13.287100000000001},{"$f":"F1529*'Lookup Tables'!$R$14","v":17.4618},{"$f":"G1529*'Lookup Tables'!$R$14","v":23.238800000000001}]
["51-6051","Sewers, Hand",{"$f":"C1530*'Lookup Tables'!$R$14","v":10.3986},{"$f":"D1530*'Lookup Tables'!$R$14","v":11.652100000000001},{"$f":"E1530*'Lookup Tables'!$R$14","v":13.450600000000001},{"$f":"F1530*'Lookup Tables'!$R$14","v":15.892200000000001},{"$f":"G1530*'Lookup Tables'!$R$14","v":19.663599999999999}]
["51-6052","Tailors, Dressmakers, and Custom Sewers",{"$f":"C1531*'Lookup Tables'!$R$14","v":9.2867999999999995},{"$f":"D1531*'Lookup Tables'!$R$14","v":10.769200000000001},{"$f":"E1531*'Lookup Tables'!$R$14","v":13.145400000000002},{"$f":"F1531*'Lookup Tables'!$R$14","v":15.772300000000001},{"$f":"G1531*'Lookup Tables'!$R$14","v":19.402000000000001}]
["51-6061","Textile Bleaching and Dyeing Machine Operators and Tenders",{"$f":"C1532*'Lookup Tables'!$R$14","v":10.682000000000002},{"$f":"D1532*'Lookup Tables'!$R$14","v":12.088100000000001},{"$f":"E1532*'Lookup Tables'!$R$14","v":14.933},{"$f":"F1532*'Lookup Tables'!$R$14","v":18.573599999999999},{"$f":"G1532*'Lookup Tables'!$R$14","v":20.688200000000002}]
["51-6062","Textile Cutting Machine Setters, Operators, and Tenders",{"$f":"C1533*'Lookup Tables'!$R$14","v":9.8317999999999994},{"$f":"D1533*'Lookup Tables'!$R$14","v":11.8156},{"$f":"E1533*'Lookup Tables'!$R$14","v":15.0311},{"$f":"F1533*'Lookup Tables'!$R$14","v":19.4129},{"$f":"G1533*'Lookup Tables'!$R$14","v":23.162500000000001}]
["51-6063","Textile Knitting and Weaving Machine Setters, Operators, and Tenders",{"$f":"C1534*'Lookup Tables'!$R$14","v":10.256900000000002},{"$f":"D1534*'Lookup Tables'!$R$14","v":11.543100000000001},{"$f":"E1534*'Lookup Tables'!$R$14","v":13.701300000000002},{"$f":"F1534*'Lookup Tables'!$R$14","v":16.851400000000002},{"$f":"G1534*'Lookup Tables'!$R$14","v":20.3612}]
["51-6064","Textile Winding, Twisting, and Drawing Out Machine Setters, Operators, and Tenders",{"$f":"C1535*'Lookup Tables'!$R$14","v":10.812800000000001},{"$f":"D1535*'Lookup Tables'!$R$14","v":12.218900000000001},{"$f":"E1535*'Lookup Tables'!$R$14","v":14.126400000000002},{"$f":"F1535*'Lookup Tables'!$R$14","v":15.924900000000001},{"$f":"G1535*'Lookup Tables'!$R$14","v":17.995900000000002}]
["51-6091","Extruding and Forming Machine Setters, Operators, and Tenders, Synthetic and Glass Fibers",{"$f":"C1536*'Lookup Tables'!$R$14","v":12.883800000000001},{"$f":"D1536*'Lookup Tables'!$R$14","v":14.900300000000001},{"$f":"E1536*'Lookup Tables'!$R$14","v":18.3338},{"$f":"F1536*'Lookup Tables'!$R$14","v":23.751100000000001},{"$f":"G1536*'Lookup Tables'!$R$14","v":27.075600000000001}]
["51-6092","Fabric and Apparel Patternmakers",{"$f":"C1537*'Lookup Tables'!$R$14","v":13.1999},{"$f":"D1537*'Lookup Tables'!$R$14","v":17.494500000000002},{"$f":"E1537*'Lookup Tables'!$R$14","v":24.110800000000001},{"$f":"F1537*'Lookup Tables'!$R$14","v":30.160300000000003},{"$f":"G1537*'Lookup Tables'!$R$14","v":35.882800000000003}]
["51-6093","Upholsterers",{"$f":"C1538*'Lookup Tables'!$R$14","v":12.9383},{"$f":"D1538*'Lookup Tables'!$R$14","v":16.655200000000001},{"$f":"E1538*'Lookup Tables'!$R$14","v":20.742700000000003},{"$f":"F1538*'Lookup Tables'!$R$14","v":25.7349},{"$f":"G1538*'Lookup Tables'!$R$14","v":31.359300000000001}]
["51-6099","Textile, Apparel, and Furnishings Workers, All Other",{"$f":"C1539*'Lookup Tables'!$R$14","v":9.6356000000000002},{"$f":"D1539*'Lookup Tables'!$R$14","v":11.118},{"$f":"E1539*'Lookup Tables'!$R$14","v":12.8293},{"$f":"F1539*'Lookup Tables'!$R$14","v":15.510700000000002},{"$f":"G1539*'Lookup Tables'!$R$14","v":18.2575}]
["51-7011","Cabinetmakers and Bench Carpenters",{"$f":"C1540*'Lookup Tables'!$R$14","v":10.333200000000001},{"$f":"D1540*'Lookup Tables'!$R$14","v":12.338800000000001},{"$f":"E1540*'Lookup Tables'!$R$14","v":15.521600000000001},{"$f":"F1540*'Lookup Tables'!$R$14","v":19.663599999999999},{"$f":"G1540*'Lookup Tables'!$R$14","v":24.208900000000003}]
["51-7021","Furniture Finishers",{"$f":"C1541*'Lookup Tables'!$R$14","v":11.728400000000001},{"$f":"D1541*'Lookup Tables'!$R$14","v":13.690400000000002},{"$f":"E1541*'Lookup Tables'!$R$14","v":16.186500000000002},{"$f":"F1541*'Lookup Tables'!$R$14","v":19.075000000000003},{"$f":"G1541*'Lookup Tables'!$R$14","v":21.047899999999998}]
["51-7041","Sawing Machine Setters, Operators, and Tenders, Wood",{"$f":"C1542*'Lookup Tables'!$R$14","v":11.030799999999999},{"$f":"D1542*'Lookup Tables'!$R$14","v":13.1127},{"$f":"E1542*'Lookup Tables'!$R$14","v":15.488900000000003},{"$f":"F1542*'Lookup Tables'!$R$14","v":18.715300000000003},{"$f":"G1542*'Lookup Tables'!$R$14","v":22.6829}]
["51-7042","Woodworking Machine Setters, Operators, and Tenders, Except Sawing",{"$f":"C1543*'Lookup Tables'!$R$14","v":10.9436},{"$f":"D1543*'Lookup Tables'!$R$14","v":12.840199999999999},{"$f":"E1543*'Lookup Tables'!$R$14","v":15.2927},{"$f":"F1543*'Lookup Tables'!$R$14","v":18.6935},{"$f":"G1543*'Lookup Tables'!$R$14","v":22.922700000000003}]
["51-7099","Woodworkers, All Other",{"$f":"C1544*'Lookup Tables'!$R$14","v":11.4559},{"$f":"D1544*'Lookup Tables'!$R$14","v":13.036400000000002},{"$f":"E1544*'Lookup Tables'!$R$14","v":15.6524},{"$f":"F1544*'Lookup Tables'!$R$14","v":23.2606},{"$f":"G1544*'Lookup Tables'!$R$14","v":27.729600000000005}]
["51-8011","Nuclear Power Reactor Operators",{"$f":"C1545*'Lookup Tables'!$R$14","v":42.074000000000005},{"$f":"D1545*'Lookup Tables'!$R$14","v":46.172400000000003},{"$f":"E1545*'Lookup Tables'!$R$14","v":51.807700000000004},{"$f":"F1545*'Lookup Tables'!$R$14","v":60.113500000000002},{"$f":"G1545*'Lookup Tables'!$R$14","v":66.936899999999994}]
["51-8013","Power Plant Operators",{"$f":"C1546*'Lookup Tables'!$R$14","v":21.265900000000002},{"$f":"D1546*'Lookup Tables'!$R$14","v":28.710600000000003},{"$f":"E1546*'Lookup Tables'!$R$14","v":41.125700000000002},{"$f":"F1546*'Lookup Tables'!$R$14","v":48.036300000000004},{"$f":"G1546*'Lookup Tables'!$R$14","v":51.829500000000003}]
["51-8021","Stationary Engineers and Boiler Operators",{"$f":"C1547*'Lookup Tables'!$R$14","v":18.486400000000003},{"$f":"D1547*'Lookup Tables'!$R$14","v":21.004300000000001},{"$f":"E1547*'Lookup Tables'!$R$14","v":26.781300000000002},{"$f":"F1547*'Lookup Tables'!$R$14","v":32.863500000000002},{"$f":"G1547*'Lookup Tables'!$R$14","v":39.447099999999999}]
["51-8031","Water and Wastewater Treatment Plant and System Operators",{"$f":"C1548*'Lookup Tables'!$R$14","v":15.1837},{"$f":"D1548*'Lookup Tables'!$R$14","v":17.788800000000002},{"$f":"E1548*'Lookup Tables'!$R$14","v":21.309500000000003},{"$f":"F1548*'Lookup Tables'!$R$14","v":25.974699999999999},{"$f":"G1548*'Lookup Tables'!$R$14","v":31.0105}]
["51-8091","Chemical Plant and System Operators",{"$f":"C1549*'Lookup Tables'!$R$14","v":16.829599999999999},{"$f":"D1549*'Lookup Tables'!$R$14","v":19.445600000000002},{"$f":"E1549*'Lookup Tables'!$R$14","v":23.358700000000002},{"$f":"F1549*'Lookup Tables'!$R$14","v":30.836100000000002},{"$f":"G1549*'Lookup Tables'!$R$14","v":38.825800000000001}]
["51-8092","Gas Plant Operators",{"$f":"C1550*'Lookup Tables'!$R$14","v":23.729300000000002},{"$f":"D1550*'Lookup Tables'!$R$14","v":28.895900000000005},{"$f":"E1550*'Lookup Tables'!$R$14","v":34.269600000000004},{"$f":"F1550*'Lookup Tables'!$R$14","v":40.602500000000006},{"$f":"G1550*'Lookup Tables'!$R$14","v":47.382300000000001}]
["51-8093","Petroleum Pump System Operators, Refinery Operators, and Gaugers",{"$f":"C1551*'Lookup Tables'!$R$14","v":22.497600000000002},{"$f":"D1551*'Lookup Tables'!$R$14","v":25.331600000000002},{"$f":"E1551*'Lookup Tables'!$R$14","v":33.266800000000003},{"$f":"F1551*'Lookup Tables'!$R$14","v":42.433700000000002},{"$f":"G1551*'Lookup Tables'!$R$14","v":48.875600000000006}]
["51-8099","Plant and System Operators, All Other",{"$f":"C1552*'Lookup Tables'!$R$14","v":20.339400000000001},{"$f":"D1552*'Lookup Tables'!$R$14","v":25.1572},{"$f":"E1552*'Lookup Tables'!$R$14","v":30.116700000000002},{"$f":"F1552*'Lookup Tables'!$R$14","v":35.621200000000002},{"$f":"G1552*'Lookup Tables'!$R$14","v":46.652000000000001}]
["51-9011","Chemical Equipment Operators and Tenders",{"$f":"C1553*'Lookup Tables'!$R$14","v":16.033900000000003},{"$f":"D1553*'Lookup Tables'!$R$14","v":19.838000000000001},{"$f":"E1553*'Lookup Tables'!$R$14","v":24.579500000000003},{"$f":"F1553*'Lookup Tables'!$R$14","v":30.073100000000004},{"$f":"G1553*'Lookup Tables'!$R$14","v":34.302300000000002}]
["51-9012","Separating, Filtering, Clarifying, Precipitating, and Still Machine Setters, Operators, and Tenders",{"$f":"C1554*'Lookup Tables'!$R$14","v":15.706900000000001},{"$f":"D1554*'Lookup Tables'!$R$14","v":18.955100000000002},{"$f":"E1554*'Lookup Tables'!$R$14","v":23.892800000000005},{"$f":"F1554*'Lookup Tables'!$R$14","v":30.847000000000001},{"$f":"G1554*'Lookup Tables'!$R$14","v":38.422499999999999}]
["51-9021","Crushing, Grinding, and Polishing Machine Setters, Operators, and Tenders",{"$f":"C1555*'Lookup Tables'!$R$14","v":12.1753},{"$f":"D1555*'Lookup Tables'!$R$14","v":14.300800000000001},{"$f":"E1555*'Lookup Tables'!$R$14","v":17.331000000000003},{"$f":"F1555*'Lookup Tables'!$R$14","v":24.8629},{"$f":"G1555*'Lookup Tables'!$R$14","v":27.925800000000002}]
["51-9022","Grinding and Polishing Workers, Hand",{"$f":"C1556*'Lookup Tables'!$R$14","v":10.420400000000001},{"$f":"D1556*'Lookup Tables'!$R$14","v":11.99},{"$f":"E1556*'Lookup Tables'!$R$14","v":14.3771},{"$f":"F1556*'Lookup Tables'!$R$14","v":17.516300000000001},{"$f":"G1556*'Lookup Tables'!$R$14","v":21.734600000000004}]
["51-9023","Mixing and Blending Machine Setters, Operators, and Tenders",{"$f":"C1557*'Lookup Tables'!$R$14","v":12.338800000000001},{"$f":"D1557*'Lookup Tables'!$R$14","v":14.9221},{"$f":"E1557*'Lookup Tables'!$R$14","v":18.268400000000003},{"$f":"F1557*'Lookup Tables'!$R$14","v":22.6829},{"$f":"G1557*'Lookup Tables'!$R$14","v":28.285500000000003}]
["51-9031","Cutters and Trimmers, Hand",{"$f":"C1558*'Lookup Tables'!$R$14","v":12.753},{"$f":"D1558*'Lookup Tables'!$R$14","v":15.870400000000002},{"$f":"E1558*'Lookup Tables'!$R$14","v":19.456500000000002},{"$f":"F1558*'Lookup Tables'!$R$14","v":24.154400000000003},{"$f":"G1558*'Lookup Tables'!$R$14","v":28.776}]
["51-9032","Cutting and Slicing Machine Setters, Operators, and Tenders",{"$f":"C1559*'Lookup Tables'!$R$14","v":13.080000000000002},{"$f":"D1559*'Lookup Tables'!$R$14","v":15.063800000000002},{"$f":"E1559*'Lookup Tables'!$R$14","v":18.290200000000002},{"$f":"F1559*'Lookup Tables'!$R$14","v":22.137900000000002},{"$f":"G1559*'Lookup Tables'!$R$14","v":26.051000000000002}]
["51-9041","Extruding, Forming, Pressing, and Compacting Machine Setters, Operators, and Tenders",{"$f":"C1560*'Lookup Tables'!$R$14","v":14.2027},{"$f":"D1560*'Lookup Tables'!$R$14","v":16.491700000000002},{"$f":"E1560*'Lookup Tables'!$R$14","v":19.6418},{"$f":"F1560*'Lookup Tables'!$R$14","v":23.892800000000005},{"$f":"G1560*'Lookup Tables'!$R$14","v":27.773200000000003}]
["51-9051","Furnace, Kiln, Oven, Drier, and Kettle Operators and Tenders",{"$f":"C1561*'Lookup Tables'!$R$14","v":13.614100000000001},{"$f":"D1561*'Lookup Tables'!$R$14","v":17.919600000000003},{"$f":"E1561*'Lookup Tables'!$R$14","v":23.020800000000001},{"$f":"F1561*'Lookup Tables'!$R$14","v":27.086500000000004},{"$f":"G1561*'Lookup Tables'!$R$14","v":31.108600000000003}]
["51-9061","Inspectors, Testers, Sorters, Samplers, and Weighers",{"$f":"C1562*'Lookup Tables'!$R$14","v":11.9137},{"$f":"D1562*'Lookup Tables'!$R$14","v":14.5624},{"$f":"E1562*'Lookup Tables'!$R$14","v":18.486400000000003},{"$f":"F1562*'Lookup Tables'!$R$14","v":24.263400000000004},{"$f":"G1562*'Lookup Tables'!$R$14","v":30.770700000000001}]
["51-9071","Jewelers and Precious Stone and Metal Workers",{"$f":"C1563*'Lookup Tables'!$R$14","v":9.7446000000000002},{"$f":"D1563*'Lookup Tables'!$R$14","v":13.625000000000002},{"$f":"E1563*'Lookup Tables'!$R$14","v":19.957899999999999},{"$f":"F1563*'Lookup Tables'!$R$14","v":28.034800000000001},{"$f":"G1563*'Lookup Tables'!$R$14","v":32.961600000000004}]
["51-9081","Dental Laboratory Technicians",{"$f":"C1564*'Lookup Tables'!$R$14","v":11.499500000000001},{"$f":"D1564*'Lookup Tables'!$R$14","v":16.578900000000001},{"$f":"E1564*'Lookup Tables'!$R$14","v":22.770100000000003},{"$f":"F1564*'Lookup Tables'!$R$14","v":29.931400000000004},{"$f":"G1564*'Lookup Tables'!$R$14","v":34.433100000000003}]
["51-9082","Medical Appliance Technicians",{"$f":"C1565*'Lookup Tables'!$R$14","v":13.417900000000001},{"$f":"D1565*'Lookup Tables'!$R$14","v":17.1021},{"$f":"E1565*'Lookup Tables'!$R$14","v":20.513800000000003},{"$f":"F1565*'Lookup Tables'!$R$14","v":27.620600000000003},{"$f":"G1565*'Lookup Tables'!$R$14","v":32.4711}]
["51-9083","Ophthalmic Laboratory Technicians",{"$f":"C1566*'Lookup Tables'!$R$14","v":10.2896},{"$f":"D1566*'Lookup Tables'!$R$14","v":12.600400000000002},{"$f":"E1566*'Lookup Tables'!$R$14","v":16.437200000000001},{"$f":"F1566*'Lookup Tables'!$R$14","v":20.448400000000003},{"$f":"G1566*'Lookup Tables'!$R$14","v":25.418800000000001}]
["51-9111","Packaging and Filling Machine Operators and Tenders",{"$f":"C1567*'Lookup Tables'!$R$14","v":10.529400000000001},{"$f":"D1567*'Lookup Tables'!$R$14","v":11.979100000000001},{"$f":"E1567*'Lookup Tables'!$R$14","v":15.009300000000001},{"$f":"F1567*'Lookup Tables'!$R$14","v":19.7835},{"$f":"G1567*'Lookup Tables'!$R$14","v":25.495100000000001}]
["51-9123","Painting, Coating, and Decorating Workers",{"$f":"C1568*'Lookup Tables'!$R$14","v":12.360600000000002},{"$f":"D1568*'Lookup Tables'!$R$14","v":14.279},{"$f":"E1568*'Lookup Tables'!$R$14","v":16.633400000000002},{"$f":"F1568*'Lookup Tables'!$R$14","v":21.571100000000001},{"$f":"G1568*'Lookup Tables'!$R$14","v":25.538700000000002}]
["51-9124","Coating, Painting, and Spraying Machine Setters, Operators, and Tenders",{"$f":"C1569*'Lookup Tables'!$R$14","v":12.840199999999999},{"$f":"D1569*'Lookup Tables'!$R$14","v":15.597900000000001},{"$f":"E1569*'Lookup Tables'!$R$14","v":19.173100000000002},{"$f":"F1569*'Lookup Tables'!$R$14","v":23.805600000000002},{"$f":"G1569*'Lookup Tables'!$R$14","v":28.863200000000003}]
["51-9141","Semiconductor Processing Technicians",{"$f":"C1570*'Lookup Tables'!$R$14","v":14.126400000000002},{"$f":"D1570*'Lookup Tables'!$R$14","v":15.325400000000002},{"$f":"E1570*'Lookup Tables'!$R$14","v":17.581700000000001},{"$f":"F1570*'Lookup Tables'!$R$14","v":22.672000000000004},{"$f":"G1570*'Lookup Tables'!$R$14","v":29.157500000000002}]
["51-9151","Photographic Process Workers and Processing Machine Operators",{"$f":"C1571*'Lookup Tables'!$R$14","v":13.308900000000001},{"$f":"D1571*'Lookup Tables'!$R$14","v":15.401700000000002},{"$f":"E1571*'Lookup Tables'!$R$14","v":18.682600000000001},{"$f":"F1571*'Lookup Tables'!$R$14","v":21.865400000000001},{"$f":"G1571*'Lookup Tables'!$R$14","v":27.348100000000002}]
["51-9161","Computer Numerically Controlled Tool Operators",{"$f":"C1572*'Lookup Tables'!$R$14","v":14.497000000000002},{"$f":"D1572*'Lookup Tables'!$R$14","v":16.775100000000002},{"$f":"E1572*'Lookup Tables'!$R$14","v":20.186800000000002},{"$f":"F1572*'Lookup Tables'!$R$14","v":24.514099999999999},{"$f":"G1572*'Lookup Tables'!$R$14","v":29.299200000000003}]
["51-9162","Computer Numerically Controlled Tool Programmers",{"$f":"C1573*'Lookup Tables'!$R$14","v":17.134800000000002},{"$f":"D1573*'Lookup Tables'!$R$14","v":20.7972},{"$f":"E1573*'Lookup Tables'!$R$14","v":27.064699999999998},{"$f":"F1573*'Lookup Tables'!$R$14","v":31.435600000000001},{"$f":"G1573*'Lookup Tables'!$R$14","v":35.326900000000002}]
["51-9191","Adhesive Bonding Machine Operators and Tenders",{"$f":"C1574*'Lookup Tables'!$R$14","v":10.878200000000001},{"$f":"D1574*'Lookup Tables'!$R$14","v":12.611300000000002},{"$f":"E1574*'Lookup Tables'!$R$14","v":15.216400000000002},{"$f":"F1574*'Lookup Tables'!$R$14","v":18.682600000000001},{"$f":"G1574*'Lookup Tables'!$R$14","v":24.764800000000001}]
["51-9192","Cleaning, Washing, and Metal Pickling Equipment Operators and Tenders",{"$f":"C1575*'Lookup Tables'!$R$14","v":9.6029000000000018},{"$f":"D1575*'Lookup Tables'!$R$14","v":13.4724},{"$f":"E1575*'Lookup Tables'!$R$14","v":16.491700000000002},{"$f":"F1575*'Lookup Tables'!$R$14","v":19.467400000000001},{"$f":"G1575*'Lookup Tables'!$R$14","v":21.353100000000001}]
["51-9193","Cooling and Freezing Equipment Operators and Tenders",{"$f":"C1576*'Lookup Tables'!$R$14","v":12.088100000000001},{"$f":"D1576*'Lookup Tables'!$R$14","v":14.050100000000002},{"$f":"E1576*'Lookup Tables'!$R$14","v":16.033900000000003},{"$f":"F1576*'Lookup Tables'!$R$14","v":19.848900000000004},{"$f":"G1576*'Lookup Tables'!$R$14","v":25.7349}]
["51-9194","Etchers and Engravers",{"$f":"C1577*'Lookup Tables'!$R$14","v":11.336000000000002},{"$f":"D1577*'Lookup Tables'!$R$14","v":13.526900000000001},{"$f":"E1577*'Lookup Tables'!$R$14","v":15.270900000000001},{"$f":"F1577*'Lookup Tables'!$R$14","v":16.851400000000002},{"$f":"G1577*'Lookup Tables'!$R$14","v":19.075000000000003}]
["51-9195","Molders, Shapers, and Casters, Except Metal and Plastic",{"$f":"C1578*'Lookup Tables'!$R$14","v":11.412300000000002},{"$f":"D1578*'Lookup Tables'!$R$14","v":13.734},{"$f":"E1578*'Lookup Tables'!$R$14","v":16.426300000000001},{"$f":"F1578*'Lookup Tables'!$R$14","v":21.058800000000002},{"$f":"G1578*'Lookup Tables'!$R$14","v":29.887800000000006}]
["51-9196","Paper Goods Machine Setters, Operators, and Tenders",{"$f":"C1579*'Lookup Tables'!$R$14","v":13.298},{"$f":"D1579*'Lookup Tables'!$R$14","v":16.1647},{"$f":"E1579*'Lookup Tables'!$R$14","v":20.699100000000001},{"$f":"F1579*'Lookup Tables'!$R$14","v":25.015499999999999},{"$f":"G1579*'Lookup Tables'!$R$14","v":30.378300000000003}]
["51-9197","Tire Builders",{"$f":"C1580*'Lookup Tables'!$R$14","v":12.360600000000002},{"$f":"D1580*'Lookup Tables'!$R$14","v":15.096500000000001},{"$f":"E1580*'Lookup Tables'!$R$14","v":20.3612},{"$f":"F1580*'Lookup Tables'!$R$14","v":25.244400000000002},{"$f":"G1580*'Lookup Tables'!$R$14","v":29.212000000000003}]
["51-9198","Helpers--Production Workers",{"$f":"C1581*'Lookup Tables'!$R$14","v":10.049800000000001},{"$f":"D1581*'Lookup Tables'!$R$14","v":11.412300000000002},{"$f":"E1581*'Lookup Tables'!$R$14","v":13.5596},{"$f":"F1581*'Lookup Tables'!$R$14","v":16.328200000000002},{"$f":"G1581*'Lookup Tables'!$R$14","v":20.034200000000002}]
["51-9199","Production Workers, All Other",{"$f":"C1582*'Lookup Tables'!$R$14","v":10.3986},{"$f":"D1582*'Lookup Tables'!$R$14","v":12.1753},{"$f":"E1582*'Lookup Tables'!$R$14","v":15.499800000000002},{"$f":"F1582*'Lookup Tables'!$R$14","v":21.538400000000003},{"$f":"G1582*'Lookup Tables'!$R$14","v":25.854800000000001}]
["53-0000","Transportation and Material Moving Occupations",{"$f":"C1583*'Lookup Tables'!$R$14","v":10.0062},{"$f":"D1583*'Lookup Tables'!$R$14","v":12.066300000000002},{"$f":"E1583*'Lookup Tables'!$R$14","v":15.510700000000002},{"$f":"F1583*'Lookup Tables'!$R$14","v":20.720900000000004},{"$f":"G1583*'Lookup Tables'!$R$14","v":28.372700000000002}]
["53-1041","Aircraft Cargo Handling Supervisors",{"$f":"C1584*'Lookup Tables'!$R$14","v":18.420999999999999},{"$f":"D1584*'Lookup Tables'!$R$14","v":23.424099999999999},{"$f":"E1584*'Lookup Tables'!$R$14","v":30.269300000000001},{"$f":"F1584*'Lookup Tables'!$R$14","v":39.730500000000006},{"$f":"G1584*'Lookup Tables'!$R$14","v":48.112600000000008}]
["53-1047","First-Line Supervisors of Transportation and Material Moving Workers, Except Aircraft Cargo Handling Supervisors",{"$f":"C1585*'Lookup Tables'!$R$14","v":16.829599999999999},{"$f":"D1585*'Lookup Tables'!$R$14","v":20.8735},{"$f":"E1585*'Lookup Tables'!$R$14","v":28.013000000000002},{"$f":"F1585*'Lookup Tables'!$R$14","v":34.454900000000002},{"$f":"G1585*'Lookup Tables'!$R$14","v":41.997700000000002}]
["53-2011","Airline Pilots, Copilots, and Flight Engineers","*","*","*","*","*"]
["53-2012","Commercial Pilots","*","*","*","*","*"]
["53-2021","Air Traffic Controllers",{"$f":"C1588*'Lookup Tables'!$R$14","v":36.024499999999996},{"$f":"D1588*'Lookup Tables'!$R$14","v":41.757900000000006},{"$f":"E1588*'Lookup Tables'!$R$14","v":52.7669},{"$f":"F1588*'Lookup Tables'!$R$14","v":73.008200000000016},{"$f":"G1588*'Lookup Tables'!$R$14","v":84.028100000000009}]
["53-2022","Airfield Operations Specialists",{"$f":"C1589*'Lookup Tables'!$R$14","v":11.4886},{"$f":"D1589*'Lookup Tables'!$R$14","v":14.736800000000001},{"$f":"E1589*'Lookup Tables'!$R$14","v":18.966000000000001},{"$f":"F1589*'Lookup Tables'!$R$14","v":26.388900000000003},{"$f":"G1589*'Lookup Tables'!$R$14","v":32.340300000000006}]
["53-2031","Flight Attendants","*","*","*","*","*"]
["53-3011","Ambulance Drivers and Attendants, Except Emergency Medical Technicians",{"$f":"C1591*'Lookup Tables'!$R$14","v":10.562100000000001},{"$f":"D1591*'Lookup Tables'!$R$14","v":11.6303},{"$f":"E1591*'Lookup Tables'!$R$14","v":14.398900000000001},{"$f":"F1591*'Lookup Tables'!$R$14","v":17.963200000000001},{"$f":"G1591*'Lookup Tables'!$R$14","v":19.761700000000001}]
["53-3031","Driver/Sales Workers",{"$f":"C1592*'Lookup Tables'!$R$14","v":8.6655000000000015},{"$f":"D1592*'Lookup Tables'!$R$14","v":9.2759},{"$f":"E1592*'Lookup Tables'!$R$14","v":10.311400000000003},{"$f":"F1592*'Lookup Tables'!$R$14","v":18.7698},{"$f":"G1592*'Lookup Tables'!$R$14","v":25.7349}]
["53-3032","Heavy and Tractor-Trailer Truck Drivers",{"$f":"C1593*'Lookup Tables'!$R$14","v":14.693200000000001},{"$f":"D1593*'Lookup Tables'!$R$14","v":18.366500000000002},{"$f":"E1593*'Lookup Tables'!$R$14","v":22.7592},{"$f":"F1593*'Lookup Tables'!$R$14","v":28.427199999999999},{"$f":"G1593*'Lookup Tables'!$R$14","v":34.051600000000001}]
["53-3033","Light Truck Drivers",{"$f":"C1594*'Lookup Tables'!$R$14","v":10.158800000000001},{"$f":"D1594*'Lookup Tables'!$R$14","v":12.3933},{"$f":"E1594*'Lookup Tables'!$R$14","v":16.393599999999999},{"$f":"F1594*'Lookup Tables'!$R$14","v":21.113300000000002},{"$f":"G1594*'Lookup Tables'!$R$14","v":30.465500000000002}]
["53-3052","Bus Drivers, Transit and Intercity",{"$f":"C1595*'Lookup Tables'!$R$14","v":11.314200000000001},{"$f":"D1595*'Lookup Tables'!$R$14","v":13.3743},{"$f":"E1595*'Lookup Tables'!$R$14","v":16.350000000000001},{"$f":"F1595*'Lookup Tables'!$R$14","v":20.557400000000001},{"$f":"G1595*'Lookup Tables'!$R$14","v":25.135400000000001}]
["53-3058","Passenger Vehicle Drivers, Except Bus Drivers, Transit and Intercity",{"$f":"C1596*'Lookup Tables'!$R$14","v":10.333200000000001},{"$f":"D1596*'Lookup Tables'!$R$14","v":12.545900000000001},{"$f":"E1596*'Lookup Tables'!$R$14","v":14.758599999999999},{"$f":"F1596*'Lookup Tables'!$R$14","v":16.698800000000002},{"$f":"G1596*'Lookup Tables'!$R$14","v":19.609099999999998}]
["53-3099","Motor Vehicle Operators, All Other",{"$f":"C1597*'Lookup Tables'!$R$14","v":9.1887000000000008},{"$f":"D1597*'Lookup Tables'!$R$14","v":10.093400000000001},{"$f":"E1597*'Lookup Tables'!$R$14","v":12.240700000000002},{"$f":"F1597*'Lookup Tables'!$R$14","v":22.715600000000002},{"$f":"G1597*'Lookup Tables'!$R$14","v":28.917700000000004}]
["53-4011","Locomotive Engineers",{"$f":"C1598*'Lookup Tables'!$R$14","v":27.141000000000002},{"$f":"D1598*'Lookup Tables'!$R$14","v":28.372700000000002},{"$f":"E1598*'Lookup Tables'!$R$14","v":30.432800000000004},{"$f":"F1598*'Lookup Tables'!$R$14","v":32.482000000000006},{"$f":"G1598*'Lookup Tables'!$R$14","v":33.724600000000002}]
["53-4013","Rail Yard Engineers, Dinkey Operators, and Hostlers",{"$f":"C1599*'Lookup Tables'!$R$14","v":17.113},{"$f":"D1599*'Lookup Tables'!$R$14","v":18.028600000000001},{"$f":"E1599*'Lookup Tables'!$R$14","v":19.5655},{"$f":"F1599*'Lookup Tables'!$R$14","v":21.8},{"$f":"G1599*'Lookup Tables'!$R$14","v":30.727100000000004}]
["53-4022","Railroad Brake, Signal, and Switch Operators and Locomotive Firers",{"$f":"C1600*'Lookup Tables'!$R$14","v":14.420700000000002},{"$f":"D1600*'Lookup Tables'!$R$14","v":18.028600000000001},{"$f":"E1600*'Lookup Tables'!$R$14","v":29.059400000000004},{"$f":"F1600*'Lookup Tables'!$R$14","v":34.247800000000005},{"$f":"G1600*'Lookup Tables'!$R$14","v":39.403500000000001}]
["53-4031","Railroad Conductors and Yardmasters",{"$f":"C1601*'Lookup Tables'!$R$14","v":21.385800000000003},{"$f":"D1601*'Lookup Tables'!$R$14","v":26.0837},{"$f":"E1601*'Lookup Tables'!$R$14","v":30.127600000000005},{"$f":"F1601*'Lookup Tables'!$R$14","v":33.419400000000003},{"$f":"G1601*'Lookup Tables'!$R$14","v":39.534300000000009}]
["53-5011","Sailors and Marine Oilers",{"$f":"C1602*'Lookup Tables'!$R$14","v":14.769500000000003},{"$f":"D1602*'Lookup Tables'!$R$14","v":17.1784},{"$f":"E1602*'Lookup Tables'!$R$14","v":20.023300000000003},{"$f":"F1602*'Lookup Tables'!$R$14","v":20.099600000000002},{"$f":"G1602*'Lookup Tables'!$R$14","v":21.647400000000001}]
["53-5021","Captains, Mates, and Pilots of Water Vessels",{"$f":"C1603*'Lookup Tables'!$R$14","v":9.5484000000000009},{"$f":"D1603*'Lookup Tables'!$R$14","v":14.856700000000002},{"$f":"E1603*'Lookup Tables'!$R$14","v":24.372400000000003},{"$f":"F1603*'Lookup Tables'!$R$14","v":35.741100000000003},{"$f":"G1603*'Lookup Tables'!$R$14","v":63.786800000000007}]
["53-5031","Ship Engineers",{"$f":"C1604*'Lookup Tables'!$R$14","v":21.680100000000003},{"$f":"D1604*'Lookup Tables'!$R$14","v":25.691300000000002},{"$f":"E1604*'Lookup Tables'!$R$14","v":25.702200000000001},{"$f":"F1604*'Lookup Tables'!$R$14","v":28.590700000000002},{"$f":"G1604*'Lookup Tables'!$R$14","v":33.201400000000007}]
["53-6011","Bridge and Lock Tenders",{"$f":"C1605*'Lookup Tables'!$R$14","v":11.761100000000001},{"$f":"D1605*'Lookup Tables'!$R$14","v":13.319800000000003},{"$f":"E1605*'Lookup Tables'!$R$14","v":20.023300000000003},{"$f":"F1605*'Lookup Tables'!$R$14","v":26.9666},{"$f":"G1605*'Lookup Tables'!$R$14","v":31.206700000000001}]
["53-6021","Parking Attendants",{"$f":"C1606*'Lookup Tables'!$R$14","v":9.0251999999999999},{"$f":"D1606*'Lookup Tables'!$R$14","v":10.1043},{"$f":"E1606*'Lookup Tables'!$R$14","v":12.1753},{"$f":"F1606*'Lookup Tables'!$R$14","v":14.595100000000002},{"$f":"G1606*'Lookup Tables'!$R$14","v":16.7315}]
["53-6031","Automotive and Watercraft Service Attendants",{"$f":"C1607*'Lookup Tables'!$R$14","v":9.3304000000000009},{"$f":"D1607*'Lookup Tables'!$R$14","v":10.7583},{"$f":"E1607*'Lookup Tables'!$R$14","v":12.622200000000001},{"$f":"F1607*'Lookup Tables'!$R$14","v":15.6633},{"$f":"G1607*'Lookup Tables'!$R$14","v":21.015200000000004}]
["53-6041","Traffic Technicians",{"$f":"C1608*'Lookup Tables'!$R$14","v":15.161900000000001},{"$f":"D1608*'Lookup Tables'!$R$14","v":17.5381},{"$f":"E1608*'Lookup Tables'!$R$14","v":19.979700000000001},{"$f":"F1608*'Lookup Tables'!$R$14","v":24.448700000000002},{"$f":"G1608*'Lookup Tables'!$R$14","v":31.0105}]
["53-6051","Transportation Inspectors",{"$f":"C1609*'Lookup Tables'!$R$14","v":14.987500000000001},{"$f":"D1609*'Lookup Tables'!$R$14","v":28.786900000000003},{"$f":"E1609*'Lookup Tables'!$R$14","v":41.212900000000005},{"$f":"F1609*'Lookup Tables'!$R$14","v":52.396300000000004},{"$f":"G1609*'Lookup Tables'!$R$14","v":63.045600000000007}]
["53-6061","Passenger Attendants",{"$f":"C1610*'Lookup Tables'!$R$14","v":9.0470000000000006},{"$f":"D1610*'Lookup Tables'!$R$14","v":9.81},{"$f":"E1610*'Lookup Tables'!$R$14","v":11.0853},{"$f":"F1610*'Lookup Tables'!$R$14","v":14.497000000000002},{"$f":"G1610*'Lookup Tables'!$R$14","v":23.762000000000004}]
["53-6098","Aircraft Service Attendants and Transportation Workers, All Other",{"$f":"C1611*'Lookup Tables'!$R$14","v":9.5593000000000004},{"$f":"D1611*'Lookup Tables'!$R$14","v":11.412300000000002},{"$f":"E1611*'Lookup Tables'!$R$14","v":13.494200000000001},{"$f":"F1611*'Lookup Tables'!$R$14","v":16.339100000000002},{"$f":"G1611*'Lookup Tables'!$R$14","v":21.102399999999999}]
["53-7011","Conveyor Operators and Tenders",{"$f":"C1612*'Lookup Tables'!$R$14","v":10.529400000000001},{"$f":"D1612*'Lookup Tables'!$R$14","v":12.971000000000002},{"$f":"E1612*'Lookup Tables'!$R$14","v":14.965700000000002},{"$f":"F1612*'Lookup Tables'!$R$14","v":18.377400000000002},{"$f":"G1612*'Lookup Tables'!$R$14","v":23.685700000000001}]
["53-7021","Crane and Tower Operators",{"$f":"C1613*'Lookup Tables'!$R$14","v":15.303599999999999},{"$f":"D1613*'Lookup Tables'!$R$14","v":19.380200000000002},{"$f":"E1613*'Lookup Tables'!$R$14","v":25.669500000000003},{"$f":"F1613*'Lookup Tables'!$R$14","v":31.457400000000003},{"$f":"G1613*'Lookup Tables'!$R$14","v":37.626800000000003}]
["53-7051","Industrial Truck and Tractor Operators",{"$f":"C1614*'Lookup Tables'!$R$14","v":12.9274},{"$f":"D1614*'Lookup Tables'!$R$14","v":14.867600000000001},{"$f":"E1614*'Lookup Tables'!$R$14","v":17.897800000000004},{"$f":"F1614*'Lookup Tables'!$R$14","v":21.4512},{"$f":"G1614*'Lookup Tables'!$R$14","v":25.647700000000004}]
["53-7061","Cleaners of Vehicles and Equipment",{"$f":"C1615*'Lookup Tables'!$R$14","v":9.003400000000001},{"$f":"D1615*'Lookup Tables'!$R$14","v":10.093400000000001},{"$f":"E1615*'Lookup Tables'!$R$14","v":11.935499999999999},{"$f":"F1615*'Lookup Tables'!$R$14","v":14.0283},{"$f":"G1615*'Lookup Tables'!$R$14","v":17.211100000000002}]
["53-7062","Laborers and Freight, Stock, and Material Movers, Hand",{"$f":"C1616*'Lookup Tables'!$R$14","v":10.322300000000002},{"$f":"D1616*'Lookup Tables'!$R$14","v":11.9246},{"$f":"E1616*'Lookup Tables'!$R$14","v":14.2681},{"$f":"F1616*'Lookup Tables'!$R$14","v":17.134800000000002},{"$f":"G1616*'Lookup Tables'!$R$14","v":20.993400000000005}]
["53-7063","Machine Feeders and Offbearers",{"$f":"C1617*'Lookup Tables'!$R$14","v":10.246},{"$f":"D1617*'Lookup Tables'!$R$14","v":11.706600000000002},{"$f":"E1617*'Lookup Tables'!$R$14","v":13.962900000000001},{"$f":"F1617*'Lookup Tables'!$R$14","v":16.3827},{"$f":"G1617*'Lookup Tables'!$R$14","v":20.557400000000001}]
["53-7064","Packers and Packagers, Hand",{"$f":"C1618*'Lookup Tables'!$R$14","v":9.1887000000000008},{"$f":"D1618*'Lookup Tables'!$R$14","v":10.355},{"$f":"E1618*'Lookup Tables'!$R$14","v":12.317000000000002},{"$f":"F1618*'Lookup Tables'!$R$14","v":15.1074},{"$f":"G1618*'Lookup Tables'!$R$14","v":18.137600000000003}]
["53-7065","Stockers and Order Fillers",{"$f":"C1619*'Lookup Tables'!$R$14","v":10.082500000000001},{"$f":"D1619*'Lookup Tables'!$R$14","v":11.4886},{"$f":"E1619*'Lookup Tables'!$R$14","v":13.635900000000001},{"$f":"F1619*'Lookup Tables'!$R$14","v":16.905900000000003},{"$f":"G1619*'Lookup Tables'!$R$14","v":20.7318}]
["53-7081","Refuse and Recyclable Material Collectors",{"$f":"C1620*'Lookup Tables'!$R$14","v":9.690100000000001},{"$f":"D1620*'Lookup Tables'!$R$14","v":12.4587},{"$f":"E1620*'Lookup Tables'!$R$14","v":16.044800000000002},{"$f":"F1620*'Lookup Tables'!$R$14","v":19.521900000000002},{"$f":"G1620*'Lookup Tables'!$R$14","v":22.628400000000003}]
["53-7199","Material Moving Workers, All Other",{"$f":"C1621*'Lookup Tables'!$R$14","v":11.030799999999999},{"$f":"D1621*'Lookup Tables'!$R$14","v":12.120800000000001},{"$f":"E1621*'Lookup Tables'!$R$14","v":13.9193},{"$f":"F1621*'Lookup Tables'!$R$14","v":16.535299999999999},{"$f":"G1621*'Lookup Tables'!$R$14","v":23.914600000000004}]
["Sources: NCDOT SIAP Application. Occupational Employment Statistics: May 2019 State Employment and Wage Estimates, North Carolina. Bureau of Labor Statistics."]
[]
["Source or BLS Occupation Code","Occupational Title","Hourly 10th Percentile","Hourly 25th Percentile","Hourly Median","Hourly 75th Percentile","Hourly 90th Percentile"]
["00-0000","All Occupations",9.17,11.91,17.75,27.93,43.46]
["NC Rail Division - SIAP Grant","Locomotive Engineer (SIAP)",{"$f":"E868","v":41.6},{"$f":"E868","v":41.6},41.6,{"$f":"E868","v":41.6},{"$f":"F868","v":41.6}]
["NC Rail Division - SIAP Grant","PersonalLocal (SIAP)",{"$f":"E869","v":13.6},{"$f":"E869","v":13.6},13.6,{"$f":"E869","v":13.6},{"$f":"E869","v":13.6}]
["NC Rail Division - SIAP Grant","BusinessLocal (SIAP)",25.4,25.4,25.4,25.4,25.4]
["NC Rail Division - SIAP Grant","PersonalIntercity (SIAP)",19,19,19,19,19]
["NC Rail Division - SIAP Grant","BusinessIntercity (SIAP)",25.4,25.4,25.4,25.4,25.4]
["NC Rail Division - SIAP Grant","Truck Driver (SIAP)",27.2,27.2,27.2,27.2,27.2]
["NC Rail Division - SIAP Grant","Bus Driver (SIAP)",28.3,28.3,28.3,28.3,28.3]
["NC Rail Division - SIAP Grant","WalkWaitTransfer (SIAP)",27.2,27.2,27.2,27.2,27.2]
["11-0000","Management Occupations",26.41,35.909999999999997,51.26,73.05,73.05]
["11-1011","Chief Executives",34.78,58.39,98.45,98.45,98.45]
["11-1021","General and Operations Managers",24.96,34.28,51.57,77.739999999999995,77.739999999999995]
["11-2011","Advertising and Promotions Managers",29.34,37.67,50.99,75.33,98.67]
["11-2021","Marketing Managers",37.25,48.19,64.180000000000007,85.22,85.22]
["11-2022","Sales Managers",29.35,41.13,61.62,87.87,87.87]
["11-2030","Public Relations and Fundraising Managers",32.56,40.1,52.53,71.459999999999994,96.79]
["11-3010","Administrative Services and Facilities Managers",29.69,38.49,47.8,61.51,78.91]
["11-3021","Computer and Information Systems Managers",40.659999999999997,51.67,65.08,79.44,98.48]
["11-3031","Financial Managers",34.76,47.21,64.48,88.56,88.56]
["11-3051","Industrial Production Managers",31.96,39.94,49.89,64.37,80.349999999999994]
["11-3061","Purchasing Managers",35.020000000000003,43.16,54.31,68.540000000000006,84.47]
["11-3071","Transportation, Storage, and Distribution Managers",30.22,37.07,47.33,61.17,79.239999999999995]
["11-3111","Compensation and Benefits Managers",28.13,40.46,53.7,75.62,97.03]
["11-3121","Human Resources Managers",34.74,42.86,54.52,71.66,95.25]
["11-3131","Training and Development Managers",33.15,42.64,56.31,71.27,86.64]
["11-9013","Farmers, Ranchers, and Other Agricultural Managers",28.4,34.090000000000003,40.42,48.14,66.42]
["11-9021","Construction Managers",31.59,39.479999999999997,48.92,61.72,79.62]
["11-9031","Education and Childcare Administrators, Preschool and Daycare",15.1,17.37,20.88,24.56,30.57]
["11-9032","Education Administrators, Kindergarten through Secondary","*","*","*","*","*"]
["11-9033","Education Administrators, Postsecondary",26.3,33.06,45.13,63.39,91.32]
["11-9039","Education Administrators, All Other",21.23,28.85,37.65,47.03,55.05]
["11-9041","Architectural and Engineering Managers",45.1,54.74,64.989999999999995,78.33,96.1]
["11-9051","Food Service Managers",18.14,22.5,27.74,34.590000000000003,43.78]
["11-9071","Gambling Managers",34.86,39.4,43.38,47.53,50.81]
["11-9081","Lodging Managers",27.78,33,38.69,47.55,61.68]
["11-9111","Medical and Health Services Managers",33.15,39.68,48.96,63.26,90.05]
["11-9121","Natural Sciences Managers",41.38,52.15,68.33,90.69,"#"]
["11-9131","Postmasters and Mail Superintendents",32.61,34.24,37.729999999999997,42.15,45.73]
["11-9141","Property, Real Estate, and Community Association Managers",15.49,20.59,27.13,35.24,55.36]
["11-9151","Social and Community Service Managers",20.02,25.03,30.84,40.020000000000003,51.38]
["11-9161","Emergency Management Directors",23.31,26.97,33.01,39.979999999999997,48.07]
["11-9171","Funeral Home Managers",23.62,31.69,37.450000000000003,48.56,75.66]
["11-9198","Personal Service Managers, All Other; Entertainment and Recreation Managers, Except Gambling; and Managers, All Other",31.69,41.04,54.85,72.06,92.38]
["13-0000","Business and Financial Operations Occupations",19,24.57,32.39,43.97,59.01]
["13-1011","Agents and Business Managers of Artists, Performers, and Athletes",17.36,23.2,29.5,47.89,"#"]
["13-1020","Buyers and Purchasing Agents",16.63,21.9,28.43,37.1,47.66]
["13-1031","Claims Adjusters, Examiners, and Investigators",19.690000000000001,23.12,29.67,37.04,44.32]
["13-1032","Insurance Appraisers, Auto Damage",21.38,24.53,30.72,38.090000000000003,44.16]
["13-1041","Compliance Officers",18.920000000000002,23,30.67,39.630000000000003,49.2]
["13-1051","Cost Estimators",16.329999999999998,22.28,29.37,37.840000000000003,47.56]
["13-1071","Human Resources Specialists",18.579999999999998,22.78,28.92,37.979999999999997,49.03]
["13-1075","Labor Relations Specialists",8.57,18.07,29.99,40.35,51.18]
["13-1081","Logisticians",20.53,25.94,33.54,43.8,55.06]
["13-1111","Management Analysts",24.46,31.42,41.95,56.05,75.819999999999993]
["13-1121","Meeting, Convention, and Event Planners",12.68,15.93,20.83,28.12,37.020000000000003]
["13-1131","Fundraisers",16.809999999999999,21.09,26.5,33.659999999999997,40.270000000000003]
["13-1141","Compensation, Benefits, and Job Analysis Specialists",20.100000000000001,23.69,29.96,39.94,49.68]
["13-1151","Training and Development Specialists",16.37,21.62,28.48,37.76,49.05]
["13-1161","Market Research Analysts and Marketing Specialists",17.96,23.22,30.98,42.33,56.66]
["13-1198","Project Management Specialists and Business Operations Specialists, All Other",20.32,25.72,33.880000000000003,45.96,59.75]
["13-2011","Accountants and Auditors",22.42,27.38,34.18,44.58,58.47]
["13-2020","Property Appraisers and Assessors",15.42,19.82,26.82,34.130000000000003,46.12]
["13-2031","Budget Analysts",22.8,27.88,34.450000000000003,42.2,49.26]
["13-2041","Credit Analysts",22.59,27.63,36.78,52.65,69.13]
["13-2052","Personal Financial Advisors",20.68,28.13,46.33,86.99,"#"]
["13-2053","Insurance Underwriters",20.89,25.11,33.61,45.35,58.7]
["13-2061","Financial Examiners",16.66,20.41,30.78,45.89,62.25]
["13-2071","Credit Counselors",15.99,18.899999999999999,23.03,33.28,46.73]
["13-2072","Loan Officers",17.329999999999998,22.32,31.02,42.61,63.47]
["13-2081","Tax Examiners and Collectors, and Revenue Agents",18.100000000000001,21.7,27.58,36.450000000000003,45.86]
["13-2082","Tax Preparers",8.1,9.16,11.6,26.58,44.27]
["13-2098","Financial and Investment Analysts, Financial Risk Specialists, and Financial Specialists, All Other",25.19,30.14,38.840000000000003,49.35,63.86]
["15-0000","Computer and Mathematical Occupations",21.52,29.67,41.35,54.98,67.760000000000005]
["15-1211","Computer Systems Analysts",27.06,34,43.55,55.13,66.14]
["15-1212","Information Security Analysts",30.73,36.700000000000003,46.25,58.91,72.2]
["15-1221","Computer and Information Research Scientists",26.61,33.049999999999997,40.83,53.92,74.55]
["15-1231","Computer Network Support Specialists",18.09,23.24,30.6,41.36,51.76]
["15-1232","Computer User Support Specialists",15.21,18.8,23.66,29.94,38]
["15-1241","Computer Network Architects",30.03,38.03,51.35,64.59,77.430000000000007]
["15-1244","Network and Computer Systems Administrators",24.04,30.73,39.74,49.98,61.21]
["15-1245","Database Administrators and Architects",25.97,34.99,47.78,58.23,68.3]
["15-1251","Computer Programmers",26.14,33.880000000000003,43.53,56.13,71.3]
["15-1256","Software Developers and Software Quality Assurance Analysts and Testers",30.33,38.25,49.37,61.08,74.349999999999994]
["15-1257","Web Developers and Digital Interface Designers",18.5,23.93,32.54,46.51,59.96]
["15-1299","Computer Occupations, All Other",22.31,31.06,41.28,53.6,63.34]
["15-2011","Actuaries",32.33,41.74,59.23,82.69,98.7]
["15-2031","Operations Research Analysts",24.02,31.24,42.03,53.88,63.38]
["15-2041","Statisticians",31.08,39.29,47.97,58.99,72.680000000000007]
["15-2098","Data Scientists and Mathematical Science Occupations, All Other",35.06,42.98,55.06,70.099999999999994,80.92]
["17-0000","Architecture and Engineering Occupations",20.58,27.07,35.64,47.41,60.37]
["17-1011","Architects, Except Landscape and Naval",23.77,28.68,36.28,46.5,59.11]
["17-1012","Landscape Architects",22.51,26.9,32.729999999999997,43.5,59.14]
["17-1021","Cartographers and Photogrammetrists",17.95,22,28.84,35.520000000000003,40.6]
["17-1022","Surveyors",19.440000000000001,25.38,32.86,39.69,49.69]
["17-2011","Aerospace Engineers",28.82,35.28,44.75,53.33,60.3]
["17-2031","Bioengineers and Biomedical Engineers",27.22,32.94,40.4,48.92,61.7]
["17-2041","Chemical Engineers",31.63,39.020000000000003,49.48,60.68,73.53]
["17-2051","Civil Engineers",26.66,32.119999999999997,39.32,49.96,61.63]
["17-2061","Computer Hardware Engineers",27.76,39.42,53.97,67.13,78.41]
["17-2071","Electrical Engineers",28.61,35.26,45.44,58.36,71.73]
["17-2072","Electronics Engineers, Except Computer",27.69,34.96,45.56,59.34,74.53]
["17-2081","Environmental Engineers",26.75,31.15,37.53,50.7,63.6]
["17-2111","Health and Safety Engineers, Except Mining Safety Engineers and Inspectors",26.56,30.26,39.700000000000003,48.74,58.26]
["17-2112","Industrial Engineers",26.64,32.72,40.14,48.72,59.53]
["17-2121","Marine Engineers and Naval Architects",24.63,31.57,38.340000000000003,46.68,56.19]
["17-2131","Materials Engineers",29.33,35.4,44.19,55.74,67.59]
["17-2141","Mechanical Engineers",25.85,31.86,39.15,48.76,61.78]
["17-2199","Engineers, All Other",18.52,29.14,42.33,54.52,66.760000000000005]
["17-3011","Architectural and Civil Drafters",17.55,21.4,26.2,30.78,36.86]
["17-3012","Electrical and Electronics Drafters",14.8,17.86,22.98,28.87,35.68]
["17-3013","Mechanical Drafters",18,21.92,27.07,34.049999999999997,42.48]
["17-3019","Drafters, All Other",15.38,17.22,21.15,30.86,43.13]
["17-3022","Civil Engineering Technologists and Technicians",16.100000000000001,19.920000000000002,24.83,28.17,32.76]
["17-3023","Electrical and Electronic Engineering Technologists and Technicians",18.47,23.22,29.87,35.31,41.3]
["17-3024","Electro-Mechanical and Mechatronics Technologists and Technicians",15.61,22.82,27.76,32.69,40.47]
["17-3025","Environmental Engineering Technologists and Technicians",12.69,19.13,26.6,30.15,34.49]
["17-3026","Industrial Engineering Technologists and Technicians",16.850000000000001,20.22,23.95,28.74,33.61]
["17-3027","Mechanical Engineering Technologists and Technicians",17.82,21.49,26.31,30.69,37.06]
["17-3031","Surveying and Mapping Technicians",13.55,16.739999999999998,20.79,26.25,31.99]
["17-3098","Calibration Technologists and Technicians and Engineering Technologists and Technicians, Except Drafters, All Other",20.27,27.96,33.19,37.72,45.35]
["19-0000","Life, Physical, and Social Science Occupations",18.02,23.14,29.82,41.15,55.96]
["19-1011","Animal Scientists","*","*","*","*","*"]
["19-1012","Food Scientists and Technologists",16.73,19.25,26.71,34.43,48.44]
["19-1013","Soil and Plant Scientists",16.899999999999999,20.73,26.06,35.15,45.24]
["19-1021","Biochemists and Biophysicists",27.28,32.909999999999997,40.89,52.13,61.78]
["19-1022","Microbiologists",20.97,24.81,29.45,36.979999999999997,55.5]
["19-1023","Zoologists and Wildlife Biologists",20.27,22.57,26.07,32.380000000000003,43.51]
["19-1029","Biological Scientists, All Other",22.53,31.78,39.979999999999997,47.51,64.709999999999994]
["19-1031","Conservation Scientists",18.239999999999998,22.04,27.99,38.81,47.54]
["19-1032","Foresters",19.89,25.07,29.9,36.380000000000003,45.42]
["19-1041","Epidemiologists",24.11,28.28,32.08,40.75,49.16]
["19-1042","Medical Scientists, Except Epidemiologists",25.16,29.77,41.28,58.15,77.180000000000007]
["19-1099","Life Scientists, All Other",27.06,34.28,47.41,60.4,73.989999999999995]
["19-2012","Physicists",27.15,43.42,67.400000000000006,85.52,"#"]
["19-2021","Atmospheric and Space Scientists",20.71,25.55,42.48,49.31,56.5]
["19-2031","Chemists",22.03,26.86,35.340000000000003,47.56,60.89]
["19-2032","Materials Scientists",39.42,43.88,50.84,63.58,78.5]
["19-2041","Environmental Scientists and Specialists, Including Health",20.11,23.6,28.46,36.32,47.81]
["19-2042","Geoscientists, Except Hydrologists and Geographers",22.96,26.68,32.380000000000003,41.15,51.32]
["19-2043","Hydrologists",25.37,27.29,30.67,34.33,63.7]
["19-2099","Physical Scientists, All Other",24.68,29.92,44.91,58.2,70.430000000000007]
["19-3011","Economists",26.17,29.65,38.15,47.51,53.79]
["19-3022","Survey Researchers",20.04,25.14,31.07,41.63,54.05]
["19-3031","Clinical, Counseling, and School Psychologists",21.92,26.51,31.8,42.36,59.89]
["19-3039","Psychologists, All Other",22.9,35.64,47.8,51.73,54.93]
["19-3041","Sociologists",30.36,42.17,52.93,64.28,79.099999999999994]
["19-3051","Urban and Regional Planners",21.1,25.06,30.76,37.39,45.16]
["19-3091","Anthropologists and Archeologists",18.989999999999998,21.87,31.25,38.869999999999997,44.15]
["19-3093","Historians",20.6,22.43,26.51,42.59,51.36]
["19-3099","Social Scientists and Related Workers, All Other",22.61,26.64,32.1,40.200000000000003,49.96]
["19-4010","Agricultural and Food Science Technicians",13.38,16.559999999999999,19.09,24.92,32.9]
["19-4021","Biological Technicians",14.47,16.5,19.63,25.99,31.18]
["19-4031","Chemical Technicians",15.89,19.37,24.76,29.82,35.25]
["19-4042","Environmental Science and Protection Technicians, Including Health",13.66,16.239999999999998,19.850000000000001,25.06,30.6]
["19-4045","Geological and Hydrologic Technicians",16.32,17.399999999999999,19.07,24.14,33.29]
["19-4061","Social Science Research Assistants",15.55,19.12,22.64,27.38,31.21]
["19-4071","Forest and Conservation Technicians",15.17,16.05,19.55,22.16,25.34]
["19-4092","Forensic Science Technicians",16.61,19.260000000000002,21.97,25.84,31.5]
["19-4099","Life, Physical, and Social Science Technicians, All Other",15.92,20.170000000000002,26.04,29.65,35.58]
["19-5011","Occupational Health and Safety Specialists",21.58,26.37,32.93,39.83,48.88]
["19-5012","Occupational Health and Safety Technicians",16.170000000000002,20.420000000000002,25.67,32.619999999999997,40.700000000000003]
["21-0000","Community and Social Service Occupations",13.88,17.649999999999999,21.84,26.87,31.68]
["21-1012","Educational, Guidance, and Career Counselors and Advisors",16.91,21.03,25.07,29.17,33.729999999999997]
["21-1013","Marriage and Family Therapists",15.8,17.27,20.010000000000002,23.02,26.79]
["21-1015","Rehabilitation Counselors",10.5,13.07,19.440000000000001,22.82,26.9]
["21-1018","Substance Abuse, Behavioral Disorder, and Mental Health Counselors",15.83,18.559999999999999,22.7,28.03,33.74]
["21-1019","Counselors, All Other",13.52,15.79,20.45,25.17,29.9]
["21-1021","Child, Family, and School Social Workers",16.27,19.39,22.55,26.88,31.26]
["21-1022","Healthcare Social Workers",18.87,21.76,26,29.96,35.35]
["21-1023","Mental Health and Substance Abuse Social Workers",18.12,20.9,24.7,28.87,33.96]
["21-1029","Social Workers, All Other",16.54,17.41,30.49,36.46,40.21]
["21-1091","Health Education Specialists",17,20.23,25.27,33.11,40.93]
["21-1092","Probation Officers and Correctional Treatment Specialists",18.53,19.46,20.8,22.97,25.91]
["21-1093","Social and Human Service Assistants",10.38,12.42,15.32,19.239999999999998,23.33]
["21-1094","Community Health Workers",10.53,14.01,17.47,21.46,28.01]
["21-1099","Community and Social Service Specialists, All Other",14.34,17.12,20.85,25.64,29.68]
["21-2011","Clergy",14.49,17.68,23.11,28.31,34.44]
["21-2021","Directors, Religious Activities and Education",23.69,33,39.47,48.9,58.28]
["21-2099","Religious Workers, All Other",8.5,9.91,15.54,21.4,33.68]
["23-0000","Legal Occupations",15.97,21.46,30.68,54.88,95.7]
["23-1011","Lawyers",25.87,33.78,50.34,83.82,"#"]
["23-1021","Administrative Law Judges, Adjudicators, and Hearing Officers",21.68,26.32,48.94,64.92,83.89]
["23-1022","Arbitrators, Mediators, and Conciliators",13.98,18.21,23.73,30.88,33.450000000000003]
["23-2011","Paralegals and Legal Assistants",13.76,17.02,21.65,27.31,33.69]
["23-2093","Title Examiners, Abstractors, and Searchers",16.59,19.989999999999998,24.62,29.54,35.19]
["23-2099","Legal Support Workers, All Other",17.899999999999999,20.190000000000001,24.34,48.36,64.760000000000005]
["25-0000","Educational Instruction and Library Occupations",10.7,14.28,21.84,28.68,37.520000000000003]
["25-1011","Business Teachers, Postsecondary","*","*","*","*","*"]
["25-1021","Computer Science Teachers, Postsecondary","*","*","*","*","*"]
["25-1022","Mathematical Science Teachers, Postsecondary","*","*","*","*","*"]
["25-1031","Architecture Teachers, Postsecondary","*","*","*","*","*"]
["25-1032","Engineering Teachers, Postsecondary","*","*","*","*","*"]
["25-1041","Agricultural Sciences Teachers, Postsecondary","*","*","*","*","*"]
["25-1042","Biological Science Teachers, Postsecondary","*","*","*","*","*"]
["25-1043","Forestry and Conservation Science Teachers, Postsecondary","*","*","*","*","*"]
["25-1051","Atmospheric, Earth, Marine, and Space Sciences Teachers, Postsecondary","*","*","*","*","*"]
["25-1052","Chemistry Teachers, Postsecondary","*","*","*","*","*"]
["25-1053","Environmental Science Teachers, Postsecondary","*","*","*","*","*"]
["25-1054","Physics Teachers, Postsecondary","*","*","*","*","*"]
["25-1061","Anthropology and Archeology Teachers, Postsecondary","*","*","*","*","*"]
["25-1062","Area, Ethnic, and Cultural Studies Teachers, Postsecondary","*","*","*","*","*"]
["25-1063","Economics Teachers, Postsecondary","*","*","*","*","*"]
["25-1064","Geography Teachers, Postsecondary","*","*","*","*","*"]
["25-1065","Political Science Teachers, Postsecondary","*","*","*","*","*"]
["25-1066","Psychology Teachers, Postsecondary","*","*","*","*","*"]
["25-1067","Sociology Teachers, Postsecondary","*","*","*","*","*"]
["25-1069","Social Sciences Teachers, Postsecondary, All Other","*","*","*","*","*"]
["25-1071","Health Specialties Teachers, Postsecondary","*","*","*","*","*"]
["25-1072","Nursing Instructors and Teachers, Postsecondary","*","*","*","*","*"]
["25-1081","Education Teachers, Postsecondary","*","*","*","*","*"]
["25-1082","Library Science Teachers, Postsecondary","*","*","*","*","*"]
["25-1111","Criminal Justice and Law Enforcement Teachers, Postsecondary","*","*","*","*","*"]
["25-1112","Law Teachers, Postsecondary","*","*","*","*","*"]
["25-1113","Social Work Teachers, Postsecondary","*","*","*","*","*"]
["25-1121","Art, Drama, and Music Teachers, Postsecondary","*","*","*","*","*"]
["25-1122","Communications Teachers, Postsecondary","*","*","*","*","*"]
["25-1123","English Language and Literature Teachers, Postsecondary","*","*","*","*","*"]
["25-1124","Foreign Language and Literature Teachers, Postsecondary","*","*","*","*","*"]
["25-1125","History Teachers, Postsecondary","*","*","*","*","*"]
["25-1126","Philosophy and Religion Teachers, Postsecondary","*","*","*","*","*"]
["25-1193","Recreation and Fitness Studies Teachers, Postsecondary","*","*","*","*","*"]
["25-1194","Career/Technical Education Teachers, Postsecondary",17.059999999999999,21.4,26.66,31.18,38.08]
["25-1199","Postsecondary Teachers, All Other","*","*","*","*","*"]
["25-2011","Preschool Teachers, Except Special Education",8.9600000000000009,10.54,12.83,15.15,19.57]
["25-2012","Kindergarten Teachers, Except Special Education","*","*","*","*","*"]
["25-2021","Elementary School Teachers, Except Special Education","*","*","*","*","*"]
["25-2022","Middle School Teachers, Except Special and Career/Technical Education","*","*","*","*","*"]
["25-2023","Career/Technical Education Teachers, Middle School","*","*","*","*","*"]
["25-2031","Secondary School Teachers, Except Special and Career/Technical Education","*","*","*","*","*"]
["25-2032","Career/Technical Education Teachers, Secondary School","*","*","*","*","*"]
["25-2051","Special Education Teachers, Preschool","*","*","*","*","*"]
["25-2052","Special Education Teachers, Kindergarten and Elementary School","*","*","*","*","*"]
["25-2057","Special Education Teachers, Middle School","*","*","*","*","*"]
["25-2058","Special Education Teachers, Secondary School","*","*","*","*","*"]
["25-2059","Special Education Teachers, All Other","*","*","*","*","*"]
["25-3011","Adult Basic Education, Adult Secondary Education, and English as a Second Language Instructors",15.79,19.149999999999999,23.04,28.08,33.03]
["25-3021","Self-Enrichment Teachers",8.61,10.38,14.14,20.23,29.24]
["25-3031","Substitute Teachers, Short-Term",9.3699999999999992,10.18,11.25,12.56,14.39]
["25-3097","Tutors and Teachers and Instructors, All Other","*","*","*","*","*"]
["25-4011","Archivists",19.18,21.17,24.12,28.99,37.729999999999997]
["25-4012","Curators",16.54,19.64,22,27.58,35.869999999999997]
["25-4013","Museum Technicians and Conservators",9.11,11.02,15.47,20.56,25.59]
["25-4022","Librarians and Media Collections Specialists",19.29,22.38,26.87,31.24,37.47]
["25-4031","Library Technicians",11.22,14.06,17.12,19.89,23.71]
["25-9021","Farm and Home Management Educators",10.1,13.08,17.72,22.76,27.48]
["25-9031","Instructional Coordinators",18.05,22.6,27.84,33.43,38.450000000000003]
["25-9044","Teaching Assistants, Postsecondary","*","*","*","*","*"]
["25-9045","Teaching Assistants, Except Postsecondary","*","*","*","*","*"]
["25-9099","Educational Instruction and Library Workers, All Other",13.19,17.489999999999998,24.17,33.78,46.89]
["27-0000","Arts, Design, Entertainment, Sports, and Media Occupations",10.62,15.05,22.1,32.51,46.38]
["27-1011","Art Directors",25.71,33.65,42.7,54.74,72.94]
["27-1012","Craft Artists",10.09,12.88,16.93,21.75,32.04]
["27-1013","Fine Artists, Including Painters, Sculptors, and Illustrators",8,8.83,16.64,23.67,30.75]
["27-1014","Special Effects Artists and Animators",21.78,28.07,34.74,40.08,48.9]
["27-1019","Artists and Related Workers, All Other",19.61,21.98,26.79,33.6,45.07]
["27-1021","Commercial and Industrial Designers",19.87,26.83,37.06,53.59,66.42]
["27-1022","Fashion Designers",19.53,23.71,33.08,41.05,53.5]
["27-1023","Floral Designers",9.4,11.43,13.86,17.07,20.6]
["27-1024","Graphic Designers",12.78,17,22.86,30.55,39.299999999999997]
["27-1025","Interior Designers",14.61,18.739999999999998,24.42,33.06,40.159999999999997]
["27-1026","Merchandise Displayers and Window Trimmers",10.66,12.4,15.39,18.84,24.56]
["27-1027","Set and Exhibit Designers",15.46,19.61,27.03,35.33,43.95]
["27-1029","Designers, All Other",12.3,15.75,18.670000000000002,23.77,28.73]
["27-2011","Actors",10.42,11.68,19.25,51.86,90.84]
["27-2012","Producers and Directors",10.55,17.53,26.92,39.08,49.8]
["27-2021","Athletes and Sports Competitors","*","*","*","*","*"]
["27-2022","Coaches and Scouts","*","*","*","*","*"]
["27-2023","Umpires, Referees, and Other Sports Officials","*","*","*","*","*"]
["27-2031","Dancers",8.11,8.74,9.7899999999999991,14.54,45.62]
["27-2041","Music Directors and Composers",7.9,8.82,22.18,35.39,47.98]
["27-2042","Musicians and Singers",8.27,10.93,30.1,55.19,"#"]
["27-2090","Miscellaneous Entertainers and Performers, Sports and Related Workers",8.18,9.69,14.36,18.05,26.44]
["27-3011","Broadcast Announcers and Radio Disc Jockeys",8.1999999999999993,9.2200000000000006,13.36,25.64,48.05]
["27-3023","News Analysts, Reporters, and Journalists",11.34,13.54,17.649999999999999,24.51,35.86]
["27-3031","Public Relations Specialists",17.829999999999998,22.47,28.66,36.96,47.92]
["27-3041","Editors",13.74,20.02,26.87,36.9,48.15]
["27-3042","Technical Writers",22.45,28.68,35.6,45.45,56.23]
["27-3043","Writers and Authors",15.58,20.34,27.38,38.619999999999997,53.48]
["27-3091","Interpreters and Translators",14.8,16.62,20.03,39.159999999999997,56.19]
["27-3092","Court Reporters and Simultaneous Captioners",14.55,23.06,28.56,31.39,37.159999999999997]
["27-3099","Media and Communication Workers, All Other",8.7799999999999994,11.02,17.54,23.63,29.73]
["27-4011","Audio and Video Technicians",11.84,14.88,19.260000000000002,27.82,37.090000000000003]
["27-4012","Broadcast Technicians",9.33,12.9,17.399999999999999,23.77,31.61]
["27-4014","Sound Engineering Technicians","*","*","*","*","*"]
["27-4021","Photographers",9.4600000000000009,11.07,14.09,20.97,28.18]
["27-4031","Camera Operators, Television, Video, and Film",14.71,17.53,22.56,28.56,37.22]
["27-4032","Film and Video Editors","*","*","*","*","*"]
["27-4098","Lighting Technicians and Media and Communication Equipment Workers, All Other",15.96,18.03,28.63,40.200000000000003,48.05]
["29-0000","Healthcare Practitioners and Technical Occupations",16.43,22.24,29.72,39.799999999999997,62.08]
["29-1011","Chiropractors",20.47,27.13,34.6,49.55,86.47]
["29-1021","Dentists, General",46.4,64,80.66,"#","#"]
["29-1022","Oral and Maxillofacial Surgeons",99.74,"#","#","#","#"]
["29-1023","Orthodontists",34.32,"#","#","#","#"]
["29-1029","Dentists, All Other Specialists",50.68,52.8,60.98,95.61,"#"]
["29-1031","Dietitians and Nutritionists",19.36,22.5,27.1,32.090000000000003,37.130000000000003]
["29-1041","Optometrists",33.85,39.31,58.13,78.290000000000006,"#"]
["29-1051","Pharmacists",36.86,53.83,61.75,71.34,77.739999999999995]
["29-1071","Physician Assistants",40.06,44.28,51.18,59.94,69.77]
["29-1081","Podiatrists",35.409999999999997,46.78,68.25,"#","#"]
["29-1122","Occupational Therapists",26.27,31.26,39.79,47.79,56.29]
["29-1123","Physical Therapists",30.72,35.270000000000003,41.91,48.32,56.83]
["29-1124","Radiation Therapists",27.32,32.08,37.799999999999997,44.64,49.19]
["29-1125","Recreational Therapists",16.36,18.73,21.35,25.59,31.48]
["29-1126","Respiratory Therapists",21.01,23.88,27.57,31.19,36.119999999999997]
["29-1127","Speech-Language Pathologists",22.07,26.92,33.979999999999997,44.29,54.05]
["29-1128","Exercise Physiologists",16.239999999999998,18.09,21.37,25.61,30.24]
["29-1129","Therapists, All Other",15.77,18.559999999999999,24.96,30.24,42.77]
["29-1131","Veterinarians",33.1,39.46,47.06,60.59,89.19]
["29-1141","Registered Nurses",23.08,26.67,31.06,37.01,42.83]
["29-1151","Nurse Anesthetists",65.89,73.63,86.31,99.02,"#"]
["29-1161","Nurse Midwives",35.86,42.32,48.28,56.01,61.58]
["29-1171","Nurse Practitioners",39.93,43.72,49.89,58.48,65.36]
["29-1181","Audiologists",25.56,28.97,34.369999999999997,39.630000000000003,46.02]
["29-1211","Anesthesiologists",63.21,"#","#","#","#"]
["29-1215","Family Medicine Physicians",59.84,75.73,97.13,"#","#"]
["29-1216","General Internal Medicine Physicians",70.319999999999993,91.19,"#","#","#"]
["29-1218","Obstetricians and Gynecologists",66.98,86.46,"#","#","#"]
["29-1221","Pediatricians, General",53.84,65.41,74.33,92.02,"#"]
["29-1223","Psychiatrists",43.22,62.28,86.78,"#","#"]
["29-1228","Physicians, All Other; and Ophthalmologists, Except Pediatric",26.67,30.59,86.99,"#","#"]
["29-1248","Surgeons, Except Ophthalmologists",91.72,"#","#","#","#"]
["29-1292","Dental Hygienists",25.88,30.5,34.35,37.94,42.78]
["29-1298","Acupuncturists and Healthcare Diagnosing or Treating Practitioners, All Other",26.38,31.32,43.51,57.03,66.760000000000005]
["29-2010","Clinical Laboratory Technologists and Technicians",16.100000000000001,18.809999999999999,24.1,29.97,35.96]
["29-2031","Cardiovascular Technologists and Technicians",19.63,26.05,32.21,37.92,44.18]
["29-2032","Diagnostic Medical Sonographers",25.74,28.58,33.22,37.950000000000003,43.91]
["29-2033","Nuclear Medicine Technologists",25.28,28.35,33.32,38.06,44.04]
["29-2034","Radiologic Technologists and Technicians",19.89,22.88,27.63,32.950000000000003,37.630000000000003]
["29-2035","Magnetic Resonance Imaging Technologists",25.61,28.91,33.549999999999997,37.75,42.47]
["29-2040","Emergency Medical Technicians and Paramedics",12.44,14.46,17.440000000000001,21.24,24.83]
["29-2051","Dietetic Technicians",11.04,12.59,13.82,15.06,17.61]
["29-2052","Pharmacy Technicians",10.91,12.9,15.43,18.239999999999998,21.42]
["29-2053","Psychiatric Technicians",10.79,12.89,16.04,19.02,22.21]
["29-2055","Surgical Technologists",16.05,17.79,20.9,24.31,28.34]
["29-2056","Veterinary Technologists and Technicians",12.03,13.96,16.5,18.739999999999998,22.24]
["29-2057","Ophthalmic Medical Technicians",12.36,14.21,17.23,20.8,24.09]
["29-2061","Licensed Practical and Licensed Vocational Nurses",17.13,19.72,22.09,24.4,27.89]
["29-2081","Opticians, Dispensing",13.47,15.95,19.75,26.85,30.15]
["29-2091","Orthotists and Prosthetists",20.04,23.94,31.4,39.64,48.82]
["29-2092","Hearing Aid Specialists",17.21,24.96,28.1,31.61,39.24]
["29-2098","Medical Dosimetrists, Medical Records Specialists, and Health Technologists and Technicians, All Other",12.8,14.73,17.89,23.36,29.39]
["29-9091","Athletic Trainers","*","*","*","*","*"]
["29-9092","Genetic Counselors",26.84,31.19,35.43,39.57,45.9]
["29-9098","Health Information Technologists, Medical Registrars, Surgical Assistants, and Healthcare Practitioners and Technical Workers, All Other",10.8,14.41,22.86,32.270000000000003,45.08]
["31-0000","Healthcare Support Occupations",8.82,10.29,12.56,15.67,19.489999999999998]
["31-1120","Home Health and Personal Care Aides",8.1999999999999993,9.01,10.31,11.72,13.44]
["31-1131","Nursing Assistants",9.34,10.73,12.67,14.6,16.68]
["31-1132","Orderlies",10.69,12.25,13.49,14.75,16.68]
["31-1133","Psychiatric Aides",14.83,15.36,15.37,16.02,17.25]
["31-2011","Occupational Therapy Assistants",21.84,26.94,31.75,36.28,39.01]
["31-2012","Occupational Therapy Aides",10.72,12.21,13.94,16.04,18.84]
["31-2021","Physical Therapist Assistants",21.94,25.7,29.53,34.21,38.119999999999997]
["31-2022","Physical Therapist Aides",10.18,11.49,13.18,14.75,16.93]
["31-9011","Massage Therapists",10.69,16.329999999999998,19.52,23.96,32.630000000000003]
["31-9091","Dental Assistants",15.19,17.48,20.55,23.78,27.01]
["31-9092","Medical Assistants",12.27,13.84,16.100000000000001,18.29,20.11]
["31-9093","Medical Equipment Preparers",12.18,13.43,15.3,18.12,20.82]
["31-9094","Medical Transcriptionists",9.84,10.85,13.19,17.579999999999998,21.75]
["31-9095","Pharmacy Aides",8.7200000000000006,9.73,11.37,13.92,20.64]
["31-9096","Veterinary Assistants and Laboratory Animal Caretakers",9.77,11.34,13.62,16.29,19.05]
["31-9097","Phlebotomists",12.15,13.76,15.98,18.239999999999998,19.940000000000001]
["31-9099","Healthcare Support Workers, All Other",11.41,13.15,15.61,19.36,23.49]
["33-0000","Protective Service Occupations",10.61,13.95,18.41,23.98,31.48]
["33-1011","First-Line Supervisors of Correctional Officers",20.05,22.54,25.77,29.53,37.1]
["33-1012","First-Line Supervisors of Police and Detectives",21.97,25.96,31.7,38.92,47.32]
["33-1021","First-Line Supervisors of Firefighting and Prevention Workers",16.45,21.59,27.92,34.630000000000003,41.56]
["33-1090","Miscellaneous First-Line Supervisors, Protective Service Workers",13.24,16.93,24.07,30.2,38.64]
["33-2011","Firefighters",10.18,12.17,15.08,19.579999999999998,24.66]
["33-2021","Fire Inspectors and Investigators",18.559999999999999,21.44,25.86,30.57,35.65]
["33-3011","Bailiffs",12.1,13.82,17.309999999999999,21.16,23.55]
["33-3012","Correctional Officers and Jailers",16.27,16.86,18.38,20.43,24]
["33-3021","Detectives and Criminal Investigators",19.39,21.62,24.53,31.57,56.14]
["33-3031","Fish and Game Wardens",19.899999999999999,21.26,23.76,28.46,28.47]
["33-3041","Parking Enforcement Workers",11.01,12.87,14.52,17.690000000000001,20.170000000000002]
["33-3051","Police and Sheriff's Patrol Officers",15.96,18.14,21.85,26.79,31.62]
["33-9011","Animal Control Workers",12.84,14.9,17.059999999999999,19.190000000000001,22.33]
["33-9021","Private Detectives and Investigators",15.28,18.38,23.35,29.86,37.700000000000003]
["33-9031","Gambling Surveillance Officers and Gambling Investigators",13.42,14.84,20.51,22.98,24.46]
["33-9032","Security Guards",9.8800000000000008,11.22,13.97,18.87,27.43]
["33-9091","Crossing Guards and Flaggers",8.7799999999999994,10.210000000000001,11.45,12.82,15.14]
["33-9092","Lifeguards, Ski Patrol, and Other Recreational Protective Service Workers",7.96,8.4499999999999993,9.2799999999999994,10.85,12.55]
["33-9093","Transportation Security Screeners",15.8,18.010000000000002,18.72,19.97,22.01]
["33-9098","School Bus Monitors and Protective Service Workers, All Other",11.29,14.35,18.21,24.7,29.56]
["35-0000","Food Preparation and Serving Related Occupations",8.06,8.69,9.86,12.7,16.739999999999998]
["35-1011","Chefs and Head Cooks",15.98,19.3,24.02,29.71,37.950000000000003]
["35-1012","First-Line Supervisors of Food Preparation and Serving Workers",10.31,12.43,15.67,20.47,25.61]
["35-2011","Cooks, Fast Food",7.84,8.3699999999999992,9.23,10.86,12.97]
["35-2012","Cooks, Institution and Cafeteria",9,10.49,12.49,14.38,16.18]
["35-2014","Cooks, Restaurant",8.52,9.89,12.11,14.49,17.88]
["35-2015","Cooks, Short Order",8.1999999999999993,8.7899999999999991,9.81,13.05,16.75]
["35-2019","Cooks, All Other",8.59,9.7799999999999994,11.77,14.9,23.05]
["35-2021","Food Preparation Workers",8.42,9.4700000000000006,10.95,12.62,15.11]
["35-3011","Bartenders",7.99,8.58,9.67,15.89,22.45]
["35-3023","Fast Food and Counter Workers",7.98,8.4600000000000009,9.27,10.78,12.73]
["35-3031","Waiters and Waitresses",7.96,8.4499999999999993,9.2799999999999994,11.92,16.98]
["35-3041","Food Servers, Nonrestaurant",8.2100000000000009,8.9700000000000006,10.28,12.1,14.21]
["35-9011","Dining Room and Cafeteria Attendants and Bartender Helpers",8,8.5,9.33,11.05,14.04]
["35-9021","Dishwashers",8.11,8.74,9.7799999999999994,11.24,12.4]
["35-9031","Hosts and Hostesses, Restaurant, Lounge, and Coffee Shop",7.86,8.35,9.1300000000000008,10.67,12.46]
["35-9099","Food Preparation and Serving Related Workers, All Other",8.32,9.31,10.9,13.21,15.27]
["37-0000","Building and Grounds Cleaning and Maintenance Occupations",8.5500000000000007,9.91,12.2,14.99,18.579999999999998]
["37-1011","First-Line Supervisors of Housekeeping and Janitorial Workers",12.12,14.25,18.010000000000002,23.24,29.7]
["37-1012","First-Line Supervisors of Landscaping, Lawn Service, and Groundskeeping Workers",16.309999999999999,19.8,24.87,31.09,38.9]
["37-2011","Janitors and Cleaners, Except Maids and Housekeeping Cleaners",8.36,9.4700000000000006,11.46,14.04,16.14]
["37-2012","Maids and Housekeeping Cleaners",8.24,9.11,10.64,12.47,14.63]
["37-2019","Building Cleaning Workers, All Other",9.89,10.99,12.78,15.14,20.440000000000001]
["37-2021","Pest Control Workers",10.5,13.17,15.91,19.91,24.05]
["37-3011","Landscaping and Groundskeeping Workers",10,11.73,13.84,16.059999999999999,18.7]
["37-3012","Pesticide Handlers, Sprayers, and Applicators, Vegetation",7.76,8.51,12.3,17.21,21.74]
["37-3013","Tree Trimmers and Pruners",12.53,14.27,17.079999999999998,19.61,23.4]
["37-3019","Grounds Maintenance Workers, All Other",9.19,10.7,18.72,31.46,31.47]
["39-0000","Personal Care and Service Occupations",8.19,9.07,11.24,15.32,21.9]
["39-1098","First-Line Supervisors of Personal Service and Entertainment and Recreation Workers, Except Gambling Services",12.29,14.81,18.77,23.95,30.23]
["39-2011","Animal Trainers",9.2799999999999994,10.68,12.82,17.309999999999999,23.79]
["39-2021","Animal Caretakers",8.26,9.2899999999999991,11.01,13.53,16.93]
["39-3031","Ushers, Lobby Attendants, and Ticket Takers",7.9,8.44,9.35,10.72,11.77]
["39-3091","Amusement and Recreation Attendants",7.98,8.51,9.42,11.22,13.37]
["39-3092","Costume Attendants",8.49,10.199999999999999,13.19,16.11,21.34]
["39-3093","Locker Room, Coatroom, and Dressing Room Attendants",8.7200000000000006,9.94,11.33,13.61,16.77]
["39-4021","Funeral Attendants",8.69,10.37,12.46,14.85,18.52]
["39-4031","Morticians, Undertakers, and Funeral Arrangers",13.37,17.75,26.18,35.479999999999997,40.56]
["39-5011","Barbers",9.09,12.72,16.260000000000002,19.12,22.07]
["39-5012","Hairdressers, Hairstylists, and Cosmetologists",8.07,8.7899999999999991,10.91,15.94,23.67]
["39-5092","Manicurists and Pedicurists",8.23,8.89,10.050000000000001,14.06,18.77]
["39-5093","Shampooers",8.51,9.4600000000000009,10.7,11.76,12.39]
["39-5094","Skincare Specialists",9.92,13.75,18.52,28.16,35.64]
["39-6011","Baggage Porters and Bellhops",8.1199999999999992,8.77,9.92,11.59,12.82]
["39-6012","Concierges",9.74,11.32,13.47,15.27,17.739999999999998]
["39-7010","Tour and Travel Guides",8.31,9.57,12.26,14.43,16.420000000000002]
["39-9011","Childcare Workers",8.15,8.94,10.62,13.07,15.52]
["39-9031","Exercise Trainers and Group Fitness Instructors",9.14,11.74,16.739999999999998,22.79,29.61]
["39-9032","Recreation Workers",8.3699999999999992,9.56,12.94,17.57,22.82]
["39-9041","Residential Advisors",8.94,10.81,15.17,19.72,23.74]
["39-9098","Crematory Operators and Personal Care and Service Workers, All Other",8.52,9.69,12.68,14.69,18.75]
["41-0000","Sales and Related Occupations",8.4499999999999993,9.75,13.08,23.17,39.880000000000003]
["41-1011","First-Line Supervisors of Retail Sales Workers",12.65,15.41,19.64,26.01,34.31]
["41-1012","First-Line Supervisors of Non-Retail Sales Workers",23.72,29.98,41.83,60.44,80.45]
["41-2011","Cashiers",8,8.6,9.64,11.39,13.29]
["41-2021","Counter and Rental Clerks",8.5,9.93,12.65,16.88,22.15]
["41-2022","Parts Salespersons",8.81,10.82,14.5,18.899999999999999,24.84]
["41-2031","Retail Salespersons",8.31,9.36,11.19,14.34,20.12]
["41-3011","Advertising Sales Agents",12.67,17.649999999999999,24.56,37.54,58.48]
["41-3021","Insurance Sales Agents",13.46,16.86,22.88,33.369999999999997,57.39]
["41-3031","Securities, Commodities, and Financial Services Sales Agents",17.329999999999998,21.24,29.7,51.85,80.989999999999995]
["41-3041","Travel Agents",11.24,14.69,18.84,25.3,30.95]
["41-3091","Sales Representatives of Services, Except Advertising, Insurance, Financial Services, and Travel",12.89,17.77,25.58,37.479999999999997,56.9]
["41-4011","Sales Representatives, Wholesale and Manufacturing, Technical and Scientific Products",21.74,29.95,45.88,64.42,84.11]
["41-4012","Sales Representatives, Wholesale and Manufacturing, Except Technical and Scientific Products",14.28,20.23,29.67,43.65,63.62]
["41-9011","Demonstrators and Product Promoters",10.039999999999999,10.97,12.41,17.89,23.57]
["41-9021","Real Estate Brokers",11.79,15.49,28.76,51.87,95.39]
["41-9022","Real Estate Sales Agents",11.23,14.64,19,28.46,40.200000000000003]
["41-9031","Sales Engineers",29.05,35.14,43.89,57.42,75.91]
["41-9041","Telemarketers",9.9,11.16,13.13,16.239999999999998,19.27]
["41-9091","Door-to-Door Sales Workers, News and Street Vendors, and Related Workers",8.4600000000000009,10.09,13.17,23.47,38.369999999999997]
["41-9099","Sales and Related Workers, All Other",9.8000000000000007,10.55,11.78,16.03,27.4]
["43-0000","Office and Administrative Support Occupations",10.8,13.74,17.420000000000002,22.18,28.45]
["43-1011","First-Line Supervisors of Office and Administrative Support Workers",15.92,19.72,25.57,31.43,39.08]
["43-2011","Switchboard Operators, Including Answering Service",10.32,11.85,13.68,15.4,18.100000000000001]
["43-2099","Communications Equipment Operators, All Other",16.59,17.670000000000002,19.41,21.03,27.39]
["43-3011","Bill and Account Collectors",12.01,14.36,17.25,19.98,24.3]
["43-3021","Billing and Posting Clerks",13.08,15.27,17.690000000000001,20.63,24.21]
["43-3031","Bookkeeping, Accounting, and Auditing Clerks",12.19,15.3,18.79,23.05,27.56]
["43-3051","Payroll and Timekeeping Clerks",13.96,16.97,20.88,25.22,29.7]
["43-3061","Procurement Clerks",12.89,16.350000000000001,19.29,22.71,25.85]
["43-3071","Tellers",12.51,13.97,16,18.260000000000002,20.43]
["43-3099","Financial Clerks, All Other",15.23,16.760000000000002,19.22,24.88,33.869999999999997]
["43-4011","Brokerage Clerks",17.63,21.26,25.05,29.47,33.369999999999997]
["43-4031","Court, Municipal, and License Clerks",12.46,15.29,17.62,20.170000000000002,23.53]
["43-4041","Credit Authorizers, Checkers, and Clerks",14.53,16.82,19.989999999999998,23.24,26.01]
["43-4051","Customer Service Representatives",10.38,12.76,16.52,20.57,25.64]
["43-4061","Eligibility Interviewers, Government Programs",14.23,16.12,18.27,21.67,24.48]
["43-4071","File Clerks",10.51,12.92,16.41,19.23,23.08]
["43-4081","Hotel, Motel, and Resort Desk Clerks",8.15,9,10.38,11.88,14.09]
["43-4111","Interviewers, Except Eligibility and Loan",12.03,13.32,15.35,18.170000000000002,21.31]
["43-4121","Library Assistants, Clerical",8.33,9.41,12.68,15.11,18.25]
["43-4131","Loan Interviewers and Clerks",15.39,17.73,21.34,25.04,29.43]
["43-4141","New Accounts Clerks",14.41,16.75,19.77,25.17,28.72]
["43-4151","Order Clerks",10.38,12.97,16.850000000000001,21.09,24.8]
["43-4161","Human Resources Assistants, Except Payroll and Timekeeping",13.17,16.04,18.77,22,24.41]
["43-4171","Receptionists and Information Clerks",9.42,11.65,13.98,16.72,19.2]
["43-4181","Reservation and Transportation Ticket Agents and Travel Clerks",12.7,15.5,22.3,33.54,37.450000000000003]
["43-4199","Information and Record Clerks, All Other",10.97,13.34,18.25,22.67,26.05]
["43-5011","Cargo and Freight Agents",13.28,16.989999999999998,21.35,26.58,31.12]
["43-5021","Couriers and Messengers",10.11,11.58,13.63,15.82,18.43]
["43-5031","Public Safety Telecommunicators",13.07,15.06,17.22,19.239999999999998,22.72]
["43-5032","Dispatchers, Except Police, Fire, and Ambulance",11.82,15.06,18.96,23.76,28.81]
["43-5041","Meter Readers, Utilities",12.83,14.92,17.93,23.81,31.19]
["43-5051","Postal Service Clerks",19.95,21.34,23.64,29.21,29.8]
["43-5052","Postal Service Mail Carriers",17.78,17.79,24.04,30.97,32.6]
["43-5053","Postal Service Mail Sorters, Processors, and Processing Machine Operators",17.190000000000001,17.2,28.91,29.21,29.45]
["43-5061","Production, Planning, and Expediting Clerks",13.38,16.760000000000002,21.78,27.89,33.880000000000003]
["43-5071","Shipping, Receiving, and Inventory Clerks",10.69,12.85,15.53,18.91,23.18]
["43-5111","Weighers, Measurers, Checkers, and Samplers, Recordkeeping",11.76,13.28,15.58,18.940000000000001,23.14]
["43-6011","Executive Secretaries and Executive Administrative Assistants",19.47,22.53,27,32.08,38.17]
["43-6012","Legal Secretaries and Administrative Assistants",11.97,15.65,21.33,27.7,35.479999999999997]
["43-6013","Medical Secretaries and Administrative Assistants",12.28,13.94,16.47,19,22.73]
["43-6014","Secretaries and Administrative Assistants, Except Legal, Medical, and Executive",12.43,15.28,17.86,21.23,24.47]
["43-9021","Data Entry Keyers",10.82,12.96,15.17,18.13,21.52]
["43-9022","Word Processors and Typists",13.36,14.99,18.73,22.06,28.26]
["43-9031","Desktop Publishers","*","*","*","*","*"]
["43-9041","Insurance Claims and Policy Processing Clerks",15.16,16.96,19.88,24.86,31.28]
["43-9051","Mail Clerks and Mail Machine Operators, Except Postal Service",8.8699999999999992,11,14.33,17.38,19.43]
["43-9061","Office Clerks, General",9.26,12.04,15.28,19.100000000000001,24.15]
["43-9071","Office Machine Operators, Except Computer",10.48,12.87,15.22,18.41,22.29]
["43-9111","Statistical Assistants",16.190000000000001,17.809999999999999,20.67,23.44,25.76]
["43-9199","Office and Administrative Support Workers, All Other",12.89,16.149999999999999,18.96,23.37,28.19]
["45-0000","Farming, Fishing, and Forestry Occupations",8.76,10.55,13.71,18.48,24.11]
["45-1011","First-Line Supervisors of Farming, Fishing, and Forestry Workers",14.62,20.190000000000001,25,33.799999999999997,44.07]
["45-2011","Agricultural Inspectors",16.98,18.559999999999999,20.57,23.86,25.85]
["45-2041","Graders and Sorters, Agricultural Products",8.36,9.59,12.27,14.41,17.12]
["45-2091","Agricultural Equipment Operators",8.18,9.2100000000000009,12.62,16.149999999999999,19.25]
["45-2092","Farmworkers and Laborers, Crop, Nursery, and Greenhouse",8.39,9.67,11.35,14,17.68]
["45-2093","Farmworkers, Farm, Ranch, and Aquacultural Animals",8.39,9.6199999999999992,11.39,14.07,17.100000000000001]
["45-2099","Agricultural Workers, All Other",11.26,15.05,20.059999999999999,23.87,28.25]
["45-4021","Fallers",15.08,16.82,19.7,26.71,30.41]
["45-4022","Logging Equipment Operators",13.27,15.58,18.43,22.97,29.5]
["45-4023","Log Graders and Scalers",10.84,12.84,15.26,21.68,25.21]
["45-4029","Logging Workers, All Other",12.72,13.49,14.78,20.59,24.28]
["47-0000","Construction and Extraction Occupations",12.52,15.26,18.809999999999999,24.26,30.62]
["47-1011","First-Line Supervisors of Construction Trades and Extraction Workers",19.86,24.35,28.85,35.03,40.94]
["47-2011","Boilermakers",15.9,20.67,28.33,34.64,39.19]
["47-2021","Brickmasons and Blockmasons",13.48,16.41,19.21,22.39,24.41]
["47-2022","Stonemasons",10.15,11.12,16.059999999999999,19.95,29.54]
["47-2031","Carpenters",12.82,15.09,17.87,21.76,25.44]
["47-2041","Carpet Installers",10.53,13.53,17.07,20.04,24.99]
["47-2042","Floor Layers, Except Carpet, Wood, and Hard Tiles",9.16,12.13,14.72,18.61,24.31]
["47-2043","Floor Sanders and Finishers",10.45,13.18,15.68,18.34,20.77]
["47-2044","Tile and Stone Setters",11.5,13.83,17.7,22.17,30.6]
["47-2051","Cement Masons and Concrete Finishers",13.5,16.03,18.649999999999999,22.06,24.57]
["47-2061","Construction Laborers",9.84,12.51,14.79,17.62,19.86]
["47-2071","Paving, Surfacing, and Tamping Equipment Operators",13.6,15.47,17.59,20.420000000000002,23.94]
["47-2072","Pile Driver Operators",14.69,16.46,18.739999999999998,24.67,29.88]
["47-2073","Operating Engineers and Other Construction Equipment Operators",14.42,16.43,19.010000000000002,22.79,27.01]
["47-2081","Drywall and Ceiling Tile Installers",13.63,15.96,18.11,21.33,24.51]
["47-2111","Electricians",15.5,17.940000000000001,21.48,25.15,29.55]
["47-2121","Glaziers",12.49,14.93,17.32,19.59,23.46]
["47-2131","Insulation Workers, Floor, Ceiling, and Wall",10.41,12.03,15.76,18.68,23.27]
["47-2132","Insulation Workers, Mechanical",14.71,16.399999999999999,18.91,22.18,24.4]
["47-2141","Painters, Construction and Maintenance",11.61,13.57,15.98,18.25,20.73]
["47-2142","Paperhangers",11.99,15.62,17.45,19.98,24.47]
["47-2151","Pipelayers",12.53,14.23,16.62,19.02,22.93]
["47-2152","Plumbers, Pipefitters, and Steamfitters",14.01,17.18,21.24,25.18,30.03]
["47-2161","Plasterers and Stucco Masons",13.15,14.94,17.489999999999998,21.41,26.86]
["47-2171","Reinforcing Iron and Rebar Workers",16.239999999999998,19.38,22.18,25.46,31.27]
["47-2181","Roofers",12.75,14.68,17.36,20.64,23.54]
["47-2211","Sheet Metal Workers",12.26,14.72,18.63,23.75,28.43]
["47-2221","Structural Iron and Steel Workers",15.82,17.43,20.309999999999999,23.72,27.55]
["47-2231","Solar Photovoltaic Installers",12.58,14.5,16.89,19.63,25.44]
["47-3011","Helpers--Brickmasons, Blockmasons, Stonemasons, and Tile and Marble Setters",10.94,12.86,14.73,16.93,18.440000000000001]
["47-3012","Helpers--Carpenters",9.59,11.83,14.27,16.82,18.649999999999999]
["47-3013","Helpers--Electricians",10.53,12.58,14.88,17.48,19.21]
["47-3014","Helpers--Painters, Paperhangers, Plasterers, and Stucco Masons",10.55,12.35,14.5,16.84,18.559999999999999]
["47-3015","Helpers--Pipelayers, Plumbers, Pipefitters, and Steamfitters",9.4600000000000009,12.07,14.04,16.54,18.72]
["47-3016","Helpers--Roofers",12.11,12.92,14.04,15.25,17.670000000000002]
["47-3019","Helpers, Construction Trades, All Other",8.34,9.69,13.05,15.88,18.309999999999999]
["47-4011","Construction and Building Inspectors",17.059999999999999,21.31,26.72,32,37.979999999999997]
["47-4021","Elevator and Escalator Installers and Repairers",13.99,18.21,27.74,36.119999999999997,39.76]
["47-4031","Fence Erectors",11.9,14.26,19.79,23.01,26.28]
["47-4041","Hazardous Materials Removal Workers",8.36,9.36,15.11,18.48,22.84]
["47-4051","Highway Maintenance Workers",13.69,18.25,18.27,21.31,23.43]
["47-4061","Rail-Track Laying and Maintenance Equipment Operators",16.55,19.03,25.85,28.73,30.59]
["47-4071","Septic Tank Servicers and Sewer Pipe Cleaners",12.21,13.66,16.25,19.850000000000001,23.24]
["47-4090","Miscellaneous Construction and Related Workers",12.41,14.53,17.579999999999998,21.96,27]
["47-5022","Excavating and Loading Machine and Dragline Operators, Surface Mining",15.36,17.010000000000002,19.649999999999999,23.53,28.02]
["47-5041","Continuous Mining Machine Operators",18.940000000000001,21.04,22.8,24.6,25.72]
["47-5044","Loading and Moving Machine Operators, Underground Mining",16.079999999999998,17.47,20.27,22.77,24.32]
["47-5051","Rock Splitters, Quarry",13.66,15.6,17.170000000000002,18.75,23.98]
["47-5081","Helpers--Extraction Workers",12.36,13.18,14.58,17.22,20.6]
["47-5097","Earth Drillers, Except Oil and Gas; and Explosives Workers, Ordnance Handling Experts, and Blasters",15.91,19.809999999999999,23.09,26.83,30.25]
["49-0000","Installation, Maintenance, and Repair Occupations",12.48,16.190000000000001,21.46,27.99,35.119999999999997]
["49-1011","First-Line Supervisors of Mechanics, Installers, and Repairers",20.34,25.38,31.24,39.57,49.02]
["49-2011","Computer, Automated Teller, and Office Machine Repairers",13.63,16.48,20.27,23.78,28.23]
["49-2021","Radio, Cellular, and Tower Equipment Installers and Repairers",17.87,20.96,24.49,29.15,36.39]
["49-2022","Telecommunications Equipment Installers and Repairers, Except Line Installers",15.4,21.12,26.68,31.62,36.92]
["49-2091","Avionics Technicians",17.829999999999998,21.87,26.16,30.16,34.29]
["49-2092","Electric Motor, Power Tool, and Related Repairers",14.58,17.41,22.28,27.6,32.6]
["49-2093","Electrical and Electronics Installers and Repairers, Transportation Equipment",17.59,25.55,29.08,33.630000000000003,37.21]
["49-2094","Electrical and Electronics Repairers, Commercial and Industrial Equipment",16.66,21.54,27.11,31.87,37.58]
["49-2095","Electrical and Electronics Repairers, Powerhouse, Substation, and Relay",18.23,26.63,34.93,41.08,46.29]
["49-2096","Electronic Equipment Installers and Repairers, Motor Vehicles",12.24,14.08,18.100000000000001,22.63,26.53]
["49-2097","Audiovisual Equipment Installers and Repairers",10.78,13.76,16.66,20.76,25.08]
["49-2098","Security and Fire Alarm Systems Installers",14.11,17.23,22.06,27.54,32.46]
["49-3011","Aircraft Mechanics and Service Technicians",18.04,22.99,28.49,38.6,46.16]
["49-3021","Automotive Body and Related Repairers",12.63,16.309999999999999,21.76,30.27,39.36]
["49-3022","Automotive Glass Installers and Repairers",10.78,12.98,17.489999999999998,21.18,23.98]
["49-3023","Automotive Service Technicians and Mechanics",10.6,13.84,19.52,26.48,32.03]
["49-3031","Bus and Truck Mechanics and Diesel Engine Specialists",15.42,18.05,22.04,26.27,30.44]
["49-3041","Farm Equipment Mechanics and Service Technicians",12.53,14.85,17.989999999999998,22.27,26.04]
["49-3042","Mobile Heavy Equipment Mechanics, Except Engines",15.91,19.600000000000001,23.2,27.73,31.42]
["49-3043","Rail Car Repairers",15.6,17.07,19.86,24.73,28.58]
["49-3051","Motorboat Mechanics and Service Technicians",10.82,14.92,18.559999999999999,24.69,28.21]
["49-3052","Motorcycle Mechanics",10.69,13.18,16.920000000000002,21.32,26.96]
["49-3053","Outdoor Power Equipment and Other Small Engine Mechanics",11.23,13.85,17.16,20.95,24.9]
["49-3091","Bicycle Repairers",9.3800000000000008,10.76,13.09,15.17,17.760000000000002]
["49-3092","Recreational Vehicle Service Technicians",13.19,16.940000000000001,21.24,24,26.29]
["49-3093","Tire Repairers and Changers",9.94,11.7,14.08,17.399999999999999,21.63]
["49-9011","Mechanical Door Repairers",12.45,14.67,18.41,21.8,23.82]
["49-9012","Control and Valve Installers and Repairers, Except Mechanical Door",11.62,16.54,26.19,32.770000000000003,38.1]
["49-9021","Heating, Air Conditioning, and Refrigeration Mechanics and Installers",13.19,16.52,20.75,25.13,30.2]
["49-9031","Home Appliance Repairers",9.52,13.15,16.739999999999998,19.87,24.26]
["49-9041","Industrial Machinery Mechanics",15.13,18.68,23.69,29.25,35.270000000000003]
["49-9043","Maintenance Workers, Machinery",13.69,16.61,20.399999999999999,25.19,29.32]
["49-9044","Millwrights",15.95,18.57,22.66,27.44,30.73]
["49-9051","Electrical Power-Line Installers and Repairers",18.059999999999999,23.27,29.29,35.950000000000003,41.11]
["49-9052","Telecommunications Line Installers and Repairers",13.47,17.04,22.4,28.13,31.99]
["49-9062","Medical Equipment Repairers",16.21,20.48,26.7,33.590000000000003,42.58]
["49-9063","Musical Instrument Repairers and Tuners",10.76,13.55,17.63,21.02,24.03]
["49-9069","Precision Instrument and Equipment Repairers, All Other",17.170000000000002,21.08,26.66,32.67,39.770000000000003]
["49-9071","Maintenance and Repair Workers, General",11.74,14.75,18.489999999999998,23.52,29.01]
["49-9091","Coin, Vending, and Amusement Machine Servicers and Repairers",8.5399999999999991,10.55,16.73,21.92,26.7]
["49-9094","Locksmiths and Safe Repairers",10.050000000000001,11.6,16.850000000000001,23.13,29.34]
["49-9096","Riggers",19.16,24.43,27.02,29.43,32.89]
["49-9097","Signal and Track Switch Repairers",21.99,32.32,40.520000000000003,46.61,51.19]
["49-9098","Helpers--Installation, Maintenance, and Repair Workers",9.2200000000000006,11.36,14.18,17.78,21.35]
["49-9099","Installation, Maintenance, and Repair Workers, All Other",12,14.58,18.2,24.05,29.18]
["51-0000","Production Occupations",10.220000000000001,12.38,15.54,20.64,27.04]
["51-1011","First-Line Supervisors of Production and Operating Workers",17.41,22.02,28.14,35.520000000000003,44.08]
["51-2011","Aircraft Structure, Surfaces, Rigging, and Systems Assemblers",14.86,15.88,17.73,20.53,23.22]
["51-2021","Coil Winders, Tapers, and Finishers",11,12.58,16.239999999999998,22.37,30.77]
["51-2028","Electrical, Electronic, and Electromechanical Assemblers, Except Coil Winders, Tapers, and Finishers",10.39,12.3,15.26,19.399999999999999,23.84]
["51-2031","Engine and Other Machine Assemblers",11.59,14.12,16.82,19.62,25.75]
["51-2041","Structural Metal Fabricators and Fitters",12.88,15.62,18.45,23.39,28]
["51-2051","Fiberglass Laminators and Fabricators",10.1,12.01,14.47,18.260000000000002,22.52]
["51-2090","Miscellaneous Assemblers and Fabricators",9.7799999999999994,11.43,14.16,17.86,22.13]
["51-3011","Bakers",8.81,10.1,11.9,15.04,18.2]
["51-3021","Butchers and Meat Cutters",10.57,12.98,15.69,18.29,20.84]
["51-3022","Meat, Poultry, and Fish Cutters and Trimmers",10.23,11.84,13.22,14.43,15.18]
["51-3023","Slaughterers and Meat Packers",11.95,13.13,14.31,15.44,17.27]
["51-3091","Food and Tobacco Roasting, Baking, and Drying Machine Operators and Tenders",10.34,13.12,20.43,27.88,34.25]
["51-3092","Food Batchmakers",8.65,9.86,12.36,15.07,18.8]
["51-3093","Food Cooking Machine Operators and Tenders",8.9700000000000006,10.78,14.4,17.260000000000002,18.809999999999999]
["51-3099","Food Processing Workers, All Other",10.19,11.28,13.31,15.39,17.66]
["51-4021","Extruding and Drawing Machine Setters, Operators, and Tenders, Metal and Plastic",12.54,15.43,19.649999999999999,23.17,25.67]
["51-4022","Forging Machine Setters, Operators, and Tenders, Metal and Plastic",11.83,13.72,17.600000000000001,23.48,30.92]
["51-4023","Rolling Machine Setters, Operators, and Tenders, Metal and Plastic",11.24,13.17,15.97,21.32,28.49]
["51-4031","Cutting, Punching, and Press Machine Setters, Operators, and Tenders, Metal and Plastic",10.66,12.43,14.9,18.3,22.27]
["51-4032","Drilling and Boring Machine Tool Setters, Operators, and Tenders, Metal and Plastic",10.88,12.33,14.86,20.57,30.42]
["51-4033","Grinding, Lapping, Polishing, and Buffing Machine Tool Setters, Operators, and Tenders, Metal and Plastic",11.8,14.26,18.59,22.42,25.09]
["51-4034","Lathe and Turning Machine Tool Setters, Operators, and Tenders, Metal and Plastic",16.14,19.97,23.67,27.65,30.56]
["51-4035","Milling and Planing Machine Setters, Operators, and Tenders, Metal and Plastic",11.23,13.82,16.98,21.23,26.28]
["51-4041","Machinists",13.43,16.52,20.34,25.73,30.67]
["51-4051","Metal-Refining Furnace Operators and Tenders",14.12,17.16,23.52,28.54,31.41]
["51-4052","Pourers and Casters, Metal",12.8,15.26,19.260000000000002,28.93,36.6]
["51-4061","Model Makers, Metal and Plastic",11.07,13.95,18.57,28.02,36.31]
["51-4062","Patternmakers, Metal and Plastic",13.44,14.68,16.98,19.739999999999998,26.2]
["51-4071","Foundry Mold and Coremakers",10.65,11.77,13.6,15.52,18.41]
["51-4072","Molding, Coremaking, and Casting Machine Setters, Operators, and Tenders, Metal and Plastic",10.98,13.07,16,20.52,24.47]
["51-4081","Multiple Machine Tool Setters, Operators, and Tenders, Metal and Plastic",11.57,12.85,14.49,17.809999999999999,22]
["51-4111","Tool and Die Makers",15.69,19.27,22.82,27.77,31.99]
["51-4121","Welders, Cutters, Solderers, and Brazers",14.03,16.59,19.77,23.79,28.72]
["51-4122","Welding, Soldering, and Brazing Machine Setters, Operators, and Tenders",13.32,15.77,19.829999999999998,23.6,27.43]
["51-4191","Heat Treating Equipment Setters, Operators, and Tenders, Metal and Plastic",13.22,15.16,18.100000000000001,22.93,27.91]
["51-4192","Layout Workers, Metal and Plastic",13.56,15.83,18.89,22.94,25.88]
["51-4193","Plating Machine Setters, Operators, and Tenders, Metal and Plastic",11.03,13.15,15.59,18.170000000000002,21.04]
["51-4194","Tool Grinders, Filers, and Sharpeners",13.46,15.99,20.32,23.85,28.72]
["51-4199","Metal Workers and Plastic Workers, All Other",10.52,13.13,17.28,23.38,30.1]
["51-5111","Prepress Technicians and Workers",14.58,16.61,19.3,23.04,26.55]
["51-5112","Printing Press Operators",11.31,14.25,17.809999999999999,22.13,26.68]
["51-5113","Print Binding and Finishing Workers",10.42,12.68,14.81,18.61,23.07]
["51-6011","Laundry and Dry-Cleaning Workers",8.2200000000000006,9.2200000000000006,10.69,12.15,14.13]
["51-6021","Pressers, Textile, Garment, and Related Materials",8.0399999999999991,8.82,10.29,12.24,14.07]
["51-6031","Sewing Machine Operators",9.2100000000000009,10.49,12.4,15.95,19.86]
["51-6041","Shoe and Leather Workers and Repairers",9.65,10.6,12.19,16.02,21.32]
["51-6051","Sewers, Hand",9.5399999999999991,10.69,12.34,14.58,18.04]
["51-6052","Tailors, Dressmakers, and Custom Sewers",8.52,9.8800000000000008,12.06,14.47,17.8]
["51-6061","Textile Bleaching and Dyeing Machine Operators and Tenders",9.8000000000000007,11.09,13.7,17.04,18.98]
["51-6062","Textile Cutting Machine Setters, Operators, and Tenders",9.02,10.84,13.79,17.809999999999999,21.25]
["51-6063","Textile Knitting and Weaving Machine Setters, Operators, and Tenders",9.41,10.59,12.57,15.46,18.68]
["51-6064","Textile Winding, Twisting, and Drawing Out Machine Setters, Operators, and Tenders",9.92,11.21,12.96,14.61,16.510000000000002]
["51-6091","Extruding and Forming Machine Setters, Operators, and Tenders, Synthetic and Glass Fibers",11.82,13.67,16.82,21.79,24.84]
["51-6092","Fabric and Apparel Patternmakers",12.11,16.05,22.12,27.67,32.92]
["51-6093","Upholsterers",11.87,15.28,19.03,23.61,28.77]
["51-6099","Textile, Apparel, and Furnishings Workers, All Other",8.84,10.199999999999999,11.77,14.23,16.75]
["51-7011","Cabinetmakers and Bench Carpenters",9.48,11.32,14.24,18.04,22.21]
["51-7021","Furniture Finishers",10.76,12.56,14.85,17.5,19.309999999999999]
["51-7041","Sawing Machine Setters, Operators, and Tenders, Wood",10.119999999999999,12.03,14.21,17.170000000000002,20.81]
["51-7042","Woodworking Machine Setters, Operators, and Tenders, Except Sawing",10.039999999999999,11.78,14.03,17.149999999999999,21.03]
["51-7099","Woodworkers, All Other",10.51,11.96,14.36,21.34,25.44]
["51-8011","Nuclear Power Reactor Operators",38.6,42.36,47.53,55.15,61.41]
["51-8013","Power Plant Operators",19.510000000000002,26.34,37.729999999999997,44.07,47.55]
["51-8021","Stationary Engineers and Boiler Operators",16.96,19.27,24.57,30.15,36.19]
["51-8031","Water and Wastewater Treatment Plant and System Operators",13.93,16.32,19.55,23.83,28.45]
["51-8091","Chemical Plant and System Operators",15.44,17.84,21.43,28.29,35.619999999999997]
["51-8092","Gas Plant Operators",21.77,26.51,31.44,37.25,43.47]
["51-8093","Petroleum Pump System Operators, Refinery Operators, and Gaugers",20.64,23.24,30.52,38.93,44.84]
["51-8099","Plant and System Operators, All Other",18.66,23.08,27.63,32.68,42.8]
["51-9011","Chemical Equipment Operators and Tenders",14.71,18.2,22.55,27.59,31.47]
["51-9012","Separating, Filtering, Clarifying, Precipitating, and Still Machine Setters, Operators, and Tenders",14.41,17.39,21.92,28.3,35.25]
["51-9021","Crushing, Grinding, and Polishing Machine Setters, Operators, and Tenders",11.17,13.12,15.9,22.81,25.62]
["51-9022","Grinding and Polishing Workers, Hand",9.56,11,13.19,16.07,19.940000000000001]
["51-9023","Mixing and Blending Machine Setters, Operators, and Tenders",11.32,13.69,16.760000000000002,20.81,25.95]
["51-9031","Cutters and Trimmers, Hand",11.7,14.56,17.850000000000001,22.16,26.4]
["51-9032","Cutting and Slicing Machine Setters, Operators, and Tenders",12,13.82,16.78,20.309999999999999,23.9]
["51-9041","Extruding, Forming, Pressing, and Compacting Machine Setters, Operators, and Tenders",13.03,15.13,18.02,21.92,25.48]
["51-9051","Furnace, Kiln, Oven, Drier, and Kettle Operators and Tenders",12.49,16.440000000000001,21.12,24.85,28.54]
["51-9061","Inspectors, Testers, Sorters, Samplers, and Weighers",10.93,13.36,16.96,22.26,28.23]
["51-9071","Jewelers and Precious Stone and Metal Workers",8.94,12.5,18.309999999999999,25.72,30.24]
["51-9081","Dental Laboratory Technicians",10.55,15.21,20.89,27.46,31.59]
["51-9082","Medical Appliance Technicians",12.31,15.69,18.82,25.34,29.79]
["51-9083","Ophthalmic Laboratory Technicians",9.44,11.56,15.08,18.760000000000002,23.32]
["51-9111","Packaging and Filling Machine Operators and Tenders",9.66,10.99,13.77,18.149999999999999,23.39]
["51-9123","Painting, Coating, and Decorating Workers",11.34,13.1,15.26,19.79,23.43]
["51-9124","Coating, Painting, and Spraying Machine Setters, Operators, and Tenders",11.78,14.31,17.59,21.84,26.48]
["51-9141","Semiconductor Processing Technicians",12.96,14.06,16.13,20.8,26.75]
["51-9151","Photographic Process Workers and Processing Machine Operators",12.21,14.13,17.14,20.059999999999999,25.09]
["51-9161","Computer Numerically Controlled Tool Operators",13.3,15.39,18.52,22.49,26.88]
["51-9162","Computer Numerically Controlled Tool Programmers",15.72,19.079999999999998,24.83,28.84,32.409999999999997]
["51-9191","Adhesive Bonding Machine Operators and Tenders",9.98,11.57,13.96,17.14,22.72]
["51-9192","Cleaning, Washing, and Metal Pickling Equipment Operators and Tenders",8.81,12.36,15.13,17.86,19.59]
["51-9193","Cooling and Freezing Equipment Operators and Tenders",11.09,12.89,14.71,18.21,23.61]
["51-9194","Etchers and Engravers",10.4,12.41,14.01,15.46,17.5]
["51-9195","Molders, Shapers, and Casters, Except Metal and Plastic",10.47,12.6,15.07,19.32,27.42]
["51-9196","Paper Goods Machine Setters, Operators, and Tenders",12.2,14.83,18.989999999999998,22.95,27.87]
["51-9197","Tire Builders",11.34,13.85,18.68,23.16,26.8]
["51-9198","Helpers--Production Workers",9.2200000000000006,10.47,12.44,14.98,18.38]
["51-9199","Production Workers, All Other",9.5399999999999991,11.17,14.22,19.760000000000002,23.72]
["53-0000","Transportation and Material Moving Occupations",9.18,11.07,14.23,19.010000000000002,26.03]
["53-1041","Aircraft Cargo Handling Supervisors",16.899999999999999,21.49,27.77,36.450000000000003,44.14]
["53-1047","First-Line Supervisors of Transportation and Material Moving Workers, Except Aircraft Cargo Handling Supervisors",15.44,19.149999999999999,25.7,31.61,38.53]
["53-2011","Airline Pilots, Copilots, and Flight Engineers","*","*","*","*","*"]
["53-2012","Commercial Pilots","*","*","*","*","*"]
["53-2021","Air Traffic Controllers",33.049999999999997,38.31,48.41,66.98,77.09]
["53-2022","Airfield Operations Specialists",10.54,13.52,17.399999999999999,24.21,29.67]
["53-2031","Flight Attendants","*","*","*","*","*"]
["53-3011","Ambulance Drivers and Attendants, Except Emergency Medical Technicians",9.69,10.67,13.21,16.48,18.13]
["53-3031","Driver/Sales Workers",7.95,8.51,9.4600000000000009,17.22,23.61]
["53-3032","Heavy and Tractor-Trailer Truck Drivers",13.48,16.850000000000001,20.88,26.08,31.24]
["53-3033","Light Truck Drivers",9.32,11.37,15.04,19.37,27.95]
["53-3052","Bus Drivers, Transit and Intercity",10.38,12.27,15,18.86,23.06]
["53-3058","Passenger Vehicle Drivers, Except Bus Drivers, Transit and Intercity",9.48,11.51,13.54,15.32,17.989999999999998]
["53-3099","Motor Vehicle Operators, All Other",8.43,9.26,11.23,20.84,26.53]
["53-4011","Locomotive Engineers",24.9,26.03,27.92,29.8,30.94]
["53-4013","Rail Yard Engineers, Dinkey Operators, and Hostlers",15.7,16.54,17.95,20,28.19]
["53-4022","Railroad Brake, Signal, and Switch Operators and Locomotive Firers",13.23,16.54,26.66,31.42,36.15]
["53-4031","Railroad Conductors and Yardmasters",19.62,23.93,27.64,30.66,36.270000000000003]
["53-5011","Sailors and Marine Oilers",13.55,15.76,18.37,18.440000000000001,19.86]
["53-5021","Captains, Mates, and Pilots of Water Vessels",8.76,13.63,22.36,32.79,58.52]
["53-5031","Ship Engineers",19.89,23.57,23.58,26.23,30.46]
["53-6011","Bridge and Lock Tenders",10.79,12.22,18.37,24.74,28.63]
["53-6021","Parking Attendants",8.2799999999999994,9.27,11.17,13.39,15.35]
["53-6031","Automotive and Watercraft Service Attendants",8.56,9.8699999999999992,11.58,14.37,19.28]
["53-6041","Traffic Technicians",13.91,16.09,18.329999999999998,22.43,28.45]
["53-6051","Transportation Inspectors",13.75,26.41,37.81,48.07,57.84]
["53-6061","Passenger Attendants",8.3000000000000007,9,10.17,13.3,21.8]
["53-6098","Aircraft Service Attendants and Transportation Workers, All Other",8.77,10.47,12.38,14.99,19.36]
["53-7011","Conveyor Operators and Tenders",9.66,11.9,13.73,16.86,21.73]
["53-7021","Crane and Tower Operators",14.04,17.78,23.55,28.86,34.520000000000003]
["53-7051","Industrial Truck and Tractor Operators",11.86,13.64,16.420000000000002,19.68,23.53]
["53-7061","Cleaners of Vehicles and Equipment",8.26,9.26,10.95,12.87,15.79]
["53-7062","Laborers and Freight, Stock, and Material Movers, Hand",9.4700000000000006,10.94,13.09,15.72,19.260000000000002]
["53-7063","Machine Feeders and Offbearers",9.4,10.74,12.81,15.03,18.86]
["53-7064","Packers and Packagers, Hand",8.43,9.5,11.3,13.86,16.64]
["53-7065","Stockers and Order Fillers",9.25,10.54,12.51,15.51,19.02]
["53-7081","Refuse and Recyclable Material Collectors",8.89,11.43,14.72,17.91,20.76]
["53-7199","Material Moving Workers, All Other",10.119999999999999,11.12,12.77,15.17,21.94]

{"sheet":"Freight_Cargo","index":5,"n_rows":38,"n_cols":83,"rows_kept":38,"cut":false,"hidden":false,"merged":[[1,5,1,10],[2,7,3,7],[2,8,3,8],[2,6,3,6],[1,0,3,0],[1,1,1,4],[2,11,3,11],[2,4,3,4],[2,82,3,82],[2,1,2,3],[2,10,3,10],[2,9,3,9],[2,74,2,81],[2,5,3,5]]}
["Custom Commodity Mix Table"]
["Waybill Classification","Benchmark Values",null,null,null,"Input Values",null,null,null,null,null,"Output Value"]
[null,"Freight Cargo Value Per Ton",null,null,"Recommended Commodity Mix","Cargo Value Per Ton Selection","Cargo Value ","Custom Cargo Value ","Custom Mix Selection","Custom Mix Selection","Custom Value (Percentage)","Mix Value",null,null,null,null,null,null,null,null,null,null,null,null,null,null,null,null,null,null,null,null,null,null,null,null,null,null,null,null,null,null,null,null,null,null,null,null,null,null,null,null,null,null,null,null,null,null,null,null,null,null,null,null,null,null,null,null,null,null,null,null,null,null,"Annual Tonnage Transported by Class I Line",null,null,null,null,null,null,null,"Value Subject ot Mix"]
[null,"Low","High","Recommended",null,null,null,null,null,null,null,null,null,null,null,null,null,null,null,null,null,null,null,null,null,null,null,null,null,null,null,null,null,null,null,null,null,null,null,null,null,null,null,null,null,null,null,null,null,null,null,null,null,null,null,null,null,null,null,null,null,null,null,null,null,null,null,null,null,null,null,null,null,null,"NS H Line Tons","NS Main Line Tons","CSX A Line Tons","Aggregate Tons","NS H Value","NS Main Value","CSX A Value","Aggregate Value"]
["01:Farm Products",{"$f":"MIN(IF('Lookup Tables'!M368:V368<>0,'Lookup Tables'!M368:V368))","v":293.58112294736748},{"$f":"MAX('Lookup Tables'!M368:V368)","v":13446.866363995263},{"$f":"AVERAGE((MIN('Lookup Tables'!M368:V368)),AVERAGE('Lookup Tables'!M368:V368))","v":2585.2624132603037},{"$f":"BZ5/$BZ$37","v":0.11429453316256599},"Recommended",{"$f":"IF(F5=$BS$6,D5,IF(F5=$BS$7,B5,IF(F5=$BS$8,C5,IF(F5=$BS$9,\"Add Value\",\"--\"))))","v":2585.2624132603037},null,"Default",{"$f":"IF(I5=$BR$6,E5,IF(I5=$BR$7,\"Add Value\",\"--\"))","v":0.11429453316256599},null,{"$f":"IF(ISNUMBER(J5),(J5*G5),IF(J5=\"Add Value\",(K5*G5),\"--\"))","v":295.48136062631517},null,null,null,null,null,null,null,null,null,null,null,null,null,null,null,null,null,null,null,null,null,null,null,null,null,null,null,null,null,null,null,null,null,null,null,null,null,null,null,null,null,null,null,null,null,null,null,null,null,null,null,null,null,null,null,null,null,"List","List 2",null,null,null,313672,1167042,2832075,{"$f":"SUM(BW5:BY5)","v":4312789},{"$f":"D5*BW5","v":810924431.692186},{"$f":"D5*BX5","v":3017109817.2961311},{"$f":"D5*BY5","v":7321657049.0341749},{"$f":"D5*BZ5","v":11149691298.022491},{"$f":"E5*$CD$37","v":8204853651.5238037}]
["08:Forest Products",{"$f":"MIN(IF('Lookup Tables'!M369:V369<>0,'Lookup Tables'!M369:V369))","v":890.38362377708859},{"$f":"MAX('Lookup Tables'!M369:V369)","v":3403.2489017772541},{"$f":"AVERAGE((MIN('Lookup Tables'!M369:V369)),AVERAGE('Lookup Tables'!M369:V369))","v":1518.59994327713},1.0600521672872565E-5,"Recommended",1518.59994327713,null,"Default",{"$f":"IF(I6=$BR$6,E6,IF(I6=$BR$7,\"Add Value\",\"--\"))","v":1.0600521672872565E-5},null,{"$f":"IF(ISNUMBER(J6),(J6*G6),IF(J6=\"Add Value\",(K6*G6),\"--\"))","v":1.6097951611132266E-2},null,null,null,null,null,null,null,null,null,null,null,null,null,null,null,null,null,null,null,null,null,null,null,null,null,null,null,null,null,null,null,null,null,null,null,null,null,null,null,null,null,null,null,null,null,null,null,null,null,null,null,null,null,null,null,null,null,"Default","Recommended",null,null,null,0,400,0,400,0,607439.97731085203,0,607439.97731085203,760978.90729398571]
["10:Metallic Ores",{"$f":"MIN(IF('Lookup Tables'!M370:V370<>0,'Lookup Tables'!M370:V370))","v":414.84651983254446},{"$f":"MAX('Lookup Tables'!M370:V370)","v":414.84651983254446},{"$f":"AVERAGE((MIN('Lookup Tables'!M370:V370)),AVERAGE('Lookup Tables'!M370:V370))","v":414.84651983254446},2.3098536725189322E-3,"Recommended",414.84651983254446,null,"Default",2.3098536725189322E-3,null,0.95823475736690089,null,null,null,null,null,null,null,null,null,null,null,null,null,null,null,null,null,null,null,null,null,null,null,null,null,null,null,null,null,null,null,null,null,null,null,null,null,null,null,null,null,null,null,null,null,null,null,null,null,null,null,null,null,null,null,null,null,"Custom","Low",null,null,null,0,32040,55120,87160,0,13291682.495434724,22866340.173169851,36158022.668604575,165817303.89935952]
["11:Coal",{"$f":"MIN(IF('Lookup Tables'!M371:V371<>0,'Lookup Tables'!M371:V371))","v":40.461281179221317},{"$f":"MAX('Lookup Tables'!M371:V371)","v":40.461281179221317},{"$f":"AVERAGE((MIN('Lookup Tables'!M371:V371)),AVERAGE('Lookup Tables'!M371:V371))","v":40.461281179221317},0.10828827758271641,"Recommended",40.461281179221317,null,"Default",0.10828827758271641,null,4.3814824476878567,null,null,null,null,null,null,null,null,null,null,null,null,null,null,null,null,null,null,null,null,null,null,null,null,null,null,null,null,null,null,null,null,null,null,null,null,null,null,null,null,null,null,null,null,null,null,null,null,null,null,null,null,null,null,null,null,null,null,"High",null,null,null,0,2145703,1940446,4086149,0,86817892.410098717,78512931.21909529,165330823.62919399,7773683002.6510315]
["14:Nonmetallic Minerals; except Fuels",{"$f":"MIN(IF('Lookup Tables'!M372:V372<>0,'Lookup Tables'!M372:V372))","v":11.755822970459487},{"$f":"MAX('Lookup Tables'!M372:V372)","v":1254.9288291785547},{"$f":"AVERAGE((MIN('Lookup Tables'!M372:V372)),AVERAGE('Lookup Tables'!M372:V372))","v":220.32562108619231},2.1058307321419903E-2,"Recommended",220.32562108619231,null,"Default",2.1058307321419903E-2,null,4.6396846396157505,null,null,null,null,null,null,null,null,null,null,null,null,null,null,null,null,null,null,null,null,null,null,null,null,null,null,null,null,null,null,null,null,null,null,null,null,null,null,null,null,null,null,null,null,null,null,null,null,null,null,null,null,null,null,null,null,null,null,"Custom",null,null,null,134280,139680,520654,794614,29585324.399453904,30775082.753319342,114713415.92101038,175073823.07378361,1511711233.601258]
["19:Ordnance or Accessories",{"$f":"MIN(IF('Lookup Tables'!M373:V373<>0,'Lookup Tables'!M373:V373))","v":7384.9224264216273},{"$f":"MAX('Lookup Tables'!M373:V373)","v":7384.9224264216273},{"$f":"AVERAGE((MIN('Lookup Tables'!M373:V373)),AVERAGE('Lookup Tables'!M373:V373))","v":7384.9224264216273},2.1201043345745131E-5,"Recommended",7384.9224264216273,null,"Default",2.1201043345745131E-5,null,0.15656806046753022,null,null,null,null,null,null,null,null,null,null,null,null,null,null,null,null,null,null,null,null,null,null,null,null,null,null,null,null,null,null,null,null,null,null,null,null,null,null,null,null,null,null,null,null,null,null,null,null,null,null,null,null,null,null,null,null,null,null,null,null,null,null,0,0,800,800,0,0,5907937.9411373017,5907937.9411373017,1521957.8145879714]
["20:Food or Kindred Products",{"$f":"MIN(IF('Lookup Tables'!M374:V374<>0,'Lookup Tables'!M374:V374))","v":560.78897951144393},{"$f":"MAX('Lookup Tables'!M374:V374)","v":3676.0224847687391},{"$f":"AVERAGE((MIN('Lookup Tables'!M374:V374)),AVERAGE('Lookup Tables'!M374:V374))","v":1067.7566912630368},9.8834414339198456E-2,"Recommended",1067.7566912630368,null,"Default",9.8834414339198456E-2,null,105.53110723774259,null,null,null,null,null,null,null,null,null,null,null,null,null,null,null,null,null,null,null,null,null,null,null,null,null,null,null,null,null,null,null,null,null,null,null,null,null,null,null,null,null,null,null,null,null,null,null,null,null,null,null,null,null,null,null,null,null,null,null,null,null,null,398882,1059584,2270951,3729417,425908924.52438265,1131377905.9552536,2424823125.7804847,3982109956.2601209,7095019183.7590361]
["22:Textile Mill Products",{"$f":"MIN(IF('Lookup Tables'!M375:V375<>0,'Lookup Tables'!M375:V375))","v":217.48371288221017},{"$f":"MAX('Lookup Tables'!M375:V375)","v":13446.866363995263},{"$f":"AVERAGE((MIN('Lookup Tables'!M375:V375)),AVERAGE('Lookup Tables'!M375:V375))","v":2346.5324504194809},5.459268661529371E-4,"Recommended",2346.5324504194809,null,"Default",5.459268661529371E-4,null,1.2810351069836794,null,null,null,null,null,null,null,null,null,null,null,null,null,null,null,null,null,null,null,null,null,null,null,null,null,null,null,null,null,null,null,null,null,null,null,null,null,null,null,null,null,null,null,null,null,null,null,null,null,null,null,null,null,null,null,null,null,null,null,null,null,null,400,17400,2800,20600,938612.98016779241,40829664.637298971,6570290.8611745462,48338568.478641309,39190413.725640267]
["23:Apparel, or Other Finished Textile Products or Knit Apparel",{"$f":"MIN(IF('Lookup Tables'!M376:V376<>0,'Lookup Tables'!M376:V376))","v":7384.9224264216273},{"$f":"MAX('Lookup Tables'!M376:V376)","v":13446.866363995263},{"$f":"AVERAGE((MIN('Lookup Tables'!M376:V376)),AVERAGE('Lookup Tables'!M376:V376))","v":8567.1093247064837},2.0762181748488207E-2,"Recommended",8567.1093247064837,null,"Default",2.0762181748488207E-2,null,177.87188085872407,null,null,null,null,null,null,null,null,null,null,null,null,null,null,null,null,null,null,null,null,null,null,null,null,null,null,null,null,null,null,null,null,null,null,null,null,null,null,null,null,null,null,null,null,null,null,null,null,null,null,null,null,null,null,null,null,null,null,null,null,null,null,4400,501840,277200,783440,37695281.028708525,4299318143.5107021,2374802704.8086371,6711816129.3480473,1490453287.8260005]
["24:Lumber or Wood Products; except Furniture - see Major Industry Group 25",{"$f":"MIN(IF('Lookup Tables'!M377:V377<>0,'Lookup Tables'!M377:V377))","v":123.58331507316242},{"$f":"MAX('Lookup Tables'!M377:V377)","v":402.50169803248752},{"$f":"AVERAGE((MIN('Lookup Tables'!M377:V377)),AVERAGE('Lookup Tables'!M377:V377))","v":170.06971223304993},5.14042617065271E-2,"Recommended",170.06971223304993,null,"Default",5.14042617065271E-2,null,8.7423079959814523,null,null,null,null,null,null,null,null,null,null,null,null,null,null,null,null,null,null,null,null,null,null,null,null,null,null,null,null,null,null,null,null,null,null,null,null,null,null,null,null,null,null,null,null,null,null,null,null,null,null,null,null,null,null,null,null,null,null,null,null,null,null,41240,912744,985704,1939688,7013674.9324909793,155230109.42244291,167638395.62696624,329882179.98190016,3690154136.8281417]
["25:Furniture or Fixtures",{"$f":"MIN(IF('Lookup Tables'!M378:V378<>0,'Lookup Tables'!M378:V378))","v":3698.9788235733695},{"$f":"MAX('Lookup Tables'!M378:V378)","v":52329.655361851743},{"$f":"AVERAGE((MIN('Lookup Tables'!M378:V378)),AVERAGE('Lookup Tables'!M378:V378))","v":10785.867196708483},2.2589711684891439E-3,"Recommended",10785.867196708483,null,"Default",2.2589711684891439E-3,null,24.364963024517287,null,null,null,null,null,null,null,null,null,null,null,null,null,null,null,null,null,null,null,null,null,null,null,null,null,null,null,null,null,null,null,null,null,null,null,null,null,null,null,null,null,null,null,null,null,null,null,null,null,null,null,null,null,null,null,null,null,null,null,null,null,null,0,65240,20000,85240,0,703669975.91326141,215717343.93416965,919387319.84743106,162164605.14434838]
["26:Pulp, Paper or Allied Products",{"$f":"MIN(IF('Lookup Tables'!M379:V379<>0,'Lookup Tables'!M379:V379))","v":566.84185513787031},{"$f":"MAX('Lookup Tables'!M379:V379)","v":1654.6197178534389},{"$f":"AVERAGE((MIN('Lookup Tables'!M379:V379)),AVERAGE('Lookup Tables'!M379:V379))","v":803.87755976491485},7.1268897284973182E-2,"Recommended",803.87755976491485,null,"Default",7.1268897284973182E-2,null,57.291467236580608,null,null,null,null,null,null,null,null,null,null,null,null,null,null,null,null,null,null,null,null,null,null,null,null,null,null,null,null,null,null,null,null,null,null,null,null,null,null,null,null,null,null,null,null,null,null,null,null,null,null,null,null,null,null,null,null,null,null,null,null,null,null,10640,1377080,1301540,2689260,8553257.235898694,1107003710.0010688,1046278799.1364273,2161835766.373395,5116175340.5735598]
["27:Printed Matter",{"$f":"MIN(IF('Lookup Tables'!M380:V380<>0,'Lookup Tables'!M380:V380))","v":4265.8280942800966},{"$f":"MAX('Lookup Tables'!M380:V380)","v":4265.8280942800966},{"$f":"AVERAGE((MIN('Lookup Tables'!M380:V380)),AVERAGE('Lookup Tables'!M380:V380))","v":4265.8280942800966},1.2614620790718352E-4,"Recommended",4265.8280942800966,null,"Default",1.2614620790718352E-4,null,0.53811803767736155,null,null,null,null,null,null,null,null,null,null,null,null,null,null,null,null,null,null,null,null,null,null,null,null,null,null,null,null,null,null,null,null,null,null,null,null,null,null,null,null,null,null,null,null,null,null,null,null,null,null,null,null,null,null,null,null,null,null,null,null,null,null,0,4760,0,4760,0,20305341.728773259,0,20305341.728773259,9055648.9967984296]
["28:Chemicals or Allied Products",{"$f":"MIN(IF('Lookup Tables'!M381:V381<>0,'Lookup Tables'!M381:V381))","v":217.48371288221017},{"$f":"MAX('Lookup Tables'!M381:V381)","v":3161.542104300569},{"$f":"AVERAGE((MIN('Lookup Tables'!M381:V381)),AVERAGE('Lookup Tables'!M381:V381))","v":704.59209568719461},9.0797390321172483E-2,"Recommended",704.59209568719461,null,"Default",9.0797390321172483E-2,null,63.97512352932312,null,null,null,null,null,null,null,null,null,null,null,null,null,null,null,null,null,null,null,null,null,null,null,null,null,null,null,null,null,null,null,null,null,null,null,null,null,null,null,null,null,null,null,null,null,null,null,null,null,null,null,null,null,null,null,null,null,null,null,null,null,null,82828,1547724,1795596,3426148,58359954.101578958,1090514096.7053676,1265162748.6475439,2414036799.4544907,6518065903.1686869]
["29:Petroleum or Coal Products",{"$f":"MIN(IF('Lookup Tables'!M382:V382<>0,'Lookup Tables'!M382:V382))","v":40.461281179221317},{"$f":"MAX('Lookup Tables'!M382:V382)","v":3161.542104300569},{"$f":"AVERAGE((MIN('Lookup Tables'!M382:V382)),AVERAGE('Lookup Tables'!M382:V382))","v":515.3304807535078},5.6506080777247213E-3,"Recommended",515.3304807535078,null,"Default",5.6506080777247213E-3,null,2.9119305772435351,null,null,null,null,null,null,null,null,null,null,null,null,null,null,null,null,null,null,null,null,null,null,null,null,null,null,null,null,null,null,null,null,null,null,null,null,null,null,null,null,null,null,null,null,null,null,null,null,null,null,null,null,null,null,null,null,null,null,null,null,null,null,3040,97040,113140,213220,1566604.6614906637,50007669.852320395,58304490.59245187,109878765.10626294,405639806.53305912]
["30:Rubber or Miscellaneous Plastics Products",{"$f":"MIN(IF('Lookup Tables'!M383:V383<>0,'Lookup Tables'!M383:V383))","v":3403.2489017772541},{"$f":"MAX('Lookup Tables'!M383:V383)","v":13446.866363995263},{"$f":"AVERAGE((MIN('Lookup Tables'!M383:V383)),AVERAGE('Lookup Tables'!M383:V383))","v":5912.6603082769016},8.5344799988297023E-3,"Recommended",5912.6603082769016,null,"Default",8.5344799988297023E-3,null,50.461481140863476,null,null,null,null,null,null,null,null,null,null,null,null,null,null,null,null,null,null,null,null,null,null,null,null,null,null,null,null,null,null,null,null,null,null,null,null,null,null,null,null,null,null,null,null,null,null,null,null,null,null,null,null,null,null,null,null,null,null,null,null,null,null,2640,214600,104800,322040,15609423.21385102,1268856902.1562231,619646800.3074193,1904113125.6774933,612664118.26238787]
["31:Leather or Leather Products",{"$f":"MIN(IF('Lookup Tables'!M384:V384<>0,'Lookup Tables'!M384:V384))","v":3403.2489017772541},{"$f":"MAX('Lookup Tables'!M384:V384)","v":13446.866363995263},{"$f":"AVERAGE((MIN('Lookup Tables'!M384:V384)),AVERAGE('Lookup Tables'!M384:V384))","v":5914.1532673317561},3.4981721520479467E-4,"Recommended",5914.1532673317561,null,"Default",3.4981721520479467E-4,null,2.0688726262723325,null,null,null,null,null,null,null,null,null,null,null,null,null,null,null,null,null,null,null,null,null,null,null,null,null,null,null,null,null,null,null,null,null,null,null,null,null,null,null,null,null,null,null,null,null,null,null,null,null,null,null,null,null,null,null,null,null,null,null,null,null,null,0,13200,0,13200,0,78066823.128779173,0,78066823.128779173,25112303.940701529]
["32:Clay, Concrete, Glass or Stone Products",{"$f":"MIN(IF('Lookup Tables'!M385:V385<>0,'Lookup Tables'!M385:V385))","v":217.48371288221017},{"$f":"MAX('Lookup Tables'!M385:V385)","v":22296.523534441407},{"$f":"AVERAGE((MIN('Lookup Tables'!M385:V385)),AVERAGE('Lookup Tables'!M385:V385))","v":5263.7597107545625},5.4678073817368701E-2,"Recommended",5263.7597107545625,null,"Default",5.4678073817368701E-2,null,287.8122420215293,null,null,null,null,null,null,null,null,null,null,null,null,null,null,null,null,null,null,null,null,null,null,null,null,null,null,null,null,null,null,null,null,null,null,null,null,null,null,null,null,null,null,null,null,null,null,null,null,null,null,null,null,null,null,null,null,null,null,null,null,null,null,334680,789168,939374,2063222,1761675099.995337,4153990723.4167566,4944639014.5303564,10860304837.94245,3925171057.6622796]
["33:Primary Metal Products, including Galvanized; except Coating or other Allied Processing - see Major Industry Group 34",{"$f":"MIN(IF('Lookup Tables'!M386:V386<>0,'Lookup Tables'!M386:V386))","v":1712.8545401763815},{"$f":"MAX('Lookup Tables'!M386:V386)","v":3698.9788235733695},{"$f":"AVERAGE((MIN('Lookup Tables'!M386:V386)),AVERAGE('Lookup Tables'!M386:V386))","v":2209.3856110256284},2.9761812638323556E-2,"Recommended",2209.3856110256284,null,"Default",2.9761812638323556E-2,null,65.755320601152761,null,null,null,null,null,null,null,null,null,null,null,null,null,null,null,null,null,null,null,null,null,null,null,null,null,null,null,null,null,null,null,null,null,null,null,null,null,null,null,null,null,null,null,null,null,null,null,null,null,null,null,null,null,null,null,null,null,null,null,null,null,null,3800,548796,570436,1123032,8395665.3218973875,1212501985.7884207,1260313090.4110153,2481210741.5213337,2136509160.5404484]
["34:Fabricated Metal Products; except Ordnance - see Major Industry Groups 19, 35, 36, or 37",{"$f":"MIN(IF('Lookup Tables'!M387:V387<>0,'Lookup Tables'!M387:V387))","v":3698.9788235733695},{"$f":"MAX('Lookup Tables'!M387:V387)","v":3698.9788235733695},{"$f":"AVERAGE((MIN('Lookup Tables'!M387:V387)),AVERAGE('Lookup Tables'!M387:V387))","v":3698.9788235733695},1.1671174361832695E-3,"Recommended",3698.9788235733695,null,"Default",1.1671174361832695E-3,null,4.3171426810651576,null,null,null,null,null,null,null,null,null,null,null,null,null,null,null,null,null,null,null,null,null,null,null,null,null,null,null,null,null,null,null,null,null,null,null,null,null,null,null,null,null,null,null,null,null,null,null,null,null,null,null,null,null,null,null,null,null,null,null,null,null,null,0,28040,16000,44040,0,103719366.21299729,59183661.177173913,162903027.3901712,83783777.693067834]
["35:Machinery; except Electrical - see Major Industry Group 36",{"$f":"MIN(IF('Lookup Tables'!M388:V388<>0,'Lookup Tables'!M388:V388))","v":217.48371288221017},{"$f":"MAX('Lookup Tables'!M388:V388)","v":52329.655361851743},{"$f":"AVERAGE((MIN('Lookup Tables'!M388:V388)),AVERAGE('Lookup Tables'!M388:V388))","v":8512.9625089154761},9.3496601154736026E-4,"Recommended",8512.9625089154761,null,"Default",9.3496601154736026E-4,null,7.9593306034129121,null,null,null,null,null,null,null,null,null,null,null,null,null,null,null,null,null,null,null,null,null,null,null,null,null,null,null,null,null,null,null,null,null,null,null,null,null,null,null,null,null,null,null,null,null,null,null,null,null,null,null,null,null,null,null,null,null,null,null,null,null,null,4040,26040,5200,35280,34392368.536018521,221677543.73215899,44267405.046360478,300337317.314538,67118339.623329535]
["36:Electrical Machinery, Equipment or Supplies",{"$f":"MIN(IF('Lookup Tables'!M389:V389<>0,'Lookup Tables'!M389:V389))","v":217.48371288221017},{"$f":"MAX('Lookup Tables'!M389:V389)","v":22296.523534441407},{"$f":"AVERAGE((MIN('Lookup Tables'!M389:V389)),AVERAGE('Lookup Tables'!M389:V389))","v":4533.4340172187822},3.5267935605647026E-3,"Recommended",4533.4340172187822,null,"Default",3.5267935605647026E-3,null,15.988485899172172,null,null,null,null,null,null,null,null,null,null,null,null,null,null,null,null,null,null,null,null,null,null,null,null,null,null,null,null,null,null,null,null,null,null,null,null,null,null,null,null,null,null,null,null,null,null,null,null,null,null,null,null,null,null,null,null,null,null,null,null,null,null,0,89480,43600,133080,0,405651675.86073661,197657723.15073889,603309399.01147556,253177682.45670906]
["37:Transportation Equipments",{"$f":"MIN(IF('Lookup Tables'!M390:V390<>0,'Lookup Tables'!M390:V390))","v":3698.9788235733695},{"$f":"MAX('Lookup Tables'!M390:V390)","v":52329.655361851743},{"$f":"AVERAGE((MIN('Lookup Tables'!M390:V390)),AVERAGE('Lookup Tables'!M390:V390))","v":10131.219792975835},7.7076393083456421E-3,"Recommended",10131.219792975835,null,"Default",7.7076393083456421E-3,null,78.087787917829942,null,null,null,null,null,null,null,null,null,null,null,null,null,null,null,null,null,null,null,null,null,null,null,null,null,null,null,null,null,null,null,null,null,null,null,null,null,null,null,null,null,null,null,null,null,null,null,null,null,null,null,null,null,null,null,null,null,null,null,null,null,null,0,191400,99440,290840,0,1939115468.3755748,1007448496.2135171,2946563964.5890918,553307763.49345708]
["38:Instruments, Photographic Goods, Optical Goods, Watches or Clocks",{"$f":"MIN(IF('Lookup Tables'!M391:V391<>0,'Lookup Tables'!M391:V391))","v":217.48371288221017},{"$f":"MAX('Lookup Tables'!M391:V391)","v":62632.15986394557},{"$f":"AVERAGE((MIN('Lookup Tables'!M391:V391)),AVERAGE('Lookup Tables'!M391:V391))","v":15665.855723559738},1.9080939011170619E-4,"Recommended",15665.855723559738,null,"Default",1.9080939011170619E-4,null,2.9891923761904153,null,null,null,null,null,null,null,null,null,null,null,null,null,null,null,null,null,null,null,null,null,null,null,null,null,null,null,null,null,null,null,null,null,null,null,null,null,null,null,null,null,null,null,null,null,null,null,null,null,null,null,null,null,null,null,null,null,null,null,null,null,null,0,4400,2800,7200,0,68929765.183662847,43864396.02596727,112794161.20963012,13697620.331291744]
["39:Miscellaneous Products of Manufacturing",{"$f":"MIN(IF('Lookup Tables'!M392:V392<>0,'Lookup Tables'!M392:V392))","v":890.38362377708859},{"$f":"MAX('Lookup Tables'!M392:V392)","v":13446.866363995263},{"$f":"AVERAGE((MIN('Lookup Tables'!M392:V392)),AVERAGE('Lookup Tables'!M392:V392))","v":3222.2235470977239},1.0356709674396497E-3,"Recommended",3222.2235470977239,null,"Default",1.0356709674396497E-3,null,3.3371633783295191,null,null,null,null,null,null,null,null,null,null,null,null,null,null,null,null,null,null,null,null,null,null,null,null,null,null,null,null,null,null,null,null,null,null,null,null,null,null,null,null,null,null,null,null,null,null,null,null,null,null,null,null,null,null,null,null,null,null,null,null,null,null,0,23080,16000,39080,0,74368919.46701546,51555576.753563583,125924496.22057904,74347639.242622405]
["40:Waste or Scrap Materials Not Identified by Producing Industry",{"$f":"MIN(IF('Lookup Tables'!M393:V393<>0,'Lookup Tables'!M393:V393))","v":402.50169803248752},{"$f":"MAX('Lookup Tables'!M393:V393)","v":402.50169803248752},{"$f":"AVERAGE((MIN('Lookup Tables'!M393:V393)),AVERAGE('Lookup Tables'!M393:V393))","v":402.50169803248752},1.9774001118143026E-2,"Recommended",402.50169803248752,null,"Default",1.9774001118143026E-2,null,7.9590690269488746,null,null,null,null,null,null,null,null,null,null,null,null,null,null,null,null,null,null,null,null,null,null,null,null,null,null,null,null,null,null,null,null,null,null,null,null,null,null,null,null,null,null,null,null,null,null,null,null,null,null,null,null,null,null,null,null,null,null,null,null,null,null,108456,405584,232112,746152,43653724.161811464,163248248.69480842,93425474.133716747,300327446.99033666,1419514834.0880551]
["41:Miscellaneous Freight Shipments",{"$f":"MIN(IF('Lookup Tables'!M394:V394<>0,'Lookup Tables'!M394:V394))","v":3403.2489017772541},{"$f":"MAX('Lookup Tables'!M394:V394)","v":62632.15986394557},{"$f":"AVERAGE((MIN('Lookup Tables'!M394:V394)),AVERAGE('Lookup Tables'!M394:V394))","v":8528.7344831501632},3.2308269954581005E-3,"Recommended",8528.7344831501632,null,"Default",3.2308269954581005E-3,null,27.554865605255937,null,null,null,null,null,null,null,null,null,null,null,null,null,null,null,null,null,null,null,null,null,null,null,null,null,null,null,null,null,null,null,null,null,null,null,null,null,null,null,null,null,null,null,null,null,null,null,null,null,null,null,null,null,null,null,null,null,null,null,null,null,null,40160,66320,15432,121912,342513976.84331053,565625670.92251885,131615430.54397331,1039755078.3098027,231931151.36506099]
["42:Containers, Carriers or Devices, Shipping, Returned Empty",0,0,0,3.0571904504564477E-3,"Recommended",0,null,"Default",3.0571904504564477E-3,null,0,null,null,null,null,null,null,null,null,null,null,null,null,null,null,null,null,null,null,null,null,null,null,null,null,null,null,null,null,null,null,null,null,null,null,null,null,null,null,null,null,null,null,null,null,null,null,null,null,null,null,null,null,null,null,null,null,null,null,null,null,null,null,15360,85120,14880,115360,0,0,0,0,219466316.86358547]
["46:Miscellaneous Mixed Shipments",{"$f":"MIN(IF('Lookup Tables'!M396:V396<>0,'Lookup Tables'!M396:V396))","v":217.48371288221017},{"$f":"MAX('Lookup Tables'!M396:V396)","v":13446.866363995263},{"$f":"AVERAGE((MIN('Lookup Tables'!M396:V396)),AVERAGE('Lookup Tables'!M396:V396))","v":3354.7730593739875},9.5338123779747444E-2,"Recommended",3354.7730593739875,null,"Default",9.5338123779747444E-2,null,319.83776918755922,null,null,null,null,null,null,null,null,null,null,null,null,null,null,null,null,null,null,null,null,null,null,null,null,null,null,null,null,null,null,null,null,null,null,null,null,null,null,null,null,null,null,null,null,null,null,null,null,null,null,null,null,null,null,null,null,null,null,null,null,null,null,0,2602680,994808,3597488,0,8731400746.1714897,3337355077.6497178,12068755823.821207,6844031218.1080656]
["47:Small Packaged Freight Shipments",{"$f":"MIN(IF('Lookup Tables'!M397:V397<>0,'Lookup Tables'!M397:V397))","v":4109.3358073903464},{"$f":"MAX('Lookup Tables'!M397:V397)","v":4109.3358073903464},{"$f":"AVERAGE((MIN('Lookup Tables'!M397:V397)),AVERAGE('Lookup Tables'!M397:V397))","v":4109.3358073903464},4.3674149292234968E-4,"Recommended",4109.3358073903464,null,"Default",4.3674149292234968E-4,null,1.7947174554389291,null,null,null,null,null,null,null,null,null,null,null,null,null,null,null,null,null,null,null,null,null,null,null,null,null,null,null,null,null,null,null,null,null,null,null,null,null,null,null,null,null,null,null,null,null,null,null,null,null,null,null,null,null,null,null,null,null,null,null,null,null,null,8240,8240,0,16480,33860927.052896455,33860927.052896455,0,67721854.10579291,31352330.980512213]
["48:Hazardous Wastes",{"$f":"MIN(IF('Lookup Tables'!M398:V398<>0,'Lookup Tables'!M398:V398))","v":402.50169803248752},{"$f":"MAX('Lookup Tables'!M398:V398)","v":402.50169803248752},{"$f":"AVERAGE((MIN('Lookup Tables'!M398:V398)),AVERAGE('Lookup Tables'!M398:V398))","v":402.50169803248752},4.9822451862501058E-4,"Recommended",402.50169803248752,null,"Default",4.9822451862501058E-4,null,0.20053621474798547,null,null,null,null,null,null,null,null,null,null,null,null,null,null,null,null,null,null,null,null,null,null,null,null,null,null,null,null,null,null,null,null,null,null,null,null,null,null,null,null,null,null,null,null,null,null,null,null,null,null,null,null,null,null,null,null,null,null,null,null,null,null,0,11360,7440,18800,0,4572419.2896490581,2994612.633361707,7567031.9230107656,35766008.642817333]
["49:Hazardous Materials",{"$f":"MIN(IF('Lookup Tables'!M399:V399<>0,'Lookup Tables'!M399:V399))","v":112.94599943454905},{"$f":"MAX('Lookup Tables'!M399:V399)","v":10987.647321487635},{"$f":"AVERAGE((MIN('Lookup Tables'!M399:V399)),AVERAGE('Lookup Tables'!M399:V399))","v":1527.2455999089982},0.18214614027585527,"Recommended",1527.2455999089982,null,"Default",0.18214614027585527,null,278.18189127670712,null,null,null,null,null,null,null,null,null,null,null,null,null,null,null,null,null,null,null,null,null,null,null,null,null,null,null,null,null,null,null,null,null,null,null,null,null,null,null,null,null,null,null,null,null,null,null,null,null,null,null,null,null,null,null,null,null,null,null,null,null,null,1282965,2917158,2672978,6873101,1959402651.0872478,4455216719.7393332,4082293889.153554,10496913259.980135,13075712221.753002]
["Total",null,null,null,1,null,null,null,null,{"$f":"SUM(J5:J36)","v":1.0000000000000002},null,null,null,null,null,null,null,null,null,null,null,null,null,null,null,null,null,null,null,null,null,null,null,null,null,null,null,null,null,null,null,null,null,null,null,null,null,null,null,null,null,null,null,null,null,null,null,null,null,null,null,null,null,null,null,null,null,null,null,null,null,null,null,null,{"$f":"SUM(BW5:BW36)","v":2789723},{"$f":"SUM(BX5:BX36)","v":17092943},17851326,37733992,{"$f":"SUM(CA5:CA36)","v":5580049901.7687283},{"$f":"SUM(CB5:CB36)","v":35227662437.851807},{"$f":"SUM(CC5:CC36)","v":30979216221.406872},{"$f":"ROUND(SUM(CD5:CD36),-4)","v":71786930000},{"$f":"SUM(CE5:CE36)","v":71786930000}]
["Freight Value per Ton",null,null,null,0,null,null,null,null,null,null,{"$f":"SUM(L5:L36)","v":1902.4472301003138},null,null,null,null,null,null,null,null,null,null,null,null,null,null,null,null,null,null,null,null,null,null,null,null,null,null,null,null,null,null,null,null,null,null,null,null,null,null,null,null,null,null,null,null,null,null,null,null,null,null,null,null,null,null,null,null,null,null,null,null,null,null,null,null,null,null,{"$f":"CA37/BW37","v":2000.2164737390517},{"$f":"CB37/BX37","v":2060.9477512358058},{"$f":"CC37/BY37","v":1735.4014049940531},{"$f":"CD37/BZ37","v":1902.4472682349644},{"$f":"CE37/$BZ$37","v":1902.4472682349644}]

{"sheet":"Lookup Tables","index":6,"n_rows":597,"n_cols":31,"rows_kept":597,"cut":false,"hidden":false,"merged":[[596,24,598,28],[1,0,2,21],[3,0,4,21],[76,0,76,22],[138,16,138,18],[329,12,329,21],[495,24,495,30],[496,24,496,30],[505,24,505,30],[493,0,493,30],[495,1,495,6],[496,1,496,6],[495,0,497,0],[580,24,580,29],[574,8,574,14],[572,8,572,14],[100,19,100,23],[105,25,105,27],[108,25,110,27],[100,25,100,27],[560,24,560,30],[561,24,561,30],[495,8,495,13],[496,8,496,13],[525,16,525,22],[130,11,132,13],[505,16,505,22],[506,16,506,22],[496,16,496,22],[495,16,495,22],[515,16,515,22],[516,16,516,22],[475,10,475,11],[525,24,525,30],[526,16,526,22],[526,24,526,30],[506,24,506,30],[515,24,515,30],[516,24,516,30],[115,25,115,27],[6,0,6,21],[189,7,192,8],[173,0,174,7],[79,5,79,14],[83,5,83,14],[53,0,54,3],[57,0,57,3],[71,0,71,3],[98,0,98,23],[10,0,10,9],[106,0,106,2],[31,0,31,11],[23,0,23,11],[39,0,39,3],[39,5,39,6],[130,19,130,22],[127,11,127,13],[116,0,116,5],[235,0,235,2],[273,0,273,2],[232,0,233,4],[216,3,223,3],[100,0,100,8],[128,0,128,9],[109,4,109,6],[106,4,106,6],[522,0,524,0],[522,1,522,6],[523,1,523,6],[504,8,504,13],[505,8,505,13],[513,8,513,13],[514,8,514,13],[522,8,522,13],[523,8,523,13],[504,0,506,0],[504,1,504,6],[505,1,505,6],[513,0,515,0],[513,1,513,6],[514,1,514,6],[570,24,570,30],[571,24,571,30],[538,24,538,30],[530,0,531,6],[568,8,570,13],[534,16,536,22],[534,24,536,30],[543,8,543,13],[551,8,551,13],[552,8,552,13],[560,8,560,13],[561,8,561,13],[540,24,540,30],[541,24,541,30],[550,24,550,30],[551,24,551,30],[533,8,533,13],[534,8,534,13],[542,8,542,13],[531,8,531,13]]}
[]
["Comprehensive Cost of Rail Incidents: Cost Tool"]
[]
["Lookup Tables"]
[]
[]
["Property Damage Tables (Rows 7-76)"]
[]
["Property Damage General Tables"]
[null,null,null,null,null,null,null,null,null,null,null,null,null,null,null,null,"Property Damage Inflation Table",null,null,"Percentile","Z"]
["Table 1: Expected Value of a Rail Collision in North Carolina",null,null,null,null,null,null,null,null,null,null,null,null,null,null,null,"Year","Multiplier",null,"10th",-1.282]
["Minimum","Percentile (10)","Percentile (25)","Mean","Median*","Mode","Percentile (75)","Percentile (90)","Maximum","No. of Observations",null,null,null,null,null,null,2022,1,null,"25th",-0.67500000000000004]
[{"$f":"DataExtract!P12*$R$14","v":3836.0806000000002},{"$f":"_xlfn.PERCENTILE.EXC(DataExtract!A3:A1127,0.1)*$R$14","v":14170.000000000002},{"$f":"_xlfn.PERCENTILE.EXC(DataExtract!A3:A1127,0.25)*$R$14","v":18928.940000000002},{"$f":"DataExtract!P3*$R$14","v":133109.3263006224},{"$f":"DataExtract!P5*$R$14","v":34792.800000000003},{"$f":"DataExtract!P6*$R$14","v":52335.826800000003},{"$f":"_xlfn.PERCENTILE.EXC(DataExtract!A3:A1127,0.75)*$R$14","v":87004.89},{"$f":"_xlfn.PERCENTILE.EXC(DataExtract!A3:A1127,0.9)*$R$14","v":241247.22570000001},{"$f":"DataExtract!P13*$R$14","v":8578018.0824000016},{"$f":"DataExtract!P15","v":1125},null,null,null,null,null,null,2021,1.07,null,"75th",0.67500000000000004]
[null,null,null,null,null,null,null,null,null,null,null,null,null,null,null,null,2020,1.0900000000000001,null,"90th",1.282]
["Property Damage Specific Characteristics Tables",null,null,null,null,null,null,null,null,null,null,null,null,null,null,null,2019,1.1200000000000001]
[null,null,null,null,null,null,null,null,null,null,null,null,null,null,null,null,2018,1.1299999999999999]
["Numeric Variable","Effect on Average Incident Cost","R2 value","Model P-value","Records Analyzed","Data Source",null,null,null,null,null,null,null,null,null,null,2017,1.1599999999999999]
["Train Car Releasing HAZMAT",332662,0.98637580821615423,7.3923181487022103E-6,97184,"FRA 6180.54 (1990-2019)",null,null,null,null,null,null,null,null,null,null,2016,1.19]
["Locomotive Unit Derailed",152630,0.71309291291552801,1.6825050405668202E-2,97203,"FRA 6180.54 (1990-2019)",null,null,null,null,null,null,null,null,null,null,2015,1.2]
["Loaded Freight Car Derailed",63020,0.9407684560192312,4.1024597441623796E-31,43413,"FRA 6180.54 (1990-2019)",null,null,null,null,null,null,null,null,null,null,2014,1.2]
["Empty Freight Car Derailed",30760,0.77944193595538469,1.0661513739555127E-11,27159,"FRA 6180.54 (1990-2019)",null,null,null,null,null,null,null,null,null,null,2013,1.22]
["Train Car Derailed (Not Specified)",54000,0.86455939439648821,8.6288053405352844E-24,97160,"FRA 6180.54 (1990-2019)",null,null,null,null,null,null,null,null,null,null,2012,1.24]
[null,null,null,null,null,null,null,null,null,null,null,null,null,null,null,null,2011,1.28]
["Table 1: Expected Values of Rail Incident Characteristic for When Type of Occurrence is Present",null,null,null,null,null,null,null,null,null,null,null,null,null,null,null,2010,1.3]
["Numeric Variable","Minimum","Percentile (10)","Percentile (25)","Mean","Median*","Mode","Percentile (75)","Percentile (90)","Maximum","No. of Observations","Source",null,null,null,null,2009,1.33]
["Train Car Releasing HAZMAT",{"$f":"MIN(DataExtract!$I$3:$I$850)","v":1},{"$f":"_xlfn.PERCENTILE.EXC(DataExtract!$I$3:$I$850,0.1)","v":1},{"$f":"_xlfn.PERCENTILE.EXC(DataExtract!$I$3:$I$850,0.25)","v":1},{"$f":"AVERAGE(DataExtract!$I$3:$I$850)","v":1.8974056603773586},{"$f":"MEDIAN(DataExtract!$I$3:$I$850)","v":1},{"$f":"MODE(DataExtract!$I$3:$I$850)","v":1},{"$f":"_xlfn.PERCENTILE.EXC(DataExtract!$I$3:$I$850,0.75)","v":2},{"$f":"_xlfn.PERCENTILE.EXC(DataExtract!$I$3:$I$850,0.9)","v":3},{"$f":"MAX(DataExtract!$I$3:$I$850)","v":32},{"$f":"COUNT(DataExtract!$I$3:$I$850)","v":848},"FRA 6180.54 (1990-2019), US Full Dataset",null,null,null,null,2008,1.33]
["Locomotive Unit Derailed",{"$f":"MIN(DataExtract!$J$3:$J$9266)","v":1},{"$f":"_xlfn.PERCENTILE.EXC(DataExtract!$J$3:$J$9266,0.1)","v":1},{"$f":"_xlfn.PERCENTILE.EXC(DataExtract!$J$3:$J$9266,0.25)","v":1},{"$f":"AVERAGE(DataExtract!$J$3:$J$9266)","v":1.5368091537132988},{"$f":"MEDIAN(DataExtract!$J$3:$J$9266)","v":1},{"$f":"MODE(DataExtract!$J$3:$J$9266)","v":1},{"$f":"_xlfn.PERCENTILE.EXC(DataExtract!$J$3:$J$9266,0.75)","v":2},{"$f":"_xlfn.PERCENTILE.EXC(DataExtract!$J$3:$J$9266,0.95)","v":3},{"$f":"MAX(DataExtract!$J$3:$J$9266)","v":10},{"$f":"COUNT(DataExtract!$J$3:$J$9266)","v":9264},"FRA 6180.54 (1990-2019), US Full Dataset",null,null,null,null,2007,1.39]
["Loaded Freight Car Derailed",{"$f":"MIN(DataExtract!$K$3:$K$43449)","v":1},{"$f":"_xlfn.PERCENTILE.EXC(DataExtract!$K$3:$K$43449,0.1)","v":1},{"$f":"_xlfn.PERCENTILE.EXC(DataExtract!$K$3:$K$43449,0.25)","v":1},{"$f":"AVERAGE(DataExtract!$K$3:$K$43449)","v":4.5810297603977261},{"$f":"MEDIAN(DataExtract!$K$3:$K$43449)","v":3},{"$f":"MODE(DataExtract!$K$3:$K$43449)","v":1},{"$f":"_xlfn.PERCENTILE.EXC(DataExtract!$K$3:$K$43449,0.75)","v":5},{"$f":"_xlfn.PERCENTILE.EXC(DataExtract!$K$3:$K$43449,0.9)","v":9},{"$f":"MAX(DataExtract!$K$3:$K$43449)","v":113},{"$f":"COUNT(DataExtract!$K$3:$K$43449)","v":43447},"FRA 6180.54 (1990-2019), US Full Dataset",null,null,null,null,2006,1.42]
["Empty Freight Car Derailed",{"$f":"MIN(DataExtract!$L$3:$L$27213)","v":1},{"$f":"_xlfn.PERCENTILE.EXC(DataExtract!$L$3:$L$27213,0.1)","v":1},{"$f":"_xlfn.PERCENTILE.EXC(DataExtract!$L$3:$L$27213,0.25)","v":1},{"$f":"AVERAGE(DataExtract!$L$3:$L$27213)","v":3.5276910073132188},{"$f":"MEDIAN(DataExtract!$L$3:$L$27213)","v":2},{"$f":"MODE(DataExtract!$L$3:$L$27213)","v":1},{"$f":"_xlfn.PERCENTILE.EXC(DataExtract!$L$3:$L$27213,0.75)","v":4},{"$f":"_xlfn.PERCENTILE.EXC(DataExtract!$L$3:$L$27213,0.9)","v":8},{"$f":"MAX(DataExtract!$L$3:$L$27213)","v":96},{"$f":"COUNT(DataExtract!$L$3:$L$27213)","v":27211},"FRA 6180.54 (1990-2019), US Full Dataset",null,null,null,null,2005,1.47]
["Train Car Derailed (Not Specified)",{"$f":"MIN(DataExtract!$M$3:$M$60550)","v":1},{"$f":"_xlfn.PERCENTILE.EXC(DataExtract!$L$3:$L$27213,0.1)","v":1},{"$f":"_xlfn.PERCENTILE.EXC(DataExtract!$L$3:$L$27213,0.25)","v":1},{"$f":"AVERAGE(DataExtract!$M$3:$M$60550)","v":4.9183292594305348},{"$f":"MEDIAN(DataExtract!$M$3:$M$60550)","v":3},{"$f":"MODE(DataExtract!$M$3:$M$60550)","v":1},{"$f":"_xlfn.PERCENTILE.EXC(DataExtract!$L$3:$L$27213,0.75)","v":4},{"$f":"_xlfn.PERCENTILE.EXC(DataExtract!$L$3:$L$27213,0.9)","v":8},{"$f":"MAX(DataExtract!$M$3:$M$60550)","v":122},{"$f":"COUNT(DataExtract!$M$3:$M$60550)","v":60548},"FRA 6180.54 (1990-2019), US Full Dataset",null,null,null,null,2004,1.52]
[null,null,null,null,null,null,null,null,null,null,null,null,null,null,null,null,2003,1.55]
["Table 2: Expected Values of Rail Incident Characteristic Per Any Given Rail Incident",null,null,null,null,null,null,null,null,null,null,null,null,null,null,null,2002,1.59]
["Numeric Variable","Minimum","Percentile (10)","Percentile (25)","Mean","Median*","Mode","Percentile (75)","Percentile (90)","Maximum","No. of Observations","Source",null,null,null,null,2001,1.61]
["Train Car Releasing HAZMAT",{"$f":"MIN(DataExtract!B2:B1127)","v":0},{"$f":"_xlfn.PERCENTILE.EXC(DataExtract!B2:B1127,0.1)","v":0},{"$f":"_xlfn.PERCENTILE.EXC(DataExtract!B2:B1127,0.25)","v":0},{"$f":"AVERAGE(DataExtract!B2:B1127)","v":2.2222222222222223E-2},{"$f":"MEDIAN(DataExtract!B2:B1127)","v":0},{"$f":"MODE(DataExtract!B2:B1127)","v":0},{"$f":"_xlfn.PERCENTILE.EXC(DataExtract!B2:B1127,0.75)","v":0},{"$f":"_xlfn.PERCENTILE.EXC(DataExtract!B2:B1127,0.9)","v":0},{"$f":"MAX(DataExtract!B2:B1127)","v":3},{"$f":"COUNT(DataExtract!B2:B1127)","v":1125},"FRA 6180.54 (1990-2019), NC Extract",null,null,null,null,2000,1.67]
["Locomotive Unit Derailed",{"$f":"MIN(DataExtract!C2:C1127)","v":0},{"$f":"_xlfn.PERCENTILE.EXC(DataExtract!C2:C1127,0.1)","v":0},{"$f":"_xlfn.PERCENTILE.EXC(DataExtract!C2:C1127,0.25)","v":0},{"$f":"AVERAGE(DataExtract!C2:C1127)","v":0.13066666666666665},{"$f":"MEDIAN(DataExtract!C2:C1127)","v":0},{"$f":"MODE(DataExtract!C2:C1127)","v":0},{"$f":"_xlfn.PERCENTILE.EXC(DataExtract!C2:C1127,0.75)","v":0},{"$f":"_xlfn.PERCENTILE.EXC(DataExtract!C2:C1127,0.9)","v":0},{"$f":"MAX(DataExtract!C2:C1127)","v":9},{"$f":"COUNT(DataExtract!C2:C1127)","v":1125},"FRA 6180.54 (1990-2019), NC Extract",null,null,null,null,1999,1.71]
["Loaded Freight Car Derailed",{"$f":"MIN(DataExtract!D2:D1127)","v":0},{"$f":"_xlfn.PERCENTILE.EXC(DataExtract!D2:D1127,0.1)","v":0},{"$f":"_xlfn.PERCENTILE.EXC(DataExtract!D2:D1127,0.25)","v":0},{"$f":"AVERAGE(DataExtract!D2:D1127)","v":1.8337777777777777},{"$f":"MEDIAN(DataExtract!D2:D1127)","v":0},{"$f":"MODE(DataExtract!D2:D1127)","v":0},{"$f":"_xlfn.PERCENTILE.EXC(DataExtract!D2:D1127,0.75)","v":2},{"$f":"_xlfn.PERCENTILE.EXC(DataExtract!D2:D1127,0.9)","v":6},{"$f":"MAX(DataExtract!D2:D1127)","v":39},{"$f":"COUNT(DataExtract!D2:D1127)","v":1125},"FRA 6180.54 (1990-2019), NC Extract",null,null,null,null,1998,1.74]
["Empty Freight Car Derailed",{"$f":"MIN(DataExtract!E2:E1127)","v":0},{"$f":"_xlfn.PERCENTILE.EXC(DataExtract!E2:E1127,0.1)","v":0},{"$f":"_xlfn.PERCENTILE.EXC(DataExtract!E2:E1127,0.25)","v":0},{"$f":"AVERAGE(DataExtract!E2:E1127)","v":1.1724444444444444},{"$f":"MEDIAN(DataExtract!E2:E1127)","v":0},{"$f":"MODE(DataExtract!E2:E1127)","v":0},{"$f":"_xlfn.PERCENTILE.EXC(DataExtract!E2:E1127,0.75)","v":1},{"$f":"_xlfn.PERCENTILE.EXC(DataExtract!E2:E1127,0.9)","v":3.3999999999999773},{"$f":"MAX(DataExtract!E2:E1127)","v":29},{"$f":"COUNT(DataExtract!E2:E1127)","v":1125},"FRA 6180.54 (1990-2019), NC Extract",null,null,null,null,1997,1.77]
["Train Car Derailed (Not Specified)",{"$f":"MIN(DataExtract!F2:F1127)","v":0},{"$f":"_xlfn.PERCENTILE.EXC(DataExtract!F2:F1127,0.1)","v":0},{"$f":"_xlfn.PERCENTILE.EXC(DataExtract!F2:F1127,0.25)","v":0},{"$f":"AVERAGE(DataExtract!F2:F1127)","v":3.0391111111111111},{"$f":"MEDIAN(DataExtract!F2:F1127)","v":1},{"$f":"MODE(DataExtract!F2:F1127)","v":0},{"$f":"_xlfn.PERCENTILE.EXC(DataExtract!F2:F1127,0.75)","v":4},{"$f":"_xlfn.PERCENTILE.EXC(DataExtract!F2:F1127,0.9)","v":8},{"$f":"MAX(DataExtract!F2:F1127)","v":42},{"$f":"COUNT(DataExtract!F2:F1127)","v":1125},"FRA 6180.54 (1990-2019), NC Extract",null,null,null,null,1996,1.82]
[null,null,null,null,null,null,null,null,null,null,null,null,null,null,null,null,1995,1.87]
["Table X: Incident Type Mutlipliers",null,null,null,null,"Table X: Average Damages Incurred by Incident Type",null,null,null,null,null,null,null,null,null,null,1994,1.92]
["Incident Type","Multiplier","No. of Observations","Source",null,"Average Damage Cost","Source"," ",null,null,null,null,null,null,null,null,1993,1.97]
["01. Derailment",{"$f":"F42/$F$54","v":1.0611008160316395},59008,"FRA 6180.54 (1990-2019), US Full Dataset"," ",{"$f":"157292.960593818*$R$14","v":171449.32704726161},"FRA 6180.54 (1990-2019), US Full Dataset"," ",null,null,null,null,null,null,null,null,1992,2.04]
["02. Head on collision",5.3503050965402474,640,"FRA 6180.54 (1990-2019), US Full Dataset"," ",{"$f":"793105.910390625*$R$14","v":864485.44232578133},"FRA 6180.54 (1990-2019), US Full Dataset"," ",null,null,null,null,null,null,null,null,1991,2.09]
["03. Rear end collision",3.0458690325202458,1171,"FRA 6180.54 (1990-2019), US Full Dataset"," ",{"$f":"451506.351204099*$R$14","v":492141.92281246796},"FRA 6180.54 (1990-2019), US Full Dataset"," ",null,null,null,null,null,null,null,null,1990,2.21]
["04. Side collision",0.8464180517334412,6643,"FRA 6180.54 (1990-2019), US Full Dataset"," ",{"$f":"125469.323221437*$R$14","v":136761.56231136635},"FRA 6180.54 (1990-2019), US Full Dataset"," ",null,null,null,null,null,null,null,null,1989,2.3199999999999998]
["05. Raking collision",0.67924616407455396,1982,"FRA 6180.54 (1990-2019), US Full Dataset"," ",{"$f":"100688.491145308*$R$14","v":109750.45534838573},"FRA 6180.54 (1990-2019), US Full Dataset"," ",null,null,null,null,null,null,null,null,1988,2.4300000000000002]
["06. Broken train collision",1.5313493854731328,198,"FRA 6180.54 (1990-2019), US Full Dataset"," ",{"$f":"227000.559141414*$R$14","v":247430.60946414128},"FRA 6180.54 (1990-2019), US Full Dataset"," ",null,null,null,null,null,null,null,null,1987,2.5299999999999998]
["07. Hwy-rail crossing",0.71520740779057235,6814,"FRA 6180.54 (1990-2019), US Full Dataset"," ",{"$f":"106019.229191371*$R$14","v":115560.95981859441},"FRA 6180.54 (1990-2019), US Full Dataset"," ",null,null,null,null,null,null,null,null,1986,2.57]
["08. RR grade crossing",8.1991557927988232,39,"FRA 6180.54 (1990-2019), US Full Dataset"," ",{"$f":"1215407.12205128*$R$14","v":1324793.7630358953},"FRA 6180.54 (1990-2019), US Full Dataset"," ",null,null,null,null,null,null,null,null,1985,2.66]
["09. Obstruction",0.59054077175027664,2571,"FRA 6180.54 (1990-2019), US Full Dataset"," ",{"$f":"87539.1903733956*$R$14","v":95417.717507001216},"FRA 6180.54 (1990-2019), US Full Dataset"," ",null,null,null,null,null,null,null,null,1984,2.76]
["10. Explosion-detonation",0.81364820591232179,22,"FRA 6180.54 (1990-2019), US Full Dataset"," ",{"$f":"120611.664090909*$R$14","v":131466.71385909081},"FRA 6180.54 (1990-2019), US Full Dataset"," ",null,null,null,null,null,null,null,null,1983,2.87]
["11. Fire/violent rupture",1.0635810232774554,976,"FRA 6180.54 (1990-2019), US Full Dataset"," ",{"$f":"157660.615706967*$R$14","v":171850.07112059402},"FRA 6180.54 (1990-2019), US Full Dataset"," ",null,null,null,null,null,null,null,null,1982,2.98]
["12. Other/Custom",0.41650162733194845,17150,"FRA 6180.54 (1990-2019), US Full Dataset"," ",{"$f":"61740.3860833821*$R$14","v":67297.020830886497},"FRA 6180.54 (1990-2019), US Full Dataset"," ",null,null,null,null,null,null,null,null,1981,3.23]
["*The Incident Type variable only accounts for 3 percent of variation in equipment damage. The Incident Type Multiplier is only applied to 3 percent of the total incident cost. ",null,null,null,null,{"$f":"148235.64190825*$R$14","v":161576.84967999251},"FRA 6180.54 (1990-2019), US Full Dataset"," ",null,null,null,null,null,null,null,null,1980,3.61]
[null,null,null,null,null,null,null,null,null,null,null,null,null,null,null,null,1979,4.12]
[null,null,null,null,null,null,null,null,null,null,null,null,null,null,null,null,1978,4.5]
[null,null,null,null,null,null,null,null,null,null,null,null,null,null,null,null,1977,4.8099999999999996]
["Table X: Incident Type Mutlipliers",null,null,null,null,null,null,null,null,null,null,null,null,null,null,null,1976,5.0599999999999996]
["Vehicle Type","Average Damage","No. of Observations","Source",null,null,null,null,null,null,null,null,null,null,null,null,1975,5.4]
["01. Auto",{"$f":"4016.37820896237*$R$14","v":4377.8522477689839},41797,"FRA 6180.54 (1990-2019), US Full Dataset"," ",null,null,null,null,null,null,null,null,null,null,null,1974,6.03]
["02. Truck",{"$f":"6591.20193115029*$R$14","v":7184.4101049538167},11910,"FRA 6180.54 (1990-2019), US Full Dataset"," ",null,null,null,null,null,null,null,null,null,null,null,1973,6.6]
["03. Truck-trailer",{"$f":"14952.5532105169*$R$14","v":16298.282999463423},11182,"FRA 6180.54 (1990-2019), US Full Dataset"," ",null,null,null,null,null,null,null,null,null,null,null,1972,6.84]
["04. Pick-up truck",{"$f":"5598.69244092539*$R$14","v":6102.5747606086752},8083,"FRA 6180.54 (1990-2019), US Full Dataset"," ",null,null,null,null,null,null,null,null,null,null,null,1971,7.06]
["05. Van",{"$f":"5245.27803145611*$R$14","v":5717.3530542871595},1971,"FRA 6180.54 (1990-2019), US Full Dataset"," ",null,null,null,null,null,null,null,null,null,null,null,1970,7.44]
["06. Bus",{"$f":"20057.0084745763*$R$14","v":21862.139237288171},118,"FRA 6180.54 (1990-2019), US Full Dataset"," ",null,null,null,null,null,null,null,null,null,null,null,"Databases, Tables & Calculators by Subject: CPI Inflation Calculator. Bureau of Labor Statistics. Available Online: https://www.bls.gov/data/inflation_calculator.htm"]
["07. School bus",{"$f":"8125*$R$14","v":8856.25},40,"FRA 6180.54 (1990-2019), US Full Dataset"," "]
["08. Motorcycle",{"$f":"3371.64566929134*$R$14","v":3675.0937795275609},254,"FRA 6180.54 (1990-2019), US Full Dataset"," "]
["09. Other motor vehicle",{"$f":"10185.2507349853*$R$14","v":11101.923301133978},2381,"FRA 6180.54 (1990-2019), US Full Dataset"," "]
["10. Other",{"$f":"7020.20581395349*$R$14","v":7652.0243372093046},1720,"FRA 6180.54 (1990-2019), US Full Dataset"," "]
["11. System Average",{"$f":"6406*$R$14","v":6982.5400000000009},79471,"FRA 6180.54 (1990-2019), US Full Dataset"," "]
[]
["Table X: Highway User HAZMAT Costs"]
["Highway User Released HAZMAT","Average Damage","No. of Observations","Source"]
["Yes",{"$f":"30207*$R$14","v":32925.630000000005},138,"FRA 6180.54 (1990-2019), US Full Dataset"," "]
[]
[]
["Casualty Tables (Rows 77-98)"]
[]
[]
["Casualty Charactertistics for a Rail Incident",null,null,null,null,"Table 2: Summary Statistics for No. of Injuries That Have Occurred During  Rail Events in North Carolina"]
["Step","Casualty Type","Fraction of VSL","Monetized Injury Cost in $2022",null,"Minimum","Percentile (10)","Percentile (25)","Mean","Median","Mode","Percentile (75)","Percentile (90)","Maximum","No. of Observations"]
["MAIS Scale",null,null,null,null,0,{"$f":"_xlfn.PERCENTILE.EXC(DataExtract!BR2:BR73,0.1)","v":1},{"$f":"_xlfn.PERCENTILE.EXC(DataExtract!BR2:BR73,0.25)","v":2},{"$f":"AVERAGE(DataExtract!BR2:BR73)","v":9.0416666666666661},{"$f":"MEDIAN(DataExtract!BR2:BR73)","v":4},{"$f":"MODE(DataExtract!BR2:BR73)","v":2},{"$f":"_xlfn.PERCENTILE.EXC(DataExtract!BR2:BR73,0.75)","v":8},{"$f":"_xlfn.PERCENTILE.EXC(DataExtract!BR2:BR73,0.9)","v":25.90000000000002},{"$f":"MAX(DataExtract!BR2:BR73)","v":87},1109]
["2.A","Fatality",1,10883000]
["2.B","Injury: Minor, MAIS Level 1",3.0000000000000001E-3,33000,null,"Table 3: Summary Statistics for No. of Fatalities That Have Occurred During  Rail Events in North Carolina"]
["2.C","Injury: Moderate, MAIS Level 2",4.7E-2,511000,null,"Minimum","Percentile (10)","Percentile (25)","Mean","Median*","Mode","Percentile (75)","Percentile (90)","Maximum","No. of Observations"]
["2.E","Injury: Serious, MAIS Level 3",0.105,1143000,null,0,{"$f":"_xlfn.PERCENTILE.EXC(DataExtract!BS2:BS36,0.1)","v":1},{"$f":"_xlfn.PERCENTILE.EXC(DataExtract!BS2:BS36,0.25)","v":1},{"$f":"AVERAGE(DataExtract!BS2:BS36)","v":2.1714285714285713},{"$f":"MEDIAN(DataExtract!BS2:BS36)","v":2},{"$f":"MODE(DataExtract!BS2:BS36)","v":2},{"$f":"_xlfn.PERCENTILE.EXC(DataExtract!BS2:BS36,0.75)","v":2},{"$f":"_xlfn.PERCENTILE.EXC(DataExtract!BS2:BS36,0.9)","v":4},{"$f":"MAX(DataExtract!BS2:BS36)","v":6},1109]
["2.F","Injury: Severe, MAIS Level 4",0.26600000000000001,2895000]
["2.G","Injury: Critical, MAIS Level 5",0.59299999999999997,6205000]
["KABCO Scale"]
["2.E","Injury (KABCO): O - No Injury",null,4000]
["2.F","Injury (KABCO): C - Possible Injury",null,84000]
["2.G","Injury (KABCO): B - Non-Incapacitating",null,165000]
["2.H","Injury (KABCO): A - Incapacitating",null,605000]
["2.I","Injury (KABCO): K - Killed",null,12644000]
["2.J","Injury KABCCO: U - Unknown if Injured",null,174000]
[]
[]
[null,null,null," "]
["Delay and Rerouting Tables (Rows 99-465)"]
[null,null,null," "]
["Passenger Train Occupancy*",null,null,null,null,null,null,null,null,null,null,null,null,null,null,null,null,null,null,"Bus Reroute Distances Between  Passenger Stations (CLT to XXX)",null,null,null,null,null,"Train Rerouting Distances Via Bus (minutes)"]
["Minimum","10th Percentile","25th Percentile","Median","Mode","75th Percentile","90th Percentile","Maximum","Count",null,null,null,null,null,null,null,null,null,null,"Station","State","Miles","HH:MM","Minutes",null,"min","recommended","max"]
[{"$f":"MIN(DataExtract!CD2:CD3101)+5","v":6},{"$f":"PERCENTILE($M$110:$M$126,0.1)+5","v":13.054355400696863},{"$f":"PERCENTILE($M$110:$M$126,0.25)+5","v":14.161527841693511},{"$f":"PERCENTILE($M$110:$M$126,0.5)+5","v":16.673239436619717},{"$f":"9+5","v":14},{"$f":"PERCENTILE($M$110:$M$126,0.75)+5","v":20.6875},{"$f":"PERCENTILE($M$110:$M$126,0.9)+5","v":25.201100833269628},{"$f":"MAX(DataExtract!CD2:CD3101)","v":275},3100,null,null,null,null,null,null,null,null,null,null,"New York (NYP)","NY",646,"09:49:00",{"$f":"W103*1440","v":589},null,{"$f":"X125","v":31.000000000000004},{"$f":"AVERAGE(X115:X125)","v":121.54545454545455},{"$f":"X103","v":589}]
["*Assumes a minimum of five crew members ",null,null,null,null,null,null,null,null,null,null,null,null,null,null,null,null,null,null,"Newark (NWK)","NJ",633,"09:30:00",{"$f":"W104*1440","v":570}]
["Source: Carolinian and Piedmont Ridership Data. October 2013. ",null,null,null,null,null,null,null,null,null,null,null,null,null,null,null,null,null,null,"Trenton (TRE)","NJ",565,"08:52:00",532]
[null,null,null,null,null,null,null,null,null,null,null,null,null,null,null,null,null,null,null,"Philadelphia (PHL)","PA",536,"08:28:00",508.00000000000006,null,"Net Additioanl Delay for Passengers with Bus Reroute (minutes)"]
["Cancellation and Rerouting Characteristics",null,null,null,"New Trip Planning Time (minutes)",null,null,null,null,null,null,null,null,null,null,null,null,null,null,"Wilmington (WIL)","DE",504,"07:55:00",475,null,"Low","Recommended","High"]
["Characteristic","Value","Unit of Measure",null,"Low","Recommended","High",null,null,null,null,null,null,null,null,null,null,null,null,"Baltimore (BAL)","MD",429,"06:43:00",403,null,15,30,60]
["Bus Max Capacity1",60,"passengers",null,15,45,60,null,null,"October","Sum of Passengers","Sum of Trips","Average Train Occupancy","Mode","Total Revenue","Revenue per Trip","Revenue per Pax (2013)","Revenue per Pax (2022$)",null,"Washington DC (WAS)","DC",398,"06:11:00",371.00000000000006,null,"*Based on estimate of 15 to 60 minutes for a bus to arrive at incident to take passengesr to their next location. It is estimated that the amount of time in transit is similar onboard a train or onboard a bus. "]
["Bus Operating Cost per Mile2",1.24,"per mile",null,"*Based on estimate of 15 to 60 minutes to plan alternate transportation accomodations. ",null,null,null,null,"Amtrak Route 66",19908,2173,{"$f":"K110/L110","v":9.1615278416935109},"x",874754.1799999997,{"$f":"(O110/L110)","v":402.55599631845359},{"$f":"P110/M110","v":43.939832228249934},{"$f":"Q110*$R$21*$R$14","v":58.431188897126766},null,"Alexandria (ALX)","VA",391,"06:01:00",361]
[null,null,null,null,null,null,null,null,null,"1 - Monday",3559,359,{"$f":"K111/L111","v":9.9136490250696383},null,193970.23000000004,{"$f":"(O111/L111)","v":540.30704735376059},{"$f":"P111/M111","v":54.501329025007038},72.47586733745436,null,"Quantico (QAN)","VA",367,"05:42:00",342]
[null,null,null,null,null,null,null,null,null,"2 - Tuesday",1806,246,7.3414634146341466,null,60955.76,247.78764227642276,33.751805094130674,44.88315041417497,null,"Fredericksburg (FBG)","VA",347,"05:13:00",313]
["1Source: \"Overview of Transit Vehicles. Colorado Department of Transportation. Online: https://www.codot.gov/programs/commuterchoices/assets/documents/trandir_transit.pdf",null,null,null,null,null,null,null,null,"3 - Wednesday",2448,287,8.5296167247386752,"x",81596.539999999964,284.30850174216016,33.33191993464051,44.324787129084953,null,"Richmond (RVR)","VA",290,"04:12:00",252.00000000000003,null,"VOT costs per minute",{"$f":"Injuries_WorkMissed!E109/60","v":0.32245833333333335}]
["2Source: \"Transportation Benefit Cost Analysis.\" Online: http://bca.transportationeconomics.org/parameters",null,null,null,null,null,null,null,null,"4 - Thursday",1993,280,7.1178571428571429,null,75884.949999999953,271.01767857142841,38.075740090316081,50.633119172102326,null,"Petersburg (PTB)","VA",266,"03:56:00",236,null,"Based on VOT for all occupations"]
[null,null,null,null,null,null,null,null,null,"5 - Friday",2679,300,8.93,"x",106560.19999999998,355.20066666666662,39.776110488988422,52.894271728256804,null,"Rocky Mount (RMT)","NC",223,"03:19:00",198.99999999999997]
[null,null,null,null,null,null,null,null,null,"6 - Saturday ",4144,355,11.673239436619719,null,209624.75000000003,590.49225352112683,50.585123069498074,67.268096657818546,null,"Wilson (WLN)","NC",216,"03:14:00",194,null,"Train Rerouting Distances Via Bus (miles)"]
["Freight Train Delay Associated with a Rail Incident (Time is Provided in Minutes)",null,null,null,null,null,null,null,null,"7 - Sunday",3279,346,9.4768786127167637,"x",146161.75000000003,422.43280346820819,44.575099115584024,59.275966803903636,null,"Selma (SSM)","NC",195,"02:58:00",178,null,"min","recommended","max"]
["Low Impact","Medium Impact","High Impact","Injury Event (NCHRP 755)","Fatality Event (NCHRP 755)","Very Rare High Impact (Homeland Security)",null,null,null,"Amtrak Route 67",16077,927,17.343042071197409,null,304581.47999999992,328.56686084142387,18.94516887479007,25.193285569695835,null,"Raleigh (RGH)","NC",163,"02:32:00",152,null,{"$f":"V125","v":24.8},{"$f":"AVERAGE(V115:V125)","v":129.94545454545454},{"$f":"V103","v":646}]
[{"$f":"AVERAGE(K499:K501)*1440","v":35.308333333333337},{"$f":"AVERAGE(K508:K510)*1440","v":42.927777777777777},{"$f":"AVERAGE(K517:K521)*1440","v":84.353333333333325},83,284,{"$f":"K526*1440","v":924.99999999999989},null,null,null,"1 - Monday",3110,127,24.488188976377952,null,65770.579999999987,517.87858267716524,21.148096463022505,28.122738676527327,null,"Cary (CYN)","NC",157,"02:26:00",146.00000000000003]
["Sources: Interviews with NC Public Safety Answering Points, NC Computer Aided Dispatch Records, Homeland Security, and NCHRP 755",null,null,null,null,null,null,null,null,"2 - Tuesday",1636,126,12.984126984126984,null,30730.269999999997,243.89103174603173,18.783783618581907,24.978675455990224,null,"Durham (DNC)","NC",139,"02:08:00",128]
["See First Reponder Costs Tables",null,null,null,null,null,null,null,null,"3 - Wednesday",1977,126,15.69047619047619,null,34998,277.76190476190476,17.702579666160851,23.540890440060704,null,"Burlington (BNC)","NC",108,"01:45:00",105]
[null,null,null,null,null,null,null,null,null,"4 - Thursday",1533,122,12.565573770491802,null,27361.829999999991,224.27729508196714,17.8485518590998,23.735004262230913,null,"Greensboro (GRO)","NC",89.1,"01:27:00",87]
[null,null,null,null,null,null,null,null,null,"5 - Friday",2008,128,15.6875,null,37178.420000000006,290.45640625000004,18.515149402390442,24.621445675298808,null,"High Point (HPT)","NC",74.599999999999994,"01:16:00",76]
[null,null,null,null,null,null,null,null,null,"6 - Saturday ",3350,136,24.632352941176471,null,64546.240000000005,474.60470588235296,19.267534328358209,25.621967149850747,null,"Salisbury (SAL)","NC",39.9,"00:41:00",41]
[null,null,null,null,null,null,null,null,null,"7 - Sunday",2463,162,15.203703703703704,null,43996.140000000007,271.58111111111117,17.862825822168091,23.75398577831913,null,"Kannapolis (KAN)","NC",24.8,"00:31:00",31.000000000000004]
[null,null,null,null,null,null,null,null,null,"Grand Total",35985,3100,11.608064516129032,null,null,{"$f":"AVERAGE(P110:P125)","v":358.9450305168865},30.922039588782777,41.120128245163336,null,"Charlotte (CLT)","NC","n/a","n/a","n/a"]
[null,null,null,null,null,null,null,null,null,"Source: Carolinian and Piedmont Ridership Data. October 2013. ",null,null,null,null,null,null,null,null,null,"Source: Google Maps"]
[null,null,null,null,null,null,null,null,null,null,null,"Travel Costs for Alternative Mode of Transport"]
["Upstream Delay Effects: Passenger Train Delay Associated with a Rail Incident on an Amtrak Line",null,null,null,null,null,null,null,null,null,null,"Low","Recommended","High"]
["Category","Count","Minimum","10th Percentile","25th Percentile","Median","Mode","75th Percentile","90th Percentile","Maximum",null,{"$f":"R126*1.25","v":51.400160306454168},{"$f":"R126*1.5","v":61.680192367745008},{"$f":"R126*2","v":82.240256490326672}]
["Delay From Rail Incident: Awaiting Station (minutes)",119,15.000000000000107,23.999999999999915,35.000000000000036,74.000000000000057,48.999999999999986,109.99999999999993,174.00000000000017,334,null,"*Assumes a 25% increase in costs in a low alternative transport scenario, 50% additional cost in a recommended, and 100% increase (doubling of costs) in a high alternative transport cost scenario.",null,null,null,null,null,null,null,"Travel Costs for Alternative Mode of Transport"]
["Delay From Rail Incident: Next Station (minutes)",91,15.999999999999943,26.199999999999907,46,78.999999999999957,46,115.00000000000007,182.99999999999994,339,null,null,null,null,null,null,null,null,"Cost Type","Existing Cost","Low Alternative","Recommended","High Alternative"]
["Delay Upstream: Next Frequency (minutes)",40,15.999999999999943,16.999999999999957,18.999999999999972,26.000000000000068,26.000000000000068,39.000000000000021,64.000000000000057,149.00000000000011,null,null,null,null,null,null,null,null,"Total Cost",{"$f":"34.6326843394367*$R$14","v":37.749625929986003},{"$f":"43.2908554242959*$R$14","v":47.18703241248253},{"$f":"51.9490265091551*$R$14","v":56.624438894979058},{"$f":"69.2653686788734*$R$14","v":75.499251859972006}]
["Source: Data Analysis from -- Amtrak Status Maps Archive Database (ASMAD). Late or Delayed Trains by Date. 2007-2019. Online: https://juckins.net/amtrak_status/archive/html/search.php ",null,null,null,null,null,null,null,null,null,{"$f":"0.65*60","v":39},null,null,null,null,null,null,null,"Net Cost to Passenger",{"$f":"0*$R$14","v":0},{"$f":"8.65817108485918*$R$14","v":9.4374064824965078},{"$f":"17.3163421697184*$R$14","v":18.874812964993058},{"$f":"34.6326843394367*$R$14","v":37.749625929986003}]
[]
["Freight Costs",null,null,null,null,null,null,null,null,null,{"$f":"339/60","v":5.65}]
[]
["PROCESSED WAYBILL OUTPUTS AND ITRE ANALYSIS"]
["Waybill Classification","Value of Cargo per Ton","NS H Line Tons","NS Main Line Tons","CSX A Line Tons","Aggregate Tons","NS H Line Annual Cargo Value ","NS Main Line Annual Cargo Value","CSX A Line Annual Cargo Value","Aggregate Annual Cargo Value","NS H Line Commodity Mix","NS Main Line Commodity Mix","CSX A Line Tons","Aggregate Commodity Mix",null,null,"Employee Job Code"]
["01:Farm Products",{"$f":"(AVERAGE(MIN(M332:V332),AVERAGE(M332:V332)))","v":2585.2624132603037},313672,1167042,2832075,{"$f":"SUM(C140:E140)","v":4312789},{"$f":"$B140*C140","v":810924431.692186},{"$f":"$B140*D140","v":3017109817.2961311},{"$f":"$B140*E140","v":7321657049.0341749},{"$f":"$B140*F140","v":11149691298.022491},{"$f":"C140/$C$172","v":0.11243840338270143},{"$f":"D140/$D$172","v":6.827624710384865E-2},{"$f":"E140/$E$172","v":0.15864787859456492},{"$f":"F140/$F$172","v":0.11429453316256599},null,null,"Code","Description 1","Description 2"]
["08:Forest Products",{"$f":"(AVERAGE(MIN(M333:V333),AVERAGE(M333:V333)))","v":1518.59994327713},0,400,0,{"$f":"SUM(C141:E141)","v":400},0,607439.97731085203,0,607439.97731085203,0,2.3401470419693086E-5,0,{"$f":"F141/$F$172","v":1.0600521672872565E-5},null,null,101,"Executives and General Officers","President, Vice President, Asst. Vice President, Controller, General Counsel, Treasurer, Director (head of subdepartment), General Supt., (subdept. head), Chief Engineer, General Manager (department or subdepartment head), Chief Medical Officer."," "]
["10:Metallic Ores",414.84651983254446,0,32040,55120,87160,0,13291682.495434724,22866340.173169851,36158022.668604575,0,1.8744577806174161E-3,3.0877258081556517E-3,2.3098536725189322E-3,null,null,102,"Corporate Staff Managers","Director (other than subdepartment head), Asst. Director, Asst. General Manager (not regional), Manager, Asst. Manager, Asst. Chief Engineer, Purchasing Agent, Asst. General Counsel, Superintendent (not division), Asst, to (corporate, executive or general officer), Executive Asst, (to corporate executive) Budget Officer.",null," "]
["11:Coal",40.461281179221317,0,2145703,1940446,4086149,0,86817892.410098717,78512931.21909529,165330823.62919399,0,0.12553151320986677,0.10870038449804793,0.10828827758271641,null,null,103,"Regional & Division Officers Assistants and Staff Assistants","Asst. General Manager, Asst. Regional Manager, General Supt., Asst, to General Manager, Division Supt., Master Mechanic, District Engineer, Asst. Superintendent, Captain of Police, Division Engineer.",null," "]
["14:Nonmetallic Minerals; except Fuels",220.32562108619231,134280,139680,520654,794614,29585324.399453904,30775082.753319342,114713415.92101038,175073823.07378361,4.813381113465387E-2,8.1717934705568263E-3,2.9166124690121059E-2,2.1058307321419903E-2,null,null,104,"Transportation Officers/Managers","Trainmaster, Asst. Train Master, General Yardmaster, General Road Foreman, Road Foreman, Asst. Road Foreman, Chief Power Supervisor (motive).",null," "]
["19:Ordnance or Accessories",7384.9224264216273,0,0,800,800,0,0,5907937.9411373017,5907937.9411373017,0,0,4.4814598086439066E-5,2.1201043345745131E-5,null,null,100,"Executives, Officials, and Staff Assistants (other)","Executives, Officials, and Staff Assistants not listed above",null," "]
["20:Food or Kindred Products",1067.7566912630368,398882,1059584,2270951,3729417,425908924.52438265,1131377905.9552536,2424823125.7804847,3982109956.2601209,0.14298265455029047,6.1989559082950195E-2,0.12721469542374611,9.8834414339198456E-2,null,null,201,"Professionals (other than those reported in 101 and 102","General Attorney, Asst. General Attorney, Attorney, Commerce Counsel, Medical Officer, Surgeon, Company Surgeon, Engineer, Architect, Chief Chemist, Nurse, General Accountant, Corporate Accountant, Supervisor Programming, Senior Computer System Specialist, Senior System Analyst, Chief Draftsman. Draftsman, Chemist, Asst. Chemist,",null," "]
["22:Textile Mill Products",2346.5324504194809,400,17400,2800,20600,938612.98016779241,40829664.637298971,6570290.8611745462,48338568.478641309,1.433834111845513E-4,1.0179639632566493E-3,1.5685109330253674E-4,5.459268661529371E-4,null,null,202,"Subprofessionals","Draftsman, Chemist, Asst. Chemist, X-ray Technician, Supervisor Estimating, Junior Engineer, Engineering Trainee, Photographer, Computer Programmer, Computer Analyst, Market Analyst, Pricing Analyst, Employment Supervisor, Research Analyst.",null," "]
["23:Apparel, or Other Finished Textile Products or Knit Apparel",8567.1093247064837,4400,501840,277200,783440,37695281.028708525,4299318143.5107021,2374802704.8086371,6711816129.3480473,1.5772175230300643E-3,2.9359484788546945E-2,1.5528258236951137E-2,2.0762181748488207E-2,null,null,203,"Auditors, Traveling Auditors","Traveling Auditor, Accounting Specialist Auditors, Operations Traveling Auditors, Station Auditors",null," "]
["24:Lumber or Wood Products; except Furniture - see Major Industry Group 25",170.06971223304993,41240,912744,985704,1939688,7013674.9324909793,155230109.42244291,167638395.62696624,329882179.98190016,1.4782829693127239E-2,5.3398879291880863E-2,5.5217410740244173E-2,5.14042617065271E-2,null,null,204,"General & Administrative Supervisors","General Supervisor, Supervisor, Chief Clerk, Office Supervisor, Supervisor Administration Office Manager, Supervising Clerk, Head Clerk, Asst. Chief Clerk, Supervising Cashier, Division Supervisor, Regional Supervisor, Budget Supervisor, Administrative Supervisor, Manager of Materials, Administrative Asst.",null," "]
["25:Furniture or Fixtures",10785.867196708483,0,65240,20000,85240,0,703669975.91326141,215717343.93416965,919387319.84743106,0,3.8167798254519422E-3,1.1203649521609768E-3,2.2589711684891439E-3,null,null,205,"Sales & Traffic Representatives & Agents","Freight Traffic Agent, Coal Traffic Agent, Sales Representative, Freight Sales Representative, Freight Traffic Representative, Passenger Sales Representative.",null," "]
["26:Pulp, Paper or Allied Products",803.87755976491485,10640,1377080,1301540,2689260,8553257.235898694,1107003710.0010688,1046278799.1364273,2161835766.373395,3.8139987375090645E-3,8.0564242213877382E-2,7.2909989991779889E-2,7.1268897284973182E-2,null,null,206,"Freight and Other Claims Agents and Investigators .","Claim Agent, Claim Investigator, Freight Claim Agent, Freight Claim Investigator.",null," "]
["27:Printed Matter",4265.8280942800966,0,4760,0,4760,0,20305341.728773259,0,20305341.728773259,0,2.784774979943477E-4,0,1.2614620790718352E-4,null,null,207,"Supervising & Chief Claim Agents","Chief Claim Agent, Chief Freight Claim Agent, Asst. Chief Claim Agent, Chief District Claim Agent, District Freight Claim Agent, Chief Claim Investigator",null," "]
["28:Chemicals or Allied Products",704.59209568719461,82828,1547724,1795596,3426148,58359954.101578958,1090514096.7053676,1265162748.6475439,2414036799.4544907,2.9690402953985038E-2,9.0547543509622658E-2,0.10058614133202205,9.0797390321172483E-2,null,null,208,"Lieutenants & Sergeants of Police","Police Lieutenant, Police Sergeant",null," "]
["29:Petroleum or Coal Products",515.3304807535078,3040,97040,113140,213220,1566604.6614906637,50007669.852320395,58304490.59245187,109878765.10626294,1.0897139250025899E-3,5.677196723817543E-3,6.3379045343746453E-3,5.6506080777247213E-3,null,null,209,"Police Officers, Watcher and Guards (Except Crossing and Bridge).","Police Officer, Patrolman, Watchman, Guard",null," "]
["30:Rubber or Miscellaneous Plastics Products",5912.6603082769016,2640,214600,104800,322040,15609423.21385102,1268856902.1562231,619646800.3074193,1904113125.6774933,9.4633051381803857E-4,1.255488888016534E-2,5.8707123493235182E-3,8.5344799988297023E-3,null,null,210,"Inspectors (Except Maintenance of Way & Equipment), Other Investigators, Examiners, Instructors, and Other Agents (Except Station Agents).","Rules Examiner, Supervisor Rules, Safety Supervisor, Safety Inspector, Fire Marshall, Fire Chief, Instructor, Supervisor Procedures, Supervisor Yard Procedures, Real Estate Agent, Real Estate Supervisor, Tax Agent.",null," "]
["31:Leather or Leather Products",5914.1532673317561,0,13200,0,13200,0,78066823.128779173,0,78066823.128779173,0,7.722485238498718E-4,0,3.4981721520479467E-4,null,null,211,"Buyers, and Sales Agents","Buyer, Asst. Buyer, Sales Agent, Asst. Sales Agent.",null," "]
["32:Clay, Concrete, Glass or Stone Products",5263.7597107545625,334680,789168,939374,2063222,1761675099.995337,4153990723.4167566,4944639014.5303564,10860304837.94245,0.11996890013811407,4.6169229020420886E-2,5.2622085328563266E-2,5.4678073817368701E-2,null,null,212,"Clerical Technicians and Clerical Specialists","Lead Clerk, Staff Asst., (clerical, Statistician, Cashier, .; Teller, Asst. Statistician, Rate Clerk, Pricing Clerk, Computer Technician.",null," "]
["33:Primary Metal Products, including Galvanized; except Coating or other Allied Processing - see Major Industry Group 34",2209.3856110256284,3800,548796,570436,1123032,8395665.3218973875,1212501985.7884207,1260313090.4110153,2481210741.5213337,1.3621424062532374E-3,3.2106583401114719E-2,3.1954825092544943E-2,2.9761812638323556E-2,null,null,213,"Office Machine and Data Equipment' Operators","Machine Operator, Clerk, Computer Operator, Keypunch Operator, Office Machine Technician.",null," "]
["34:Fabricated Metal Products; except Ordnance - see Major Industry Groups 19, 35, 36, or 37",3698.9788235733695,0,28040,16000,44040,0,103719366.21299729,59183661.177173913,162903027.3901712,0,1.6404430764204853E-3,8.9629196172878137E-4,1.1671174361832695E-3,null,null,214,"Secretaries, Stenographers, and Typists.","Secretary, Stenographer, Typists, Clerk Typists, Stenoclerk",null," "]
["35:Machinery; except Electrical - see Major Industry Group 36",8512.9625089154761,4040,26040,5200,35280,34392368.536018521,221677543.73215899,44267405.046360478,300337317.314538,1.4481724529639682E-3,1.52343572432202E-3,2.9129488756185398E-4,9.3496601154736026E-4,null,null,215,"General and Other Clerks (excluding yard clerk and crew dispatcher)","File Clerk, General Clerk, Bookkeeper, Ticket Clerk, Records Clerk, Trace Clerk, Assignment Clerk, Personnel Clerk, MOW Clerks, M of W Clerks",null," "]
["36:Electrical Machinery, Equipment or Supplies",4533.4340172187822,0,89480,43600,133080,0,405651675.86073661,197657723.15073889,603309399.01147556,0,5.2349089328853435E-3,2.4423955957109294E-3,3.5267935605647026E-3,null,null,216,"Telephone & Switchboard Operators","Switchboard Operator, Chief Operator",null," "]
["37:Transportation Equipments",10131.219792975835,0,191400,99440,290840,0,1939115468.3755748,1007448496.2135171,2946563964.5890918,0,1.1197603595823141E-2,5.5704545421443761E-3,7.7076393083456421E-3,null,null,217,"Building & Office Attendants","Elevator Operator, Elevator Starter, Janitor, Cleaner, Porter",null," "]
["38:Instruments, Photographic Goods, Optical Goods, Watches or Clocks",15665.855723559738,0,4400,2800,7200,0,68929765.183662847,43864396.02596727,112794161.20963012,0,2.5741617461662395E-4,1.5685109330253674E-4,1.9080939011170619E-4,null,null,218,"Messengers & Office Persons","Messenger, Office Person.",null," "]
["39:Miscellaneous Products of Manufacturing",3222.2235470977239,0,23080,16000,39080,0,74368919.46701546,51555576.753563583,125924496.22057904,0,1.3502648432162912E-3,8.9629196172878137E-4,1.0356709674396497E-3,null,null,219,"Motor Vehicle Operators","Truck Driver, Bus Driver, Driver, Chauffeur.",null," "]
["40:Waste or Scrap Materials Not Identified by Producing Industry",402.50169803248752,108456,405584,232112,746152,43653724.161811464,163248248.69480842,93425474.133716747,300327446.99033666,3.8876978108579235E-2,2.3728154946752001E-2,1.3002507488799431E-2,1.9774001118143026E-2,null,null,200,"Professional and Administrative (other)","Professional and Administrative not listed above.",null," "]
["41:Miscellaneous Freight Shipments",8528.7344831501632,40160,66320,15432,121912,342513976.84331053,565625670.92251885,131615430.54397331,1039755078.3098027,1.4395694482928951E-2,3.8799637955851136E-3,8.6447359708740961E-4,3.2308269954581005E-3,null,null,301,"Supervisors, Maintenance of Way, Structures, Communication & Signals","Roadmaster, Division Roadmaster, Supervisor Track, Supervisor Bridge and Buildings, Supervisor Communications and Signals, Asst. Supervisor, General Foreman (MW&S), Asst., General Foreman (MW&S), Master Carpenter",null," "]
["42:Containers, Carriers or Devices, Shipping, Returned Empty",0,15360,85120,14880,115360,0,0,0,0,5.5059229894867702E-3,4.9798329053106884E-3,8.3355152440776664E-4,3.0571904504564477E-3,null,null,302,"Maintenance of Way, Structures, Communication and Signals, and Scale Inspectors","Chief Bridge & Building Inspector, Chief Scale Inspector, Bridge & Building Inspector, Roadway Equipment Inspector, Track & Roadway Inspector, Instrument Man, Roadman, Chairman, Inspector Communications & Signals, Signal Inspector",null," "]
["46:Miscellaneous Mixed Shipments",3354.7730593739875,0,2602680,994808,3597488,{"$f":"$B168*C168","v":0},8731400746.1714897,3337355077.6497178,12068755823.821207,0,0.152266347579817,5.5727400866467845E-2,9.5338123779747444E-2,null,null,303,"Bridge and Building Gang Foreman","Gang Foreman, Lead Workman.",null," "]
["47:Small Packaged Freight Shipments",4109.3358073903464,8240,8240,0,16480,33860927.052896455,33860927.052896455,0,67721854.10579291,2.9536982704017568E-3,4.8207029064567758E-4,0,4.3674149292234968E-4,null,null,304,"Bridge and Building Carpenters","Carpenter",null," "]
["48:Hazardous Wastes",402.50169803248752,0,11360,7440,18800,0,4572419.2896490581,2994612.633361707,7567031.9230107656,0,6.6460175991928366E-4,4.1677576220388332E-4,4.9822451862501058E-4,null,null,305,"Bridge and Building Ironworkers","Ironworker",null," "]
["49:Hazardous Materials",1527.2455999089982,1282965,2917158,2672978,6873101,1959402651.0872478,4455216719.7393332,4082293889.153554,10496913259.980135,0.45988974532596966,0.17066446661642762,0.14973554345486717,0.18214614027585527,null,null,306,"Bridge and Building Painters","Painter, Sign Painter",null," "]
["Total",null,{"$f":"SUM(C140:C171)","v":2789723},{"$f":"SUM(D140:D171)","v":17092943},17851326,37733992,{"$f":"ROUND(SUM(G140:G171),-4)","v":5580050000},{"$f":"ROUND(SUM(H140:H171),-4)","v":35227660000},{"$f":"ROUND(SUM(I140:I171),-4)","v":30979220000},{"$f":"ROUND(SUM(J140:J171),-4)","v":71786930000},1,1,1,{"$f":"F172/$F$172","v":1},null,null,307,"Masons, Bricklayers, Plasterers, and Plumbers","Mason, Bricklayer, Plasterer, Plumber, Operator, Grinder, Welder (M of W).",null," "]
["Freight Value per Ton",null,null,null,null,null,{"$f":"G172/C172","v":2000.2165089508887},{"$f":"H172/D172","v":2060.9476086125132},{"$f":"I172/E172","v":1735.4016166642186},{"$f":"J172/F172","v":1902.4472682349644},null,null,null,null,null,null,308,"Bridge and Building Helpers and Apprentices","Carpenter Helper, Ironworker Helper, Mason Helper, Plumber Helper, Painter Helper, Apprentice Carpenter, Apprentice Ironworker, Apprentice Mason, Plumber Apprentice, Apprentice Painter, Welder Helper.",null," "]
["Derived using a crosswalk between Waybill and STCG classifications. SOURCES:  2017 Waybill data provided by NCDOT Rail Division AND U.S. Department of Transportation, Research and Innovative Technology Administration, Bureau of Transportation Statistics and U.S. Department of Commerce, U.S. Census Bureau, 2012 Economic Census: Transportation Commodity Flow Survey, Preliminary Release, December 2013.",null,null,null,null,null,null,null,null,null,null,null,null,null,null,null,309,"Bridge and Building Gang and Bridge and Building Dept. Laborers","Bridge and Building Laborer",null," "]
[null,null,null,null,null,null,null,null,null,null,null,null,null,null,null,null,310,"Track Gang Foreman (Extra Gang work train laborers)","Gang Foreman, Asst. Foreman.",null," "]
[null,null,null,null,null,null,null,null,null,null,null,null,null,null,null,null,311,"Gang or Section Foreman","Gang Foreman, Asst. Foreman, Section Foreman.",null," "]
[null,null,null,null,null,null,null,null,null,null,null,null,null,null,null,null,312,"Extra Gang Laborers","Trackman, Fence Laborer",null," "]
[null,null,null,null,null,null,null,null,null,null,null,null,null,null,null,null,313,"Section Laborers","Track, Track and Roadway Section Laborer",null," "]
["Freight Cargo Guideposts",null,null,null,null,null,null,null,null,null,null,null,null,null,null,null,314,"Machine Operators","Craneman, Portable Equipment Engineer, Portable Equipment Operator, Helper",null," "]
["Monetization Factor","Short Tons","Tons","Value","Average Value per Ton (Study Year $)","Average Value per Ton ($2022)",null,"Percentile","Value per Ton",null,null,null,null,null,null,null,315,"Gang Foreman, Communications","Gang Foreman, Asst. Gang Foreman,.Lead Signal Maintainer.",null," "]
["Annual NC Rail Cargo1",{"$f":"C181*0.907185","v":77110725},85000000,143000000000,{"$f":"D181/C181","v":1682.3529411764705},{"$f":"E181*R20*$R$14","v":2200.5176470588235},null,"10th",{"$f":"_xlfn.PERCENTILE.EXC($M$368:$V$399,0.1)","v":217.48371288221017},null,null,null,null,null,null,null,316,"Signalmen & Signal Maintainers","Signalman, Signal Maintainer.",null," "]
["NCHRP 755 Generalized Value of Cargo2",{"$f":"C182*0.907185","v":0.90718500000000002},1,1440,{"$f":"D182/C182","v":1440},{"$f":"E182*R21*$R$14","v":1914.912},null,"20th",{"$f":"_xlfn.PERCENTILE.EXC($M$368:$V$399,0.2)","v":414.84651983254446},null,null,null,null,null,null,null,317,"Linemen, Groundmen, and Communications Craftsman","Electrical Worker (Lineman), Electrical Worker: (Groundman Communications Maintainer)",null," "]
["Value of Annual US Rail Cargo3",148000000,{"$f":"B183*1.10231","v":163141880},166000000000,{"$f":"D183/C183","v":1017.5192292745431},{"$f":"E183*R18*$R$14","v":1319.8241922920099},null,"30th",{"$f":"_xlfn.PERCENTILE.EXC($M$368:$V$399,0.3)","v":890.38362377708859},null,null,null,null,null,null,null,318,"Assistant Signalmen and Assistant Signal Maintainers","Asst. Signalman, Asst. Signal Maintainer.",null," "]
["NC Waybill Data Sample NS H Line (Derived)",{"$f":"C184*0.907185","v":2530794.8597550001},{"$f":"C172","v":2789723},{"$f":"G172","v":5580050000},{"$f":"G173","v":2000.2165089508887},{"$f":"E184*R16*$R$14","v":2463.6666740748096},null,"40th",{"$f":"_xlfn.PERCENTILE.EXC($M$368:$V$399,0.4)","v":1254.9288291785547},null,null,null,null,null,null,null,319,"Signal Helpers and Signal Maintainer Helpers","Signalman Helper, Signal Maintainer Helper",null," "]
["NC Waybill Data Sample NS Main Line (Derived)",{"$f":"C185*0.907185","v":15506461.495455001},{"$f":"D172","v":17092943},{"$f":"H172","v":35227660000},{"$f":"H173","v":2060.9476086125132},{"$f":"E185*R16*$R$14","v":2538.4691695280326},null,"50th",{"$f":"_xlfn.PERCENTILE.EXC($M$368:$V$399,0.5)","v":3403.2489017772541},null,null,null,null,null,null,null,320,"Camp Car Cooks","Camp Car Cook, Camp Car Helpers",null," "]
["NC Waybill Data Sample CSX A Line (Derived)",{"$f":"C186*0.907185","v":16194455.177310001},{"$f":"E172","v":17851326},{"$f":"I172","v":30979220000},{"$f":"I173","v":1735.4016166642186},{"$f":"E186*R16*$R$14","v":2137.4941712453178},null,"60th",{"$f":"_xlfn.PERCENTILE.EXC($M$368:$V$399,0.6)","v":3698.9788235733695},null,null,null,null,null,null,null,300,"Maintenance of Way and Structures","Maintenance of Way and Structures not listed above",null," "]
["NC Waybill Data Sample Aggregate (Derived)",{"$f":"C187*0.907185","v":34231711.532520004},{"$f":"F172","v":37733992},{"$f":"J172","v":71786930000},{"$f":"D187/C187","v":1902.4472682349644},{"$f":"E187*R16*$R$14","v":2343.2443002850055},null,"70th",{"$f":"_xlfn.PERCENTILE.EXC($M$368:$V$399,0.7)","v":7046.28821539214},null,null,null,null,null,null,null,401,"Supervisors and General Foremen, Maintenance of Equipment","General Foreman Shop, General Foreman Engine house, General Foreman Diesel Terminal, Asst. General Foreman (M of E).",null," "]
["1North Carolina Statewide Multimodal Freight Plan. Cambridge Systematics. November 2017.",null,null,null,null,null,null,"80th",{"$f":"_xlfn.PERCENTILE.EXC($M$368:$V$399,0.8)","v":8416.0998785571264},null,null,null,null,null,null,null,402,"Supervisors and General Foremen, Materials and Stores","Supervisor Materials, Asst. Supervisor, Materials, General Foreman Stores, General Foreman Reclamation Plant, Asst. General Foreman.",null," "]
["2NCHRP Report 755: Comprehensive Cost of Highway-Rail Grade Crossing Crashes. 2013. Online: http://onlinepubs.trb.org/onlinepubs/nchrp/nchrp_rpt_755.pdf",null,null,null,null,null,null,"90th",{"$f":"_xlfn.PERCENTILE.EXC($M$368:$V$399,0.9)","v":13446.866363995263},null,null,null,null,null,null,null,403,"Equipment, Shop, Electrical Inspectors","Chief Electrical Inspector, Chip Shop & Equipment Inspector, Electrical Inspector, Inspector Diesel Locomotive, Fuel Inspector.",null," "]
["3Freight Facts and Figures. Table 2-9. Bureau of Transportation Statistics. 2017. Online: https://www.bts.dot.gov/sites/bts.dot.gov/files/docs/FFF_2017.pdf",null,null,null,null,null,null,"Derived Using STCG subcode values. Source:  U.S. Department of Transportation, Research and Innovative Technology Administration, Bureau of Transportation Statistics and U.S. Department of Commerce, U.S. Census Bureau, 2012 Economic Census: Transportation Commodity Flow Survey, Preliminary Release, December 2013.",null,null,null,null,null,null,null,null,404,"Materials and Supplies Inspectors","Materials & Supplies Inspector, Chief Materials & ; Supplies Inspector, Timber Inspector, Tie Inspector.",null," "]
[null,null,null,null,null,null,null,null,null,null,null,null,null,null,null,null,405,"Storekeeper","Storekeeper, Assistant, Storekeeper, Materials Clerk, Store Clerk",null," "]
["Freight Cargo Guideposts: Carload Capacity",null,null,null,null,null,null,null,null,null,null,null,null,null,null,null,406,"Gang Foremen, Maintenance of Equipment","Gang Foreman.",null," "]
["Item","Pounds","U.S. Tons","Tare Weight (Empty/Deadweight)","Cargo \"Payload\" Weight",null,null,null,null,null,null,null,null,null,null,null,407,"Blacksmith","Blacksmith",null," "]
["Max Freight Car Load1",315000,{"$f":"B194/2000","v":157.5},32,{"$f":"C194-D194","v":125.5},null,null,null,null,null,null,null,null,null,null,null,408,"Boilermakers","Boilermaker",null," "]
["Max Freight Car Load2",263000,131.5,31.5,100,null,null,null,null,null,null,null,null,null,null,null,409,"Carmen (Freight)","Car Repairman, Car Inspector, Carman, Painter",null," "]
["Average Freight Car Load (Box Car)3",{"$f":"C196*2000","v":145000},{"$f":"SUM(D196:E196)","v":72.5},27.5,45,null,null,null,null,null,null,null,null,null,null,null,410,"Carmen (Other)","Carman",null," "]
["Average Freight Car Load (Covered Hopper)3",{"$f":"C197*2000","v":260000},{"$f":"SUM(D197:E197)","v":130},30,100,null,null,null,null,null,null,null,null,null,null,null,411,"Electrical Workers (A)","Electrician, Electrical Worker.",null," "]
["Average Freight Car (Unspecified)3",{"$f":"C198*2000","v":190000},{"$f":"SUM(D198:E198)","v":95},30,65,null,null,null,null,null,null,null,null,null,null,null,412,"Electrical Workers (B)","Crane Operator, Lead Dispatcher, Power Station Operator, Asst. Power Director.",null," "]
["1SIAP Application Data References. NCDOT. Sourced from: \"Railway Capacity Backgraound and Overview.\" Quorumcorp. October 2005. Online: http://www.quorumcorp.net/Downloads/Papers/RailwayCapacityOverview.pdf",null,null,null,null,null,null,null,null,null,null,null,null,null,null,null,413,"Electrical Workers (C)","Coal and Ore Elevator Operator (electrical), Grain Elevator Operator (electrical)",null," "]
["2SIAP Application Data References. NCDOT. ",null,null,null,null,null,null,null,null,null,null,null,null,null,null,null,414,"Machinists","Machinist.",null," "]
["3Jim Bernier. \"Average Rail Car Weight. Model Railroader. April 2010. Online: http://cs.trains.com/mrr/f/13/t/172738.aspx",null,null,null,null,null,null,null,null,null,null,null,null,null,null,null,415,"Sheet Metal Workers","Sheet Metal Worker",null," "]
[null,null,null,null,null,null,null,null,null,null,null,null,null,null,null,null,416,"Skilled Trades, Helpers, Maintenance of Equipment and Stores","Helper",null," "]
["Freight Cargo Guideposts: Train Cargo Capacity I",null,null,null,null,null,null,null,null,null,null,null,null,null,null,null,417,"Apprentices, Maintenance of Equipment and Stores","Apprentice, Helper Apprentice",null," "]
["Train Type","Average Metric Tonnes per Train","Average US Tons per Train","Estimated Car Loads per Freight Train (Derived)","Estimated Cargo Weight per Train",null,null,null,null,null,null,null,null,null,null,null,418,"Coach Cleaners","Coach Cleaner",null," "]
["Double Stack Container Train1",4800,{"$f":"B205*1.10231","v":5291.0879999999997},{"$f":"C205/$C$194","v":33.594209523809525},{"$f":"D205*$E$194","v":4216.0732952380949},null,null,null,null,null,null,null,null,null,null,null,419,"Laborers: Shops, Engine houses, and Power Plants","Laborer",null," "]
["Manifest Train1",8200,{"$f":"B206*1.10231","v":9038.9419999999991},{"$f":"C206/$C$194","v":57.390107936507931},{"$f":"D206*$E$194","v":7202.4585460317458},null,null,null,null,null,null,null,null,null,null,null,420,"Gang Foreman, Materials and Stores","Gang Foreman",null," "]
["Grain Train1",9900,{"$f":"B207*1.10231","v":10912.868999999999},{"$f":"C207/$C$194","v":69.288057142857141},{"$f":"D207*$E$194","v":8695.6511714285716},null,null,null,null,null,null,null,null,null,null,null,421,"Equipment Operators and General Laborers, Materials and Stores","s, Materials and Stores Laborer, Materials Handler, Equipment Operators, Machine Operators.",null," "]
["Coal, Sulphur, and Potash (CSP) Train1",10200,{"$f":"B208*1.10231","v":11243.562},{"$f":"C208/$C$194","v":71.387695238095233},{"$f":"D208*$E$194","v":8959.1557523809515},null,null,null,null,null,null,null,null,null,null,null,422,"Stationary Engineers","Chief Engineer (Steam Plant), Engineer, Stationary Engineer",null," "]
["Source: \"Railway Capacity Backgraound and Overview.\" Quorumcorp. October 2005. Online: http://www.quorumcorp.net/Downloads/Papers/RailwayCapacityOverview.pdf",null,null,null,null,null,null,null,null,null,null,null,null,null,null,null,423,"Stationary Fireman","Stationary Fireman, Power Equipment Operator, Helper, Oiler.",null," "]
[null,null,null,null,null,null,null,null,null,null,null,null,null,null,null,null,400,"Maintenance of Equipment and Stores , (other)","Maintenance of Equipment and Stores not listed above",null," "]
["Freight Cargo Guideposts: Train Cargo Capacity II",null,null,null,null,null,null,null,null,null,null,null,null,null,null,null,501,"Transportation Supervisor and Chief Train Dispatcher","Chief Train Dispatcher, Supervisor Train Operations, Transportation Supervisor, Supervisor Train Operations, Supervisor Locomotive & Car Distribution, Asst. Chief Train Dispatcher.",null," "]
["Type of Train","Ave. Number of Loaded Cars","Ave. Number of Empty Cars","Ave. Number of Total Cars","Percent Carrying Cargo","Count",null,null,null,null,null,null,null,null,null,null,502,"Train Dispatchers","Train Dispatcher",null," "]
["Freight Train",25.594669117647058,18.03125,43.625919117647058,{"$f":"B213/D213","v":0.58668492573475195},1088,null,null,null,null,null,null,null,null,null,null,503,"Station, Freight and Passenger Agents","Supervising Station Agent, Asst. Supervising Station Agent, Station Agent, Freight Agent, Passenger Agent, Ticket Agent, Traveling Agent, Agent Operators",null," "]
["Source: FRA 6180.54 (1990-2019), NC Extract",null,null,null,null,null,null,null,null,null,null,null,null,null,null,null,504,"Chief Operators and Wire Chiefs","Supervising Operator, Chief Operator, Asst. Supervising Operator, Wire Chief",null," "]
[null,null,null,null,null,null,null,null,null,null,null,null,null,null,null,null,505,"Clerk Operators, Towermen, Train Directors","Clerk Operator, Block Operator, Operator, Towerman, Train Directors",null," "]
["Freight Cargo Guideposts: Annual NC Trains",null,null,null,null,null,null,null,null,null,null,null,null,null,null,null,506,"Station Masters and Asst., Supervising Baggage Agents, Baggage Agents and Asst.","Station Master, Asst. Station Master, Supervising Baggage Agent, Baggage Agent, Asst. Baggage Agent, Parcel Room Agent.",null," "]
["Type of Train","Sum of Day Through Trains","Sum of Night Through Trains","For Yardstick Purposes Only",null,null,null,null,null,null,null,null,null,null,null,null,507,"Baggage, Parcel Room and Station Attendants","Baggage Attendant, Parcel Room Attendant, Station Attendant, Gateman, Announcer, Station Usher, Red Cap, Information Bureau Attendant.",null," "]
["FREIGHT",5768,5373,null,null,null,null,null,null,null,null,null,null,null,null,null,508,"General and Assistant General Foremen, Stations, Warehouses, Grain Elevators, and Docks","General Foreman, Asst. General Foreman",null," "]
["FREIGHT, INTERCITY PASSENGER",12016,11365,null,null,null,null,null,null,null,null,null,null,null,null,null,509,"Gang Foremen, Stations, Warehouses, Grain Elevators and Docks","Gang Foreman",null," "]
["FREIGHT,SHARED USE TRANSIT",18,18,null,null,null,null,null,null,null,null,null,null,null,null,null,510,"Grain Elevator and Dock Laborers","Laborer",null," "]
["FREIGHT,TOURIST/OTHER",0,0,null,null,null,null,null,null,null,null,null,null,null,null,null,511,"Station and Warehouse Laborers","Loader, Sealer",null," "]
["INTERCITY PASSENGER",0,0,null,null,null,null,null,null,null,null,null,null,null,null,null,512,"Truckers (Station, Warehouse & Platforms)","Trucker",null," "]
["TOURIST/OTHER",240,0,null,null,null,null,null,null,null,null,null,null,null,null,null,513,"Food and Lodging Manager, Supervisors","Manager Lodging House, Restaurant Manager, Dining Car Supervisor, Dining Car Steward",null," "]
["TOTAL",{"$f":"SUM(B218:B223)","v":18042},{"$f":"SUM(C218:C223)","v":16756},null,null,null,null,null,null,null,null,null,null,null,null,null,514,"Transportation and Dining Service Inspectors","Instructor Chef, Restaurant Inspectors, Freight Service Inspector, Baggage Inspector.",null," "]
["Source: NCDOT Train Volume by Crossing (SARAH data). 2019. ",null,null,null,null,null,null,null,null,null,null,null,null,null,null,null,515,"Waiters and Kitchen Helpers (Restaurant and Dining Car)","Waiter-in-charge, Waiter",null," "]
[null,null,null,null,null,null,null,null,null,null,null,null,null,null,null,null,516,"Chefs and Cooks (Restaurant and Dining Car)","Chef, Cook",null," "]
["Freight Cargo Guideposts: Annual NC Trains II",null,null,null,null,null,null,null,null,null,null,null,null,null,null,null,517,"Marine Officers and Workers and Shore Workers","Captain, Engineer, Mate, Deckhand, Oiler Purser, Boat Master, Fireman, Wharf Master, Able Seaman, Baggageman, Boat Dispatcher.",null," "]
["Estimate Range","Estimated Annual NC Freight Trips",null,null,null,null,null,null,null,null,null,null,null,null,null,null,518,"Train Attendants","Porter, Buffet Lounge Attendant, Stewardess",null," "]
["High",{"$f":"$C$181/E205","v":20160.939824268349},null,null,null,null,null,null,null,null,null,null,null,null,null,null,519,"Bridge Operators and Helpers","Bridge Operator",null," "]
["Medium High",{"$f":"$C$181/E206","v":11801.525750791228},null,null,null,null,null,null,null,null,null,null,null,null,null,null,520,"Bridge and Crossing Flagman & Gateman","Bridge Flagman, Crossing Gateman",null," "]
["Medium Low",{"$f":"$C$181/E207","v":9775.0011269179868},null,null,null,null,null,null,null,null,null,null,null,null,null,null,521,"Yard Clerks","Yard Clerk, Yard Clerk Caller, Yard Demurrage Clerk, Yard Dispatcher Clerk, Piggyback Clerk.",null," "]
["Low",{"$f":"$C$181/E208","v":9487.5010937733405},null,null,null,null,null,null,null,null,null,null,null,null,null,null,522,"Crew Dispatchers","Crew Dispatcher, Crew Caller",null," "]
["Derived using estimated cargo weight per train and annual freight cargo data. Sources: \"Railway Capacity Backgraound and Overview.\" Quorumcorp. October 2005. Online: http://www.quorumcorp.net/Downloads/Papers/RailwayCapacityOverview.pdf AND North Carolina Statewide Multimodal Freight Plan. Cambridge Systematics. November 2017.",null,null,null,null,null,null,null,null,null,null,null,null,null,null,null,523,"Yardmaster & Asst. Yardmasters","Yardmaster, Asst. Yardmaster.",null," "]
[null,null,null,null,null,null,null,null,null,null,null,null,null,null,null,null,500,"Transportation, Other Than Train and Engine (others)","Transportation, Other Than Train and Engine not listed above",null," "]
[null,null,null,null,null,null,null,null,null,null,null,null,null,null,null,null,601,"Switchtenders","Switchtender",null," "]
["Freight Cargo Monetization: Opportunity Cost of Capital (Value of Cargo x Rate of Return)",null,null,null,null,null,null,null,null,null,null,null,null,null,null,null,602,"Car Retarder Operators and Ground Service Employees","Car Retarder Operator, Skatesman, Herder, Yard Pilot.",null," "]
["Delay Dimension","Cost per hour (% of Total Commodity Value)","Cost per minute (% of Total Commodity Value)",null,null,null,null,null,null,null,null,null,null,null,null,null,603,"Outside Hostlers","Outside Hostler",null," "]
["Discount Rate",4.0000000000000002E-4,{"$f":"B238/60","v":6.6666666666666666E-6},null,null,null,null,null,null,null,null,null,null,null,null,null,604,"Outside Hostler Helpers","Outside Hostler Helper.",null," "]
["Source: NCHRP Report 755: Comprehensive Cost of Highway-Rail Grade Crossing Crashes. 2013. Online: http://onlinepubs.trb.org/onlinepubs/nchrp/nchrp_rpt_755.pdf",null,null,null,null,null,null,null,null,null,null,null,null,null,null,null,605,"Inside Hostler","Inside Hostler.",null," "]
[null,null,null,null,null,null,null,null,null,null,null,null,null,null,null,null,606,"Road Passenger Conductors","Passenger Conductor",null," "]
["Freight Cargo Guideposts: Average Number of Cars Damaged Per Incident Type",null,null,null,null,null,null,null,null,null,null,null,null,null,null,null,607,"Asst. Road Passenger Conductors and Ticket Collectors","Asst. Passenger Conductor, Ticket Collector.",null," "]
["Incident Type","Count of Event Type","Average No. Of Rail Cars Damaged",null,null,null,null,null,null,null,null,null,null,null,null,null,608,"Road Freight Conductors (Through Freight)","Freight Conductor, Work Train Conductor, (paid through rate).",null," "]
["08. EV_RR grade crossing",39,0,null,null,null,null,null,null,null,null,null,null,null,null,null,609,"Road Freight Conductors (Local and Way Freight)","Freight Conductor, Work Train Conductor, (paid local rate).",null," "]
["11. EV_Fire/violent rupture",978,4.0899795501022499E-3,null,"Fire/violent rupture",4.0899795501022499E-3,null,null,null,null,null,null,null,null,null,null,610,"Lead Passenger Baggageperson","Baggageperson",null," "]
["07. EV_Hwy-rail crossing",6825,4.2930402930402928E-2,null,"Hwy-rail crossing",4.2930402930402928E-2,null,null,null,null,null,null,null,null,null,null,611,"Lead Passenger Brakemen and Flagmen","Passenger Brakeman, Passenger Flagmen.",null," "]
["09. EV_Obstruction",2581,4.8818287485470749E-2,null,"Obstruction",4.8818287485470749E-2,null,null,null,null,null,null,null,null,null,null,612,"Road Freight Brakemen and Flagmen (Through Freight)","Freight Brakeman, Freight Flagman, Work Train ’ Brakeman (paid through rate).",null," "]
["03. EV_Rear end collision",1179,0.1111111111111111,null,"Rear end collision",0.1111111111111111,null,null,null,null,null,null,null,null,null,null,613,"Road Freight Brakemen and Flagmen (Local and Way Freight)","Freight Brakeman, Freight Flagman, Work Train Brakeman, (paid local rate).",null," "]
["02. EV_Head on collision",654,0.11314984709480122,null,"Head on collision",0.11314984709480122,null,null,null,null,null,null,null,null,null,null,614,"Yard Conductors and Yard Foremen","Yard Conductor, Yard Foreman.",null," "]
["12. EV_Other/Custom",17164,0.16103472384059661,null,"Other/Custom",0.16103472384059661,null,null,null,null,null,null,null,null,null,null,615,"Yard Brakemen and Yard Helpers","Yard Brakeman, Yard Helper.",null," "]
["04. EV_Side collision",6649,0.16212964355542187,null,"Side collision",0.16212964355542187,null,null,null,null,null,null,null,null,null,null,616,"Road Passenger Engineers and Motormen","Passenger Engineer, Motorman Operator.",null," "]
["05. EV_Raking collision",1983,0.21331316187594554,null,"Raking collision",0.21331316187594554,null,null,null,null,null,null,null,null,null,null,617,"Road Freight Engineers (Through Freight)","Freight Engineer, Work Train Engineer (paid through rate).",null," "]
["06. EV_Broken train collision",198,0.21717171717171718,null,"Broken train collision",0.21717171717171718,null,null,null,null,null,null,null,null,null,null,618,"Road Freight Engineers (Local and Way Freight).","Freight Engineer, Work Train Engineer (paid local rate)",null," "]
["00. EV_Unspecified Event (Default)",97351,0.24759889472116361,null,"Default Event",0.24759889472116361,null,null,null,null,null,null,null,null,null,null,619,"Yard Engineers","Yard Engineer",null," "]
["01. EV_Derailment",59078,0.32426622431361929,null,"Derailment",0.32426622431361929,null,null,null,null,null,null,null,null,null,null,620,"Road Passenger Firemen and Helpers","Passenger Fireman.",null," "]
["10. EV_Explosion-detonation",23,0.47826086956521741,null,"Explosion-detonation",0.47826086956521741,null,null,null,null,null,null,null,null,null,null,621,"Road Freight Firemen and Helpers, (Through Freight)","Freight Fireman.",null," "]
["Source: FRA 6180.54 (1990-2019)",null,null,null,null,null,null,null,null,null,null,null,null,null,null,null,622,"Road Freight Fireman and Helpers, (Local and Way Freight).","Freight Fireman.",null," "]
[null,null,null,null,null,null,null,null,null,null,null,null,null,null,null,null,623,"Yard Firemen and Helpers","Yard Fireman.",null," "]
["Freight Cargo Guideposts: Average Number of Cars Damaged Per Incident Type (Zero Car Damage Events Removed)",null,null,null,null,null,null,null,null,null,null,null,null,null,null,null,630,"Remote Control Locomotive Operator - Operating","Person operating remote control locomotive at the time of the injury regardless of any other job title.",null," "]
["Incident Type","Count of Event Type","Average No. Of Rail Cars Damaged",null,null,null,null,null,null,null,null,null,null,null,null,null,631,"Remote Control Locomotive Operator - Not Operating","Person operating remote control locomotive at the time of the injury regardless of any other job title.",null," "]
["12. Other",1566,1.765006385696041,null,"Other",1.765006385696041,null,null,null,null,null,null,null,null,null,null,600,"Transportation, Train and Engine (other)","Transportation, Train and Engine not listed above",null," "]
["04. Side collision",579,1.8618307426597582,null,"Side collision",1.8618307426597582]
["06. Broken train collision",23,1.8695652173913044,null,"Broken train collision",1.8695652173913044]
["11. Fire/violent rupture",2,2,null,"Fire/violent rupture",2]
["05. Raking collision",202,2.0940594059405941,null,"Raking collision",2.0940594059405941]
["02. Head on collision",30,2.4666666666666668,null,"Head on collision",2.4666666666666668]
["03. Rear end collision",50,2.62,null,"Rear end collision",2.62]
["00. Unspecified Event (Default)",9156,2.6325906509392749,null,"Default Event",2.6325906509392749]
["07. Hwy-rail crossing",110,2.6636363636363636,null,"Hwy-rail crossing",2.6636363636363636]
["10. Explosion-detonation",4,2.75,null,"Explosion-detonation",2.75]
["09. Obstruction",44,2.8636363636363638,null,"Obstruction",2.8636363636363638]
["01. Derailment",6546,2.9265200122212036,null,"Derailment",2.9265200122212036]
["Source: FRA 6180.54 (1990-2019)"]
[]
["Freight Cargo Monetization: Spoilage and Replacement Cost of Cargo (Value of Cargo x Rate of Return)"]
[]
["Waybill Classification","Value of Cargo per Ton","Aggregate Tons","Aggregate Commodity Mix","Statistical Cargo Value per Train Carload","Shipper Cost Category"]
["01:Farm Products",{"$f":"B140","v":2585.2624132603037},{"$f":"F140","v":4312789},{"$f":"N140","v":0.11429453316256599},{"$f":"B277*D277*$E$195","v":29548.136062631518},"P"]
["08:Forest Products",1518.59994327713,{"$f":"F141","v":400},{"$f":"N141","v":1.0600521672872565E-5},1.6097951611132266,"O"]
["10:Metallic Ores",414.84651983254446,87160,2.3098536725189322E-3,95.823475736690085,"B"]
["11:Coal",40.461281179221317,4086149,0.10828827758271641,438.14824476878567,"B"]
["14:Nonmetallic Minerals; except Fuels",220.32562108619231,794614,2.1058307321419903E-2,463.96846396157503,"B"]
["19:Ordnance or Accessories",7384.9224264216273,800,2.1201043345745131E-5,15.656806046753022,"O"]
["20:Food or Kindred Products",1067.7566912630368,3729417,9.8834414339198456E-2,10553.110723774258,"P"]
["22:Textile Mill Products",2346.5324504194809,20600,5.459268661529371E-4,128.10351069836793,"O"]
["23:Apparel, or Other Finished Textile Products or Knit Apparel",8567.1093247064837,783440,2.0762181748488207E-2,17787.188085872407,"O"]
["24:Lumber or Wood Products; except Furniture - see Major Industry Group 25",170.06971223304993,1939688,5.14042617065271E-2,874.23079959814527,"O"]
["25:Furniture or Fixtures",10785.867196708483,85240,2.2589711684891439E-3,2436.4963024517288,"O"]
["26:Pulp, Paper or Allied Products",803.87755976491485,2689260,7.1268897284973182E-2,5729.1467236580611,"O"]
["27:Printed Matter",4265.8280942800966,4760,1.2614620790718352E-4,53.811803767736151,"O"]
["28:Chemicals or Allied Products",704.59209568719461,3426148,9.0797390321172483E-2,6397.5123529323118,"B"]
["29:Petroleum or Coal Products",515.3304807535078,213220,5.6506080777247213E-3,291.19305772435354,"B"]
["30:Rubber or Miscellaneous Plastics Products",5912.6603082769016,322040,8.5344799988297023E-3,5046.148114086348,"O"]
["31:Leather or Leather Products",5914.1532673317561,13200,3.4981721520479467E-4,206.88726262723324,"O"]
["32:Clay, Concrete, Glass or Stone Products",5263.7597107545625,2063222,5.4678073817368701E-2,28781.224202152931,"O"]
["33:Primary Metal Products, including Galvanized; except Coating or other Allied Processing - see Major Industry Group 34",2209.3856110256284,1123032,2.9761812638323556E-2,6575.5320601152762,"O"]
["34:Fabricated Metal Products; except Ordnance - see Major Industry Groups 19, 35, 36, or 37",3698.9788235733695,44040,1.1671174361832695E-3,431.71426810651576,"O"]
["35:Machinery; except Electrical - see Major Industry Group 36",8512.9625089154761,35280,9.3496601154736026E-4,795.93306034129125,"O"]
["36:Electrical Machinery, Equipment or Supplies",4533.4340172187822,133080,3.5267935605647026E-3,1598.8485899172172,"O"]
["37:Transportation Equipments",10131.219792975835,290840,7.7076393083456421E-3,7808.7787917829946,"O"]
["38:Instruments, Photographic Goods, Optical Goods, Watches or Clocks",15665.855723559738,7200,1.9080939011170619E-4,298.91923761904155,"O"]
["39:Miscellaneous Products of Manufacturing",3222.2235470977239,39080,1.0356709674396497E-3,333.71633783295192,"O"]
["40:Waste or Scrap Materials Not Identified by Producing Industry",402.50169803248752,746152,1.9774001118143026E-2,795.90690269488744,"O"]
["41:Miscellaneous Freight Shipments",8528.7344831501632,121912,3.2308269954581005E-3,2755.4865605255936,"O"]
["42:Containers, Carriers or Devices, Shipping, Returned Empty",0,115360,3.0571904504564477E-3,0,"O"]
["46:Miscellaneous Mixed Shipments",3354.7730593739875,3597488,9.5338123779747444E-2,{"$f":"B305*D305*$E$195","v":31983.776918755921},"O"]
["47:Small Packaged Freight Shipments",4109.3358073903464,16480,4.3674149292234968E-4,{"$f":"B306*D306*$E$195","v":179.47174554389292},"O"]
["48:Hazardous Wastes",402.50169803248752,18800,4.9822451862501058E-4,{"$f":"B307*D307*$E$195","v":20.053621474798547},"O"]
["49:Hazardous Materials",1527.2455999089982,6873101,0.18214614027585527,{"$f":"B308*D308*$E$195","v":27818.18912767071},"O"]
["Total",null,37733992,1,{"$f":"SUM(E277:E308)","v":190244.72301003142}]
[]
["Category","Default Event","Broken train collision","Derailment","Explosion-detonation","Fire/violent rupture","Head on collision","Highway-rail crossing","Obstruction","Raking collision","Rear end collision","Side collision","Other","No. Of Observations"]
["Expected value per any given incident",0.24759889472116361,0.21717171717171718,0.32426622431361929,0.47826086956521741,4.0899795501022499E-3,0.11314984709480122,4.2930402930402928E-2,4.8818287485470749E-2,0.21331316187594554,0.1111111111111111,0.16212964355542187,0.16103472384059661,1088]
["Damaged Freight Cars per Event Type",2.6325906509392749,1.8695652173913044,2.9265200122212036,2.75,2,2.4666666666666668,2.6636363636363636,2.8636363636363638,2.0940594059405941,2.62,1.8618307426597582,1.765006385696041,111]
[null,null,null,null,"Source: FRA 5180.54"]
["Freight Cargo Guideposts: Cargo Replacement Costs (Value of Affected Cargo x Discount Rate)"]
["Delay Dimension","Cost per hour (% of Total Commodity Value)","Cost per minute (% of Total Commodity Value)"]
["Bulk Cargo1",2E-3,{"$f":"B317/60","v":3.3333333333333335E-5}]
["Perishable Cargo2",6.0000000000000001E-3,{"$f":"B318/60","v":1E-4}]
["Other Cargo3",4.0000000000000001E-3,{"$f":"B319/60","v":6.666666666666667E-5}]
["Bulk Cargo"]
["Bulk Cargo"]
["Bulk Cargo"]
[]
["The cost of replacing depreciated merchandise or acquiring inventory for immediate delivery is based on cargo value (for perishables and retail goods only)"]
[]
["the cost of excess labor cost for shipper or consignee is based on hourly labor cost (applied only for non-retail manufactured goods). Both are adjusted for probability of delivery delayed beyond end of normal workday (12%). "]
[]
["Data on tons per railroad train is based on overall average of 3,538 tons/train, 57 railroad cars per train, with manufactured goods (typically via TOFC at 30 tons/container) accounting for 25.1% of all cargo."]
[]
["STCG Code Sub-Classifications",null,null,null,null,null,null,null,null,null,null,null,"Value per ton"]
["STCC","STCG Codes","STCG A","STCG B","STCG C","STCG D","STCG E","STCG F","STCG G","STCG H","STCG I","STCG J","STCG A","STCG B","STCG C","STCG D","STCG E","STCG F","STCG G","STCG H","STCG I","STCG J"]
["01:Farm Products","02, 03, 30",2,3,30,0,0,0,0,0,0,0,{"$f":"VLOOKUP(C332,$A$405:$R$449,3,FALSE)","v":293.58112294736748},{"$f":"VLOOKUP(D332,$A$405:$R$449,3,FALSE)","v":890.38362377708859},{"$f":"VLOOKUP(E332,$A$405:$R$449,3,FALSE)","v":13446.866363995263}]
["08:Forest Products","03, 24",3,24,0,0,0,0,0,0,0,0,{"$f":"VLOOKUP(C333,$A$405:$R$449,3,FALSE)","v":890.38362377708859},{"$f":"VLOOKUP(D333,$A$405:$R$449,3,FALSE)","v":3403.2489017772541}]
["10:Metallic Ores",14,14,0,0,0,0,0,0,0,0,0,{"$f":"VLOOKUP(C334,$A$405:$R$449,3,FALSE)","v":414.84651983254446}]
["11:Coal",15,15,0,0,0,0,0,0,0,0,0,40.461281179221317]
["14:Nonmetallic Minerals; except Fuels","12, 41, 11, 12, 19, 13, 20, 22, 07",12,41,11,12,19,13,20,22,7,0,11.755822970459487,{"$f":"VLOOKUP(D336,$A$405:$R$449,3,FALSE)","v":402.50169803248752},18.687446275511459,11.755822970459487,659.70705716936709,112.94599943454905,891.48539608262956,496.29070070330806,1254.9288291785547]
["19:Ordnance or Accessories",40,40,0,0,0,0,0,0,0,0,0,7384.9224264216273]
["20:Food or Kindred Products","05, 07, 04, 06, 03,",5,7,4,6,3,0,0,0,0,0,3676.0224847687391,{"$f":"VLOOKUP(D338,$A$405:$R$449,3,FALSE)","v":1254.9288291785547},560.78897951144393,1491.4980978373237,890.38362377708859]
["22:Textile Mill Products","30, 36, 27, 04, 23, 31, ",30,36,27,4,23,31,0,0,0,0,13446.866363995263,8416.0998785571264,1050.7060884938987,560.78897951144393,3161.542104300569,{"$f":"VLOOKUP(H339,$A$405:$R$449,3,FALSE)","v":217.48371288221017}]
["23:Apparel, or Other Finished Textile Products or Knit Apparel","30, 36, 40",30,36,40,0,0,0,0,0,0,0,13446.866363995263,{"$f":"VLOOKUP(D340,$A$405:$R$449,3,FALSE)","v":8416.0998785571264},7384.9224264216273]
["24:Lumber or Wood Products; except Furniture - see Major Industry Group 25","25, 26, 41",25,25,41,0,0,0,0,0,0,0,123.58331507316242,123.58331507316242,402.50169803248752]
["25:Furniture or Fixtures","39, 33, 36, 37",39,33,36,37,0,0,0,0,0,0,7046.28821539214,3698.9788235733695,8416.0998785571264,{"$f":"VLOOKUP(F342,$A$405:$R$449,3,FALSE)","v":52329.655361851743}]
["26:Pulp, Paper or Allied Products","27, 20, 28, 26",27,20,28,26,0,0,0,0,0,0,1050.7060884938987,891.48539608262956,1654.6197178534389,{"$f":"VLOOKUP(F343,$A$405:$R$449,3,FALSE)","v":566.84185513787031}]
["27:Printed Matter",29,29,0,0,0,0,0,0,0,0,0,4265.8280942800966]
["28:Chemicals or Allied Products","31, 20, 22, 23",31,20,22,23,0,0,0,0,0,0,217.48371288221017,{"$f":"VLOOKUP(D345,$A$405:$R$449,3,FALSE)","v":891.48539608262956},496.29070070330806,3161.542104300569]
["29:Petroleum or Coal Products","17, 18, 19, 20, 31, 15, 23",17,18,19,20,31,15,23,0,0,0,1029.4863335098833,931.23187717068038,659.70705716936709,891.48539608262956,{"$f":"VLOOKUP(G346,$A$405:$R$449,3,FALSE)","v":217.48371288221017},{"$f":"VLOOKUP(H346,$A$405:$R$449,3,FALSE)","v":40.461281179221317},{"$f":"VLOOKUP(I346,$A$405:$R$449,3,FALSE)","v":3161.542104300569}]
["30:Rubber or Miscellaneous Plastics Products","24, 30, 36, ",24,30,36,0,0,0,0,0,0,0,3403.2489017772541,{"$f":"VLOOKUP(D347,$A$405:$R$449,3,FALSE)","v":13446.866363995263},{"$f":"VLOOKUP(E347,$A$405:$R$449,3,FALSE)","v":8416.0998785571264}]
["31:Leather or Leather Products","30, 24",30,24,0,0,0,0,0,0,0,0,13446.866363995263,{"$f":"VLOOKUP(D348,$A$405:$R$449,3,FALSE)","v":3403.2489017772541}]
["32:Clay, Concrete, Glass or Stone Products","31, 36, 35, ",31,36,35,0,0,0,0,0,0,0,217.48371288221017,{"$f":"VLOOKUP(D349,$A$405:$R$449,3,FALSE)","v":8416.0998785571264},{"$f":"VLOOKUP(E349,$A$405:$R$449,3,FALSE)","v":22296.523534441407}]
["33:Primary Metal Products, including Galvanized; except Coating or other Allied Processing - see Major Industry Group 34","32, 33",32,33,0,0,0,0,0,0,0,0,1712.8545401763815,{"$f":"VLOOKUP(D350,$A$405:$R$449,3,FALSE)","v":3698.9788235733695}]
["34:Fabricated Metal Products; except Ordnance - see Major Industry Groups 19, 35, 36, or 37",33,33,0,0,0,0,0,0,0,0,0,3698.9788235733695]
["35:Machinery; except Electrical - see Major Industry Group 36","33, 34, 37, 31,",33,34,37,31,0,0,0,0,0,0,3698.9788235733695,{"$f":"VLOOKUP(D352,$A$405:$R$449,3,FALSE)","v":10987.647321487635},52329.655361851743,217.48371288221017]
["36:Electrical Machinery, Equipment or Supplies","31, 33, 35, 34, 39",31,33,35,34,39,0,0,0,0,0,217.48371288221017,3698.9788235733695,22296.523534441407,10987.647321487635,{"$f":"VLOOKUP(G353,$A$405:$R$449,3,FALSE)","v":7046.28821539214}]
["37:Transportation Equipments","37, 34, 36, 40, 33,  ",37,34,36,40,33,0,0,0,0,0,52329.655361851743,10987.647321487635,8416.0998785571264,7384.9224264216273,{"$f":"VLOOKUP(G354,$A$405:$R$449,3,FALSE)","v":3698.9788235733695}]
["38:Instruments, Photographic Goods, Optical Goods, Watches or Clocks","38, 21, 39, 31",38,21,39,31,0,0,0,0,0,0,62632.15986394557,54560.979144729143,7046.28821539214,217.48371288221017]
["39:Miscellaneous Products of Manufacturing","33, 40, 03, 24, 29, 30, 23, 34, 39, 07",33,40,3,24,29,30,23,34,39,7,3698.9788235733695,7384.9224264216273,890.38362377708859,3403.2489017772541,{"$f":"VLOOKUP(G356,$A$405:$R$449,3,FALSE)","v":4265.8280942800966},13446.866363995263,3161.542104300569,10987.647321487635,7046.28821539214,1254.9288291785547]
["40:Waste or Scrap Materials Not Identified by Producing Industry",41,41,0,0,0,0,0,0,0,0,0,402.50169803248752]
["41:Miscellaneous Freight Shipments","34, 40, 35, 43, 38, 33, 29, 24, 42, 43",34,40,35,43,38,33,29,24,42,43,10987.647321487635,{"$f":"VLOOKUP(D358,$A$405:$R$449,3,FALSE)","v":7384.9224264216273},22296.523534441407,4109.3358073903464,62632.15986394557,3698.9788235733695,4265.8280942800966,3403.2489017772541,null,{"$f":"VLOOKUP(L358,$A$405:$R$449,3,FALSE)","v":4109.3358073903464}]
["42:Containers, Carriers or Devices, Shipping, Returned Empty",42,42,0,0,0,0,0,0,0,0,0]
["46:Miscellaneous Mixed Shipments","43, 33, 34, 30, 31",43,33,34,30,31,0,0,0,0,0,{"$f":"VLOOKUP(C360,$A$405:$R$449,3,FALSE)","v":4109.3358073903464},{"$f":"VLOOKUP(D360,$A$405:$R$449,3,FALSE)","v":3698.9788235733695},{"$f":"VLOOKUP(E360,$A$405:$R$449,3,FALSE)","v":10987.647321487635},{"$f":"VLOOKUP(F360,$A$405:$R$449,3,FALSE)","v":13446.866363995263},{"$f":"VLOOKUP(G360,$A$405:$R$449,3,FALSE)","v":217.48371288221017}]
["47:Small Packaged Freight Shipments",43,43,0,0,0,0,0,0,0,0,0,{"$f":"VLOOKUP(C361,$A$405:$R$449,3,FALSE)","v":4109.3358073903464}]
["48:Hazardous Wastes",41,41,0,0,0,0,0,0,0,0,0,{"$f":"VLOOKUP(C362,$A$405:$R$449,3,FALSE)","v":402.50169803248752}]
["49:Hazardous Materials","40, 23, 41, 20, 34, 19, 17, 08, 13",40,23,41,20,34,19,17,8,13,0,{"$f":"VLOOKUP(C363,$A$405:$R$449,3,FALSE)","v":7384.9224264216273},{"$f":"VLOOKUP(D363,$A$405:$R$449,3,FALSE)","v":3161.542104300569},402.50169803248752,891.48539608262956,10987.647321487635,659.70705716936709,1029.4863335098833,1843.6684670122802,112.94599943454905]
["Total"]
[]
["Freight Cargo Custom Commodity Mix Inputs"]
["STCC","STCG Codes","STCG A","STCG B","STCG C","STCG D","STCG E","STCG F","STCG G","STCG H","STCG I","STCG J","STCG A","STCG B","STCG C","STCG D","STCG E","STCG F","STCG G","STCG H","STCG I","STCG J"]
["01:Farm Products","02, 03, 30",2,3,30,0,0,0,0,0,0,0,{"$f":"'Lookup Tables'!M332","v":293.58112294736748},{"$f":"'Lookup Tables'!N332","v":890.38362377708859},{"$f":"'Lookup Tables'!O332","v":13446.866363995263}]
["08:Forest Products","03, 24",3,24,0,0,0,0,0,0,0,0,{"$f":"'Lookup Tables'!M333","v":890.38362377708859},{"$f":"'Lookup Tables'!N333","v":3403.2489017772541}]
["10:Metallic Ores",14,14,0,0,0,0,0,0,0,0,0,{"$f":"'Lookup Tables'!M334","v":414.84651983254446}]
["11:Coal",15,15,0,0,0,0,0,0,0,0,0,{"$f":"'Lookup Tables'!M335","v":40.461281179221317}]
["14:Nonmetallic Minerals; except Fuels","12, 41, 11, 12, 19, 13, 20, 22, 07",12,41,11,12,19,13,20,22,7,0,{"$f":"'Lookup Tables'!M336","v":11.755822970459487},{"$f":"'Lookup Tables'!N336","v":402.50169803248752},{"$f":"'Lookup Tables'!O336","v":18.687446275511459},{"$f":"'Lookup Tables'!P336","v":11.755822970459487},{"$f":"'Lookup Tables'!Q336","v":659.70705716936709},{"$f":"'Lookup Tables'!R336","v":112.94599943454905},{"$f":"'Lookup Tables'!S336","v":891.48539608262956},{"$f":"'Lookup Tables'!T336","v":496.29070070330806},{"$f":"'Lookup Tables'!U336","v":1254.9288291785547}]
["19:Ordnance or Accessories",40,40,0,0,0,0,0,0,0,0,0,{"$f":"'Lookup Tables'!M337","v":7384.9224264216273}]
["20:Food or Kindred Products","05, 07, 04, 06, 03,",5,7,4,6,3,0,0,0,0,0,{"$f":"'Lookup Tables'!M338","v":3676.0224847687391},{"$f":"'Lookup Tables'!N338","v":1254.9288291785547},{"$f":"'Lookup Tables'!O338","v":560.78897951144393},{"$f":"'Lookup Tables'!P338","v":1491.4980978373237},{"$f":"'Lookup Tables'!Q338","v":890.38362377708859}]
["22:Textile Mill Products","30, 36, 27, 04, 23, 31, ",30,36,27,4,23,31,0,0,0,0,{"$f":"'Lookup Tables'!M339","v":13446.866363995263},{"$f":"'Lookup Tables'!N339","v":8416.0998785571264},{"$f":"'Lookup Tables'!O339","v":1050.7060884938987},{"$f":"'Lookup Tables'!P339","v":560.78897951144393},{"$f":"'Lookup Tables'!Q339","v":3161.542104300569},{"$f":"'Lookup Tables'!R339","v":217.48371288221017}]
["23:Apparel, or Other Finished Textile Products or Knit Apparel","30, 36, 40",30,36,40,0,0,0,0,0,0,0,{"$f":"'Lookup Tables'!M340","v":13446.866363995263},{"$f":"'Lookup Tables'!N340","v":8416.0998785571264},{"$f":"'Lookup Tables'!O340","v":7384.9224264216273}]
["24:Lumber or Wood Products; except Furniture - see Major Industry Group 25","25, 26, 41",25,25,41,0,0,0,0,0,0,0,{"$f":"'Lookup Tables'!M341","v":123.58331507316242},{"$f":"'Lookup Tables'!N341","v":123.58331507316242},{"$f":"'Lookup Tables'!O341","v":402.50169803248752}]
["25:Furniture or Fixtures","39, 33, 36, 37",39,33,36,37,0,0,0,0,0,0,{"$f":"'Lookup Tables'!M342","v":7046.28821539214},{"$f":"'Lookup Tables'!N342","v":3698.9788235733695},{"$f":"'Lookup Tables'!O342","v":8416.0998785571264},{"$f":"'Lookup Tables'!P342","v":52329.655361851743}]
["26:Pulp, Paper or Allied Products","27, 20, 28, 26",27,20,28,26,0,0,0,0,0,0,{"$f":"'Lookup Tables'!M343","v":1050.7060884938987},{"$f":"'Lookup Tables'!N343","v":891.48539608262956},{"$f":"'Lookup Tables'!O343","v":1654.6197178534389},{"$f":"'Lookup Tables'!P343","v":566.84185513787031}]
["27:Printed Matter",29,29,0,0,0,0,0,0,0,0,0,{"$f":"'Lookup Tables'!M344","v":4265.8280942800966}]
["28:Chemicals or Allied Products","31, 20, 22, 23",31,20,22,23,0,0,0,0,0,0,{"$f":"'Lookup Tables'!M345","v":217.48371288221017},{"$f":"'Lookup Tables'!N345","v":891.48539608262956},{"$f":"'Lookup Tables'!O345","v":496.29070070330806},{"$f":"'Lookup Tables'!P345","v":3161.542104300569}]
["29:Petroleum or Coal Products","17, 18, 19, 20, 31, 15, 23",17,18,19,20,31,15,23,0,0,0,{"$f":"'Lookup Tables'!M346","v":1029.4863335098833},{"$f":"'Lookup Tables'!N346","v":931.23187717068038},{"$f":"'Lookup Tables'!O346","v":659.70705716936709},{"$f":"'Lookup Tables'!P346","v":891.48539608262956},{"$f":"'Lookup Tables'!Q346","v":217.48371288221017},{"$f":"'Lookup Tables'!R346","v":40.461281179221317},{"$f":"'Lookup Tables'!S346","v":3161.542104300569}]
["30:Rubber or Miscellaneous Plastics Products","24, 30, 36, ",24,30,36,0,0,0,0,0,0,0,{"$f":"'Lookup Tables'!M347","v":3403.2489017772541},{"$f":"'Lookup Tables'!N347","v":13446.866363995263},{"$f":"'Lookup Tables'!O347","v":8416.0998785571264}]
["31:Leather or Leather Products","30, 24",30,24,0,0,0,0,0,0,0,0,{"$f":"'Lookup Tables'!M348","v":13446.866363995263},{"$f":"'Lookup Tables'!N348","v":3403.2489017772541}]
["32:Clay, Concrete, Glass or Stone Products","31, 36, 35, ",31,36,35,0,0,0,0,0,0,0,{"$f":"'Lookup Tables'!M349","v":217.48371288221017},{"$f":"'Lookup Tables'!N349","v":8416.0998785571264},{"$f":"'Lookup Tables'!O349","v":22296.523534441407}]
["33:Primary Metal Products, including Galvanized; except Coating or other Allied Processing - see Major Industry Group 34","32, 33",32,33,0,0,0,0,0,0,0,0,{"$f":"'Lookup Tables'!M350","v":1712.8545401763815},{"$f":"'Lookup Tables'!N350","v":3698.9788235733695}]
["34:Fabricated Metal Products; except Ordnance - see Major Industry Groups 19, 35, 36, or 37",33,33,0,0,0,0,0,0,0,0,0,{"$f":"'Lookup Tables'!M351","v":3698.9788235733695}]
["35:Machinery; except Electrical - see Major Industry Group 36","33, 34, 37, 31,",33,34,37,31,0,0,0,0,0,0,{"$f":"'Lookup Tables'!M352","v":3698.9788235733695},{"$f":"'Lookup Tables'!N352","v":10987.647321487635},{"$f":"'Lookup Tables'!O352","v":52329.655361851743},{"$f":"'Lookup Tables'!P352","v":217.48371288221017}]
["36:Electrical Machinery, Equipment or Supplies","31, 33, 35, 34, 39",31,33,35,34,39,0,0,0,0,0,{"$f":"'Lookup Tables'!M353","v":217.48371288221017},{"$f":"'Lookup Tables'!N353","v":3698.9788235733695},{"$f":"'Lookup Tables'!O353","v":22296.523534441407},{"$f":"'Lookup Tables'!P353","v":10987.647321487635},{"$f":"'Lookup Tables'!Q353","v":7046.28821539214}]
["37:Transportation Equipments","37, 34, 36, 40, 33,  ",37,34,36,40,33,0,0,0,0,0,{"$f":"'Lookup Tables'!M354","v":52329.655361851743},{"$f":"'Lookup Tables'!N354","v":10987.647321487635},{"$f":"'Lookup Tables'!O354","v":8416.0998785571264},{"$f":"'Lookup Tables'!P354","v":7384.9224264216273},{"$f":"'Lookup Tables'!Q354","v":3698.9788235733695}]
["38:Instruments, Photographic Goods, Optical Goods, Watches or Clocks","38, 21, 39, 31",38,21,39,31,0,0,0,0,0,0,{"$f":"'Lookup Tables'!M355","v":62632.15986394557},{"$f":"'Lookup Tables'!N355","v":54560.979144729143},{"$f":"'Lookup Tables'!O355","v":7046.28821539214},{"$f":"'Lookup Tables'!P355","v":217.48371288221017}]
["39:Miscellaneous Products of Manufacturing","33, 40, 03, 24, 29, 30, 23, 34, 39, 07",33,40,3,24,29,30,23,34,39,7,{"$f":"'Lookup Tables'!M356","v":3698.9788235733695},{"$f":"'Lookup Tables'!N356","v":7384.9224264216273},{"$f":"'Lookup Tables'!O356","v":890.38362377708859},{"$f":"'Lookup Tables'!P356","v":3403.2489017772541},{"$f":"'Lookup Tables'!Q356","v":4265.8280942800966},{"$f":"'Lookup Tables'!R356","v":13446.866363995263},{"$f":"'Lookup Tables'!S356","v":3161.542104300569},{"$f":"'Lookup Tables'!T356","v":10987.647321487635},{"$f":"'Lookup Tables'!U356","v":7046.28821539214},{"$f":"'Lookup Tables'!V356","v":1254.9288291785547}]
["40:Waste or Scrap Materials Not Identified by Producing Industry",41,41,0,0,0,0,0,0,0,0,0,{"$f":"'Lookup Tables'!M357","v":402.50169803248752}]
["41:Miscellaneous Freight Shipments","34, 40, 35, 43, 38, 33, 29, 24, 42, 43",34,40,35,43,38,33,29,24,42,43,{"$f":"'Lookup Tables'!M358","v":10987.647321487635},{"$f":"'Lookup Tables'!N358","v":7384.9224264216273},{"$f":"'Lookup Tables'!O358","v":22296.523534441407},{"$f":"'Lookup Tables'!P358","v":4109.3358073903464},{"$f":"'Lookup Tables'!Q358","v":62632.15986394557},{"$f":"'Lookup Tables'!R358","v":3698.9788235733695},{"$f":"'Lookup Tables'!S358","v":4265.8280942800966},{"$f":"'Lookup Tables'!T358","v":3403.2489017772541},null,{"$f":"'Lookup Tables'!V358","v":4109.3358073903464}]
["42:Containers, Carriers or Devices, Shipping, Returned Empty",42,42,0,0,0,0,0,0,0,0,0]
["46:Miscellaneous Mixed Shipments","43, 33, 34, 30, 31",43,33,34,30,31,0,0,0,0,0,{"$f":"'Lookup Tables'!M360","v":4109.3358073903464},{"$f":"'Lookup Tables'!N360","v":3698.9788235733695},{"$f":"'Lookup Tables'!O360","v":10987.647321487635},{"$f":"'Lookup Tables'!P360","v":13446.866363995263},{"$f":"'Lookup Tables'!Q360","v":217.48371288221017}]
["47:Small Packaged Freight Shipments",43,43,0,0,0,0,0,0,0,0,0,{"$f":"'Lookup Tables'!M361","v":4109.3358073903464}]
["48:Hazardous Wastes",41,41,0,0,0,0,0,0,0,0,0,{"$f":"'Lookup Tables'!M362","v":402.50169803248752}]
["49:Hazardous Materials","40, 23, 41, 20, 34, 19, 17, 08, 13",40,23,41,20,34,19,17,8,13,0,{"$f":"'Lookup Tables'!M363","v":7384.9224264216273},{"$f":"'Lookup Tables'!N363","v":3161.542104300569},{"$f":"'Lookup Tables'!O363","v":402.50169803248752},{"$f":"'Lookup Tables'!P363","v":891.48539608262956},{"$f":"'Lookup Tables'!Q363","v":10987.647321487635},{"$f":"'Lookup Tables'!R363","v":659.70705716936709},{"$f":"'Lookup Tables'!S363","v":1029.4863335098833},{"$f":"'Lookup Tables'!T363","v":1843.6684670122802},{"$f":"'Lookup Tables'!U363","v":112.94599943454905}]
[]
[]
[]
[]
[]
["SCTG\ncode (1)","Commodity description (2-digit)","Average Value per Ton (2018 Dollars)","2012 Value (million $)","2018 Value    (million $)","Value (Percent of Total)","2012 Tons (thousands)","Tons (Percent of Total)","2012 Ton-miles (2) (millions)","Ton-miles (Percent of Total)","2012 Average miles per shipment","Value CV (3)","Standard Error for Value (Percent of Total)","Tons CV","Standard Error for Tons (Percent of Total)","Ton-miles CV","Standard Error for Ton-miles (Percent of Total)","Average miles per shipment CV"]
[null,"All Commodities",{"$f":"1000*E406/G406","v":1278.5729177630676},13625059,{"$f":"D406*1.0975","v":14953502.252499999},"100.0","11,695,463","100.0","3,319,666","100.0","586","1.0","0.0","1.2","0.0","3.9","0.0","1.4"]
[1,"Live animals and live fish",{"$f":"1000*E407/G407","v":2889.8257042253522},"7,478",{"$f":"D407*1.0975","v":8207.1049999999996},"0.1","2,840","Z","1,246","Z","946","19.1","Z","26.4","Z","31.5","Z","17.8"]
[2,"Cereal grains (includes seed)",{"$f":"1000*E408/G408","v":293.58112294736748},"121,312",133139.91999999998,"0.9","453,503","3.9","162,647","4.9","265","4.9","Z","3.9","0.2","7.8","0.5","18.1"]
[3,"Agricultural products (excludes animal feed, cereal grains, and forage products)",{"$f":"1000*E409/G409","v":890.38362377708859},"182,353",200132.41749999998,"1.3","224,771","1.9","119,528","3.6","516","3.5","Z","5.0","0.1","6.7","0.4","18.3"]
[4,"Animal feed, eggs, honey, and other products of animal origin",560.78897951144393,"114,147",125276.33249999999,"0.8","223,393","1.9","57,800","1.7","494","3.7","Z","5.4","0.1","5.4","0.1","13.9"]
[5,"Meat, poultry, fish, seafood, and their preparations",3676.0224847687391,"302,921",332455.79749999999,"2.2","90,439","0.8","43,185","1.3","206","4.9","0.1","5.4","Z","7.5","0.1","12.1"]
[6,"Milled grain products and preparations and bakery products",1491.4980978373237,"164,323",180344.49249999999,"1.2","120,915","1.0","58,984","1.8","169","3.9","0.1","5.2","0.1","4.6","0.1","16.6"]
[7,"Other prepared foodstuffs and fats and oils (4)",1254.9288291785547,"597,943",656242.4425,"4.4","522,932","4.5","180,437","5.4","318","3.2","0.1","2.3","0.1","7.8","0.5","12.3"]
[8,"Alcoholic beverages, and Denatured Alcohol (5)",1843.6684670122802,"170,444",187062.28999999998,"1.3","101,462","0.9","33,192","1.0","82","2.7","Z","4.1","Z","6.5","0.1","16.8"]
[9,"Tobacco products",22877.644805393804,"68,018",74649.75499999999,"0.5","3,263","Z","650","Z","600","17.1","0.1","18.3","Z","11.5","Z","20.8"]
[10,"Monumental or building stone",374.58036763181536,"4,939",5420.5524999999998,"Z","14,471","0.1","2,010","0.1","162","6.3","Z","16.1","Z","14.2","Z","17.8"]
[11,"Natural sands",18.687446275511459,"6,933",7608.9674999999997,"0.1","407,170","3.5","31,927","1.0","58","11.3","Z","11.6","0.4","7.4","0.1","12.6"]
[12,"Gravel and crushed sone (excludes dolomite and slate)",11.755822970459487,"19,062",20920.544999999998,"0.1","1,779,590","15.2","108,022","3.3","34","2.1","Z","3.2","0.4","9.2","0.3","7.0"]
[13,"Other nonmetallic minerals, nec",112.94599943454905,"13,468",14781.13,"0.1","130,869","1.1","37,736","1.1","261","6.0","Z","5.5","0.1","11.8","0.1","11.8"]
[14,"Metallic ores and concentrates",414.84651983254446,"30,428",33394.729999999996,"0.2","80,499","0.7","38,215","1.2","412","8.7","Z","24.3","0.2","27.9","0.3","14.7"]
[15,"Coal",40.461281179221317,"50,362",55272.294999999998,"0.4","1,366,054","11.7","982,517","29.6","88","4.0","Z","8.4","0.9","14.9","3.2","11.0"]
[17,"Gasoline, aviation turbine fuel, and ethanol (includes kerosene, and fuel alcohols) (6)",1029.4863335098833,"1,172,425",1286736.4375,"8.6","1,249,882","10.7",97614,"2.9","48","1.9","0.2","1.8","0.2","9.1","0.2","2.7"]
[18,"Fuel oils (includes diesel, bunker C, and biodiesel) (7)",931.23187717068038,"642,774",705444.46499999997,"4.7","757,539","6.5","126,919","3.8","29","5.4","0.2","6.1","0.3","29.4","1.1","5.1"]
[19,"Other coal and petroleum products, n.e.c. (8)",659.70705716936709,"274,036",300754.50999999995,"2.0","455,891","3.9","78,773","2.4","78","4.5","0.1","4.7","0.2","8.3","0.2","6.7"]
[20,"Basic chemicals",891.48539608262956,"294,403",323107.29249999998,"2.2","362,437","3.1","147,018","4.4","575","4.0","0.1","5.1","0.2","6.9","0.4","10.8"]
[21,"Pharmaceutical products",54560.979144729143,"849,809",932665.37749999994,"6.2","17,094","0.1","8,755","0.3","666","5.5","0.3","8.2","Z","21.2","Z","8.7"]
[22,"Fertilizers",496.29070070330806,"79,856",87641.959999999992,"0.6","176,594","1.5","67,622","2.0","178","7.5","Z","9.4","0.1","10.1","0.2","19.3"]
[23,"Chemical products and preparations, nec",3161.542104300569,"330,765",363014.58749999997,"2.4","114,822","1.0","52,202","1.6","617","3.8","0.1","5.3","0.1","6.0","0.1","3.5"]
[24,"Plastics and rubber",3403.2489017772541,"540,008",592658.77999999991,"4.0","174,145","1.5","94,590","2.8","497","2.3","0.1","5.7","0.1","6.4","0.3","4.6"]
[25,"Logs and other wood in the rough",123.58331507316242,"4,625",5075.9375,"Z","41,073","0.4","4,830","0.1","246","11.9","Z","12.9","Z","10.8","Z","29.4"]
[26,"Wood products",566.84185513787031,"151,064",165792.74,"1.1","292,485","2.5","74,867","2.3","293","1.9","Z","4.0","0.1","6.2","0.2","4.4"]
[27,"Pulp, newsprint, paper, and paperboard",1050.7060884938987,"121,296",133122.35999999999,"0.9","126,698","1.1","71,945","2.2","257","2.7","Z","4.9","Z","6.5","0.1","7.7"]
[28,"Paper or paperboard articles",1654.6197178534389,"139,570",153178.07499999998,"1.0","92,576","0.8","35,862","1.1","675","6.4","0.1","6.9","0.1","10.0","0.1","13.3"]
[29,"Printed products",4265.8280942800966,"170,019",186595.85249999998,"1.2","43,742","0.4","16,876","0.5","546","5.2","0.1","11.5","Z","7.2","Z","8.1"]
[30,"Textiles, leather, and articles of textiles or leather",13446.866363995263,"527,595",579035.51249999995,"3.9","43,061","0.4","23,604","0.7","1,027","11.0","0.4","5.6","Z","5.3","Z","1.2"]
[31,"Nonmetallic mineral products",217.48371288221017,"170,640",187277.4,"1.3","861,110","7.4","92,791","2.8","356","2.1","Z","3.2","0.2","3.6","0.2","5.4"]
[32,"Base metal in primary or semifinished forms and in finished basic shapes",1712.8545401763815,"467,724",513327.08999999997,"3.4","299,691","2.6","109,460","3.3","331","2.0","0.1","2.7","0.1","3.3","0.2","4.3"]
[33,"Articles of base metal",3698.9788235733695,"360,808",395986.77999999997,"2.6","107,053","0.9","46,261","1.4","503","1.9","Z","3.4","Z","4.2","0.1","2.3"]
[34,"Machinery",10987.647321487635,"756,701",830479.34749999992,"5.6","75,583","0.6","44,109","1.3","456","1.6","0.1","5.1","Z","8.5","0.2","4.0"]
[35,"Electronic and other electrical equipment and components and office equipment",22296.523534441407,"974,160",1069140.5999999999,"7.1","47,951","0.4","28,434","0.9","757","2.8","0.2","6.1","Z","4.4","0.1","2.9"]
[36,"Motorized and other vehicles (including parts)",8416.0998785571264,"934,536",1025653.2599999999,"6.9","121,868","1.0","56,077","1.7","423","3.4","0.3","4.0","Z","7.0","0.1","4.4"]
[37,"Transportation equipment, nec",52329.655361851743,"325,469",357202.22749999998,"2.4","6,826","0.1","3,588","0.1","912","7.1","0.2","12.4","Z","8.3","Z","3.9"]
[38,"Precision instruments and apparatus",62632.15986394557,"343,949",377484.02749999997,"2.5","6,027","0.1","4,836","0.1","946","2.7","0.1","5.1","Z","6.6","Z","3.0"]
[39,"Furniture, mattresses and mattress supports, lamps, lighting fittings, and illuminated signs",7046.28821539214,"157,503",172859.54249999998,"1.2","24,532","0.2","12,947","0.4","737","14.5","0.2","9.4","Z","9.4","Z","8.0"]
[40,"Miscellaneous manufactured products",7384.9224264216273,"505,270",554533.82499999995,"3.7","75,090","0.6","33,058","1.0","952","2.9","0.1","7.5","Z","4.9","Z","3.2"]
[41,"Waste and scrap",402.50169803248752,"83,153",91260.417499999996,"0.6","226,733","1.9","50,760","1.5","169","6.1","Z","11.3","0.2","7.2","0.1","12.5"]
[42,"Containers, Carriers or Devices, Shipping, Returned Empty",0]
[43,"Mixed freight",4109.3358073903464,"1,388,304",1523663.64,"10.2","370,781","3.2","77,239","2.3","370","4.5","0.4","3.3","0.1","4.1","0.1","3.5"]
[99,"Commodity unknown",2439.0708955223877,"4,467",4902.5324999999993,"Z","2,010","Z","535","Z","1,122","24.3","Z","19.2","Z","22.1","Z","21.8"]
["KEY: \nZ - Less than half the unit shown. For the 2012 CFS, represents an estimate that is between zero and half the unit shown, thus, has rounded down to zero."]
["(1) Standard Classification of Transported Goods.\n(2) Ton-miles estimates are based on estimated distances traveled along a modeled transportation network.\n(3) Coefficient of Variation.\n(4) Other prepared foodstuffs and fats and oils.  Prior to the 2012 CFS, the Commodity Code 07 included “fats and oils” that were intended for use in biodiesel. In the 2012 CFS, biodiesel is listed in specific 5-digit SCTG codes under Commodity Code 18.\n(5) Alcoholic beverages, and denatured Alcohol. For the 2012 CFS, Commodity Code 08 was modified, and alcohol intended for use as fuel, i.e. ethanol, was assigned under the listing of Commodity Code 17.\n(6) Gasoline, aviation turbine fuel, and ethanol (includes kerosene and fuel alcohols). For the 2012 CFS, Commodity Code 17 was modified to include ethanol, fuel alcohols, and kerosene.  In previous CFS cycles, fuel alcohols were not explicitly identified, and alcohols were classified under Commodity Code 08. Prior to 2012 CFS, kerosene which is mostly used as turbine fuel was classified under Commodity Code 19.\n(7) Fuel oils (includes diesel, bunker C, and biodiesel). For the 2012 CFS, Commodity Code 18 was modified to include oils and fats that were for use in biodiesel. In previous CFS cycles, biodiesel was not specifically identified in the Standard Classification of Transported Goods. In the 2012 CFS, SCTG 18, was expanded to include blends of fuel oils and biodiesel.\n(8) Coal and petroleum products, not elsewhere classified. For the CFS cycles prior to the 2012 CFS, kerosene was included under Commodity Code 19. In the 2012 CFS kerosene was moved to SCTG 17."]
["NOTES: These data are preliminary and are subject to change; they will be superseded by data released in later reports. Value-of-shipment estimates have not been adjusted for price changes. Estimated measures of sampling variability for each estimate known as coefficients of variation (CV) are also provided in these tables.\nMore information on sampling error, confidentiality protection, nonsampling error, sample design, and definitions may be found at http://www.rita.dot.gov/bts/sites/rita.dot.gov.bts/files/publications/commodity_flow_survey/html/methodology_2012.html."]
["SOURCE:  U.S. Department of Transportation, Research and Innovative Technology Administration, Bureau of Transportation Statistics and U.S. Department of Commerce, U.S. Census Bureau, 2012 Economic Census: Transportation Commodity Flow Survey, Preliminary Release, December 2013."]
[]
[]
[]
["Costs per Hour Delay Guideposts"]
["Monitization Factor","Cost per Hour",null,null,"Train Type","Ave. of Number of Locomotives"]
["Amtrak Passenger",30,null,null,"Freight Train",2.319628647214854]
["General Merchandise Freight",50,null,null,"Passenger Train",1.5185185185185186]
["Customer Freight/General Merchandise Car",800,null,null,"Average",2.266089108910891]
["Intermodal",150,null,null,"Source: FRA 6180.54 1990-2019"]
["Customer Freight/Intermodal Unit",1000]
["Express Intermodal",500]
["Source: Jim Blaze. \"Amtrak vs. Freight Railroads: Shippers, You Are Impacted.\" Railway Age. November 2019. Online: https://www.railwayage.com/author/jblaze"]
[]
[]
["Costs per Hour Delay Guideposts - Crew and Operating Costs"]
["Delay Cost Category","Hourly Cost","Hourly Cost $2022","Cost  per Minute $2022"]
["Crew (Per Train-hour)",79.53,{"$f":"(B470*$R$22)*$R$14","v":107.49274800000001},{"$f":"C470/60","v":1.7915458000000002}]
["Locomotive Ownership (per-locomotive hour)",26.36,{"$f":"(B471*$R$22)*$R$14","v":35.628176000000003},{"$f":"C471/60","v":0.59380293333333334}]
["Locomotive Lease (per-locomotive hour)",66.73,90.192268000000013,{"$f":"C472/60","v":1.5032044666666668}]
["Locomotive Fuel (per-locomotive hour)",185,250.04600000000002,{"$f":"C473/60","v":4.1674333333333333}]
["Other Car Cost (per car-hour)",0.57999999999999996,0.78392799999999996,{"$f":"C474/60","v":1.3065466666666666E-2}]
["Source: Lovett, A., Dick, C., Barkan, C. \"Determining Freight Train Delay Costs on Railroad Lines in North American.\" 2015. Online: https://railtec.illinois.edu/wp/wp-content/uploads/2019/01/Lovett-et-al-2015-IAROR.pdf"]
[null,null,null,null,null,null,null,null,null,null,"Upstream Delay"]
["Costs per Hour Delay Guideposts - Shipper Costs / Opportunity Cost",null,null,null,null,null,"Row Labels","Sum of Aggregate Tons","Count of Shipper Cost Category",null,"Monetization Factor","Value Section"]
["Commodities","Daily Rate","Daily Hourly Rate","Rate per Minute",null,null,"B",8607291,0.15625,null,"Crew Size1",2]
["Perishable",0.15,{"$f":"B479/24","v":6.2499999999999995E-3},{"$f":"C479/60","v":1.0416666666666666E-4},null,null,"O",21084495,0.78125,null,"Crew Size VOT2",41.6]
["Bulk",0.05,{"$f":"B480/24","v":2.0833333333333333E-3},{"$f":"C480/60","v":3.4722222222222222E-5},null,null,"P",8042206,6.25E-2,null,"Value of Freight Cargo per Ton",{"$f":"F181","v":2200.5176470588235}]
["Other",0.1,{"$f":"B481/24","v":4.1666666666666666E-3},{"$f":"C481/60","v":6.9444444444444444E-5},null,null,"Grand Total",37733992,1,null,"Freight Tons per Carload",{"$f":"E198","v":65}]
["NC Waybill Commodity Mix",{"$f":"(B479*I485)+(B480*I483)+(B481*I484)","v":9.5312499999999994E-2},{"$f":"B482/24","v":3.9713541666666664E-3},{"$f":"C482/60","v":6.6189236111111104E-5},null,null,null,null,null,null,"Freight Carloads per Train",{"$f":"B213","v":25.594669117647058}]
["NCHRP 755",{"$f":"C483*24","v":9.6000000000000002E-2},4.0000000000000001E-3,{"$f":"C483/60","v":6.666666666666667E-5},null,null,"Bulk",8607291,0.15625,null,"Total Minutes of Cargo Delay","see cost calculator for guideposts"]
[null,null,null,null,null,null,"Other",21084495,0.78125,null,"Shipper Costs (Cargo Disc. Rate Per Minute)1",{"$f":"D482","v":6.6189236111111104E-5}]
["Public Costs: Environment",null,null,null,null,null,"Perishable",8042206,6.25E-2,null,"1Office of Legislative Research. \"Train Crew Size Mandates.\" Online: https://www.cga.ct.gov/2020/rpt/pdf/2020-R-0148.pdf"]
["Pollutant","Running Cost ($/locomotive hour)","Running Cost ($/locomotive hour $2022)","$/Locomotive minute ($2022)",null,null,null,null,null,null,"2Rate for Locomotive Engineer, SIAP Grant"]
["CO2",25.35,{"$f":"B487*$R$20*$R$14","v":33.157800000000002},{"$f":"C487/60","v":0.55263000000000007}]
["NOx",103.02,{"$f":"B488*$R$20*$R$14","v":134.75015999999999},{"$f":"C488/60","v":2.2458359999999997}]
["PM",175.42,229.44936000000001,{"$f":"C489/60","v":3.8241560000000003}]
["Total",{"$f":"SUM(B487:B489)","v":303.78999999999996},397.35731999999996,{"$f":"C490/60","v":6.6226219999999989}]
["Source: Lovett, A., Dick, C., Barkan, C. \"Determining Freight Train Delay Costs on Railroad Lines in North American.\" 2015. Online: https://railtec.illinois.edu/wp/wp-content/uploads/2019/01/Lovett-et-al-2015-IAROR.pdf"]
[]
[]
["First Responder Tables (Rows 466-xxx)"]
[]
["Step","Number of Indiviudals Reponding to Event by Type",null,null,null,null,null,null,"Number of Indiviudals Responding to Event by Type - Time Involved",null,null,null,null,null,null,null,"Number of Vehicles Responding to Event by Type",null,null,null,null,null,null,null,"Vehicle Time Involved in Incident"]
[null,"Low Impact",null,null,null,null,null,null,"Low Impact",null,null,null,null,null,null,null,"Low Impact",null,null,null,null,null,null,null,"Low Impact"]
[null,"Incident Response Type","Minimum","Mean","Maximum","Mode","No. of Observations",null,"Incident Response Type","Minimum","Mean","Maximum","Mode","No. of Observations",null,null,"Step","Emergency Response Vehicle","Minimum","Mean","Maximum","Mode","No. of Observations",null,"Step","Emergency Response Vehicle","Minimum","Mean","Maximum","Mode","No. of Observations"]
["4.A","Law Enforcement / Sheriff's Office / State Highway Patrol",0,1.4,5,1,7,null,"Law Enforcement / Sheriff's Office / State Highway Patrol","00:11:59",{"$f":"(J499+L499)/2","v":"01:12:11.500"},"02:12:24","--",2,null,null,"4.F","Ambulance / EMS",1,{"$f":"4/7","v":0.5714285714285714},2,1,7,null,"4.F","Ambulance / EMS","00:17:01","00:19:40.333","00:22:00","--",3]
["4.B","EMS / Medic / County Rescue",0,{"$f":"11/11","v":1},2,2,7,null,"EMS / Medic / County Rescue","00:17:58","00:19:29","00:17:58","--",2,null,null,"4.G","Fire Engine",0,{"$f":"4/7","v":0.5714285714285714},2,1,7,null,"4.G","Fire Engine","00:13:11","00:16:26.250","00:19:41","--",2]
["4.C","Fire Department",0,{"$f":"14/7","v":2},5,1,7,null,"Fire Department","00:08:49",{"$f":"(J501+L501)/2","v":"00:14:15"},"00:19:41","--",2,null,null,"4.H","Fire Rescue Truck (Ladder Truck)",0,0,0,0,7,null,"4.H","Fire Rescue Truck (Ladder Truck)","00:00:00","00:00:00","00:00:00","--",0]
["4.D","Contract Workers or Other Safety Response Personnel",0,0,0,0,0,null,"Contract Workers or Other Safety Response Personnel",{"$f":"J499","v":"00:11:59"},{"$f":"K499","v":"01:12:11.500"},{"$f":"L499","v":"02:12:24"},"--",2,null,null,"4.I","Police Cars",1,{"$f":"7/7","v":1},3,1,7,null,"4.I","Police Cars","00:14:06","00:43:40","02:12:24","--",2]
["4.E","Hazmat Team",0,0,0,0,0,null,"Hazmat Team","00:00:00","00:00:00","00:00:00","--",0,null,null,"4.J","Helicopter",0,0,0,0,7,null,"4.J","Helicopter","00:00:00","00:00:00","00:00:00","--",0]
[null,null,null,null,null,null,null,null,null,null,null,null,null,null,null,null,"4.K","*Other",0,{"$f":"5/7","v":0.7142857142857143},2,0,7,null,"4.K","*Other","00:18:55","00:18:55","00:18:55","--",1]
["Step","Number of Indiviudals Reponding to Event by Type",null,null,null,null,null,null,"Number of Indiviudals Responding to Event by Type - Time Involved"]
[null,"Medium Impact",null,null,null,null,null,null,"Medium Impact",null,null,null,null,null,null,null,"Number of Vehicles Responding to Event by Type",null,null,null,null,null,null,null,"Vehicle Time Involved in Incident"]
[null,"Incident Response Type","Minimum","Mean","Maximum","Mode","No. of Observations",null,"Incident Response Type","Minimum","Mean","Maximum","Mode","No. of Observations",null,null,"Medium Impact",null,null,null,null,null,null,null,"Medium Impact"]
["4.A","Law Enforcement / Sheriff's Office / State Highway Patrol",0,1.8,6,2,19,null,"Law Enforcement / Sheriff's Office / State Highway Patrol","00:37:07","00:51:19","01:13:25","--",5,null,null,"Step","Emergency Response Vehicle","Minimum","Mean","Maximum","Mode","No. of Observations",null,"Step","Emergency Response Vehicle","Minimum","Mean","Maximum","Mode","No. of Observations"]
["4.B","EMS / Medic / County Rescue",0,{"$f":"31/19","v":1.631578947368421},7,2,19,null,"EMS / Medic / County Rescue","00:05:14","00:26:40","00:45:53","--",5,null,null,"4.F","Ambulance / EMS",1,1,1,1,19,null,"4.F","Ambulance / EMS","00:07:12","00:25:31.333","00:50:06","--",3]
["4.C","Fire Department",0,{"$f":"94/17","v":5.5294117647058822},11,4,19,null,"Fire Department","07:27:00","00:50:48","03:21:18","--",12,null,null,"4.G","Fire Engine",1,{"$f":"15/19","v":0.78947368421052633},4,1,19,null,"4.G","Fire Engine","00:09:48","00:47:47","02:47:17","--",10]
["4.D","Contract Workers or Other Safety Response Personnel",0,0,0,0,0,null,"Contract Workers or Other Safety Response Personnel",{"$f":"J508","v":"00:37:07"},{"$f":"K508","v":"00:51:19"},{"$f":"L508","v":"01:13:25"},"--",0,null,null,"4.H","Fire Rescue Truck (Ladder Truck)",0,{"$f":"7/19","v":0.36842105263157893},1,1,19,null,"4.H","Fire Rescue Truck (Ladder Truck)","00:10:09","00:45:29","02:39:42","--",6]
["4.E","Hazmat Team",0,{"$f":"1/19","v":5.2631578947368418E-2},1,0,19,null,"Hazmat Team","00:10:00","00:10:00","00:10:00","00:10:00",1,null,null,"4.I","Police Cars",1,{"$f":"11/7","v":1.5714285714285714},3,1,19,null,"4.I","Police Cars","00:40:00","01:00:36","01:13:25","--",3]
[null,null,null,null,null,null,null,null,null,null,null,null,null,null,null,null,"4.J","Helicopter",0,0,0,0,19,null,"4.J","Helicopter","00:00:00","00:00:00","00:00:00","--",0]
["Step","Number of Indiviudals Reponding to Event by Type",null,null,null,null,null,null,"Number of Indiviudals Responding to Event by Type - Time Involved",null,null,null,null,null,null,null,"4.K","*Other",0,{"$f":"20/19","v":1.0526315789473684},4,1,19,null,"4.K","*Other","00:07:14","00:24:18","01:05:23","--",7]
[null,"High Impact",null,null,null,null,null,null,"High Impact"]
[null,"Incident Response Type","Minimum","Mean","Maximum","Mode","No. of Observations",null,"Incident Response Type","Minimum","Mean","Maximum","Mode","No. of Observations",null,null,"Number of Vehicles Responding to Event by Type",null,null,null,null,null,null,null,"Vehicle Time Involved in Incident"]
["4.A","Law Enforcement / Sheriff's Office / State Highway Patrol",2,8,20,2,11,null,"Law Enforcement / Sheriff's Office / State Highway Patrol","01:05:57","02:49:44","07:39:15","--",7,null,null,"High Impact",null,null,null,null,null,null,null,"High Impact"]
["4.B","EMS / Medic / County Rescue",2,{"$f":"41/11","v":3.7272727272727271},8,3,11,null,"EMS / Medic / County Rescue","00:11:34","00:55:25","01:30:00","--",5,null,null,"Step","Emergency Response Vehicle","Minimum","Mean","Maximum","Mode","No. of Observations",null,"Step","Emergency Response Vehicle","Minimum","Mean","Maximum","Mode","No. of Observations"]
["4.C","Fire Department",0,{"$f":"72/11","v":6.5454545454545459},20,4,11,null,"Fire Department","00:36:55","01:36:37","04:09:16","01:30:00",7,null,null,"4.F","Ambulance / EMS",1,{"$f":"(1+3+3+5+2+1+1+1+1+1)/11","v":1.7272727272727273},5,1,11,null,"4.F","Ambulance / EMS","00:11:34","00:57:11.486","01:30:00","01:30:00",7]
["4.D","Contract Workers or Other Safety Response Personnel",0,{"$f":"4/4","v":1},3,1,4,null,"Contract Workers or Other Safety Response Personnel","01:30:00","01:30:00","01:30:00","01:30:00",1,null,null,"4.G","Fire Engine",1,{"$f":"20/11","v":1.8181818181818181},4,2,11,null,"4.G","Fire Engine","00:13:24","00:49:55","01:16:40","--",7]
["4.E","Hazmat Team",0,{"$f":"3/11","v":0.27272727272727271},3,0,11,null,"Hazmat Team","00:10:00","00:10:00","00:10:00","00:10:00",1,null,null,"4.H","Fire Rescue Truck (Ladder Truck)",0,{"$f":"6/11","v":0.54545454545454541},2,1,11,null,"4.H","Fire Rescue Truck (Ladder Truck)","00:11:20","00:35:58","01:30:00","--",4]
[null,null,null,null,null,null,null,null,null,null,null,null,null,null,null,null,"4.I","Police Cars",1,{"$f":"59/11","v":5.3636363636363633},13,2,11,null,"4.I","Police Cars","01:05:57","03:06:32","08:49:11","01:30:00",7]
["Step","Number of Indiviudals Reponding to Event by Type",null,null,null,null,null,null,"Number of Indiviudals Responding to Event by Type - Time Involved",null,null,null,null,null,null,null,"4.J","Helicopter",0,{"$f":"1/11","v":9.0909090909090912E-2},1,0,11,null,"4.J","Helicopter","00:36:51","00:36:51","00:36:51","00:36:51",1]
[null,"Very High Impact*",null,null,null,null,null,null,"Very High Impact",null,null,null,null,null,null,null,"4.K","*Other",0,{"$f":"14/11","v":1.2727272727272727},7,1,11,null,"4.K","*Other","00:06:00","00:48:00","01:30:00","--",7]
[null,"Incident Response Type","Minimum","Mean","Maximum","Mode","No. of Observations",null,"Incident Response Type","Minimum","Mean","Maximum","Mode","No. of Observations"]
["4.A","Law Enforcement / Sheriff's Office / State Highway Patrol",10,{"$f":"(20+10)/2","v":15},20,null,2,null,"Law Enforcement / Sheriff's Office / State Highway Patrol",{"$f":"AA529","v":"01:30:00"},"15:25:00",2,{"$f":"AD529","v":"--"},4,null,null,"Number of Vehicles Responding to Event by Type",null,null,null,null,null,null,null,"Vehicle Time Involved in Incident"]
["4.B","EMS / Medic / County Rescue",5,{"$f":"(21+50+5+19+44+7+70)/7","v":30.857142857142858},70,null,7,null,"EMS / Medic / County Rescue","01:30:00","15:25:00",2,{"$f":"AD530","v":"--"},4,null,null,"Very High Impact*",null,null,null,null,null,null,null,"Very High Impact*"]
["4.C","Fire Department",6,{"$f":"(8+30+19+18+70+6)/6","v":25.166666666666668},70,null,6,null,"Fire Department","01:30:00","15:25:00",2,{"$f":"AD531","v":"--"},4,null,null,"Step","Emergency Response Vehicle","Minimum","Mean","Maximum","Mode","No. of Observations",null,"Step","Emergency Response Vehicle","Minimum","Mean","Maximum","Mode","No. of Observations"]
["4.D","Contract Workers or Other Safety Response Personnel",1,{"$f":"(1+8+100+5+10)/5","v":24.8},100,null,5,null,"Contract Workers or Other Safety Response Personnel","01:30:00","15:25:00",2,{"$f":"AD532","v":"--"},4,null,null,"4.F","Ambulance / EMS",5,{"$f":"216/7","v":30.857142857142858},70,null,7,null,"4.F","Ambulance / EMS","01:30:00","15:25:00",2,"--",4]
["4.E","Hazmat Team",4,4,4,null,1,null,"Hazmat Team","01:30:00","15:25:00",2,{"$f":"AD533","v":"--"},4,null,null,"4.G","Fire Engine",6,{"$f":"151/6","v":25.166666666666668},70,null,6,null,"4.G","Fire Engine","01:30:00","15:25:00",2,"--",4]
["*The Very High Impact results are extracted from incident case studies included in the following publication: U.S. Fire Administration Technical Report Series - Special Report: Rail Emergencies. Homeland Security. February 2003. Online: https://www.usfa.fema.gov/downloads/pdf/publications/tr-094.pdf\nAll other results are from phone interviews with North Carolina Public Safety Answering Points (PSAPs) and computer aided dispatch recordes",null,null,null,null,null,null,null,null,null,null,null,null,null,null,null,"4.H","Fire Rescue Truck (Ladder Truck)",1,{"$f":"12/5","v":2.4},4,null,5,null,"4.H","Fire Rescue Truck (Ladder Truck)","01:30:00","15:25:00",2,"--",4]
[null,null,null,null,null,null,null,null,"Time Revised Format (minutes)",null,null,null,null,null,null,null,"4.I","Police Cars",10,10,10,null,5,null,"4.I","Police Cars","01:30:00","15:25:00",2,"--",4]
[null,null,null,null,null,null,null,null,null,null,null,null,null,null,null,null,"4.J","Helicopter",0,{"$f":"30/4","v":7.5},20,null,null,null,"4.J","Helicopter","01:30:00","15:25:00",2,"--",4]
[null,null,null,null,null,null,null,null,"Number of Indiviudals Reponding to Event by Type - Time Involved (minutes)*",null,null,null,null,null,null,null,"4.K","*Other",0,5.5,10,null,4,null,"4.K","*Other","01:30:00","15:25:00",2,"--",4]
[null,null,null,null,null,null,null,null,"Low Impact",null,null,null,null,null,null,null,"*The Very High Impact results are extracted from incident case studies included in the following publication: U.S. Fire Administration Technical Report Series - Special Report: Rail Emergencies. Homeland Security. February 2003. Online: https://www.usfa.fema.gov/downloads/pdf/publications/tr-094.pdf\nAll other results are from phone interviews with North Carolina Public Safety Answering Points (PSAPs) and computer aided dispatch recordes",null,null,null,null,null,null,null,"*The Very High Impact results are extracted from incident case studies included in the following publication: U.S. Fire Administration Technical Report Series - Special Report: Rail Emergencies. Homeland Security. February 2003. Online: https://www.usfa.fema.gov/downloads/pdf/publications/tr-094.pdf\nAll other results are from phone interviews with North Carolina Public Safety Answering Points (PSAPs) and computer aided dispatch recordes"]
[null,null,null,null,null,null,null,null,"Incident Response Type","Minimum","Mean","Maximum","Mode","No. of Observations"]
[null,null,null,null,null,null,null,null,"Law Enforcement / Sheriff's Office / State Highway Patrol",{"$f":"J499*1440","v":11.983333333333334},72.191666666666663,132.4,"--",2]
[null,null,null,null,null,null,null,null,"EMS / Medic / County Rescue",17.966666666666665,19.483333333333334,17.966666666666665,"--",2]
[null,null,null,null,null,null,null,null,"Fire Department",8.8166666666666664,14.25,19.683333333333334,"--",2,null,null,null,null,null,null,null,null,null,null,"Time Revised Format (minutes)"]
[null,null,null,null,null,null,null,null,"Contract Workers or Other Safety Response Personnel",11.983333333333334,72.191666666666663,132.4,"--",0]
[null,null,null,null,null,null,null,null,"Hazmat Team",0,0,0,"--",0,null,null,null,null,null,null,null,null,null,null,"Vehicle Time Involved in Incident"]
[null,null,null,null,null,null,null,null,null,null,null,null,null,null,null,null,null,null,null,null,null,null,null,null,"Low Impact"]
[null,null,null,null,null,null,null,null,"Number of Indiviudals Reponding to Event by Type - Time Involved",null,null,null,null,null,null,null,null,null,null,null,null,null,null,null,"Step","Emergency Response Vehicle","Minimum","Mean","Maximum","Mode","No. of Observations"]
[null,null,null,null,null,null,null,null,"Medium Impact",null,null,null,null,null,null,null,null,null,null,null,null,null,null,null,"4.F","Ambulance / EMS",{"$f":"AA499*1440","v":17.016666666666666},19.672222222222221,22,{"$f":"AD499","v":"--"},3]
[null,null,null,null,null,null,null,null,"Incident Response Type","Minimum","Mean","Maximum","Mode","No. of Observations",null,null,null,null,null,null,null,null,null,null,"4.G","Fire Engine",13.183333333333334,16.4375,19.683333333333334,"--",2]
[null,null,null,null,null,null,null,null,"Law Enforcement / Sheriff's Office / State Highway Patrol",{"$f":"J508*1440","v":37.116666666666667},51.31666666666667,73.416666666666657,"--",5,null,null,null,null,null,null,null,null,null,null,"4.H","Fire Rescue Truck (Ladder Truck)",0,0,0,"--",0]
[null,null,null,null,null,null,null,null,"EMS / Medic / County Rescue",5.2333333333333334,26.666666666666671,45.883333333333333,"--",5,null,null,null,null,null,null,null,null,null,null,"4.I","Police Cars",14.099999999999998,43.666666666666664,132.4,"--",2]
[null,null,null,null,null,null,null,null,"Fire Department",447,50.8,201.3,"--",12,null,null,null,null,null,null,null,null,null,null,"4.J","Helicopter",0,0,0,"--",0]
[null,null,null,null,null,null,null,null,"Contract Workers or Other Safety Response Personnel",37.116666666666667,51.31666666666667,73.416666666666657,"--",0,null,null,null,null,null,null,null,null,null,null,"4.K","*Other",18.916666666666671,18.916666666666671,18.916666666666671,"--",1]
[null,null,null,null,null,null,null,null,"Hazmat Team",10,10,10,{"$f":"M512*1440","v":10},1]
[null,null,null,null,null,null,null,null,null,null,null,null,null,null,null,null,null,null,null,null,null,null,null,null,"Vehicle Time Involved in Incident"]
[null,null,null,null,null,null,null,null,"Number of Indiviudals Reponding to Event by Type - Time Involved",null,null,null,null,null,null,null,null,null,null,null,null,null,null,null,"Medium Impact"]
[null,null,null,null,null,null,null,null,"High Impact",null,null,null,null,null,null,null,null,null,null,null,null,null,null,null,"Step","Emergency Response Vehicle","Minimum","Mean","Maximum","Mode","No. of Observations"]
[null,null,null,null,null,null,null,null,"Incident Response Type","Minimum","Mean","Maximum","Mode","No. of Observations",null,null,null,null,null,null,null,null,null,null,"4.F","Ambulance / EMS",{"$f":"AA509*1440","v":7.2},25.522222222222222,50.100000000000009,{"$f":"AD509","v":"--"},3]
[null,null,null,null,null,null,null,null,"Law Enforcement / Sheriff's Office / State Highway Patrol",{"$f":"J517*1440","v":65.95},169.73333333333332,459.25,{"$f":"M517","v":"--"},7,null,null,null,null,null,null,null,null,null,null,"4.G","Fire Engine",9.8000000000000025,47.783333333333331,167.2833333333333,"--",10]
[null,null,null,null,null,null,null,null,"EMS / Medic / County Rescue",11.566666666666665,55.416666666666664,90,{"$f":"M518","v":"--"},5,null,null,null,null,null,null,null,null,null,null,"4.H","Fire Rescue Truck (Ladder Truck)",10.149999999999999,45.483333333333334,159.70000000000002,"--",6]
[null,null,null,null,null,null,null,null,"Fire Department",36.916666666666664,96.616666666666674,249.26666666666668,{"$f":"M519*1440","v":90},7,null,null,null,null,null,null,null,null,null,null,"4.I","Police Cars",40,60.6,73.416666666666657,"--",3]
[null,null,null,null,null,null,null,null,"Contract Workers or Other Safety Response Personnel",90,90,90,{"$f":"M520*1440","v":90},1,null,null,null,null,null,null,null,null,null,null,"4.J","Helicopter",0,0,0,"--",0]
[null,null,null,null,null,null,null,null,"Hazmat Team",10,10,10,{"$f":"M521*1440","v":10},1,null,null,null,null,null,null,null,null,null,null,"4.K","*Other",7.2333333333333334,24.3,65.38333333333334,"--",7]
[]
[null,null,null,null,null,null,null,null,"Number of Indiviudals Reponding to Event by Type - Time Involved",null,null,null,null,null,null,null,null,null,null,null,null,null,null,null,"Vehicle Time Involved in Incident"]
[null,null,null,null,null,null,null,null,"Very High Impact",null,null,null,null,null,null,null,null,null,null,null,null,null,null,null,"High Impact"]
[null,null,null,null,null,null,null,null,"Incident Response Type","Minimum","Mean","Maximum","Mode","No. of Observations",null,null,null,null,null,null,null,null,null,null,"Step","Emergency Response Vehicle","Minimum","Mean","Maximum","Mode","No. of Observations"]
[null,null,null,null,null,null,null,null,"Law Enforcement / Sheriff's Office / State Highway Patrol",{"$f":"J526*1440","v":90},924.99999999999989,2880,"--",{"$f":"N526","v":4},null,null,null,null,null,null,null,null,null,null,"4.F","Ambulance / EMS",{"$f":"AA519*1440","v":11.566666666666665},{"$f":"AB519*1440","v":57.191428571428574},{"$f":"AC519*1440","v":90},{"$f":"AD519*1440","v":90},{"$f":"AE519","v":7}]
[null,null,null,null,null,null,null,null,"EMS / Medic / County Rescue",90,924.99999999999989,2880,"--",{"$f":"N527","v":4},null,null,null,null,null,null,null,null,null,null,"4.G","Fire Engine",{"$f":"AA520*1440","v":13.399999999999999},49.916666666666664,76.666666666666657,{"$f":"AD520","v":"--"},7]
[null,null,null,null,null,null,null,null,"Fire Department",90,924.99999999999989,2880,"--",{"$f":"N528","v":4},null,null,null,null,null,null,null,null,null,null,"4.H","Fire Rescue Truck (Ladder Truck)",11.333333333333334,35.966666666666669,90,{"$f":"AD521","v":"--"},4]
[null,null,null,null,null,null,null,null,"Contract Workers or Other Safety Response Personnel",90,924.99999999999989,2880,"--",{"$f":"N529","v":4},null,null,null,null,null,null,null,null,null,null,"4.I","Police Cars",65.95,186.53333333333333,529.18333333333328,{"$f":"AD522*1440","v":90},7]
[null,null,null,null,null,null,null,null,"Hazmat Team",90,924.99999999999989,2880,"--",{"$f":"N530","v":4},null,null,null,null,null,null,null,null,null,null,"4.J","Helicopter",36.85,36.85,36.85,{"$f":"AD523*1440","v":36.85},1]
[null,null,null,null,null,null,null,null,"*The Very High Impact results are extracted from incident case studies included in the following publication: U.S. Fire Administration Technical Report Series - Special Report: Rail Emergencies. Homeland Security. February 2003. Online: https://www.usfa.fema.gov/downloads/pdf/publications/tr-094.pdf\nAll other results are from phone interviews with North Carolina Public Safety Answering Points (PSAPs) and computer aided dispatch recordes",null,null,null,null,null,null,null,null,null,null,null,null,null,null,null,"4.K","*Other",6,48,90,{"$f":"AD524","v":"--"},7]
[]
[null,null,null,null,null,null,null,null,null,null,null,null,null,null,null,null,null,null,null,null,null,null,null,null,"Vehicle Time Involved in Incident"]
[null,null,null,null,null,null,null,null,null,null,null,null,null,null,null,null,null,null,null,null,null,null,null,null,"Very High Impact*"]
[null,null,null,null,null,null,null,null,"Personnel Time Costs",null,null,null,null,null,null,null,null,null,null,null,null,null,null,null,"Step","Emergency Response Vehicle","Minimum","Mean","Maximum","Mode","No. of Observations"]
[null,null,null,null,null,null,null,null,null,null,null,null,null,null,null,null,null,null,null,null,null,null,null,null,"4.F","Ambulance / EMS",{"$f":"AA529*1440","v":90},924.99999999999989,2880,{"$f":"AD529","v":"--"},4]
[null,null,null,null,null,null,null,null,"Personnel Time Costs ($2022)",null,null,null,null,null,null,null,null,null,null,null,null,null,null,null,"4.G","Fire Engine",90,924.99999999999989,2880,"--",4]
[null,null,null,null,null,null,null,null,"Incident Response Type","10th Percentile","25th Percentile","Median","75th Percentile","90th Percentile","BLS Code",null,null,null,null,null,null,null,null,null,"4.H","Fire Rescue Truck (Ladder Truck)",90,924.99999999999989,2880,"--",4]
[null,null,null,null,null,null,null,null,"Law Enforcement / Sheriff's Office / State Highway Patrol",{"$f":"15.96*$R$14","v":17.396400000000003},{"$f":"18.14*$R$14","v":19.772600000000001},{"$f":"21.85*$R$14","v":23.816500000000005},{"$f":"26.79*$R$14","v":29.2011},{"$f":"31.62*$R$14","v":34.465800000000002},"33-3051: Police and Sheriff's Patrol Officers"," ",null,null,null,null,null,null,null,null,"4.I","Police Cars",90,924.99999999999989,2880,"--",4]
[null,null,null,null,null,null,null,null,"EMS / Medic / County Rescue",{"$f":"12.44*$R$14","v":13.5596},{"$f":"14.46*$R$14","v":15.761400000000002},{"$f":"17.44*$R$14","v":19.009600000000002},{"$f":"21.24*$R$14","v":23.151599999999998},{"$f":"24.83*$R$14","v":27.064699999999998},"29-2040: Emergency Medical Technicians and Paramedics"," ",null,null,null,null,null,null,null,null,"4.J","Helicopter",90,924.99999999999989,2880,"--",4]
[null,null,null,null,null,null,null,null,"Fire Department",{"$f":"10.18*$R$14","v":11.0962},{"$f":"12.17*$R$14","v":13.265300000000002},{"$f":"15.08*$R$14","v":16.437200000000001},{"$f":"19.58*$R$14","v":21.342199999999998},{"$f":"24.66*$R$14","v":26.8794},"33-2011: Firefighters",null,null,null,null,null,null,null,null,null,"4.K","*Other",90,924.99999999999989,2880,"--",4]
[null,null,null,null,null,null,null,null,"Contract Workers or Other Safety Response Personnel",{"$f":"9.69*$R$14","v":10.562100000000001},{"$f":"10.67*$R$14","v":11.6303},{"$f":"13.21*$R$14","v":14.398900000000001},{"$f":"16.48*$R$14","v":17.963200000000001},{"$f":"18.13*$R$14","v":19.761700000000001},"53-3011: Ambulance Drivers and Attendants, Except Emergency Medical Technicians"," "]
[null,null,null,null,null,null,null,null,"Hazmat Team",{"$f":"12.44*$R$14","v":13.5596},{"$f":"14.46*$R$14","v":15.761400000000002},{"$f":"17.44*$R$14","v":19.009600000000002},{"$f":"21.24*$R$14","v":23.151599999999998},{"$f":"24.83*$R$14","v":27.064699999999998},"29-2040: Emergency Medical Technicians and Paramedics"," ",null,null,null,null,null,null,null,null,"Vehicle Operating Costs"]
[]
[null,null,null,null,null,null,null,null,null,null,null,null,null,null,null,null,null,null,null,null,null,null,null,null,"Step","Emergency Response Vehicle","Low","Medium","High"]
[null,null,null,null,null,null,null,null,null,null,null,null,null,null,null,null,null,null,null,null,null,null,null,null,"4.F","Ambulance / EMS1,2",{"$f":"28.09*$R$14","v":30.618100000000002},{"$f":"((AA584+AC584)/2)","v":37.75215},{"$f":"41.18*$R$14","v":44.886200000000002}]
[null,null,null,null,null,null,null,null,null,null,null,null,null,null,null,null,null,null,null,null,null,null,null,null,"4.G","Fire Engine3",{"$f":"126*$R$14","v":137.34},{"$f":"((AA585+AC585)/2)","v":144.97000000000003},{"$f":"140*$R$14","v":152.60000000000002}]
[null,null,null,null,null,null,null,null,null,null,null,null,null,null,null,null,null,null,null,null,null,null,null,null,"4.H","Fire Rescue Truck (Ladder Truck)4",{"$f":"131.5*$R$14","v":143.33500000000001},{"$f":"((AA586+AC586)/2)","v":170.8175},198.3]
[null,null,null,null,null,null,null,null,null,null,null,null,null,null,null,null,null,null,null,null,null,null,null,null,"4.I","Police Cars5",{"$f":"16.05*$R$14","v":17.494500000000002},{"$f":"16.05","v":16.05},{"$f":"16.05*$R$14","v":17.494500000000002}]
[null,null,null,null,null,null,null,null,null,null,null,null,null,null,null,null,null,null,null,null,null,null,null,null,"4.J","Helicopter6",{"$f":"625.35*$R$14","v":681.63150000000007},{"$f":"625.35","v":625.35},{"$f":"625.35*$R$14","v":681.63150000000007}]
[null,null,null,null,null,null,null,null,null,null,null,null,null,null,null,null,null,null,null,null,null,null,null,null,"4.K","*Other7",{"$f":"19.62*$R$14","v":21.385800000000003},{"$f":"((AA589+AC589)/2)","v":37.04365},{"$f":"48.35*$R$14","v":52.701500000000003}]
[null,null,null,null,null,null,null,null,null,null,null,null,null,null,null,null,null,null,null,null,null,null,null,null,"1\"Public Safety Committee Regular Meeting.\" City of Harrisonville. January 20, 2014.  Online: http://www.ci.harrisonville.mo.us/ArchiveCenter/ViewFile/Item/908",null,null,null,null," "]
[null,null,null,null,null,null,null,null,null,null,null,null,null,null,null,null,null,null,null,null,null,null,null,null,"2\"FEMA Schedule of Equipment Rates 2019.\" Federal Emergency Management Agency. August 2019. Online: https://www.fema.gov/media-library-data/1566918062583-b079c79b86366aa3819da87b011dbe73/FEMA_Schedule_of_Equipment_Rates_2019_508clean_081319.pdf",null,null,null,null," "]
[null,null,null,null,null,null,null,null,null,null,null,null,null,null,null,null,null,null,null,null,null,null,null,null,"3\"FEMA Schedule of Equipment Rates 2019.\" Federal Emergency Management Agency. August 2019. Online: https://www.fema.gov/media-library-data/1566918062583-b079c79b86366aa3819da87b011dbe73/FEMA_Schedule_of_Equipment_Rates_2019_508clean_081319.pdf"]
[null,null,null,null,null,null,null,null,null,null,null,null,null,null,null,null,null,null,null,null,null,null,null,null,"4\"FEMA Schedule of Equipment Rates 2019.\" Federal Emergency Management Agency. August 2019. Online: https://www.fema.gov/media-library-data/1566918062583-b079c79b86366aa3819da87b011dbe73/FEMA_Schedule_of_Equipment_Rates_2019_508clean_081319.pdf"]
[null,null,null,null,null,null,null,null,null,null,null,null,null,null,null,null,null,null,null,null,null,null,null,null,"5\"FEMA Schedule of Equipment Rates 2019.\" Federal Emergency Management Agency. August 2019. Online: https://www.fema.gov/media-library-data/1566918062583-b079c79b86366aa3819da87b011dbe73/FEMA_Schedule_of_Equipment_Rates_2019_508clean_081319.pdf"]
[null,null,null,null,null,null,null,null,null,null,null,null,null,null,null,null,null,null,null,null,null,null,null,null,"6\"FEMA Schedule of Equipment Rates 2019.\" Federal Emergency Management Agency. August 2019. Online: https://www.fema.gov/media-library-data/1566918062583-b079c79b86366aa3819da87b011dbe73/FEMA_Schedule_of_Equipment_Rates_2019_508clean_081319.pdf"]
[]
[null,null,null,null,null,null,null,null,null,null,null,null,null,null,null,null,null,null,null,null,null,null,null,null,"FEMA operating cost note: Each rate covers all costs eligible under the Robert T. Stafford Disaster Relief\n and Emergency Assistance Act, 42 U.S.C. § 5121, et seq., for ownership and operation of equipment, including\n depreciation, overhead, all maintenance, field repairs, fuel, lubricants, tires, OSHA equipment and other costs\n incidental to operation."]

{"sheet":"Dropdown Lists","index":7,"n_rows":56,"n_cols":15,"rows_kept":56,"cut":false,"hidden":true,"merged":[[0,0,0,14]]}
["Dropdown Menues in the Cost Calculator Pull From these Lists"]
[]
["Option A",null,"List",null,"List",null,"List",null,"Incident Type",null,"Option A",null,"List",null,"List"]
["(Dropdown List)",null,"10th Percentile",null,"Default Value",null,"Default",null,"ExpVal_Default Event",null,"(Dropdown List)",null,"Default Value",null,"Minimum"]
["Minimum",null,"25th Percentile",null,"Minimum",null,"Perishable",null,"ExpVal_Derailment",null,"Minimum",null,"10th Percentile",null,"10th Percentile"]
["Percentile (10)",null,"Median",null,"10th Percentile",null,"Bulk",null,"ExpVal_Head on collision",null,"Percentile (10)",null,"20th Percentile",null,"25th Percentile"]
["Percentile (25)",null,"75th Percentile",null,"25th Percentile",null,"Other",null,"ExpVal_Rear end collision",null,"Percentile (25)",null,"30th Percentile",null,"Median"]
["Mean",null,"90th Percentile",null,"Median",null,"NC Waybill Commodity Mix",null,"ExpVal_Side collision",null,"Mean",null,"40th Percentile",null,"Mode"]
["Median*",null,"Enter Custom Value",null,"Mode",null,"NCHRP 755",null,"ExpVal_Raking collision",null,"Median*",null,"50th Percentile",null,"75th Percentile"]
["Mode",null,null,null,"75th Percentile",null,"Custom",null,"ExpVal_Broken train collision",null,"Mode",null,"60th Percentile",null,"90th Percentile"]
["Percentile (75)",null,"Default / Custom",null,"90th Percentile",null,null,null,"ExpVal_Hwy-rail crossing",null,"Percentile (75)",null,"70th Percentile",null,"Maximum"]
["Percentile (90)",null,"Default",null,"Maximum",null,"List",null,"ExpVal_Obstruction",null,"Percentile (90)",null,"80th Percentile",null,"Custom"]
["Maximum",null,"Custom",null,"Add Custom Value",null,"Same as Step 3.D",null,"ExpVal_Explosion-detonation",null,"Maximum",null,"90th Percentile"]
["Custom",null,null,null,null,null,"Custom",null,"ExpVal_Fire/violent rupture",null,"Custom",null,"NCHRP 755",null,"List"]
[null,null,"Y/N",null,"List",null,null,null,"ExpVal_Other",null,null,null,"NC Freight Plan",null,"Minimum"]
["Type of Rail Incident",null,"Yes",null,"Same as 3.B",null,"List",null,"Default Event",null,"Dropdown for Inj. Wkst",null,"Waybill (NS H Line)",null,"Recommended"]
["01. Derailment",null,"No",null,"Custom Value",null,"Same as Step 3.E ",null,"Derailment",null,"Hourly 10th Percentile",null,"Waybill (NS Main Line)",null,"Max"]
["02. Head on collision",null,null,null,null,null,"Custom",null,"Head on collision",null,"Hourly 25th Percentile",null,"Waybill (CSX A Line)",null,"Custom"]
["03. Rear end collision",null,"Highway User Involved",null,"List",null,null,null,"Rear end collision",null,"Hourly Median",null,"Waybill (Aggregated)"]
["04. Side collision",null,"01. Auto",null,"Same as 3.D",null,"List",null,"Side collision",null,"Hourly 75th Percentile",null,"Custom",null,"List"]
["05. Raking collision",null,"02. Truck",null,"Custom Value",null,"Default",null,"Raking collision",null,"Hourly 90th Percentile",null,null,null,"Low"]
["06. Broken train collision",null,"03. Truck-Trailer",null,null,null,"Custom",null,"Broken train collision",null,"Custom (Enter Value in Column M)",null,"List",null,"Recommended"]
["07. Hwy-rail crossing",null,"04. Pick-Up Truck",null,"List",null,null,null,"Hwy-rail crossing",null,null,null,"Low ",null,"High"]
["08. RR grade crossing",null,"05. Van",null,"Default Value",null,"First Responder List",null,"Obstruction",null,"Dropdown for Inj. Wkst",null,"Medium",null,"Custom"]
["09. Obstruction",null,"06. Bus",null,"Average Box Car",null,"Low Impact",null,"Explosion-detonation",null,"Minimum",null,"High"]
["10. Explosion-detonation",null,"07. School Bus",null,"Freight Car Unspecified",null,"Medium Impact",null,"Fire/violent rupture",null,"Percentile (10)",null,"Fatality Event",null,"List"]
["11. Fire/violent rupture",null,"08. Motorcycle",null,"Covered Hopper",null,"High Impact",null,"Other",null,"Percentile (25)",null,"Injury Event",null,"Low (NC Sources)"]
["12. Other",null,"09. Other Motor Vehicle",null,"Max Load (Source A)",null,"Very High Impact",null,"Custom",null,"Mean",null,"Custom Value",null,"Medium (NC Sources)"]
[null,null,"10. Pedestrian",null,"Max Load (Source B)",null,"Custom",null,null,null,"Median*",null,null,null,"High (NC Sources)"]
["List",null,"11. Other / Custom",null,"Custom",null,null,null,"List",null,"Mode",null,"List",null,"Injury Event (NCHRP 755)"]
["Default",null,null,null,null,null,"First Responder List",null,"Same as 3.I",null,"Percentile (75)",null,"10th Percentile",null,"Fatality Event (NCHRP 755)"]
["Loco Ownership Default",null,"Selection",null,"List",null,"Minimum",null,"Custom",null,"Percentile (90)",null,"25th Percentile",null,"Rare, Very High Impact (Homeland Security)"]
["Loco Lease Default",null,"Min",null,"Default Value",null,"Mean",null,null,null,"Maximum",null,"Median",null,"Custom"]
["Custom",null,"Average",null,"Double Stack",null,"Maximum",null,"List",null,"Custom",null,"75th Percentile"]
[null,null,"Max",null,"FRA Sample",null,"Mode",null,"Same as 3.A",null,null,null,"90th Percentile",null,"List"]
[null,null,"Custom",null,"Manifest",null,"Custom",null,"Custom",null,"Dropdown for Inj. Wkst",null,"Custom",null,"Same as 3.L.1"]
[null,null,null,null,"Grain",null,null,null,null,null,"Minimum (3A)",null,null,null,"Custom"]
[null,null,null,null,"Coal, Sulphur, & Potash",null,null,null,"List",null,"Percentile (10) (3A)",null,"List"]
[null,null,null,null,"Custom",null,null,null,"Hourly 10th Percentile",null,"Percentile (25) (3A)",null,"Low ",null,"List"]
[null,null,null,null,null,null,null,null,"Hourly 25th Percentile",null,"Mean (3A)",null,"Medium",null,"Same as 3.L.2"]
[null,null,null,null,null,null,null,null,"Hourly Median",null,"Median* (3A)",null,"High",null,"Custom"]
[null,null,null,null,null,null,null,null,"Hourly 75th Percentile",null,"Mode (3A)",null,"Custom"]
[null,null,null,null,null,null,null,null,"Hourly 90th Percentile",null,"Percentile (75) (3A)",null,null,null,"List"]
[null,null,null,null,null,null,null,null,"Custom",null,"Percentile (90) (3A)",null,"List",null,"Default Event"]
[null,null,null,null,null,null,null,null,null,null,"Maximum (3A)",null,"Min",null,"Broken train collision"]
[null,null,null,null,null,null,null,null,null,null,"Minimum (3B)",null,"Low",null,"Derailment"]
[null,null,null,null,null,null,null,null,null,null,"Percentile (10) (3B)",null,"Medium",null,"Explosion-detonation"]
[null,null,null,null,null,null,null,null,null,null,"Percentile (25) (3B)",null,"High",null,"Fire/violent rupture"]
[null,null,null,null,null,null,null,null,null,null,"Mean (3B)",null,"Max",null,"Head on collision"]
[null,null,null,null,null,null,null,null,null,null,"Median* (3B)",null,null,null,"Highway-rail crossing"]
[null,null,null,null,null,null,null,null,null,null,"Mode (3B)",null,null,null,"Obstruction"]
[null,null,null,null,null,null,null,null,null,null,"Percentile (75) (3B)",null,null,null,"Raking collision"]
[null,null,null,null,null,null,null,null,null,null,"Percentile (90) (3B)",null,null,null,"Rear end collision"]
[null,null,null,null,null,null,null,null,null,null,"Maximum (3B)",null,null,null,"Side collision"]
[null,null,null,null,null,null,null,null,null,null,"Custom",null,null,null,"Other"]
[null,null,null,null,null,null,null,null,null,null,null,null,null,null,"Custom"]

{"sheet":"DataExtract","index":8,"n_rows":60550,"n_cols":88,"rows_kept":1125,"cut":true,"hidden":true,"merged":[[0,0,0,5],[0,7,0,12],[0,17,0,26]],"bounds":{"rows_first":500,"rows_last":125,"rows_between":500,"halvings":2}}
["NC Extract",null,null,null,null,null,null,"USA Full Set (Cleaned)",null,null,null,null,null,null,"DMG_2020",null,null,"Rail Events in North Carolina",null,null,null,null,null,null,null,null,null,null,"Category","CY 1990","CY 1991","CY 1992","CY 1993","CY 1994","CY 1995","CY 1996","CY 1997","CY 1998","CY 1999","10-year Ave","Category","CY 2000","CY 2001","CY 2002","CY 2003","CY 2004","CY 2005","CY 2006","CY 2007","CY 2008","CY 2009","10-year Ave","Category","CY 2010","CY 2011","CY 2012","CY 2013","CY 2014","CY 2015","CY 2016","CY 2017","CY 2018","CY 2019","10-year Ave","30-year Ave",null,"No Zero Values","Zero Values",null,"Total Injured","Total Killed",null,"CYR","Month","D-of-W","Train","Route","Origin","Dest","Coach","Business","Total","Coach","Business","Total","Coach","Business","Total"]
["DMG_2020","CARSHZD","LocUnitDer","LOADF2","EMPTYF2","CarsDer",null,"DMG_2020","CARSHZD","LocUnitDer","LOADF2","EMPTYF2","CarsDer",null,null,null,null,"Year","RR Emp Killed","RR Emp Inj","Pax Killed","Pax Inj","Freight T Count","Pax T Count","Total Injured","Total Killed","Total Count",null,"Number of railroads included",20,21,20,20,21,22,21,22,21,21,{"$f":"AVERAGE(AD2:AM2)","v":20.9},"Number of railroads included",21,21,21,21,21,22,19,19,18,18,{"$f":"AVERAGE(AP2:AY2)","v":20.100000000000001},"Number of railroads included",18,17,17,15,16,16,15,17,17,17,{"$f":"AVERAGE(BB2:BK2)","v":16.5},{"$f":"AVERAGE(AD2:AM2,AP2:AY2,BB2:BK2)","v":19.166666666666668},null,"Days Absent","Days Absent",null,1,2,null,2013,10,1,73,67,"BNC","CLT",15,0,15,303.16000000000003,0,303.16000000000003,1695,0,1695]
[13734.300000000001,0,0,0,0,0,null,null,3,1,1,1,1,null,"Mean",122118.64798222238,null,1990,0,0,0,0,32,1,{"$f":"T3+V3","v":0},{"$f":"S3+U3","v":0},{"$f":"SUM(W3:X3)","v":33},null,"TOTAL ACCIDENTS/INCIDENTS 1/",451,382,367,331,342,253,285,244,257,242,315.39999999999998,"TOTAL ACCIDENTS/INCIDENTS 1/",243,219,194,227,215,180,215,188,206,167,205.4,"TOTAL ACCIDENTS/INCIDENTS 1/",175,165,162,214,205,201,179,189,193,187,187,235.93333333333334,null,26,0,null,14,1,null,2013,10,1,73,67,"BNC","HPT",1,0,1,8.5,0,8.5,37,0,37]
[13734.300000000001,0,0,0,0,0,null,null,1,1,1,1,1,null,"Standard Error",13351.522197622367,null,1990,0,0,0,1,1,0,1,0,1,null,"--- Total fatalities",41,36,42,37,47,30,27,26,40,24,35,"--- Total fatalities",24,26,23,21,32,24,29,27,27,23,25.6,"--- Total fatalities",19,16,16,25,24,22,27,19,31,24,22.3,27.633333333333333,null,180,0,null,2,2,null,2013,10,1,73,67,"CYN","BNC",1,0,1,10,0,10,51,0,51]
[19482,0,1,0,0,0,null,null,1,1,1,1,1,null,"Median",31920.000000000004,null,1990,0,0,0,14,1,0,14,0,1,null,"--- Total nonfatal conditions",291,216,219,179,206,122,180,146,145,123,182.7,"--- Total nonfatal conditions",121,113,98,107,113,105,114,96,125,111,110.3,"--- Total nonfatal conditions",128,115,126,150,132,205,119,133,111,96,131.5,141.5,null,180,0,null,28,4,null,2013,10,1,73,67,"CYN","CLT",59,0,59,1608.4,0,1608.4,9676,0,9676]
[60534.96,0,0,4,0,4,null,null,1,1,1,1,1,null,"Mode",48014.52,null,1990,0,1,0,1,1,1,2,0,2,null,"--- Employee on duty deaths",0,1,1,0,1,1,1,0,1,0,0.6,"--- Employee on duty deaths",0,1,1,0,0,0,0,0,2,0,0.4,"--- Employee on duty deaths",0,2,0,1,0,0,0,0,0,0,0.3,0.43333333333333335,null,5,26,null,8,1,null,2013,10,1,73,67,"CYN","DNC",1,0,1,5.5,0,5.5,17,0,17]
[52101.599999999999,0,0,0,5,5,null,null,2,2,1,1,1,null,"Standard Deviation",447823.66855471488,null,1990,0,14,0,14,0,1,28,0,1,null,"--- Nonfatal EOD injuries",169,145,115,102,106,73,99,70,73,65,101.7,"--- Nonfatal EOD injuries",73,62,64,66,58,38,51,32,48,36,52.8,"--- Nonfatal EOD injuries",32,38,32,53,44,45,49,38,30,35,39.6,64.7,null,2,0,null,4,2,null,2013,10,1,73,67,"CYN","GRO",7,0,7,74.849999999999994,0,74.849999999999994,525,0,525]
[13226.34,0,0,0,0,0,null,null,2,1,1,1,1,null,"Sample Variance",200546038117.80313,null,1990,0,4,0,4,1,0,8,0,1,null,"--- Nonfatal EOD illnesses",1,1,3,2,2,0,1,0,1,1,1.2,"--- Nonfatal EOD illnesses",1,1,0,1,0,3,0,3,1,2,1.2,"--- Nonfatal EOD illnesses",2,1,3,2,2,3,0,0,3,1,1.7,1.3666666666666667,null,162,0,null,33,2,null,2013,10,1,73,67,"CYN","HPT",3,0,3,41.07,0,41.07,264,0,264]
[14179.02,0,0,0,0,0,null,null,3,1,1,1,1,null,"Kurtosis",165.25259614373624,null,1990,1,2,1,2,1,0,4,2,1,null,"--- Total employee on duty cases",170,147,119,104,109,74,101,70,75,66,103.5,"--- Total employee on duty cases",74,64,65,67,58,41,51,35,51,38,54.4,"--- Total employee on duty cases",34,41,35,56,46,48,49,38,33,36,41.6,66.5,null,5,0,null,2,1,null,2013,10,1,73,67,"CYN","SAL",2,0,2,38.85,0,38.85,244,0,244]
[14179.02,0,0,0,0,0,null,null,1,1,1,1,1,null,"Skewness",11.632445597037595,null,1991,0,0,0,0,38,1,0,0,39,null,"--- Cases with days absent from work",117,120,90,72,77,63,70,55,56,53,77.3,"--- Cases with days absent from work",60,52,45,56,46,32,38,23,35,29,41.6,"--- Cases with days absent from work",17,26,26,45,29,40,34,25,20,16,27.8,48.9,null,2,0,null,8,2,null,2013,10,1,73,67,"DNC","BNC",2,0,2,15,0,15,68,0,68]
[731041.14,2,0,11,0,11,null,null,4,2,1,1,1,null,"Range",7866222.0200000005,null,1991,0,0,1,0,1,0,0,1,1,null,"--- Trespasser deaths, not at HRC",27,18,19,20,34,18,16,19,24,21,21.6,"--- Trespasser deaths, not at HRC",10,19,20,17,20,18,21,21,17,15,17.8,"--- Trespasser deaths, not at HRC",18,11,14,17,19,13,23,14,18,19,16.600000000000001,18.666666666666668,null,180,0,null,1,2,null,2013,10,1,73,67,"DNC","CLT",31,0,31,703.75,0,703.75,4557,0,4557]
[99960,0,0,0,1,1,null,null,1,1,1,1,1,null,"Minimum",3519.34,null,1991,0,30,0,3,1,0,33,0,1,null,"--- Trespasser injuries, not at HRC",20,14,20,15,19,9,19,22,14,12,16.399999999999999,"--- Trespasser injuries, not at HRC",11,13,6,5,15,12,14,16,19,14,12.5,"--- Trespasser injuries, not at HRC",15,9,12,11,11,14,11,18,11,12,12.4,13.766666666666667,null,180,0,null,2,4,null,2013,10,1,73,67,"DNC","GRO",11,0,11,121,0,121,638,0,638]
[731041.14,0,0,0,0,0,null,null,1,1,1,1,1,null,"Maximum",7869741.3600000003,null,1991,1,0,1,0,0,1,0,2,1,null,"--- Trespasser Incidents, not at HRC",45,32,39,34,52,26,35,41,38,32,37.4,"--- Trespasser Incidents, not at HRC",20,32,25,22,32,30,34,35,36,27,29.3,"--- Trespasser Incidents, not at HRC",31,19,25,28,30,26,33,28,29,31,28,31.566666666666666,null,16,0,null,6,1,null,2013,10,1,73,67,"DNC","HPT",4,0,4,57.37,0,57.37,284,0,284]
[54111,0,0,0,3,3,null,null,4,2,1,1,1,null,"Sum",137383478.98000017,null,1992,0,0,0,0,29,1,0,0,30,null,"--- Passengers kld in train accs or crossing incidents",0,0,0,0,0,0,0,0,0,0,0,"--- Passengers kld in train accs or crossing incidents",0,0,0,0,0,0,0,0,0,0,0,"--- Passengers kld in train accs or crossing incidents",0,0,0,0,0,0,0,0,0,0,0,0,null,74,0,null,32,2,null,2013,10,1,73,67,"DNC","KAN",4,0,4,82.25,0,82.25,480,0,480]
[12247.14,0,0,0,2,2,null,null,1,1,1,1,1,null,"Count",1125,null,1992,0,1,0,1,1,0,2,0,1,null,"--- Passengers inj in train accs or crossing incidents",3,0,0,1,13,0,0,2,4,0,2.2999999999999998,"--- Passengers inj in train accs or crossing incidents",1,0,0,0,0,18,1,0,2,16,3.8,"--- Passengers inj in train accs or crossing incidents",18,6,21,2,6,78,4,2,10,1,14.8,6.9666666666666668,null,72,0,null,4,2,null,2013,10,1,73,67,"DNC","SAL",2,0,2,40,0,40,210,0,210]
[139856.08000000002,0,1,3,2,5,null,null,1,1,1,1,1,null,null,null,null,1992,0,4,0,4,1,0,8,0,1,null,"--- Passengers kld in other incidents",0,0,1,0,0,0,0,0,0,0,0.1,"--- Passengers kld in other incidents",0,0,0,0,0,0,0,0,0,0,0,"--- Passengers kld in other incidents",0,0,0,0,0,0,0,0,0,0,0,3.3333333333333333E-2,null,4,0,null,64,2,null,2013,10,1,73,67,"GRO","CLT",40,0,40,714.89,0,714.89,3560,0,3560]
[25439.440000000002,0,0,0,3,3,null,null,1,2,1,1,1,null,null,null,null,1993,0,0,0,0,20,1,0,0,21,null,"--- Passengers inj in other incidents",0,1,1,2,0,0,1,2,7,2,1.6,"--- Passengers inj in other incidents",4,13,6,11,5,8,23,19,21,18,12.8,"--- Passengers inj in other incidents",30,32,24,35,31,23,24,34,32,28,29.3,14.566666666666666,null,1,0,null,2,3,null,2013,10,1,73,67,"GRO","HPT",3,0,3,15.53,0,15.53,39,0,39]
[22181.119999999999,0,0,0,0,0,null,null,2,1,1,1,1,null,"Bin","Frequency",null,1993,0,0,0,1,1,0,1,0,1,null,"TRAIN ACCIDENTS (Not at Grade-Crossings)",29,28,21,17,26,19,19,21,27,36,24.3,"TRAIN ACCIDENTS (Not at Grade-Crossings)",28,29,21,52,38,29,31,26,27,25,30.6,"TRAIN ACCIDENTS (Not at Grade-Crossings)",23,20,21,20,30,23,20,23,35,26,24.1,26.333333333333332,null,3,0,null,8,6,null,2013,10,1,73,67,"GRO","KAN",3,0,3,46,0,46,186,0,186]
[47531.12,0,0,1,2,3,null,null,1,2,1,1,1,null,1000,0,null,1993,0,1,0,1,4,1,2,0,5,null,"--- Train accident deaths",0,0,0,0,1,0,0,0,0,0,0.1,"--- Train accident deaths",0,0,1,0,0,0,0,0,0,0,0.1,"--- Train accident deaths",0,2,0,0,0,0,0,0,0,0,0.2,0.13333333333333333,null,82,0,null,2,1,null,2013,10,1,73,67,"GRO","SAL",1,0,1,13,0,13,47,0,47]
[18575.440000000002,0,0,0,2,2,null,null,2,1,1,1,1,null,25000,457,null,1993,0,3,0,3,1,0,6,0,1,null,"--- Train accident injuries",14,0,0,1,32,0,1,7,0,3,5.8,"--- Train accident injuries",3,0,2,2,1,0,1,0,2,0,1.1000000000000001,"--- Train accident injuries",1,2,0,1,0,0,0,1,3,1,0.9,2.6,null,127,180,null,3,2,null,2013,10,1,73,67,"HPT","CLT",13,0,13,199,0,199,988,0,988]
[90369.760000000009,0,0,6,4,10,null,null,1,2,1,1,1,null,50000,274,null,1993,2,0,2,0,1,0,0,4,1,null,"--- Human factor caused",8,10,10,3,7,6,2,7,15,13,8.1,"--- Human factor caused",11,9,12,20,19,19,9,9,8,5,12.1,"--- Human factor caused",11,10,9,9,9,9,6,10,9,9,9.1,9.7666666666666675,null,2,0,null,4,2,null,2013,10,1,73,67,"KAN","CLT",1,0,1,6.8,0,6.8,27,0,27]
[22661.600000000002,0,0,0,1,1,null,null,2,1,1,1,1,null,100000,176,null,1994,0,0,0,0,38,0,0,0,38,null,"--- Track caused",9,9,6,5,12,4,11,7,6,11,8,"--- Track caused",5,9,5,19,9,4,11,12,11,8,9.3000000000000007,"--- Track caused",4,3,6,2,13,6,6,5,14,9,6.8,8.0333333333333332,null,3,0,null,6,4,null,2013,10,1,73,67,"RGH","BNC",9,0,9,98,0,98,540,0,540]
[71301.36,0,1,0,0,0,null,null,1,1,1,1,1,null,500000,169,null,1994,0,0,1,32,1,0,32,1,1,null,"--- Motive power/equipment caused",7,5,2,1,2,1,4,4,3,4,3.3,"--- Motive power/equipment caused",5,8,1,6,6,3,4,4,5,6,4.8,"--- Motive power/equipment caused",5,5,3,4,2,6,6,6,2,3,4.2,4.0999999999999996,null,46,0,null,8,2,null,2013,10,1,73,67,"RGH","CLT",68,0,68,1782.1,0,1782.1,11764,0,11764]
[50279.840000000004,0,0,2,0,2,null,null,10,1,1,1,1,null,1000000,30,null,1994,0,2,0,2,1,0,4,0,1,null,"--- Signal caused, all track types",0,0,0,1,0,1,0,0,3,1,0.6,"--- Signal caused, all track types",0,0,0,0,0,0,1,0,2,4,0.7,"--- Signal caused, all track types",1,0,0,1,1,0,1,0,0,0,0.4,0.56666666666666665,null,13,0,null,7,2,null,2013,10,1,73,67,"RGH","CYN",3,0,3,16.5,0,16.5,27,0,27]
[50279.840000000004,0,0,0,0,0,null,null,1,2,1,1,1,null,1500000,9,null,1994,1,32,1,32,0,1,64,2,1,null,"-------- Signal caused, main line track",0,0,0,0,0,0,0,0,0,0,0,"-------- Signal caused, main line track",0,0,0,0,0,0,0,0,0,0,0,"-------- Signal caused, main line track",0,0,0,0,0,0,0,0,0,0,0,0,null,55,180,null,1,4,null,2013,10,1,73,67,"RGH","DNC",3,0,3,21.6,0,21.6,78,0,78]
[11210.16,0,0,2,0,2,null,null,2,1,1,1,1,null,2000000,2,null,1995,0,0,0,0,25,1,0,0,26,null,"--- Miscellaneous caused",5,4,3,7,5,7,2,3,0,7,4.3,"--- Miscellaneous caused",7,3,3,7,4,3,6,1,1,2,3.7,"--- Miscellaneous caused",2,2,3,4,5,2,1,2,10,5,3.6,3.8666666666666667,null,20,5,null,2,1,null,2013,10,1,73,67,"RGH","GRO",18,0,18,244.5,0,244.5,1512,0,1512]
[13091.52,0,1,0,0,0,null,null,1,1,1,1,1,null,2500000,2,null,1995,0,1,0,1,1,0,2,0,1,null,"--- Collisions",3,4,3,2,7,4,2,3,7,9,0,"--- Collisions",5,6,6,6,2,6,6,3,5,3,0,"--- Collisions",1,3,3,4,2,1,0,1,0,0,1.5,3.5666666666666669,null,53,0,null,4,2,null,2013,10,1,73,67,"RGH","HPT",12,0,12,195.15,0,195.15,1164,0,1164]
[30485.52,0,0,0,10,10,null,null,1,1,1,1,1,null,3000000,1,null,1995,1,4,1,4,1,0,8,2,1,null,"-------- Collisions on main line track",1,0,0,0,2,0,0,0,2,2,{"$f":"AVERAGE(AD28:AM28)","v":0.7},"-------- Collisions on main line track",1,3,1,0,0,1,1,0,1,0,{"$f":"AVERAGE(AP28:AY28)","v":0.8},"-------- Collisions on main line track",0,2,0,2,0,0,0,0,0,0,0.4,0.6333333333333333,null,1,0,null,8,2,null,2013,10,1,73,67,"RGH","KAN",1,0,1,31.5,0,31.5,146,0,146]
[94536,0,0,0,2,2,null,null,1,1,1,1,1,null,3500000,0,null,1996,0,0,0,0,24,1,0,0,25,null,"--- Derailments",25,17,11,13,17,13,17,14,14,20,16.100000000000001,"--- Derailments",15,22,10,37,26,18,22,19,17,16,20.2,"--- Derailments",16,12,15,14,25,18,16,17,27,21,18.100000000000001,18.133333333333333,null,55,0,null,14,4,null,2013,10,1,73,67,"RGH","SAL",1,0,1,19.97,0,19.97,131,0,131]
[22181.119999999999,0,0,0,0,0,null,null,1,1,1,1,1,null,4000000,2,null,1996,0,1,0,1,2,0,2,0,2,null,"--- Other types, e.g., obstructions",1,7,7,2,2,2,0,4,6,7,3.8,"--- Other types, e.g., obstructions",8,1,5,9,10,5,3,4,5,6,5.6,"--- Other types, e.g., obstructions",6,5,3,2,3,4,4,5,8,5,4.5,4.6333333333333337,null,37,0,null,2,1,null,2013,10,1,73,67,"SAL","CLT",9,0,9,98.75,0,98.75,378,0,378]
[26278.720000000001,0,0,0,0,0,null,null,2,1,1,1,1,null,4500000,0,null,1997,0,0,0,0,26,1,0,0,27,null,"--- Train accidents on main line 5/",15,13,5,7,14,5,8,13,5,13,9.8000000000000007,"--- Train accidents on main line 5/",6,16,10,20,15,9,12,8,10,10,11.6,"--- Train accidents on main line 5/",11,9,3,6,6,5,6,4,8,6,6.4,9.2666666666666675,null,6,0,null,2,2,null,2013,10,1,74,67,"BNC","CYN",5,0,5,46,0,46,260,0,260]
[66541.279999999999,0,0,0,0,4,null,null,1,1,1,1,1,null,5000000,0,null,1997,0,0,0,3,2,0,3,0,2,null,"--- Accidents on yard track",9,12,11,7,8,11,6,7,18,16,10.5,"--- Accidents on yard track",14,12,8,23,21,15,17,12,13,14,14.9,"--- Accidents on yard track",10,9,12,11,21,17,9,12,25,15,14.1,13.166666666666666,null,45,0,null,4,1,null,2013,10,1,74,67,"BNC","DNC",4,0,4,26.1,0,26.1,136,0,136]
[66541.279999999999,0,0,0,0,0,null,null,1,2,1,1,1,null,5500000,0,null,1997,0,2,0,2,2,0,4,0,2,null,"--- HAZMAT RELEASES",2,0,0,0,0,0,2,1,0,1,0.6,"--- HAZMAT RELEASES",2,0,0,0,1,0,0,1,1,2,0.7,"--- HAZMAT RELEASES",0,0,0,1,0,0,0,0,1,2,0.4,0.56666666666666665,null,180,0,null,2,2,null,2013,10,1,74,67,"BNC","RGH",11,0,11,103.2,0,103.2,660,0,660]
[43680,0,0,0,0,0,null,null,1,1,1,1,1,null,6000000,0,null,1997,0,3,0,3,1,2,6,0,3,null,"--- Cars carrying hazmat",108,120,17,5,37,21,114,58,65,144,68.900000000000006,"--- Cars carrying hazmat",39,59,48,89,123,107,139,119,99,97,91.9,"--- Cars carrying hazmat",95,74,5,70,51,33,150,39,98,80,{"$f":"AVERAGE(BB34:BK34)","v":69.5},{"$f":"AVERAGE(AD34:AM34,AP34:AY34,BB34:BK34)","v":76.766666666666666},null,180,0,null,4,2,null,2013,10,1,74,67,"CLT","BNC",11,0,11,222.18,0,222.18,1243,0,1243]
[44686.720000000001,2,0,5,0,5,null,null,1,1,1,1,1,null,6500000,0,null,1997,0,4,0,4,1,0,{"$f":"T35+V35","v":8},{"$f":"S35+U35","v":0},{"$f":"SUM(W35:X35)","v":1},null,"--- Hazmat cars damaged/derailed",17,17,4,1,2,5,30,5,7,29,11.7,"--- Hazmat cars damaged/derailed",14,2,11,5,19,3,1,5,6,24,9,"--- Hazmat cars damaged/derailed",9,2,0,11,5,1,7,2,4,20,6.1,8.9333333333333336,null,180,2,null,4,1,null,2013,10,1,74,67,"CLT","CYN",52,0,52,1297.1500000000001,0,1297.1500000000001,8580,0,8580]
[7869741.3600000003,0,9,4,2,6,null,null,1,4,1,1,1,null,7000000,2,null,1998,0,0,0,0,38,1,0,0,39,null,"--- Cars releasing",4,0,0,0,0,0,3,2,0,2,1.1000000000000001,"--- Cars releasing",3,0,0,0,1,0,0,1,1,3,0.9,"--- Cars releasing",0,0,0,1,0,0,0,0,2,3,0.6,0.8666666666666667,null,180,0,null,2,2,null,2013,10,1,74,67,"CLT","DNC",101,0,101,2696.57,0,2696.57,14847,0,14847]
[104000,0,0,0,3,3,null,null,1,2,1,1,1,null,7500000,0,null,1998,0,0,1,7,1,0,7,1,1,null,"Accidents with reportable damage over 100K",7,5,0,1,3,2,2,6,2,5,3.3,"Accidents with reportable damage over 100K",3,4,3,7,7,5,6,6,4,4,4.9000000000000004,"Accidents with reportable damage over 100K",6,3,1,2,2,1,6,3,6,7,3.7,3.9666666666666668,null,8,0,null,1,null,null,2013,10,1,74,67,"CLT","GRO",89,0,89,1763.27,0,1763.27,7921,0,7921]
[47330.400000000001,0,0,3,0,3,null,null,1,1,1,1,1,null,8000000,1,null,1998,0,0,2,1,1,0,1,2,1,null,"..... PERCENT of all train accidents",24,18,0,6,12,11,11,29,7,14,13.2,"..... PERCENT of all train accidents",11,14,14,13,18,17,19,23,15,16,16,"..... PERCENT of all train accidents",26,15,5,10,7,4,30,13,17,27,15.4,14.866666666666667,null,180,0,null,2,null,null,2013,10,1,74,67,"CLT","HPT",30,0,30,484.92,0,484.92,2310,0,2310]
[14771.12,0,0,0,4,4,null,null,2,1,1,1,1,null,8500000,0,null,1998,0,1,0,1,2,0,2,0,2,null,"Accidents with reportable damage over 500K",1,0,0,1,1,0,0,2,0,2,0.7,"Accidents with reportable damage over 500K",1,0,1,1,1,0,2,0,2,2,1,"Accidents with reportable damage over 500K",1,1,1,1,1,0,0,0,1,1,0.7,0.8,null,14,0,null,2,null,null,2013,10,1,74,67,"CLT","KAN",2,0,2,14.5,0,14.5,54,0,54]
[14000.480000000001,0,1,0,0,0,null,null,2,1,1,1,1,null,9000000,0,null,1998,0,2,0,2,2,0,4,0,2,null,"..... PERCENT of all train accidents",3,0,0,6,4,0,0,10,0,6,2.9,"..... PERCENT of all train accidents",4,0,5,2,3,0,6,0,7,8,3.5,"..... PERCENT of all train accidents",4,5,5,5,3,0,0,0,3,4,2.9,3.1,null,179,0,null,21,null,null,2013,10,1,74,67,"CLT","RGH",185,0,185,5309.64,0,5309.64,32005,0,32005]
[30662.32,0,0,0,5,5,null,null,5,2,1,1,1,null,9500000,0,null,1998,0,4,0,4,1,0,8,0,1,null,"--- Accidents with reportable damage over $1M",0,0,0,0,1,0,0,0,0,0,0.1,"--- Accidents with reportable damage over $1M",0,0,0,0,0,0,1,0,0,0,0.1,"--- Accidents with reportable damage over $1M",0,1000,0,0,1,0,0,0,1,0,100.2,33.466666666666669,null,180,0,null,4,null,null,2013,10,1,74,67,"CLT","SAL",20,0,20,242.71,0,242.71,860,0,860]
[95283.760000000009,0,3,0,1,1,null,null,1,1,1,1,1,null,10000000,0,null,1998,1,7,1,7,0,1,14,2,1,null,"..... PERCENT of all train accidents",0,0,0,0,4,0,0,0,0,0,0.4,"..... PERCENT of all train accidents",0,0,0,0,0,0,3,0,0,0,0.3,"..... PERCENT of all train accidents",0,5,0,0,3,0,0,0,3,0,1.1000000000000001,0.6,null,75,0,null,42,null,null,2013,10,1,74,67,"CYN","RGH",6,0,6,24.75,0,24.75,48,0,48]
[22459.84,0,2,0,1,1,null,null,1,2,1,1,1,null,"More",0,null,1998,2,1,2,1,0,1,2,4,1,null,"HIGHWAY-RAIL INCIDENTS",202,172,178,168,159,135,123,114,109,99,145.9,"HIGHWAY-RAIL INCIDENTS",113,79,78,72,75,67,75,68,69,55,75.099999999999994,"HIGHWAY-RAIL INCIDENTS",49,45,45,56,52,68,39,43,56,53,50.6,90.533333333333331,null,1,162,null,1,null,null,2013,10,1,74,67,"DNC","CYN",4,0,4,19.25,0,19.25,72,0,72]
[118011.92,0,0,0,1,1,null,null,1,1,1,1,1,null,null,null,null,1999,0,0,0,0,45,1,0,0,46,null,"--- Highway-rail incidents deaths",14,16,21,16,12,11,9,6,15,3,12.3,"--- Highway-rail incidents deaths",14,6,2,4,12,6,8,6,8,8,7.4,"--- Highway-rail incidents deaths",1,3,2,7,5,9,4,5,12,5,5.3,8.3333333333333339,null,48,0,null,2,null,null,2013,10,1,74,67,"DNC","RGH",7,0,7,53.6,0,53.6,182,0,182]
[260863.2,0,0,0,2,2,null,null,1,1,1,1,1,null,"CARSHZD",null,null,1999,0,1,0,1,2,0,2,0,2,null,"--- Highway-rail incidents injuries",81,53,70,51,48,40,53,50,48,30,52.4,"--- Highway-rail incidents injuries",25,21,20,16,26,38,23,19,31,34,25.3,"--- Highway-rail incidents injuries",38,22,42,29,28,105,19,18,25,6,33.200000000000003,36.966666666666669,null,180,0,null,6,null,null,2013,10,1,74,67,"GRO","BNC",2,0,2,14,0,14,48,0,48]
[260863.2,0,0,0,1,1,null,null,5,1,1,1,1,null,null,null,null,1999,0,2,0,2,2,0,4,0,2,null,"--- Incidents at public xings",179,154,160,155,145,122,112,103,93,77,130,"--- Incidents at public xings",94,65,61,64,60,56,57,57,60,50,62.4,"--- Incidents at public xings",36,39,41,46,42,62,29,37,44,45,42.1,78.166666666666671,null,180,0,null,2,null,null,2013,10,1,74,67,"GRO","CYN",16,0,16,217.82,0,217.82,1216,0,1216]
[15268.24,0,0,8,0,8,null,null,1,1,1,1,1,null,"Mean",2.2222222222222223E-2,null,2000,0,0,0,0,34,0,0,0,34,null,"..... PERCENT of total Highway-rail incidents",89,90,90,92,91,90,91,90,85,78,88.6,"..... PERCENT of total Highway-rail incidents",83,82,78,89,80,84,76,84,87,91,83.4,"..... PERCENT of total Highway-rail incidents",73,87,91,82,81,91,74,86,79,85,82.9,84.966666666666669,null,62,0,null,2,null,null,2013,10,1,74,67,"GRO","DNC",30,0,30,366.5,0,366.5,1740,0,1740]
[30611.360000000001,0,0,0,1,1,null,null,3,1,1,1,1,null,"Standard Error",5.928561427913424E-3,null,2000,0,0,1,0,1,0,0,1,1,null,"OTHER ACCIDENTS/INCIDENTS 3/",220,182,168,146,157,99,143,109,121,107,145.19999999999999,"OTHER ACCIDENTS/INCIDENTS 3/",102,111,95,103,102,84,109,94,110,87,99.7,"OTHER ACCIDENTS/INCIDENTS 3/",103,100,96,138,123,110,120,123,102,108,112.3,119.06666666666666,null,78,5,null,4,null,null,2013,10,1,74,67,"GRO","RGH",53,0,53,778.9,0,778.9,4452,0,4452]
[71301.36,0,0,0,8,8,null,null,14,1,1,1,1,null,"Median",0,null,2000,0,1,0,1,2,0,2,0,2,null,"--- Other incidents deaths",27,20,21,21,34,19,18,20,25,21,22.6,"--- Other incidents deaths",10,20,20,17,20,18,21,21,19,15,18.100000000000001,"--- Other incidents deaths",18,11,14,18,19,13,23,14,19,19,16.8,19.166666666666668,null,3,0,null,6,null,null,2013,10,1,74,67,"HPT","BNC",1,0,1,8,0,8,36,0,36]
[24104.080000000002,0,0,4,0,4,null,null,1,1,1,1,1,null,"Mode",0,null,2000,0,2,0,2,1,0,4,0,1,null,"--- Other incidents injuries",196,163,149,127,126,82,126,89,97,90,124.5,"--- Other incidents injuries",93,92,76,89,86,67,90,77,92,77,83.9,"--- Other incidents injuries",89,91,84,120,104,100,100,114,83,89,97.4,101.93333333333334,null,180,2,null,4,null,null,2013,10,1,74,67,"HPT","CYN",2,0,2,34.5,0,34.5,176,0,176]
[13305.76,0,1,0,0,0,null,null,1,1,1,1,1,null,"Standard Deviation",0.19884999542396453,null,2000,1,0,1,0,1,1,0,2,2,null,"Source: Federal Railroad Adminstration. Table 1.12: Ten Year Accident/Incident Overview. Available online: https://safetydata.fra.dot.gov/OfficeofSafety/publicsite/Query/TenYearAccidentIncidentOverview.aspx",null,null,null,null,null,null,null,null,null,null,null,null,null,null,null,null,null,null,null,null,null,null,null,null,null,null,null,null,null,null,null,null,null,null,null,null,null,10,0,null,5,null,null,2013,10,1,74,67,"HPT","DNC",5,0,5,64.37,0,64.37,350,0,350]
[13040.560000000001,0,0,0,0,0,null,null,1,1,1,1,1,null,"Sample Variance",3.9541320680110716E-2,null,2001,0,0,0,0,37,1,0,0,38,null,null,null,null,null,null,null,null,null,null,null,null,null,null,null,null,null,null,null,null,null,null,null,null,null,null,null,null,null,null,null,null,null,null,null,null,null,null,null,18,0,null,9,null,null,2013,10,1,74,67,"HPT","GRO",2,0,2,7.42,0,7.42,24,0,24]
[28862.080000000002,0,0,1,0,1,null,null,1,1,1,1,1,null,"Kurtosis",107.4265611949448,null,2001,1,0,1,0,1,0,0,2,1,null,null,null,null,null,null,null,null,null,null,null,null,null,null,null,null,null,null,null,null,null,null,null,null,null,null,null,null,null,null,null,null,null,null,null,null,null,null,null,14,0,null,8,null,null,2013,10,1,74,67,"HPT","RGH",25,0,25,403.79,0,403.79,2400,0,2400]
[32760,0,0,0,1,1,null,null,2,1,1,1,1,null,"Skewness",9.9777865705307498,null,2002,0,0,0,0,30,1,0,0,31,null,null,null,null,null,null,null,null,null,null,null,null,null,null,null,null,null,null,null,null,null,null,null,null,null,null,null,null,null,null,null,null,null,null,null,null,null,null,null,180,0,null,10,null,null,2013,10,1,74,67,"KAN","CYN",9,0,9,196.73,0,196.73,1242,0,1242]
[32760,0,0,0,0,0,null,null,1,1,1,1,1,null,"Range",3,null,2002,0,2,0,2,3,0,4,0,3,null,null,null,null,null,null,null,null,null,null,null,null,null,null,null,null,null,null,null,null,null,null,null,null,null,null,null,null,null,null,null,null,null,null,null,null,null,null,null,180,0,null,18,null,null,2013,10,1,74,67,"KAN","DNC",12,0,12,277.52,0,277.52,1440,0,1440]
[28862.080000000002,0,0,0,0,0,null,null,1,1,1,1,1,null,"Minimum",0,null,2002,1,0,1,0,1,0,0,2,1,null,null,null,null,null,null,null,null,null,null,null,null,null,null,null,null,null,null,null,null,null,null,null,null,null,null,null,null,null,null,null,null,null,null,null,null,null,null,null,153,0,null,17,null,null,2013,10,1,74,67,"KAN","GRO",11,0,11,171.3,0,171.3,682,0,682]
[16116.880000000001,0,2,0,0,0,null,null,2,1,1,1,1,null,"Maximum",3,null,2003,0,0,0,0,58,1,0,0,59,null,null,null,null,null,null,null,null,null,null,null,null,null,null,null,null,null,null,null,null,null,null,null,null,null,null,null,null,null,null,null,null,null,null,null,null,null,null,null,46,0,null,2,null,null,2013,10,1,74,67,"KAN","HPT",4,0,4,51.5,0,51.5,200,0,200]
[26278.720000000001,0,0,0,0,0,null,null,1,1,1,1,1,null,"Sum",25,null,2003,0,1,0,1,4,0,2,0,4,null,null,null,null,null,null,null,null,null,null,null,null,null,null,null,null,null,null,null,null,null,null,null,null,null,null,null,null,null,null,null,null,null,null,null,null,null,null,null,96,0,null,34,null,null,2013,10,1,74,67,"KAN","RGH",14,0,14,320.10000000000002,0,320.10000000000002,2044,0,2044]
[17836,0,0,0,0,0,null,null,1,2,1,1,1,null,"Count",1125,null,2004,0,0,0,0,42,0,0,0,42,null,null,null,null,null,null,null,null,null,null,null,null,null,null,null,null,null,null,null,null,null,null,null,null,null,null,null,null,null,null,null,null,null,null,null,null,null,null,null,180,0,null,4,null,null,2013,10,1,74,67,"SAL","CYN",9,0,9,151.80000000000001,0,151.80000000000001,1098,0,1098]
[313369.92000000004,0,0,4,0,4,null,null,1,1,1,1,1,null,null,null,null,2004,0,0,3,1,1,0,1,3,1,null,null,null,null,null,null,null,null,null,null,null,null,null,null,null,null,null,null,null,null,null,null,null,null,null,null,null,null,null,null,null,null,null,null,null,null,null,null,null,107,0,null,2,null,null,2013,10,1,74,67,"SAL","DNC",1,0,1,20,0,20,104,0,104]
[313369.92000000004,0,0,0,8,9,null,null,5,1,1,1,1,null,null,null,null,2004,0,1,0,1,1,0,2,0,1,null,null,null,null,null,null,null,null,null,null,null,null,null,null,null,null,null,null,null,null,null,null,null,null,null,null,null,null,null,null,null,null,null,null,null,null,null,null,null,180,0,null,2,null,null,2013,10,1,74,67,"SAL","GRO",8,0,8,105.05,0,105.05,368,0,368]
[23073.02,0,0,4,0,4,null,null,1,2,1,1,1,null,null,null,null,2004,3,1,3,1,0,1,2,6,1,null,null,null,null,null,null,null,null,null,null,null,null,null,null,null,null,null,null,null,null,null,null,null,null,null,null,null,null,null,null,null,null,null,null,null,null,null,null,null,55,0,null,4,null,null,2013,10,1,74,67,"SAL","HPT",1,0,1,9.5,0,9.5,34,0,34]
[17045.86,0,0,0,1,1,null,null,1,2,1,1,1,null,null,null,null,2005,0,0,0,0,38,0,0,0,38,null,null,null,null,null,null,null,null,null,null,null,null,null,null,null,null,null,null,null,null,null,null,null,null,null,null,null,null,null,null,null,null,null,null,null,null,null,null,null,2,180,null,13,null,null,2013,10,1,74,67,"SAL","RGH",10,0,10,213.87,0,213.87,1300,0,1300]
[218243.40000000002,0,0,3,0,3,null,null,1,1,1,1,1,null,null,null,null,2005,0,0,1,0,1,0,0,1,1,null,null,null,null,null,null,null,null,null,null,null,null,null,null,null,null,null,null,null,null,null,null,null,null,null,null,null,null,null,null,null,null,null,null,null,null,null,null,null,144,180,null,6,null,null,2013,10,1,75,67,"BNC","CLT",14,0,14,299.72000000000003,0,299.72000000000003,1582,0,1582]
[68282.02,0,0,2,0,2,null,null,5,1,1,1,1,null,null,null,null,2005,0,0,2,21,1,0,21,2,1,null,null,null,null,null,null,null,null,null,null,null,null,null,null,null,null,null,null,null,null,null,null,null,null,null,null,null,null,null,null,null,null,null,null,null,null,null,null,null,67,0,null,1,null,null,2013,10,1,75,67,"BNC","HPT",2,0,2,20,0,20,74,0,74]
[12785.720000000001,0,0,2,0,2,null,null,10,1,1,1,1,null,null,null,null,2005,0,2,0,2,1,0,4,0,1,null,null,null,null,null,null,null,null,null,null,null,null,null,null,null,null,null,null,null,null,null,null,null,null,null,null,null,null,null,null,null,null,null,null,null,null,null,null,null,94,0,null,1,null,null,2013,10,1,75,67,"BNC","KAN",1,0,1,22,0,22,86,0,86]
[28124.980000000003,0,0,0,0,0,null,null,1,3,1,1,1,null,null,null,null,2005,1,0,1,0,0,1,{"$f":"T67+V67","v":0},{"$f":"S67+U67","v":2},{"$f":"SUM(W67:X67)","v":1},null,null,null,null,null,null,null,null,null,null,null,null,null,null,null,null,null,null,null,null,null,null,null,null,null,null,null,null,null,null,null,null,null,null,null,null,null,null,null,157,0,null,2,null,null,2013,10,1,75,67,"CYN","BNC",12,0,12,101,0,101,612,0,612]
[35934,0,0,0,0,0,null,null,1,1,1,1,1,null,null,null,null,2005,2,21,2,21,0,1,42,4,1,null,null,null,null,null,null,null,null,null,null,null,null,null,null,null,null,null,null,null,null,null,null,null,null,null,null,null,null,null,null,null,null,null,null,null,null,null,null,null,2,0,null,87,null,null,2013,10,1,75,67,"CYN","CLT",83,0,83,2015.17,0,2015.17,13612,0,13612]
[79117.340000000011,0,0,0,1,1,null,null,5,1,1,1,1,null,null,null,null,2006,0,0,0,0,41,0,0,0,41,null,null,null,null,null,null,null,null,null,null,null,null,null,null,null,null,null,null,null,null,null,null,null,null,null,null,null,null,null,null,null,null,null,null,null,null,null,null,null,10,0,null,2,null,null,2013,10,1,75,67,"CYN","DNC",7,0,7,34.92,0,34.92,119,0,119]
[14053.480000000001,0,0,0,0,0,null,null,1,2,1,1,1,null,null,null,null,2006,0,0,0,1,1,0,1,0,1,null,null,null,null,null,null,null,null,null,null,null,null,null,null,null,null,null,null,null,null,null,null,null,null,null,null,null,null,null,null,null,null,null,null,null,null,null,null,null,5,0,null,18,null,null,2013,10,1,75,67,"CYN","GRO",34,0,34,381.75,0,381.75,2550,0,2550]
[218243.40000000002,0,0,0,6,6,null,null,7,1,1,1,1,null,null,null,null,2006,0,1,0,1,2,1,2,0,3,null,null,null,null,null,null,null,null,null,null,null,null,null,null,null,null,null,null,null,null,null,null,null,null,null,null,null,null,null,null,null,null,null,null,null,null,null,null,null,52,0,null,6,null,null,2013,10,1,75,67,"CYN","HPT",2,0,2,38,0,38,176,0,176]
[17331,0,0,1,0,1,null,null,1,2,1,1,1,null,null,null,null,2006,0,3,0,3,1,0,6,0,1,null,null,null,null,null,null,null,null,null,null,null,null,null,null,null,null,null,null,null,null,null,null,null,null,null,null,null,null,null,null,null,null,null,null,null,null,null,null,null,6,0,null,1,null,null,2013,10,1,75,67,"CYN","KAN",8,0,8,187.42,0,187.42,1096,0,1096]
[20134.7,0,0,4,1,5,null,null,1,1,1,1,1,null,null,null,null,2006,1,0,1,0,1,0,0,2,1,null,null,null,null,null,null,null,null,null,null,null,null,null,null,null,null,null,null,null,null,null,null,null,null,null,null,null,null,null,null,null,null,null,null,null,null,null,null,null,2,0,null,2,null,null,2013,10,1,75,67,"CYN","SAL",7,0,7,134.69999999999999,0,134.69999999999999,854,0,854]
[18608.3,0,1,0,2,2,null,null,20,1,1,1,1,null,null,null,null,2007,0,0,0,0,35,1,0,0,36,null,null,null,null,null,null,null,null,null,null,null,null,null,null,null,null,null,null,null,null,null,null,null,null,null,null,null,null,null,null,null,null,null,null,null,null,null,null,null,96,0,null,null,null,null,2013,10,1,75,67,"DNC","BNC",5,0,5,31.12,0,31.12,170,0,170]
[51602.920000000006,0,0,4,0,4,null,null,5,2,1,1,1,null,null,null,null,2007,0,0,2,0,1,0,0,2,1,null,null,null,null,null,null,null,null,null,null,null,null,null,null,null,null,null,null,null,null,null,null,null,null,null,null,null,null,null,null,null,null,null,null,null,null,null,null,null,38,0,null,null,null,null,2013,10,1,75,67,"DNC","CLT",104,0,104,2740.27,0,2740.27,15288,0,15288]
[36006.080000000002,0,0,0,0,0,null,null,1,4,1,1,1,null,null,null,null,2007,2,0,2,0,0,1,0,4,1,null,null,null,null,null,null,null,null,null,null,null,null,null,null,null,null,null,null,null,null,null,null,null,null,null,null,null,null,null,null,null,null,null,null,null,null,null,null,null,86,0,null,null,null,null,2013,10,1,75,67,"DNC","GRO",46,0,46,468.36,0,468.36,2668,0,2668]
[36006.080000000002,0,0,0,0,0,null,null,3,2,1,1,1,null,null,null,null,2008,0,0,0,0,36,0,0,0,36,null,null,null,null,null,null,null,null,null,null,null,null,null,null,null,null,null,null,null,null,null,null,null,null,null,null,null,null,null,null,null,null,null,null,null,null,null,null,null,180,0,null,null,null,null,2013,10,1,75,67,"DNC","HPT",11,0,11,189.5,0,189.5,781,0,781]
[11819,0,1,1,0,1,null,null,1,1,1,1,1,null,null,null,null,2008,0,0,0,2,2,0,2,0,2,null,null,null,null,null,null,null,null,null,null,null,null,null,null,null,null,null,null,null,null,null,null,null,null,null,null,null,null,null,null,null,null,null,null,null,null,null,null,null,39,0,null,null,null,null,2013,10,1,75,67,"DNC","KAN",6,0,6,115.15,0,115.15,720,0,720]
[74200,0,0,0,0,0,null,null,1,1,1,1,1,null,null,null,null,2008,0,1,0,1,1,0,2,0,1,null,null,null,null,null,null,null,null,null,null,null,null,null,null,null,null,null,null,null,null,null,null,null,null,null,null,null,null,null,null,null,null,null,null,null,null,null,null,null,2,0,null,null,null,null,2013,10,1,75,67,"DNC","SAL",8,0,8,168.4,0,168.4,840,0,840]
[26892.2,0,0,0,0,0,null,null,7,1,1,1,1,null,null,null,null,2008,0,2,0,2,1,1,4,0,2,null,null,null,null,null,null,null,null,null,null,null,null,null,null,null,null,null,null,null,null,null,null,null,null,null,null,null,null,null,null,null,null,null,null,null,null,null,null,null,180,0,null,null,null,null,2013,10,1,75,67,"GRO","CLT",73,0,73,1306.3599999999999,0,1306.3599999999999,6497,0,6497]
[327003.64,0,0,8,0,8,null,null,2,1,1,1,1,null,null,null,null,2008,0,3,0,3,1,0,6,0,1,null,null,null,null,null,null,null,null,null,null,null,null,null,null,null,null,null,null,null,null,null,null,null,null,null,null,null,null,null,null,null,null,null,null,null,null,null,null,null,180,0,null,null,null,null,2013,10,1,75,67,"GRO","HPT",4,0,4,11,0,11,52,0,52]
[21730,0,0,0,0,0,null,null,1,3,1,1,1,null,null,null,null,2009,0,0,0,0,32,2,0,0,34,null,null,null,null,null,null,null,null,null,null,null,null,null,null,null,null,null,null,null,null,null,null,null,null,null,null,null,null,null,null,null,null,null,null,null,null,null,null,null,180,16,null,null,null,null,2013,10,1,75,67,"GRO","KAN",2,0,2,28,0,28,124,0,124]
[26892.2,0,0,0,0,0,null,null,1,1,1,1,1,null,null,null,null,2009,0,0,0,4,1,0,4,0,1,null,null,null,null,null,null,null,null,null,null,null,null,null,null,null,null,null,null,null,null,null,null,null,null,null,null,null,null,null,null,null,null,null,null,null,null,null,null,null,180,0,null,null,null,null,2013,10,1,75,67,"GRO","SAL",2,0,2,26,0,26,94,0,94]
[38550.080000000002,0,0,0,2,2,null,null,1,1,1,1,1,null,null,null,null,2009,0,0,0,5,1,0,5,0,1,null,null,null,null,null,null,null,null,null,null,null,null,null,null,null,null,null,null,null,null,null,null,null,null,null,null,null,null,null,null,null,null,null,null,null,null,null,null,null,180,0,null,null,null,null,2013,10,1,75,67,"HPT","CLT",19,0,19,310.14999999999998,0,310.14999999999998,1444,0,1444]
[59785.060000000005,0,0,0,2,2,null,null,1,1,1,1,1,null,null,null,null,2009,0,0,0,9,1,0,9,0,1,null,null,null,null,null,null,null,null,null,null,null,null,null,null,null,null,null,null,null,null,null,null,null,null,null,null,null,null,null,null,null,null,null,null,null,null,null,null,null,28,0,null,null,null,null,2013,10,1,75,67,"HPT","SAL",1,0,1,8,0,8,34,0,34]
[38628.520000000004,0,0,0,2,2,null,null,1,1,1,1,1,null,null,null,null,2009,0,4,0,4,0,1,8,0,1,null,null,null,null,null,null,null,null,null,null,null,null,null,null,null,null,null,null,null,null,null,null,null,null,null,null,null,null,null,null,null,null,null,null,null,null,null,null,null,13,0,null,null,null,null,2013,10,1,75,67,"KAN","CLT",5,0,5,31.2,0,31.2,135,0,135]
[82611.100000000006,0,0,7,12,19,null,null,1,2,1,1,1,null,null,null,null,2009,0,5,0,5,0,1,10,0,1,null,null,null,null,null,null,null,null,null,null,null,null,null,null,null,null,null,null,null,null,null,null,null,null,null,null,null,null,null,null,null,null,null,null,null,null,null,null,null,68,0,null,null,null,null,2013,10,1,75,67,"RGH","BNC",40,0,40,433,0,433,2400,0,2400]
[25440,0,0,0,0,0,null,null,3,1,1,1,1,null,null,null,null,2009,0,9,0,9,0,1,18,0,1,null,null,null,null,null,null,null,null,null,null,null,null,null,null,null,null,null,null,null,null,null,null,null,null,null,null,null,null,null,null,null,null,null,null,null,null,null,null,null,180,74,null,null,null,null,2013,10,1,75,67,"RGH","CLT",133,0,133,3816.8,0,3816.8,23009,0,23009]
[13848.900000000001,0,0,0,0,0,null,null,1,2,1,1,1,null,null,null,null,2010,0,0,0,0,30,1,0,0,31,null,null,null,null,null,null,null,null,null,null,null,null,null,null,null,null,null,null,null,null,null,null,null,null,null,null,null,null,null,null,null,null,null,null,null,null,null,null,null,180,0,null,null,null,null,2013,10,1,75,67,"RGH","CYN",12,0,12,56.09,0,56.09,108,0,108]
[13848.900000000001,0,0,0,0,0,null,null,1,1,1,1,1,null,null,null,null,2010,0,0,0,17,1,0,17,0,1,null,null,null,null,null,null,null,null,null,null,null,null,null,null,null,null,null,null,null,null,null,null,null,null,null,null,null,null,null,null,null,null,null,null,null,null,null,null,null,180,0,null,null,null,null,2013,10,1,75,67,"RGH","DNC",6,0,6,44,0,44,156,0,156]
[11819,0,0,0,0,0,null,null,1,1,1,1,1,null,null,null,null,2010,0,0,1,2,1,0,2,1,1,null,null,null,null,null,null,null,null,null,null,null,null,null,null,null,null,null,null,null,null,null,null,null,null,null,null,null,null,null,null,null,null,null,null,null,null,null,null,null,21,72,null,null,null,null,2013,10,1,75,67,"RGH","GRO",85,0,85,1201.9000000000001,0,1201.9000000000001,7140,0,7140]
[96460,0,0,8,0,8,null,null,4,1,1,1,1,null,null,null,null,2010,0,17,0,17,0,1,34,0,1,null,null,null,null,null,null,null,null,null,null,null,null,null,null,null,null,null,null,null,null,null,null,null,null,null,null,null,null,null,null,null,null,null,null,null,null,null,null,null,180,0,null,null,null,null,2013,10,1,75,67,"RGH","HPT",36,0,36,544.02,0,544.02,3492,0,3492]
[35934,0,0,0,0,0,null,null,1,1,1,1,1,null,null,null,null,2010,1,2,1,2,0,1,4,2,1,null,null,null,null,null,null,null,null,null,null,null,null,null,null,null,null,null,null,null,null,null,null,null,null,null,null,null,null,null,null,null,null,null,null,null,null,null,null,null,81,0,null,null,null,null,2013,10,1,75,67,"RGH","KAN",23,0,23,529.69000000000005,0,529.69000000000005,3358,0,3358]
[67450.290000000008,0,0,0,3,3,null,null,1,1,1,1,1,null,null,null,null,2011,0,0,0,0,29,1,0,0,30,null,null,null,null,null,null,null,null,null,null,null,null,null,null,null,null,null,null,null,null,null,null,null,null,null,null,null,null,null,null,null,null,null,null,null,null,null,null,null,180,0,null,null,null,null,2013,10,1,75,67,"RGH","SAL",21,0,21,528.88,0,528.88,2751,0,2751]
[19799.850000000002,0,0,0,1,1,null,null,7,1,1,1,1,null,null,null,null,2011,0,0,2,2,1,0,2,2,1,null,null,null,null,null,null,null,null,null,null,null,null,null,null,null,null,null,null,null,null,null,null,null,null,null,null,null,null,null,null,null,null,null,null,null,null,null,null,null,180,0,null,null,null,null,2013,10,1,75,67,"SAL","CLT",4,0,4,39.700000000000003,0,39.700000000000003,168,0,168]
[26160.000000000004,0,0,0,0,0,null,null,1,1,1,1,1,null,null,null,null,2011,0,1,0,1,1,0,2,0,1,null,null,null,null,null,null,null,null,null,null,null,null,null,null,null,null,null,null,null,null,null,null,null,null,null,null,null,null,null,null,null,null,null,null,null,null,null,null,null,180,4,null,null,null,null,2013,10,1,76,67,"BNC","CYN",3,0,3,26,0,26,156,0,156]
[26160.000000000004,0,0,0,0,0,null,null,2,1,1,1,1,null,null,null,null,2011,2,2,2,2,1,0,4,4,1,null,null,null,null,null,null,null,null,null,null,null,null,null,null,null,null,null,null,null,null,null,null,null,null,null,null,null,null,null,null,null,null,null,null,null,null,null,null,null,27,0,null,null,null,null,2013,10,1,76,67,"BNC","DNC",2,0,2,13.5,0,13.5,68,0,68]
[19981.88,0,0,0,1,1,null,null,1,1,1,1,1,null,null,null,null,2012,0,0,0,0,28,1,0,0,29,null,null,null,null,null,null,null,null,null,null,null,null,null,null,null,null,null,null,null,null,null,null,null,null,null,null,null,null,null,null,null,null,null,null,null,null,null,null,null,50,0,null,null,null,null,2013,10,1,76,67,"BNC","RGH",8,0,8,90,0,90,480,0,480]
[23897.160000000003,0,0,2,0,2,null,null,3,1,1,1,1,null,null,null,null,2012,0,0,0,13,1,0,{"$f":"T99+V99","v":13},{"$f":"S99+U99","v":0},{"$f":"SUM(W99:X99)","v":1},null,null,null,null,null,null,null,null,null,null,null,null,null,null,null,null,null,null,null,null,null,null,null,null,null,null,null,null,null,null,null,null,null,null,null,null,null,null,null,11,0,null,null,null,null,2013,10,1,76,67,"CLT","BNC",28,0,28,629.17999999999995,0,629.17999999999995,3164,0,3164]
[22508.5,0,0,0,0,0,null,null,1,2,1,1,1,null,null,null,null,2012,0,3,0,3,0,1,6,0,1,null,null,null,null,null,null,null,null,null,null,null,null,null,null,null,null,null,null,null,null,null,null,null,null,null,null,null,null,null,null,null,null,null,null,null,null,null,null,null,124,0,null,null,null,null,2013,10,1,76,67,"CLT","CYN",159,0,159,4319.93,0,4319.93,26235,0,26235]
[48641.25,0,0,3,0,3,null,null,1,1,1,1,1,null,null,null,null,2013,0,0,0,0,25,1,0,0,26,null,null,null,null,null,null,null,null,null,null,null,null,null,null,null,null,null,null,null,null,null,null,null,null,null,null,null,null,null,null,null,null,null,null,null,null,null,null,null,2,1,null,null,null,null,2013,10,1,76,67,"CLT","DNC",162,0,162,4442.37,0,4442.37,23814,0,23814]
[27666.38,0,0,2,8,10,null,null,1,2,1,1,1,null,null,null,null,2013,0,0,0,1,1,0,1,0,1,null,null,null,null,null,null,null,null,null,null,null,null,null,null,null,null,null,null,null,null,null,null,null,null,null,null,null,null,null,null,null,null,null,null,null,null,null,null,null,180,0,null,null,null,null,2013,10,1,76,67,"CLT","GRO",164,0,164,3310.56,0,3310.56,14596,0,14596]
[218104.64,0,1,0,0,0,null,null,18,1,1,1,1,null,null,null,null,2013,0,0,1,0,1,0,0,1,1,null,null,null,null,null,null,null,null,null,null,null,null,null,null,null,null,null,null,null,null,null,null,null,null,null,null,null,null,null,null,null,null,null,null,null,null,null,null,null,180,3,null,null,null,null,2013,10,1,76,67,"CLT","HPT",58,0,58,942.02,0,942.02,4466,0,4466]
[17665.63,0,0,1,2,3,null,null,3,1,1,1,1,null,null,null,null,2013,1,0,1,0,0,1,0,2,1,null,null,null,null,null,null,null,null,null,null,null,null,null,null,null,null,null,null,null,null,null,null,null,null,null,null,null,null,null,null,null,null,null,null,null,null,null,null,null,111,0,null,null,null,null,2013,10,1,76,67,"CLT","KAN",1,0,1,8,0,8,27,0,27]
[130800.00000000001,0,0,0,0,0,null,null,1,1,1,1,1,null,null,null,null,2014,0,0,0,0,34,0,0,0,34,null,null,null,null,null,null,null,null,null,null,null,null,null,null,null,null,null,null,null,null,null,null,null,null,null,null,null,null,null,null,null,null,null,null,null,null,null,null,null,133,0,null,null,null,null,2013,10,1,76,67,"CLT","RGH",275,0,275,8034.11,0,8034.11,47575,0,47575]
[54746.340000000004,0,0,1,0,1,null,null,1,1,1,1,1,null,null,null,null,2014,0,0,0,1,1,0,1,0,1,null,null,null,null,null,null,null,null,null,null,null,null,null,null,null,null,null,null,null,null,null,null,null,null,null,null,null,null,null,null,null,null,null,null,null,null,null,null,null,180,0,null,null,null,null,2013,10,1,76,67,"CLT","SAL",18,0,18,179,0,179,774,0,774]
[135078.25,0,0,0,5,5,null,null,26,1,1,1,1,null,null,null,null,2014,0,1,0,1,1,1,2,0,2,null,null,null,null,null,null,null,null,null,null,null,null,null,null,null,null,null,null,null,null,null,null,null,null,null,null,null,null,null,null,null,null,null,null,null,null,null,null,null,27,0,null,null,null,null,2013,10,1,76,67,"CYN","RGH",1,0,1,5.5,0,5.5,8,0,8]
[135078.25,0,0,0,0,0,null,null,4,3,1,1,1,null,null,null,null,2015,0,0,0,0,31,1,0,0,32,null,null,null,null,null,null,null,null,null,null,null,null,null,null,null,null,null,null,null,null,null,null,null,null,null,null,null,null,null,null,null,null,null,null,null,null,null,null,null,180,0,null,null,null,null,2013,10,1,76,67,"DNC","CYN",5,0,5,26.12,0,26.12,90,0,90]
[21372.720000000001,0,0,3,0,3,null,null,3,1,1,1,1,null,null,null,null,2015,0,0,1,0,1,0,0,1,1,null,null,null,null,null,null,null,null,null,null,null,null,null,null,null,null,null,null,null,null,null,null,null,null,null,null,null,null,null,null,null,null,null,null,null,null,null,null,null,180,0,null,null,null,null,2013,10,1,76,67,"DNC","RGH",4,0,4,30.5,0,30.5,104,0,104]
[281772.63,0,0,9,19,28,null,null,1,1,1,1,1,null,null,null,null,2015,0,0,0,87,1,0,87,0,1,null,null,null,null,null,null,null,null,null,null,null,null,null,null,null,null,null,null,null,null,null,null,null,null,null,null,null,null,null,null,null,null,null,null,null,null,null,null,null,6,0,null,null,null,null,2013,10,1,76,67,"GRO","BNC",2,0,2,14,0,14,48,0,48]
[68888,0,0,0,0,0,null,null,1,1,1,1,1,null,null,null,null,2015,1,0,1,0,0,1,0,2,1,null,null,null,null,null,null,null,null,null,null,null,null,null,null,null,null,null,null,null,null,null,null,null,null,null,null,null,null,null,null,null,null,null,null,null,null,null,null,null,180,82,null,null,null,null,2013,10,1,76,67,"GRO","CYN",24,0,24,249.85,0,249.85,1824,0,1824]
[68888,0,0,0,0,0,null,null,3,2,1,1,1,null,null,null,null,2016,0,0,0,0,23,0,0,0,23,null,null,null,null,null,null,null,null,null,null,null,null,null,null,null,null,null,null,null,null,null,null,null,null,null,null,null,null,null,null,null,null,null,null,null,null,null,null,null,78,0,null,null,null,null,2013,10,1,76,67,"GRO","DNC",49,0,49,577.74,0,577.74,2842,0,2842]
[152251.20000000001,0,1,0,0,0,null,null,1,1,1,1,1,null,null,null,null,2016,1,0,1,0,1,0,0,2,1,null,null,null,null,null,null,null,null,null,null,null,null,null,null,null,null,null,null,null,null,null,null,null,null,null,null,null,null,null,null,null,null,null,null,null,null,null,null,null,13,0,null,null,null,null,2013,10,1,76,67,"GRO","RGH",74,0,74,1071.5,0,1071.5,6216,0,6216]
[27263.08,0,0,2,1,3,null,null,1,1,1,1,1,null,null,null,null,2017,0,0,0,0,29,1,0,0,30,null,null,null,null,null,null,null,null,null,null,null,null,null,null,null,null,null,null,null,null,null,null,null,null,null,null,null,null,null,null,null,null,null,null,null,null,null,null,null,17,127,null,null,null,null,2013,10,1,76,67,"HPT","BNC",2,0,2,18,0,18,72,0,72]
[256437.76000000001,0,0,0,6,6,null,null,2,2,1,1,1,null,null,null,null,2017,0,0,1,0,1,0,0,1,1,null,null,null,null,null,null,null,null,null,null,null,null,null,null,null,null,null,null,null,null,null,null,null,null,null,null,null,null,null,null,null,null,null,null,null,null,null,null,null,180,0,null,null,null,null,2013,10,1,76,67,"HPT","CYN",10,0,10,166.32,0,166.32,880,0,880]
[46588.780000000006,0,1,1,2,3,null,null,1,1,1,1,1,null,null,null,null,2017,0,1,0,1,1,0,2,0,1,null,null,null,null,null,null,null,null,null,null,null,null,null,null,null,null,null,null,null,null,null,null,null,null,null,null,null,null,null,null,null,null,null,null,null,null,null,null,null,180,0,null,null,null,null,2013,10,1,76,67,"HPT","DNC",20,0,20,350.44,0,350.44,1400,0,1400]
[153280.16,0,0,6,0,6,null,null,2,2,1,1,1,null,null,null,null,2017,0,9,0,9,1,0,18,0,1,null,null,null,null,null,null,null,null,null,null,null,null,null,null,null,null,null,null,null,null,null,null,null,null,null,null,null,null,null,null,null,null,null,null,null,null,null,null,null,34,0,null,null,null,null,2013,10,1,76,67,"HPT","GRO",4,0,4,23.5,0,23.5,48,0,48]
[77421.3,0,0,0,0,0,null,null,12,1,1,1,1,null,null,null,null,2017,1,0,1,0,0,1,0,2,1,null,null,null,null,null,null,null,null,null,null,null,null,null,null,null,null,null,null,null,null,null,null,null,null,null,null,null,null,null,null,null,null,null,null,null,null,null,null,null,60,0,null,null,null,null,2013,10,1,76,67,"HPT","RGH",43,0,43,688.27,0,688.27,4128,0,4128]
[13493.7,0,0,0,0,0,null,null,1,1,1,1,1,null,null,null,null,2018,0,0,0,0,39,4,0,0,43,null,null,null,null,null,null,null,null,null,null,null,null,null,null,null,null,null,null,null,null,null,null,null,null,null,null,null,null,null,null,null,null,null,null,null,null,null,null,null,10,0,null,null,null,null,2013,10,1,76,67,"KAN","BNC",1,0,1,19.12,0,19.12,86,0,86]
[2248492.4000000004,0,1,0,0,1,null,null,1,1,1,1,1,null,null,null,null,2018,0,3,0,3,1,0,6,0,1,null,null,null,null,null,null,null,null,null,null,null,null,null,null,null,null,null,null,null,null,null,null,null,null,null,null,null,null,null,null,null,null,null,null,null,null,null,null,null,180,0,null,null,null,null,2013,10,1,76,67,"KAN","CYN",8,0,8,214.51,0,214.51,1104,0,1104]
[15798.2,0,0,0,0,0,null,null,1,1,1,1,1,null,null,null,null,2019,0,0,0,0,1,0,0,0,1,null,null,null,null,null,null,null,null,null,null,null,null,null,null,null,null,null,null,null,null,null,null,null,null,null,null,null,null,null,null,null,null,null,null,null,null,null,null,null,30,0,null,null,null,null,2013,10,1,76,67,"KAN","DNC",14,0,14,352.42,0,352.42,1680,0,1680]
[168151.5,0,0,3,0,3,null,null,1,2,1,1,1,null,null,null,null,2019,0,0,0,1,1,0,1,0,1,null,null,null,null,null,null,null,null,null,null,null,null,null,null,null,null,null,null,null,null,null,null,null,null,null,null,null,null,null,null,null,null,null,null,null,null,null,null,null,180,0,null,null,null,null,2013,10,1,76,67,"KAN","GRO",24,0,24,352.67,0,352.67,1488,0,1488]
[35860,0,0,0,7,7,null,null,1,1,1,1,1,null,null,null,null,2019,0,1,0,1,0,1,2,0,1,null,null,null,null,null,null,null,null,null,null,null,null,null,null,null,null,null,null,null,null,null,null,null,null,null,null,null,null,null,null,null,null,null,null,null,null,null,null,null,48,0,null,null,null,null,2013,10,1,76,67,"KAN","RGH",23,0,23,650.99,0,650.99,3358,0,3358]
[33000,0,0,0,0,0,null,null,1,1,1,1,1,null,null,null,null,null,null,null,null,null,null,null,null,null,null,null,null,null,null,null,null,null,null,null,null,null,null,null,null,null,null,null,null,null,null,null,null,null,null,null,null,null,null,null,null,null,null,null,null,null,null,null,null,null,180,0,null,null,null,null,2013,10,1,76,67,"SAL","BNC",2,0,2,32,0,32,140,0,140]
[54756.9,0,0,7,1,8,null,null,5,1,1,1,1,null,null,null,null,null,null,null,null,null,null,null,null,null,null,null,null,null,null,null,null,null,null,null,null,null,null,null,null,null,null,null,null,null,null,null,null,null,null,null,null,null,null,null,null,null,null,null,null,null,null,null,null,null,6,0,null,null,null,null,2013,10,1,76,67,"SAL","CYN",4,0,4,77.349999999999994,0,77.349999999999994,488,0,488]
[54756.9,0,0,1,0,1,null,null,1,1,1,1,1,null,null,null,null,null,null,null,null,null,null,null,null,null,null,null,null,null,null,null,null,null,null,null,null,null,null,null,null,null,null,null,null,null,null,null,null,null,null,null,null,null,null,null,null,null,null,null,null,null,null,null,null,null,180,0,null,null,null,null,2013,10,1,76,67,"SAL","DNC",8,0,8,156,0,156,832,0,832]
[14155.900000000001,0,1,1,0,1,null,null,3,1,1,1,1,null,null,null,null,null,null,null,null,null,null,null,null,null,null,null,null,null,null,null,null,null,null,null,null,null,null,null,null,null,null,null,null,null,null,null,null,null,null,null,null,null,null,null,null,null,null,null,null,null,null,null,null,null,29,0,null,null,null,null,2013,10,1,76,67,"SAL","GRO",9,0,9,124,0,124,414,0,414]
[77421.3,0,0,0,1,1,null,null,1,3,1,1,1,null,null,null,null,null,null,null,null,null,null,null,null,null,null,null,null,null,null,null,null,null,null,null,null,null,null,null,null,null,null,null,null,null,null,null,null,null,null,null,null,null,null,null,null,null,null,null,null,null,null,null,null,null,32,0,null,null,null,null,2013,10,1,76,67,"SAL","RGH",15,0,15,383.34,0,383.34,1950,0,1950]
[30864.9,0,3,0,0,0,null,null,1,1,1,1,1,null,null,null,null,null,null,null,null,null,null,null,null,null,null,null,null,null,null,null,null,null,null,null,null,null,null,null,null,null,null,null,null,null,null,null,null,null,null,null,null,null,null,null,null,null,null,null,null,null,null,null,null,null,1,0,null,null,null,null,2013,10,1,79,66,"ALX","BNC",1,0,1,46.8,0,46.8,357,0,357]
[29700.000000000004,0,0,5,0,5,null,null,1,1,1,1,1,null,null,null,null,null,null,null,null,null,null,null,null,null,null,null,null,null,null,null,null,null,null,null,null,null,null,null,null,null,null,null,null,null,null,null,null,null,null,null,null,null,null,null,null,null,null,null,null,null,null,null,null,null,180,0,null,null,null,null,2013,10,1,79,66,"ALX","CLT",2,4,6,136.80000000000001,454.45,591.25,940,1880,2820]
[15798.2,0,0,0,0,0,null,null,1,1,1,1,1,null,null,null,null,null,null,null,null,null,null,null,null,null,null,null,null,null,null,null,null,null,null,null,null,null,null,null,null,null,null,null,null,null,null,null,null,null,null,null,null,null,null,null,null,null,null,null,null,null,null,null,null,null,2,0,null,null,null,null,2013,10,1,79,66,"ALX","CYN",4,3,7,229.4,266.89999999999998,496.3,1220,915,2135]
[15798.2,0,1,0,0,0,null,null,1,1,1,1,1,null,null,null,null,null,null,null,null,null,null,null,null,null,null,null,null,null,null,null,null,null,null,null,null,null,null,null,null,null,null,null,null,null,null,null,null,null,null,null,null,null,null,null,null,null,null,null,null,null,null,null,null,null,180,0,null,null,null,null,2013,10,1,79,66,"ALX","DNC",10,6,16,468.6,420.4,889,3230,1938,5168]
[18658.2,0,1,1,0,1,null,null,1,1,1,1,1,null,null,null,null,null,null,null,null,null,null,null,null,null,null,null,null,null,null,null,null,null,null,null,null,null,null,null,null,null,null,null,null,null,null,null,null,null,null,null,null,null,null,null,null,null,null,null,null,null,null,null,null,null,4,0,null,null,null,null,2013,10,1,79,66,"ALX","GRO",15,2,17,863.2,148.9,1012.1,5715,762,6477]
[2248492.4000000004,0,0,0,0,0,null,null,3,1,1,1,1,null,null,null,null,null,null,null,null,null,null,null,null,null,null,null,null,null,null,null,null,null,null,null,null,null,null,null,null,null,null,null,null,null,null,null,null,null,null,null,null,null,null,null,null,null,null,null,null,null,null,null,null,null,26,0,null,null,null,null,2013,10,1,79,66,"ALX","HPT",7,3,10,498.4,157.69999999999999,656.1,2751,1179,3930]
[20974.800000000003,0,1,2,6,8,null,null,1,2,1,1,1,null,null,null,null,null,null,null,null,null,null,null,null,null,null,null,null,null,null,null,null,null,null,null,null,null,null,null,null,null,null,null,null,null,null,null,null,null,null,null,null,null,null,null,null,null,null,null,null,null,null,null,null,null,106,0,null,null,null,null,2013,10,1,79,66,"ALX","KAN",0,2,2,0,175.25,175.25,0,886,886]
[72699,0,0,3,0,3,null,null,4,1,1,1,1,null,null,null,null,null,null,null,null,null,null,null,null,null,null,null,null,null,null,null,null,null,null,null,null,null,null,null,null,null,null,null,null,null,null,null,null,null,null,null,null,null,null,null,null,null,null,null,null,null,null,null,null,null,2,0,null,null,null,null,2013,10,1,79,66,"ALX","RGH",13,3,16,802.3,242.3,1044.5999999999999,3861,891,4752]
[104877.3,0,0,4,1,5,null,null,1,1,1,1,1,null,null,null,null,null,null,null,null,null,null,null,null,null,null,null,null,null,null,null,null,null,null,null,null,null,null,null,null,null,null,null,null,null,null,null,null,null,null,null,null,null,null,null,null,null,null,null,null,null,null,null,null,null,27,0,null,null,null,null,2013,10,1,79,66,"ALX","RMT",3,6,9,142.80000000000001,424.4,567.20000000000005,678,1356,2034]
[13971.1,0,1,0,0,0,null,null,1,1,1,1,1,null,null,null,null,null,null,null,null,null,null,null,null,null,null,null,null,null,null,null,null,null,null,null,null,null,null,null,null,null,null,null,null,null,null,null,null,null,null,null,null,null,null,null,null,null,null,null,null,null,null,null,null,null,17,0,null,null,null,null,2013,10,1,79,66,"ALX","SAL",1,1,2,83,85.1,168.1,428,428,856]
[64748.200000000004,0,0,2,4,6,null,null,1,2,1,1,1,null,null,null,null,null,null,null,null,null,null,null,null,null,null,null,null,null,null,null,null,null,null,null,null,null,null,null,null,null,null,null,null,null,null,null,null,null,null,null,null,null,null,null,null,null,null,null,null,null,null,null,null,null,180,0,null,null,null,null,2013,10,1,79,66,"ALX","SSM",4,2,6,204.7,67.5,272.2,1068,534,1602]
[13075.7,0,0,0,0,0,null,null,1,1,1,1,1,null,null,null,null,null,null,null,null,null,null,null,null,null,null,null,null,null,null,null,null,null,null,null,null,null,null,null,null,null,null,null,null,null,null,null,null,null,null,null,null,null,null,null,null,null,null,null,null,null,null,null,null,null,49,0,null,null,null,null,2013,10,1,79,66,"ALX","WLN",4,4,8,198.75,320,518.75,968,968,1936]
[13075.7,0,0,0,0,0,null,null,3,1,1,1,1,null,null,null,null,null,null,null,null,null,null,null,null,null,null,null,null,null,null,null,null,null,null,null,null,null,null,null,null,null,null,null,null,null,null,null,null,null,null,null,null,null,null,null,null,null,null,null,null,null,null,null,null,null,180,0,null,null,null,null,2013,10,1,79,66,"BAL","CLT",4,0,4,277.2,0,277.2,2076,0,2076]
[13493.7,0,0,0,0,0,null,null,1,1,1,1,1,null,null,null,null,null,null,null,null,null,null,null,null,null,null,null,null,null,null,null,null,null,null,null,null,null,null,null,null,null,null,null,null,null,null,null,null,null,null,null,null,null,null,null,null,null,null,null,null,null,null,null,null,null,180,2,null,null,null,null,2013,10,1,79,66,"BAL","CYN",3,0,3,193.8,0,193.8,1062,0,1062]
[15309.800000000001,0,0,0,0,0,null,null,1,2,1,1,1,null,null,null,null,null,null,null,null,null,null,null,null,null,null,null,null,null,null,null,null,null,null,null,null,null,null,null,null,null,null,null,null,null,null,null,null,null,null,null,null,null,null,null,null,null,null,null,null,null,null,null,null,null,58,0,null,null,null,null,2013,10,1,79,66,"BAL","DNC",5,0,5,354.2,0,354.2,1860,0,1860]
[15510.000000000002,0,0,0,1,1,null,null,2,1,1,1,1,null,null,null,null,null,null,null,null,null,null,null,null,null,null,null,null,null,null,null,null,null,null,null,null,null,null,null,null,null,null,null,null,null,null,null,null,null,null,null,null,null,null,null,null,null,null,null,null,null,null,null,null,null,156,0,null,null,null,null,2013,10,1,79,66,"BAL","GRO",9,3,12,720.8,304.8,1025.5999999999999,3870,1290,5160]
[28870.600000000002,0,0,0,0,0,null,null,1,2,1,1,1,null,null,null,null,null,null,null,null,null,null,null,null,null,null,null,null,null,null,null,null,null,null,null,null,null,null,null,null,null,null,null,null,null,null,null,null,null,null,null,null,null,null,null,null,null,null,null,null,null,null,null,null,null,9,3,null,null,null,null,2013,10,1,79,66,"BAL","HPT",2,2,4,142.44999999999999,198.9,341.35,884,884,1768]
[14536.500000000002,0,0,0,2,2,null,null,2,1,1,1,1,null,null,null,null,null,null,null,null,null,null,null,null,null,null,null,null,null,null,null,null,null,null,null,null,null,null,null,null,null,null,null,null,null,null,null,null,null,null,null,null,null,null,null,null,null,null,null,null,null,null,null,null,null,180,0,null,null,null,null,2013,10,1,79,66,"BAL","KAN",1,0,1,159,0,159,492,0,492]
[83612.100000000006,0,0,0,13,13,null,null,1,1,1,1,1,null,null,null,null,null,null,null,null,null,null,null,null,null,null,null,null,null,null,null,null,null,null,null,null,null,null,null,null,null,null,null,null,null,null,null,null,null,null,null,null,null,null,null,null,null,null,null,null,null,null,null,null,null,24,0,null,null,null,null,2013,10,1,79,66,"BAL","RGH",5,0,5,378.6,0,378.6,1730,0,1730]
[34023,0,0,2,0,2,null,null,1,1,1,1,1,null,null,null,null,null,null,null,null,null,null,null,null,null,null,null,null,null,null,null,null,null,null,null,null,null,null,null,null,null,null,null,null,null,null,null,null,null,null,null,null,null,null,null,null,null,null,null,null,null,null,null,null,null,61,0,null,null,null,null,2013,10,1,79,66,"BAL","RMT",5,2,7,278.39999999999998,185.5,463.9,1375,550,1925]
[19881.400000000001,0,0,1,0,1,null,null,1,1,1,1,1,null,null,null,null,null,null,null,null,null,null,null,null,null,null,null,null,null,null,null,null,null,null,null,null,null,null,null,null,null,null,null,null,null,null,null,null,null,null,null,null,null,null,null,null,null,null,null,null,null,null,null,null,null,4,0,null,null,null,null,2013,10,1,79,66,"BAL","WLN",2,3,5,133.94999999999999,273.45,407.4,582,873,1455]
[19881.400000000001,0,0,1,1,2,null,null,2,2,1,1,1,null,null,null,null,null,null,null,null,null,null,null,null,null,null,null,null,null,null,null,null,null,null,null,null,null,null,null,null,null,null,null,null,null,null,null,null,null,null,null,null,null,null,null,null,null,null,null,null,null,null,null,null,null,137,0,null,null,null,null,2013,10,1,79,66,"BNC","CLT",10,3,13,215.4,135,350.4,1130,339,1469]
[14653.1,0,0,0,1,1,null,null,1,1,1,1,1,null,null,null,null,null,null,null,null,null,null,null,null,null,null,null,null,null,null,null,null,null,null,null,null,null,null,null,null,null,null,null,null,null,null,null,null,null,null,null,null,null,null,null,null,null,null,null,null,null,null,null,null,null,82,0,null,null,null,null,2013,10,1,79,66,"BNC","GRO",2,0,2,15,0,15,48,0,48]
[27568.2,0,0,0,3,3,null,null,1,1,1,1,1,null,null,null,null,null,null,null,null,null,null,null,null,null,null,null,null,null,null,null,null,null,null,null,null,null,null,null,null,null,null,null,null,null,null,null,null,null,null,null,null,null,null,null,null,null,null,null,null,null,null,null,null,null,12,0,null,null,null,null,2013,10,1,79,66,"BNC","HPT",5,0,5,82,0,82,180,0,180]
[35912.800000000003,0,0,5,0,5,null,null,9,2,1,1,1,null,null,null,null,null,null,null,null,null,null,null,null,null,null,null,null,null,null,null,null,null,null,null,null,null,null,null,null,null,null,null,null,null,null,null,null,null,null,null,null,null,null,null,null,null,null,null,null,null,null,null,null,null,9,0,null,null,null,null,2013,10,1,79,66,"BNC","KAN",3,0,3,78.5,0,78.5,258,0,258]
[18169.800000000003,0,0,2,0,2,null,null,1,2,1,1,1,null,null,null,null,null,null,null,null,null,null,null,null,null,null,null,null,null,null,null,null,null,null,null,null,null,null,null,null,null,null,null,null,null,null,null,null,null,null,null,null,null,null,null,null,null,null,null,null,null,null,null,null,null,3,0,null,null,null,null,2013,10,1,79,66,"BNC","SAL",1,0,1,19,0,19,71,0,71]
[24218.7,0,0,4,1,5,null,null,32,1,1,1,1,null,null,null,null,null,null,null,null,null,null,null,null,null,null,null,null,null,null,null,null,null,null,null,null,null,null,null,null,null,null,null,null,null,null,null,null,null,null,null,null,null,null,null,null,null,null,null,null,null,null,null,null,null,6,0,null,null,null,null,2013,10,1,79,66,"CYN","CLT",32,13,45,1067.1400000000001,491.89,1559.03,5280,2145,7425]
[18434.900000000001,0,0,0,0,0,null,null,1,1,1,1,1,null,null,null,null,null,null,null,null,null,null,null,null,null,null,null,null,null,null,null,null,null,null,null,null,null,null,null,null,null,null,null,null,null,null,null,null,null,null,null,null,null,null,null,null,null,null,null,null,null,null,null,null,null,1,0,null,null,null,null,2013,10,1,79,66,"CYN","DNC",5,1,6,32,17,49,90,18,108]
[14300.000000000002,0,0,2,0,2,null,null,1,1,1,1,1,null,null,null,null,null,null,null,null,null,null,null,null,null,null,null,null,null,null,null,null,null,null,null,null,null,null,null,null,null,null,null,null,null,null,null,null,null,null,null,null,null,null,null,null,null,null,null,null,null,null,null,null,null,3,0,null,null,null,null,2013,10,1,79,66,"CYN","GRO",15,5,20,254.85,140,394.85,1140,380,1520]
[21425.800000000003,0,0,0,1,1,null,null,1,1,1,1,1,null,null,null,null,null,null,null,null,null,null,null,null,null,null,null,null,null,null,null,null,null,null,null,null,null,null,null,null,null,null,null,null,null,null,null,null,null,null,null,null,null,null,null,null,null,null,null,null,null,null,null,null,null,98,0,null,null,null,null,2013,10,1,79,66,"CYN","HPT",5,0,5,124.5,0,124.5,440,0,440]
[18434.900000000001,0,0,0,0,0,null,null,1,3,1,1,1,null,null,null,null,null,null,null,null,null,null,null,null,null,null,null,null,null,null,null,null,null,null,null,null,null,null,null,null,null,null,null,null,null,null,null,null,null,null,null,null,null,null,null,null,null,null,null,null,null,null,null,null,null,180,0,null,null,null,null,2013,10,1,79,66,"CYN","KAN",3,2,5,103,75,178,414,276,690]
[13559.7,0,0,0,4,4,null,null,2,1,1,1,1,null,null,null,null,null,null,null,null,null,null,null,null,null,null,null,null,null,null,null,null,null,null,null,null,null,null,null,null,null,null,null,null,null,null,null,null,null,null,null,null,null,null,null,null,null,null,null,null,null,null,null,null,null,5,0,null,null,null,null,2013,10,1,79,66,"CYN","SAL",3,0,3,64.349999999999994,0,64.349999999999994,369,0,369]
[35333.100000000006,0,0,0,2,2,null,null,1,1,1,1,1,null,null,null,null,null,null,null,null,null,null,null,null,null,null,null,null,null,null,null,null,null,null,null,null,null,null,null,null,null,null,null,null,null,null,null,null,null,null,null,null,null,null,null,null,null,null,null,null,null,null,null,null,null,1,0,null,null,null,null,2013,10,1,79,66,"DNC","BNC",6,0,6,49.25,0,49.25,204,0,204]
[22000,0,0,0,0,0,null,null,7,2,1,1,1,null,null,null,null,null,null,null,null,null,null,null,null,null,null,null,null,null,null,null,null,null,null,null,null,null,null,null,null,null,null,null,null,null,null,null,null,null,null,null,null,null,null,null,null,null,null,null,null,null,null,null,null,null,5,46,null,null,null,null,2013,10,1,79,66,"DNC","CLT",61,8,69,1970.44,395.77,2366.21,8967,1176,10143]
[16695.800000000003,0,0,5,0,5,null,null,1,1,1,1,1,null,null,null,null,null,null,null,null,null,null,null,null,null,null,null,null,null,null,null,null,null,null,null,null,null,null,null,null,null,null,null,null,null,null,null,null,null,null,null,null,null,null,null,null,null,null,null,null,null,null,null,null,null,60,0,null,null,null,null,2013,10,1,79,66,"DNC","GRO",45,1,46,618.69000000000005,26.5,645.19000000000005,2610,58,2668]
[39345.9,0,2,2,0,2,null,null,1,1,1,1,1,null,null,null,null,null,null,null,null,null,null,null,null,null,null,null,null,null,null,null,null,null,null,null,null,null,null,null,null,null,null,null,null,null,null,null,null,null,null,null,null,null,null,null,null,null,null,null,null,null,null,null,null,null,103,13,null,null,null,null,2013,10,1,79,66,"DNC","HPT",10,3,13,185.87,99,284.87,700,210,910]
[19527.2,0,0,0,1,1,null,null,1,3,1,1,1,null,null,null,null,null,null,null,null,null,null,null,null,null,null,null,null,null,null,null,null,null,null,null,null,null,null,null,null,null,null,null,null,null,null,null,null,null,null,null,null,null,null,null,null,null,null,null,null,null,null,null,null,null,180,55,null,null,null,null,2013,10,1,79,66,"DNC","KAN",8,0,8,234.15,0,234.15,960,0,960]
[19527.2,0,0,0,1,1,null,null,1,1,1,1,1,null,null,null,null,null,null,null,null,null,null,null,null,null,null,null,null,null,null,null,null,null,null,null,null,null,null,null,null,null,null,null,null,null,null,null,null,null,null,null,null,null,null,null,null,null,null,null,null,null,null,null,null,null,6,20,null,null,null,null,2013,10,1,79,66,"DNC","SAL",15,0,15,365.5,0,365.5,1575,0,1575]
[28633.000000000004,0,0,0,0,0,null,null,3,1,1,1,1,null,null,null,null,null,null,null,null,null,null,null,null,null,null,null,null,null,null,null,null,null,null,null,null,null,null,null,null,null,null,null,null,null,null,null,null,null,null,null,null,null,null,null,null,null,null,null,null,null,null,null,null,null,56,0,null,null,null,null,2013,10,1,79,66,"FBG","BNC",1,0,1,54,0,54,312,0,312]
[104706.8,0,0,2,0,2,null,null,1,2,1,1,1,null,null,null,null,null,null,null,null,null,null,null,null,null,null,null,null,null,null,null,null,null,null,null,null,null,null,null,null,null,null,null,null,null,null,null,null,null,null,null,null,null,null,null,null,null,null,null,null,null,null,null,null,null,180,0,null,null,null,null,2013,10,1,79,66,"FBG","CLT",6,1,7,441.5,80,521.5,2550,425,2975]
[12265.000000000002,0,0,0,8,8,null,null,2,2,1,1,1,null,null,null,null,null,null,null,null,null,null,null,null,null,null,null,null,null,null,null,null,null,null,null,null,null,null,null,null,null,null,null,null,null,null,null,null,null,null,null,null,null,null,null,null,null,null,null,null,null,null,null,null,null,1,53,null,null,null,null,2013,10,1,79,66,"FBG","CYN",2,0,2,75.849999999999994,0,75.849999999999994,520,0,520]
[1351436.9000000001,0,1,16,0,16,null,null,5,1,1,1,1,null,null,null,null,null,null,null,null,null,null,null,null,null,null,null,null,null,null,null,null,null,null,null,null,null,null,null,null,null,null,null,null,null,null,null,null,null,null,null,null,null,null,null,null,null,null,null,null,null,null,null,null,null,2,0,null,null,null,null,2013,10,1,79,66,"FBG","DNC",2,1,3,95,57.9,152.9,556,278,834]
[35300.100000000006,0,0,6,0,6,null,null,1,1,1,1,1,null,null,null,null,null,null,null,null,null,null,null,null,null,null,null,null,null,null,null,null,null,null,null,null,null,null,null,null,null,null,null,null,null,null,null,null,null,null,null,null,null,null,null,null,null,null,null,null,null,null,null,null,null,34,0,null,null,null,null,2013,10,1,79,66,"FBG","GRO",5,0,5,213.3,0,213.3,1680,0,1680]
[92400.000000000015,0,0,3,0,3,null,null,1,1,1,1,1,null,null,null,null,null,null,null,null,null,null,null,null,null,null,null,null,null,null,null,null,null,null,null,null,null,null,null,null,null,null,null,null,null,null,null,null,null,null,null,null,null,null,null,null,null,null,null,null,null,null,null,null,null,10,0,null,null,null,null,2013,10,1,79,66,"FBG","RGH",4,0,4,204.75,0,204.75,1008,0,1008]
[143599.5,0,0,0,0,0,null,null,2,1,1,1,1,null,null,null,null,null,null,null,null,null,null,null,null,null,null,null,null,null,null,null,null,null,null,null,null,null,null,null,null,null,null,null,null,null,null,null,null,null,null,null,null,null,null,null,null,null,null,null,null,null,null,null,null,null,150,0,null,null,null,null,2013,10,1,79,66,"FBG","RMT",1,3,4,40,135,175,181,543,724]
[32006.700000000004,0,0,2,0,2,null,null,1,2,1,1,1,null,null,null,null,null,null,null,null,null,null,null,null,null,null,null,null,null,null,null,null,null,null,null,null,null,null,null,null,null,null,null,null,null,null,null,null,null,null,null,null,null,null,null,null,null,null,null,null,null,null,null,null,null,17,0,null,null,null,null,2013,10,1,79,66,"FBG","SAL",0,1,1,0,114,114,0,383,383]
[39109.4,0,0,1,0,1,null,null,1,1,1,1,1,null,null,null,null,null,null,null,null,null,null,null,null,null,null,null,null,null,null,null,null,null,null,null,null,null,null,null,null,null,null,null,null,null,null,null,null,null,null,null,null,null,null,null,null,null,null,null,null,null,null,null,null,null,29,0,null,null,null,null,2013,10,1,79,66,"FBG","WLN",1,0,1,36,0,36,197,0,197]
[33740.300000000003,0,0,6,0,6,null,null,1,2,1,1,1,null,null,null,null,null,null,null,null,null,null,null,null,null,null,null,null,null,null,null,null,null,null,null,null,null,null,null,null,null,null,null,null,null,null,null,null,null,null,null,null,null,null,null,null,null,null,null,null,null,null,null,null,null,101,0,null,null,null,null,2013,10,1,79,66,"GRO","CLT",69,3,72,1500.24,98.27,1598.51,6141,267,6408]
[18999.2,0,0,0,1,1,null,null,1,3,1,1,1,null,null,null,null,null,null,null,null,null,null,null,null,null,null,null,null,null,null,null,null,null,null,null,null,null,null,null,null,null,null,null,null,null,null,null,null,null,null,null,null,null,null,null,null,null,null,null,null,null,null,null,null,null,180,0,null,null,null,null,2013,10,1,79,66,"GRO","HPT",8,0,8,44.04,0,44.04,96,0,96]
[36004.100000000006,0,0,0,0,0,null,null,1,1,1,1,1,null,null,null,null,null,null,null,null,null,null,null,null,null,null,null,null,null,null,null,null,null,null,null,null,null,null,null,null,null,null,null,null,null,null,null,null,null,null,null,null,null,null,null,null,null,null,null,null,null,null,null,null,null,132,0,null,null,null,null,2013,10,1,79,66,"GRO","KAN",4,0,4,59,0,59,248,0,248]
[44240.9,0,2,0,0,0,null,null,1,1,1,1,1,null,null,null,null,null,null,null,null,null,null,null,null,null,null,null,null,null,null,null,null,null,null,null,null,null,null,null,null,null,null,null,null,null,null,null,null,null,null,null,null,null,null,null,null,null,null,null,null,null,null,null,null,null,180,0,null,null,null,null,2013,10,1,79,66,"GRO","SAL",9,0,9,109.5,0,109.5,423,0,423]
[143599.5,0,2,5,0,5,null,null,1,3,1,1,1,null,null,null,null,null,null,null,null,null,null,null,null,null,null,null,null,null,null,null,null,null,null,null,null,null,null,null,null,null,null,null,null,null,null,null,null,null,null,null,null,null,null,null,null,null,null,null,null,null,null,null,null,null,33,0,null,null,null,null,2013,10,1,79,66,"HPT","CLT",33,1,34,588.75,28.5,617.25,2541,77,2618]
[15863.100000000002,0,0,0,0,0,null,null,5,1,1,1,1,null,null,null,null,null,null,null,null,null,null,null,null,null,null,null,null,null,null,null,null,null,null,null,null,null,null,null,null,null,null,null,null,null,null,null,null,null,null,null,null,null,null,null,null,null,null,null,null,null,null,null,null,null,14,0,null,null,null,null,2013,10,1,79,66,"HPT","KAN",5,0,5,64,0,64,250,0,250]
[13944.7,0,0,1,3,4,null,null,1,2,1,1,1,null,null,null,null,null,null,null,null,null,null,null,null,null,null,null,null,null,null,null,null,null,null,null,null,null,null,null,null,null,null,null,null,null,null,null,null,null,null,null,null,null,null,null,null,null,null,null,null,null,null,null,null,null,180,1,null,null,null,null,2013,10,1,79,66,"HPT","SAL",3,0,3,28.5,0,28.5,105,0,105]
[11770.000000000002,0,0,1,0,1,null,null,2,2,1,1,1,null,null,null,null,null,null,null,null,null,null,null,null,null,null,null,null,null,null,null,null,null,null,null,null,null,null,null,null,null,null,null,null,null,null,null,null,null,null,null,null,null,null,null,null,null,null,null,null,null,null,null,null,null,180,0,null,null,null,null,2013,10,1,79,66,"NSF","BNC",30,10,40,338.5,220,558.5,1800,600,2400]
[48262.500000000007,0,0,0,0,0,null,null,1,2,1,1,1,null,null,null,null,null,null,null,null,null,null,null,null,null,null,null,null,null,null,null,null,null,null,null,null,null,null,null,null,null,null,null,null,null,null,null,null,null,null,null,null,null,null,null,null,null,null,null,null,null,null,null,null,null,9,0,null,null,null,null,2013,10,1,79,66,"NSF","CLT",9,2,11,243.7,75,318.7,1557,346,1903]
[48950.000000000007,0,0,5,0,5,null,null,2,1,1,1,1,null,null,null,null,null,null,null,null,null,null,null,null,null,null,null,null,null,null,null,null,null,null,null,null,null,null,null,null,null,null,null,null,null,null,null,null,null,null,null,null,null,null,null,null,null,null,null,null,null,null,null,null,null,4,0,null,null,null,null,2013,10,1,79,66,"NSF","CYN",1,0,1,5.5,0,5.5,8,0,8]
[48950.000000000007,0,0,0,0,0,null,null,1,2,1,1,1,null,null,null,null,null,null,null,null,null,null,null,null,null,null,null,null,null,null,null,null,null,null,null,null,null,null,null,null,null,null,null,null,null,null,null,null,null,null,null,null,null,null,null,null,null,null,null,null,null,null,null,null,null,2,0,null,null,null,null,2013,10,1,79,66,"NSF","DNC",18,3,21,128,61.5,189.5,468,78,546]
[36004.100000000006,0,0,0,0,0,null,null,1,3,1,1,1,null,null,null,null,null,null,null,null,null,null,null,null,null,null,null,null,null,null,null,null,null,null,null,null,null,null,null,null,null,null,null,null,null,null,null,null,null,null,null,null,null,null,null,null,null,null,null,null,null,null,null,null,null,8,0,null,null,null,null,2013,10,1,79,66,"NSF","GRO",59,28,87,751.01,763.49,1514.5,4956,2352,7308]
[18700,0,0,3,0,3,null,null,3,1,1,1,1,null,null,null,null,null,null,null,null,null,null,null,null,null,null,null,null,null,null,null,null,null,null,null,null,null,null,null,null,null,null,null,null,null,null,null,null,null,null,null,null,null,null,null,null,null,null,null,null,null,null,null,null,null,22,0,null,null,null,null,2013,10,1,79,66,"NSF","HPT",15,2,17,276.08999999999997,51,327.08999999999997,1440,192,1632]
[14547.500000000002,0,0,0,2,2,null,null,1,1,1,1,1,null,null,null,null,null,null,null,null,null,null,null,null,null,null,null,null,null,null,null,null,null,null,null,null,null,null,null,null,null,null,null,null,null,null,null,null,null,null,null,null,null,null,null,null,null,null,null,null,null,null,null,null,null,8,0,null,null,null,null,2013,10,1,79,66,"NSF","KAN",7,0,7,173.25,0,173.25,1022,0,1022]
[40262.880000000005,0,0,2,2,4,null,null,1,1,1,1,1,null,null,null,null,null,null,null,null,null,null,null,null,null,null,null,null,null,null,null,null,null,null,null,null,null,null,null,null,null,null,null,null,null,null,null,null,null,null,null,null,null,null,null,null,null,null,null,null,null,null,null,null,null,54,0,null,null,null,null,2013,10,1,79,66,"NSF","SAL",18,6,24,424.5,257,681.5,2358,786,3144]
[343769.44000000006,0,0,5,8,13,null,null,1,1,1,1,1,null,null,null,null,null,null,null,null,null,null,null,null,null,null,null,null,null,null,null,null,null,null,null,null,null,null,null,null,null,null,null,null,null,null,null,null,null,null,null,null,null,null,null,null,null,null,null,null,null,null,null,null,null,180,55,null,null,null,null,2013,10,1,79,66,"NWK","BNC",0,1,1,0,178.45,178.45,0,581,581]
[171920.00000000003,0,0,0,0,0,null,null,15,2,1,1,1,null,null,null,null,null,null,null,null,null,null,null,null,null,null,null,null,null,null,null,null,null,null,null,null,null,null,null,null,null,null,null,null,null,null,null,null,null,null,null,null,null,null,null,null,null,null,null,null,null,null,null,null,null,16,0,null,null,null,null,2013,10,1,79,66,"NWK","CLT",16,1,17,1672.05,157,1829.05,11104,694,11798]
[46846.240000000005,0,0,0,0,0,null,null,1,1,1,1,1,null,null,null,null,null,null,null,null,null,null,null,null,null,null,null,null,null,null,null,null,null,null,null,null,null,null,null,null,null,null,null,null,null,null,null,null,null,null,null,null,null,null,null,null,null,null,null,null,null,null,null,null,null,3,0,null,null,null,null,2013,10,1,79,66,"NWK","CYN",2,0,2,136.5,0,136.5,1058,0,1058]
[46846.240000000005,0,0,1,0,1,null,null,1,2,1,1,1,null,null,null,null,null,null,null,null,null,null,null,null,null,null,null,null,null,null,null,null,null,null,null,null,null,null,null,null,null,null,null,null,null,null,null,null,null,null,null,null,null,null,null,null,null,null,null,null,null,null,null,null,null,29,0,null,null,null,null,2013,10,1,79,66,"NWK","DNC",8,0,8,937.2,0,937.2,4376,0,4376]
[108501.12000000001,0,0,2,0,2,null,null,4,1,1,1,1,null,null,null,null,null,null,null,null,null,null,null,null,null,null,null,null,null,null,null,null,null,null,null,null,null,null,null,null,null,null,null,null,null,null,null,null,null,null,null,null,null,null,null,null,null,null,null,null,null,null,null,null,null,45,0,null,null,null,null,2013,10,1,79,66,"NWK","GRO",8,0,8,657,0,657,4840,0,4840]
[66114.720000000001,0,0,6,0,6,null,null,1,1,1,1,1,null,null,null,null,null,null,null,null,null,null,null,null,null,null,null,null,null,null,null,null,null,null,null,null,null,null,null,null,null,null,null,null,null,null,null,null,null,null,null,null,null,null,null,null,null,null,null,null,null,null,null,null,null,5,0,null,null,null,null,2013,10,1,79,66,"NWK","HPT",4,0,4,381.6,0,381.6,2468,0,2468]
[108501.12000000001,0,0,1,3,4,null,null,1,3,1,1,1,null,null,null,null,null,null,null,null,null,null,null,null,null,null,null,null,null,null,null,null,null,null,null,null,null,null,null,null,null,null,null,null,null,null,null,null,null,null,null,null,null,null,null,null,null,null,null,null,null,null,null,null,null,180,0,null,null,null,null,2013,10,1,79,66,"NWK","KAN",1,0,1,134,0,134,667,0,667]
[14672.000000000002,0,0,0,3,3,null,null,2,2,1,1,1,null,null,null,null,null,null,null,null,null,null,null,null,null,null,null,null,null,null,null,null,null,null,null,null,null,null,null,null,null,null,null,null,null,null,null,null,null,null,null,null,null,null,null,null,null,null,null,null,null,null,null,null,null,89,0,null,null,null,null,2013,10,1,79,66,"NWK","RGH",11,0,11,969.75,0,969.75,5731,0,5731]
[24080.000000000004,0,0,2,0,2,null,null,1,1,1,1,1,null,null,null,null,null,null,null,null,null,null,null,null,null,null,null,null,null,null,null,null,null,null,null,null,null,null,null,null,null,null,null,null,null,null,null,null,null,null,null,null,null,null,null,null,null,null,null,null,null,null,null,null,null,9,0,null,null,null,null,2013,10,1,79,66,"NWK","RMT",1,0,1,129,0,129,450,0,450]
[17360,0,0,0,5,5,null,null,1,1,1,1,1,null,null,null,null,null,null,null,null,null,null,null,null,null,null,null,null,null,null,null,null,null,null,null,null,null,null,null,null,null,null,null,null,null,null,null,null,null,null,null,null,null,null,null,null,null,null,null,null,null,null,null,null,null,180,37,null,null,null,null,2013,10,1,79,66,"NWK","SAL",3,0,3,288.89999999999998,0,288.89999999999998,1956,0,1956]
[31920.000000000004,0,0,0,0,0,null,null,1,1,1,1,1,null,null,null,null,null,null,null,null,null,null,null,null,null,null,null,null,null,null,null,null,null,null,null,null,null,null,null,null,null,null,null,null,null,null,null,null,null,null,null,null,null,null,null,null,null,null,null,null,null,null,null,null,null,12,0,null,null,null,null,2013,10,1,79,66,"NWK","SSM",0,1,1,0,176.75,176.75,0,491,491]
[12320.000000000002,0,0,0,0,0,null,null,1,1,1,1,1,null,null,null,null,null,null,null,null,null,null,null,null,null,null,null,null,null,null,null,null,null,null,null,null,null,null,null,null,null,null,null,null,null,null,null,null,null,null,null,null,null,null,null,null,null,null,null,null,null,null,null,null,null,180,0,null,null,null,null,2013,10,1,79,66,"NWK","WLN",1,0,1,90,0,90,466,0,466]
[93698.08,0,0,1,0,1,null,null,2,1,1,1,1,null,null,null,null,null,null,null,null,null,null,null,null,null,null,null,null,null,null,null,null,null,null,null,null,null,null,null,null,null,null,null,null,null,null,null,null,null,null,null,null,null,null,null,null,null,null,null,null,null,null,null,null,null,143,0,null,null,null,null,2013,10,1,79,66,"NYP","BNC",3,0,3,248.4,0,248.4,1773,0,1773]
[635677.28,1,0,2,7,9,null,null,1,1,1,1,1,null,null,null,null,null,null,null,null,null,null,null,null,null,null,null,null,null,null,null,null,null,null,null,null,null,null,null,null,null,null,null,null,null,null,null,null,null,null,null,null,null,null,null,null,null,null,null,null,null,null,null,null,null,46,0,null,null,null,null,2013,10,1,79,66,"NYP","CLT",25,1,26,2989.9,0,2989.9,17600,704,18304]
[97050.240000000005,0,1,0,0,0,null,null,1,1,1,1,1,null,null,null,null,null,null,null,null,null,null,null,null,null,null,null,null,null,null,null,null,null,null,null,null,null,null,null,null,null,null,null,null,null,null,null,null,null,null,null,null,null,null,null,null,null,null,null,null,null,null,null,null,null,180,0,null,null,null,null,2013,10,1,79,66,"NYP","CYN",6,1,7,482.3,174,656.3,3234,539,3773]
[23593.920000000002,0,0,0,0,0,null,null,5,1,1,1,1,null,null,null,null,null,null,null,null,null,null,null,null,null,null,null,null,null,null,null,null,null,null,null,null,null,null,null,null,null,null,null,null,null,null,null,null,null,null,null,null,null,null,null,null,null,null,null,null,null,null,null,null,null,180,0,null,null,null,null,2013,10,1,79,66,"NYP","DNC",20,0,20,1975.9,0,1975.9,11140,0,11140]
[26880.000000000004,0,0,0,0,0,null,null,1,1,1,1,1,null,null,null,null,null,null,null,null,null,null,null,null,null,null,null,null,null,null,null,null,null,null,null,null,null,null,null,null,null,null,null,null,null,null,null,null,null,null,null,null,null,null,null,null,null,null,null,null,null,null,null,null,null,12,6,null,null,null,null,2013,10,1,79,66,"NYP","GRO",20,3,23,2274.75,437.25,2712,12300,1845,14145]
[11368.000000000002,0,0,3,0,3,null,null,6,2,1,1,1,null,null,null,null,null,null,null,null,null,null,null,null,null,null,null,null,null,null,null,null,null,null,null,null,null,null,null,null,null,null,null,null,null,null,null,null,null,null,null,null,null,null,null,null,null,null,null,null,null,null,null,null,null,10,0,null,null,null,null,2013,10,1,79,66,"NYP","HPT",3,0,3,307.39999999999998,0,307.39999999999998,1881,0,1881]
[26208.000000000004,0,1,3,1,4,null,null,4,3,1,1,1,null,null,null,null,null,null,null,null,null,null,null,null,null,null,null,null,null,null,null,null,null,null,null,null,null,null,null,null,null,null,null,null,null,null,null,null,null,null,null,null,null,null,null,null,null,null,null,null,null,null,null,null,null,27,0,null,null,null,null,2013,10,1,79,66,"NYP","KAN",7,0,7,814.55,0,814.55,4739,0,4739]
[56000.000000000007,0,0,0,0,0,null,null,1,1,1,1,1,null,null,null,null,null,null,null,null,null,null,null,null,null,null,null,null,null,null,null,null,null,null,null,null,null,null,null,null,null,null,null,null,null,null,null,null,null,null,null,null,null,null,null,null,null,null,null,null,null,null,null,null,null,180,0,null,null,null,null,2013,10,1,79,66,"NYP","RGH",19,2,21,2082.8000000000002,256.5,2339.3000000000002,10089,1062,11151]
[56000.000000000007,0,0,0,0,0,null,null,1,1,1,1,1,null,null,null,null,null,null,null,null,null,null,null,null,null,null,null,null,null,null,null,null,null,null,null,null,null,null,null,null,null,null,null,null,null,null,null,null,null,null,null,null,null,null,null,null,null,null,null,null,null,null,null,null,null,180,0,null,null,null,null,2013,10,1,79,66,"NYP","RMT",9,0,9,993.85,0,993.85,4140,0,4140]
[21773.920000000002,0,0,2,0,2,null,null,1,2,1,1,1,null,null,null,null,null,null,null,null,null,null,null,null,null,null,null,null,null,null,null,null,null,null,null,null,null,null,null,null,null,null,null,null,null,null,null,null,null,null,null,null,null,null,null,null,null,null,null,null,null,null,null,null,null,180,45,null,null,null,null,2013,10,1,79,66,"NYP","WLN",6,7,13,616.5,903,1519.5,2856,3332,6188]
[93755.200000000012,0,0,0,1,1,null,null,3,1,1,1,1,null,null,null,null,null,null,null,null,null,null,null,null,null,null,null,null,null,null,null,null,null,null,null,null,null,null,null,null,null,null,null,null,null,null,null,null,null,null,null,null,null,null,null,null,null,null,null,null,null,null,null,null,null,3,0,null,null,null,null,2013,10,1,79,66,"PHL","BNC",4,0,4,312.35000000000002,0,312.35000000000002,2000,0,2000]
[23593.920000000002,0,0,0,0,0,null,null,2,2,1,1,1,null,null,null,null,null,null,null,null,null,null,null,null,null,null,null,null,null,null,null,null,null,null,null,null,null,null,null,null,null,null,null,null,null,null,null,null,null,null,null,null,null,null,null,null,null,null,null,null,null,null,null,null,null,48,0,null,null,null,null,2013,10,1,79,66,"PHL","CLT",8,2,10,926.2,278.55,1204.75,4904,1226,6130]
[56112.000000000007,0,0,0,1,1,null,null,1,2,1,1,1,null,null,null,null,null,null,null,null,null,null,null,null,null,null,null,null,null,null,null,null,null,null,null,null,null,null,null,null,null,null,null,null,null,null,null,null,null,null,null,null,null,null,null,null,null,null,null,null,null,null,null,null,null,116,180,null,null,null,null,2013,10,1,79,66,"PHL","CYN",4,5,9,332.5,559.9,892.4,1792,2240,4032]
[33040,0,0,0,8,8,null,null,1,2,1,1,1,null,null,null,null,null,null,null,null,null,null,null,null,null,null,null,null,null,null,null,null,null,null,null,null,null,null,null,null,null,null,null,null,null,null,null,null,null,null,null,null,null,null,null,null,null,null,null,null,null,null,null,null,null,25,0,null,null,null,null,2013,10,1,79,66,"PHL","DNC",11,2,13,1010.8,242,1252.8,5126,932,6058]
[26716.480000000003,0,0,0,0,0,null,null,1,2,1,1,1,null,null,null,null,null,null,null,null,null,null,null,null,null,null,null,null,null,null,null,null,null,null,null,null,null,null,null,null,null,null,null,null,null,null,null,null,null,null,null,null,null,null,null,null,null,null,null,null,null,null,null,null,null,180,180,null,null,null,null,2013,10,1,79,66,"PHL","GRO",7,4,11,629.79999999999995,483.6,1113.4000000000001,3668,2096,5764]
[97050.240000000005,0,0,3,0,3,null,null,1,3,1,1,1,null,null,null,null,null,null,null,null,null,null,null,null,null,null,null,null,null,null,null,null,null,null,null,null,null,null,null,null,null,null,null,null,null,null,null,null,null,null,null,null,null,null,null,null,null,null,null,null,null,null,null,null,null,3,0,null,null,null,null,2013,10,1,79,66,"PHL","HPT",5,3,8,524.1,386.2,910.3,2680,1608,4288]
[56112.000000000007,0,0,0,0,0,null,null,1,1,1,1,1,null,null,null,null,null,null,null,null,null,null,null,null,null,null,null,null,null,null,null,null,null,null,null,null,null,null,null,null,null,null,null,null,null,null,null,null,null,null,null,null,null,null,null,null,null,null,null,null,null,null,null,null,null,28,0,null,null,null,null,2013,10,1,79,66,"PHL","KAN",2,0,2,154.5,0,154.5,1172,0,1172]
[26716.480000000003,0,0,0,0,0,null,null,1,1,1,1,1,null,null,null,null,null,null,null,null,null,null,null,null,null,null,null,null,null,null,null,null,null,null,null,null,null,null,null,null,null,null,null,null,null,null,null,null,null,null,null,null,null,null,null,null,null,null,null,null,null,null,null,null,null,120,0,null,null,null,null,2013,10,1,79,66,"PHL","RGH",10,2,12,1030.2,226,1256.2,4400,880,5280]
[11593.8,0,0,1,0,1,null,null,1,1,1,1,1,null,null,null,null,null,null,null,null,null,null,null,null,null,null,null,null,null,null,null,null,null,null,null,null,null,null,null,null,null,null,null,null,null,null,null,null,null,null,null,null,null,null,null,null,null,null,null,null,null,null,null,null,null,13,0,null,null,null,null,2013,10,1,79,66,"PHL","RMT",3,0,3,181.05,0,181.05,1107,0,1107]
[11593.8,0,0,0,0,0,null,null,1,1,1,1,1,null,null,null,null,null,null,null,null,null,null,null,null,null,null,null,null,null,null,null,null,null,null,null,null,null,null,null,null,null,null,null,null,null,null,null,null,null,null,null,null,null,null,null,null,null,null,null,null,null,null,null,null,null,33,0,null,null,null,null,2013,10,1,79,66,"PHL","SAL",1,0,1,94,0,94,571,0,571]
[12919.619999999999,0,0,0,0,0,null,null,2,1,1,1,1,null,null,null,null,null,null,null,null,null,null,null,null,null,null,null,null,null,null,null,null,null,null,null,null,null,null,null,null,null,null,null,null,null,null,null,null,null,null,null,null,null,null,null,null,null,null,null,null,null,null,null,null,null,13,0,null,null,null,null,2013,10,1,79,66,"PHL","WLN",5,5,10,402.25,571.9,974.15,1925,1925,3850]
[17321.16,0,0,0,0,0,null,null,1,1,1,1,1,null,null,null,null,null,null,null,null,null,null,null,null,null,null,null,null,null,null,null,null,null,null,null,null,null,null,null,null,null,null,null,null,null,null,null,null,null,null,null,null,null,null,null,null,null,null,null,null,null,null,null,null,null,66,0,null,null,null,null,2013,10,1,79,66,"PTB","BNC",0,1,1,0,44.75,44.75,0,229,229]
[65872.62,0,0,5,1,6,null,null,1,1,1,1,1,null,null,null,null,null,null,null,null,null,null,null,null,null,null,null,null,null,null,null,null,null,null,null,null,null,null,null,null,null,null,null,null,null,null,null,null,null,null,null,null,null,null,null,null,null,null,null,null,null,null,null,null,null,63,180,null,null,null,null,2013,10,1,79,66,"PTB","CLT",4,3,7,213.25,196.95,410.2,1368,1026,2394]
[16486.68,0,0,0,0,0,null,null,1,2,1,1,1,null,null,null,null,null,null,null,null,null,null,null,null,null,null,null,null,null,null,null,null,null,null,null,null,null,null,null,null,null,null,null,null,null,null,null,null,null,null,null,null,null,null,null,null,null,null,null,null,null,null,null,null,null,180,0,null,null,null,null,2013,10,1,79,66,"PTB","GRO",5,0,5,178.1,0,178.1,1265,0,1265]
[25079.999999999996,0,0,3,0,3,null,null,2,2,1,1,1,null,null,null,null,null,null,null,null,null,null,null,null,null,null,null,null,null,null,null,null,null,null,null,null,null,null,null,null,null,null,null,null,null,null,null,null,null,null,null,null,null,null,null,null,null,null,null,null,null,null,null,null,null,180,0,null,null,null,null,2013,10,1,79,66,"PTB","HPT",2,0,2,64.75,0,64.75,530,0,530]
[53910.6,0,0,1,1,2,null,null,1,2,1,1,1,null,null,null,null,null,null,null,null,null,null,null,null,null,null,null,null,null,null,null,null,null,null,null,null,null,null,null,null,null,null,null,null,null,null,null,null,null,null,null,null,null,null,null,null,null,null,null,null,null,null,null,null,null,108,0,null,null,null,null,2013,10,1,79,66,"PTB","RGH",1,0,1,35,0,35,169,0,169]
[37087.619999999995,0,0,3,4,7,null,null,4,2,1,1,1,null,null,null,null,null,null,null,null,null,null,null,null,null,null,null,null,null,null,null,null,null,null,null,null,null,null,null,null,null,null,null,null,null,null,null,null,null,null,null,null,null,null,null,null,null,null,null,null,null,null,null,null,null,5,0,null,null,null,null,2013,10,1,79,66,"PTB","SAL",4,0,4,167,0,167,1200,0,1200]
[28670.999999999996,0,0,1,0,1,null,null,3,1,1,1,1,null,null,null,null,null,null,null,null,null,null,null,null,null,null,null,null,null,null,null,null,null,null,null,null,null,null,null,null,null,null,null,null,null,null,null,null,null,null,null,null,null,null,null,null,null,null,null,null,null,null,null,null,null,229,0,null,null,null,null,2013,10,1,79,66,"PTB","SSM",1,1,2,54,39,93,139,139,278]
[16486.68,0,0,0,0,0,null,null,1,1,1,1,1,null,null,null,null,null,null,null,null,null,null,null,null,null,null,null,null,null,null,null,null,null,null,null,null,null,null,null,null,null,null,null,null,null,null,null,null,null,null,null,null,null,null,null,null,null,null,null,null,null,null,null,null,null,85,0,null,null,null,null,2013,10,1,79,66,"PTB","WLN",1,0,1,25,0,25,114,0,114]
[13885.199999999999,0,0,3,0,3,null,null,1,1,1,1,1,null,null,null,null,null,null,null,null,null,null,null,null,null,null,null,null,null,null,null,null,null,null,null,null,null,null,null,null,null,null,null,null,null,null,null,null,null,null,null,null,null,null,null,null,null,null,null,null,null,null,null,null,null,1,180,null,null,null,null,2013,10,1,79,66,"QAN","BNC",1,0,1,61,0,61,331,0,331]
[12919.619999999999,0,0,0,0,0,null,null,5,1,1,1,1,null,null,null,null,null,null,null,null,null,null,null,null,null,null,null,null,null,null,null,null,null,null,null,null,null,null,null,null,null,null,null,null,null,null,null,null,null,null,null,null,null,null,null,null,null,null,null,null,null,null,null,null,null,180,8,null,null,null,null,2013,10,1,79,66,"QAN","CYN",0,1,1,0,63.95,63.95,0,279,279]
[13679.999999999998,0,0,6,1,7,null,null,1,1,1,1,1,null,null,null,null,null,null,null,null,null,null,null,null,null,null,null,null,null,null,null,null,null,null,null,null,null,null,null,null,null,null,null,null,null,null,null,null,null,null,null,null,null,null,null,null,null,null,null,null,null,null,null,null,null,16,0,null,null,null,null,2013,10,1,79,66,"QAN","DNC",1,1,2,47,66.3,113.3,297,297,594]
[23882.999999999996,0,0,2,0,2,null,null,1,1,1,1,1,null,null,null,null,null,null,null,null,null,null,null,null,null,null,null,null,null,null,null,null,null,null,null,null,null,null,null,null,null,null,null,null,null,null,null,null,null,null,null,null,null,null,null,null,null,null,null,null,null,null,null,null,null,3,0,null,null,null,null,2013,10,1,79,66,"QAN","GRO",0,2,2,0,130.25,130.25,0,710,710]
[43319.999999999993,0,0,0,1,1,null,null,1,1,1,1,1,null,null,null,null,null,null,null,null,null,null,null,null,null,null,null,null,null,null,null,null,null,null,null,null,null,null,null,null,null,null,null,null,null,null,null,null,null,null,null,null,null,null,null,null,null,null,null,null,null,null,null,null,null,2,0,null,null,null,null,2013,10,1,79,66,"QAN","RGH",1,0,1,104,0,104,271,0,271]
[12740.64,0,0,0,2,2,null,null,2,2,1,1,1,null,null,null,null,null,null,null,null,null,null,null,null,null,null,null,null,null,null,null,null,null,null,null,null,null,null,null,null,null,null,null,null,null,null,null,null,null,null,null,null,null,null,null,null,null,null,null,null,null,null,null,null,null,1,0,null,null,null,null,2013,10,1,79,66,"QAN","WLN",3,0,3,129.85,0,129.85,648,0,648]
[55126.979999999996,0,0,0,0,0,null,null,1,1,1,1,1,null,null,null,null,null,null,null,null,null,null,null,null,null,null,null,null,null,null,null,null,null,null,null,null,null,null,null,null,null,null,null,null,null,null,null,null,null,null,null,null,null,null,null,null,null,null,null,null,null,null,null,null,null,3,0,null,null,null,null,2013,10,1,79,66,"RGH","BNC",1,1,2,16,26,42,60,60,120]
[49361.999999999993,0,0,3,0,3,null,null,1,3,1,1,1,null,null,null,null,null,null,null,null,null,null,null,null,null,null,null,null,null,null,null,null,null,null,null,null,null,null,null,null,null,null,null,null,null,null,null,null,null,null,null,null,null,null,null,null,null,null,null,null,null,null,null,null,null,5,0,null,null,null,null,2013,10,1,79,66,"RGH","CLT",97,11,108,3193.83,460.97,3654.8,16781,1903,18684]
[27473.999999999996,0,0,0,0,0,null,null,1,1,1,1,1,null,null,null,null,null,null,null,null,null,null,null,null,null,null,null,null,null,null,null,null,null,null,null,null,null,null,null,null,null,null,null,null,null,null,null,null,null,null,null,null,null,null,null,null,null,null,null,null,null,null,null,null,null,78,0,null,null,null,null,2013,10,1,79,66,"RGH","DNC",5,0,5,40.42,0,40.42,130,0,130]
[55126.979999999996,0,1,0,0,1,null,null,1,1,1,1,1,null,null,null,null,null,null,null,null,null,null,null,null,null,null,null,null,null,null,null,null,null,null,null,null,null,null,null,null,null,null,null,null,null,null,null,null,null,null,null,null,null,null,null,null,null,null,null,null,null,null,null,null,null,56,0,null,null,null,null,2013,10,1,79,66,"RGH","GRO",72,2,74,1133.6199999999999,54,1187.6199999999999,6048,168,6216]
[48014.52,0,0,0,0,0,null,null,1,3,1,1,1,null,null,null,null,null,null,null,null,null,null,null,null,null,null,null,null,null,null,null,null,null,null,null,null,null,null,null,null,null,null,null,null,null,null,null,null,null,null,null,null,null,null,null,null,null,null,null,null,null,null,null,null,null,180,0,null,null,null,null,2013,10,1,79,66,"RGH","HPT",16,0,16,298.92,0,298.92,1536,0,1536]
[48014.52,0,0,0,0,0,null,null,1,1,1,1,1,null,null,null,null,null,null,null,null,null,null,null,null,null,null,null,null,null,null,null,null,null,null,null,null,null,null,null,null,null,null,null,null,null,null,null,null,null,null,null,null,null,null,null,null,null,null,null,null,null,null,null,null,null,153,0,null,null,null,null,2013,10,1,79,66,"RGH","KAN",20,1,21,567.07000000000005,54,621.07000000000005,2920,146,3066]
[12767.999999999998,0,0,6,1,7,null,null,1,1,1,1,1,null,null,null,null,null,null,null,null,null,null,null,null,null,null,null,null,null,null,null,null,null,null,null,null,null,null,null,null,null,null,null,null,null,null,null,null,null,null,null,null,null,null,null,null,null,null,null,null,null,null,null,null,null,3,0,null,null,null,null,2013,10,1,79,66,"RGH","SAL",10,2,12,290.67,91,381.67,1310,262,1572]
[38874,0,0,2,3,5,null,null,1,1,1,1,1,null,null,null,null,null,null,null,null,null,null,null,null,null,null,null,null,null,null,null,null,null,null,null,null,null,null,null,null,null,null,null,null,null,null,null,null,null,null,null,null,null,null,null,null,null,null,null,null,null,null,null,null,null,180,180,null,null,null,null,2013,10,1,79,66,"RMT","BNC",1,0,1,26,0,26,131,0,131]
[18610.5,0,0,0,0,0,null,null,1,1,1,1,1,null,null,null,null,null,null,null,null,null,null,null,null,null,null,null,null,null,null,null,null,null,null,null,null,null,null,null,null,null,null,null,null,null,null,null,null,null,null,null,null,null,null,null,null,null,null,null,null,null,null,null,null,null,6,0,null,null,null,null,2013,10,1,79,66,"RMT","CLT",12,1,13,601.85,62.3,664.15,2928,244,3172]
[48014.52,0,0,1,0,1,null,null,1,1,1,1,1,null,null,null,null,null,null,null,null,null,null,null,null,null,null,null,null,null,null,null,null,null,null,null,null,null,null,null,null,null,null,null,null,null,null,null,null,null,null,null,null,null,null,null,null,null,null,null,null,null,null,null,null,null,14,0,null,null,null,null,2013,10,1,79,66,"RMT","DNC",5,0,5,158.77000000000001,0,158.77000000000001,485,0,485]
[38874,0,0,0,0,0,null,null,1,3,1,1,1,null,null,null,null,null,null,null,null,null,null,null,null,null,null,null,null,null,null,null,null,null,null,null,null,null,null,null,null,null,null,null,null,null,null,null,null,null,null,null,null,null,null,null,null,null,null,null,null,null,null,null,null,null,3,0,null,null,null,null,2013,10,1,79,66,"RMT","GRO",8,1,9,296.18,44,340.18,1240,155,1395]
[895011.72,0,0,2,29,31,null,null,1,1,1,1,1,null,null,null,null,null,null,null,null,null,null,null,null,null,null,null,null,null,null,null,null,null,null,null,null,null,null,null,null,null,null,null,null,null,null,null,null,null,null,null,null,null,null,null,null,null,null,null,null,null,null,null,null,null,168,0,null,null,null,null,2013,10,1,79,66,"RMT","HPT",1,0,1,54,0,54,167,0,167]
[36708,0,0,0,1,1,null,null,1,1,1,1,1,null,null,null,null,null,null,null,null,null,null,null,null,null,null,null,null,null,null,null,null,null,null,null,null,null,null,null,null,null,null,null,null,null,null,null,null,null,null,null,null,null,null,null,null,null,null,null,null,null,null,null,null,null,5,0,null,null,null,null,2013,10,1,79,66,"RMT","RGH",1,0,1,35.700000000000003,0,35.700000000000003,71,0,71]
[11399.999999999998,0,0,0,0,0,null,null,1,1,1,1,1,null,null,null,null,null,null,null,null,null,null,null,null,null,null,null,null,null,null,null,null,null,null,null,null,null,null,null,null,null,null,null,null,null,null,null,null,null,null,null,null,null,null,null,null,null,null,null,null,null,null,null,null,null,15,0,null,null,null,null,2013,10,1,79,66,"RMT","SAL",1,0,1,43.5,0,43.5,202,0,202]
[48014.52,0,0,0,0,0,null,null,1,2,1,1,1,null,null,null,null,null,null,null,null,null,null,null,null,null,null,null,null,null,null,null,null,null,null,null,null,null,null,null,null,null,null,null,null,null,null,null,null,null,null,null,null,null,null,null,null,null,null,null,null,null,null,null,null,null,99,0,null,null,null,null,2013,10,1,79,66,"RVR","BNC",7,2,9,265.2,97.2,362.4,1799,514,2313]
[27473.999999999996,0,0,0,0,0,null,null,1,2,1,1,1,null,null,null,null,null,null,null,null,null,null,null,null,null,null,null,null,null,null,null,null,null,null,null,null,null,null,null,null,null,null,null,null,null,null,null,null,null,null,null,null,null,null,null,null,null,null,null,null,null,null,null,null,null,180,0,null,null,null,null,2013,10,1,79,66,"RVR","CLT",15,7,22,627,483.95,1110.95,5550,2590,8140]
[25740,0,0,0,0,0,null,null,1,1,1,1,1,null,null,null,null,null,null,null,null,null,null,null,null,null,null,null,null,null,null,null,null,null,null,null,null,null,null,null,null,null,null,null,null,null,null,null,null,null,null,null,null,null,null,null,null,null,null,null,null,null,null,null,null,null,180,0,null,null,null,null,2013,10,1,79,66,"RVR","CYN",3,5,8,97.2,278.39999999999998,375.6,615,1025,1640]
[221327.72999999998,0,0,2,0,2,null,null,2,3,1,1,1,null,null,null,null,null,null,null,null,null,null,null,null,null,null,null,null,null,null,null,null,null,null,null,null,null,null,null,null,null,null,null,null,null,null,null,null,null,null,null,null,null,null,null,null,null,null,null,null,null,null,null,null,null,61,0,null,null,null,null,2013,10,1,79,66,"RVR","DNC",3,0,3,107.4,0,107.4,669,0,669]
[221327.72999999998,0,0,1,2,3,null,null,2,1,1,1,1,null,null,null,null,null,null,null,null,null,null,null,null,null,null,null,null,null,null,null,null,null,null,null,null,null,null,null,null,null,null,null,null,null,null,null,null,null,null,null,null,null,null,null,null,null,null,null,null,null,null,null,null,null,11,0,null,null,null,null,2013,10,1,79,66,"RVR","GRO",10,4,14,356.7,198,554.70000000000005,2810,1124,3934]
[49842,0,0,0,0,0,null,null,1,1,1,1,1,null,null,null,null,null,null,null,null,null,null,null,null,null,null,null,null,null,null,null,null,null,null,null,null,null,null,null,null,null,null,null,null,null,null,null,null,null,null,null,null,null,null,null,null,null,null,null,null,null,null,null,null,null,9,0,null,null,null,null,2013,10,1,79,66,"RVR","HPT",9,0,9,433.8,0,433.8,2637,0,2637]
[17550,0,0,0,0,0,null,null,7,1,1,1,1,null,null,null,null,null,null,null,null,null,null,null,null,null,null,null,null,null,null,null,null,null,null,null,null,null,null,null,null,null,null,null,null,null,null,null,null,null,null,null,null,null,null,null,null,null,null,null,null,null,null,null,null,null,180,0,null,null,null,null,2013,10,1,79,66,"RVR","KAN",2,2,4,104.5,109.4,213.9,686,686,1372]
[26402.219999999998,0,0,5,0,5,null,null,1,1,1,1,1,null,null,null,null,null,null,null,null,null,null,null,null,null,null,null,null,null,null,null,null,null,null,null,null,null,null,null,null,null,null,null,null,null,null,null,null,null,null,null,null,null,null,null,null,null,null,null,null,null,null,null,null,null,2,14,null,null,null,null,2013,10,1,79,66,"RVR","RGH",10,3,13,403.2,165.95,569.15,1970,591,2561]
[15652.259999999998,0,0,1,0,1,null,null,1,2,1,1,1,null,null,null,null,null,null,null,null,null,null,null,null,null,null,null,null,null,null,null,null,null,null,null,null,null,null,null,null,null,null,null,null,null,null,null,null,null,null,null,null,null,null,null,null,null,null,null,null,null,null,null,null,null,164,0,null,null,null,null,2013,10,1,79,66,"RVR","RMT",1,0,1,39.1,0,39.1,126,0,126]
[44460,0,0,0,0,0,null,null,6,2,1,1,1,null,null,null,null,null,null,null,null,null,null,null,null,null,null,null,null,null,null,null,null,null,null,null,null,null,null,null,null,null,null,null,null,null,null,null,null,null,null,null,null,null,null,null,null,null,null,null,null,null,null,null,null,null,123,0,null,null,null,null,2013,10,1,79,66,"RVR","SAL",9,0,9,310.05,0,310.05,2952,0,2952]
[1705042.17,0,0,3,1,4,null,null,4,2,1,1,1,null,null,null,null,null,null,null,null,null,null,null,null,null,null,null,null,null,null,null,null,null,null,null,null,null,null,null,null,null,null,null,null,null,null,null,null,null,null,null,null,null,null,null,null,null,null,null,null,null,null,null,null,null,180,0,null,null,null,null,2013,10,1,79,66,"RVR","SSM",1,0,1,46,0,46,167,0,167]
[1705042.17,0,2,9,0,9,null,null,1,1,1,1,1,null,null,null,null,null,null,null,null,null,null,null,null,null,null,null,null,null,null,null,null,null,null,null,null,null,null,null,null,null,null,null,null,null,null,null,null,null,null,null,null,null,null,null,null,null,null,null,null,null,null,null,null,null,3,0,null,null,null,null,2013,10,1,79,66,"RVR","WLN",6,0,6,226,0,226,852,0,852]
[17802.719999999998,0,0,0,0,0,null,null,1,1,1,1,1,null,null,null,null,null,null,null,null,null,null,null,null,null,null,null,null,null,null,null,null,null,null,null,null,null,null,null,null,null,null,null,null,null,null,null,null,null,null,null,null,null,null,null,null,null,null,null,null,null,null,null,null,null,1,0,null,null,null,null,2013,10,1,79,66,"SAL","CLT",7,0,7,66.5,0,66.5,294,0,294]
[17802.719999999998,0,0,0,0,0,null,null,1,1,1,1,1,null,null,null,null,null,null,null,null,null,null,null,null,null,null,null,null,null,null,null,null,null,null,null,null,null,null,null,null,null,null,null,null,null,null,null,null,null,null,null,null,null,null,null,null,null,null,null,null,null,null,null,null,null,180,0,null,null,null,null,2013,10,1,79,66,"SSM","CLT",5,0,5,224.5,0,224.5,1015,0,1015]
[49842,0,0,0,0,0,null,null,1,1,1,1,1,null,null,null,null,null,null,null,null,null,null,null,null,null,null,null,null,null,null,null,null,null,null,null,null,null,null,null,null,null,null,null,null,null,null,null,null,null,null,null,null,null,null,null,null,null,null,null,null,null,null,null,null,null,1,0,null,null,null,null,2013,10,1,79,66,"SSM","GRO",4,0,4,81.5,0,81.5,456,0,456]
[16379.999999999998,0,0,0,0,0,null,null,1,1,1,1,1,null,null,null,null,null,null,null,null,null,null,null,null,null,null,null,null,null,null,null,null,null,null,null,null,null,null,null,null,null,null,null,null,null,null,null,null,null,null,null,null,null,null,null,null,null,null,null,null,null,null,null,null,null,30,0,null,null,null,null,2013,10,1,79,66,"SSM","HPT",3,0,3,72,0,72,378,0,378]
[16379.999999999998,0,0,0,0,0,null,null,1,1,1,1,1,null,null,null,null,null,null,null,null,null,null,null,null,null,null,null,null,null,null,null,null,null,null,null,null,null,null,null,null,null,null,null,null,null,null,null,null,null,null,null,null,null,null,null,null,null,null,null,null,null,null,null,null,null,180,179,null,null,null,null,2013,10,1,79,66,"SSM","RGH",2,0,2,17.52,0,17.52,60,0,60]
[12383.279999999999,0,1,0,0,0,null,null,1,2,1,1,1,null,null,null,null,null,null,null,null,null,null,null,null,null,null,null,null,null,null,null,null,null,null,null,null,null,null,null,null,null,null,null,null,null,null,null,null,null,null,null,null,null,null,null,null,null,null,null,null,null,null,null,null,null,180,0,null,null,null,null,2013,10,1,79,66,"SSM","SAL",5,1,6,169,50.5,219.5,805,161,966]
[15187.769999999999,0,0,0,0,0,null,null,3,1,1,1,1,null,null,null,null,null,null,null,null,null,null,null,null,null,null,null,null,null,null,null,null,null,null,null,null,null,null,null,null,null,null,null,null,null,null,null,null,null,null,null,null,null,null,null,null,null,null,null,null,null,null,null,null,null,5,0,null,null,null,null,2013,10,1,79,66,"TRE","CLT",2,1,3,201.4,188.1,389.5,1292,646,1938]
[18074.16,0,0,0,3,3,null,null,1,1,1,1,1,null,null,null,null,null,null,null,null,null,null,null,null,null,null,null,null,null,null,null,null,null,null,null,null,null,null,null,null,null,null,null,null,null,null,null,null,null,null,null,null,null,null,null,null,null,null,null,null,null,null,null,null,null,5,180,null,null,null,null,2013,10,1,79,66,"TRE","CYN",2,0,2,167.2,0,167.2,962,0,962]
[18012.149999999998,0,0,0,0,0,null,null,2,1,1,1,1,null,null,null,null,null,null,null,null,null,null,null,null,null,null,null,null,null,null,null,null,null,null,null,null,null,null,null,null,null,null,null,null,null,null,null,null,null,null,null,null,null,null,null,null,null,null,null,null,null,null,null,null,null,180,75,null,null,null,null,2013,10,1,79,66,"TRE","DNC",1,0,1,88,0,88,499,0,499]
[81900,0,0,0,9,9,null,null,3,1,1,1,1,null,null,null,null,null,null,null,null,null,null,null,null,null,null,null,null,null,null,null,null,null,null,null,null,null,null,null,null,null,null,null,null,null,null,null,null,null,null,null,null,null,null,null,null,null,null,null,null,null,null,null,null,null,1,0,null,null,null,null,2013,10,1,79,66,"TRE","GRO",5,0,5,485,0,485,2785,0,2785]
[83655,0,0,5,0,5,null,null,1,2,1,1,1,null,null,null,null,null,null,null,null,null,null,null,null,null,null,null,null,null,null,null,null,null,null,null,null,null,null,null,null,null,null,null,null,null,null,null,null,null,null,null,null,null,null,null,null,null,null,null,null,null,null,null,null,null,18,0,null,null,null,null,2013,10,1,79,66,"TRE","KAN",0,1,1,0,153,153,0,619,619]
[18012.149999999998,0,0,1,0,1,null,null,2,1,1,1,1,null,null,null,null,null,null,null,null,null,null,null,null,null,null,null,null,null,null,null,null,null,null,null,null,null,null,null,null,null,null,null,null,null,null,null,null,null,null,null,null,null,null,null,null,null,null,null,null,null,null,null,null,null,180,0,null,null,null,null,2013,10,1,79,66,"TRE","RGH",3,0,3,116,0,116,1419,0,1419]
[12383.279999999999,0,0,0,0,0,null,null,1,1,1,1,1,null,null,null,null,null,null,null,null,null,null,null,null,null,null,null,null,null,null,null,null,null,null,null,null,null,null,null,null,null,null,null,null,null,null,null,null,null,null,null,null,null,null,null,null,null,null,null,null,null,null,null,null,null,180,1,null,null,null,null,2013,10,1,79,66,"TRE","SAL",1,0,1,100,0,100,604,0,604]
[26075.789999999997,0,0,2,4,6,null,null,1,1,1,1,1,null,null,null,null,null,null,null,null,null,null,null,null,null,null,null,null,null,null,null,null,null,null,null,null,null,null,null,null,null,null,null,null,null,null,null,null,null,null,null,null,null,null,null,null,null,null,null,null,null,null,null,null,null,61,0,null,null,null,null,2013,10,1,79,66,"TRE","SSM",0,2,2,0,239,239,0,886,886]
[15187.769999999999,0,0,1,0,1,null,null,1,2,1,1,1,null,null,null,null,null,null,null,null,null,null,null,null,null,null,null,null,null,null,null,null,null,null,null,null,null,null,null,null,null,null,null,null,null,null,null,null,null,null,null,null,null,null,null,null,null,null,null,null,null,null,null,null,null,25,0,null,null,null,null,2013,10,1,79,66,"TRE","WLN",2,0,2,294,0,294,836,0,836]
[122849.99999999999,0,0,3,0,3,null,null,1,1,1,1,1,null,null,null,null,null,null,null,null,null,null,null,null,null,null,null,null,null,null,null,null,null,null,null,null,null,null,null,null,null,null,null,null,null,null,null,null,null,null,null,null,null,null,null,null,null,null,null,null,null,null,null,null,null,180,48,null,null,null,null,2013,10,1,79,66,"WAS","BNC",9,0,9,668.7,0,668.7,3294,0,3294]
[28665,0,0,1,2,3,null,null,1,1,1,1,1,null,null,null,null,null,null,null,null,null,null,null,null,null,null,null,null,null,null,null,null,null,null,null,null,null,null,null,null,null,null,null,null,null,null,null,null,null,null,null,null,null,null,null,null,null,null,null,null,null,null,null,null,null,29,0,null,null,null,null,2013,10,1,79,66,"WAS","CLT",18,3,21,1596.12,341,1937.12,8622,1437,10059]
[12452.31,0,0,0,1,1,null,null,1,2,1,1,1,null,null,null,null,null,null,null,null,null,null,null,null,null,null,null,null,null,null,null,null,null,null,null,null,null,null,null,null,null,null,null,null,null,null,null,null,null,null,null,null,null,null,null,null,null,null,null,null,null,null,null,null,null,16,0,null,null,null,null,2013,10,1,79,66,"WAS","CYN",22,11,33,1414.4,816,2230.4,6908,3454,10362]
[12452.31,0,0,1,0,1,null,null,1,2,1,1,1,null,null,null,null,null,null,null,null,null,null,null,null,null,null,null,null,null,null,null,null,null,null,null,null,null,null,null,null,null,null,null,null,null,null,null,null,null,null,null,null,null,null,null,null,null,null,null,null,null,null,null,null,null,180,0,null,null,null,null,2013,10,1,79,66,"WAS","DNC",42,20,62,2042.7,1494.85,3537.55,13944,6640,20584]
[51494.039999999994,0,0,0,2,2,null,null,1,1,1,1,1,null,null,null,null,null,null,null,null,null,null,null,null,null,null,null,null,null,null,null,null,null,null,null,null,null,null,null,null,null,null,null,null,null,null,null,null,null,null,null,null,null,null,null,null,null,null,null,null,null,null,null,null,null,180,0,null,null,null,null,2013,10,1,79,66,"WAS","GRO",68,16,84,4517.8100000000004,1339.74,5857.55,26520,6240,32760]
[15652.259999999998,0,0,2,0,2,null,null,2,1,1,1,1,null,null,null,null,null,null,null,null,null,null,null,null,null,null,null,null,null,null,null,null,null,null,null,null,null,null,null,null,null,null,null,null,null,null,null,null,null,null,null,null,null,null,null,null,null,null,null,null,null,null,null,null,null,18,180,null,null,null,null,2013,10,1,79,66,"WAS","HPT",21,2,23,1445.89,176.7,1622.59,8442,804,9246]
[62009.999999999993,0,0,1,1,2,null,null,3,1,1,1,1,null,null,null,null,null,null,null,null,null,null,null,null,null,null,null,null,null,null,null,null,null,null,null,null,null,null,null,null,null,null,null,null,null,null,null,null,null,null,null,null,null,null,null,null,null,null,null,null,null,null,null,null,null,1,0,null,null,null,null,2013,10,1,79,66,"WAS","KAN",3,1,4,118.88,87.8,206.68,1356,452,1808]
[28080,0,0,0,0,0,null,null,1,1,1,1,1,null,null,null,null,null,null,null,null,null,null,null,null,null,null,null,null,null,null,null,null,null,null,null,null,null,null,null,null,null,null,null,null,null,null,null,null,null,null,null,null,null,null,null,null,null,null,null,null,null,null,null,null,null,21,0,null,null,null,null,2013,10,1,79,66,"WAS","RGH",85,6,91,4860.47,519.79999999999995,5380.27,26010,1836,27846]
[567674.03,0,0,0,11,11,null,null,1,2,1,1,1,null,null,null,null,null,null,null,null,null,null,null,null,null,null,null,null,null,null,null,null,null,null,null,null,null,null,null,null,null,null,null,null,null,null,null,null,null,null,null,null,null,null,null,null,null,null,null,null,null,null,null,null,null,18,180,null,null,null,null,2013,10,1,79,66,"WAS","RMT",12,2,14,689.9,144.75,834.65,2820,470,3290]
[42364,0,2,7,0,7,null,null,2,2,1,1,1,null,null,null,null,null,null,null,null,null,null,null,null,null,null,null,null,null,null,null,null,null,null,null,null,null,null,null,null,null,null,null,null,null,null,null,null,null,null,null,null,null,null,null,null,null,null,null,null,null,null,null,null,null,180,0,null,null,null,null,2013,10,1,79,66,"WAS","SAL",4,1,5,271.73,85.95,357.68,1748,437,2185]
[140122.5,0,0,1,5,6,null,null,1,1,1,1,1,null,null,null,null,null,null,null,null,null,null,null,null,null,null,null,null,null,null,null,null,null,null,null,null,null,null,null,null,null,null,null,null,null,null,null,null,null,null,null,null,null,null,null,null,null,null,null,null,null,null,null,null,null,180,0,null,null,null,null,2013,10,1,79,66,"WAS","SSM",2,0,2,88.4,0,88.4,552,0,552]
[3932950,0,0,0,0,0,null,null,20,2,1,1,1,null,null,null,null,null,null,null,null,null,null,null,null,null,null,null,null,null,null,null,null,null,null,null,null,null,null,null,null,null,null,null,null,null,null,null,null,null,null,null,null,null,null,null,null,null,null,null,null,null,null,null,null,null,5,62,null,null,null,null,2013,10,1,79,66,"WAS","WLN",13,1,14,870.45,77,947.45,3263,251,3514]
[27461.629999999997,0,0,0,1,1,null,null,7,1,1,1,1,null,null,null,null,null,null,null,null,null,null,null,null,null,null,null,null,null,null,null,null,null,null,null,null,null,null,null,null,null,null,null,null,null,null,null,null,null,null,null,null,null,null,null,null,null,null,null,null,null,null,null,null,null,22,0,null,null,null,null,2013,10,1,79,66,"WIL","BNC",2,0,2,137.69999999999999,0,137.69999999999999,950,0,950]
[3932950,0,1,0,0,3,null,null,6,1,1,1,1,null,null,null,null,null,null,null,null,null,null,null,null,null,null,null,null,null,null,null,null,null,null,null,null,null,null,null,null,null,null,null,null,null,null,null,null,null,null,null,null,null,null,null,null,null,null,null,null,null,null,null,null,null,7,0,null,null,null,null,2013,10,1,79,66,"WIL","CLT",5,1,6,506.45,132.55000000000001,639,2940,588,3528]
[26289.48,0,0,6,5,11,null,null,2,2,1,1,1,null,null,null,null,null,null,null,null,null,null,null,null,null,null,null,null,null,null,null,null,null,null,null,null,null,null,null,null,null,null,null,null,null,null,null,null,null,null,null,null,null,null,null,null,null,null,null,null,null,null,null,null,null,5,0,null,null,null,null,2013,10,1,79,66,"WIL","CYN",3,1,4,222.75,110.9,333.65,1269,423,1692]
[74325.01999999999,0,0,2,1,3,null,null,1,1,1,1,1,null,null,null,null,null,null,null,null,null,null,null,null,null,null,null,null,null,null,null,null,null,null,null,null,null,null,null,null,null,null,null,null,null,null,null,null,null,null,null,null,null,null,null,null,null,null,null,null,null,null,null,null,null,180,0,null,null,null,null,2013,10,1,79,66,"WIL","DNC",6,1,7,506.85,144,650.85,2646,441,3087]
[23933.279999999999,0,0,0,0,0,null,null,1,2,1,1,1,null,null,null,null,null,null,null,null,null,null,null,null,null,null,null,null,null,null,null,null,null,null,null,null,null,null,null,null,null,null,null,null,null,null,null,null,null,null,null,null,null,null,null,null,null,null,null,null,null,null,null,null,null,1,0,null,null,null,null,2013,10,1,79,66,"WIL","HPT",2,0,2,180,0,180,1022,0,1022]
[49980,0,0,0,0,0,null,null,1,1,1,1,1,null,null,null,null,null,null,null,null,null,null,null,null,null,null,null,null,null,null,null,null,null,null,null,null,null,null,null,null,null,null,null,null,null,null,null,null,null,null,null,null,null,null,null,null,null,null,null,null,null,null,null,null,null,180,0,null,null,null,null,2013,10,1,79,66,"WIL","RGH",5,0,5,435,0,435,2075,0,2075]
[29936.829999999998,0,0,2,0,2,null,null,3,1,1,1,1,null,null,null,null,null,null,null,null,null,null,null,null,null,null,null,null,null,null,null,null,null,null,null,null,null,null,null,null,null,null,null,null,null,null,null,null,null,null,null,null,null,null,null,null,null,null,null,null,null,null,null,null,null,52,0,null,null,null,null,2013,10,1,79,66,"WIL","RMT",3,0,3,274,0,274,1032,0,1032]
[368622.73,0,0,9,2,11,null,null,1,2,1,1,1,null,null,null,null,null,null,null,null,null,null,null,null,null,null,null,null,null,null,null,null,null,null,null,null,null,null,null,null,null,null,null,null,null,null,null,null,null,null,null,null,null,null,null,null,null,null,null,null,null,null,null,null,null,180,78,null,null,null,null,2013,10,1,79,66,"WIL","SSM",3,0,3,218.3,0,218.3,1155,0,1155]
[35700,0,0,0,6,6,null,null,1,1,1,1,1,null,null,null,null,null,null,null,null,null,null,null,null,null,null,null,null,null,null,null,null,null,null,null,null,null,null,null,null,null,null,null,null,null,null,null,null,null,null,null,null,null,null,null,null,null,null,null,null,null,null,null,null,null,1,3,null,null,null,null,2013,10,1,79,66,"WLN","CLT",14,1,15,669.28,68.400000000000006,737.68,3192,228,3420]
[49980,0,0,0,0,0,null,null,1,1,1,1,1,null,null,null,null,null,null,null,null,null,null,null,null,null,null,null,null,null,null,null,null,null,null,null,null,null,null,null,null,null,null,null,null,null,null,null,null,null,null,null,null,null,null,null,null,null,null,null,null,null,null,null,null,null,180,180,null,null,null,null,2013,10,1,79,66,"WLN","CYN",0,1,1,0,28,28,0,63,63]
[351050,0,0,0,1,1,null,null,2,1,1,1,1,null,null,null,null,null,null,null,null,null,null,null,null,null,null,null,null,null,null,null,null,null,null,null,null,null,null,null,null,null,null,null,null,null,null,null,null,null,null,null,null,null,null,null,null,null,null,null,null,null,null,null,null,null,21,0,null,null,null,null,2013,10,1,79,66,"WLN","DNC",9,0,9,162.77000000000001,0,162.77000000000001,729,0,729]
[14280,0,0,0,0,0,null,null,1,1,1,1,1,null,null,null,null,null,null,null,null,null,null,null,null,null,null,null,null,null,null,null,null,null,null,null,null,null,null,null,null,null,null,null,null,null,null,null,null,null,null,null,null,null,null,null,null,null,null,null,null,null,null,null,null,null,6,0,null,null,null,null,2013,10,1,79,66,"WLN","GRO",19,0,19,503.39,0,503.39,2641,0,2641]
[25109,0,0,0,0,0,null,null,1,5,1,1,1,null,null,null,null,null,null,null,null,null,null,null,null,null,null,null,null,null,null,null,null,null,null,null,null,null,null,null,null,null,null,null,null,null,null,null,null,null,null,null,null,null,null,null,null,null,null,null,null,null,null,null,null,null,180,0,null,null,null,null,2013,10,1,79,66,"WLN","KAN",0,1,1,0,55.5,55.5,0,201,201]
[25109,0,0,0,2,2,null,null,2,1,1,1,1,null,null,null,null,null,null,null,null,null,null,null,null,null,null,null,null,null,null,null,null,null,null,null,null,null,null,null,null,null,null,null,null,null,null,null,null,null,null,null,null,null,null,null,null,null,null,null,null,null,null,null,null,null,71,0,null,null,null,null,2013,10,1,79,66,"WLN","RGH",26,1,27,372.71,22,394.71,1430,55,1485]
[13107.849999999999,0,0,5,0,5,null,null,1,2,1,1,1,null,null,null,null,null,null,null,null,null,null,null,null,null,null,null,null,null,null,null,null,null,null,null,null,null,null,null,null,null,null,null,null,null,null,null,null,null,null,null,null,null,null,null,null,null,null,null,null,null,null,null,null,null,180,0,null,null,null,null,2013,10,1,79,66,"WLN","SAL",4,0,4,134.19,0,134.19,744,0,744]
[610627.07999999996,0,0,0,12,12,null,null,2,2,1,1,1,null,null,null,null,null,null,null,null,null,null,null,null,null,null,null,null,null,null,null,null,null,null,null,null,null,null,null,null,null,null,null,null,null,null,null,null,null,null,null,null,null,null,null,null,null,null,null,null,null,null,null,null,null,76,0,null,null,null,null,2013,10,1,80,66,"BNC","ALX",2,2,4,112.2,138.4,250.6,714,714,1428]
[50541.68,0,0,0,0,0,null,null,1,2,1,1,1,null,null,null,null,null,null,null,null,null,null,null,null,null,null,null,null,null,null,null,null,null,null,null,null,null,null,null,null,null,null,null,null,null,null,null,null,null,null,null,null,null,null,null,null,null,null,null,null,null,null,null,null,null,2,10,null,null,null,null,2013,10,1,80,66,"BNC","BAL",6,0,6,543.79999999999995,0,543.79999999999995,2436,0,2436]
[12759.18,0,0,0,2,2,null,null,1,3,1,1,1,null,null,null,null,null,null,null,null,null,null,null,null,null,null,null,null,null,null,null,null,null,null,null,null,null,null,null,null,null,null,null,null,null,null,null,null,null,null,null,null,null,null,null,null,null,null,null,null,null,null,null,null,null,10,18,null,null,null,null,2013,10,1,80,66,"BNC","CYN",1,0,1,10,0,10,52,0,52]
[49280.28,0,0,1,0,1,null,null,1,2,1,1,1,null,null,null,null,null,null,null,null,null,null,null,null,null,null,null,null,null,null,null,null,null,null,null,null,null,null,null,null,null,null,null,null,null,null,null,null,null,null,null,null,null,null,null,null,null,null,null,null,null,null,null,null,null,22,0,null,null,null,null,2013,10,1,80,66,"BNC","DNC",4,0,4,24.07,0,24.07,136,0,136]
[28570.71,0,0,0,1,1,null,null,1,1,1,1,1,null,null,null,null,null,null,null,null,null,null,null,null,null,null,null,null,null,null,null,null,null,null,null,null,null,null,null,null,null,null,null,null,null,null,null,null,null,null,null,null,null,null,null,null,null,null,null,null,null,null,null,null,null,5,0,null,null,null,null,2013,10,1,80,66,"BNC","FBG",1,0,1,41,0,41,312,0,312]
[14303.8,0,0,1,0,1,null,null,2,1,1,1,1,null,null,null,null,null,null,null,null,null,null,null,null,null,null,null,null,null,null,null,null,null,null,null,null,null,null,null,null,null,null,null,null,null,null,null,null,null,null,null,null,null,null,null,null,null,null,null,null,null,null,null,null,null,98,0,null,null,null,null,2013,10,1,80,66,"BNC","NSF",32,8,40,334.75,169.25,504,1920,480,2400]
[14303.8,0,0,0,0,0,null,null,1,1,1,1,1,null,null,null,null,null,null,null,null,null,null,null,null,null,null,null,null,null,null,null,null,null,null,null,null,null,null,null,null,null,null,null,null,null,null,null,null,null,null,null,null,null,null,null,null,null,null,null,null,null,null,null,null,null,38,0,null,null,null,null,2013,10,1,80,66,"BNC","NWK",1,0,1,109.65,0,109.65,581,0,581]
[27461.629999999997,0,0,0,1,1,null,null,2,1,1,1,1,null,null,null,null,null,null,null,null,null,null,null,null,null,null,null,null,null,null,null,null,null,null,null,null,null,null,null,null,null,null,null,null,null,null,null,null,null,null,null,null,null,null,null,null,null,null,null,null,null,null,null,null,null,1,0,null,null,null,null,2013,10,1,80,66,"BNC","NYP",3,0,3,276,0,276,1773,0,1773]
[13209,0,0,0,0,0,null,null,4,4,1,1,1,null,null,null,null,null,null,null,null,null,null,null,null,null,null,null,null,null,null,null,null,null,null,null,null,null,null,null,null,null,null,null,null,null,null,null,null,null,null,null,null,null,null,null,null,null,null,null,null,null,null,null,null,null,3,0,null,null,null,null,2013,10,1,80,66,"BNC","PHL",5,2,7,373.1,330,703.1,2500,1000,3500]
[13209,0,0,0,0,0,null,null,2,4,1,1,1,null,null,null,null,null,null,null,null,null,null,null,null,null,null,null,null,null,null,null,null,null,null,null,null,null,null,null,null,null,null,null,null,null,null,null,null,null,null,null,null,null,null,null,null,null,null,null,null,null,null,null,null,null,2,0,null,null,null,null,2013,10,1,80,66,"BNC","PTB",0,1,1,0,44.75,44.75,0,229,229]
[50541.68,0,0,0,0,0,null,null,1,2,1,1,1,null,null,null,null,null,null,null,null,null,null,null,null,null,null,null,null,null,null,null,null,null,null,null,null,null,null,null,null,null,null,null,null,null,null,null,null,null,null,null,null,null,null,null,null,null,null,null,null,null,null,null,null,null,2,0,null,null,null,null,2013,10,1,80,66,"BNC","RGH",1,0,1,12,0,12,60,0,60]
[38194.239999999998,0,0,2,0,2,null,null,1,2,1,1,1,null,null,null,null,null,null,null,null,null,null,null,null,null,null,null,null,null,null,null,null,null,null,null,null,null,null,null,null,null,null,null,null,null,null,null,null,null,null,null,null,null,null,null,null,null,null,null,null,null,null,null,null,null,180,14,null,null,null,null,2013,10,1,80,66,"BNC","RMT",1,0,1,26,0,26,131,0,131]
[351050,0,0,0,0,0,null,null,1,1,1,1,1,null,null,null,null,null,null,null,null,null,null,null,null,null,null,null,null,null,null,null,null,null,null,null,null,null,null,null,null,null,null,null,null,null,null,null,null,null,null,null,null,null,null,null,null,null,null,null,null,null,null,null,null,null,20,0,null,null,null,null,2013,10,1,80,66,"BNC","RVR",1,1,2,30.6,48.6,79.2,257,257,514]
[120428,0,0,5,2,7,null,null,1,1,1,1,1,null,null,null,null,null,null,null,null,null,null,null,null,null,null,null,null,null,null,null,null,null,null,null,null,null,null,null,null,null,null,null,null,null,null,null,null,null,null,null,null,null,null,null,null,null,null,null,null,null,null,null,null,null,146,0,null,null,null,null,2013,10,1,80,66,"BNC","SSM",2,0,2,34.5,0,34.5,180,0,180]
[22015,0,1,0,6,6,null,null,1,3,1,1,1,null,null,null,null,null,null,null,null,null,null,null,null,null,null,null,null,null,null,null,null,null,null,null,null,null,null,null,null,null,null,null,null,null,null,null,null,null,null,null,null,null,null,null,null,null,null,null,null,null,null,null,null,null,21,0,null,null,null,null,2013,10,1,80,66,"BNC","WAS",7,0,7,397.75,0,397.75,2562,0,2562]
[19317.27,0,0,0,0,0,null,null,1,2,1,1,1,null,null,null,null,null,null,null,null,null,null,null,null,null,null,null,null,null,null,null,null,null,null,null,null,null,null,null,null,null,null,null,null,null,null,null,null,null,null,null,null,null,null,null,null,null,null,null,null,null,null,null,null,null,79,180,null,null,null,null,2013,10,1,80,66,"BNC","WIL",0,1,1,0,217,217,0,475,475]
[20200.25,0,0,1,0,1,null,null,1,2,1,1,1,null,null,null,null,null,null,null,null,null,null,null,null,null,null,null,null,null,null,null,null,null,null,null,null,null,null,null,null,null,null,null,null,null,null,null,null,null,null,null,null,null,null,null,null,null,null,null,null,null,null,null,null,null,165,0,null,null,null,null,2013,10,1,80,66,"BNC","WLN",5,0,5,114.64,0,114.64,575,0,575]
[28570.71,0,0,0,0,0,null,null,1,3,1,1,1,null,null,null,null,null,null,null,null,null,null,null,null,null,null,null,null,null,null,null,null,null,null,null,null,null,null,null,null,null,null,null,null,null,null,null,null,null,null,null,null,null,null,null,null,null,null,null,null,null,null,null,null,null,132,180,null,null,null,null,2013,10,1,80,66,"CLT","ALX",11,3,14,799.8,281.5,1081.3,5170,1410,6580]
[91500,0,0,0,0,0,null,null,1,4,1,1,1,null,null,null,null,null,null,null,null,null,null,null,null,null,null,null,null,null,null,null,null,null,null,null,null,null,null,null,null,null,null,null,null,null,null,null,null,null,null,null,null,null,null,null,null,null,null,null,null,null,null,null,null,null,180,0,null,null,null,null,2013,10,1,80,66,"CLT","BAL",7,0,7,572.54999999999995,0,572.54999999999995,3633,0,3633]
[152500,0,0,0,0,0,null,null,1,1,1,1,1,null,null,null,null,null,null,null,null,null,null,null,null,null,null,null,null,null,null,null,null,null,null,null,null,null,null,null,null,null,null,null,null,null,null,null,null,null,null,null,null,null,null,null,null,null,null,null,null,null,null,null,null,null,5,153,null,null,null,null,2013,10,1,80,66,"CLT","BNC",3,0,3,83,0,83,339,0,339]
[37131.919999999998,0,0,3,0,3,null,null,1,1,1,1,1,null,null,null,null,null,null,null,null,null,null,null,null,null,null,null,null,null,null,null,null,null,null,null,null,null,null,null,null,null,null,null,null,null,null,null,null,null,null,null,null,null,null,null,null,null,null,null,null,null,null,null,null,null,180,0,null,null,null,null,2013,10,1,80,66,"CLT","CYN",7,1,8,204.87,56,260.87,1155,165,1320]
[13298,0,0,0,0,0,null,null,1,1,1,1,1,null,null,null,null,null,null,null,null,null,null,null,null,null,null,null,null,null,null,null,null,null,null,null,null,null,null,null,null,null,null,null,null,null,null,null,null,null,null,null,null,null,null,null,null,null,null,null,null,null,null,null,null,null,124,0,null,null,null,null,2013,10,1,80,66,"CLT","DNC",20,4,24,553.54999999999995,162.80000000000001,716.35,2940,588,3528]
[83202.78,0,0,0,0,0,null,null,1,1,1,1,1,null,null,null,null,null,null,null,null,null,null,null,null,null,null,null,null,null,null,null,null,null,null,null,null,null,null,null,null,null,null,null,null,null,null,null,null,null,null,null,null,null,null,null,null,null,null,null,null,null,null,null,null,null,180,0,null,null,null,null,2013,10,1,80,66,"CLT","FBG",3,2,5,175.7,160,335.7,1275,850,2125]
[920813.29999999993,0,0,5,13,18,null,null,1,1,1,1,1,null,null,null,null,null,null,null,null,null,null,null,null,null,null,null,null,null,null,null,null,null,null,null,null,null,null,null,null,null,null,null,null,null,null,null,null,null,null,null,null,null,null,null,null,null,null,null,null,null,null,null,null,null,180,0,null,null,null,null,2013,10,1,80,66,"CLT","GRO",16,0,16,332.02,0,332.02,1424,0,1424]
[62522.559999999998,0,0,0,3,3,null,null,1,2,1,1,1,null,null,null,null,null,null,null,null,null,null,null,null,null,null,null,null,null,null,null,null,null,null,null,null,null,null,null,null,null,null,null,null,null,null,null,null,null,null,null,null,null,null,null,null,null,null,null,null,null,null,null,null,null,12,46,null,null,null,null,2013,10,1,80,66,"CLT","HPT",4,0,4,74.25,0,74.25,308,0,308]
[31041.68,0,0,0,2,2,null,null,1,3,1,1,1,null,null,null,null,null,null,null,null,null,null,null,null,null,null,null,null,null,null,null,null,null,null,null,null,null,null,null,null,null,null,null,null,null,null,null,null,null,null,null,null,null,null,null,null,null,null,null,null,null,null,null,null,null,57,96,null,null,null,null,2013,10,1,80,66,"CLT","KAN",2,0,2,15.3,0,15.3,54,0,54]
[13298,0,0,0,0,0,null,null,1,1,1,1,1,null,null,null,null,null,null,null,null,null,null,null,null,null,null,null,null,null,null,null,null,null,null,null,null,null,null,null,null,null,null,null,null,null,null,null,null,null,null,null,null,null,null,null,null,null,null,null,null,null,null,null,null,null,3,0,null,null,null,null,2013,10,1,80,66,"CLT","NSF",7,4,11,193.55,149.4,342.95,1211,692,1903]
[12200,0,1,0,0,0,null,null,2,1,1,1,1,null,null,null,null,null,null,null,null,null,null,null,null,null,null,null,null,null,null,null,null,null,null,null,null,null,null,null,null,null,null,null,null,null,null,null,null,null,null,null,null,null,null,null,null,null,null,null,null,null,null,null,null,null,95,0,null,null,null,null,2013,10,1,80,66,"CLT","NWK",15,2,17,1572.85,281.3,1854.15,10410,1388,11798]
[31041.68,0,0,0,2,2,null,null,1,1,1,1,1,null,null,null,null,null,null,null,null,null,null,null,null,null,null,null,null,null,null,null,null,null,null,null,null,null,null,null,null,null,null,null,null,null,null,null,null,null,null,null,null,null,null,null,null,null,null,null,null,null,null,null,null,null,180,0,null,null,null,null,2013,10,1,80,66,"CLT","NYP",21,9,30,2284.5,1376.95,3661.45,14784,6336,21120]
[107896.8,0,0,19,0,19,null,null,1,2,1,1,1,null,null,null,null,null,null,null,null,null,null,null,null,null,null,null,null,null,null,null,null,null,null,null,null,null,null,null,null,null,null,null,null,null,null,null,null,null,null,null,null,null,null,null,null,null,null,null,null,null,null,null,null,null,60,0,null,null,null,null,2013,10,1,80,66,"CLT","PHL",14,2,16,1408.15,265.10000000000002,1673.25,8582,1226,9808]
[241926,0,0,6,0,6,null,null,1,3,1,1,1,null,null,null,null,null,null,null,null,null,null,null,null,null,null,null,null,null,null,null,null,null,null,null,null,null,null,null,null,null,null,null,null,null,null,null,null,null,null,null,null,null,null,null,null,null,null,null,null,null,null,null,null,null,5,0,null,null,null,null,2013,10,1,80,66,"CLT","PTB",7,2,9,352.05,194,546.04999999999995,2394,684,3078]
[25010,0,0,1,0,1,null,null,3,1,1,1,1,null,null,null,null,null,null,null,null,null,null,null,null,null,null,null,null,null,null,null,null,null,null,null,null,null,null,null,null,null,null,null,null,null,null,null,null,null,null,null,null,null,null,null,null,null,null,null,null,null,null,null,null,null,29,0,null,null,null,null,2013,10,1,80,66,"CLT","QAN",4,0,4,238,0,238,1776,0,1776]
[12322,0,0,0,0,0,null,null,1,2,1,1,1,null,null,null,null,null,null,null,null,null,null,null,null,null,null,null,null,null,null,null,null,null,null,null,null,null,null,null,null,null,null,null,null,null,null,null,null,null,null,null,null,null,null,null,null,null,null,null,null,null,null,null,null,null,55,180,null,null,null,null,2013,10,1,80,66,"CLT","RGH",26,8,34,773.77,312.7,1086.47,4498,1384,5882]
[25010,0,0,0,2,2,null,null,1,2,1,1,1,null,null,null,null,null,null,null,null,null,null,null,null,null,null,null,null,null,null,null,null,null,null,null,null,null,null,null,null,null,null,null,null,null,null,null,null,null,null,null,null,null,null,null,null,null,null,null,null,null,null,null,null,null,75,107,null,null,null,null,2013,10,1,80,66,"CLT","RMT",14,2,16,621.29999999999995,136.94999999999999,758.25,3416,488,3904]
[91500,0,0,0,0,0,null,null,2,1,1,1,1,null,null,null,null,null,null,null,null,null,null,null,null,null,null,null,null,null,null,null,null,null,null,null,null,null,null,null,null,null,null,null,null,null,null,null,null,null,null,null,null,null,null,null,null,null,null,null,null,null,null,null,null,null,73,180,null,null,null,null,2013,10,1,80,66,"CLT","RVR",9,4,13,509.85,263.60000000000002,773.45,3330,1480,4810]
[83202.78,0,0,0,0,0,null,null,5,1,1,1,1,null,null,null,null,null,null,null,null,null,null,null,null,null,null,null,null,null,null,null,null,null,null,null,null,null,null,null,null,null,null,null,null,null,null,null,null,null,null,null,null,null,null,null,null,null,null,null,null,null,null,null,null,null,36,0,null,null,null,null,2013,10,1,80,66,"CLT","SAL",5,1,6,55,18.07,73.069999999999993,210,42,252]
[26840,0,0,0,0,0,null,null,6,3,1,1,1,null,null,null,null,null,null,null,null,null,null,null,null,null,null,null,null,null,null,null,null,null,null,null,null,null,null,null,null,null,null,null,null,null,null,null,null,null,null,null,null,null,null,null,null,null,null,null,null,null,null,null,null,null,180,55,null,null,null,null,2013,10,1,80,66,"CLT","SSM",0,2,2,0,102.97,102.97,0,406,406]
[30801.34,0,0,0,4,4,null,null,1,2,1,1,1,null,null,null,null,null,null,null,null,null,null,null,null,null,null,null,null,null,null,null,null,null,null,null,null,null,null,null,null,null,null,null,null,null,null,null,null,null,null,null,null,null,null,null,null,null,null,null,null,null,null,null,null,null,180,0,null,null,null,null,2013,10,1,80,66,"CLT","TRE",4,0,4,413.4,0,413.4,2584,0,2584]
[63501,1,0,1,0,1,null,null,1,1,1,1,1,null,null,null,null,null,null,null,null,null,null,null,null,null,null,null,null,null,null,null,null,null,null,null,null,null,null,null,null,null,null,null,null,null,null,null,null,null,null,null,null,null,null,null,null,null,null,null,null,null,null,null,null,null,1,0,null,null,null,null,2013,10,1,80,66,"CLT","WAS",20,9,29,1570.25,985.75,2556,9580,4311,13891]
[42334,0,0,1,3,4,null,null,3,1,1,1,1,null,null,null,null,null,null,null,null,null,null,null,null,null,null,null,null,null,null,null,null,null,null,null,null,null,null,null,null,null,null,null,null,null,null,null,null,null,null,null,null,null,null,null,null,null,null,null,null,null,null,null,null,null,2,0,null,null,null,null,2013,10,1,80,66,"CLT","WIL",4,3,7,190.55,132.55000000000001,323.10000000000002,2352,1764,4116]
[12322,0,0,0,0,0,null,null,1,1,1,1,1,null,null,null,null,null,null,null,null,null,null,null,null,null,null,null,null,null,null,null,null,null,null,null,null,null,null,null,null,null,null,null,null,null,null,null,null,null,null,null,null,null,null,null,null,null,null,null,null,null,null,null,null,null,20,0,null,null,null,null,2013,10,1,80,66,"CLT","WLN",22,0,22,813.96,0,813.96,5016,0,5016]
[44530,2,0,1,0,1,null,null,1,1,1,1,1,null,null,null,null,null,null,null,null,null,null,null,null,null,null,null,null,null,null,null,null,null,null,null,null,null,null,null,null,null,null,null,null,null,null,null,null,null,null,null,null,null,null,null,null,null,null,null,null,null,null,null,null,null,180,2,null,null,null,null,2013,10,1,80,66,"CYN","ALX",11,3,14,576.25,234,810.25,3355,915,4270]
[23180,0,0,0,4,4,null,null,1,1,1,1,1,null,null,null,null,null,null,null,null,null,null,null,null,null,null,null,null,null,null,null,null,null,null,null,null,null,null,null,null,null,null,null,null,null,null,null,null,null,null,null,null,null,null,null,null,null,null,null,null,null,null,null,null,null,12,144,null,null,null,null,2013,10,1,80,66,"CYN","BAL",1,0,1,57.8,0,57.8,354,0,354]
[439292.72,0,0,11,0,11,null,null,2,1,1,1,1,null,null,null,null,null,null,null,null,null,null,null,null,null,null,null,null,null,null,null,null,null,null,null,null,null,null,null,null,null,null,null,null,null,null,null,null,null,null,null,null,null,null,null,null,null,null,null,null,null,null,null,null,null,7,67,null,null,null,null,2013,10,1,80,66,"CYN","FBG",2,0,2,99.9,0,99.9,520,0,520]
[21079.16,0,0,4,0,4,null,null,1,1,1,1,1,null,null,null,null,null,null,null,null,null,null,null,null,null,null,null,null,null,null,null,null,null,null,null,null,null,null,null,null,null,null,null,null,null,null,null,null,null,null,null,null,null,null,null,null,null,null,null,null,null,null,null,null,null,180,0,null,null,null,null,2013,10,1,80,66,"CYN","NSF",3,0,3,14.84,0,14.84,24,0,24]
[14770.539999999999,0,0,0,0,0,null,null,1,2,1,1,1,null,null,null,null,null,null,null,null,null,null,null,null,null,null,null,null,null,null,null,null,null,null,null,null,null,null,null,null,null,null,null,null,null,null,null,null,null,null,null,null,null,null,null,null,null,null,null,null,null,null,null,null,null,4,0,null,null,null,null,2013,10,1,80,66,"CYN","NWK",4,0,4,350.35,0,350.35,2116,0,2116]
[93464.2,0,0,5,0,5,null,null,1,1,1,1,1,null,null,null,null,null,null,null,null,null,null,null,null,null,null,null,null,null,null,null,null,null,null,null,null,null,null,null,null,null,null,null,null,null,null,null,null,null,null,null,null,null,null,null,null,null,null,null,null,null,null,null,null,null,40,94,null,null,null,null,2013,10,1,80,66,"CYN","NYP",7,2,9,695.25,258.35000000000002,953.6,3773,1078,4851]
[13420,0,0,0,0,0,null,null,1,1,1,1,1,null,null,null,null,null,null,null,null,null,null,null,null,null,null,null,null,null,null,null,null,null,null,null,null,null,null,null,null,null,null,null,null,null,null,null,null,null,null,null,null,null,null,null,null,null,null,null,null,null,null,null,null,null,2,157,null,null,null,null,2013,10,1,80,66,"CYN","PHL",3,3,6,295.8,326.10000000000002,621.9,1344,1344,2688]
[13420,0,0,0,0,0,null,null,2,1,1,1,1,null,null,null,null,null,null,null,null,null,null,null,null,null,null,null,null,null,null,null,null,null,null,null,null,null,null,null,null,null,null,null,null,null,null,null,null,null,null,null,null,null,null,null,null,null,null,null,null,null,null,null,null,null,180,0,null,null,null,null,2013,10,1,80,66,"CYN","PTB",0,1,1,0,44.75,44.75,0,177,177]
[26840,0,1,0,0,0,null,null,1,1,1,1,1,null,null,null,null,null,null,null,null,null,null,null,null,null,null,null,null,null,null,null,null,null,null,null,null,null,null,null,null,null,null,null,null,null,null,null,null,null,null,null,null,null,null,null,null,null,null,null,null,null,null,null,null,null,180,2,null,null,null,null,2013,10,1,80,66,"CYN","QAN",1,0,1,39.950000000000003,0,39.950000000000003,279,0,279]
[16006.4,0,0,0,0,0,null,null,2,1,1,1,1,null,null,null,null,null,null,null,null,null,null,null,null,null,null,null,null,null,null,null,null,null,null,null,null,null,null,null,null,null,null,null,null,null,null,null,null,null,null,null,null,null,null,null,null,null,null,null,null,null,null,null,null,null,3,10,null,null,null,null,2013,10,1,80,66,"CYN","RGH",4,0,4,17.59,0,17.59,32,0,32]
[16006.4,0,0,0,0,0,null,null,1,1,1,1,1,null,null,null,null,null,null,null,null,null,null,null,null,null,null,null,null,null,null,null,null,null,null,null,null,null,null,null,null,null,null,null,null,null,null,null,null,null,null,null,null,null,null,null,null,null,null,null,null,null,null,null,null,null,180,0,null,null,null,null,2013,10,1,80,66,"CYN","RMT",2,0,2,44,0,44,158,0,158]
[10908.02,0,0,0,0,0,null,null,1,1,1,1,1,null,null,null,null,null,null,null,null,null,null,null,null,null,null,null,null,null,null,null,null,null,null,null,null,null,null,null,null,null,null,null,null,null,null,null,null,null,null,null,null,null,null,null,null,null,null,null,null,null,null,null,null,null,75,0,null,null,null,null,2013,10,1,80,66,"CYN","RVR",6,1,7,232.1,54,286.10000000000002,1230,205,1435]
[25738.34,0,0,2,2,4,null,null,1,2,1,1,1,null,null,null,null,null,null,null,null,null,null,null,null,null,null,null,null,null,null,null,null,null,null,null,null,null,null,null,null,null,null,null,null,null,null,null,null,null,null,null,null,null,null,null,null,null,null,null,null,null,null,null,null,null,259,0,null,null,null,null,2013,10,1,80,66,"CYN","TRE",3,2,5,248.2,290,538.20000000000005,1443,962,2405]
[634896.54,0,0,14,6,20,null,null,2,1,1,1,1,null,null,null,null,null,null,null,null,null,null,null,null,null,null,null,null,null,null,null,null,null,null,null,null,null,null,null,null,null,null,null,null,null,null,null,null,null,null,null,null,null,null,null,null,null,null,null,null,null,null,null,null,null,180,5,null,null,null,null,2013,10,1,80,66,"CYN","WAS",17,6,23,851,475.6,1326.6,5338,1884,7222]
[152500,0,0,0,0,0,null,null,1,1,1,1,1,null,null,null,null,null,null,null,null,null,null,null,null,null,null,null,null,null,null,null,null,null,null,null,null,null,null,null,null,null,null,null,null,null,null,null,null,null,null,null,null,null,null,null,null,null,null,null,null,null,null,null,null,null,2,0,null,null,null,null,2013,10,1,80,66,"CYN","WIL",3,0,3,235.9,0,235.9,1269,0,1269]
[46299,0,0,2,3,5,null,null,2,1,1,1,1,null,null,null,null,null,null,null,null,null,null,null,null,null,null,null,null,null,null,null,null,null,null,null,null,null,null,null,null,null,null,null,null,null,null,null,null,null,null,null,null,null,null,null,null,null,null,null,null,null,null,null,null,null,5,0,null,null,null,null,2013,10,1,80,66,"CYN","WLN",2,0,2,22.2,0,22.2,126,0,126]
[10908.02,0,0,0,0,0,null,null,1,2,1,1,1,null,null,null,null,null,null,null,null,null,null,null,null,null,null,null,null,null,null,null,null,null,null,null,null,null,null,null,null,null,null,null,null,null,null,null,null,null,null,null,null,null,null,null,null,null,null,null,null,null,null,null,null,null,3,0,null,null,null,null,2013,10,1,80,66,"DNC","ALX",15,3,18,760.8,215.4,976.2,4845,969,5814]
[244000,0,0,0,0,0,null,null,1,1,1,1,1,null,null,null,null,null,null,null,null,null,null,null,null,null,null,null,null,null,null,null,null,null,null,null,null,null,null,null,null,null,null,null,null,null,null,null,null,null,null,null,null,null,null,null,null,null,null,null,null,null,null,null,null,null,4,0,null,null,null,null,2013,10,1,80,66,"DNC","BAL",10,1,11,513.46,100,613.46,3720,372,4092]
[20650.939999999999,0,0,0,0,0,null,null,1,2,1,1,1,null,null,null,null,null,null,null,null,null,null,null,null,null,null,null,null,null,null,null,null,null,null,null,null,null,null,null,null,null,null,null,null,null,null,null,null,null,null,null,null,null,null,null,null,null,null,null,null,null,null,null,null,null,2,52,null,null,null,null,2013,10,1,80,66,"DNC","CYN",1,0,1,5.5,0,5.5,18,0,18]
[18792.88,0,0,1,0,1,null,null,1,1,1,1,1,null,null,null,null,null,null,null,null,null,null,null,null,null,null,null,null,null,null,null,null,null,null,null,null,null,null,null,null,null,null,null,null,null,null,null,null,null,null,null,null,null,null,null,null,null,null,null,null,null,null,null,null,null,3,0,null,null,null,null,2013,10,1,80,66,"DNC","FBG",2,0,2,105.85,0,105.85,556,0,556]
[18792.88,0,0,1,0,1,null,null,2,1,1,1,1,null,null,null,null,null,null,null,null,null,null,null,null,null,null,null,null,null,null,null,null,null,null,null,null,null,null,null,null,null,null,null,null,null,null,null,null,null,null,null,null,null,null,null,null,null,null,null,null,null,null,null,null,null,1,0,null,null,null,null,2013,10,1,80,66,"DNC","NSF",21,0,21,141.30000000000001,0,141.30000000000001,546,0,546]
[18605,0,0,2,0,2,null,null,1,1,1,1,1,null,null,null,null,null,null,null,null,null,null,null,null,null,null,null,null,null,null,null,null,null,null,null,null,null,null,null,null,null,null,null,null,null,null,null,null,null,null,null,null,null,null,null,null,null,null,null,null,null,null,null,null,null,3,0,null,null,null,null,2013,10,1,80,66,"DNC","NWK",8,0,8,857.4,0,857.4,4376,0,4376]
[72550.959999999992,0,0,5,0,5,null,null,2,2,1,1,1,null,null,null,null,null,null,null,null,null,null,null,null,null,null,null,null,null,null,null,null,null,null,null,null,null,null,null,null,null,null,null,null,null,null,null,null,null,null,null,null,null,null,null,null,null,null,null,null,null,null,null,null,null,90,0,null,null,null,null,2013,10,1,80,66,"DNC","NYP",28,5,33,2409.4,683.2,3092.6,15596,2785,18381]
[20650.939999999999,0,0,0,0,0,null,null,1,1,1,1,1,null,null,null,null,null,null,null,null,null,null,null,null,null,null,null,null,null,null,null,null,null,null,null,null,null,null,null,null,null,null,null,null,null,null,null,null,null,null,null,null,null,null,null,null,null,null,null,null,null,null,null,null,null,2,0,null,null,null,null,2013,10,1,80,66,"DNC","PHL",17,2,19,1528,221.5,1749.5,7922,932,8854]
[189100,0,0,2,4,6,null,null,1,1,1,1,1,null,null,null,null,null,null,null,null,null,null,null,null,null,null,null,null,null,null,null,null,null,null,null,null,null,null,null,null,null,null,null,null,null,null,null,null,null,null,null,null,null,null,null,null,null,null,null,null,null,null,null,null,null,2,0,null,null,null,null,2013,10,1,80,66,"DNC","QAN",1,1,2,47,63.95,110.95,297,297,594]
[11187.4,0,0,1,2,3,null,null,2,1,1,1,1,null,null,null,null,null,null,null,null,null,null,null,null,null,null,null,null,null,null,null,null,null,null,null,null,null,null,null,null,null,null,null,null,null,null,null,null,null,null,null,null,null,null,null,null,null,null,null,null,null,null,null,null,null,4,6,null,null,null,null,2013,10,1,80,66,"DNC","RGH",9,0,9,49.5,0,49.5,234,0,234]
[38427.56,0,1,0,5,5,null,null,1,1,1,1,1,null,null,null,null,null,null,null,null,null,null,null,null,null,null,null,null,null,null,null,null,null,null,null,null,null,null,null,null,null,null,null,null,null,null,null,null,null,null,null,null,null,null,null,null,null,null,null,null,null,null,null,null,null,4,0,null,null,null,null,2013,10,1,80,66,"DNC","RMT",1,0,1,31.5,0,31.5,97,0,97]
[50698.32,0,0,0,1,1,null,null,1,3,1,1,1,null,null,null,null,null,null,null,null,null,null,null,null,null,null,null,null,null,null,null,null,null,null,null,null,null,null,null,null,null,null,null,null,null,null,null,null,null,null,null,null,null,null,null,null,null,null,null,null,null,null,null,null,null,272,2,null,null,null,null,2013,10,1,80,66,"DNC","RVR",9,1,10,345.6,48.6,394.2,2007,223,2230]
[14640,0,0,0,0,0,null,null,1,3,1,1,1,null,null,null,null,null,null,null,null,null,null,null,null,null,null,null,null,null,null,null,null,null,null,null,null,null,null,null,null,null,null,null,null,null,null,null,null,null,null,null,null,null,null,null,null,null,null,null,null,null,null,null,null,null,42,0,null,null,null,null,2013,10,1,80,66,"DNC","SSM",2,0,2,21,0,21,112,0,112]
[614683.57999999996,1,0,5,5,10,null,null,1,1,1,1,1,null,null,null,null,null,null,null,null,null,null,null,null,null,null,null,null,null,null,null,null,null,null,null,null,null,null,null,null,null,null,null,null,null,null,null,null,null,null,null,null,null,null,null,null,null,null,null,null,null,null,null,null,null,5,0,null,null,null,null,2013,10,1,80,66,"DNC","TRE",1,1,2,98.6,117.8,216.4,499,499,998]
[614683.57999999996,0,1,0,0,0,null,null,1,1,1,1,1,null,null,null,null,null,null,null,null,null,null,null,null,null,null,null,null,null,null,null,null,null,null,null,null,null,null,null,null,null,null,null,null,null,null,null,null,null,null,null,null,null,null,null,null,null,null,null,null,null,null,null,null,null,180,96,null,null,null,null,2013,10,1,80,66,"DNC","WAS",32,9,41,1950.65,700.4,2651.05,10624,2988,13612]
[29484.959999999999,0,0,0,0,0,null,null,7,1,1,1,1,null,null,null,null,null,null,null,null,null,null,null,null,null,null,null,null,null,null,null,null,null,null,null,null,null,null,null,null,null,null,null,null,null,null,null,null,null,null,null,null,null,null,null,null,null,null,null,null,null,null,null,null,null,180,0,null,null,null,null,2013,10,1,80,66,"DNC","WIL",0,2,2,0,225.85,225.85,0,882,882]
[29484.959999999999,0,0,0,0,0,null,null,1,1,1,1,1,null,null,null,null,null,null,null,null,null,null,null,null,null,null,null,null,null,null,null,null,null,null,null,null,null,null,null,null,null,null,null,null,null,null,null,null,null,null,null,null,null,null,null,null,null,null,null,null,null,null,null,null,null,2,0,null,null,null,null,2013,10,1,80,66,"DNC","WLN",1,0,1,13.6,0,13.6,81,0,81]
[103090,0,0,7,0,7,null,null,1,3,1,1,1,null,null,null,null,null,null,null,null,null,null,null,null,null,null,null,null,null,null,null,null,null,null,null,null,null,null,null,null,null,null,null,null,null,null,null,null,null,null,null,null,null,null,null,null,null,null,null,null,null,null,null,null,null,7,0,null,null,null,null,2013,10,1,80,66,"GRO","ALX",8,1,9,449.85,74.45,524.29999999999995,3048,381,3429]
[46967.56,0,0,0,0,0,null,null,1,1,1,1,1,null,null,null,null,null,null,null,null,null,null,null,null,null,null,null,null,null,null,null,null,null,null,null,null,null,null,null,null,null,null,null,null,null,null,null,null,null,null,null,null,null,null,null,null,null,null,null,null,null,null,null,null,null,9,38,null,null,null,null,2013,10,1,80,66,"GRO","BAL",7,0,7,512.79999999999995,0,512.79999999999995,3010,0,3010]
[698492.7,0,0,9,0,9,null,null,1,1,1,1,1,null,null,null,null,null,null,null,null,null,null,null,null,null,null,null,null,null,null,null,null,null,null,null,null,null,null,null,null,null,null,null,null,null,null,null,null,null,null,null,null,null,null,null,null,null,null,null,null,null,null,null,null,null,180,0,null,null,null,null,2013,10,1,80,66,"GRO","BNC",1,0,1,7,0,7,24,0,24]
[13176,0,0,0,0,0,null,null,1,4,1,1,1,null,null,null,null,null,null,null,null,null,null,null,null,null,null,null,null,null,null,null,null,null,null,null,null,null,null,null,null,null,null,null,null,null,null,null,null,null,null,null,null,null,null,null,null,null,null,null,null,null,null,null,null,null,140,0,null,null,null,null,2013,10,1,80,66,"GRO","CYN",6,0,6,71.3,0,71.3,456,0,456]
[13176,0,0,0,0,0,null,null,1,3,1,1,1,null,null,null,null,null,null,null,null,null,null,null,null,null,null,null,null,null,null,null,null,null,null,null,null,null,null,null,null,null,null,null,null,null,null,null,null,null,null,null,null,null,null,null,null,null,null,null,null,null,null,null,null,null,1,86,null,null,null,null,2013,10,1,80,66,"GRO","DNC",12,0,12,129.5,0,129.5,696,0,696]
[17831.52,0,0,4,1,5,null,null,1,3,1,1,1,null,null,null,null,null,null,null,null,null,null,null,null,null,null,null,null,null,null,null,null,null,null,null,null,null,null,null,null,null,null,null,null,null,null,null,null,null,null,null,null,null,null,null,null,null,null,null,null,null,null,null,null,null,180,0,null,null,null,null,2013,10,1,80,66,"GRO","FBG",1,0,1,76,0,76,336,0,336]
[72830.34,0,1,0,0,0,null,null,1,2,1,1,1,null,null,null,null,null,null,null,null,null,null,null,null,null,null,null,null,null,null,null,null,null,null,null,null,null,null,null,null,null,null,null,null,null,null,null,null,null,null,null,null,null,null,null,null,null,null,null,null,null,null,null,null,null,11,0,null,null,null,null,2013,10,1,80,66,"GRO","NSF",91,17,108,1077.5999999999999,457.25,1534.85,7644,1428,9072]
[14640,0,0,0,0,0,null,null,1,2,1,1,1,null,null,null,null,null,null,null,null,null,null,null,null,null,null,null,null,null,null,null,null,null,null,null,null,null,null,null,null,null,null,null,null,null,null,null,null,null,null,null,null,null,null,null,null,null,null,null,null,null,null,null,null,null,14,0,null,null,null,null,2013,10,1,80,66,"GRO","NWK",9,1,10,820.95,135.25,956.2,5445,605,6050]
[244000,0,0,0,0,0,null,null,1,2,1,1,1,null,null,null,null,null,null,null,null,null,null,null,null,null,null,null,null,null,null,null,null,null,null,null,null,null,null,null,null,null,null,null,null,null,null,null,null,null,null,null,null,null,null,null,null,null,null,null,null,null,null,null,null,null,147,180,null,null,null,null,2013,10,1,80,66,"GRO","NYP",7,2,9,666.75,302,968.75,4305,1230,5535]
[11216.68,0,0,0,0,0,null,null,1,1,1,1,1,null,null,null,null,null,null,null,null,null,null,null,null,null,null,null,null,null,null,null,null,null,null,null,null,null,null,null,null,null,null,null,null,null,null,null,null,null,null,null,null,null,null,null,null,null,null,null,null,null,null,null,null,null,180,39,null,null,null,null,2013,10,1,80,66,"GRO","PHL",5,3,8,561.9,340.5,902.4,2620,1572,4192]
[16653,0,0,6,0,6,null,null,3,1,1,1,1,null,null,null,null,null,null,null,null,null,null,null,null,null,null,null,null,null,null,null,null,null,null,null,null,null,null,null,null,null,null,null,null,null,null,null,null,null,null,null,null,null,null,null,null,null,null,null,null,null,null,null,null,null,180,0,null,null,null,null,2013,10,1,80,66,"GRO","PTB",2,0,2,90.75,0,90.75,506,0,506]
[19520,0,0,0,0,0,null,null,1,1,1,1,1,null,null,null,null,null,null,null,null,null,null,null,null,null,null,null,null,null,null,null,null,null,null,null,null,null,null,null,null,null,null,null,null,null,null,null,null,null,null,null,null,null,null,null,null,null,null,null,null,null,null,null,null,null,180,0,null,null,null,null,2013,10,1,80,66,"GRO","RGH",29,1,30,376.96,31,407.96,2436,84,2520]
[11216.68,0,0,0,0,0,null,null,1,2,1,1,1,null,null,null,null,null,null,null,null,null,null,null,null,null,null,null,null,null,null,null,null,null,null,null,null,null,null,null,null,null,null,null,null,null,null,null,null,null,null,null,null,null,null,null,null,null,null,null,null,null,null,null,null,null,180,0,null,null,null,null,2013,10,1,80,66,"GRO","RMT",5,1,6,164.72,39.35,204.07,775,155,930]
[48460.84,0,0,3,0,3,null,null,2,1,1,1,1,null,null,null,null,null,null,null,null,null,null,null,null,null,null,null,null,null,null,null,null,null,null,null,null,null,null,null,null,null,null,null,null,null,null,null,null,null,null,null,null,null,null,null,null,null,null,null,null,null,null,null,null,null,180,2,null,null,null,null,2013,10,1,80,66,"GRO","RVR",14,2,16,538.20000000000005,108,646.20000000000005,3934,562,4496]
[16016.16,0,0,0,0,0,null,null,1,1,1,1,1,null,null,null,null,null,null,null,null,null,null,null,null,null,null,null,null,null,null,null,null,null,null,null,null,null,null,null,null,null,null,null,null,null,null,null,null,null,null,null,null,null,null,null,null,null,null,null,null,null,null,null,null,null,57,0,null,null,null,null,2013,10,1,80,66,"GRO","SSM",3,0,3,62.92,0,62.92,342,0,342]
[34843.199999999997,0,0,10,2,12,null,null,1,1,1,1,1,null,null,null,null,null,null,null,null,null,null,null,null,null,null,null,null,null,null,null,null,null,null,null,null,null,null,null,null,null,null,null,null,null,null,null,null,null,null,null,null,null,null,null,null,null,null,null,null,null,null,null,null,null,45,0,null,null,null,null,2013,10,1,80,66,"GRO","TRE",2,0,2,200,0,200,1114,0,1114]
[12200,0,0,0,0,0,null,null,1,2,1,1,1,null,null,null,null,null,null,null,null,null,null,null,null,null,null,null,null,null,null,null,null,null,null,null,null,null,null,null,null,null,null,null,null,null,null,null,null,null,null,null,null,null,null,null,null,null,null,null,null,null,null,null,null,null,126,0,null,null,null,null,2013,10,1,80,66,"GRO","WAS",42,9,51,2604.36,854.25,3458.61,16380,3510,19890]
[12200,0,0,0,0,0,null,null,1,2,1,1,1,null,null,null,null,null,null,null,null,null,null,null,null,null,null,null,null,null,null,null,null,null,null,null,null,null,null,null,null,null,null,null,null,null,null,null,null,null,null,null,null,null,null,null,null,null,null,null,null,null,null,null,null,null,12,0,null,null,null,null,2013,10,1,80,66,"GRO","WIL",0,2,2,0,233,233,0,998,998]
[174197.69999999998,0,0,6,0,6,null,null,1,1,1,1,1,null,null,null,null,null,null,null,null,null,null,null,null,null,null,null,null,null,null,null,null,null,null,null,null,null,null,null,null,null,null,null,null,null,null,null,null,null,null,null,null,null,null,null,null,null,null,null,null,null,null,null,null,null,318,0,null,null,null,null,2013,10,1,80,66,"GRO","WLN",13,2,15,318.69,101.5,420.19,1807,278,2085]
[16016.16,0,0,1,0,1,null,null,1,1,1,1,1,null,null,null,null,null,null,null,null,null,null,null,null,null,null,null,null,null,null,null,null,null,null,null,null,null,null,null,null,null,null,null,null,null,null,null,null,null,null,null,null,null,null,null,null,null,null,null,null,null,null,null,null,null,119,0,null,null,null,null,2013,10,1,80,66,"HPT","ALX",4,0,4,283.85000000000002,0,283.85000000000002,1572,0,1572]
[15775.82,0,0,0,1,1,null,null,1,1,1,1,1,null,null,null,null,null,null,null,null,null,null,null,null,null,null,null,null,null,null,null,null,null,null,null,null,null,null,null,null,null,null,null,null,null,null,null,null,null,null,null,null,null,null,null,null,null,null,null,null,null,null,null,null,null,180,0,null,null,null,null,2013,10,1,80,66,"HPT","BAL",4,1,5,319.5,99.45,418.95,1768,442,2210]
[30191.34,0,0,0,0,0,null,null,2,2,1,1,1,null,null,null,null,null,null,null,null,null,null,null,null,null,null,null,null,null,null,null,null,null,null,null,null,null,null,null,null,null,null,null,null,null,null,null,null,null,null,null,null,null,null,null,null,null,null,null,null,null,null,null,null,null,13,0,null,null,null,null,2013,10,1,80,66,"HPT","BNC",2,0,2,20,0,20,72,0,72]
[15202.42,0,0,4,0,4,null,null,11,1,1,1,1,null,null,null,null,null,null,null,null,null,null,null,null,null,null,null,null,null,null,null,null,null,null,null,null,null,null,null,null,null,null,null,null,null,null,null,null,null,null,null,null,null,null,null,null,null,null,null,null,null,null,null,null,null,7,0,null,null,null,null,2013,10,1,80,66,"HPT","CYN",2,0,2,25.65,0,25.65,176,0,176]
[11590,0,0,0,0,0,null,null,1,1,1,1,1,null,null,null,null,null,null,null,null,null,null,null,null,null,null,null,null,null,null,null,null,null,null,null,null,null,null,null,null,null,null,null,null,null,null,null,null,null,null,null,null,null,null,null,null,null,null,null,null,null,null,null,null,null,1,0,null,null,null,null,2013,10,1,80,66,"HPT","DNC",2,0,2,37.049999999999997,0,37.049999999999997,140,0,140]
[30191.34,0,0,0,0,0,null,null,1,2,1,1,1,null,null,null,null,null,null,null,null,null,null,null,null,null,null,null,null,null,null,null,null,null,null,null,null,null,null,null,null,null,null,null,null,null,null,null,null,null,null,null,null,null,null,null,null,null,null,null,null,null,null,null,null,null,72,0,null,null,null,null,2013,10,1,80,66,"HPT","FBG",3,0,3,86,0,86,1044,0,1044]
[31720,0,0,0,0,0,null,null,1,2,1,1,1,null,null,null,null,null,null,null,null,null,null,null,null,null,null,null,null,null,null,null,null,null,null,null,null,null,null,null,null,null,null,null,null,null,null,null,null,null,null,null,null,null,null,null,null,null,null,null,null,null,null,null,null,null,180,0,null,null,null,null,2013,10,1,80,66,"HPT","GRO",7,0,7,28.2,0,28.2,84,0,84]
[48547.020000000004,0,0,2,7,9,null,null,1,1,1,1,1,null,null,null,null,null,null,null,null,null,null,null,null,null,null,null,null,null,null,null,null,null,null,null,null,null,null,null,null,null,null,null,null,null,null,null,null,null,null,null,null,null,null,null,null,null,null,null,null,null,null,null,null,null,180,0,null,null,null,null,2013,10,1,80,66,"HPT","NSF",15,0,15,235.3,0,235.3,1440,0,1440]
[461289.4,0,0,13,0,13,null,null,1,2,1,1,1,null,null,null,null,null,null,null,null,null,null,null,null,null,null,null,null,null,null,null,null,null,null,null,null,null,null,null,null,null,null,null,null,null,null,null,null,null,null,null,null,null,null,null,null,null,null,null,null,null,null,null,null,null,3,0,null,null,null,null,2013,10,1,80,66,"HPT","NWK",5,0,5,497.7,0,497.7,3085,0,3085]
[47251.62,0,0,1,1,2,null,null,2,2,1,1,1,null,null,null,null,null,null,null,null,null,null,null,null,null,null,null,null,null,null,null,null,null,null,null,null,null,null,null,null,null,null,null,null,null,null,null,null,null,null,null,null,null,null,null,null,null,null,null,null,null,null,null,null,null,1,0,null,null,null,null,2013,10,1,80,66,"HPT","NYP",7,0,7,821.2,0,821.2,4389,0,4389]
[47251.62,0,0,1,0,1,null,null,1,1,1,1,1,null,null,null,null,null,null,null,null,null,null,null,null,null,null,null,null,null,null,null,null,null,null,null,null,null,null,null,null,null,null,null,null,null,null,null,null,null,null,null,null,null,null,null,null,null,null,null,null,null,null,null,null,null,4,0,null,null,null,null,2013,10,1,80,66,"HPT","PHL",3,2,5,330,246.5,576.5,1608,1072,2680]
[429177.45,0,0,10,0,10,null,null,1,1,1,1,1,null,null,null,null,null,null,null,null,null,null,null,null,null,null,null,null,null,null,null,null,null,null,null,null,null,null,null,null,null,null,null,null,null,null,null,null,null,null,null,null,null,null,null,null,null,null,null,null,null,null,null,null,null,180,0,null,null,null,null,2013,10,1,80,66,"HPT","RGH",10,0,10,158,0,158,960,0,960]
[11049,0,0,0,0,0,null,null,2,1,1,1,1,null,null,null,null,null,null,null,null,null,null,null,null,null,null,null,null,null,null,null,null,null,null,null,null,null,null,null,null,null,null,null,null,null,null,null,null,null,null,null,null,null,null,null,null,null,null,null,null,null,null,null,null,null,121,0,null,null,null,null,2013,10,1,80,66,"HPT","RMT",1,0,1,28.47,0,28.47,167,0,167]
[11049,0,0,0,1,1,null,null,1,1,1,1,1,null,null,null,null,null,null,null,null,null,null,null,null,null,null,null,null,null,null,null,null,null,null,null,null,null,null,null,null,null,null,null,null,null,null,null,null,null,null,null,null,null,null,null,null,null,null,null,null,null,null,null,null,null,3,0,null,null,null,null,2013,10,1,80,66,"HPT","RVR",9,0,9,368.65,0,368.65,2637,0,2637]
[10906.76,0,0,1,4,5,null,null,1,2,1,1,1,null,null,null,null,null,null,null,null,null,null,null,null,null,null,null,null,null,null,null,null,null,null,null,null,null,null,null,null,null,null,null,null,null,null,null,null,null,null,null,null,null,null,null,null,null,null,null,null,null,null,null,null,null,78,0,null,null,null,null,2013,10,1,80,66,"HPT","SSM",1,0,1,24,0,24,126,0,126]
[16510,0,0,0,0,0,null,null,2,2,1,1,1,null,null,null,null,null,null,null,null,null,null,null,null,null,null,null,null,null,null,null,null,null,null,null,null,null,null,null,null,null,null,null,null,null,null,null,null,null,null,null,null,null,null,null,null,null,null,null,null,null,null,null,null,null,28,0,null,null,null,null,2013,10,1,80,66,"HPT","WAS",18,4,22,1264.2,387.4,1651.6,7236,1608,8844]
[12903.2,0,0,3,0,3,null,null,1,1,1,1,1,null,null,null,null,null,null,null,null,null,null,null,null,null,null,null,null,null,null,null,null,null,null,null,null,null,null,null,null,null,null,null,null,null,null,null,null,null,null,null,null,null,null,null,null,null,null,null,null,null,null,null,null,null,106,0,null,null,null,null,2013,10,1,80,66,"HPT","WIL",1,0,1,0,0,0,511,0,511]
[70308.47,0,0,0,3,3,null,null,3,1,1,1,1,null,null,null,null,null,null,null,null,null,null,null,null,null,null,null,null,null,null,null,null,null,null,null,null,null,null,null,null,null,null,null,null,null,null,null,null,null,null,null,null,null,null,null,null,null,null,null,null,null,null,null,null,null,38,0,null,null,null,null,2013,10,1,80,66,"HPT","WLN",2,0,2,78.650000000000006,0,78.650000000000006,302,0,302]
[59268.36,0,0,1,0,1,null,null,1,1,1,1,1,null,null,null,null,null,null,null,null,null,null,null,null,null,null,null,null,null,null,null,null,null,null,null,null,null,null,null,null,null,null,null,null,null,null,null,null,null,null,null,null,null,null,null,null,null,null,null,null,null,null,null,null,null,264,0,null,null,null,null,2013,10,1,80,66,"KAN","ALX",0,2,2,0,175.25,175.25,0,886,886]
[611574.85,0,0,23,0,23,null,null,3,1,1,1,1,null,null,null,null,null,null,null,null,null,null,null,null,null,null,null,null,null,null,null,null,null,null,null,null,null,null,null,null,null,null,null,null,null,null,null,null,null,null,null,null,null,null,null,null,null,null,null,null,null,null,null,null,null,180,0,null,null,null,null,2013,10,1,80,66,"KAN","CYN",2,0,2,51,0,51,276,0,276]
[25749.25,0,0,1,2,3,null,null,1,1,1,1,1,null,null,null,null,null,null,null,null,null,null,null,null,null,null,null,null,null,null,null,null,null,null,null,null,null,null,null,null,null,null,null,null,null,null,null,null,null,null,null,null,null,null,null,null,null,null,null,null,null,null,null,null,null,234,0,null,null,null,null,2013,10,1,80,66,"KAN","DNC",2,0,2,57,0,57,240,0,240]
[20016.47,0,0,0,0,0,null,null,1,1,1,1,1,null,null,null,null,null,null,null,null,null,null,null,null,null,null,null,null,null,null,null,null,null,null,null,null,null,null,null,null,null,null,null,null,null,null,null,null,null,null,null,null,null,null,null,null,null,null,null,null,null,null,null,null,null,21,0,null,null,null,null,2013,10,1,80,66,"KAN","GRO",1,0,1,15.5,0,15.5,62,0,62]
[22561.55,0,0,0,0,0,null,null,1,1,1,1,1,null,null,null,null,null,null,null,null,null,null,null,null,null,null,null,null,null,null,null,null,null,null,null,null,null,null,null,null,null,null,null,null,null,null,null,null,null,null,null,null,null,null,null,null,null,null,null,null,null,null,null,null,null,20,180,null,null,null,null,2013,10,1,80,66,"KAN","NSF",7,0,7,163.79,0,163.79,1022,0,1022]
[26035,0,0,0,0,0,null,null,2,2,1,1,1,null,null,null,null,null,null,null,null,null,null,null,null,null,null,null,null,null,null,null,null,null,null,null,null,null,null,null,null,null,null,null,null,null,null,null,null,null,null,null,null,null,null,null,null,null,null,null,null,null,null,null,null,null,62,0,null,null,null,null,2013,10,1,80,66,"KAN","NWK",1,0,1,113.9,0,113.9,667,0,667]
[62230,0,0,1,12,13,null,null,2,1,1,1,1,null,null,null,null,null,null,null,null,null,null,null,null,null,null,null,null,null,null,null,null,null,null,null,null,null,null,null,null,null,null,null,null,null,null,null,null,null,null,null,null,null,null,null,null,null,null,null,null,null,null,null,null,null,180,0,null,null,null,null,2013,10,1,80,66,"KAN","NYP",2,1,3,204.85,137.94999999999999,342.8,1354,677,2031]
[15875,0,0,4,0,4,null,null,1,1,1,1,1,null,null,null,null,null,null,null,null,null,null,null,null,null,null,null,null,null,null,null,null,null,null,null,null,null,null,null,null,null,null,null,null,null,null,null,null,null,null,null,null,null,null,null,null,null,null,null,null,null,null,null,null,null,61,0,null,null,null,null,2013,10,1,80,66,"KAN","PHL",1,0,1,129,0,129,586,0,586]
[11303,0,0,1,3,4,null,null,1,1,1,1,1,null,null,null,null,null,null,null,null,null,null,null,null,null,null,null,null,null,null,null,null,null,null,null,null,null,null,null,null,null,null,null,null,null,null,null,null,null,null,null,null,null,null,null,null,null,null,null,null,null,null,null,null,null,159,0,null,null,null,null,2013,10,1,80,66,"KAN","PTB",2,0,2,77.7,0,77.7,630,0,630]
[20016.47,0,0,0,0,0,null,null,1,2,1,1,1,null,null,null,null,null,null,null,null,null,null,null,null,null,null,null,null,null,null,null,null,null,null,null,null,null,null,null,null,null,null,null,null,null,null,null,null,null,null,null,null,null,null,null,null,null,null,null,null,null,null,null,null,null,82,0,null,null,null,null,2013,10,1,80,66,"KAN","QAN",1,0,1,68,0,68,417,0,417]
[25654,0,0,0,2,2,null,null,1,1,1,1,1,null,null,null,null,null,null,null,null,null,null,null,null,null,null,null,null,null,null,null,null,null,null,null,null,null,null,null,null,null,null,null,null,null,null,null,null,null,null,null,null,null,null,null,null,null,null,null,null,null,null,null,null,null,12,0,null,null,null,null,2013,10,1,80,66,"KAN","RGH",6,1,7,150.6,38,188.6,876,146,1022]
[14795.5,0,0,2,1,3,null,null,1,2,1,1,1,null,null,null,null,null,null,null,null,null,null,null,null,null,null,null,null,null,null,null,null,null,null,null,null,null,null,null,null,null,null,null,null,null,null,null,null,null,null,null,null,null,null,null,null,null,null,null,null,null,null,null,null,null,365,180,null,null,null,null,2013,10,1,80,66,"KAN","RVR",4,0,4,181,0,181,1372,0,1372]
[17453.61,0,0,0,0,0,null,null,7,1,1,1,1,null,null,null,null,null,null,null,null,null,null,null,null,null,null,null,null,null,null,null,null,null,null,null,null,null,null,null,null,null,null,null,null,null,null,null,null,null,null,null,null,null,null,null,null,null,null,null,null,null,null,null,null,null,276,0,null,null,null,null,2013,10,1,80,66,"KAN","SSM",2,0,2,58.64,0,58.64,352,0,352]
[35560,0,0,0,1,1,null,null,1,1,1,1,1,null,null,null,null,null,null,null,null,null,null,null,null,null,null,null,null,null,null,null,null,null,null,null,null,null,null,null,null,null,null,null,null,null,null,null,null,null,null,null,null,null,null,null,null,null,null,null,null,null,null,null,null,null,3,0,null,null,null,null,2013,10,1,80,66,"KAN","TRE",0,1,1,0,137.1,137.1,0,619,619]
[95885,0,0,0,0,0,null,null,1,1,1,1,1,null,null,null,null,null,null,null,null,null,null,null,null,null,null,null,null,null,null,null,null,null,null,null,null,null,null,null,null,null,null,null,null,null,null,null,null,null,null,null,null,null,null,null,null,null,null,null,null,null,null,null,null,null,316,0,null,null,null,null,2013,10,1,80,66,"KAN","WAS",4,2,6,288.95,178.8,467.75,1808,904,2712]
[135460.74,0,0,6,0,6,null,null,1,1,1,1,1,null,null,null,null,null,null,null,null,null,null,null,null,null,null,null,null,null,null,null,null,null,null,null,null,null,null,null,null,null,null,null,null,null,null,null,null,null,null,null,null,null,null,null,null,null,null,null,null,null,null,null,null,null,96,0,null,null,null,null,2013,10,1,80,66,"KAN","WLN",4,0,4,175,0,175,804,0,804]
[18793.46,0,0,4,0,4,null,null,2,2,1,1,1,null,null,null,null,null,null,null,null,null,null,null,null,null,null,null,null,null,null,null,null,null,null,null,null,null,null,null,null,null,null,null,null,null,null,null,null,null,null,null,null,null,null,null,null,null,null,null,null,null,null,null,null,null,6,0,null,null,null,null,2013,10,1,80,66,"RGH","ALX",11,3,14,677.85,253.3,931.15,3267,891,4158]
[22561.55,0,0,0,11,11,null,null,3,1,1,1,1,null,null,null,null,null,null,null,null,null,null,null,null,null,null,null,null,null,null,null,null,null,null,null,null,null,null,null,null,null,null,null,null,null,null,null,null,null,null,null,null,null,null,null,null,null,null,null,null,null,null,null,null,null,261,0,null,null,null,null,2013,10,1,80,66,"RGH","BAL",13,2,15,1084,105.1,1189.0999999999999,4498,692,5190]
[404964.9,0,1,11,1,12,null,null,3,1,1,1,1,null,null,null,null,null,null,null,null,null,null,null,null,null,null,null,null,null,null,null,null,null,null,null,null,null,null,null,null,null,null,null,null,null,null,null,null,null,null,null,null,null,null,null,null,null,null,null,null,null,null,null,null,null,9,0,null,null,null,null,2013,10,1,80,66,"RGH","FBG",6,1,7,314.60000000000002,66.900000000000006,381.5,1512,252,1764]
[127635,1,0,3,4,7,null,null,1,1,1,1,1,null,null,null,null,null,null,null,null,null,null,null,null,null,null,null,null,null,null,null,null,null,null,null,null,null,null,null,null,null,null,null,null,null,null,null,null,null,null,null,null,null,null,null,null,null,null,null,null,null,null,null,null,null,258,0,null,null,null,null,2013,10,1,80,66,"RGH","NWK",9,1,10,1047.3499999999999,121.5,1168.8499999999999,4689,521,5210]
[14224,0,0,1,0,1,null,null,1,3,1,1,1,null,null,null,null,null,null,null,null,null,null,null,null,null,null,null,null,null,null,null,null,null,null,null,null,null,null,null,null,null,null,null,null,null,null,null,null,null,null,null,null,null,null,null,null,null,null,null,null,null,null,null,null,null,25,0,null,null,null,null,2013,10,1,80,66,"RGH","NYP",30,7,37,3211.25,1004.65,4215.8999999999996,15930,3717,19647]
[102235,0,0,1,0,1,null,null,1,1,1,1,1,null,null,null,null,null,null,null,null,null,null,null,null,null,null,null,null,null,null,null,null,null,null,null,null,null,null,null,null,null,null,null,null,null,null,null,null,null,null,null,null,null,null,null,null,null,null,null,null,null,null,null,null,null,27,0,null,null,null,null,2013,10,1,80,66,"RGH","PHL",18,3,21,1645.06,431,2076.06,7920,1320,9240]
[14795.5,0,0,0,0,0,null,null,2,2,1,1,1,null,null,null,null,null,null,null,null,null,null,null,null,null,null,null,null,null,null,null,null,null,null,null,null,null,null,null,null,null,null,null,null,null,null,null,null,null,null,null,null,null,null,null,null,null,null,null,null,null,null,null,null,null,17,0,null,null,null,null,2013,10,1,80,66,"RGH","QAN",1,0,1,61,0,61,271,0,271]
[15482.57,0,0,0,0,0,null,null,1,1,1,1,1,null,null,null,null,null,null,null,null,null,null,null,null,null,null,null,null,null,null,null,null,null,null,null,null,null,null,null,null,null,null,null,null,null,null,null,null,null,null,null,null,null,null,null,null,null,null,null,null,null,null,null,null,null,180,0,null,null,null,null,2013,10,1,80,66,"RGH","RMT",2,0,2,42.1,0,42.1,142,0,142]
[95885,0,0,0,0,0,null,null,1,1,1,1,1,null,null,null,null,null,null,null,null,null,null,null,null,null,null,null,null,null,null,null,null,null,null,null,null,null,null,null,null,null,null,null,null,null,null,null,null,null,null,null,null,null,null,null,null,null,null,null,null,null,null,null,null,null,9,0,null,null,null,null,2013,10,1,80,66,"RGH","RVR",16,4,20,689.85,124.55,814.4,3152,788,3940]
[96774,0,0,0,0,0,null,null,1,2,1,1,1,null,null,null,null,null,null,null,null,null,null,null,null,null,null,null,null,null,null,null,null,null,null,null,null,null,null,null,null,null,null,null,null,null,null,null,null,null,null,null,null,null,null,null,null,null,null,null,null,null,null,null,null,null,180,0,null,null,null,null,2013,10,1,80,66,"RGH","SSM",1,0,1,13.6,0,13.6,30,0,30]
[102235,0,0,2,0,2,null,null,1,1,1,1,1,null,null,null,null,null,null,null,null,null,null,null,null,null,null,null,null,null,null,null,null,null,null,null,null,null,null,null,null,null,null,null,null,null,null,null,null,null,null,null,null,null,null,null,null,null,null,null,null,null,null,null,null,null,22,180,null,null,null,null,2013,10,1,80,66,"RGH","TRE",7,1,8,896,131,1027,3311,473,3784]
[95405.7,0,0,0,0,0,null,null,2,2,1,1,1,null,null,null,null,null,null,null,null,null,null,null,null,null,null,null,null,null,null,null,null,null,null,null,null,null,null,null,null,null,null,null,null,null,null,null,null,null,null,null,null,null,null,null,null,null,null,null,null,null,null,null,null,null,135,0,null,null,null,null,2013,10,1,80,66,"RGH","WAS",57,7,64,3989.61,628.20000000000005,4617.8100000000004,17442,2142,19584]
[467316.2,0,0,24,0,24,null,null,1,2,1,1,1,null,null,null,null,null,null,null,null,null,null,null,null,null,null,null,null,null,null,null,null,null,null,null,null,null,null,null,null,null,null,null,null,null,null,null,null,null,null,null,null,null,null,null,null,null,null,null,null,null,null,null,null,null,180,0,null,null,null,null,2013,10,1,80,66,"RGH","WIL",3,0,3,239.7,0,239.7,1245,0,1245]
[13130,0,0,0,0,0,null,null,1,1,1,1,1,null,null,null,null,null,null,null,null,null,null,null,null,null,null,null,null,null,null,null,null,null,null,null,null,null,null,null,null,null,null,null,null,null,null,null,null,null,null,null,null,null,null,null,null,null,null,null,null,null,null,null,null,null,56,0,null,null,null,null,2013,10,1,80,66,"RGH","WLN",16,1,17,214.86,10,224.86,880,55,935]
[13130,0,0,0,0,0,null,null,1,2,1,1,1,null,null,null,null,null,null,null,null,null,null,null,null,null,null,null,null,null,null,null,null,null,null,null,null,null,null,null,null,null,null,null,null,null,null,null,null,null,null,null,null,null,null,null,null,null,null,null,null,null,null,null,null,null,180,0,null,null,null,null,2013,10,1,80,66,"RMT","ALX",2,0,2,170.15,0,170.15,452,0,452]
[13000,0,0,0,0,0,null,null,1,1,1,1,1,null,null,null,null,null,null,null,null,null,null,null,null,null,null,null,null,null,null,null,null,null,null,null,null,null,null,null,null,null,null,null,null,null,null,null,null,null,null,null,null,null,null,null,null,null,null,null,null,null,null,null,null,null,180,0,null,null,null,null,2013,10,1,80,66,"RMT","BAL",3,2,5,192.9,204,396.9,825,550,1375]
[13000,0,0,0,0,0,null,null,1,2,1,1,1,null,null,null,null,null,null,null,null,null,null,null,null,null,null,null,null,null,null,null,null,null,null,null,null,null,null,null,null,null,null,null,null,null,null,null,null,null,null,null,null,null,null,null,null,null,null,null,null,null,null,null,null,null,180,0,null,null,null,null,2013,10,1,80,66,"RMT","FBG",3,0,3,125.5,0,125.5,543,0,543]
[11053.9,0,0,0,0,0,null,null,3,1,1,1,1,null,null,null,null,null,null,null,null,null,null,null,null,null,null,null,null,null,null,null,null,null,null,null,null,null,null,null,null,null,null,null,null,null,null,null,null,null,null,null,null,null,null,null,null,null,null,null,null,null,null,null,null,null,266,0,null,null,null,null,2013,10,1,80,66,"RMT","NWK",2,1,3,159.58000000000001,121.5,281.08,900,450,1350]
[204782.5,0,0,0,0,0,null,null,2,1,1,1,1,null,null,null,null,null,null,null,null,null,null,null,null,null,null,null,null,null,null,null,null,null,null,null,null,null,null,null,null,null,null,null,null,null,null,null,null,null,null,null,null,null,null,null,null,null,null,null,null,null,null,null,null,null,180,0,null,null,null,null,2013,10,1,80,66,"RMT","NYP",22,7,29,2831.75,916.55,3748.3,10120,3220,13340]
[32500,0,0,2,0,2,null,null,2,2,1,1,1,null,null,null,null,null,null,null,null,null,null,null,null,null,null,null,null,null,null,null,null,null,null,null,null,null,null,null,null,null,null,null,null,null,null,null,null,null,null,null,null,null,null,null,null,null,null,null,null,null,null,null,null,null,6,0,null,null,null,null,2013,10,1,80,66,"RMT","PHL",10,0,10,787.94,0,787.94,3690,0,3690]
[13000,0,0,0,0,0,null,null,3,2,1,1,1,null,null,null,null,null,null,null,null,null,null,null,null,null,null,null,null,null,null,null,null,null,null,null,null,null,null,null,null,null,null,null,null,null,null,null,null,null,null,null,null,null,null,null,null,null,null,null,null,null,null,null,null,null,180,0,null,null,null,null,2013,10,1,80,66,"RMT","RVR",1,2,3,35,100,135,126,252,378]
[17550,0,0,3,0,3,null,null,4,1,1,1,1,null,null,null,null,null,null,null,null,null,null,null,null,null,null,null,null,null,null,null,null,null,null,null,null,null,null,null,null,null,null,null,null,null,null,null,null,null,null,null,null,null,null,null,null,null,null,null,null,null,null,null,null,null,89,0,null,null,null,null,2013,10,1,80,66,"RMT","TRE",2,1,3,162.35,128.35,290.7,804,402,1206]
[15363.4,0,0,1,0,1,null,null,4,1,1,1,1,null,null,null,null,null,null,null,null,null,null,null,null,null,null,null,null,null,null,null,null,null,null,null,null,null,null,null,null,null,null,null,null,null,null,null,null,null,null,null,null,null,null,null,null,null,null,null,null,null,null,null,null,null,112,0,null,null,null,null,2013,10,1,80,66,"RMT","WAS",15,11,26,951,773.3,1724.3,3525,2585,6110]
[69169.100000000006,0,0,4,2,6,null,null,2,1,1,1,1,null,null,null,null,null,null,null,null,null,null,null,null,null,null,null,null,null,null,null,null,null,null,null,null,null,null,null,null,null,null,null,null,null,null,null,null,null,null,null,null,null,null,null,null,null,null,null,null,null,null,null,null,null,5,180,null,null,null,null,2013,10,1,80,66,"SAL","BAL",2,0,2,142.44999999999999,0,142.44999999999999,954,0,954]
[299000,0,0,0,0,0,null,null,1,1,1,1,1,null,null,null,null,null,null,null,null,null,null,null,null,null,null,null,null,null,null,null,null,null,null,null,null,null,null,null,null,null,null,null,null,null,null,null,null,null,null,null,null,null,null,null,null,null,null,null,null,null,null,null,null,null,180,0,null,null,null,null,2013,10,1,80,66,"SAL","BNC",1,0,1,19,0,19,71,0,71]
[20150,0,0,0,0,0,null,null,1,1,1,1,1,null,null,null,null,null,null,null,null,null,null,null,null,null,null,null,null,null,null,null,null,null,null,null,null,null,null,null,null,null,null,null,null,null,null,null,null,null,null,null,null,null,null,null,null,null,null,null,null,null,null,null,null,null,180,0,null,null,null,null,2013,10,1,80,66,"SAL","CYN",1,0,1,17.850000000000001,0,17.850000000000001,123,0,123]
[46150,0,0,1,0,1,null,null,2,1,1,1,1,null,null,null,null,null,null,null,null,null,null,null,null,null,null,null,null,null,null,null,null,null,null,null,null,null,null,null,null,null,null,null,null,null,null,null,null,null,null,null,null,null,null,null,null,null,null,null,null,null,null,null,null,null,54,0,null,null,null,null,2013,10,1,80,66,"SAL","DNC",5,0,5,97,0,97,525,0,525]
[46150,0,0,2,0,2,null,null,1,1,1,1,1,null,null,null,null,null,null,null,null,null,null,null,null,null,null,null,null,null,null,null,null,null,null,null,null,null,null,null,null,null,null,null,null,null,null,null,null,null,null,null,null,null,null,null,null,null,null,null,null,null,null,null,null,null,117,0,null,null,null,null,2013,10,1,80,66,"SAL","FBG",1,0,1,64,0,64,383,0,383]
[42563.3,0,0,0,8,8,null,null,1,1,1,1,1,null,null,null,null,null,null,null,null,null,null,null,null,null,null,null,null,null,null,null,null,null,null,null,null,null,null,null,null,null,null,null,null,null,null,null,null,null,null,null,null,null,null,null,null,null,null,null,null,null,null,null,null,null,105,0,null,null,null,null,2013,10,1,80,66,"SAL","GRO",2,0,2,24,0,24,94,0,94]
[16164.2,0,0,3,0,3,null,null,4,9,1,1,1,null,null,null,null,null,null,null,null,null,null,null,null,null,null,null,null,null,null,null,null,null,null,null,null,null,null,null,null,null,null,null,null,null,null,null,null,null,null,null,null,null,null,null,null,null,null,null,null,null,null,null,null,null,5,0,null,null,null,null,2013,10,1,80,66,"SAL","NSF",16,6,22,362.05,257,619.04999999999995,2096,786,2882]
[689180.70000000007,0,0,9,0,9,null,null,1,1,1,1,1,null,null,null,null,null,null,null,null,null,null,null,null,null,null,null,null,null,null,null,null,null,null,null,null,null,null,null,null,null,null,null,null,null,null,null,null,null,null,null,null,null,null,null,null,null,null,null,null,null,null,null,null,null,6,0,null,null,null,null,2013,10,1,80,66,"SAL","NYP",2,2,4,233.75,286.60000000000002,520.35,1324,1324,2648]
[13130,0,0,0,1,1,null,null,2,2,1,1,1,null,null,null,null,null,null,null,null,null,null,null,null,null,null,null,null,null,null,null,null,null,null,null,null,null,null,null,null,null,null,null,null,null,null,null,null,null,null,null,null,null,null,null,null,null,null,null,null,null,null,null,null,null,279,0,null,null,null,null,2013,10,1,80,66,"SAL","PHL",3,0,3,220.9,0,220.9,1713,0,1713]
[498222.4,0,0,0,14,14,null,null,1,1,1,1,1,null,null,null,null,null,null,null,null,null,null,null,null,null,null,null,null,null,null,null,null,null,null,null,null,null,null,null,null,null,null,null,null,null,null,null,null,null,null,null,null,null,null,null,null,null,null,null,null,null,null,null,null,null,29,0,null,null,null,null,2013,10,1,80,66,"SAL","PTB",1,0,1,48,0,48,300,0,300]
[125998.6,0,0,0,1,1,null,null,6,2,1,1,1,null,null,null,null,null,null,null,null,null,null,null,null,null,null,null,null,null,null,null,null,null,null,null,null,null,null,null,null,null,null,null,null,null,null,null,null,null,null,null,null,null,null,null,null,null,null,null,null,null,null,null,null,null,32,0,null,null,null,null,2013,10,1,80,66,"SAL","RGH",4,2,6,98.5,91,189.5,524,262,786]
[125998.6,0,0,0,0,0,null,null,1,1,1,1,1,null,null,null,null,null,null,null,null,null,null,null,null,null,null,null,null,null,null,null,null,null,null,null,null,null,null,null,null,null,null,null,null,null,null,null,null,null,null,null,null,null,null,null,null,null,null,null,null,null,null,null,null,null,90,0,null,null,null,null,2013,10,1,80,66,"SAL","RVR",1,2,3,35.1,102.3,137.4,328,656,984]
[1339468,0,0,15,0,15,null,null,1,2,1,1,1,null,null,null,null,null,null,null,null,null,null,null,null,null,null,null,null,null,null,null,null,null,null,null,null,null,null,null,null,null,null,null,null,null,null,null,null,null,null,null,null,null,null,null,null,null,null,null,null,null,null,null,null,null,33,0,null,null,null,null,2013,10,1,80,66,"SAL","WAS",4,1,5,257.33,96,353.33,1748,437,2185]
[95378.400000000009,0,0,0,0,0,null,null,1,1,1,1,1,null,null,null,null,null,null,null,null,null,null,null,null,null,null,null,null,null,null,null,null,null,null,null,null,null,null,null,null,null,null,null,null,null,null,null,null,null,null,null,null,null,null,null,null,null,null,null,null,null,null,null,null,null,60,0,null,null,null,null,2013,10,1,80,66,"SAL","WIL",1,0,1,98.6,0,98.6,546,0,546]
[78295.100000000006,0,0,4,0,4,null,null,1,3,1,1,1,null,null,null,null,null,null,null,null,null,null,null,null,null,null,null,null,null,null,null,null,null,null,null,null,null,null,null,null,null,null,null,null,null,null,null,null,null,null,null,null,null,null,null,null,null,null,null,null,null,null,null,null,null,1,0,null,null,null,null,2013,10,1,80,66,"SAL","WLN",2,0,2,82.42,0,82.42,372,0,372]
[51837.5,0,0,7,1,8,null,null,1,2,1,1,1,null,null,null,null,null,null,null,null,null,null,null,null,null,null,null,null,null,null,null,null,null,null,null,null,null,null,null,null,null,null,null,null,null,null,null,null,null,null,null,null,null,null,null,null,null,null,null,null,null,null,null,null,null,70,0,null,null,null,null,2013,10,1,80,66,"SSM","ALX",2,1,3,85,84.4,169.4,534,267,801]
[299000,0,0,0,0,0,null,null,6,1,1,1,1,null,null,null,null,null,null,null,null,null,null,null,null,null,null,null,null,null,null,null,null,null,null,null,null,null,null,null,null,null,null,null,null,null,null,null,null,null,null,null,null,null,null,null,null,null,null,null,null,null,null,null,null,null,65,0,null,null,null,null,2013,10,1,80,66,"SSM","NYP",6,0,6,630.29999999999995,0,630.29999999999995,3006,0,3006]
[72995,0,0,1,2,3,null,null,2,1,1,1,1,null,null,null,null,null,null,null,null,null,null,null,null,null,null,null,null,null,null,null,null,null,null,null,null,null,null,null,null,null,null,null,null,null,null,null,null,null,null,null,null,null,null,null,null,null,null,null,null,null,null,null,null,null,8,0,null,null,null,null,2013,10,1,80,66,"SSM","PHL",3,0,3,220.49,0,220.49,1230,0,1230]
[94428.1,0,0,0,0,0,null,null,1,2,1,1,1,null,null,null,null,null,null,null,null,null,null,null,null,null,null,null,null,null,null,null,null,null,null,null,null,null,null,null,null,null,null,null,null,null,null,null,null,null,null,null,null,null,null,null,null,null,null,null,null,null,null,null,null,null,180,0,null,null,null,null,2013,10,1,80,66,"SSM","RVR",2,0,2,81,0,81,334,0,334]
[18668,0,0,2,0,2,null,null,5,3,1,1,1,null,null,null,null,null,null,null,null,null,null,null,null,null,null,null,null,null,null,null,null,null,null,null,null,null,null,null,null,null,null,null,null,null,null,null,null,null,null,null,null,null,null,null,null,null,null,null,null,null,null,null,null,null,5,0,null,null,null,null,2013,10,1,80,66,"SSM","TRE",2,0,2,248.2,0,248.2,886,0,886]
[21450,0,0,1,3,4,null,null,2,1,1,1,1,null,null,null,null,null,null,null,null,null,null,null,null,null,null,null,null,null,null,null,null,null,null,null,null,null,null,null,null,null,null,null,null,null,null,null,null,null,null,null,null,null,null,null,null,null,null,null,null,null,null,null,null,null,5,0,null,null,null,null,2013,10,1,80,66,"SSM","WAS",5,1,6,376.8,83.8,460.6,1380,276,1656]
[16500.900000000001,0,0,0,0,0,null,null,1,1,1,1,1,null,null,null,null,null,null,null,null,null,null,null,null,null,null,null,null,null,null,null,null,null,null,null,null,null,null,null,null,null,null,null,null,null,null,null,null,null,null,null,null,null,null,null,null,null,null,null,null,null,null,null,null,null,14,0,null,null,null,null,2013,10,1,80,66,"WLN","ALX",6,0,6,312.5,0,312.5,1452,0,1452]
[94428.1,0,0,0,1,1,null,null,2,3,1,1,1,null,null,null,null,null,null,null,null,null,null,null,null,null,null,null,null,null,null,null,null,null,null,null,null,null,null,null,null,null,null,null,null,null,null,null,null,null,null,null,null,null,null,null,null,null,null,null,null,null,null,null,null,null,220,0,null,null,null,null,2013,10,1,80,66,"WLN","BAL",1,1,2,59,95.45,154.44999999999999,291,291,582]
[33484.1,0,0,3,0,3,null,null,1,1,1,1,1,null,null,null,null,null,null,null,null,null,null,null,null,null,null,null,null,null,null,null,null,null,null,null,null,null,null,null,null,null,null,null,null,null,null,null,null,null,null,null,null,null,null,null,null,null,null,null,null,null,null,null,null,null,180,0,null,null,null,null,2013,10,1,80,66,"WLN","FBG",1,0,1,47,0,47,197,0,197]
[43631.9,0,0,0,0,0,null,null,1,1,1,1,1,null,null,null,null,null,null,null,null,null,null,null,null,null,null,null,null,null,null,null,null,null,null,null,null,null,null,null,null,null,null,null,null,null,null,null,null,null,null,null,null,null,null,null,null,null,null,null,null,null,null,null,null,null,26,180,null,null,null,null,2013,10,1,80,66,"WLN","NWK",11,1,12,1197.5999999999999,126,1323.6,5126,466,5592]
[218400,0,0,3,4,7,null,null,1,3,1,1,1,null,null,null,null,null,null,null,null,null,null,null,null,null,null,null,null,null,null,null,null,null,null,null,null,null,null,null,null,null,null,null,null,null,null,null,null,null,null,null,null,null,null,null,null,null,null,null,null,null,null,null,null,null,323,28,null,null,null,null,2013,10,1,80,66,"WLN","NYP",23,3,26,2763.88,546.57000000000005,3310.45,10948,1428,12376]
[43631.9,0,0,0,0,0,null,null,1,1,1,1,1,null,null,null,null,null,null,null,null,null,null,null,null,null,null,null,null,null,null,null,null,null,null,null,null,null,null,null,null,null,null,null,null,null,null,null,null,null,null,null,null,null,null,null,null,null,null,null,null,null,null,null,null,null,39,0,null,null,null,null,2013,10,1,80,66,"WLN","PHL",9,1,10,797.75,144.1,941.85,3465,385,3850]
[11053.9,0,0,5,0,5,null,null,1,2,1,1,1,null,null,null,null,null,null,null,null,null,null,null,null,null,null,null,null,null,null,null,null,null,null,null,null,null,null,null,null,null,null,null,null,null,null,null,null,null,null,null,null,null,null,null,null,null,null,null,null,null,null,null,null,null,190,0,null,null,null,null,2013,10,1,80,66,"WLN","QAN",3,0,3,156.6,0,156.6,648,0,648]
[16500.900000000001,0,0,0,0,0,null,null,2,1,1,1,1,null,null,null,null,null,null,null,null,null,null,null,null,null,null,null,null,null,null,null,null,null,null,null,null,null,null,null,null,null,null,null,null,null,null,null,null,null,null,null,null,null,null,null,null,null,null,null,null,null,null,null,null,null,271,0,null,null,null,null,2013,10,1,80,66,"WLN","RMT",4,0,4,42.12,0,42.12,64,0,64]
[33150,0,0,0,5,5,null,null,1,1,1,1,1,null,null,null,null,null,null,null,null,null,null,null,null,null,null,null,null,null,null,null,null,null,null,null,null,null,null,null,null,null,null,null,null,null,null,null,null,null,null,null,null,null,null,null,null,null,null,null,null,null,null,null,null,null,6,0,null,null,null,null,2013,10,1,80,66,"WLN","TRE",2,0,2,223,0,223,836,0,836]
[36054.200000000004,0,1,1,1,2,null,null,1,1,1,1,1,null,null,null,null,null,null,null,null,null,null,null,null,null,null,null,null,null,null,null,null,null,null,null,null,null,null,null,null,null,null,null,null,null,null,null,null,null,null,null,null,null,null,null,null,null,null,null,null,null,null,null,null,null,217,0,null,null,null,null,2013,10,1,80,66,"WLN","WAS",22,3,25,1454.57,308.05,1762.62,5522,753,6275]
[110784.7,0,0,0,5,5,null,null,1,1,1,1,1,null,null,null,null,null,null,null,null,null,null,null,null,null,null,null,null,null,null,null,null,null,null,null,null,null,null,null,null,null,null,null,null,null,null,null,null,null,null,null,null,null,null,null,null,null,null,null,null,null,null,null,null,null,1,0,null,null,null,null,2013,10,1,80,66,"WLN","WIL",1,2,3,96,217.65,313.64999999999998,360,720,1080]
[12935,0,0,0,0,0,null,null,1,1,1,1,1,null,null,null,null,null,null,null,null,null,null,null,null,null,null,null,null,null,null,null,null,null,null,null,null,null,null,null,null,null,null,null,null,null,null,null,null,null,null,null,null,null,null,null,null,null,null,null,null,null,null,null,null,null,7,0,null,null,null,null,2013,10,2,73,67,"BNC","CLT",5,0,5,66,0,66,565,0,565]
[12935,0,1,0,0,0,null,null,1,1,1,1,1,null,null,null,null,null,null,null,null,null,null,null,null,null,null,null,null,null,null,null,null,null,null,null,null,null,null,null,null,null,null,null,null,null,null,null,null,null,null,null,null,null,null,null,null,null,null,null,null,null,null,null,null,null,180,0,null,null,null,null,2013,10,2,73,67,"BNC","GRO",5,0,5,25.7,0,25.7,120,0,120]
[27081.600000000002,0,0,0,1,1,null,null,1,1,1,1,1,null,null,null,null,null,null,null,null,null,null,null,null,null,null,null,null,null,null,null,null,null,null,null,null,null,null,null,null,null,null,null,null,null,null,null,null,null,null,null,null,null,null,null,null,null,null,null,null,null,null,null,null,null,82,0,null,null,null,null,2013,10,2,73,67,"BNC","HPT",8,0,8,76.8,0,76.8,296,0,296]
[9640.35,0,0,2,0,2,null,null,18,1,1,1,1,null,null,null,null,null,null,null,null,null,null,null,null,null,null,null,null,null,null,null,null,null,null,null,null,null,null,null,null,null,null,null,null,null,null,null,null,null,null,null,null,null,null,null,null,null,null,null,null,null,null,null,null,null,91,13,null,null,null,null,2013,10,2,73,67,"CYN","BNC",3,0,3,20.399999999999999,0,20.399999999999999,153,0,153]
[182031.30000000002,0,0,6,3,9,null,null,1,1,1,1,1,null,null,null,null,null,null,null,null,null,null,null,null,null,null,null,null,null,null,null,null,null,null,null,null,null,null,null,null,null,null,null,null,null,null,null,null,null,null,null,null,null,null,null,null,null,null,null,null,null,null,null,null,null,279,68,null,null,null,null,2013,10,2,73,67,"CYN","CLT",49,0,49,1156.3599999999999,0,1156.3599999999999,8036,0,8036]
[52450.200000000004,0,0,1,1,2,null,null,3,1,1,1,1,null,null,null,null,null,null,null,null,null,null,null,null,null,null,null,null,null,null,null,null,null,null,null,null,null,null,null,null,null,null,null,null,null,null,null,null,null,null,null,null,null,null,null,null,null,null,null,null,null,null,null,null,null,75,180,null,null,null,null,2013,10,2,73,67,"CYN","DNC",1,0,1,4.95,0,4.95,17,0,17]
[44019.450000000004,0,0,0,1,1,null,null,1,1,1,1,1,null,null,null,null,null,null,null,null,null,null,null,null,null,null,null,null,null,null,null,null,null,null,null,null,null,null,null,null,null,null,null,null,null,null,null,null,null,null,null,null,null,null,null,null,null,null,null,null,null,null,null,null,null,19,180,null,null,null,null,2013,10,2,73,67,"CYN","GRO",25,0,25,222.15,0,222.15,1875,0,1875]
[13905.000000000002,0,0,0,0,0,null,null,2,1,1,1,1,null,null,null,null,null,null,null,null,null,null,null,null,null,null,null,null,null,null,null,null,null,null,null,null,null,null,null,null,null,null,null,null,null,null,null,null,null,null,null,null,null,null,null,null,null,null,null,null,null,null,null,null,null,10,0,null,null,null,null,2013,10,2,73,67,"CYN","HPT",8,0,8,122.84,0,122.84,704,0,704]
[37916.100000000006,0,0,0,1,1,null,null,1,1,1,1,1,null,null,null,null,null,null,null,null,null,null,null,null,null,null,null,null,null,null,null,null,null,null,null,null,null,null,null,null,null,null,null,null,null,null,null,null,null,null,null,null,null,null,null,null,null,null,null,null,null,null,null,null,null,84,180,null,null,null,null,2013,10,2,73,67,"CYN","KAN",2,0,2,21.67,0,21.67,274,0,274]
[36802.350000000006,0,0,0,0,0,null,null,2,2,1,1,1,null,null,null,null,null,null,null,null,null,null,null,null,null,null,null,null,null,null,null,null,null,null,null,null,null,null,null,null,null,null,null,null,null,null,null,null,null,null,null,null,null,null,null,null,null,null,null,null,null,null,null,null,null,102,0,null,null,null,null,2013,10,2,73,67,"CYN","SAL",2,0,2,42,0,42,244,0,244]
[12825,0,0,4,1,5,null,null,1,2,1,1,1,null,null,null,null,null,null,null,null,null,null,null,null,null,null,null,null,null,null,null,null,null,null,null,null,null,null,null,null,null,null,null,null,null,null,null,null,null,null,null,null,null,null,null,null,null,null,null,null,null,null,null,null,null,30,0,null,null,null,null,2013,10,2,73,67,"DNC","BNC",1,0,1,0,0,0,34,0,34]
[12825,0,0,0,0,0,null,null,2,2,1,1,1,null,null,null,null,null,null,null,null,null,null,null,null,null,null,null,null,null,null,null,null,null,null,null,null,null,null,null,null,null,null,null,null,null,null,null,null,null,null,null,null,null,null,null,null,null,null,null,null,null,null,null,null,null,94,21,null,null,null,null,2013,10,2,73,67,"DNC","CLT",34,0,34,809.7,0,809.7,4998,0,4998]
[13905.000000000002,0,0,0,0,0,null,null,1,1,1,1,1,null,null,null,null,null,null,null,null,null,null,null,null,null,null,null,null,null,null,null,null,null,null,null,null,null,null,null,null,null,null,null,null,null,null,null,null,null,null,null,null,null,null,null,null,null,null,null,null,null,null,null,null,null,48,0,null,null,null,null,2013,10,2,73,67,"DNC","GRO",40,0,40,344.5,0,344.5,2320,0,2320]
[13632,0,0,7,1,8,null,null,2,2,1,1,1,null,null,null,null,null,null,null,null,null,null,null,null,null,null,null,null,null,null,null,null,null,null,null,null,null,null,null,null,null,null,null,null,null,null,null,null,null,null,null,null,null,null,null,null,null,null,null,null,null,null,null,null,null,365,0,null,null,null,null,2013,10,2,76,67,"CLT","KAN",2,0,2,13.3,0,13.3,54,0,54]
[24441.75,0,0,0,0,0,null,null,1,1,1,1,1,null,null,null,null,null,null,null,null,null,null,null,null,null,null,null,null,null,null,null,null,null,null,null,null,null,null,null,null,null,null,null,null,null,null,null,null,null,null,null,null,null,null,null,null,null,null,null,null,null,null,null,null,null,22,0,null,null,null,null,2013,10,2,79,66,"WLN","CLT",3,0,3,123.97,0,123.97,684,0,684]
[24000,0,0,0,0,0,null,null,1,2,1,1,1,null,null,null,null,null,null,null,null,null,null,null,null,null,null,null,null,null,null,null,null,null,null,null,null,null,null,null,null,null,null,null,null,null,null,null,null,null,null,null,null,null,null,null,null,null,null,null,null,null,null,null,null,null,44,0,null,null,null,null,2013,10,2,80,66,"SAL","BNC",2,0,2,38,0,38,142,0,142]
[11880,0,0,0,0,0,null,null,null,1,1,1,1,null,null,null,null,null,null,null,null,null,null,null,null,null,null,null,null,null,null,null,null,null,null,null,null,null,null,null,null,null,null,null,null,null,null,null,null,null,null,null,null,null,null,null,null,null,null,null,null,null,null,null,null,null,11,0,null,null,null,null,2013,10,3,75,67,"RGH","KAN",8,0,8,193.47,0,193.47,1168,0,1168]
[29760,0,0,1,1,2,null,null,null,1,1,1,1,null,null,null,null,null,null,null,null,null,null,null,null,null,null,null,null,null,null,null,null,null,null,null,null,null,null,null,null,null,null,null,null,null,null,null,null,null,null,null,null,null,null,null,null,null,null,null,null,null,null,null,null,null,63,0,null,null,null,null,2013,10,3,79,66,"PHL","CLT",4,3,7,490,402.8,892.8,2452,1839,4291]
[null,null,null,null,null,null,null,null,null,1,1,1,1,null,null,null,null,null,null,null,null,null,null,null,null,null,null,null,null,null,null,null,null,null,null,null,null,null,null,null,null,null,null,null,null,null,null,null,null,null,null,null,null,null,null,null,null,null,null,null,null,null,null,null,null,null,25,0,null,null,null,null,2013,10,3,80,66,"DNC","NSF",10,0,10,70.59,0,70.59,260,0,260]
[null,null,null,null,null,null,null,null,null,1,1,1,1,null,null,null,null,null,null,null,null,null,null,null,null,null,null,null,null,null,null,null,null,null,null,null,null,null,null,null,null,null,null,null,null,null,null,null,null,null,null,null,null,null,null,null,null,null,null,null,null,null,null,null,null,null,54,0,null,null,null,null,2013,10,4,73,67,"CYN","BNC",3,0,3,17.600000000000001,0,17.600000000000001,153,0,153]
[null,null,null,null,null,null,null,null,null,2,1,1,1,null,null,null,null,null,null,null,null,null,null,null,null,null,null,null,null,null,null,null,null,null,null,null,null,null,null,null,null,null,null,null,null,null,null,null,null,null,null,null,null,null,null,null,null,null,null,null,null,null,null,null,null,null,86,0,null,null,null,null,2013,10,4,76,67,"KAN","DNC",2,0,2,66.5,0,66.5,240,0,240]
[null,null,null,null,null,null,null,null,null,1,1,1,1,null,null,null,null,null,null,null,null,null,null,null,null,null,null,null,null,null,null,null,null,null,null,null,null,null,null,null,null,null,null,null,null,null,null,null,null,null,null,null,null,null,null,null,null,null,null,null,null,null,null,null,null,null,86,0,null,null,null,null,2013,10,4,79,66,"TRE","GRO",1,0,1,85,0,85,557,0,557]
[null,null,null,null,null,null,null,null,null,2,1,1,1,null,null,null,null,null,null,null,null,null,null,null,null,null,null,null,null,null,null,null,null,null,null,null,null,null,null,null,null,null,null,null,null,null,null,null,null,null,null,null,null,null,null,null,null,null,null,null,null,null,null,null,null,null,null,0,null,null,null,null,2013,10,4,80,66,"HPT","WIL",1,1,2,90,130,220,511,511,1022]
[null,null,null,null,null,null,null,null,null,1,1,1,1,null,null,null,null,null,null,null,null,null,null,null,null,null,null,null,null,null,null,null,null,null,null,null,null,null,null,null,null,null,null,null,null,null,null,null,null,null,null,null,null,null,null,null,null,null,null,null,null,null,null,null,null,null,null,0,null,null,null,null,2013,10,5,74,67,"CYN","RGH",4,0,4,19.25,0,19.25,32,0,32]
[null,null,null,null,null,null,null,null,null,1,1,1,1,null,null,null,null,null,null,null,null,null,null,null,null,null,null,null,null,null,null,null,null,null,null,null,null,null,null,null,null,null,null,null,null,null,null,null,null,null,null,null,null,null,null,null,null,null,null,null,null,null,null,null,null,null,null,0,null,null,null,null,2013,10,5,79,66,"GRO","CLT",83,2,85,1611.87,58.7,1670.57,7387,178,7565]
[null,null,null,null,null,null,null,null,null,1,1,1,1,null,null,null,null,null,null,null,null,null,null,null,null,null,null,null,null,null,null,null,null,null,null,null,null,null,null,null,null,null,null,null,null,null,null,null,null,null,null,null,null,null,null,null,null,null,null,null,null,null,null,null,null,null,null,11,null,null,null,null,2013,10,5,79,66,"WLN","CLT",7,6,13,283.39,348.34,631.73,1596,1368,2964]
[null,null,null,null,null,null,null,null,null,1,1,1,1,null,null,null,null,null,null,null,null,null,null,null,null,null,null,null,null,null,null,null,null,null,null,null,null,null,null,null,null,null,null,null,null,null,null,null,null,null,null,null,null,null,null,null,null,null,null,null,null,null,null,null,null,null,null,0,null,null,null,null,2013,10,6,74,67,"GRO","CYN",61,0,61,710.5,0,710.5,4636,0,4636]
[null,null,null,null,null,null,null,null,null,1,1,1,1,null,null,null,null,null,null,null,null,null,null,null,null,null,null,null,null,null,null,null,null,null,null,null,null,null,null,null,null,null,null,null,null,null,null,null,null,null,null,null,null,null,null,null,null,null,null,null,null,null,null,null,null,null,null,84,null,null,null,null,2013,10,6,79,66,"HPT","CLT",40,1,41,691.25,25,716.25,3080,77,3157]
[null,null,null,null,null,null,null,null,null,1,1,1,1,null,null,null,null,null,null,null,null,null,null,null,null,null,null,null,null,null,null,null,null,null,null,null,null,null,null,null,null,null,null,null,null,null,null,null,null,null,null,null,null,null,null,null,null,null,null,null,null,null,null,null,null,null,null,0,null,null,null,null,2013,10,6,79,66,"WAS","WLN",18,2,20,1166.06,190,1356.06,4518,502,5020]
[null,null,null,null,null,null,null,null,null,2,1,1,1,null,null,null,null,null,null,null,null,null,null,null,null,null,null,null,null,null,null,null,null,null,null,null,null,null,null,null,null,null,null,null,null,null,null,null,null,null,null,null,null,null,null,null,null,null,null,null,null,null,null,null,null,null,null,0,null,null,null,null,2013,10,6,80,66,"KAN","ALX",1,0,1,67,0,67,443,0,443]
[null,null,null,null,null,null,null,null,null,2,1,1,1,null,null,null,null,null,null,null,null,null,null,null,null,null,null,null,null,null,null,null,null,null,null,null,null,null,null,null,null,null,null,null,null,null,null,null,null,null,null,null,null,null,null,null,null,null,null,null,null,null,null,null,null,null,null,2,null,null,null,null,2013,10,7,73,67,"HPT","CLT",28,0,28,424.87,0,424.87,2128,0,2128]
[null,null,null,null,null,null,null,null,null,1,1,1,1,null,null,null,null,null,null,null,null,null,null,null,null,null,null,null,null,null,null,null,null,null,null,null,null,null,null,null,null,null,null,null,null,null,null,null,null,null,null,null,null,null,null,null,null,null,null,null,null,null,null,null,null,null,null,0,null,null,null,null,2013,10,7,76,67,"CLT","SAL",11,0,11,112.24,0,112.24,473,0,473]
[null,null,null,null,null,null,null,null,null,1,1,1,1,null,null,null,null,null,null,null,null,null,null,null,null,null,null,null,null,null,null,null,null,null,null,null,null,null,null,null,null,null,null,null,null,null,null,null,null,null,null,null,null,null,null,null,null,null,null,null,null,null,null,null,null,null,null,0,null,null,null,null,2013,10,7,79,66,"PHL","WLN",7,2,9,552.9,253.45,806.35,2695,770,3465]
[null,null,null,null,null,null,null,null,null,1,1,1,1,null,null,null,null,null,null,null,null,null,null,null,null,null,null,null,null,null,null,null,null,null,null,null,null,null,null,null,null,null,null,null,null,null,null,null,null,null,null,null,null,null,null,null,null,null,null,null,null,null,null,null,null,null,null,0,null,null,null,null,2013,10,7,79,66,"WLN","SSM",2,0,2,13.5,0,13.5,50,0,50]
[null,null,null,null,null,null,null,null,null,1,1,1,1,null,null,null,null,null,null,null,null,null,null,null,null,null,null,null,null,null,null,null,null,null,null,null,null,null,null,null,null,null,null,null,null,null,null,null,null,null,null,null,null,null,null,null,null,null,null,null,null,null,null,null,null,null,null,0,null,null,null,null,2013,10,7,80,66,"SAL","PHL",1,1,2,79.900000000000006,122.9,202.8,571,571,1142]
[null,null,null,null,null,null,null,null,null,2,1,1,1,null,null,null,null,null,null,null,null,null,null,null,null,null,null,null,null,null,null,null,null,null,null,null,null,null,null,null,null,null,null,null,null,null,null,null,null,null,null,null,null,null,null,null,null,null,null,null,null,null,null,null,null,null,null,0]
[null,null,null,null,null,null,null,null,null,1,1,1,1,null,null,null,null,null,null,null,null,null,null,null,null,null,null,null,null,null,null,null,null,null,null,null,null,null,null,null,null,null,null,null,null,null,null,null,null,null,null,null,null,null,null,null,null,null,null,null,null,null,null,null,null,null,null,0]
[null,null,null,null,null,null,null,null,null,1,1,1,1,null,null,null,null,null,null,null,null,null,null,null,null,null,null,null,null,null,null,null,null,null,null,null,null,null,null,null,null,null,null,null,null,null,null,null,null,null,null,null,null,null,null,null,null,null,null,null,null,null,null,null,null,null,null,1]
[null,null,null,null,null,null,null,null,null,1,1,1,1,null,null,null,null,null,null,null,null,null,null,null,null,null,null,null,null,null,null,null,null,null,null,null,null,null,null,null,null,null,null,null,null,null,null,null,null,null,null,null,null,null,null,null,null,null,null,null,null,null,null,null,null,null,null,0]
[null,null,null,null,null,null,null,null,null,1,1,1,1,null,null,null,null,null,null,null,null,null,null,null,null,null,null,null,null,null,null,null,null,null,null,null,null,null,null,null,null,null,null,null,null,null,null,null,null,null,null,null,null,null,null,null,null,null,null,null,null,null,null,null,null,null,null,0]
[null,null,null,null,null,null,null,null,null,3,1,1,1,null,null,null,null,null,null,null,null,null,null,null,null,null,null,null,null,null,null,null,null,null,null,null,null,null,null,null,null,null,null,null,null,null,null,null,null,null,null,null,null,null,null,null,null,null,null,null,null,null,null,null,null,null,null,113]
[null,null,null,null,null,null,null,null,null,1,1,1,1,null,null,null,null,null,null,null,null,null,null,null,null,null,null,null,null,null,null,null,null,null,null,null,null,null,null,null,null,null,null,null,null,null,null,null,null,null,null,null,null,null,null,null,null,null,null,null,null,null,null,null,null,null,null,0]
[null,null,null,null,null,null,null,null,null,1,1,1,1,null,null,null,null,null,null,null,null,null,null,null,null,null,null,null,null,null,null,null,null,null,null,null,null,null,null,null,null,null,null,null,null,null,null,null,null,null,null,null,null,null,null,null,null,null,null,null,null,null,null,null,null,null,null,0]
[null,null,null,null,null,null,null,null,null,1,1,1,1,null,null,null,null,null,null,null,null,null,null,null,null,null,null,null,null,null,null,null,null,null,null,null,null,null,null,null,null,null,null,null,null,null,null,null,null,null,null,null,null,null,null,null,null,null,null,null,null,null,null,null,null,null,null,17]
[null,null,null,null,null,null,null,null,null,1,1,1,1,null,null,null,null,null,null,null,null,null,null,null,null,null,null,null,null,null,null,null,null,null,null,null,null,null,null,null,null,null,null,null,null,null,null,null,null,null,null,null,null,null,null,null,null,null,null,null,null,null,null,null,null,null,null,0]
[null,null,null,null,null,null,null,null,null,1,1,1,1,null,null,null,null,null,null,null,null,null,null,null,null,null,null,null,null,null,null,null,null,null,null,null,null,null,null,null,null,null,null,null,null,null,null,null,null,null,null,null,null,null,null,null,null,null,null,null,null,null,null,null,null,null,null,0]
[null,null,null,null,null,null,null,null,null,1,1,1,1,null,null,null,null,null,null,null,null,null,null,null,null,null,null,null,null,null,null,null,null,null,null,null,null,null,null,null,null,null,null,null,null,null,null,null,null,null,null,null,null,null,null,null,null,null,null,null,null,null,null,null,null,null,null,0]
[null,null,null,null,null,null,null,null,null,4,1,1,1,null,null,null,null,null,null,null,null,null,null,null,null,null,null,null,null,null,null,null,null,null,null,null,null,null,null,null,null,null,null,null,null,null,null,null,null,null,null,null,null,null,null,null,null,null,null,null,null,null,null,null,null,null,null,0]
[null,null,null,null,null,null,null,null,null,1,1,1,1,null,null,null,null,null,null,null,null,null,null,null,null,null,null,null,null,null,null,null,null,null,null,null,null,null,null,null,null,null,null,null,null,null,null,null,null,null,null,null,null,null,null,null,null,null,null,null,null,null,null,null,null,null,null,0]
[null,null,null,null,null,null,null,null,null,1,1,1,1,null,null,null,null,null,null,null,null,null,null,null,null,null,null,null,null,null,null,null,null,null,null,null,null,null,null,null,null,null,null,null,null,null,null,null,null,null,null,null,null,null,null,null,null,null,null,null,null,null,null,null,null,null,null,0]
[null,null,null,null,null,null,null,null,null,2,1,1,1,null,null,null,null,null,null,null,null,null,null,null,null,null,null,null,null,null,null,null,null,null,null,null,null,null,null,null,null,null,null,null,null,null,null,null,null,null,null,null,null,null,null,null,null,null,null,null,null,null,null,null,null,null,null,0]
[null,null,null,null,null,null,null,null,null,2,1,1,1,null,null,null,null,null,null,null,null,null,null,null,null,null,null,null,null,null,null,null,null,null,null,null,null,null,null,null,null,null,null,null,null,null,null,null,null,null,null,null,null,null,null,null,null,null,null,null,null,null,null,null,null,null,null,0]
[null,null,null,null,null,null,null,null,null,2,1,1,1,null,null,null,null,null,null,null,null,null,null,null,null,null,null,null,null,null,null,null,null,null,null,null,null,null,null,null,null,null,null,null,null,null,null,null,null,null,null,null,null,null,null,null,null,null,null,null,null,null,null,null,null,null,null,0]
[null,null,null,null,null,null,null,null,null,2,1,1,1]
[null,null,null,null,null,null,null,null,null,1,1,1,1]
[null,null,null,null,null,null,null,null,null,2,1,1,1]
[null,null,null,null,null,null,null,null,null,1,1,1,1]
[null,null,null,null,null,null,null,null,null,1,1,1,1]
[null,null,null,null,null,null,null,null,null,2,1,1,1]
[null,null,null,null,null,null,null,null,null,1,1,1,1]
[null,null,null,null,null,null,null,null,null,1,1,1,1]
[null,null,null,null,null,null,null,null,null,2,1,1,1]
[null,null,null,null,null,null,null,null,null,2,1,1,1]
[null,null,null,null,null,null,null,null,null,3,1,1,1]
[null,null,null,null,null,null,null,null,null,1,1,1,1]
[null,null,null,null,null,null,null,null,null,1,1,1,1]
[null,null,null,null,null,null,null,null,null,1,1,1,1]
[null,null,null,null,null,null,null,null,null,1,1,1,1]
[null,null,null,null,null,null,null,null,null,2,1,1,1]
[null,null,null,null,null,null,null,null,null,2,1,1,1]
[null,null,null,null,null,null,null,null,null,3,1,1,1]
[null,null,null,null,null,null,null,null,null,3,1,1,1]
[null,null,null,null,null,null,null,null,null,4,1,1,1]
[null,null,null,null,null,null,null,null,null,1,1,1,1]
[null,null,null,null,null,null,null,null,null,3,1,1,1]
[null,null,null,null,null,null,null,null,null,2,1,1,1]
[null,null,null,null,null,null,null,null,null,3,1,1,1]
[null,null,null,null,null,null,null,null,null,1,1,1,1]
[null,null,null,null,null,null,null,null,null,1,1,1,1]
[null,null,null,null,null,null,null,null,null,1,1,1,1]
[null,null,null,null,null,null,null,null,null,2,1,1,1]
[null,null,null,null,null,null,null,null,null,1,1,1,1]
[null,null,null,null,null,null,null,null,null,1,1,1,1]
[null,null,null,null,null,null,null,null,null,1,1,1,1]
[null,null,null,null,null,null,null,null,null,3,1,1,1]
[null,null,null,null,null,null,null,null,null,1,1,1,1]
[null,null,null,null,null,null,null,null,null,1,1,1,1]
[null,null,null,null,null,null,null,null,null,null,1,1,1]
[null,null,null,null,null,null,null,null,null,null,1,2,1]
[null,null,null,null,null,null,null,null,null,null,1,2,1]
[null,null,null,null,null,null,null,null,null,null,1,2,1]
[null,null,null,null,null,null,null,null,null,null,1,2,1]
[null,null,null,null,null,null,null,null,null,null,1,2,1]
[null,null,null,null,null,null,null,null,null,null,1,2,1]
[null,null,null,null,null,null,null,null,null,null,1,2,1]
[null,null,null,null,null,null,null,null,null,null,1,2,1]
[null,null,null,null,null,null,null,null,null,null,1,2,1]
[null,null,null,null,null,null,null,null,null,null,1,2,1]
[null,null,null,null,null,null,null,null,null,null,1,2,1]
[null,null,null,null,null,null,null,null,null,null,1,2,1]
[null,null,null,null,null,null,null,null,null,null,1,2,1]
[null,null,null,null,null,null,null,null,null,null,2,2,1]
[null,null,null,null,null,null,null,null,null,null,2,2,1]
[null,null,null,null,null,null,null,null,null,null,2,2,1]
[null,null,null,null,null,null,null,null,null,null,2,2,1]
[null,null,null,null,null,null,null,null,null,null,2,2,1]
[null,null,null,null,null,null,null,null,null,null,2,2,1]
[null,null,null,null,null,null,null,null,null,null,2,2,1]
[null,null,null,null,null,null,null,null,null,null,2,2,1]
[null,null,null,null,null,null,null,null,null,null,2,2,1]
[null,null,null,null,null,null,null,null,null,null,2,2,1]
[null,null,null,null,null,null,null,null,null,null,2,2,1]
[null,null,null,null,null,null,null,null,null,null,2,2,1]
[null,null,null,null,null,null,null,null,null,null,2,2,1]
[null,null,null,null,null,null,null,null,null,null,2,2,1]
[null,null,null,null,null,null,null,null,null,null,2,2,1]
[null,null,null,null,null,null,null,null,null,null,2,2,1]
[null,null,null,null,null,null,null,null,null,null,2,2,1]
[null,null,null,null,null,null,null,null,null,null,2,2,1]
[null,null,null,null,null,null,null,null,null,null,2,2,1]
[null,null,null,null,null,null,null,null,null,null,2,2,1]
[null,null,null,null,null,null,null,null,null,null,2,2,1]
[null,null,null,null,null,null,null,null,null,null,2,2,1]
[null,null,null,null,null,null,null,null,null,null,2,2,1]
[null,null,null,null,null,null,null,null,null,null,2,2,2]
[null,null,null,null,null,null,null,null,null,null,2,2,2]
[null,null,null,null,null,null,null,null,null,null,2,2,2]
[null,null,null,null,null,null,null,null,null,null,2,2,2]
[null,null,null,null,null,null,null,null,null,null,2,2,2]
[null,null,null,null,null,null,null,null,null,null,2,2,2]
[null,null,null,null,null,null,null,null,null,null,2,2,2]
[null,null,null,null,null,null,null,null,null,null,2,2,2]
[null,null,null,null,null,null,null,null,null,null,2,2,2]
[null,null,null,null,null,null,null,null,null,null,2,2,2]
[null,null,null,null,null,null,null,null,null,null,2,2,2]
[null,null,null,null,null,null,null,null,null,null,2,2,2]
[null,null,null,null,null,null,null,null,null,null,2,2,2]
[null,null,null,null,null,null,null,null,null,null,2,3,2]
[null,null,null,null,null,null,null,null,null,null,2,3,2]
[null,null,null,null,null,null,null,null,null,null,2,3,2]
[null,null,null,null,null,null,null,null,null,null,2,3,2]
[null,null,null,null,null,null,null,null,null,null,2,3,2]
[null,null,null,null,null,null,null,null,null,null,2,3,2]
[null,null,null,null,null,null,null,null,null,null,2,3,2]
[null,null,null,null,null,null,null,null,null,null,2,3,2]
[null,null,null,null,null,null,null,null,null,null,2,3,2]
[null,null,null,null,null,null,null,null,null,null,2,3,2]
[null,null,null,null,null,null,null,null,null,null,2,3,2]
[null,null,null,null,null,null,null,null,null,null,2,3,2]
[null,null,null,null,null,null,null,null,null,null,2,3,2]
[null,null,null,null,null,null,null,null,null,null,2,3,2]
[null,null,null,null,null,null,null,null,null,null,2,3,2]
[null,null,null,null,null,null,null,null,null,null,2,3,2]
[null,null,null,null,null,null,null,null,null,null,2,3,2]
[null,null,null,null,null,null,null,null,null,null,2,3,2]
[null,null,null,null,null,null,null,null,null,null,2,3,2]
[null,null,null,null,null,null,null,null,null,null,2,3,2]
[null,null,null,null,null,null,null,null,null,null,2,3,2]
[null,null,null,null,null,null,null,null,null,null,2,3,2]
[null,null,null,null,null,null,null,null,null,null,2,3,2]
[null,null,null,null,null,null,null,null,null,null,2,3,2]
[null,null,null,null,null,null,null,null,null,null,3,3,2]
[null,null,null,null,null,null,null,null,null,null,3,3,2]
[null,null,null,null,null,null,null,null,null,null,3,3,2]
[null,null,null,null,null,null,null,null,null,null,3,3,2]
[null,null,null,null,null,null,null,null,null,null,3,3,2]
[null,null,null,null,null,null,null,null,null,null,3,4,2]
[null,null,null,null,null,null,null,null,null,null,3,4,2]
[null,null,null,null,null,null,null,null,null,null,3,4,2]
[null,null,null,null,null,null,null,null,null,null,3,4,2]
[null,null,null,null,null,null,null,null,null,null,3,4,2]
[null,null,null,null,null,null,null,null,null,null,3,4,2]
[null,null,null,null,null,null,null,null,null,null,3,4,2]
[null,null,null,null,null,null,null,null,null,null,3,4,2]
[null,null,null,null,null,null,null,null,null,null,3,4,2]
[null,null,null,null,null,null,null,null,null,null,3,4,2]
[null,null,null,null,null,null,null,null,null,null,3,4,2]
[null,null,null,null,null,null,null,null,null,null,3,4,2]
[null,null,null,null,null,null,null,null,null,null,3,4,2]
[null,null,null,null,null,null,null,null,null,null,3,4,2]
[null,null,null,null,null,null,null,null,null,null,3,4,2]
[null,null,null,null,null,null,null,null,null,null,3,4,2]
[null,null,null,null,null,null,null,null,null,null,3,4,2]
[null,null,null,null,null,null,null,null,null,null,3,4,2]
[null,null,null,null,null,null,null,null,null,null,3,4,2]
[null,null,null,null,null,null,null,null,null,null,3,4,2]
[null,null,null,null,null,null,null,null,null,null,3,5,2]
[null,null,null,null,null,null,null,null,null,null,3,5,2]
[null,null,null,null,null,null,null,null,null,null,3,5,2]
[null,null,null,null,null,null,null,null,null,null,3,5,2]
[null,null,null,null,null,null,null,null,null,null,3,5,2]
[null,null,null,null,null,null,null,null,null,null,3,5,2]
[null,null,null,null,null,null,null,null,null,null,3,5,2]
[null,null,null,null,null,null,null,null,null,null,3,5,2]
[null,null,null,null,null,null,null,null,null,null,3,5,2]
[null,null,null,null,null,null,null,null,null,null,3,5,2]
[null,null,null,null,null,null,null,null,null,null,3,5,2]
[null,null,null,null,null,null,null,null,null,null,3,5,2]
[null,null,null,null,null,null,null,null,null,null,3,6,2]
[null,null,null,null,null,null,null,null,null,null,3,6,2]
[null,null,null,null,null,null,null,null,null,null,3,6,2]
[null,null,null,null,null,null,null,null,null,null,3,6,2]
[null,null,null,null,null,null,null,null,null,null,3,6,2]
[null,null,null,null,null,null,null,null,null,null,3,6,2]
[null,null,null,null,null,null,null,null,null,null,3,6,2]
[null,null,null,null,null,null,null,null,null,null,3,6,2]
[null,null,null,null,null,null,null,null,null,null,3,7,2]
[null,null,null,null,null,null,null,null,null,null,3,7,2]
[null,null,null,null,null,null,null,null,null,null,3,7,2]
[null,null,null,null,null,null,null,null,null,null,3,7,3]
[null,null,null,null,null,null,null,null,null,null,4,7,3]
[null,null,null,null,null,null,null,null,null,null,4,7,3]
[null,null,null,null,null,null,null,null,null,null,4,7,3]
[null,null,null,null,null,null,null,null,null,null,4,8,3]
[null,null,null,null,null,null,null,null,null,null,4,8,3]
[null,null,null,null,null,null,null,null,null,null,4,8,3]
[null,null,null,null,null,null,null,null,null,null,4,8,3]
[null,null,null,null,null,null,null,null,null,null,4,8,3]
[null,null,null,null,null,null,null,null,null,null,4,9,3]
[null,null,null,null,null,null,null,null,null,null,4,9,3]
[null,null,null,null,null,null,null,null,null,null,4,9,3]
[null,null,null,null,null,null,null,null,null,null,4,10,3]
[null,null,null,null,null,null,null,null,null,null,4,10,3]
[null,null,null,null,null,null,null,null,null,null,4,10,3]
[null,null,null,null,null,null,null,null,null,null,4,11,3]
[null,null,null,null,null,null,null,null,null,null,4,11,3]
[null,null,null,null,null,null,null,null,null,null,4,12,3]
[null,null,null,null,null,null,null,null,null,null,4,12,3]
[null,null,null,null,null,null,null,null,null,null,4,13,3]
[null,null,null,null,null,null,null,null,null,null,4,14,3]
[null,null,null,null,null,null,null,null,null,null,4,15,3]
[null,null,null,null,null,null,null,null,null,null,4,17,3]
[null,null,null,null,null,null,null,null,null,null,4,18,3]
[null,null,null,null,null,null,null,null,null,null,4,21,3]
[null,null,null,null,null,null,null,null,null,null,4,25,3]
[null,null,null,null,null,null,null,null,null,null,4,34,3]
[null,null,null,null,null,null,null,null,null,null,4,null,3]
[null,null,null,null,null,null,null,null,null,null,4,null,3]
[null,null,null,null,null,null,null,null,null,null,4,null,3]
[null,null,null,null,null,null,null,null,null,null,4,null,3]
[null,null,null,null,null,null,null,null,null,null,4,null,3]
[null,null,null,null,null,null,null,null,null,null,4,null,3]
[null,null,null,null,null,null,null,null,null,null,4,null,3]
[null,null,null,null,null,null,null,null,null,null,4,null,3]
[null,null,null,null,null,null,null,null,null,null,4,null,3]
[null,null,null,null,null,null,null,null,null,null,4,null,3]
[null,null,null,null,null,null,null,null,null,null,4,null,3]
[null,null,null,null,null,null,null,null,null,null,4,null,3]
[null,null,null,null,null,null,null,null,null,null,4,null,3]
[null,null,null,null,null,null,null,null,null,null,4,null,3]
[null,null,null,null,null,null,null,null,null,null,4,null,3]
[null,null,null,null,null,null,null,null,null,null,5,null,3]
[null,null,null,null,null,null,null,null,null,null,5,null,3]
[null,null,null,null,null,null,null,null,null,null,5,null,3]
[null,null,null,null,null,null,null,null,null,null,5,null,3]
[null,null,null,null,null,null,null,null,null,null,5,null,3]
[null,null,null,null,null,null,null,null,null,null,5,null,3]
[null,null,null,null,null,null,null,null,null,null,5,null,3]
[null,null,null,null,null,null,null,null,null,null,5,null,3]
[null,null,null,null,null,null,null,null,null,null,5,null,3]
[null,null,null,null,null,null,null,null,null,null,5,null,3]
[null,null,null,null,null,null,null,null,null,null,5,null,3]
[null,null,null,null,null,null,null,null,null,null,5,null,3]
[null,null,null,null,null,null,null,null,null,null,5,null,3]
[null,null,null,null,null,null,null,null,null,null,5,null,3]
[null,null,null,null,null,null,null,null,null,null,5,null,3]
[null,null,null,null,null,null,null,null,null,null,5,null,3]
[null,null,null,null,null,null,null,null,null,null,5,null,3]
[null,null,null,null,null,null,null,null,null,null,5,null,3]
[null,null,null,null,null,null,null,null,null,null,5,null,3]
[null,null,null,null,null,null,null,null,null,null,5,null,3]
[null,null,null,null,null,null,null,null,null,null,5,null,3]
[null,null,null,null,null,null,null,null,null,null,5,null,3]
[null,null,null,null,null,null,null,null,null,null,5,null,3]
[null,null,null,null,null,null,null,null,null,null,5,null,3]
[null,null,null,null,null,null,null,null,null,null,5,null,4]
[null,null,null,null,null,null,null,null,null,null,5,null,4]
[null,null,null,null,null,null,null,null,null,null,5,null,4]
[null,null,null,null,null,null,null,null,null,null,5,null,4]
[null,null,null,null,null,null,null,null,null,null,5,null,4]
[null,null,null,null,null,null,null,null,null,null,5,null,4]
[null,null,null,null,null,null,null,null,null,null,5,null,4]
[null,null,null,null,null,null,null,null,null,null,6,null,4]
[null,null,null,null,null,null,null,null,null,null,6,null,4]
[null,null,null,null,null,null,null,null,null,null,6,null,4]
[null,null,null,null,null,null,null,null,null,null,6,null,4]
[null,null,null,null,null,null,null,null,null,null,6,null,4]
[null,null,null,null,null,null,null,null,null,null,6,null,4]
[null,null,null,null,null,null,null,null,null,null,6,null,4]
[null,null,null,null,null,null,null,null,null,null,6,null,4]
[null,null,null,null,null,null,null,null,null,null,6,null,4]
[null,null,null,null,null,null,null,null,null,null,6,null,4]
[null,null,null,null,null,null,null,null,null,null,6,null,4]
[null,null,null,null,null,null,null,null,null,null,6,null,4]
[null,null,null,null,null,null,null,null,null,null,6,null,4]
[null,null,null,null,null,null,null,null,null,null,6,null,4]
[null,null,null,null,null,null,null,null,null,null,6,null,4]
[null,null,null,null,null,null,null,null,null,null,6,null,4]
[null,null,null,null,null,null,null,null,null,null,6,null,4]
[null,null,null,null,null,null,null,null,null,null,6,null,4]
[null,null,null,null,null,null,null,null,null,null,6,null,4]
[null,null,null,null,null,null,null,null,null,null,6,null,4]
[null,null,null,null,null,null,null,null,null,null,6,null,4]
[null,null,null,null,null,null,null,null,null,null,7,null,4]
[null,null,null,null,null,null,null,null,null,null,7,null,4]
[null,null,null,null,null,null,null,null,null,null,7,null,4]
[null,null,null,null,null,null,null,null,null,null,7,null,4]
[null,null,null,null,null,null,null,null,null,null,7,null,4]
[null,null,null,null,null,null,null,null,null,null,7,null,4]
[null,null,null,null,null,null,null,null,null,null,7,null,4]
[null,null,null,null,null,null,null,null,null,null,7,null,4]
[null,null,null,null,null,null,null,null,null,null,7,null,4]
[null,null,null,null,null,null,null,null,null,null,7,null,4]
[null,null,null,null,null,null,null,null,null,null,7,null,4]
[null,null,null,null,null,null,null,null,null,null,7,null,4]
[null,null,null,null,null,null,null,null,null,null,7,null,4]
[null,null,null,null,null,null,null,null,null,null,7,null,4]
[null,null,null,null,null,null,null,null,null,null,7,null,4]
[null,null,null,null,null,null,null,null,null,null,7,null,4]
[null,null,null,null,null,null,null,null,null,null,8,null,4]
[null,null,null,null,null,null,null,null,null,null,8,null,4]
[null,null,null,null,null,null,null,null,null,null,8,null,4]
[null,null,null,null,null,null,null,null,null,null,8,null,4]
[null,null,null,null,null,null,null,null,null,null,8,null,4]
[null,null,null,null,null,null,null,null,null,null,8,null,4]
[null,null,null,null,null,null,null,null,null,null,8,null,4]
[null,null,null,null,null,null,null,null,null,null,8,null,4]
[null,null,null,null,null,null,null,null,null,null,8,null,4]
[null,null,null,null,null,null,null,null,null,null,8,null,4]
[null,null,null,null,null,null,null,null,null,null,9,null,4]
[null,null,null,null,null,null,null,null,null,null,9,null,4]
[null,null,null,null,null,null,null,null,null,null,9,null,5]
[null,null,null,null,null,null,null,null,null,null,9,null,5]
[null,null,null,null,null,null,null,null,null,null,9,null,5]
[null,null,null,null,null,null,null,null,null,null,9,null,5]
[null,null,null,null,null,null,null,null,null,null,9,null,5]
[null,null,null,null,null,null,null,null,null,null,9,null,5]
[null,null,null,null,null,null,null,null,null,null,10,null,5]
[null,null,null,null,null,null,null,null,null,null,10,null,5]
[null,null,null,null,null,null,null,null,null,null,10,null,5]
[null,null,null,null,null,null,null,null,null,null,10,null,5]
[null,null,null,null,null,null,null,null,null,null,10,null,5]
[null,null,null,null,null,null,null,null,null,null,10,null,5]
[null,null,null,null,null,null,null,null,null,null,11,null,5]
[null,null,null,null,null,null,null,null,null,null,11,null,5]
[null,null,null,null,null,null,null,null,null,null,11,null,5]
[null,null,null,null,null,null,null,null,null,null,12,null,5]
[null,null,null,null,null,null,null,null,null,null,12,null,5]
[null,null,null,null,null,null,null,null,null,null,12,null,5]
[null,null,null,null,null,null,null,null,null,null,12,null,5]
[null,null,null,null,null,null,null,null,null,null,13,null,5]
[null,null,null,null,null,null,null,null,null,null,13,null,5]
[null,null,null,null,null,null,null,null,null,null,13,null,5]
[null,null,null,null,null,null,null,null,null,null,14,null,5]
[null,null,null,null,null,null,null,null,null,null,14,null,5]
[null,null,null,null,null,null,null,null,null,null,15,null,5]
[null,null,null,null,null,null,null,null,null,null,15,null,5]
[null,null,null,null,null,null,null,null,null,null,16,null,5]
[null,null,null,null,null,null,null,null,null,null,16,null,5]
[null,null,null,null,null,null,null,null,null,null,17,null,5]
[null,null,null,null,null,null,null,null,null,null,18,null,5]
[null,null,null,null,null,null,null,null,null,null,18,null,5]
[null,null,null,null,null,null,null,null,null,null,19,null,5]
[null,null,null,null,null,null,null,null,null,null,22,null,5]
[null,null,null,null,null,null,null,null,null,null,22,null,5]
[null,null,null,null,null,null,null,null,null,null,25,null,5]
[null,null,null,null,null,null,null,null,null,null,25,null,5]
[null,null,null,null,null,null,null,null,null,null,28,null,5]
[null,null,null,null,null,null,null,null,null,null,31,null,5]
[null,null,null,null,null,null,null,null,null,null,34,null,5]
[null,null,null,null,null,null,null,null,null,null,41,null,5]
[null,null,null,null,null,null,null,null,null,null,null,null,5]
[null,null,null,null,null,null,null,null,null,null,null,null,5]
[null,null,null,null,null,null,null,null,null,null,null,null,5]
[null,null,null,null,null,null,null,null,null,null,null,null,5]
[null,null,null,null,null,null,null,null,null,null,null,null,6]
[null,null,null,null,null,null,null,null,null,null,null,null,6]
[null,null,null,null,null,null,null,null,null,null,null,null,6]
[null,null,null,null,null,null,null,null,null,null,null,null,6]
[null,null,null,null,null,null,null,null,null,null,null,null,6]
[null,null,null,null,null,null,null,null,null,null,null,null,6]
[null,null,null,null,null,null,null,null,null,null,null,null,6]
[null,null,null,null,null,null,null,null,null,null,null,null,6]
[null,null,null,null,null,null,null,null,null,null,null,null,6]
[null,null,null,null,null,null,null,null,null,null,null,null,6]
[null,null,null,null,null,null,null,null,null,null,null,null,6]
[null,null,null,null,null,null,null,null,null,null,null,null,6]
[null,null,null,null,null,null,null,null,null,null,null,null,6]
[null,null,null,null,null,null,null,null,null,null,null,null,6]
[null,null,null,null,null,null,null,null,null,null,null,null,6]
[null,null,null,null,null,null,null,null,null,null,null,null,6]
[null,null,null,null,null,null,null,null,null,null,null,null,6]
[null,null,null,null,null,null,null,null,null,null,null,null,6]
[null,null,null,null,null,null,null,null,null,null,null,null,6]
[null,null,null,null,null,null,null,null,null,null,null,null,6]
[null,null,null,null,null,null,null,null,null,null,null,null,6]
[null,null,null,null,null,null,null,null,null,null,null,null,6]
[null,null,null,null,null,null,null,null,null,null,null,null,6]
[null,null,null,null,null,null,null,null,null,null,null,null,6]
[null,null,null,null,null,null,null,null,null,null,null,null,6]
[null,null,null,null,null,null,null,null,null,null,null,null,6]
[null,null,null,null,null,null,null,null,null,null,null,null,6]
[null,null,null,null,null,null,null,null,null,null,null,null,6]
[null,null,null,null,null,null,null,null,null,null,null,null,6]
[null,null,null,null,null,null,null,null,null,null,null,null,6]
[null,null,null,null,null,null,null,null,null,null,null,null,7]
[null,null,null,null,null,null,null,null,null,null,null,null,7]
[null,null,null,null,null,null,null,null,null,null,null,null,7]
[null,null,null,null,null,null,null,null,null,null,null,null,7]
[null,null,null,null,null,null,null,null,null,null,null,null,7]
[null,null,null,null,null,null,null,null,null,null,null,null,7]
[null,null,null,null,null,null,null,null,null,null,null,null,7]
[null,null,null,null,null,null,null,null,null,null,null,null,7]
[null,null,null,null,null,null,null,null,null,null,null,null,7]
[null,null,null,null,null,null,null,null,null,null,null,null,7]
[null,null,null,null,null,null,null,null,null,null,null,null,7]
[null,null,null,null,null,null,null,null,null,null,null,null,7]
[null,null,null,null,null,null,null,null,null,null,null,null,7]
[null,null,null,null,null,null,null,null,null,null,null,null,7]
[null,null,null,null,null,null,null,null,null,null,null,null,7]
[null,null,null,null,null,null,null,null,null,null,null,null,7]
[null,null,null,null,null,null,null,null,null,null,null,null,7]
[null,null,null,null,null,null,null,null,null,null,null,null,7]
[null,null,null,null,null,null,null,null,null,null,null,null,7]
[null,null,null,null,null,null,null,null,null,null,null,null,7]
[null,null,null,null,null,null,null,null,null,null,null,null,7]
[null,null,null,null,null,null,null,null,null,null,null,null,7]
[null,null,null,null,null,null,null,null,null,null,null,null,7]
[null,null,null,null,null,null,null,null,null,null,null,null,7]
[null,null,null,null,null,null,null,null,null,null,null,null,8]
[null,null,null,null,null,null,null,null,null,null,null,null,8]
[null,null,null,null,null,null,null,null,null,null,null,null,8]
[null,null,null,null,null,null,null,null,null,null,null,null,8]
[null,null,null,null,null,null,null,null,null,null,null,null,8]
[null,null,null,null,null,null,null,null,null,null,null,null,8]
[null,null,null,null,null,null,null,null,null,null,null,null,8]
[null,null,null,null,null,null,null,null,null,null,null,null,8]
[null,null,null,null,null,null,null,null,null,null,null,null,8]
[null,null,null,null,null,null,null,null,null,null,null,null,8]
[null,null,null,null,null,null,null,null,null,null,null,null,8]
[null,null,null,null,null,null,null,null,null,null,null,null,8]
[null,null,null,null,null,null,null,null,null,null,null,null,8]
[null,null,null,null,null,null,null,null,null,null,null,null,8]
[null,null,null,null,null,null,null,null,null,null,null,null,8]
[null,null,null,null,null,null,null,null,null,null,null,null,8]
[null,null,null,null,null,null,null,null,null,null,null,null,8]
[null,null,null,null,null,null,null,null,null,null,null,null,9]
[null,null,null,null,null,null,null,null,null,null,null,null,9]
[null,null,null,null,null,null,null,null,null,null,null,null,9]
[null,null,null,null,null,null,null,null,null,null,null,null,9]
[null,null,null,null,null,null,null,null,null,null,null,null,9]
[null,null,null,null,null,null,null,null,null,null,null,null,9]
[null,null,null,null,null,null,null,null,null,null,null,null,9]
[null,null,null,null,null,null,null,null,null,null,null,null,9]
[null,null,null,null,null,null,null,null,null,null,null,null,9]
[null,null,null,null,null,null,null,null,null,null,null,null,9]
[null,null,null,null,null,null,null,null,null,null,null,null,9]
[null,null,null,null,null,null,null,null,null,null,null,null,9]
[null,null,null,null,null,null,null,null,null,null,null,null,10]
[null,null,null,null,null,null,null,null,null,null,null,null,10]
[null,null,null,null,null,null,null,null,null,null,null,null,10]
[null,null,null,null,null,null,null,null,null,null,null,null,10]
[null,null,null,null,null,null,null,null,null,null,null,null,10]
[null,null,null,null,null,null,null,null,null,null,null,null,10]
[null,null,null,null,null,null,null,null,null,null,null,null,10]
[null,null,null,null,null,null,null,null,null,null,null,null,10]
[null,null,null,null,null,null,null,null,null,null,null,null,11]
[null,null,null,null,null,null,null,null,null,null,null,null,11]
[null,null,null,null,null,null,null,null,null,null,null,null,11]
[null,null,null,null,null,null,null,null,null,null,null,null,11]
[null,null,null,null,null,null,null,null,null,null,null,null,11]
[null,null,null,null,null,null,null,null,null,null,null,null,11]
[null,null,null,null,null,null,null,null,null,null,null,null,11]
[null,null,null,null,null,null,null,null,null,null,null,null,12]
[null,null,null,null,null,null,null,null,null,null,null,null,12]
[null,null,null,null,null,null,null,null,null,null,null,null,12]
[null,null,null,null,null,null,null,null,null,null,null,null,12]
[null,null,null,null,null,null,null,null,null,null,null,null,12]
[null,null,null,null,null,null,null,null,null,null,null,null,12]
[null,null,null,null,null,null,null,null,null,null,null,null,13]
[null,null,null,null,null,null,null,null,null,null,null,null,13]
[null,null,null,null,null,null,null,null,null,null,null,null,13]
[null,null,null,null,null,null,null,null,null,null,null,null,13]
[null,null,null,null,null,null,null,null,null,null,null,null,13]
[null,null,null,null,null,null,null,null,null,null,null,null,14]
[null,null,null,null,null,null,null,null,null,null,null,null,14]
[null,null,null,null,null,null,null,null,null,null,null,null,14]
[null,null,null,null,null,null,null,null,null,null,null,null,14]
[null,null,null,null,null,null,null,null,null,null,null,null,15]
[null,null,null,null,null,null,null,null,null,null,null,null,15]
[null,null,null,null,null,null,null,null,null,null,null,null,15]
[null,null,null,null,null,null,null,null,null,null,null,null,16]
[null,null,null,null,null,null,null,null,null,null,null,null,16]
[null,null,null,null,null,null,null,null,null,null,null,null,16]
[null,null,null,null,null,null,null,null,null,null,null,null,17]
[null,null,null,null,null,null,null,null,null,null,null,null,17]
[null,null,null,null,null,null,null,null,null,null,null,null,18]
[null,null,null,null,null,null,null,null,null,null,null,null,18]
[null,null,null,null,null,null,null,null,null,null,null,null,19]
[null,null,null,null,null,null,null,null,null,null,null,null,19]
[null,null,null,null,null,null,null,null,null,null,null,null,21]
[null,null,null,null,null,null,null,null,null,null,null,null,21]
[null,null,null,null,null,null,null,null,null,null,null,null,22]
[null,null,null,null,null,null,null,null,null,null,null,null,23]
[null,null,null,null,null,null,null,null,null,null,null,null,24]
[null,null,null,null,null,null,null,null,null,null,null,null,25]
[null,null,null,null,null,null,null,null,null,null,null,null,26]
[null,null,null,null,null,null,null,null,null,null,null,null,27]
[null,null,null,null,null,null,null,null,null,null,null,null,28]
[null,null,null,null,null,null,null,null,null,null,null,null,30]
[null,null,null,null,null,null,null,null,null,null,null,null,32]
[null,null,null,null,null,null,null,null,null,null,null,null,34]
[null,null,null,null,null,null,null,null,null,null,null,null,43]
[null,null,null,null,null,null,null,null,null,null,null,null,43]
[null,null,null,null,null,null,null,null,null,null,null,null,43]
[null,null,null,null,null,null,null,null,null,null,null,null,43]
[null,null,null,null,null,null,null,null,null,null,null,null,43]
[null,null,null,null,null,null,null,null,null,null,null,null,43]
[null,null,null,null,null,null,null,null,null,null,null,null,43]
[null,null,null,null,null,null,null,null,null,null,null,null,43]
[null,null,null,null,null,null,null,null,null,null,null,null,43]
[null,null,null,null,null,null,null,null,null,null,null,null,43]
[null,null,null,null,null,null,null,null,null,null,null,null,44]
[null,null,null,null,null,null,null,null,null,null,null,null,44]
[null,null,null,null,null,null,null,null,null,null,null,null,44]
[null,null,null,null,null,null,null,null,null,null,null,null,44]
[null,null,null,null,null,null,null,null,null,null,null,null,44]
[null,null,null,null,null,null,null,null,null,null,null,null,44]
[null,null,null,null,null,null,null,null,null,null,null,null,44]
[null,null,null,null,null,null,null,null,null,null,null,null,44]
[null,null,null,null,null,null,null,null,null,null,null,null,45]
[null,null,null,null,null,null,null,null,null,null,null,null,45]
[null,null,null,null,null,null,null,null,null,null,null,null,45]
[null,null,null,null,null,null,null,null,null,null,null,null,45]
[null,null,null,null,null,null,null,null,null,null,null,null,45]
[null,null,null,null,null,null,null,null,null,null,null,null,45]
[null,null,null,null,null,null,null,null,null,null,null,null,45]
[null,null,null,null,null,null,null,null,null,null,null,null,45]
[null,null,null,null,null,null,null,null,null,null,null,null,45]
[null,null,null,null,null,null,null,null,null,null,null,null,45]
[null,null,null,null,null,null,null,null,null,null,null,null,45]
[null,null,null,null,null,null,null,null,null,null,null,null,46]
[null,null,null,null,null,null,null,null,null,null,null,null,46]
[null,null,null,null,null,null,null,null,null,null,null,null,46]
[null,null,null,null,null,null,null,null,null,null,null,null,46]
[null,null,null,null,null,null,null,null,null,null,null,null,46]
[null,null,null,null,null,null,null,null,null,null,null,null,46]
[null,null,null,null,null,null,null,null,null,null,null,null,47]
[null,null,null,null,null,null,null,null,null,null,null,null,47]
[null,null,null,null,null,null,null,null,null,null,null,null,47]
[null,null,null,null,null,null,null,null,null,null,null,null,47]
[null,null,null,null,null,null,null,null,null,null,null,null,47]
[null,null,null,null,null,null,null,null,null,null,null,null,47]
[null,null,null,null,null,null,null,null,null,null,null,null,48]
[null,null,null,null,null,null,null,null,null,null,null,null,48]
[null,null,null,null,null,null,null,null,null,null,null,null,48]
[null,null,null,null,null,null,null,null,null,null,null,null,48]
[null,null,null,null,null,null,null,null,null,null,null,null,48]
[null,null,null,null,null,null,null,null,null,null,null,null,48]
[null,null,null,null,null,null,null,null,null,null,null,null,49]
[null,null,null,null,null,null,null,null,null,null,null,null,49]
[null,null,null,null,null,null,null,null,null,null,null,null,49]
[null,null,null,null,null,null,null,null,null,null,null,null,49]
[null,null,null,null,null,null,null,null,null,null,null,null,50]
[null,null,null,null,null,null,null,null,null,null,null,null,50]
[null,null,null,null,null,null,null,null,null,null,null,null,50]
[null,null,null,null,null,null,null,null,null,null,null,null,50]
[null,null,null,null,null,null,null,null,null,null,null,null,50]
[null,null,null,null,null,null,null,null,null,null,null,null,50]
[null,null,null,null,null,null,null,null,null,null,null,null,50]
[null,null,null,null,null,null,null,null,null,null,null,null,50]
[null,null,null,null,null,null,null,null,null,null,null,null,50]
[null,null,null,null,null,null,null,null,null,null,null,null,50]
[null,null,null,null,null,null,null,null,null,null,null,null,50]
[null,null,null,null,null,null,null,null,null,null,null,null,51]
[null,null,null,null,null,null,null,null,null,null,null,null,52]
[null,null,null,null,null,null,null,null,null,null,null,null,52]
[null,null,null,null,null,null,null,null,null,null,null,null,52]
[null,null,null,null,null,null,null,null,null,null,null,null,52]
[null,null,null,null,null,null,null,null,null,null,null,null,52]
[null,null,null,null,null,null,null,null,null,null,null,null,52]
[null,null,null,null,null,null,null,null,null,null,null,null,52]
[null,null,null,null,null,null,null,null,null,null,null,null,52]
[null,null,null,null,null,null,null,null,null,null,null,null,52]
[null,null,null,null,null,null,null,null,null,null,null,null,53]
[null,null,null,null,null,null,null,null,null,null,null,null,53]
[null,null,null,null,null,null,null,null,null,null,null,null,53]
[null,null,null,null,null,null,null,null,null,null,null,null,53]
[null,null,null,null,null,null,null,null,null,null,null,null,54]
[null,null,null,null,null,null,null,null,null,null,null,null,54]
[null,null,null,null,null,null,null,null,null,null,null,null,54]
[null,null,null,null,null,null,null,null,null,null,null,null,56]
[null,null,null,null,null,null,null,null,null,null,null,null,56]
[null,null,null,null,null,null,null,null,null,null,null,null,56]
[null,null,null,null,null,null,null,null,null,null,null,null,56]
[null,null,null,null,null,null,null,null,null,null,null,null,57]
[null,null,null,null,null,null,null,null,null,null,null,null,57]
[null,null,null,null,null,null,null,null,null,null,null,null,57]
[null,null,null,null,null,null,null,null,null,null,null,null,57]
[null,null,null,null,null,null,null,null,null,null,null,null,58]
[null,null,null,null,null,null,null,null,null,null,null,null,58]
[null,null,null,null,null,null,null,null,null,null,null,null,59]
[null,null,null,null,null,null,null,null,null,null,null,null,59]
[null,null,null,null,null,null,null,null,null,null,null,null,59]
[null,null,null,null,null,null,null,null,null,null,null,null,59]
[null,null,null,null,null,null,null,null,null,null,null,null,60]
[null,null,null,null,null,null,null,null,null,null,null,null,60]
[null,null,null,null,null,null,null,null,null,null,null,null,60]
[null,null,null,null,null,null,null,null,null,null,null,null,64]
[null,null,null,null,null,null,null,null,null,null,null,null,64]
[null,null,null,null,null,null,null,null,null,null,null,null,65]
[null,null,null,null,null,null,null,null,null,null,null,null,66]
[null,null,null,null,null,null,null,null,null,null,null,null,66]
[null,null,null,null,null,null,null,null,null,null,null,null,68]
[null,null,null,null,null,null,null,null,null,null,null,null,68]
[null,null,null,null,null,null,null,null,null,null,null,null,68]
[null,null,null,null,null,null,null,null,null,null,null,null,68]
[null,null,null,null,null,null,null,null,null,null,null,null,69]
[null,null,null,null,null,null,null,null,null,null,null,null,69]
[null,null,null,null,null,null,null,null,null,null,null,null,72]
[null,null,null,null,null,null,null,null,null,null,null,null,72]
[null,null,null,null,null,null,null,null,null,null,null,null,73]
[null,null,null,null,null,null,null,null,null,null,null,null,74]
[null,null,null,null,null,null,null,null,null,null,null,null,76]
[null,null,null,null,null,null,null,null,null,null,null,null,76]
[null,null,null,null,null,null,null,null,null,null,null,null,79]
[null,null,null,null,null,null,null,null,null,null,null,null,79]
[null,null,null,null,null,null,null,null,null,null,null,null,80]
[null,null,null,null,null,null,null,null,null,null,null,null,81]
[null,null,null,null,null,null,null,null,null,null,null,null,81]
[null,null,null,null,null,null,null,null,null,null,null,null,82]
[null,null,null,null,null,null,null,null,null,null,null,null,82]
[null,null,null,null,null,null,null,null,null,null,null,null,87]
[null,null,null,null,null,null,null,null,null,null,null,null,88]
[null,null,null,null,null,null,null,null,null,null,null,null,94]
[null,null,null,null,null,null,null,null,null,null,null,null,96]
[null,null,null,null,null,null,null,null,null,null,null,null,108]
[null,null,null,null,null,null,null,null,null,null,null,null,122]