{"text_format":"1","workbook":"xlsx","n_sheets":9,"sheets":["Introduction","Diesel Idle Reduction","internalIdle","EmissionsSumm","ChangeLog","RatesLookup","RatesSummary","NationalDefaultActivity","BatteryAPU"],"not_rendered":{"charts":0,"images":3,"macros":1,"external_links":2,"defined_names":33,"comments":0,"pivot_tables":0},"unopened":[],"bounds":{"document_bytes":16777216,"sheet_cells":100000,"rows_first":2000,"rows_last":500,"rows_between":2000,"halvings":0,"cell_chars":16384,"cell_head_chars":4096},"cells_cut":0,"cells_raw":0,"read":"whole","date_system":"1900"}

{"sheet":"Introduction","index":0,"n_rows":22,"n_cols":11,"rows_kept":22,"cut":false,"hidden":false,"merged":[[8,0,8,11],[9,1,11,10],[13,1,17,10],[21,10,21,11],[3,9,3,10]]}
[]
[]
[null,null,null,null,null,null,null,null,null,"Questions or Feedback?"]
[null,null,null,null,null,null,null,null,null,"CMAQ_toolkit_help@dot.gov"]
[]
[]
[]
[]
["Diesel Idle Reduction Technologies"]
[null,"This tool provides estimates of emission reductions for CMAQ-funded projects that reduce emissions from long-haul combination trucks by implementing an idle reduction technology or altering the hours of extended idle activity. "]
[]
[]
[]
[null,"The tool uses emission rates based on national-scale EPA MOVES model runs, as well as rates derived from Argonne National Laboratory resources. Emission estimates from tools in the CMAQ Toolkit are not intended for use in State Implementation Plans (SIPs) or transportation conformity analyses and do not meet the same requirements necessary for SIP and conformity reporting. "]
[]
[]
[]
[]
[]
[]
[]
[null,null,null,null,null,null,null,null,null,"Version date:","2022-07-01"]

{"sheet":"Diesel Idle Reduction","index":1,"n_rows":66,"n_cols":11,"rows_kept":66,"cut":false,"hidden":false,"merged":[[65,4,65,8],[2,0,3,0],[4,0,7,0],[17,2,22,5],[46,6,46,7],[44,6,44,7],[45,6,45,7],[34,2,37,4],[24,2,25,2],[39,1,40,11],[45,10,45,11],[44,2,46,4],[41,3,41,6],[57,4,57,6],[62,4,62,6],[62,7,62,8],[62,9,63,11],[64,4,64,6],[64,7,64,8],[63,4,63,6],[63,7,63,8],[60,7,60,8],[60,4,60,6],[19,7,21,10],[22,7,23,10],[58,4,58,6],[59,4,59,6],[59,7,59,8],[55,7,55,8],[58,7,58,8],[56,7,56,8],[57,7,57,8],[55,4,55,6],[56,4,56,6],[0,1,0,11],[1,1,1,11],[4,1,5,11],[2,1,3,11],[11,2,16,4]]}
[null,"Diesel Idle Reduction Technologies"]
[null,"This calculator will estimate the reduction in emissions resulting from use of idle reduction methods, including diesel and battery auxiliary power units (APU), direct-fired (D-F) heaters, truck stop electrification (TSE), and engine-off idling. This tool is specific to long-haul combination trucks."]
["Navigator","INPUT"]
[]
[{"$f":"HYPERLINK(\"#'Diesel Idle Reduction'!A1\", \"Diesel Idle Reduction\")","v":"Diesel Idle Reduction"},"Note: Inputs for this tool should be specific to the vehicles for which idle reduction method(s) will be applied."]
[]
[]
[]
[null,null,"(1) What is your project evaluation year?",null,null,null,2022]
[]
[null,null,null,null,null,null,null,null,"ACTIVITY CALCULATOR (optional)"]
[null,null,"(2) What type of activity data will you provide for the project? Please select either operating hours or truck population and input annual activity. You may use the optional Activity Calculator to the right to determine activity by model year group based on national defaults (for use in Question 3). ",null,null,null,null,null,"Model Year Group","Default Activity"]
[null,null,null,null,null,null,null,null,"2006 or earlier",{"$f":"NationalDefaultActivity!S33","v":2292.7223454445475}]
[null,null,null,null,null,null,null,null,"2007-2009",{"$f":"NationalDefaultActivity!S34","v":1553.1262829022894}]
[null,null,null,null,null,null,"Annual Activity",null,"2010-2012",{"$f":"NationalDefaultActivity!S35","v":2293.8181482175828}]
[null,null,null,null,null,null,28224,"hours or trucks","2013-2020",{"$f":"NationalDefaultActivity!S36","v":17582.724889291621}]
[null,null,null,null,null,null,null,null,"2021-2023",{"$f":"NationalDefaultActivity!S37","v":4501.6083341439589}]
[null,null,"(3) Use the check boxes to select the types of hotelling operating mode(s) associated with the project. Populate the table with annual activity by model year group. If you are providing activity in terms of operating hours, please provide data for the entire fleet, not per truck.",null,null,null,null,null,"2024-2050",{"$f":"NationalDefaultActivity!S38","v":0}]
[]
[null,null,null,null,null,null,null,"NOTE: Use the \"Fill with Default Activity Distribution\" button to use the default activity from the calculator. If splitting the activity between hotelling operating modes, enter the activity manually."]
[]
[]
[null,null,null,null,null,null,null,"NOTE: Select the \"Check Hotelling Activity Distribution\" button before proceeding to Q4. "]
[]
[null,null,"Model Year Group","Diesel APU","Battery APU","D-F Heater","TSE","Engine-off","Extended Idle"]
[]
[null,null,"2006 or earlier",null,null,null,null,2292.7223454445475]
[null,null,"2007-2009",null,null,null,null,1553.1262829022894]
[null,null,"2010-2012",null,null,null,null,2293.8181482175828]
[null,null,"2013-2020",null,null,null,null,17582.724889291621]
[null,null,"2021-2023",null,null,null,null,4501.6083341439589]
[null,null,"2024-2050",null,null,null,null,0]
[null,null,"TOTAL",{"$f":"SUM(D27:D32)","v":0},{"$f":"SUM(E27:E32)","v":0},0,0,{"$f":"SUM(H27:H32)","v":28224},0]
[]
[null,null,"(4) Indicate what annualization to apply to the analysis: default (365 days) or your own value. The annualization indicates the number of days per year that the project will operate."]
[null,null,null,null,null,null,null,null,252,"days"]
[]
[]
[]
[null,"OUTPUT"]
[]
[null,"FLEET PERFORMANCE"]
[]
[null,null,null,null,null,"Metric"]
[null,null,"Annual Activity for Idle Reduction Project",null,null,{"$f":"internalIdle!J19","v":22579.199999999997},"Total Hotelling Hours"]
[null,null,null,null,null,{"$f":"internalIdle!J21","v":28224},"Number of Hours Operated",null,null,"Last Updated:",{"$f":"NOW()","v":"2023-03-13T11:42:07.600"}]
[null,null,null,null,null,{"$f":"internalIdle!J20","v":3135999.9999999995},"Total Vehicle Miles Travelled"]
[null,null,null,null,null,"Pollutant"]
[null,null,null,"Emissions Benefit for Retrofit (%)",null,"Carbon Monoxide (CO)"]
[null,null,null,null,null,"Particulate Matter <10 μm (PM10)"]
[null,null,null,null,null,"Particulate Matter <2.5 μm (PM2.5)"]
[null,null,null,null,null,"Nitrogen Oxide (NOx)"]
[null,null,null,null,null,"Volatile Organic Compounds (VOC)"]
[]
[null,"EMISSION REDUCTIONS"]
[null,null,null,null,"Pollutant",null,null,"Total\nkg/day"]
[null,null,null,null,"Carbon Monoxide (CO)",null,null,{"$f":"EmissionsSumm!C18","v":3.7161044268244519}]
[null,null,null,null,"Particulate Matter <2.5 μm (PM2.5)",null,null,{"$f":"EmissionsSumm!D18","v":8.9121062097148318E-2}]
[null,null,null,null,"Particulate Matter <10 μm (PM10)",null,null,{"$f":"EmissionsSumm!E18","v":9.6870999490505524E-2}]
[null,null,null,null,"Nitrogen Oxides (NOx)",null,null,{"$f":"EmissionsSumm!F18","v":5.4453367129497492}]
[null,null,null,null,"Volatile Organic Compounds (VOC)",null,null,{"$f":"EmissionsSumm!G18","v":0.4598997866855401}]
[]
[null,null,null,null,"Carbon Dioxide CO2 (kg/day)",null,null,{"$f":"EmissionsSumm!H18","v":660.40056220105191}]
[null,null,null,null,"Carbon Dioxide Equivalent, CO2e (kg/day)",null,null,{"$f":"EmissionsSumm!J18","v":662.24538993587612}]
[null,null,null,null,"Total Energy Consumption (MMBTU/day)",null,null,{"$f":"EmissionsSumm!I18","v":8.4975472601778979}]
[null,null,null,null,"Note CO2, CO2e and Total Energy Consumption not calculated for projects with direct-fired heaters."]

{"sheet":"internalIdle","index":2,"n_rows":65,"n_cols":11,"rows_kept":65,"cut":false,"hidden":true,"merged":[]}
[]
[null,"Idle Type","Diesel APU",false]
[null,null,"Battery APU",false,null,"Hotelling to VMT",7.1999999999999998E-3,"hours/mile"]
[null,null,"Direct-fired Heater",false]
[null,null,"TSE",false]
[null,null,"Engine-off",true,null,null,{"$f":"G3*10/8","v":8.9999999999999993E-3}]
[null,null,"Extended Idle",false]
[null,null,null,null,null,null,{"$f":"1/G6","v":111.11111111111111}]
[null,"Activity Metric",1]
[]
[null,null,"1 =  operating hours / 2  = truck population",null,null,"Project Evaluation Year"]
[null,null,null,null,null,{"$f":"'Diesel Idle Reduction'!G9","v":2022}]
[null,"Annual Activity Input",{"$f":"'Diesel Idle Reduction'!G16","v":28224},null,null,null,null,null,{"$f":"365*24","v":8760}]
[]
[]
[null,"Activity Distribution"]
[]
[null,{"$f":"'Diesel Idle Reduction'!C25","v":"Model Year Group"},"Diesel APU","Battery APU","D-F Heater","TSE","Engine-off","Extended Idle",null,"TOTAL ACTIVITY"]
[null,{"$f":"'Diesel Idle Reduction'!C27","v":"2006 or earlier"},{"$f":"'Diesel Idle Reduction'!D27","v":0},{"$f":"'Diesel Idle Reduction'!E27","v":0},{"$f":"'Diesel Idle Reduction'!F27","v":0},{"$f":"'Diesel Idle Reduction'!G27","v":0},{"$f":"'Diesel Idle Reduction'!H27","v":2292.7223454445475},{"$f":"'Diesel Idle Reduction'!I27","v":0},null,{"$f":"IF(C9=1, I36,8*I25*IF(internalIdle!C39=1,365,internalIdle!E40))","v":22579.199999999997},"hotelling hours"]
[null,{"$f":"'Diesel Idle Reduction'!C28","v":"2007-2009"},{"$f":"'Diesel Idle Reduction'!D28","v":0},{"$f":"'Diesel Idle Reduction'!E28","v":0},{"$f":"'Diesel Idle Reduction'!F28","v":0},{"$f":"'Diesel Idle Reduction'!G28","v":0},{"$f":"'Diesel Idle Reduction'!H28","v":1553.1262829022894},{"$f":"'Diesel Idle Reduction'!I28","v":0},null,{"$f":"IF(J19>0, J19/G3, 0)","v":3135999.9999999995},"VMT"]
[null,{"$f":"'Diesel Idle Reduction'!C29","v":"2010-2012"},{"$f":"'Diesel Idle Reduction'!D29","v":0},{"$f":"'Diesel Idle Reduction'!E29","v":0},{"$f":"'Diesel Idle Reduction'!F29","v":0},{"$f":"'Diesel Idle Reduction'!G29","v":0},{"$f":"'Diesel Idle Reduction'!H29","v":2293.8181482175828},{"$f":"'Diesel Idle Reduction'!I29","v":0},null,{"$f":"IF(C9=1, I25, J19*10/8)","v":28224},"hours operated"]
[null,{"$f":"'Diesel Idle Reduction'!C30","v":"2013-2020"},{"$f":"'Diesel Idle Reduction'!D30","v":0},{"$f":"'Diesel Idle Reduction'!E30","v":0},{"$f":"'Diesel Idle Reduction'!F30","v":0},{"$f":"'Diesel Idle Reduction'!G30","v":0},{"$f":"'Diesel Idle Reduction'!H30","v":17582.724889291621},{"$f":"'Diesel Idle Reduction'!I30","v":0}]
[null,{"$f":"'Diesel Idle Reduction'!C31","v":"2021-2023"},{"$f":"'Diesel Idle Reduction'!D31","v":0},{"$f":"'Diesel Idle Reduction'!E31","v":0},{"$f":"'Diesel Idle Reduction'!F31","v":0},{"$f":"'Diesel Idle Reduction'!G31","v":0},{"$f":"'Diesel Idle Reduction'!H31","v":4501.6083341439589},{"$f":"'Diesel Idle Reduction'!I31","v":0},null,{"$f":"J21*14","v":395136}]
[null,{"$f":"'Diesel Idle Reduction'!C32","v":"2024-2050"},{"$f":"'Diesel Idle Reduction'!D32","v":0},{"$f":"'Diesel Idle Reduction'!E32","v":0},{"$f":"'Diesel Idle Reduction'!F32","v":0},{"$f":"'Diesel Idle Reduction'!G32","v":0},{"$f":"'Diesel Idle Reduction'!H32","v":0},{"$f":"'Diesel Idle Reduction'!I32","v":0}]
[null,"TOTAL",{"$f":"SUM(C19:C24)","v":0},{"$f":"SUM(D19:D24)","v":0},0,{"$f":"SUM(F19:F24)","v":0},28224,0,{"$f":"SUM(C25:H25)","v":28224}]
[]
[null,"Hotelling Hours"]
[]
[null,"Model Year Group","Diesel APU","Battery APU","D-F Heater","TSE","Engine-off","Extended Idle",null,"Activity for RatesLookup Table"]
[null,"2006 or earlier",{"$f":"IF($C$9=1,C19*8/10,C19*8*IF($C$39=1,365,$E$40))","v":0},{"$f":"IF($C$9=1,D19*8/10,D19*8*IF($C$39=1,365,$E$40))","v":0},0,0,{"$f":"IF($C$9=1,G19*8/10,G19*8*IF($C$39=1,365,$E$40))","v":1834.1778763556381},{"$f":"IF($C$9=1,H19*8/10,H19*8*IF($C$39=1,365,$E$40))","v":0},null,{"$f":"H30","v":0}]
[null,"2007-2009",{"$f":"IF($C$9=1,C20*8/10,C20*8*IF($C$39=1,365,$E$40))","v":0},{"$f":"IF($C$9=1,D20*8/10,D20*8*IF($C$39=1,365,$E$40))","v":0},0,0,1242.5010263218314,0,null,{"$f":"H31","v":0}]
[null,"2010-2012",0,0,0,0,1835.0545185740662,0,null,{"$f":"H32","v":0}]
[null,"2013-2020",{"$f":"IF($C$9=1,C22*8/10,C22*8*IF($C$39=1,365,$E$40))","v":0},{"$f":"IF($C$9=1,D22*8/10,D22*8*IF($C$39=1,365,$E$40))","v":0},0,0,14066.179911433297,0,null,{"$f":"H33","v":0}]
[null,"2021-2023",0,{"$f":"IF($C$9=1,D23*8/10,D23*8*IF($C$39=1,365,$E$40))","v":0},0,0,3601.2866673151671,0,null,0]
[null,"2024-2050",0,0,0,0,0,0,null,0]
[null,"TOTAL",{"$f":"SUM(C30:C35)","v":0},{"$f":"SUM(D30:D35)","v":0},{"$f":"SUM(E30:E35)","v":0},0,22579.199999999997,0,{"$f":"SUM(C36:H36)","v":22579.199999999997},{"$f":"C30","v":0}]
[null,null,null,null,null,null,null,null,null,{"$f":"C31","v":0}]
[null,null,null,null,null,null,"TOTAL HOURS by MY GROUP",null,null,0]
[null,"Annualization",2,null,"User-defined value",null,"2006 or earlier",{"$f":"SUM(C30:H30)","v":1834.1778763556381},null,0]
[null,null,null,null,{"$f":"'Diesel Idle Reduction'!I36","v":252},null,"2007-2009",{"$f":"SUM(C31:H31)","v":1242.5010263218314},null,0]
[null,null,"1 = default / 2 = user-defined",null,null,null,"2010-2012",{"$f":"SUM(C32:H32)","v":1835.0545185740662},null,0]
[null,null,null,null,null,null,"2013-2020",14066.179911433297,null,{"$f":"D30","v":0}]
[null,null,null,null,null,null,"2021-2023",3601.2866673151671,null,0]
[null,null,null,null,null,null,"2024-2050",0,null,0]
[null,null,null,null,null,null,null,null,null,0]
[null,null,null,null,null,null,null,null,null,0]
[null,null,null,null,null,null,null,null,null,0]
[null,null,null,null,null,null,null,null,null,{"$f":"E30","v":0}]
[null,null,null,null,null,null,null,null,null,0]
[null,null,null,null,null,null,null,null,null,0]
[null,null,null,null,null,null,null,null,null,0]
[null,null,null,null,null,null,null,null,null,0]
[null,null,null,null,null,null,null,null,null,0]
[null,null,null,null,null,null,null,null,null,{"$f":"F30","v":0}]
[null,null,null,null,null,null,null,null,null,0]
[null,null,null,null,null,null,null,null,null,0]
[null,null,null,null,null,null,null,null,null,0]
[null,null,null,null,null,null,null,null,null,0]
[null,null,null,null,null,null,null,null,null,0]
[null,null,null,null,null,null,null,null,null,{"$f":"G30","v":1834.1778763556381}]
[null,null,null,null,null,null,null,null,null,1242.5010263218314]
[null,null,null,null,null,null,null,null,null,1835.0545185740662]
[null,null,null,null,null,null,null,null,null,14066.179911433297]
[null,null,null,null,null,null,null,null,null,3601.2866673151671]
[null,null,null,null,null,null,null,null,null,{"$f":"G35","v":0}]

{"sheet":"EmissionsSumm","index":3,"n_rows":23,"n_cols":20,"rows_kept":23,"cut":false,"hidden":true,"merged":[[32,2,32,3],[32,4,32,5]]}
[]
[null,"After Project - All Hotelling Activity Types",null,null,null,null,null,null,null,null,null,"Before Project - 100% Extended Idle"]
[null,"Emissions in grams, all MY groups"]
[null,null,null,null,null,null,null,null,null,null,null,"Emissions rates in g/hr"]
[null,null,"CO","PM2.5","PM10","NOx","VOCs","CO2","TEC","CO2e",null,"MY_GroupID","CO","PM2.5","PM10","NOx","VOCs","CO2","TEC","CO2e"]
[null,"Diesel APU",{"$f":"SUMIFS(RatesLookup!H:H, RatesLookup!C:C, \"2\", RatesLookup!E:E, \"2\")","v":0},{"$f":"SUMIFS(RatesLookup!H:H, RatesLookup!C:C, \"110\", RatesLookup!E:E, \"2\")","v":0},{"$f":"SUMIFS(RatesLookup!H:H, RatesLookup!C:C, \"100\", RatesLookup!E:E, \"2\")","v":0},{"$f":"SUMIFS(RatesLookup!H:H, RatesLookup!C:C, \"3\", RatesLookup!E:E, \"2\")","v":0},{"$f":"SUMIFS(RatesLookup!H:H, RatesLookup!C:C, \"87\", RatesLookup!E:E, \"2\")","v":0},{"$f":"SUMIFS(RatesLookup!H:H, RatesLookup!C:C, \"90\", RatesLookup!E:E, \"2\")","v":0},{"$f":"SUMIFS(RatesLookup!H:H, RatesLookup!C:C, \"91\", RatesLookup!E:E, \"2\")","v":0},{"$f":"SUMIFS(RatesLookup!H:H, RatesLookup!C:C, \"98\", RatesLookup!E:E, \"2\")","v":0},null,1,{"$f":"SUMIFS(RatesLookup!F:F, RatesLookup!C:C, \"2\", RatesLookup!D:D, \"1\", RatesLookup!E:E, \"1\")*M17","v":99747.364372101467},{"$f":"SUMIFS(RatesLookup!F:F, RatesLookup!C:C, \"110\", RatesLookup!D:D, \"1\", RatesLookup!E:E, \"1\")*M17","v":12416.854841499886},{"$f":"SUMIFS(RatesLookup!F:F, RatesLookup!C:C, \"100\", RatesLookup!D:D, \"1\", RatesLookup!E:E, \"1\")*M17","v":13496.617489110215},{"$f":"SUMIFS(RatesLookup!F:F, RatesLookup!C:C, \"3\", RatesLookup!D:D, \"1\", RatesLookup!E:E, \"1\")*M17","v":266315.36539681786},{"$f":"SUMIFS(RatesLookup!F:F, RatesLookup!C:C, \"87\", RatesLookup!D:D, \"1\", RatesLookup!E:E, \"1\")*M17","v":54729.919863145755},{"$f":"SUMIFS(RatesLookup!F:F, RatesLookup!C:C, \"90\", RatesLookup!D:D, \"1\", RatesLookup!E:E, \"1\")*M17","v":16637028.49612256},{"$f":"SUMIFS(RatesLookup!F:F, RatesLookup!C:C, \"91\", RatesLookup!D:D, L6, RatesLookup!E:E, \"1\")*M17","v":214.07301185792483},{"$f":"SUMIFS(RatesLookup!F:F, RatesLookup!C:C, \"98\", RatesLookup!D:D, L6, RatesLookup!E:E, \"1\")*M17","v":16637024.063176369}]
[null,"Battery APU",{"$f":"SUMIFS(RatesLookup!H:H, RatesLookup!C:C, \"2\", RatesLookup!E:E, \"3\")","v":0},{"$f":"SUMIFS(RatesLookup!H:H, RatesLookup!C:C, \"110\", RatesLookup!E:E, \"3\")","v":0},{"$f":"SUMIFS(RatesLookup!H:H, RatesLookup!C:C, \"100\", RatesLookup!E:E, \"3\")","v":0},{"$f":"SUMIFS(RatesLookup!H:H, RatesLookup!C:C, \"3\", RatesLookup!E:E, \"3\")","v":0},{"$f":"SUMIFS(RatesLookup!H:H, RatesLookup!C:C, \"87\", RatesLookup!E:E, \"3\")","v":0},{"$f":"SUMIFS(RatesLookup!H:H, RatesLookup!C:C, \"90\", RatesLookup!E:E, \"3\")","v":0},{"$f":"SUMIFS(RatesLookup!H:H, RatesLookup!C:C, \"91\", RatesLookup!E:E, \"3\")","v":0},{"$f":"SUMIFS(RatesLookup!H:H, RatesLookup!C:C, \"98\", RatesLookup!E:E, \"3\")","v":0},null,2,{"$f":"SUMIFS(RatesLookup!F:F, RatesLookup!C:C, \"2\", RatesLookup!D:D, \"2\", RatesLookup!E:E, \"1\")*M18","v":55661.793474810424},{"$f":"SUMIFS(RatesLookup!F:F, RatesLookup!C:C, \"110\", RatesLookup!D:D, \"2\", RatesLookup!E:E, \"1\")*M18","v":149.25140408882169},{"$f":"SUMIFS(RatesLookup!F:F, RatesLookup!C:C, \"100\", RatesLookup!D:D, \"2\", RatesLookup!E:E, \"1\")*M18","v":162.23027805254588},{"$f":"SUMIFS(RatesLookup!F:F, RatesLookup!C:C, \"3\", RatesLookup!D:D, \"2\", RatesLookup!E:E, \"1\")*M18","v":133777.04599798625},{"$f":"SUMIFS(RatesLookup!F:F, RatesLookup!C:C, \"87\", RatesLookup!D:D, \"2\", RatesLookup!E:E, \"1\")*M18","v":7175.2764000540337},{"$f":"SUMIFS(RatesLookup!F:F, RatesLookup!C:C, \"90\", RatesLookup!D:D, \"2\", RatesLookup!E:E, \"1\")*M18","v":8893280.119802583},{"$f":"SUMIFS(RatesLookup!F:F, RatesLookup!C:C, \"91\", RatesLookup!D:D, L7, RatesLookup!E:E, \"1\")*M18","v":114.43221772718154},{"$f":"SUMIFS(RatesLookup!F:F, RatesLookup!C:C, \"98\", RatesLookup!D:D, L7, RatesLookup!E:E, \"1\")*M18","v":9048097.4792691376}]
[null,"Direct-fired Heater",{"$f":"SUMIFS(RatesLookup!H:H, RatesLookup!C:C, \"2\", RatesLookup!E:E, \"4\")","v":0},{"$f":"SUMIFS(RatesLookup!H:H, RatesLookup!C:C, \"110\", RatesLookup!E:E, \"4\")","v":0},{"$f":"SUMIFS(RatesLookup!H:H, RatesLookup!C:C, \"100\", RatesLookup!E:E, \"4\")","v":0},{"$f":"SUMIFS(RatesLookup!H:H, RatesLookup!C:C, \"3\", RatesLookup!E:E, \"4\")","v":0},{"$f":"SUMIFS(RatesLookup!H:H, RatesLookup!C:C, \"87\", RatesLookup!E:E, \"4\")","v":0},null,null,null,null,3,{"$f":"SUMIFS(RatesLookup!F:F, RatesLookup!C:C, \"2\", RatesLookup!D:D, \"3\", RatesLookup!E:E, \"1\")*M19","v":73185.604443438846},{"$f":"SUMIFS(RatesLookup!F:F, RatesLookup!C:C, \"110\", RatesLookup!D:D, \"3\", RatesLookup!E:E, \"1\")*M19","v":594.04621238126333},{"$f":"SUMIFS(RatesLookup!F:F, RatesLookup!C:C, \"100\", RatesLookup!D:D, \"3\", RatesLookup!E:E, \"1\")*M19","v":645.704385389045},{"$f":"SUMIFS(RatesLookup!F:F, RatesLookup!C:C, \"3\", RatesLookup!D:D, \"3\", RatesLookup!E:E, \"1\")*M19","v":89522.933751630582},{"$f":"SUMIFS(RatesLookup!F:F, RatesLookup!C:C, \"87\", RatesLookup!D:D, \"3\", RatesLookup!E:E, \"1\")*M19","v":5271.5977245895219},{"$f":"SUMIFS(RatesLookup!F:F, RatesLookup!C:C, \"90\", RatesLookup!D:D, \"3\", RatesLookup!E:E, \"1\")*M19","v":13221112.845462807},{"$f":"SUMIFS(RatesLookup!F:F, RatesLookup!C:C, \"91\", RatesLookup!D:D, L8, RatesLookup!E:E, \"1\")*M19","v":170.11953446605943},{"$f":"SUMIFS(RatesLookup!F:F, RatesLookup!C:C, \"98\", RatesLookup!D:D, L8, RatesLookup!E:E, \"1\")*M19","v":13267584.797500579}]
[null,"TSE",{"$f":"SUMIFS(RatesLookup!H:H, RatesLookup!C:C, \"2\", RatesLookup!E:E, \"5\")","v":0},{"$f":"SUMIFS(RatesLookup!H:H, RatesLookup!C:C, \"110\", RatesLookup!E:E, \"5\")","v":0},{"$f":"SUMIFS(RatesLookup!H:H, RatesLookup!C:C, \"100\", RatesLookup!E:E, \"5\")","v":0},{"$f":"SUMIFS(RatesLookup!H:H, RatesLookup!C:C, \"3\", RatesLookup!E:E, \"5\")","v":0},{"$f":"SUMIFS(RatesLookup!H:H, RatesLookup!C:C, \"87\", RatesLookup!E:E, \"5\")","v":0},{"$f":"SUMIFS(RatesLookup!H:H, RatesLookup!C:C, \"90\", RatesLookup!E:E, \"5\")","v":0},{"$f":"SUMIFS(RatesLookup!H:H, RatesLookup!C:C, \"91\", RatesLookup!E:E, \"5\")","v":0},{"$f":"SUMIFS(RatesLookup!H:H, RatesLookup!C:C, \"98\", RatesLookup!E:E, \"5\")","v":0},null,4,{"$f":"SUMIFS(RatesLookup!F:F, RatesLookup!C:C, \"2\", RatesLookup!D:D, \"4\", RatesLookup!E:E, \"1\")*M20","v":564103.00246431888},{"$f":"SUMIFS(RatesLookup!F:F, RatesLookup!C:C, \"110\", RatesLookup!D:D, \"4\", RatesLookup!E:E, \"1\")*M20","v":7803.5802386064779},{"$f":"SUMIFS(RatesLookup!F:F, RatesLookup!C:C, \"100\", RatesLookup!D:D, \"4\", RatesLookup!E:E, \"1\")*M20","v":8482.1791998373519},{"$f":"SUMIFS(RatesLookup!F:F, RatesLookup!C:C, \"3\", RatesLookup!D:D, \"4\", RatesLookup!E:E, \"1\")*M20","v":706065.51440638106},{"$f":"SUMIFS(RatesLookup!F:F, RatesLookup!C:C, \"87\", RatesLookup!D:D, \"4\", RatesLookup!E:E, \"1\")*M20","v":40014.489607960248},{"$f":"SUMIFS(RatesLookup!F:F, RatesLookup!C:C, \"90\", RatesLookup!D:D, \"4\", RatesLookup!E:E, \"1\")*M20","v":101707445.56100164},{"$f":"SUMIFS(RatesLookup!F:F, RatesLookup!C:C, \"91\", RatesLookup!D:D, L9, RatesLookup!E:E, \"1\")*M20","v":1308.6963204776182},{"$f":"SUMIFS(RatesLookup!F:F, RatesLookup!C:C, \"98\", RatesLookup!D:D, L9, RatesLookup!E:E, \"1\")*M20","v":101916806.18117093}]
[null,"Engine-off",{"$f":"SUMIFS(RatesLookup!H:H, RatesLookup!C:C, \"2\", RatesLookup!E:E, \"6\")","v":0},{"$f":"SUMIFS(RatesLookup!H:H, RatesLookup!C:C, \"110\", RatesLookup!E:E, \"6\")","v":0},{"$f":"SUMIFS(RatesLookup!H:H, RatesLookup!C:C, \"100\", RatesLookup!E:E, \"6\")","v":0},{"$f":"SUMIFS(RatesLookup!H:H, RatesLookup!C:C, \"3\", RatesLookup!E:E, \"6\")","v":0},{"$f":"SUMIFS(RatesLookup!H:H, RatesLookup!C:C, \"87\", RatesLookup!E:E, \"6\")","v":0},{"$f":"SUMIFS(RatesLookup!H:H, RatesLookup!C:C, \"90\", RatesLookup!E:E, \"6\")","v":0},{"$f":"SUMIFS(RatesLookup!H:H, RatesLookup!C:C, \"91\", RatesLookup!E:E, \"6\")","v":0},{"$f":"SUMIFS(RatesLookup!H:H, RatesLookup!C:C, \"98\", RatesLookup!E:E, \"6\")","v":0},null,5,{"$f":"SUMIFS(RatesLookup!F:F, RatesLookup!C:C, \"2\", RatesLookup!D:D, \"5\", RatesLookup!E:E, \"1\")*M21","v":143760.55080509232},{"$f":"SUMIFS(RatesLookup!F:F, RatesLookup!C:C, \"110\", RatesLookup!D:D, \"5\", RatesLookup!E:E, \"1\")*M21","v":1494.7749519049296},{"$f":"SUMIFS(RatesLookup!F:F, RatesLookup!C:C, \"100\", RatesLookup!D:D, \"5\", RatesLookup!E:E, \"1\")*M21","v":1624.7605192182339},{"$f":"SUMIFS(RatesLookup!F:F, RatesLookup!C:C, \"3\", RatesLookup!D:D, \"5\", RatesLookup!E:E, \"1\")*M21","v":176543.99211052086},{"$f":"SUMIFS(RatesLookup!F:F, RatesLookup!C:C, \"87\", RatesLookup!D:D, \"5\", RatesLookup!E:E, \"1\")*M21","v":8703.4626490065548},{"$f":"SUMIFS(RatesLookup!F:F, RatesLookup!C:C, \"90\", RatesLookup!D:D, \"5\", RatesLookup!E:E, \"1\")*M21","v":25962074.652275506},{"$f":"SUMIFS(RatesLookup!F:F, RatesLookup!C:C, \"91\", RatesLookup!D:D, L10, RatesLookup!E:E, \"1\")*M21","v":334.06082503604603},{"$f":"SUMIFS(RatesLookup!F:F, RatesLookup!C:C, \"98\", RatesLookup!D:D, L10, RatesLookup!E:E, \"1\")*M21","v":26016325.742723804}]
[null,"Extended Idle",{"$f":"SUMIFS(RatesLookup!H:H, RatesLookup!C:C, \"2\", RatesLookup!E:E, \"1\")","v":0},{"$f":"SUMIFS(RatesLookup!H:H, RatesLookup!C:C, \"110\", RatesLookup!E:E, \"1\")","v":0},{"$f":"SUMIFS(RatesLookup!H:H, RatesLookup!C:C, \"100\", RatesLookup!E:E, \"1\")","v":0},{"$f":"SUMIFS(RatesLookup!H:H, RatesLookup!C:C, \"3\", RatesLookup!E:E, \"1\")","v":0},{"$f":"SUMIFS(RatesLookup!H:H, RatesLookup!C:C, \"87\", RatesLookup!E:E, \"1\")","v":0},{"$f":"SUMIFS(RatesLookup!H:H, RatesLookup!C:C, \"90\", RatesLookup!E:E, \"1\")","v":0},{"$f":"SUMIFS(RatesLookup!H:H, RatesLookup!C:C, \"91\", RatesLookup!E:E, \"1\")","v":0},{"$f":"SUMIFS(RatesLookup!H:H, RatesLookup!C:C, \"98\", RatesLookup!E:E, \"1\")","v":0},null,6,{"$f":"SUMIFS(RatesLookup!F:F, RatesLookup!C:C, \"2\", RatesLookup!D:D, \"6\", RatesLookup!E:E, \"1\")*M22","v":0},{"$f":"SUMIFS(RatesLookup!F:F, RatesLookup!C:C, \"110\", RatesLookup!D:D, \"6\", RatesLookup!E:E, \"1\")*M22","v":0},{"$f":"SUMIFS(RatesLookup!F:F, RatesLookup!C:C, \"100\", RatesLookup!D:D, \"6\", RatesLookup!E:E, \"1\")*M22","v":0},{"$f":"SUMIFS(RatesLookup!F:F, RatesLookup!C:C, \"3\", RatesLookup!D:D, \"6\", RatesLookup!E:E, \"1\")*M22","v":0},{"$f":"SUMIFS(RatesLookup!F:F, RatesLookup!C:C, \"87\", RatesLookup!D:D, \"6\", RatesLookup!E:E, \"1\")*M22","v":0},{"$f":"SUMIFS(RatesLookup!F:F, RatesLookup!C:C, \"90\", RatesLookup!D:D, L11, RatesLookup!E:E, \"1\")*M22","v":0},{"$f":"SUMIFS(RatesLookup!F:F, RatesLookup!C:C, \"91\", RatesLookup!D:D, L11, RatesLookup!E:E, \"1\")*M22","v":0},{"$f":"SUMIFS(RatesLookup!F:F, RatesLookup!C:C, \"98\", RatesLookup!D:D, L11, RatesLookup!E:E, \"1\")*M22","v":0}]
[]
[null,"Total after IR project",{"$f":"SUM(C6:C11)","v":0},{"$f":"SUM(D6:D11)","v":0},0,{"$f":"SUM(F6:F11)","v":0},{"$f":"SUM(G6:G11)","v":0},{"$f":"SUM(H6:H11)","v":0},{"$f":"SUM(I6:I11)","v":0},{"$f":"SUM(J6:J11)","v":0},null,"Total before project",{"$f":"SUM(M6:M11)","v":936458.31555976195},22458.507648481376,24411.491871607392,1372224.8516633366,115894.74624475611,166420941.67466509,{"$f":"SUM(S6:S11)","v":2141.38190956483},166885838.26384079]
[]
[]
[null,"Emission Reduction (kg)",{"$f":"(M13-C13)/1000","v":936.4583155597619},{"$f":"(N13-D13)/1000","v":22.458507648481376},24.411491871607392,1372.2248516633367,115.89474624475611,166420.94167466508,{"$f":"(S13-I13)","v":2141.38190956483},{"$f":"(T13-J13)/1000","v":166885.83826384079},null,"MY_GroupID","Extended Idle Hours"]
[null,null,null,null,null,null,null,null,null,null,null,1,{"$f":"internalIdle!H39","v":1834.1778763556381},null,"Assume 100% of hotelling hours before project are extended idle. Sum entries by model year group on internalidle tab (hotelling hours table)."]
[null,"Emission Reduction (kg/day)",{"$f":"IF(internalIdle!$C$39=1, C16/365, C16/'Diesel Idle Reduction'!$I$36)","v":3.7161044268244519},{"$f":"IF(internalIdle!$C$39=1, D16/365, D16/'Diesel Idle Reduction'!$I$36)","v":8.9121062097148318E-2},{"$f":"IF(internalIdle!$C$39=1, E16/365, E16/'Diesel Idle Reduction'!$I$36)","v":9.6870999490505524E-2},{"$f":"IF(internalIdle!$C$39=1, F16/365, F16/'Diesel Idle Reduction'!$I$36)","v":5.4453367129497492},{"$f":"IF(internalIdle!$C$39=1, G16/365, G16/'Diesel Idle Reduction'!$I$36)","v":0.4598997866855401},{"$f":"IF(internalIdle!D4=FALSE,IF(internalIdle!$C$39=1, H16/365, H16/'Diesel Idle Reduction'!$I$36),\"NA\")","v":660.40056220105191},{"$f":"IF(internalIdle!D4=FALSE,IF(internalIdle!$C$39=1, I16/365, I16/'Diesel Idle Reduction'!$I$36),\"NA\")","v":8.4975472601778979},{"$f":"IF(internalIdle!D4=FALSE,IF(internalIdle!$C$39=1, J16/365, J16/'Diesel Idle Reduction'!$I$36),\"NA\")","v":662.24538993587612},null,2,{"$f":"internalIdle!H40","v":1242.5010263218314}]
[null,null,null,null,null,null,null,null,null,null,null,3,{"$f":"internalIdle!H41","v":1835.0545185740662}]
[null,null,null,null,null,null,null,null,null,null,null,4,{"$f":"internalIdle!H42","v":14066.179911433297}]
[null,null,null,null,null,null,null,null,null,null,null,5,{"$f":"internalIdle!H43","v":3601.2866673151671}]
[null,null,null,null,null,null,null,null,null,null,null,6,{"$f":"internalIdle!H44","v":0}]
[null,null,null,null,null,null,null,null,null,null,null,null,{"$f":"SUM(M17:M22)","v":22579.199999999997}]

{"sheet":"ChangeLog","index":4,"n_rows":18,"n_cols":3,"rows_kept":18,"cut":false,"hidden":true,"merged":[[17,2,18,6],[1,0,2,6],[3,1,3,6],[4,2,4,6],[13,2,14,6],[10,2,10,6]]}
[]
["Change Log"]
[]
["Version"]
["2018-03-16T10:23:00",null,"FHWA review pre-beta"]
["2018-08-01",null,"Beta tester comments incorporated"]
["2018-10-01",null,"FHWA review post-beta"]
["2018-10-01",null,"Revision shared for posting"]
["2018-11-07",null,"Version for posting "]
["2019-08-19",null,"Extended project evaluation year input to 2030 (2018 to 2030)"]
[null,null,"Ran MOVES 2014b for Extended Idle and Hotelling Auxiliary Power to get emission rates for engine-on idling and diesel APUs\nfor 2028 to 2030"]
[null,null,"Updated the National Activity Defaults table for 2028 to 2030 MYs using MOVES activity (truck population and operating hours)"]
[null,null,"Updated error messages to reflect new project evaluation years"]
[null,null,"Added Total Energy Consumption and CO2e – note these parameters come from MOVES, so this was done for extended idle \nand diesel APUs only (other hotelling types did not use MOVES data)"]
[]
[null,null,"Added check on sum of activity entered in Q3 and total annual activity in Q1"]
["2020-02-05",null,"Fixed error in activity calculator."]
["2022-07-01",null,"MOVES3 updates, including addition of CO2 calculations. Note that the emission rates for diesel APUs and extended idle comes entirely from MOVES (instead of from external EPA sources, since MOVES3 now incorporates these updates)"]

{"sheet":"RatesLookup","index":5,"n_rows":289,"n_cols":18,"rows_kept":289,"cut":false,"hidden":true,"merged":[[1,10,1,17]]}
[null,"Pollutant","MOVES PollutantID","MYGroupID","TechID","EmissionRate","Activity","Emissions"]
[null,"CO",2,1,1,{"$f":"RatesSummary!D3","v":54.382601413932299},{"$f":"internalIdle!J30","v":0},{"$f":"Table1[[#This Row],[EmissionRate]]*Table1[[#This Row],[Activity]]","v":0},null,null,"LEGEND"]
[null,"CO",2,2,1,{"$f":"RatesSummary!D4","v":44.798187120686499},{"$f":"internalIdle!J31","v":0},{"$f":"Table1[[#This Row],[EmissionRate]]*Table1[[#This Row],[Activity]]","v":0},null,null,"MY_GroupID",null,null,"Tech ID",null,null,"Pollutant ID"]
[null,"CO",2,3,1,{"$f":"RatesSummary!D5","v":39.881978275123899},{"$f":"internalIdle!J32","v":0},{"$f":"Table1[[#This Row],[EmissionRate]]*Table1[[#This Row],[Activity]]","v":0},null,null,1,"2006 or earlier",null,1,"Extended Idle",null,2,"CO"]
[null,"CO",2,4,1,{"$f":"RatesSummary!D6","v":40.1034968993823},{"$f":"internalIdle!J33","v":0},{"$f":"Table1[[#This Row],[EmissionRate]]*Table1[[#This Row],[Activity]]","v":0},null,null,2,"2007-2009",null,2,"Diesel APU",null,110,"PM2.5"]
[null,"CO",2,5,1,{"$f":"RatesSummary!D7","v":39.919218903023001},{"$f":"internalIdle!J34","v":0},{"$f":"Table1[[#This Row],[EmissionRate]]*Table1[[#This Row],[Activity]]","v":0},null,null,3,"2010-2012",null,3,"Battery APU",null,100,"PM10"]
[null,"CO",2,6,1,{"$f":"RatesSummary!D8","v":39.908181550945798},{"$f":"internalIdle!J35","v":0},{"$f":"Table1[[#This Row],[EmissionRate]]*Table1[[#This Row],[Activity]]","v":0},null,null,4,"2013-2020",null,4,"Direct-fired Heater",null,3,"NOx"]
[null,"CO",2,1,2,{"$f":"RatesSummary!E3","v":9.9559999971577806},{"$f":"internalIdle!J36","v":0},{"$f":"Table1[[#This Row],[EmissionRate]]*Table1[[#This Row],[Activity]]","v":0},null,null,5,"2021-2023",null,5,"TSE",null,87,"VOCs"]
[null,"CO",2,2,2,{"$f":"RatesSummary!E4","v":9.9559969738187597},{"$f":"internalIdle!J37","v":0},{"$f":"Table1[[#This Row],[EmissionRate]]*Table1[[#This Row],[Activity]]","v":0},null,null,6,"2024-2050",null,6,"Engine-off"]
[null,"CO",2,3,2,{"$f":"RatesSummary!E5","v":9.9560039789092691},{"$f":"internalIdle!J38","v":0},{"$f":"Table1[[#This Row],[EmissionRate]]*Table1[[#This Row],[Activity]]","v":0}]
[null,"CO",2,4,2,{"$f":"RatesSummary!E6","v":9.9560003215632094},{"$f":"internalIdle!J39","v":0},{"$f":"Table1[[#This Row],[EmissionRate]]*Table1[[#This Row],[Activity]]","v":0}]
[null,"CO",2,5,2,{"$f":"RatesSummary!E7","v":9.9559986310624904},{"$f":"internalIdle!J40","v":0},{"$f":"Table1[[#This Row],[EmissionRate]]*Table1[[#This Row],[Activity]]","v":0}]
[null,"CO",2,6,2,{"$f":"RatesSummary!E8","v":9.9559999731959596},{"$f":"internalIdle!J41","v":0},{"$f":"Table1[[#This Row],[EmissionRate]]*Table1[[#This Row],[Activity]]","v":0}]
[null,"CO",2,1,3,{"$f":"RatesSummary!F3","v":2.4630000000000001},{"$f":"internalIdle!J42","v":0},{"$f":"Table1[[#This Row],[EmissionRate]]*Table1[[#This Row],[Activity]]","v":0}]
[null,"CO",2,2,3,{"$f":"RatesSummary!F4","v":0.51},{"$f":"internalIdle!J43","v":0},{"$f":"Table1[[#This Row],[EmissionRate]]*Table1[[#This Row],[Activity]]","v":0}]
[null,"CO",2,3,3,{"$f":"RatesSummary!F5","v":1.89},{"$f":"internalIdle!J44","v":0},{"$f":"Table1[[#This Row],[EmissionRate]]*Table1[[#This Row],[Activity]]","v":0}]
[null,"CO",2,4,3,{"$f":"RatesSummary!F6","v":1.325},{"$f":"internalIdle!J45","v":0},{"$f":"Table1[[#This Row],[EmissionRate]]*Table1[[#This Row],[Activity]]","v":0}]
[null,"CO",2,5,3,{"$f":"RatesSummary!F7","v":1.2649999999999999},{"$f":"internalIdle!J46","v":0},{"$f":"Table1[[#This Row],[EmissionRate]]*Table1[[#This Row],[Activity]]","v":0}]
[null,"CO",2,6,3,{"$f":"RatesSummary!F8","v":1.359},{"$f":"internalIdle!J47","v":0},{"$f":"Table1[[#This Row],[EmissionRate]]*Table1[[#This Row],[Activity]]","v":0}]
[null,"CO",2,1,4,{"$f":"RatesSummary!G3","v":0.437},{"$f":"internalIdle!J48","v":0},{"$f":"Table1[[#This Row],[EmissionRate]]*Table1[[#This Row],[Activity]]","v":0}]
[null,"CO",2,2,4,{"$f":"RatesSummary!G4","v":0.437},{"$f":"internalIdle!J49","v":0},{"$f":"Table1[[#This Row],[EmissionRate]]*Table1[[#This Row],[Activity]]","v":0}]
[null,"CO",2,3,4,{"$f":"RatesSummary!G5","v":0.437},{"$f":"internalIdle!J50","v":0},{"$f":"Table1[[#This Row],[EmissionRate]]*Table1[[#This Row],[Activity]]","v":0}]
[null,"CO",2,4,4,{"$f":"RatesSummary!G6","v":0.437},{"$f":"internalIdle!J51","v":0},{"$f":"Table1[[#This Row],[EmissionRate]]*Table1[[#This Row],[Activity]]","v":0}]
[null,"CO",2,5,4,{"$f":"RatesSummary!G7","v":0.437},{"$f":"internalIdle!J52","v":0},{"$f":"Table1[[#This Row],[EmissionRate]]*Table1[[#This Row],[Activity]]","v":0}]
[null,"CO",2,6,4,{"$f":"RatesSummary!G8","v":0.437},{"$f":"internalIdle!J53","v":0},{"$f":"Table1[[#This Row],[EmissionRate]]*Table1[[#This Row],[Activity]]","v":0}]
[null,"CO",2,1,5,{"$f":"RatesSummary!H3","v":0},{"$f":"internalIdle!J54","v":0},{"$f":"Table1[[#This Row],[EmissionRate]]*Table1[[#This Row],[Activity]]","v":0}]
[null,"CO",2,2,5,{"$f":"RatesSummary!H4","v":0},{"$f":"internalIdle!J55","v":0},{"$f":"Table1[[#This Row],[EmissionRate]]*Table1[[#This Row],[Activity]]","v":0}]
[null,"CO",2,3,5,{"$f":"RatesSummary!H5","v":0},{"$f":"internalIdle!J56","v":0},{"$f":"Table1[[#This Row],[EmissionRate]]*Table1[[#This Row],[Activity]]","v":0}]
[null,"CO",2,4,5,{"$f":"RatesSummary!H6","v":0},{"$f":"internalIdle!J57","v":0},{"$f":"Table1[[#This Row],[EmissionRate]]*Table1[[#This Row],[Activity]]","v":0}]
[null,"CO",2,5,5,{"$f":"RatesSummary!H7","v":0},{"$f":"internalIdle!J58","v":0},{"$f":"Table1[[#This Row],[EmissionRate]]*Table1[[#This Row],[Activity]]","v":0}]
[null,"CO",2,6,5,{"$f":"RatesSummary!H8","v":0},{"$f":"internalIdle!J59","v":0},{"$f":"Table1[[#This Row],[EmissionRate]]*Table1[[#This Row],[Activity]]","v":0}]
[null,"CO",2,1,6,{"$f":"RatesSummary!I3","v":0},{"$f":"internalIdle!J60","v":1834.1778763556381},{"$f":"Table1[[#This Row],[EmissionRate]]*Table1[[#This Row],[Activity]]","v":0}]
[null,"CO",2,2,6,{"$f":"RatesSummary!I4","v":0},{"$f":"internalIdle!J61","v":1242.5010263218314},{"$f":"Table1[[#This Row],[EmissionRate]]*Table1[[#This Row],[Activity]]","v":0}]
[null,"CO",2,3,6,{"$f":"RatesSummary!I5","v":0},{"$f":"internalIdle!J62","v":1835.0545185740662},{"$f":"Table1[[#This Row],[EmissionRate]]*Table1[[#This Row],[Activity]]","v":0}]
[null,"CO",2,4,6,{"$f":"RatesSummary!I6","v":0},{"$f":"internalIdle!J63","v":14066.179911433297},{"$f":"Table1[[#This Row],[EmissionRate]]*Table1[[#This Row],[Activity]]","v":0}]
[null,"CO",2,5,6,{"$f":"RatesSummary!I7","v":0},{"$f":"internalIdle!J64","v":3601.2866673151671},{"$f":"Table1[[#This Row],[EmissionRate]]*Table1[[#This Row],[Activity]]","v":0}]
[null,"CO",2,6,6,{"$f":"RatesSummary!I8","v":0},{"$f":"internalIdle!J65","v":0},{"$f":"Table1[[#This Row],[EmissionRate]]*Table1[[#This Row],[Activity]]","v":0}]
[null,"PM2.5",110,1,1,{"$f":"RatesSummary!D12","v":6.7697113794498298},{"$f":"internalIdle!J30","v":0},{"$f":"Table1[[#This Row],[EmissionRate]]*Table1[[#This Row],[Activity]]","v":0}]
[null,"PM2.5",110,2,1,{"$f":"RatesSummary!D13","v":0.120121755175245},{"$f":"internalIdle!J31","v":0},{"$f":"Table1[[#This Row],[EmissionRate]]*Table1[[#This Row],[Activity]]","v":0}]
[null,"PM2.5",110,3,1,{"$f":"RatesSummary!D14","v":0.32372128804264},{"$f":"internalIdle!J32","v":0},{"$f":"Table1[[#This Row],[EmissionRate]]*Table1[[#This Row],[Activity]]","v":0}]
[null,"PM2.5",110,4,1,{"$f":"RatesSummary!D15","v":0.55477608616846696},{"$f":"internalIdle!J33","v":0},{"$f":"Table1[[#This Row],[EmissionRate]]*Table1[[#This Row],[Activity]]","v":0}]
[null,"PM2.5",110,5,1,{"$f":"RatesSummary!D16","v":0.41506691635279203},{"$f":"internalIdle!J34","v":0},{"$f":"Table1[[#This Row],[EmissionRate]]*Table1[[#This Row],[Activity]]","v":0}]
[null,"PM2.5",110,6,1,{"$f":"RatesSummary!D17","v":0.40604407691495897},{"$f":"internalIdle!J35","v":0},{"$f":"Table1[[#This Row],[EmissionRate]]*Table1[[#This Row],[Activity]]","v":0}]
[null,"PM2.5",110,1,2,{"$f":"RatesSummary!E12","v":0.90168554515788502},{"$f":"internalIdle!J36","v":0},{"$f":"Table1[[#This Row],[EmissionRate]]*Table1[[#This Row],[Activity]]","v":0}]
[null,"PM2.5",110,2,2,{"$f":"RatesSummary!E13","v":0.901685313780486},{"$f":"internalIdle!J37","v":0},{"$f":"Table1[[#This Row],[EmissionRate]]*Table1[[#This Row],[Activity]]","v":0}]
[null,"PM2.5",110,3,2,{"$f":"RatesSummary!E14","v":0.90168626163358301},{"$f":"internalIdle!J38","v":0},{"$f":"Table1[[#This Row],[EmissionRate]]*Table1[[#This Row],[Activity]]","v":0}]
[null,"PM2.5",110,4,2,{"$f":"RatesSummary!E15","v":0.90168577003127304},{"$f":"internalIdle!J39","v":0},{"$f":"Table1[[#This Row],[EmissionRate]]*Table1[[#This Row],[Activity]]","v":0}]
[null,"PM2.5",110,5,2,{"$f":"RatesSummary!E16","v":0.33813137585641001},{"$f":"internalIdle!J40","v":0},{"$f":"Table1[[#This Row],[EmissionRate]]*Table1[[#This Row],[Activity]]","v":0}]
[null,"PM2.5",110,6,2,{"$f":"RatesSummary!E17","v":1.9575987774351999E-2},{"$f":"internalIdle!J41","v":0},{"$f":"Table1[[#This Row],[EmissionRate]]*Table1[[#This Row],[Activity]]","v":0}]
[null,"PM2.5",110,1,3,{"$f":"RatesSummary!F12","v":0.45},{"$f":"internalIdle!J42","v":0},{"$f":"Table1[[#This Row],[EmissionRate]]*Table1[[#This Row],[Activity]]","v":0}]
[null,"PM2.5",110,2,3,{"$f":"RatesSummary!F13","v":1.7999999999999999E-2},{"$f":"internalIdle!J43","v":0},{"$f":"Table1[[#This Row],[EmissionRate]]*Table1[[#This Row],[Activity]]","v":0}]
[null,"PM2.5",110,3,3,{"$f":"RatesSummary!F14","v":1.6E-2},{"$f":"internalIdle!J44","v":0},{"$f":"Table1[[#This Row],[EmissionRate]]*Table1[[#This Row],[Activity]]","v":0}]
[null,"PM2.5",110,4,3,{"$f":"RatesSummary!F15","v":2.1999999999999999E-2},{"$f":"internalIdle!J45","v":0},{"$f":"Table1[[#This Row],[EmissionRate]]*Table1[[#This Row],[Activity]]","v":0}]
[null,"PM2.5",110,5,3,{"$f":"RatesSummary!F16","v":1.7999999999999999E-2},{"$f":"internalIdle!J46","v":0},{"$f":"Table1[[#This Row],[EmissionRate]]*Table1[[#This Row],[Activity]]","v":0}]
[null,"PM2.5",110,6,3,{"$f":"RatesSummary!F17","v":1.7999999999999999E-2},{"$f":"internalIdle!J47","v":0},{"$f":"Table1[[#This Row],[EmissionRate]]*Table1[[#This Row],[Activity]]","v":0}]
[null,"PM2.5",110,1,4,{"$f":"RatesSummary!G12","v":0.06},{"$f":"internalIdle!J48","v":0},{"$f":"Table1[[#This Row],[EmissionRate]]*Table1[[#This Row],[Activity]]","v":0}]
[null,"PM2.5",110,2,4,{"$f":"RatesSummary!G13","v":0.06},{"$f":"internalIdle!J49","v":0},{"$f":"Table1[[#This Row],[EmissionRate]]*Table1[[#This Row],[Activity]]","v":0}]
[null,"PM2.5",110,3,4,{"$f":"RatesSummary!G14","v":0.06},{"$f":"internalIdle!J50","v":0},{"$f":"Table1[[#This Row],[EmissionRate]]*Table1[[#This Row],[Activity]]","v":0}]
[null,"PM2.5",110,4,4,{"$f":"RatesSummary!G15","v":0.06},{"$f":"internalIdle!J51","v":0},{"$f":"Table1[[#This Row],[EmissionRate]]*Table1[[#This Row],[Activity]]","v":0}]
[null,"PM2.5",110,5,4,{"$f":"RatesSummary!G16","v":0.06},{"$f":"internalIdle!J52","v":0},{"$f":"Table1[[#This Row],[EmissionRate]]*Table1[[#This Row],[Activity]]","v":0}]
[null,"PM2.5",110,6,4,{"$f":"RatesSummary!G17","v":0.06},{"$f":"internalIdle!J53","v":0},{"$f":"Table1[[#This Row],[EmissionRate]]*Table1[[#This Row],[Activity]]","v":0}]
[null,"PM2.5",110,1,5,{"$f":"RatesSummary!H12","v":0},{"$f":"internalIdle!J54","v":0},{"$f":"Table1[[#This Row],[EmissionRate]]*Table1[[#This Row],[Activity]]","v":0}]
[null,"PM2.5",110,2,5,{"$f":"RatesSummary!H13","v":0},{"$f":"internalIdle!J55","v":0},{"$f":"Table1[[#This Row],[EmissionRate]]*Table1[[#This Row],[Activity]]","v":0}]
[null,"PM2.5",110,3,5,{"$f":"RatesSummary!H14","v":0},{"$f":"internalIdle!J56","v":0},{"$f":"Table1[[#This Row],[EmissionRate]]*Table1[[#This Row],[Activity]]","v":0}]
[null,"PM2.5",110,4,5,{"$f":"RatesSummary!H15","v":0},{"$f":"internalIdle!J57","v":0},{"$f":"Table1[[#This Row],[EmissionRate]]*Table1[[#This Row],[Activity]]","v":0}]
[null,"PM2.5",110,5,5,{"$f":"RatesSummary!H16","v":0},{"$f":"internalIdle!J58","v":0},{"$f":"Table1[[#This Row],[EmissionRate]]*Table1[[#This Row],[Activity]]","v":0}]
[null,"PM2.5",110,6,5,{"$f":"RatesSummary!H17","v":0},{"$f":"internalIdle!J59","v":0},{"$f":"Table1[[#This Row],[EmissionRate]]*Table1[[#This Row],[Activity]]","v":0}]
[null,"PM2.5",110,1,6,{"$f":"RatesSummary!I12","v":0},{"$f":"internalIdle!J60","v":1834.1778763556381},{"$f":"Table1[[#This Row],[EmissionRate]]*Table1[[#This Row],[Activity]]","v":0}]
[null,"PM2.5",110,2,6,{"$f":"RatesSummary!I13","v":0},{"$f":"internalIdle!J61","v":1242.5010263218314},{"$f":"Table1[[#This Row],[EmissionRate]]*Table1[[#This Row],[Activity]]","v":0}]
[null,"PM2.5",110,3,6,{"$f":"RatesSummary!I14","v":0},{"$f":"internalIdle!J62","v":1835.0545185740662},{"$f":"Table1[[#This Row],[EmissionRate]]*Table1[[#This Row],[Activity]]","v":0}]
[null,"PM2.5",110,4,6,{"$f":"RatesSummary!I15","v":0},{"$f":"internalIdle!J63","v":14066.179911433297},{"$f":"Table1[[#This Row],[EmissionRate]]*Table1[[#This Row],[Activity]]","v":0}]
[null,"PM2.5",110,5,6,{"$f":"RatesSummary!I16","v":0},{"$f":"internalIdle!J64","v":3601.2866673151671},{"$f":"Table1[[#This Row],[EmissionRate]]*Table1[[#This Row],[Activity]]","v":0}]
[null,"PM2.5",110,6,6,{"$f":"RatesSummary!I17","v":0},{"$f":"internalIdle!J65","v":0},{"$f":"Table1[[#This Row],[EmissionRate]]*Table1[[#This Row],[Activity]]","v":0}]
[null,"PM10",100,1,1,{"$f":"RatesSummary!D21","v":7.3584016376464501},{"$f":"internalIdle!J30","v":0},{"$f":"Table1[[#This Row],[EmissionRate]]*Table1[[#This Row],[Activity]]","v":0}]
[null,"PM10",100,2,1,{"$f":"RatesSummary!D22","v":0.13056752036076399},{"$f":"internalIdle!J31","v":0},{"$f":"Table1[[#This Row],[EmissionRate]]*Table1[[#This Row],[Activity]]","v":0}]
[null,"PM10",100,3,1,{"$f":"RatesSummary!D23","v":0.35187204459232702},{"$f":"internalIdle!J32","v":0},{"$f":"Table1[[#This Row],[EmissionRate]]*Table1[[#This Row],[Activity]]","v":0}]
[null,"PM10",100,4,1,{"$f":"RatesSummary!D24","v":0.60301938786826204},{"$f":"internalIdle!J33","v":0},{"$f":"Table1[[#This Row],[EmissionRate]]*Table1[[#This Row],[Activity]]","v":0}]
[null,"PM10",100,5,1,{"$f":"RatesSummary!D25","v":0.45116111804271503},{"$f":"internalIdle!J34","v":0},{"$f":"Table1[[#This Row],[EmissionRate]]*Table1[[#This Row],[Activity]]","v":0}]
[null,"PM10",100,6,1,{"$f":"RatesSummary!D26","v":0.44135366514392299},{"$f":"internalIdle!J35","v":0},{"$f":"Table1[[#This Row],[EmissionRate]]*Table1[[#This Row],[Activity]]","v":0}]
[null,"PM10",100,1,2,{"$f":"RatesSummary!E21","v":0.98009604175893905},{"$f":"internalIdle!J36","v":0},{"$f":"Table1[[#This Row],[EmissionRate]]*Table1[[#This Row],[Activity]]","v":0}]
[null,"PM10",100,2,2,{"$f":"RatesSummary!E22","v":0.98009571743805002},{"$f":"internalIdle!J37","v":0},{"$f":"Table1[[#This Row],[EmissionRate]]*Table1[[#This Row],[Activity]]","v":0}]
[null,"PM10",100,3,2,{"$f":"RatesSummary!E23","v":0.98009707075084296},{"$f":"internalIdle!J38","v":0},{"$f":"Table1[[#This Row],[EmissionRate]]*Table1[[#This Row],[Activity]]","v":0}]
[null,"PM10",100,4,2,{"$f":"RatesSummary!E24","v":0.980096354705706},{"$f":"internalIdle!J39","v":0},{"$f":"Table1[[#This Row],[EmissionRate]]*Table1[[#This Row],[Activity]]","v":0}]
[null,"PM10",100,5,2,{"$f":"RatesSummary!E25","v":0.36753505547043402},{"$f":"internalIdle!J40","v":0},{"$f":"Table1[[#This Row],[EmissionRate]]*Table1[[#This Row],[Activity]]","v":0}]
[null,"PM10",100,6,2,{"$f":"RatesSummary!E26","v":2.1278316203160699E-2},{"$f":"internalIdle!J41","v":0},{"$f":"Table1[[#This Row],[EmissionRate]]*Table1[[#This Row],[Activity]]","v":0}]
[null,"PM10",100,1,3,{"$f":"RatesSummary!F21","v":0.48899999999999999},{"$f":"internalIdle!J42","v":0},{"$f":"Table1[[#This Row],[EmissionRate]]*Table1[[#This Row],[Activity]]","v":0}]
[null,"PM10",100,2,3,{"$f":"RatesSummary!F22","v":1.9E-2},{"$f":"internalIdle!J43","v":0},{"$f":"Table1[[#This Row],[EmissionRate]]*Table1[[#This Row],[Activity]]","v":0}]
[null,"PM10",100,3,3,{"$f":"RatesSummary!F23","v":1.7000000000000001E-2},{"$f":"internalIdle!J44","v":0},{"$f":"Table1[[#This Row],[EmissionRate]]*Table1[[#This Row],[Activity]]","v":0}]
[null,"PM10",100,4,3,{"$f":"RatesSummary!F24","v":2.4E-2},{"$f":"internalIdle!J45","v":0},{"$f":"Table1[[#This Row],[EmissionRate]]*Table1[[#This Row],[Activity]]","v":0}]
[null,"PM10",100,5,3,{"$f":"RatesSummary!F25","v":1.9E-2},{"$f":"internalIdle!J46","v":0},{"$f":"Table1[[#This Row],[EmissionRate]]*Table1[[#This Row],[Activity]]","v":0}]
[null,"PM10",100,6,3,{"$f":"RatesSummary!F26","v":0.02},{"$f":"internalIdle!J47","v":0},{"$f":"Table1[[#This Row],[EmissionRate]]*Table1[[#This Row],[Activity]]","v":0}]
[null,"PM10",100,1,4,{"$f":"RatesSummary!G21","v":0.06},{"$f":"internalIdle!J48","v":0},{"$f":"Table1[[#This Row],[EmissionRate]]*Table1[[#This Row],[Activity]]","v":0}]
[null,"PM10",100,2,4,{"$f":"RatesSummary!G22","v":0.06},{"$f":"internalIdle!J49","v":0},{"$f":"Table1[[#This Row],[EmissionRate]]*Table1[[#This Row],[Activity]]","v":0}]
[null,"PM10",100,3,4,{"$f":"RatesSummary!G23","v":0.06},{"$f":"internalIdle!J50","v":0},{"$f":"Table1[[#This Row],[EmissionRate]]*Table1[[#This Row],[Activity]]","v":0}]
[null,"PM10",100,4,4,{"$f":"RatesSummary!G24","v":0.06},{"$f":"internalIdle!J51","v":0},{"$f":"Table1[[#This Row],[EmissionRate]]*Table1[[#This Row],[Activity]]","v":0}]
[null,"PM10",100,5,4,{"$f":"RatesSummary!G25","v":0.06},{"$f":"internalIdle!J52","v":0},{"$f":"Table1[[#This Row],[EmissionRate]]*Table1[[#This Row],[Activity]]","v":0}]
[null,"PM10",100,6,4,{"$f":"RatesSummary!G26","v":0.06},{"$f":"internalIdle!J53","v":0},{"$f":"Table1[[#This Row],[EmissionRate]]*Table1[[#This Row],[Activity]]","v":0}]
[null,"PM10",100,1,5,{"$f":"RatesSummary!H21","v":0},{"$f":"internalIdle!J54","v":0},{"$f":"Table1[[#This Row],[EmissionRate]]*Table1[[#This Row],[Activity]]","v":0}]
[null,"PM10",100,2,5,{"$f":"RatesSummary!H22","v":0},{"$f":"internalIdle!J55","v":0},{"$f":"Table1[[#This Row],[EmissionRate]]*Table1[[#This Row],[Activity]]","v":0}]
[null,"PM10",100,3,5,{"$f":"RatesSummary!H23","v":0},{"$f":"internalIdle!J56","v":0},{"$f":"Table1[[#This Row],[EmissionRate]]*Table1[[#This Row],[Activity]]","v":0}]
[null,"PM10",100,4,5,{"$f":"RatesSummary!H24","v":0},{"$f":"internalIdle!J57","v":0},{"$f":"Table1[[#This Row],[EmissionRate]]*Table1[[#This Row],[Activity]]","v":0}]
[null,"PM10",100,5,5,{"$f":"RatesSummary!H25","v":0},{"$f":"internalIdle!J58","v":0},{"$f":"Table1[[#This Row],[EmissionRate]]*Table1[[#This Row],[Activity]]","v":0}]
[null,"PM10",100,6,5,{"$f":"RatesSummary!H26","v":0},{"$f":"internalIdle!J59","v":0},{"$f":"Table1[[#This Row],[EmissionRate]]*Table1[[#This Row],[Activity]]","v":0}]
[null,"PM10",100,1,6,{"$f":"RatesSummary!I22","v":0},{"$f":"internalIdle!J60","v":1834.1778763556381},{"$f":"Table1[[#This Row],[EmissionRate]]*Table1[[#This Row],[Activity]]","v":0}]
[null,"PM10",100,2,6,{"$f":"RatesSummary!I23","v":0},{"$f":"internalIdle!J61","v":1242.5010263218314},{"$f":"Table1[[#This Row],[EmissionRate]]*Table1[[#This Row],[Activity]]","v":0}]
[null,"PM10",100,3,6,{"$f":"RatesSummary!I24","v":0},{"$f":"internalIdle!J62","v":1835.0545185740662},{"$f":"Table1[[#This Row],[EmissionRate]]*Table1[[#This Row],[Activity]]","v":0}]
[null,"PM10",100,4,6,{"$f":"RatesSummary!I25","v":0},{"$f":"internalIdle!J63","v":14066.179911433297},{"$f":"Table1[[#This Row],[EmissionRate]]*Table1[[#This Row],[Activity]]","v":0}]
[null,"PM10",100,5,6,{"$f":"RatesSummary!I26","v":0},{"$f":"internalIdle!J64","v":3601.2866673151671},{"$f":"Table1[[#This Row],[EmissionRate]]*Table1[[#This Row],[Activity]]","v":0}]
[null,"PM10",100,6,6,{"$f":"RatesSummary!I35","v":0},{"$f":"internalIdle!J65","v":0},{"$f":"Table1[[#This Row],[EmissionRate]]*Table1[[#This Row],[Activity]]","v":0}]
[null,"NOx",3,1,1,{"$f":"RatesSummary!D30","v":145.196040596654},{"$f":"internalIdle!J30","v":0},{"$f":"Table1[[#This Row],[EmissionRate]]*Table1[[#This Row],[Activity]]","v":0}]
[null,"NOx",3,2,1,{"$f":"RatesSummary!D31","v":107.667553719457},{"$f":"internalIdle!J31","v":0},{"$f":"Table1[[#This Row],[EmissionRate]]*Table1[[#This Row],[Activity]]","v":0}]
[null,"NOx",3,3,1,{"$f":"RatesSummary!D32","v":48.784890500798099},{"$f":"internalIdle!J32","v":0},{"$f":"Table1[[#This Row],[EmissionRate]]*Table1[[#This Row],[Activity]]","v":0}]
[null,"NOx",3,4,1,{"$f":"RatesSummary!D33","v":50.195967835764399},{"$f":"internalIdle!J33","v":0},{"$f":"Table1[[#This Row],[EmissionRate]]*Table1[[#This Row],[Activity]]","v":0}]
[null,"NOx",3,5,1,{"$f":"RatesSummary!D34","v":49.022476803308201},{"$f":"internalIdle!J34","v":0},{"$f":"Table1[[#This Row],[EmissionRate]]*Table1[[#This Row],[Activity]]","v":0}]
[null,"NOx",3,6,1,{"$f":"RatesSummary!D35","v":48.951852092608},{"$f":"internalIdle!J35","v":0},{"$f":"Table1[[#This Row],[EmissionRate]]*Table1[[#This Row],[Activity]]","v":0}]
[null,"NOx",3,1,2,{"$f":"RatesSummary!E30","v":16.6350292488432},{"$f":"internalIdle!J36","v":0},{"$f":"Table1[[#This Row],[EmissionRate]]*Table1[[#This Row],[Activity]]","v":0}]
[null,"NOx",3,2,2,{"$f":"RatesSummary!E31","v":16.635044481544199},{"$f":"internalIdle!J37","v":0},{"$f":"Table1[[#This Row],[EmissionRate]]*Table1[[#This Row],[Activity]]","v":0}]
[null,"NOx",3,3,2,{"$f":"RatesSummary!E32","v":16.6350553609185},{"$f":"internalIdle!J38","v":0},{"$f":"Table1[[#This Row],[EmissionRate]]*Table1[[#This Row],[Activity]]","v":0}]
[null,"NOx",3,4,2,{"$f":"RatesSummary!E33","v":16.6350311399543},{"$f":"internalIdle!J39","v":0},{"$f":"Table1[[#This Row],[EmissionRate]]*Table1[[#This Row],[Activity]]","v":0}]
[null,"NOx",3,5,2,{"$f":"RatesSummary!E34","v":20.789537964176699},{"$f":"internalIdle!J40","v":0},{"$f":"Table1[[#This Row],[EmissionRate]]*Table1[[#This Row],[Activity]]","v":0}]
[null,"NOx",3,6,2,{"$f":"RatesSummary!E35","v":16.635042124017399},{"$f":"internalIdle!J41","v":0},{"$f":"Table1[[#This Row],[EmissionRate]]*Table1[[#This Row],[Activity]]","v":0}]
[null,"NOx",3,1,3,{"$f":"RatesSummary!F30","v":9.5449999999999999},{"$f":"internalIdle!J42","v":0},{"$f":"Table1[[#This Row],[EmissionRate]]*Table1[[#This Row],[Activity]]","v":0}]
[null,"NOx",3,2,3,{"$f":"RatesSummary!F31","v":4.3129999999999997},{"$f":"internalIdle!J43","v":0},{"$f":"Table1[[#This Row],[EmissionRate]]*Table1[[#This Row],[Activity]]","v":0}]
[null,"NOx",3,3,3,{"$f":"RatesSummary!F32","v":2.66},{"$f":"internalIdle!J44","v":0},{"$f":"Table1[[#This Row],[EmissionRate]]*Table1[[#This Row],[Activity]]","v":0}]
[null,"NOx",3,4,3,{"$f":"RatesSummary!F33","v":2.17},{"$f":"internalIdle!J45","v":0},{"$f":"Table1[[#This Row],[EmissionRate]]*Table1[[#This Row],[Activity]]","v":0}]
[null,"NOx",3,5,3,{"$f":"RatesSummary!F34","v":2.0510000000000002},{"$f":"internalIdle!J46","v":0},{"$f":"Table1[[#This Row],[EmissionRate]]*Table1[[#This Row],[Activity]]","v":0}]
[null,"NOx",3,6,3,{"$f":"RatesSummary!F35","v":2.1179999999999999},{"$f":"internalIdle!J47","v":0},{"$f":"Table1[[#This Row],[EmissionRate]]*Table1[[#This Row],[Activity]]","v":0}]
[null,"NOx",3,1,4,{"$f":"RatesSummary!G30","v":0.2},{"$f":"internalIdle!J48","v":0},{"$f":"Table1[[#This Row],[EmissionRate]]*Table1[[#This Row],[Activity]]","v":0}]
[null,"NOx",3,2,4,{"$f":"RatesSummary!G31","v":0.2},{"$f":"internalIdle!J49","v":0},{"$f":"Table1[[#This Row],[EmissionRate]]*Table1[[#This Row],[Activity]]","v":0}]
[null,"NOx",3,3,4,{"$f":"RatesSummary!G32","v":0.2},{"$f":"internalIdle!J50","v":0},{"$f":"Table1[[#This Row],[EmissionRate]]*Table1[[#This Row],[Activity]]","v":0}]
[null,"NOx",3,4,4,{"$f":"RatesSummary!G33","v":0.2},{"$f":"internalIdle!J51","v":0},{"$f":"Table1[[#This Row],[EmissionRate]]*Table1[[#This Row],[Activity]]","v":0}]
[null,"NOx",3,5,4,{"$f":"RatesSummary!G34","v":0.2},{"$f":"internalIdle!J52","v":0},{"$f":"Table1[[#This Row],[EmissionRate]]*Table1[[#This Row],[Activity]]","v":0}]
[null,"NOx",3,6,4,{"$f":"RatesSummary!G35","v":0.2},{"$f":"internalIdle!J53","v":0},{"$f":"Table1[[#This Row],[EmissionRate]]*Table1[[#This Row],[Activity]]","v":0}]
[null,"NOx",3,1,5,{"$f":"RatesSummary!H30","v":0},{"$f":"internalIdle!J54","v":0},{"$f":"Table1[[#This Row],[EmissionRate]]*Table1[[#This Row],[Activity]]","v":0}]
[null,"NOx",3,2,5,{"$f":"RatesSummary!H31","v":0},{"$f":"internalIdle!J55","v":0},{"$f":"Table1[[#This Row],[EmissionRate]]*Table1[[#This Row],[Activity]]","v":0}]
[null,"NOx",3,3,5,{"$f":"RatesSummary!H32","v":0},{"$f":"internalIdle!J56","v":0},{"$f":"Table1[[#This Row],[EmissionRate]]*Table1[[#This Row],[Activity]]","v":0}]
[null,"NOx",3,4,5,{"$f":"RatesSummary!H33","v":0},{"$f":"internalIdle!J57","v":0},{"$f":"Table1[[#This Row],[EmissionRate]]*Table1[[#This Row],[Activity]]","v":0}]
[null,"NOx",3,5,5,{"$f":"RatesSummary!H34","v":0},{"$f":"internalIdle!J58","v":0},{"$f":"Table1[[#This Row],[EmissionRate]]*Table1[[#This Row],[Activity]]","v":0}]
[null,"NOx",3,6,5,{"$f":"RatesSummary!H35","v":0},{"$f":"internalIdle!J59","v":0},{"$f":"Table1[[#This Row],[EmissionRate]]*Table1[[#This Row],[Activity]]","v":0}]
[null,"NOx",3,1,6,{"$f":"RatesSummary!I30","v":0},{"$f":"internalIdle!J60","v":1834.1778763556381},{"$f":"Table1[[#This Row],[EmissionRate]]*Table1[[#This Row],[Activity]]","v":0}]
[null,"NOx",3,2,6,{"$f":"RatesSummary!I31","v":0},{"$f":"internalIdle!J61","v":1242.5010263218314},{"$f":"Table1[[#This Row],[EmissionRate]]*Table1[[#This Row],[Activity]]","v":0}]
[null,"NOx",3,3,6,{"$f":"RatesSummary!I32","v":0},{"$f":"internalIdle!J62","v":1835.0545185740662},{"$f":"Table1[[#This Row],[EmissionRate]]*Table1[[#This Row],[Activity]]","v":0}]
[null,"NOx",3,4,6,{"$f":"RatesSummary!I33","v":0},{"$f":"internalIdle!J63","v":14066.179911433297},{"$f":"Table1[[#This Row],[EmissionRate]]*Table1[[#This Row],[Activity]]","v":0}]
[null,"NOx",3,5,6,{"$f":"RatesSummary!I34","v":0},{"$f":"internalIdle!J64","v":3601.2866673151671},{"$f":"Table1[[#This Row],[EmissionRate]]*Table1[[#This Row],[Activity]]","v":0}]
[null,"NOx",3,6,6,{"$f":"RatesSummary!I35","v":0},{"$f":"internalIdle!J65","v":0},{"$f":"Table1[[#This Row],[EmissionRate]]*Table1[[#This Row],[Activity]]","v":0}]
[null,"VOCs",87,1,1,{"$f":"RatesSummary!D39","v":29.838937961616701},{"$f":"internalIdle!J30","v":0},{"$f":"Table1[[#This Row],[EmissionRate]]*Table1[[#This Row],[Activity]]","v":0}]
[null,"VOCs",87,2,1,{"$f":"RatesSummary!D40","v":5.7748655719786104},{"$f":"internalIdle!J31","v":0},{"$f":"Table1[[#This Row],[EmissionRate]]*Table1[[#This Row],[Activity]]","v":0}]
[null,"VOCs",87,3,1,{"$f":"RatesSummary!D41","v":2.87271994986058},{"$f":"internalIdle!J32","v":0},{"$f":"Table1[[#This Row],[EmissionRate]]*Table1[[#This Row],[Activity]]","v":0}]
[null,"VOCs",87,4,1,{"$f":"RatesSummary!D42","v":2.84473040014479},{"$f":"internalIdle!J33","v":0},{"$f":"Table1[[#This Row],[EmissionRate]]*Table1[[#This Row],[Activity]]","v":0}]
[null,"VOCs",87,5,1,{"$f":"RatesSummary!D43","v":2.41676474355627},{"$f":"internalIdle!J34","v":0},{"$f":"Table1[[#This Row],[EmissionRate]]*Table1[[#This Row],[Activity]]","v":0}]
[null,"VOCs",87,6,1,{"$f":"RatesSummary!D44","v":2.3910116073099301},{"$f":"internalIdle!J35","v":0},{"$f":"Table1[[#This Row],[EmissionRate]]*Table1[[#This Row],[Activity]]","v":0}]
[null,"VOCs",87,1,2,{"$f":"RatesSummary!E39","v":1.52055984577833},{"$f":"internalIdle!J36","v":0},{"$f":"Table1[[#This Row],[EmissionRate]]*Table1[[#This Row],[Activity]]","v":0}]
[null,"VOCs",87,2,2,{"$f":"RatesSummary!E40","v":1.5205580028907699},{"$f":"internalIdle!J37","v":0},{"$f":"Table1[[#This Row],[EmissionRate]]*Table1[[#This Row],[Activity]]","v":0}]
[null,"VOCs",87,3,2,{"$f":"RatesSummary!E41","v":1.52056178081668},{"$f":"internalIdle!J38","v":0},{"$f":"Table1[[#This Row],[EmissionRate]]*Table1[[#This Row],[Activity]]","v":0}]
[null,"VOCs",87,4,2,{"$f":"RatesSummary!E42","v":1.5205608459330899},{"$f":"internalIdle!J39","v":0},{"$f":"Table1[[#This Row],[EmissionRate]]*Table1[[#This Row],[Activity]]","v":0}]
[null,"VOCs",87,5,2,{"$f":"RatesSummary!E43","v":1.52055708880774},{"$f":"internalIdle!J40","v":0},{"$f":"Table1[[#This Row],[EmissionRate]]*Table1[[#This Row],[Activity]]","v":0}]
[null,"VOCs",87,6,2,{"$f":"RatesSummary!E44","v":0.69903415608998798},{"$f":"internalIdle!J41","v":0},{"$f":"Table1[[#This Row],[EmissionRate]]*Table1[[#This Row],[Activity]]","v":0}]
[null,"VOCs",87,1,3,{"$f":"RatesSummary!F39","v":0.51100000000000001},{"$f":"internalIdle!J42","v":0},{"$f":"Table1[[#This Row],[EmissionRate]]*Table1[[#This Row],[Activity]]","v":0}]
[null,"VOCs",87,2,3,{"$f":"RatesSummary!F40","v":7.1999999999999995E-2},{"$f":"internalIdle!J43","v":0},{"$f":"Table1[[#This Row],[EmissionRate]]*Table1[[#This Row],[Activity]]","v":0}]
[null,"VOCs",87,3,3,{"$f":"RatesSummary!F41","v":7.5999999999999998E-2},{"$f":"internalIdle!J44","v":0},{"$f":"Table1[[#This Row],[EmissionRate]]*Table1[[#This Row],[Activity]]","v":0}]
[null,"VOCs",87,4,3,{"$f":"RatesSummary!F42","v":5.8000000000000003E-2},{"$f":"internalIdle!J45","v":0},{"$f":"Table1[[#This Row],[EmissionRate]]*Table1[[#This Row],[Activity]]","v":0}]
[null,"VOCs",87,5,3,{"$f":"RatesSummary!F43","v":0.05},{"$f":"internalIdle!J46","v":0},{"$f":"Table1[[#This Row],[EmissionRate]]*Table1[[#This Row],[Activity]]","v":0}]
[null,"VOCs",87,6,3,{"$f":"RatesSummary!F44","v":0.05},{"$f":"internalIdle!J47","v":0},{"$f":"Table1[[#This Row],[EmissionRate]]*Table1[[#This Row],[Activity]]","v":0}]
[null,"VOCs",87,1,4,{"$f":"RatesSummary!G39","v":0.17399999999999999},{"$f":"internalIdle!J48","v":0},{"$f":"Table1[[#This Row],[EmissionRate]]*Table1[[#This Row],[Activity]]","v":0}]
[null,"VOCs",87,2,4,{"$f":"RatesSummary!G40","v":0.17399999999999999},{"$f":"internalIdle!J49","v":0},{"$f":"Table1[[#This Row],[EmissionRate]]*Table1[[#This Row],[Activity]]","v":0}]
[null,"VOCs",87,3,4,{"$f":"RatesSummary!G41","v":0.17399999999999999},{"$f":"internalIdle!J50","v":0},{"$f":"Table1[[#This Row],[EmissionRate]]*Table1[[#This Row],[Activity]]","v":0}]
[null,"VOCs",87,4,4,{"$f":"RatesSummary!G42","v":0.17399999999999999},{"$f":"internalIdle!J51","v":0},{"$f":"Table1[[#This Row],[EmissionRate]]*Table1[[#This Row],[Activity]]","v":0}]
[null,"VOCs",87,5,4,{"$f":"RatesSummary!G43","v":0.17399999999999999},{"$f":"internalIdle!J52","v":0},{"$f":"Table1[[#This Row],[EmissionRate]]*Table1[[#This Row],[Activity]]","v":0}]
[null,"VOCs",87,6,4,{"$f":"RatesSummary!G44","v":0.17399999999999999},{"$f":"internalIdle!J53","v":0},{"$f":"Table1[[#This Row],[EmissionRate]]*Table1[[#This Row],[Activity]]","v":0}]
[null,"VOCs",87,1,5,{"$f":"RatesSummary!H39","v":0},{"$f":"internalIdle!J54","v":0},{"$f":"Table1[[#This Row],[EmissionRate]]*Table1[[#This Row],[Activity]]","v":0}]
[null,"VOCs",87,2,5,{"$f":"RatesSummary!H40","v":0},{"$f":"internalIdle!J55","v":0},{"$f":"Table1[[#This Row],[EmissionRate]]*Table1[[#This Row],[Activity]]","v":0}]
[null,"VOCs",87,3,5,{"$f":"RatesSummary!H41","v":0},{"$f":"internalIdle!J56","v":0},{"$f":"Table1[[#This Row],[EmissionRate]]*Table1[[#This Row],[Activity]]","v":0}]
[null,"VOCs",87,4,5,{"$f":"RatesSummary!H42","v":0},{"$f":"internalIdle!J57","v":0},{"$f":"Table1[[#This Row],[EmissionRate]]*Table1[[#This Row],[Activity]]","v":0}]
[null,"VOCs",87,5,5,{"$f":"RatesSummary!H43","v":0},{"$f":"internalIdle!J58","v":0},{"$f":"Table1[[#This Row],[EmissionRate]]*Table1[[#This Row],[Activity]]","v":0}]
[null,"VOCs",87,6,5,{"$f":"RatesSummary!H44","v":0},{"$f":"internalIdle!J59","v":0},{"$f":"Table1[[#This Row],[EmissionRate]]*Table1[[#This Row],[Activity]]","v":0}]
[null,"VOCs",87,1,6,{"$f":"RatesSummary!I39","v":0},{"$f":"internalIdle!J60","v":1834.1778763556381},{"$f":"Table1[[#This Row],[EmissionRate]]*Table1[[#This Row],[Activity]]","v":0}]
[null,"VOCs",87,2,6,{"$f":"RatesSummary!I40","v":0},{"$f":"internalIdle!J61","v":1242.5010263218314},{"$f":"Table1[[#This Row],[EmissionRate]]*Table1[[#This Row],[Activity]]","v":0}]
[null,"VOCs",87,3,6,{"$f":"RatesSummary!I41","v":0},{"$f":"internalIdle!J62","v":1835.0545185740662},{"$f":"Table1[[#This Row],[EmissionRate]]*Table1[[#This Row],[Activity]]","v":0}]
[null,"VOCs",87,4,6,{"$f":"RatesSummary!I42","v":0},{"$f":"internalIdle!J63","v":14066.179911433297},{"$f":"Table1[[#This Row],[EmissionRate]]*Table1[[#This Row],[Activity]]","v":0}]
[null,"VOCs",87,5,6,{"$f":"RatesSummary!I43","v":0},{"$f":"internalIdle!J64","v":3601.2866673151671},{"$f":"Table1[[#This Row],[EmissionRate]]*Table1[[#This Row],[Activity]]","v":0}]
[null,"VOCs",87,6,6,{"$f":"RatesSummary!I44","v":0},{"$f":"internalIdle!J65","v":0},{"$f":"Table1[[#This Row],[EmissionRate]]*Table1[[#This Row],[Activity]]","v":0}]
[null,"CO2",90,1,1,{"$f":"RatesSummary!D47","v":9070.5643714223497},{"$f":"internalIdle!J30","v":0},{"$f":"Table1[[#This Row],[EmissionRate]]*Table1[[#This Row],[Activity]]","v":0}]
[null,"CO2",90,2,1,{"$f":"RatesSummary!D48","v":7157.5636006750901},{"$f":"internalIdle!J31","v":0},{"$f":"Table1[[#This Row],[EmissionRate]]*Table1[[#This Row],[Activity]]","v":0}]
[null,"CO2",90,3,1,{"$f":"RatesSummary!D49","v":7204.7520722906402},{"$f":"internalIdle!J32","v":0},{"$f":"Table1[[#This Row],[EmissionRate]]*Table1[[#This Row],[Activity]]","v":0}]
[null,"CO2",90,4,1,{"$f":"RatesSummary!D50","v":7230.6373302058801},{"$f":"internalIdle!J33","v":0},{"$f":"Table1[[#This Row],[EmissionRate]]*Table1[[#This Row],[Activity]]","v":0}]
[null,"CO2",90,5,1,{"$f":"RatesSummary!D51","v":7209.11081250601},{"$f":"internalIdle!J34","v":0},{"$f":"Table1[[#This Row],[EmissionRate]]*Table1[[#This Row],[Activity]]","v":0}]
[null,"CO2",90,6,1,{"$f":"RatesSummary!D52","v":7207.8155477208302},{"$f":"internalIdle!J35","v":0},{"$f":"Table1[[#This Row],[EmissionRate]]*Table1[[#This Row],[Activity]]","v":0}]
[null,"CO2",90,1,2,{"$f":"RatesSummary!E47","v":3492.4208118575002},{"$f":"internalIdle!J36","v":0},{"$f":"Table1[[#This Row],[EmissionRate]]*Table1[[#This Row],[Activity]]","v":0}]
[null,"CO2",90,2,2,{"$f":"RatesSummary!E48","v":3492.4229352542002},{"$f":"internalIdle!J37","v":0},{"$f":"Table1[[#This Row],[EmissionRate]]*Table1[[#This Row],[Activity]]","v":0}]
[null,"CO2",90,3,2,{"$f":"RatesSummary!E49","v":3492.4197584538801},{"$f":"internalIdle!J38","v":0},{"$f":"Table1[[#This Row],[EmissionRate]]*Table1[[#This Row],[Activity]]","v":0}]
[null,"CO2",90,4,2,{"$f":"RatesSummary!E50","v":3492.4217081719498},{"$f":"internalIdle!J39","v":0},{"$f":"Table1[[#This Row],[EmissionRate]]*Table1[[#This Row],[Activity]]","v":0}]
[null,"CO2",90,5,2,{"$f":"RatesSummary!E51","v":3492.4234598452599},{"$f":"internalIdle!J40","v":0},{"$f":"Table1[[#This Row],[EmissionRate]]*Table1[[#This Row],[Activity]]","v":0}]
[null,"CO2",90,6,2,{"$f":"RatesSummary!E52","v":3492.4214724744102},{"$f":"internalIdle!J41","v":0},{"$f":"Table1[[#This Row],[EmissionRate]]*Table1[[#This Row],[Activity]]","v":0}]
[null,"CO2",90,1,3,{"$f":"RatesSummary!F47","v":1160.5419761792743},{"$f":"internalIdle!J42","v":0},{"$f":"Table1[[#This Row],[EmissionRate]]*Table1[[#This Row],[Activity]]","v":0}]
[null,"CO2",90,2,3,{"$f":"RatesSummary!F48","v":1160.5423774832348},{"$f":"internalIdle!J43","v":0},{"$f":"Table1[[#This Row],[EmissionRate]]*Table1[[#This Row],[Activity]]","v":0}]
[null,"CO2",90,3,3,{"$f":"RatesSummary!F49","v":1160.5418328843955},{"$f":"internalIdle!J44","v":0},{"$f":"Table1[[#This Row],[EmissionRate]]*Table1[[#This Row],[Activity]]","v":0}]
[null,"CO2",90,4,3,{"$f":"RatesSummary!F50","v":1160.5421054617725},{"$f":"internalIdle!J45","v":0},{"$f":"Table1[[#This Row],[EmissionRate]]*Table1[[#This Row],[Activity]]","v":0}]
[null,"CO2",90,5,3,{"$f":"RatesSummary!F51","v":1160.5420335216027},{"$f":"internalIdle!J46","v":0},{"$f":"Table1[[#This Row],[EmissionRate]]*Table1[[#This Row],[Activity]]","v":0}]
[null,"CO2",90,6,3,{"$f":"RatesSummary!F52","v":1160.5421403902969},{"$f":"internalIdle!J47","v":0},{"$f":"Table1[[#This Row],[EmissionRate]]*Table1[[#This Row],[Activity]]","v":0}]
[null,"CO2",90,1,4,"NA",{"$f":"internalIdle!J48","v":0},{"$f":"Table1[[#This Row],[EmissionRate]]*Table1[[#This Row],[Activity]]","v":{"$error":"#VALUE!"}}]
[null,"CO2",90,2,4,"NA",{"$f":"internalIdle!J49","v":0},{"$f":"Table1[[#This Row],[EmissionRate]]*Table1[[#This Row],[Activity]]","v":{"$error":"#VALUE!"}}]
[null,"CO2",90,3,4,"NA",{"$f":"internalIdle!J50","v":0},{"$f":"Table1[[#This Row],[EmissionRate]]*Table1[[#This Row],[Activity]]","v":{"$error":"#VALUE!"}}]
[null,"CO2",90,4,4,"NA",{"$f":"internalIdle!J51","v":0},{"$f":"Table1[[#This Row],[EmissionRate]]*Table1[[#This Row],[Activity]]","v":{"$error":"#VALUE!"}}]
[null,"CO2",90,5,4,"NA",{"$f":"internalIdle!J52","v":0},{"$f":"Table1[[#This Row],[EmissionRate]]*Table1[[#This Row],[Activity]]","v":{"$error":"#VALUE!"}}]
[null,"CO2",90,6,4,"NA",{"$f":"internalIdle!J53","v":0},{"$f":"Table1[[#This Row],[EmissionRate]]*Table1[[#This Row],[Activity]]","v":{"$error":"#VALUE!"}}]
[null,"CO2",90,1,5,0,{"$f":"internalIdle!J54","v":0},{"$f":"Table1[[#This Row],[EmissionRate]]*Table1[[#This Row],[Activity]]","v":0}]
[null,"CO2",90,2,5,0,{"$f":"internalIdle!J55","v":0},{"$f":"Table1[[#This Row],[EmissionRate]]*Table1[[#This Row],[Activity]]","v":0}]
[null,"CO2",90,3,5,0,{"$f":"internalIdle!J56","v":0},{"$f":"Table1[[#This Row],[EmissionRate]]*Table1[[#This Row],[Activity]]","v":0}]
[null,"CO2",90,4,5,0,{"$f":"internalIdle!J57","v":0},{"$f":"Table1[[#This Row],[EmissionRate]]*Table1[[#This Row],[Activity]]","v":0}]
[null,"CO2",90,5,5,0,{"$f":"internalIdle!J58","v":0},{"$f":"Table1[[#This Row],[EmissionRate]]*Table1[[#This Row],[Activity]]","v":0}]
[null,"CO2",90,6,5,0,{"$f":"internalIdle!J59","v":0},{"$f":"Table1[[#This Row],[EmissionRate]]*Table1[[#This Row],[Activity]]","v":0}]
[null,"CO2",90,1,6,0,{"$f":"internalIdle!J60","v":1834.1778763556381},{"$f":"Table1[[#This Row],[EmissionRate]]*Table1[[#This Row],[Activity]]","v":0}]
[null,"CO2",90,2,6,0,{"$f":"internalIdle!J61","v":1242.5010263218314},{"$f":"Table1[[#This Row],[EmissionRate]]*Table1[[#This Row],[Activity]]","v":0}]
[null,"CO2",90,3,6,0,{"$f":"internalIdle!J62","v":1835.0545185740662},{"$f":"Table1[[#This Row],[EmissionRate]]*Table1[[#This Row],[Activity]]","v":0}]
[null,"CO2",90,4,6,0,{"$f":"internalIdle!J63","v":14066.179911433297},{"$f":"Table1[[#This Row],[EmissionRate]]*Table1[[#This Row],[Activity]]","v":0}]
[null,"CO2",90,5,6,0,{"$f":"internalIdle!J64","v":3601.2866673151671},{"$f":"Table1[[#This Row],[EmissionRate]]*Table1[[#This Row],[Activity]]","v":0}]
[null,"CO2",90,6,6,0,{"$f":"internalIdle!J65","v":0},{"$f":"Table1[[#This Row],[EmissionRate]]*Table1[[#This Row],[Activity]]","v":0}]
[null,"TEC",91,1,1,{"$f":"RatesSummary!D55","v":0.116713332233224},{"$f":"internalIdle!J30","v":0},{"$f":"Table1[[#This Row],[EmissionRate]]*Table1[[#This Row],[Activity]]","v":0}]
[null,"TEC",91,2,1,{"$f":"RatesSummary!D56","v":9.2098288293519209E-2},{"$f":"internalIdle!J31","v":0},{"$f":"Table1[[#This Row],[EmissionRate]]*Table1[[#This Row],[Activity]]","v":0}]
[null,"TEC",91,3,1,{"$f":"RatesSummary!D57","v":9.2705438854345998E-2},{"$f":"internalIdle!J32","v":0},{"$f":"Table1[[#This Row],[EmissionRate]]*Table1[[#This Row],[Activity]]","v":0}]
[null,"TEC",91,4,1,{"$f":"RatesSummary!D58","v":9.30385028997021E-2},{"$f":"internalIdle!J33","v":0},{"$f":"Table1[[#This Row],[EmissionRate]]*Table1[[#This Row],[Activity]]","v":0}]
[null,"TEC",91,5,1,{"$f":"RatesSummary!D59","v":9.2761519950061405E-2},{"$f":"internalIdle!J34","v":0},{"$f":"Table1[[#This Row],[EmissionRate]]*Table1[[#This Row],[Activity]]","v":0}]
[null,"TEC",91,6,1,{"$f":"RatesSummary!D60","v":9.2743622573500703E-2},{"$f":"internalIdle!J35","v":0},{"$f":"Table1[[#This Row],[EmissionRate]]*Table1[[#This Row],[Activity]]","v":0}]
[null,"TEC",91,1,2,{"$f":"RatesSummary!E55","v":4.4937895338461098E-2},{"$f":"internalIdle!J36","v":0},{"$f":"Table1[[#This Row],[EmissionRate]]*Table1[[#This Row],[Activity]]","v":0}]
[null,"TEC",91,2,2,{"$f":"RatesSummary!E56","v":4.4937903839820402E-2},{"$f":"internalIdle!J37","v":0},{"$f":"Table1[[#This Row],[EmissionRate]]*Table1[[#This Row],[Activity]]","v":0}]
[null,"TEC",91,3,2,{"$f":"RatesSummary!E57","v":4.4937880807928404E-2},{"$f":"internalIdle!J38","v":0},{"$f":"Table1[[#This Row],[EmissionRate]]*Table1[[#This Row],[Activity]]","v":0}]
[null,"TEC",91,4,2,{"$f":"RatesSummary!E58","v":4.4937907086930802E-2},{"$f":"internalIdle!J39","v":0},{"$f":"Table1[[#This Row],[EmissionRate]]*Table1[[#This Row],[Activity]]","v":0}]
[null,"TEC",91,5,2,{"$f":"RatesSummary!E59","v":4.49379180011601E-2},{"$f":"internalIdle!J40","v":0},{"$f":"Table1[[#This Row],[EmissionRate]]*Table1[[#This Row],[Activity]]","v":0}]
[null,"TEC",91,6,2,{"$f":"RatesSummary!E60","v":4.4937905396986902E-2},{"$f":"internalIdle!J41","v":0},{"$f":"Table1[[#This Row],[EmissionRate]]*Table1[[#This Row],[Activity]]","v":0}]
[null,"TEC",91,1,3,{"$f":"RatesSummary!F55","v":1.4933000000000002E-2},{"$f":"internalIdle!J42","v":0},{"$f":"Table1[[#This Row],[EmissionRate]]*Table1[[#This Row],[Activity]]","v":0}]
[null,"TEC",91,2,3,{"$f":"RatesSummary!F56","v":1.4933000000000002E-2},{"$f":"internalIdle!J43","v":0},{"$f":"Table1[[#This Row],[EmissionRate]]*Table1[[#This Row],[Activity]]","v":0}]
[null,"TEC",91,3,3,{"$f":"RatesSummary!F57","v":1.4933000000000002E-2},{"$f":"internalIdle!J44","v":0},{"$f":"Table1[[#This Row],[EmissionRate]]*Table1[[#This Row],[Activity]]","v":0}]
[null,"TEC",91,4,3,{"$f":"RatesSummary!F58","v":1.4933000000000002E-2},{"$f":"internalIdle!J45","v":0},{"$f":"Table1[[#This Row],[EmissionRate]]*Table1[[#This Row],[Activity]]","v":0}]
[null,"TEC",91,5,3,{"$f":"RatesSummary!F59","v":1.4933000000000002E-2},{"$f":"internalIdle!J46","v":0},{"$f":"Table1[[#This Row],[EmissionRate]]*Table1[[#This Row],[Activity]]","v":0}]
[null,"TEC",91,6,3,{"$f":"RatesSummary!F60","v":1.4933000000000002E-2},{"$f":"internalIdle!J47","v":0},{"$f":"Table1[[#This Row],[EmissionRate]]*Table1[[#This Row],[Activity]]","v":0}]
[null,"TEC",91,1,4,"NA",{"$f":"internalIdle!J48","v":0},{"$f":"Table1[[#This Row],[EmissionRate]]*Table1[[#This Row],[Activity]]","v":{"$error":"#VALUE!"}}]
[null,"TEC",91,2,4,"NA",{"$f":"internalIdle!J49","v":0},{"$f":"Table1[[#This Row],[EmissionRate]]*Table1[[#This Row],[Activity]]","v":{"$error":"#VALUE!"}}]
[null,"TEC",91,3,4,"NA",{"$f":"internalIdle!J50","v":0},{"$f":"Table1[[#This Row],[EmissionRate]]*Table1[[#This Row],[Activity]]","v":{"$error":"#VALUE!"}}]
[null,"TEC",91,4,4,"NA",{"$f":"internalIdle!J51","v":0},{"$f":"Table1[[#This Row],[EmissionRate]]*Table1[[#This Row],[Activity]]","v":{"$error":"#VALUE!"}}]
[null,"TEC",91,5,4,"NA",{"$f":"internalIdle!J52","v":0},{"$f":"Table1[[#This Row],[EmissionRate]]*Table1[[#This Row],[Activity]]","v":{"$error":"#VALUE!"}}]
[null,"TEC",91,6,4,"NA",{"$f":"internalIdle!J53","v":0},{"$f":"Table1[[#This Row],[EmissionRate]]*Table1[[#This Row],[Activity]]","v":{"$error":"#VALUE!"}}]
[null,"TEC",91,1,5,0,{"$f":"internalIdle!J54","v":0},{"$f":"Table1[[#This Row],[EmissionRate]]*Table1[[#This Row],[Activity]]","v":0}]
[null,"TEC",91,2,5,0,{"$f":"internalIdle!J55","v":0},{"$f":"Table1[[#This Row],[EmissionRate]]*Table1[[#This Row],[Activity]]","v":0}]
[null,"TEC",91,3,5,0,{"$f":"internalIdle!J56","v":0},{"$f":"Table1[[#This Row],[EmissionRate]]*Table1[[#This Row],[Activity]]","v":0}]
[null,"TEC",91,4,5,0,{"$f":"internalIdle!J57","v":0},{"$f":"Table1[[#This Row],[EmissionRate]]*Table1[[#This Row],[Activity]]","v":0}]
[null,"TEC",91,5,5,0,{"$f":"internalIdle!J58","v":0},{"$f":"Table1[[#This Row],[EmissionRate]]*Table1[[#This Row],[Activity]]","v":0}]
[null,"TEC",91,6,5,0,{"$f":"internalIdle!J59","v":0},{"$f":"Table1[[#This Row],[EmissionRate]]*Table1[[#This Row],[Activity]]","v":0}]
[null,"TEC",91,1,6,0,{"$f":"internalIdle!J60","v":1834.1778763556381},{"$f":"Table1[[#This Row],[EmissionRate]]*Table1[[#This Row],[Activity]]","v":0}]
[null,"TEC",91,2,6,0,{"$f":"internalIdle!J61","v":1242.5010263218314},{"$f":"Table1[[#This Row],[EmissionRate]]*Table1[[#This Row],[Activity]]","v":0}]
[null,"TEC",91,3,6,0,{"$f":"internalIdle!J62","v":1835.0545185740662},{"$f":"Table1[[#This Row],[EmissionRate]]*Table1[[#This Row],[Activity]]","v":0}]
[null,"TEC",91,4,6,0,{"$f":"internalIdle!J63","v":14066.179911433297},{"$f":"Table1[[#This Row],[EmissionRate]]*Table1[[#This Row],[Activity]]","v":0}]
[null,"TEC",91,5,6,0,{"$f":"internalIdle!J64","v":3601.2866673151671},{"$f":"Table1[[#This Row],[EmissionRate]]*Table1[[#This Row],[Activity]]","v":0}]
[null,"TEC",91,6,6,0,{"$f":"internalIdle!J65","v":0},{"$f":"Table1[[#This Row],[EmissionRate]]*Table1[[#This Row],[Activity]]","v":0}]
[null,"CO2e",98,1,1,{"$f":"RatesSummary!D63","v":9070.5619545650497},{"$f":"internalIdle!J30","v":0},{"$f":"Table1[[#This Row],[EmissionRate]]*Table1[[#This Row],[Activity]]","v":0}]
[null,"CO2e",98,2,1,{"$f":"RatesSummary!D64","v":7282.1649943052098},{"$f":"internalIdle!J31","v":0},{"$f":"Table1[[#This Row],[EmissionRate]]*Table1[[#This Row],[Activity]]","v":0}]
[null,"CO2e",98,3,1,{"$f":"RatesSummary!D65","v":7230.0766343499099},{"$f":"internalIdle!J32","v":0},{"$f":"Table1[[#This Row],[EmissionRate]]*Table1[[#This Row],[Activity]]","v":0}]
[null,"CO2e",98,4,1,{"$f":"RatesSummary!D66","v":7245.5213016528196},{"$f":"internalIdle!J33","v":0},{"$f":"Table1[[#This Row],[EmissionRate]]*Table1[[#This Row],[Activity]]","v":0}]
[null,"CO2e",98,5,1,{"$f":"RatesSummary!D67","v":7224.1751757350403},{"$f":"internalIdle!J34","v":0},{"$f":"Table1[[#This Row],[EmissionRate]]*Table1[[#This Row],[Activity]]","v":0}]
[null,"CO2e",98,6,1,{"$f":"RatesSummary!D68","v":7222.7970639188497},{"$f":"internalIdle!J35","v":0},{"$f":"Table1[[#This Row],[EmissionRate]]*Table1[[#This Row],[Activity]]","v":0}]
[null,"CO2e",98,1,2,{"$f":"RatesSummary!F63","v":1160.9010728302308},{"$f":"internalIdle!J36","v":0},{"$f":"Table1[[#This Row],[EmissionRate]]*Table1[[#This Row],[Activity]]","v":0}]
[null,"CO2e",98,2,2,{"$f":"RatesSummary!F64","v":1161.9781004382546},{"$f":"internalIdle!J37","v":0},{"$f":"Table1[[#This Row],[EmissionRate]]*Table1[[#This Row],[Activity]]","v":0}]
[null,"CO2e",98,3,2,{"$f":"RatesSummary!F65","v":1161.4873187824494},{"$f":"internalIdle!J38","v":0},{"$f":"Table1[[#This Row],[EmissionRate]]*Table1[[#This Row],[Activity]]","v":0}]
[null,"CO2e",98,4,2,{"$f":"RatesSummary!F66","v":1161.1899845393184},{"$f":"internalIdle!J39","v":0},{"$f":"Table1[[#This Row],[EmissionRate]]*Table1[[#This Row],[Activity]]","v":0}]
[null,"CO2e",98,5,2,{"$f":"RatesSummary!F67","v":1161.2561935466092},{"$f":"internalIdle!J40","v":0},{"$f":"Table1[[#This Row],[EmissionRate]]*Table1[[#This Row],[Activity]]","v":0}]
[null,"CO2e",98,6,2,{"$f":"RatesSummary!F68","v":1161.332162554057},{"$f":"internalIdle!J41","v":0},{"$f":"Table1[[#This Row],[EmissionRate]]*Table1[[#This Row],[Activity]]","v":0}]
[null,"CO2e",98,1,3,{"$f":"RatesSummary!F63","v":1160.9010728302308},{"$f":"internalIdle!J42","v":0},{"$f":"Table1[[#This Row],[EmissionRate]]*Table1[[#This Row],[Activity]]","v":0}]
[null,"CO2e",98,2,3,{"$f":"RatesSummary!F64","v":1161.9781004382546},{"$f":"internalIdle!J43","v":0},{"$f":"Table1[[#This Row],[EmissionRate]]*Table1[[#This Row],[Activity]]","v":0}]
[null,"CO2e",98,3,3,{"$f":"RatesSummary!F65","v":1161.4873187824494},{"$f":"internalIdle!J44","v":0},{"$f":"Table1[[#This Row],[EmissionRate]]*Table1[[#This Row],[Activity]]","v":0}]
[null,"CO2e",98,4,3,{"$f":"RatesSummary!F66","v":1161.1899845393184},{"$f":"internalIdle!J45","v":0},{"$f":"Table1[[#This Row],[EmissionRate]]*Table1[[#This Row],[Activity]]","v":0}]
[null,"CO2e",98,5,3,{"$f":"RatesSummary!F67","v":1161.2561935466092},{"$f":"internalIdle!J46","v":0},{"$f":"Table1[[#This Row],[EmissionRate]]*Table1[[#This Row],[Activity]]","v":0}]
[null,"CO2e",98,6,3,{"$f":"RatesSummary!F68","v":1161.332162554057},{"$f":"internalIdle!J47","v":0},{"$f":"Table1[[#This Row],[EmissionRate]]*Table1[[#This Row],[Activity]]","v":0}]
[null,"CO2e",98,1,4,"NA",{"$f":"internalIdle!J48","v":0},{"$f":"Table1[[#This Row],[EmissionRate]]*Table1[[#This Row],[Activity]]","v":{"$error":"#VALUE!"}}]
[null,"CO2e",98,2,4,"NA",{"$f":"internalIdle!J49","v":0},{"$f":"Table1[[#This Row],[EmissionRate]]*Table1[[#This Row],[Activity]]","v":{"$error":"#VALUE!"}}]
[null,"CO2e",98,3,4,"NA",{"$f":"internalIdle!J50","v":0},{"$f":"Table1[[#This Row],[EmissionRate]]*Table1[[#This Row],[Activity]]","v":{"$error":"#VALUE!"}}]
[null,"CO2e",98,4,4,"NA",{"$f":"internalIdle!J51","v":0},{"$f":"Table1[[#This Row],[EmissionRate]]*Table1[[#This Row],[Activity]]","v":{"$error":"#VALUE!"}}]
[null,"CO2e",98,5,4,"NA",{"$f":"internalIdle!J52","v":0},{"$f":"Table1[[#This Row],[EmissionRate]]*Table1[[#This Row],[Activity]]","v":{"$error":"#VALUE!"}}]
[null,"CO2e",98,6,4,"NA",{"$f":"internalIdle!J53","v":0},{"$f":"Table1[[#This Row],[EmissionRate]]*Table1[[#This Row],[Activity]]","v":{"$error":"#VALUE!"}}]
[null,"CO2e",98,1,5,0,{"$f":"internalIdle!J54","v":0},{"$f":"Table1[[#This Row],[EmissionRate]]*Table1[[#This Row],[Activity]]","v":0}]
[null,"CO2e",98,2,5,0,{"$f":"internalIdle!J55","v":0},{"$f":"Table1[[#This Row],[EmissionRate]]*Table1[[#This Row],[Activity]]","v":0}]
[null,"CO2e",98,3,5,0,{"$f":"internalIdle!J56","v":0},{"$f":"Table1[[#This Row],[EmissionRate]]*Table1[[#This Row],[Activity]]","v":0}]
[null,"CO2e",98,4,5,0,{"$f":"internalIdle!J57","v":0},{"$f":"Table1[[#This Row],[EmissionRate]]*Table1[[#This Row],[Activity]]","v":0}]
[null,"CO2e",98,5,5,0,{"$f":"internalIdle!J58","v":0},{"$f":"Table1[[#This Row],[EmissionRate]]*Table1[[#This Row],[Activity]]","v":0}]
[null,"CO2e",98,6,5,0,{"$f":"internalIdle!J59","v":0},{"$f":"Table1[[#This Row],[EmissionRate]]*Table1[[#This Row],[Activity]]","v":0}]
[null,"CO2e",98,1,6,0,{"$f":"internalIdle!J60","v":1834.1778763556381},{"$f":"Table1[[#This Row],[EmissionRate]]*Table1[[#This Row],[Activity]]","v":0}]
[null,"CO2e",98,2,6,0,{"$f":"internalIdle!J61","v":1242.5010263218314},{"$f":"Table1[[#This Row],[EmissionRate]]*Table1[[#This Row],[Activity]]","v":0}]
[null,"CO2e",98,3,6,0,{"$f":"internalIdle!J62","v":1835.0545185740662},{"$f":"Table1[[#This Row],[EmissionRate]]*Table1[[#This Row],[Activity]]","v":0}]
[null,"CO2e",98,4,6,0,{"$f":"internalIdle!J63","v":14066.179911433297},{"$f":"Table1[[#This Row],[EmissionRate]]*Table1[[#This Row],[Activity]]","v":0}]
[null,"CO2e",98,5,6,0,{"$f":"internalIdle!J64","v":3601.2866673151671},{"$f":"Table1[[#This Row],[EmissionRate]]*Table1[[#This Row],[Activity]]","v":0}]
[null,"CO2e",98,6,6,0,{"$f":"internalIdle!J65","v":0},{"$f":"Table1[[#This Row],[EmissionRate]]*Table1[[#This Row],[Activity]]","v":0}]

{"sheet":"RatesSummary","index":6,"n_rows":68,"n_cols":12,"rows_kept":68,"cut":false,"hidden":true,"merged":[]}
[]
[null,"CO","Model Year Group","Extended Idle","Diesel APU","Battery APU","Direct-fired Heater","TSE","Engine-off"]
[null,"polid = 2","2006 or earlier",54.382601413932299,9.9559999971577806,2.4630000000000001,0.437,0,0,null,"Emissions rates in g/hr"]
[null,null,"2007-2009",44.798187120686499,9.9559969738187597,0.51,0.437,0,0]
[null,null,"2010-2012",39.881978275123899,9.9560039789092691,1.89,0.437,0,0,null,"Green","MOVES3 runs"]
[null,null,"2013-2020",40.1034968993823,9.9560003215632094,1.325,0.437,0,0,null,"Yellow","Argonne idle reduction study"]
[null,null,"2021-2023",39.919218903023001,9.9559986310624904,1.2649999999999999,0.437,0,0,null,"Orange","Calculated based on fuel consumption"]
[null,null,"2024-2050",39.908181550945798,9.9559999731959596,1.359,0.437,0,0]
[]
[]
[null,"PM2.5","Model Year Group","Extended Idle","Diesel APU","Battery APU","Direct-fired Heater","TSE","Engine-off"]
[null,"polid = 110","2006 or earlier",6.7697113794498298,0.90168554515788502,0.45,0.06,0,0]
[null,null,"2007-2009",0.120121755175245,0.901685313780486,1.7999999999999999E-2,0.06,0,0]
[null,null,"2010-2012",0.32372128804264,0.90168626163358301,1.6E-2,0.06,0,0]
[null,null,"2013-2020",0.55477608616846696,0.90168577003127304,2.1999999999999999E-2,0.06,0,0]
[null,null,"2021-2023",0.41506691635279203,0.33813137585641001,1.7999999999999999E-2,0.06,0,0,null,null,"`"]
[null,null,"2024-2050",0.40604407691495897,1.9575987774351999E-2,1.7999999999999999E-2,0.06,0,0]
[]
[]
[null,"PM10","Model Year Group","Extended Idle","Diesel APU","Battery APU","Direct-fired Heater","TSE","Engine-off"]
[null,"polid = 100","2006 or earlier",7.3584016376464501,0.98009604175893905,0.48899999999999999,0.06,0,0]
[null,null,"2007-2009",0.13056752036076399,0.98009571743805002,1.9E-2,0.06,0,0]
[null,null,"2010-2012",0.35187204459232702,0.98009707075084296,1.7000000000000001E-2,0.06,0,0]
[null,null,"2013-2020",0.60301938786826204,0.980096354705706,2.4E-2,0.06,0,0]
[null,null,"2021-2023",0.45116111804271503,0.36753505547043402,1.9E-2,0.06,0,0]
[null,null,"2024-2050",0.44135366514392299,2.1278316203160699E-2,0.02,0.06,0,0]
[]
[]
[null,"NOx","Model Year Group","Extended Idle","Diesel APU","Battery APU","Direct-fired Heater","TSE","Engine-off"]
[null,"polid = 3","2006 or earlier",145.196040596654,16.6350292488432,9.5449999999999999,0.2,0,0]
[null,null,"2007-2009",107.667553719457,16.635044481544199,4.3129999999999997,0.2,0,0]
[null,null,"2010-2012",48.784890500798099,16.6350553609185,2.66,0.2,0,0]
[null,null,"2013-2020",50.195967835764399,16.6350311399543,2.17,0.2,0,0]
[null,null,"2021-2023",49.022476803308201,20.789537964176699,2.0510000000000002,0.2,0,0]
[null,null,"2024-2050",48.951852092608,16.635042124017399,2.1179999999999999,0.2,0,0]
[]
[]
[null,"VOC","Model Year Group","Extended Idle","Diesel APU","Battery APU","Direct-fired Heater","TSE","Engine-off"]
[null,"polid = 87","2006 or earlier",29.838937961616701,1.52055984577833,0.51100000000000001,0.17399999999999999,0,0]
[null,null,"2007-2009",5.7748655719786104,1.5205580028907699,7.1999999999999995E-2,0.17399999999999999,0,0]
[null,null,"2010-2012",2.87271994986058,1.52056178081668,7.5999999999999998E-2,0.17399999999999999,0,0]
[null,null,"2013-2020",2.84473040014479,1.5205608459330899,5.8000000000000003E-2,0.17399999999999999,0,0]
[null,null,"2021-2023",2.41676474355627,1.52055708880774,0.05,0.17399999999999999,0,0]
[null,null,"2024-2050",2.3910116073099301,0.69903415608998798,0.05,0.17399999999999999,0,0]
[]
[null,"CO2","Model Year Group","Extended Idle","Diesel APU","Battery APU","Direct-fired Heater","TSE","Engine-off"]
[null,"polid = 90","2006 or earlier",9070.5643714223497,3492.4208118575002,1160.5419761792743,"NA",0,0]
[null,null,"2007-2009",7157.5636006750901,3492.4229352542002,1160.5423774832348,"NA",0,0]
[null,null,"2010-2012",7204.7520722906402,3492.4197584538801,1160.5418328843955,"NA",0,0]
[null,null,"2013-2020",7230.6373302058801,3492.4217081719498,1160.5421054617725,"NA",0,0]
[null,null,"2021-2023",7209.11081250601,3492.4234598452599,1160.5420335216027,"NA",0,0]
[null,null,"2024-2050",7207.8155477208302,3492.4214724744102,1160.5421403902969,"NA",0,0]
[]
[null,"TEC","Model Year Group","Extended Idle","Diesel APU","Battery APU","Direct-fired Heater","TSE","Engine-off"]
[null,"polid = 91","2006 or earlier",{"$f":"116.713332233224/1000","v":0.116713332233224},{"$f":"L55/1000","v":4.4937895338461098E-2},1.4933000000000002E-2,"NA",0,0,null,null,44.937895338461097]
[null,null,"2007-2009",{"$f":"92.0982882935192/1000","v":9.2098288293519209E-2},{"$f":"L56/1000","v":4.4937903839820402E-2},1.4933000000000002E-2,"NA",0,0,null,null,44.9379038398204]
[null,null,"2010-2012",{"$f":"92.705438854346/1000","v":9.2705438854345998E-2},4.4937880807928404E-2,1.4933000000000002E-2,"NA",0,0,null,null,44.937880807928401]
[null,null,"2013-2020",{"$f":"93.0385028997021/1000","v":9.30385028997021E-2},4.4937907086930802E-2,1.4933000000000002E-2,"NA",0,0,null,null,44.937907086930799]
[null,null,"2021-2023",{"$f":"92.7615199500614/1000","v":9.2761519950061405E-2},4.49379180011601E-2,1.4933000000000002E-2,"NA",0,0,null,null,44.937918001160099]
[null,null,"2024-2050",{"$f":"92.7436225735007/1000","v":9.2743622573500703E-2},4.4937905396986902E-2,1.4933000000000002E-2,"NA",0,0,null,null,44.937905396986899]
[]
[null,"CO2e","Model Year Group","Extended Idle","Diesel APU","Battery APU","Direct-fired Heater","TSE","Engine-off"]
[null,"polid = 98","2006 or earlier",9070.5619545650497,3492.4208118575002,1160.9010728302308,"NA",0,0]
[null,null,"2007-2009",7282.1649943052098,3492.4229352542002,1161.9781004382546,"NA",0,0]
[null,null,"2010-2012",7230.0766343499099,3492.4197584538801,1161.4873187824494,"NA",0,0]
[null,null,"2013-2020",7245.5213016528196,3492.4217081719498,1161.1899845393184,"NA",0,0]
[null,null,"2021-2023",7224.1751757350403,3492.4234598452599,1161.2561935466092,"NA",0,0]
[null,null,"2024-2050",7222.7970639188497,3511.9763908492801,1161.332162554057,"NA",0,0]

{"sheet":"NationalDefaultActivity","index":7,"n_rows":1427,"n_cols":20,"rows_kept":1427,"cut":false,"hidden":true,"merged":[]}
["yearID","modelYearID","activityTypeID","activity",null,null,"YearID","Model Year Group","Operating Hours","No. of Trucks",null,null,"PROJECT EVALUATION YEAR",null,{"$f":"'Diesel Idle Reduction'!G9","v":2022},null,null,"4 = source hours operating"]
[2018,2018,6,96121.3984375,null,null,2018,{"$f":"M7","v":"2006 or earlier"},0.18596345933414496,0.39509241273184953,null,null,"Annual Activity",null,{"$f":"'Diesel Idle Reduction'!G16","v":28224},null,null,"6 = population"]
[2018,2017,6,111865,null,null,2018,"2007-2009",0.10820985213730565,0.11506956127494672]
[2018,2016,6,113140,null,null,2018,"2010-2012",0.13025487818140744,0.10550479326650845]
[2018,2015,6,146549,null,null,2018,"2013-2020",0.575571810347142,0.38433323272669528,null,null,"2018 Fractions"]
[2018,2014,6,130237,null,null,2018,"2021-2023",{"$f":"N11","v":0},0,null,null,"Model Year Group","Operating Hours","No. of Trucks",null,null,null,"TOTAL Hours Op","TOTAL Pop"]
[2018,2013,6,95676.296875,null,null,2018,"2024-2050",0,0,null,null,"2006 or earlier",{"$f":"( SUMIFS(D:D,C:C, \"4\",A:A, \"2018\",B:B, \"2006\")+ SUMIFS(D:D,C:C, \"4\",A:A, \"2018\",B:B, \"2005\")+ SUMIFS(D:D,C:C, \"4\",A:A, \"2018\",B:B, \"2004\")+ SUMIFS(D:D,C:C, \"4\",A:A, \"2018\",B:B, \"2003\")+ SUMIFS(D:D,C:C, \"4\",A:A, \"2018\",B:B, \"2002\")+ SUMIFS(D:D,C:C, \"4\",A:A, \"2018\",B:B, \"2001\")+SUMIFS(D:D,C:C, \"4\",A:A, \"2018\",B:B, \"2000\")+SUMIFS(D:D,C:C, \"4\",A:A, \"2018\",B:B, \"1999\")+SUMIFS(D:D,C:C, \"4\",A:A, \"2018\",B:B, \"1998\")+SUMIFS(D:D,C:C, \"4\",A:A, \"2018\",B:B, \"1997\")+SUMIFS(D:D,C:C, \"4\",A:A, \"2018\",B:B, \"1996\")+SUMIFS(D:D,C:C, \"4\",A:A, \"2018\",B:B, \"1995\")+SUMIFS(D:D,C:C, \"4\",A:A, \"2018\",B:B, \"1994\")+SUMIFS(D:D,C:C, \"4\",A:A, \"2018\",B:B, \"1993\")+SUMIFS(D:D,C:C, \"4\",A:A, \"2018\",B:B, \"1992\")+SUMIFS(D:D,C:C, \"4\",A:A, \"2018\",B:B, \"1991\")+SUMIFS(D:D,C:C, \"4\",A:A, \"2018\",B:B, \"1990\")+SUMIFS(D:D,C:C, \"4\",A:A, \"2018\",B:B, \"1989\")+SUMIFS(D:D,C:C, \"4\",A:A, \"2018\",B:B, \"1988\"))/S7","v":0.18596345933414496},{"$f":"( SUMIFS(D:D,C:C, \"6\",A:A, \"2018\",B:B, \"2006\")+ SUMIFS(D:D,C:C, \"6\",A:A, \"2018\",B:B, \"2005\")+ SUMIFS(D:D,C:C, \"6\",A:A, \"2018\",B:B, \"2004\")+ SUMIFS(D:D,C:C, \"6\",A:A, \"2018\",B:B, \"2003\")+ SUMIFS(D:D,C:C, \"6\",A:A, \"2018\",B:B, \"2002\")+ SUMIFS(D:D,C:C, \"6\",A:A, \"2018\",B:B, \"2001\")+SUMIFS(D:D,C:C, \"6\",A:A, \"2018\",B:B, \"2000\")+SUMIFS(D:D,C:C, \"6\",A:A, \"2018\",B:B, \"1999\")+SUMIFS(D:D,C:C, \"6\",A:A, \"2018\",B:B, \"1998\")+SUMIFS(D:D,C:C, \"6\",A:A, \"2018\",B:B, \"1997\")+SUMIFS(D:D,C:C, \"6\",A:A, \"2018\",B:B, \"1996\")+SUMIFS(D:D,C:C, \"6\",A:A, \"2018\",B:B, \"1995\")+SUMIFS(D:D,C:C, \"6\",A:A, \"2018\",B:B, \"1994\")+SUMIFS(D:D,C:C, \"6\",A:A, \"2018\",B:B, \"1993\")+SUMIFS(D:D,C:C, \"6\",A:A, \"2018\",B:B, \"1992\")+SUMIFS(D:D,C:C, \"6\",A:A, \"2018\",B:B, \"1991\")+SUMIFS(D:D,C:C, \"6\",A:A, \"2018\",B:B, \"1990\")+SUMIFS(D:D,C:C, \"6\",A:A, \"2018\",B:B, \"1989\")+SUMIFS(D:D,C:C, \"6\",A:A, \"2018\",B:B, \"1988\"))/T7","v":0.39509241273184953},null,null,2018,{"$f":"SUMIFS(D:D,C:C, \"4\",A:A, \"2018\")","v":3468503954},{"$f":"SUMIFS(D:D,C:C, \"6\",A:A, \"2018\")","v":1804654.4931640625}]
[2018,2012,6,96760.6015625,null,null,2019,{"$f":"M16","v":"2006 or earlier"},0.15136404999347144,0.35055297297303262,null,null,"2007-2009",{"$f":"( SUMIFS(D:D,C:C, \"4\",A:A, \"2018\",B:B, \"2007\")+ SUMIFS(D:D,C:C, \"4\",A:A, \"2018\",B:B, \"2008\")+ SUMIFS(D:D,C:C, \"4\",A:A, \"2018\",B:B, \"2009\"))/S7","v":0.10820985213730565},{"$f":"( SUMIFS(D:D,C:C, \"6\",A:A, \"2018\",B:B, \"2007\")+ SUMIFS(D:D,C:C, \"6\",A:A, \"2018\",B:B, \"2008\")+ SUMIFS(D:D,C:C, \"6\",A:A, \"2018\",B:B, \"2009\"))/T7","v":0.11506956127494672},null,null,2019,{"$f":"SUMIFS(D:D,C:C, \"4\",A:A, \"2019\")","v":3564226585},{"$f":"SUMIFS(D:D,C:C, \"6\",A:A, \"2019\")","v":1814584.6337890625}]
[2018,2011,6,51608.19921875,null,null,2019,"2007-2009",9.3238544765525899E-2,0.10910590594896415,null,null,"2010-2012",{"$f":"( SUMIFS(D:D,C:C, \"4\",A:A, \"2018\",B:B, \"2010\")+ SUMIFS(D:D,C:C, \"4\",A:A, \"2018\",B:B, \"2011\")+ SUMIFS(D:D,C:C, \"4\",A:A, \"2018\",B:B, \"2012\"))/S7","v":0.13025487818140744},{"$f":"( SUMIFS(D:D,C:C, \"6\",A:A, \"2018\",B:B, \"2010\")+ SUMIFS(D:D,C:C, \"6\",A:A, \"2018\",B:B, \"2011\")+ SUMIFS(D:D,C:C, \"6\",A:A, \"2018\",B:B, \"2012\"))/T7","v":0.10550479326650845},null,null,2020,{"$f":"SUMIFS(D:D,C:C, \"4\",A:A, \"2020\")","v":3596424904},{"$f":"SUMIFS(D:D,C:C, \"6\",A:A, \"2020\")","v":1814888.814453125}]
[2018,2010,6,42030.8984375,null,null,2019,"2010-2012",0.11685121584378733,0.10187609518602894,null,null,"2013-2020",{"$f":"( SUMIFS(D:D,C:C, \"4\",A:A, \"2018\",B:B, \"2013\")+ SUMIFS(D:D,C:C, \"4\",A:A, \"2018\",B:B, \"2014\")+ SUMIFS(D:D,C:C, \"4\",A:A, \"2018\",B:B, \"2015\")+SUMIFS(D:D,C:C, \"4\",A:A, \"2018\",B:B, \"2016\")+SUMIFS(D:D,C:C, \"4\",A:A, \"2018\",B:B, \"2017\")+SUMIFS(D:D,C:C, \"4\",A:A, \"2018\",B:B, \"2018\"))/S7","v":0.575571810347142},{"$f":"( SUMIFS(D:D,C:C, \"6\",A:A, \"2018\",B:B, \"2013\")+ SUMIFS(D:D,C:C, \"6\",A:A, \"2018\",B:B, \"2014\")+ SUMIFS(D:D,C:C, \"6\",A:A, \"2018\",B:B, \"2015\")+SUMIFS(D:D,C:C, \"6\",A:A, \"2018\",B:B, \"2016\")+SUMIFS(D:D,C:C, \"6\",A:A, \"2018\",B:B, \"2017\")+SUMIFS(D:D,C:C, \"6\",A:A, \"2018\",B:B, \"2018\"))/T7","v":0.38433323272669528},null,null,2021,{"$f":"SUMIFS(D:D,C:C, \"4\",A:A, \"2021\")","v":3607006699},{"$f":"SUMIFS(D:D,C:C, \"6\",A:A, \"2021\")","v":1811107.4194335938}]
[2018,2009,6,51556.1015625,null,null,2019,"2013-2020",0.6385461893972153,0.43846502589197428,null,null,"2021-2023",0,0,null,null,2022,{"$f":"SUMIFS(D:D,C:C, \"4\",A:A, \"2022\")","v":3631969900},{"$f":"SUMIFS(D:D,C:C, \"6\",A:A, \"2022\")","v":1814526.19921875}]
[2018,2008,6,32500.69921875,null,null,2019,"2021-2023",0,0,null,null,"2024-2050",0,0,null,null,2023,{"$f":"SUMIFS(D:D,C:C, \"4\",A:A, \"2023\")","v":3656452747},{"$f":"SUMIFS(D:D,C:C,\"6\",A:A,\"2023\")","v":1813168.505859375}]
[2018,2007,6,123604,null,null,2019,"2024-2050",0,0,null,null,null,{"$f":"SUM(N7:N12)","v":1},{"$f":"SUM(O7:O12)","v":0.99999999999999989},null,null,2024,{"$f":"SUMIFS(D:D,C:C, \"4\",A:A, \"2024\")","v":3676270039},{"$f":"SUMIFS(D:D,C:C,\"6\",A:A,\"2024\")","v":1811903.986328125}]
[2018,2006,6,90961.296875,null,null,2020,{"$f":"M26","v":"2006 or earlier"},0.12326661555116403,{"$f":"O26","v":0.31189878127358983},null,null,"2019 Fractions",null,null,null,null,2025,{"$f":"SUMIFS(D:D,C:C, \"4\",A:A, \"2025\")","v":3698976121},{"$f":"SUMIFS(D:D,C:C,\"6\",A:A,\"2025\")","v":1815127.41015625}]
[2018,2005,6,83196.5,null,null,2020,"2007-2009",7.9227554475860121E-2,0.10233238472329668,null,null,"Model Year Group","Operating Hours","No. of Trucks",null,null,2026,{"$f":"SUMIFS(D:D,C:C, \"4\",A:A, \"2026\")","v":3728406140},{"$f":"SUMIFS(D:D,C:C,\"6\",A:A,\"2026\")","v":1819250.826171875}]
[2018,2004,6,46049.6015625,null,null,2020,"2010-2012",0.10431509902590753,9.7853928342995417E-2,null,null,"2006 or earlier",{"$f":"( SUMIFS(D:D,C:C, \"4\",A:A, \"2019\",B:B, \"2006\")+ SUMIFS(D:D,C:C, \"4\",A:A, \"2019\",B:B, \"2005\")+ SUMIFS(D:D,C:C, \"4\",A:A, \"2019\",B:B, \"2004\")+ SUMIFS(D:D,C:C, \"4\",A:A, \"2019\",B:B, \"2003\")+ SUMIFS(D:D,C:C, \"4\",A:A, \"2019\",B:B, \"2002\")+ SUMIFS(D:D,C:C, \"4\",A:A, \"2019\",B:B, \"2001\")+SUMIFS(D:D,C:C, \"4\",A:A, \"2019\",B:B, \"2000\")+SUMIFS(D:D,C:C, \"4\",A:A, \"2019\",B:B, \"1999\")+SUMIFS(D:D,C:C, \"4\",A:A, \"2019\",B:B, \"1998\")+SUMIFS(D:D,C:C, \"4\",A:A, \"2019\",B:B, \"1997\")+SUMIFS(D:D,C:C, \"4\",A:A, \"2019\",B:B, \"1996\")+SUMIFS(D:D,C:C, \"4\",A:A, \"2019\",B:B, \"1995\")+SUMIFS(D:D,C:C, \"4\",A:A, \"2019\",B:B, \"1994\")+SUMIFS(D:D,C:C, \"4\",A:A, \"2019\",B:B, \"1993\")+SUMIFS(D:D,C:C, \"4\",A:A, \"2019\",B:B, \"1992\")+SUMIFS(D:D,C:C, \"4\",A:A, \"2019\",B:B, \"1991\")+SUMIFS(D:D,C:C, \"4\",A:A, \"2019\",B:B, \"1990\")+SUMIFS(D:D,C:C, \"4\",A:A, \"2019\",B:B, \"1989\"))/S8","v":0.15136404999347144},{"$f":"( SUMIFS(D:D,C:C, \"6\",A:A, \"2019\",B:B, \"2006\")+ SUMIFS(D:D,C:C, \"6\",A:A, \"2019\",B:B, \"2005\")+ SUMIFS(D:D,C:C, \"6\",A:A, \"2019\",B:B, \"2004\")+ SUMIFS(D:D,C:C, \"6\",A:A, \"2019\",B:B, \"2003\")+ SUMIFS(D:D,C:C, \"6\",A:A, \"2019\",B:B, \"2002\")+ SUMIFS(D:D,C:C, \"6\",A:A, \"2019\",B:B, \"2001\")+SUMIFS(D:D,C:C, \"6\",A:A, \"2019\",B:B, \"2000\")+SUMIFS(D:D,C:C, \"6\",A:A, \"2019\",B:B, \"1999\")+SUMIFS(D:D,C:C, \"6\",A:A, \"2019\",B:B, \"1998\")+SUMIFS(D:D,C:C, \"6\",A:A, \"2019\",B:B, \"1997\")+SUMIFS(D:D,C:C, \"6\",A:A, \"2019\",B:B, \"1996\")+SUMIFS(D:D,C:C, \"6\",A:A, \"2019\",B:B, \"1995\")+SUMIFS(D:D,C:C, \"6\",A:A, \"2019\",B:B, \"1994\")+SUMIFS(D:D,C:C, \"6\",A:A, \"2019\",B:B, \"1993\")+SUMIFS(D:D,C:C, \"6\",A:A, \"2019\",B:B, \"1992\")+SUMIFS(D:D,C:C, \"6\",A:A, \"2019\",B:B, \"1991\")+SUMIFS(D:D,C:C, \"6\",A:A, \"2019\",B:B, \"1990\")+SUMIFS(D:D,C:C, \"6\",A:A, \"2019\",B:B, \"1989\"))/T8","v":0.35055297297303262},null,null,2027,{"$f":"SUMIFS(D:D,C:C, \"4\",A:A, \"2027\")","v":3750469147},{"$f":"SUMIFS(D:D,C:C,\"6\",A:A,\"2027\")","v":1824560.603515625}]
[2018,2003,6,41784.30078125,null,null,2020,"2013-2020",0.69319073094706829,0.48791490566011808,null,null,"2007-2009",{"$f":"( SUMIFS(D:D,C:C, \"4\",A:A, \"2019\",B:B, \"2007\")+ SUMIFS(D:D,C:C, \"4\",A:A, \"2019\",B:B, \"2008\")+ SUMIFS(D:D,C:C, \"4\",A:A, \"2019\",B:B, \"2009\"))/S8","v":9.3238544765525899E-2},{"$f":"( SUMIFS(D:D,C:C, \"6\",A:A, \"2019\",B:B, \"2007\")+ SUMIFS(D:D,C:C, \"6\",A:A, \"2019\",B:B, \"2008\")+ SUMIFS(D:D,C:C, \"6\",A:A, \"2019\",B:B, \"2009\"))/T8","v":0.10910590594896415},null,null,2028,{"$f":"SUMIFS(D:D,C:C, \"4\",A:A, \"2028\")","v":3776206304},{"$f":"SUMIFS(D:D,C:C,\"6\",A:A,\"2028\")","v":1818037.4345703125}]
[2018,2002,6,27004.099609375,null,null,2020,"2021-2023",0,0,null,null,"2010-2012",{"$f":"( SUMIFS(D:D,C:C, \"4\",A:A, \"2019\",B:B, \"2010\")+ SUMIFS(D:D,C:C, \"4\",A:A, \"2019\",B:B, \"2011\")+ SUMIFS(D:D,C:C, \"4\",A:A, \"2019\",B:B, \"2012\"))/S8","v":0.11685121584378733},{"$f":"( SUMIFS(D:D,C:C, \"6\",A:A, \"2019\",B:B, \"2010\")+ SUMIFS(D:D,C:C, \"6\",A:A, \"2019\",B:B, \"2011\")+ SUMIFS(D:D,C:C, \"6\",A:A, \"2019\",B:B, \"2012\"))/T8","v":0.10187609518602894},null,null,2029,{"$f":"SUMIFS(D:D,C:C, \"4\",A:A, \"2029\")","v":3792491158},{"$f":"SUMIFS(D:D,C:C,\"6\",A:A,\"2029\")","v":1815650.1040039063}]
[2018,2001,6,44799.30078125,null,null,2020,"2024-2050",0,0,null,null,"2013-2020",{"$f":"( SUMIFS(D:D,C:C, \"4\",A:A, \"2019\",B:B, \"2013\")+ SUMIFS(D:D,C:C, \"4\",A:A, \"2019\",B:B, \"2014\")+ SUMIFS(D:D,C:C, \"4\",A:A, \"2019\",B:B, \"2015\")+SUMIFS(D:D,C:C, \"4\",A:A, \"2019\",B:B, \"2016\")+SUMIFS(D:D,C:C, \"4\",A:A, \"2019\",B:B, \"2017\")+SUMIFS(D:D,C:C, \"4\",A:A, \"2019\",B:B, \"2018\")+SUMIFS(D:D,C:C, \"4\",A:A, \"2019\",B:B, \"2019\"))/S8","v":0.6385461893972153},{"$f":"( SUMIFS(D:D,C:C, \"6\",A:A, \"2019\",B:B, \"2013\")+ SUMIFS(D:D,C:C, \"6\",A:A, \"2019\",B:B, \"2014\")+ SUMIFS(D:D,C:C, \"6\",A:A, \"2019\",B:B, \"2015\")+SUMIFS(D:D,C:C, \"6\",A:A, \"2019\",B:B, \"2016\")+SUMIFS(D:D,C:C, \"6\",A:A, \"2019\",B:B, \"2017\")+SUMIFS(D:D,C:C, \"6\",A:A, \"2019\",B:B, \"2018\")+SUMIFS(D:D,C:C, \"6\",A:A, \"2019\",B:B, \"2019\"))/T8","v":0.43846502589197428},null,null,2030,{"$f":"SUMIFS(D:D,C:C, \"4\",A:A, \"2030\")","v":3811504325},{"$f":"SUMIFS(D:D,C:C,\"6\",A:A,\"2030\")","v":1817166.3315429688}]
[2018,2000,6,69362.3984375,null,null,2021,{"$f":"M36","v":"2006 or earlier"},0.10021900405680394,0.27755704231478096,null,null,"2021-2023",0,0,null,null,2031,{"$f":"SUMIFS(D:D,C:C, \"4\",A:A, R20)","v":3831976013},{"$f":"SUMIFS(D:D,C:C,\"6\",A:A,R20)","v":1819851.7592773438}]
[2018,1999,6,56699.30078125,null,null,2021,"2007-2009",6.6793502231862645E-2,9.5853674342266298E-2,null,null,"2024-2050",0,0,null,null,2032,{"$f":"SUMIFS(D:D,C:C, \"4\",A:A, R21)","v":3853665395},{"$f":"SUMIFS(D:D,C:C,\"6\",A:A,R21)","v":1822334.2509765625}]
[2018,1998,6,41537.3984375,null,null,2021,"2010-2012",9.2807726166077742E-2,9.3777042185667764E-2,null,null,null,{"$f":"SUM(N16:N21)","v":1},{"$f":"SUM(O16:O21)","v":1},null,null,2033,3873714090,1812648.1162109375]
[2018,1997,6,29296.69921875,null,null,2021,"2013-2020",0.66328074318888308,0.4825755182626516,null,null,null,null,null,null,null,2034,3899149494,1808485.8940429688]
[2018,1996,6,31474.400390625,null,null,2021,"2021-2023",7.6899024356372567E-2,5.0236722894633379E-2,null,null,"2020 Fractions",null,null,null,null,2035,3930251202,1813207.7763671875]
[2018,1995,6,28638.900390625,null,null,2021,"2024-2050",0,0,null,null,"Model Year Group","Operating Hours","No. of Trucks",null,null,2036,3958259348,1815652.75]
[2018,1994,6,24248,null,null,2022,{"$f":"M46","v":"2006 or earlier"},8.1233076298347071E-2,0.24489549890183432,null,null,"2006 or earlier",{"$f":"( SUMIFS(D:D,C:C, \"4\",A:A, \"2020\",B:B, \"2006\")+ SUMIFS(D:D,C:C, \"4\",A:A, \"2020\",B:B, \"2005\")+ SUMIFS(D:D,C:C, \"4\",A:A, \"2020\",B:B, \"2004\")+ SUMIFS(D:D,C:C, \"4\",A:A, \"2020\",B:B, \"2003\")+ SUMIFS(D:D,C:C, \"4\",A:A, \"2020\",B:B, \"2002\")+ SUMIFS(D:D,C:C, \"4\",A:A, \"2020\",B:B, \"2001\")+SUMIFS(D:D,C:C, \"4\",A:A, \"2020\",B:B, \"2000\")+SUMIFS(D:D,C:C, \"4\",A:A, \"2020\",B:B, \"1999\")+SUMIFS(D:D,C:C, \"4\",A:A, \"2020\",B:B, \"1998\")+SUMIFS(D:D,C:C, \"4\",A:A, \"2020\",B:B, \"1997\")+SUMIFS(D:D,C:C, \"4\",A:A, \"2020\",B:B, \"1996\")+SUMIFS(D:D,C:C, \"4\",A:A, \"2020\",B:B, \"1995\")+SUMIFS(D:D,C:C, \"4\",A:A, \"2020\",B:B, \"1994\")+SUMIFS(D:D,C:C, \"4\",A:A, \"2020\",B:B, \"1993\")+SUMIFS(D:D,C:C, \"4\",A:A, \"2020\",B:B, \"1992\")+SUMIFS(D:D,C:C, \"4\",A:A, \"2020\",B:B, \"1991\")+SUMIFS(D:D,C:C, \"4\",A:A, \"2020\",B:B, \"1990\"))/S9","v":0.12326661555116403},{"$f":"( SUMIFS(D:D,C:C, \"6\",A:A, \"2020\",B:B, \"2006\")+ SUMIFS(D:D,C:C, \"6\",A:A, \"2020\",B:B, \"2005\")+ SUMIFS(D:D,C:C, \"6\",A:A, \"2020\",B:B, \"2004\")+ SUMIFS(D:D,C:C, \"6\",A:A, \"2020\",B:B, \"2003\")+ SUMIFS(D:D,C:C, \"6\",A:A, \"2020\",B:B, \"2002\")+ SUMIFS(D:D,C:C, \"6\",A:A, \"2020\",B:B, \"2001\")+SUMIFS(D:D,C:C, \"6\",A:A, \"2020\",B:B, \"2000\")+SUMIFS(D:D,C:C, \"6\",A:A, \"2020\",B:B, \"1999\")+SUMIFS(D:D,C:C, \"6\",A:A, \"2020\",B:B, \"1998\")+SUMIFS(D:D,C:C, \"6\",A:A, \"2020\",B:B, \"1997\")+SUMIFS(D:D,C:C, \"6\",A:A, \"2020\",B:B, \"1996\")+SUMIFS(D:D,C:C, \"6\",A:A, \"2020\",B:B, \"1995\")+SUMIFS(D:D,C:C, \"6\",A:A, \"2020\",B:B, \"1994\")+SUMIFS(D:D,C:C, \"6\",A:A, \"2020\",B:B, \"1993\")+SUMIFS(D:D,C:C, \"6\",A:A, \"2020\",B:B, \"1992\")+SUMIFS(D:D,C:C, \"6\",A:A, \"2020\",B:B, \"1991\")+SUMIFS(D:D,C:C, \"6\",A:A, \"2020\",B:B, \"1990\"))/T9","v":0.31189878127358983},null,null,2037,3989666570,1823515.1611328125]
[2018,1993,6,19178.099609375,null,null,2022,"2007-2009",5.5028567279701297E-2,8.9129989548515642E-2,null,null,"2007-2009",{"$f":"( SUMIFS(D:D,C:C, \"4\",A:A, \"2020\",B:B, \"2007\")+ SUMIFS(D:D,C:C, \"4\",A:A, \"2020\",B:B, \"2008\")+ SUMIFS(D:D,C:C, \"4\",A:A, \"2020\",B:B, \"2009\"))/S9","v":7.9227554475860121E-2},{"$f":"( SUMIFS(D:D,C:C, \"6\",A:A, \"2020\",B:B, \"2007\")+ SUMIFS(D:D,C:C, \"6\",A:A, \"2020\",B:B, \"2008\")+ SUMIFS(D:D,C:C, \"6\",A:A, \"2020\",B:B, \"2009\"))/T9","v":0.10233238472329668},null,null,2038,4019968097,1824881.9301757813]
[2018,1992,6,12866.900390625,null,null,2022,"2010-2012",8.1271901509976721E-2,8.9184991639098835E-2,null,null,"2010-2012",{"$f":"( SUMIFS(D:D,C:C, \"4\",A:A, \"2020\",B:B, \"2010\")+ SUMIFS(D:D,C:C, \"4\",A:A, \"2020\",B:B, \"2011\")+ SUMIFS(D:D,C:C, \"4\",A:A, \"2020\",B:B, \"2012\"))/S9","v":0.10431509902590753},{"$f":"( SUMIFS(D:D,C:C, \"6\",A:A, \"2020\",B:B, \"2010\")+ SUMIFS(D:D,C:C, \"6\",A:A, \"2020\",B:B, \"2011\")+ SUMIFS(D:D,C:C, \"6\",A:A, \"2020\",B:B, \"2012\"))/T9","v":9.7853928342995417E-2},null,null,2039,4049392495,1830770.072265625]
[2018,1991,6,11432.900390625,null,null,2022,"2013-2020",0.62297069477365441,0.47281119294082596,null,null,"2013-2020",{"$f":"( SUMIFS(D:D,C:C, \"4\",A:A, \"2020\",B:B, \"2013\")+ SUMIFS(D:D,C:C, \"4\",A:A, \"2020\",B:B, \"2014\")+ SUMIFS(D:D,C:C, \"4\",A:A, \"2020\",B:B, \"2015\")+SUMIFS(D:D,C:C, \"4\",A:A, \"2020\",B:B, \"2016\")+SUMIFS(D:D,C:C, \"4\",A:A, \"2020\",B:B, \"2017\")+SUMIFS(D:D,C:C, \"4\",A:A, \"2020\",B:B, \"2018\")+SUMIFS(D:D,C:C, \"4\",A:A, \"2020\",B:B, \"2019\")+SUMIFS(D:D,C:C, \"4\",A:A, \"2020\",B:B, \"2020\"))/S9","v":0.69319073094706829},{"$f":"( SUMIFS(D:D,C:C, \"6\",A:A, \"2020\",B:B, \"2013\")+ SUMIFS(D:D,C:C, \"6\",A:A, \"2020\",B:B, \"2014\")+ SUMIFS(D:D,C:C, \"6\",A:A, \"2020\",B:B, \"2015\")+SUMIFS(D:D,C:C, \"6\",A:A, \"2020\",B:B, \"2016\")+SUMIFS(D:D,C:C, \"6\",A:A, \"2020\",B:B, \"2017\")+SUMIFS(D:D,C:C, \"6\",A:A, \"2020\",B:B, \"2018\")+SUMIFS(D:D,C:C, \"6\",A:A, \"2020\",B:B, \"2019\")+SUMIFS(D:D,C:C, \"6\",A:A, \"2020\",B:B, \"2020\"))/T9","v":0.48791490566011808},null,null,2040,4068086663,1812103.9169921875]
[2018,1990,6,13166.2998046875,null,null,2022,"2021-2023",0.15949576013832054,0.10397832696972524,null,null,"2021-2023",0,0]
[2018,1989,6,15792.099609375,null,null,2022,"2024-2050",0,0,null,null,"2024-2050",0,0]
[2018,1988,6,25516.80078125,null,null,2023,{"$f":"M56","v":"2006 or earlier"},6.6564599583488065E-2,0.21416112069225759,null,null,null,{"$f":"SUM(N26:N31)","v":1},{"$f":"SUM(O26:O31)","v":1},null,null,"Model Year Group","Activity"]
[2018,2018,4,283602396,null,null,2023,"2007-2009",4.428206001919379E-2,8.2360187679700353E-2,null,null,null,null,null,null,null,"2006 or earlier",{"$f":"(IF(internalIdle!$C$9=1,(IF($O$1<>\"Select\",SUMIFS(I:I,G:G,$O$1,H:H,R33),0)),(IF($O$1<>\"Select\",SUMIFS(J:J,G:G,$O$1,H:H,R33),0)))*(IF($O$2<>\"Enter\",$O$2,0)))","v":2292.7223454445475}]
[2018,2017,4,330054800,null,null,2023,"2010-2012",6.9995536031468367E-2,8.4153734138628991E-2,null,null,"2021 Fractions",null,null,null,null,"2007-2009",{"$f":"IF(internalIdle!$C$9=1,(IF($O$1<>\"Select\",SUMIFS(I:I,G:G,$O$1,H:H,R34),0)),(IF($O$1<>\"Select\",SUMIFS(J:J,G:G,$O$1,H:H,R34),0)))*(IF($O$2<>\"Enter\",$O$2,0))","v":1553.1262829022894}]
[2018,2016,4,333816000,null,null,2023,"2013-2020",0.57796097863807561,0.46227843712061911,null,null,"Model Year Group","Operating Hours","No. of Trucks",null,null,"2010-2012",{"$f":"IF(internalIdle!$C$9=1,(IF($O$1<>\"Select\",SUMIFS(I:I,G:G,$O$1,H:H,R35),0)),(IF($O$1<>\"Select\",SUMIFS(J:J,G:G,$O$1,H:H,R35),0)))*(IF($O$2<>\"Enter\",$O$2,0))","v":2293.8181482175828}]
[2018,2015,4,432386100,null,null,2023,"2021-2023",0.24119682572777412,0.15704652036879393,null,null,"2006 or earlier",{"$f":"( SUMIFS(D:D,C:C, \"4\",A:A, \"2021\",B:B, \"2006\")+ SUMIFS(D:D,C:C, \"4\",A:A, \"2021\",B:B, \"2005\")+ SUMIFS(D:D,C:C, \"4\",A:A, \"2021\",B:B, \"2004\")+ SUMIFS(D:D,C:C, \"4\",A:A, \"2021\",B:B, \"2003\")+ SUMIFS(D:D,C:C, \"4\",A:A, \"2021\",B:B, \"2002\")+ SUMIFS(D:D,C:C, \"4\",A:A, \"2021\",B:B, \"2001\")+SUMIFS(D:D,C:C, \"4\",A:A, \"2021\",B:B, \"2000\")+SUMIFS(D:D,C:C, \"4\",A:A, \"2021\",B:B, \"1999\")+SUMIFS(D:D,C:C, \"4\",A:A, \"2021\",B:B, \"1998\")+SUMIFS(D:D,C:C, \"4\",A:A, \"2021\",B:B, \"1997\")+SUMIFS(D:D,C:C, \"4\",A:A, \"2021\",B:B, \"1996\")+SUMIFS(D:D,C:C, \"4\",A:A, \"2021\",B:B, \"1995\")+SUMIFS(D:D,C:C, \"4\",A:A, \"2021\",B:B, \"1994\")+SUMIFS(D:D,C:C, \"4\",A:A, \"2021\",B:B, \"1993\")+SUMIFS(D:D,C:C, \"4\",A:A, \"2021\",B:B, \"1992\")+SUMIFS(D:D,C:C, \"4\",A:A, \"2021\",B:B, \"1991\"))/S10","v":0.10021900405680394},{"$f":"( SUMIFS(D:D,C:C, \"6\",A:A, \"2021\",B:B, \"2006\")+ SUMIFS(D:D,C:C, \"6\",A:A, \"2021\",B:B, \"2005\")+ SUMIFS(D:D,C:C, \"6\",A:A, \"2021\",B:B, \"2004\")+ SUMIFS(D:D,C:C, \"6\",A:A, \"2021\",B:B, \"2003\")+ SUMIFS(D:D,C:C, \"6\",A:A, \"2021\",B:B, \"2002\")+ SUMIFS(D:D,C:C, \"6\",A:A, \"2021\",B:B, \"2001\")+SUMIFS(D:D,C:C, \"6\",A:A, \"2021\",B:B, \"2000\")+SUMIFS(D:D,C:C, \"6\",A:A, \"2021\",B:B, \"1999\")+SUMIFS(D:D,C:C, \"6\",A:A, \"2021\",B:B, \"1998\")+SUMIFS(D:D,C:C, \"6\",A:A, \"2021\",B:B, \"1997\")+SUMIFS(D:D,C:C, \"6\",A:A, \"2021\",B:B, \"1996\")+SUMIFS(D:D,C:C, \"6\",A:A, \"2021\",B:B, \"1995\")+SUMIFS(D:D,C:C, \"6\",A:A, \"2021\",B:B, \"1994\")+SUMIFS(D:D,C:C, \"6\",A:A, \"2021\",B:B, \"1993\")+SUMIFS(D:D,C:C, \"6\",A:A, \"2021\",B:B, \"1992\")+SUMIFS(D:D,C:C, \"6\",A:A, \"2021\",B:B, \"1991\"))/T10","v":0.27755704231478096},null,null,"2013-2020",{"$f":"IF(internalIdle!$C$9=1,(IF($O$1<>\"Select\",SUMIFS(I:I,G:G,$O$1,H:H,R36),0)),(IF($O$1<>\"Select\",SUMIFS(J:J,G:G,$O$1,H:H,R36),0)))*(IF($O$2<>\"Enter\",$O$2,0))","v":17582.724889291621}]
[2018,2014,4,363996104,null,null,2023,"2024-2050",0,0,null,null,"2007-2009",{"$f":"( SUMIFS(D:D,C:C, \"4\",A:A, \"2021\",B:B, \"2007\")+ SUMIFS(D:D,C:C, \"4\",A:A, \"2021\",B:B, \"2008\")+ SUMIFS(D:D,C:C, \"4\",A:A, \"2021\",B:B, \"2009\"))/S10","v":6.6793502231862645E-2},{"$f":"( SUMIFS(D:D,C:C, \"6\",A:A, \"2021\",B:B, \"2007\")+ SUMIFS(D:D,C:C, \"6\",A:A, \"2021\",B:B, \"2008\")+ SUMIFS(D:D,C:C, \"6\",A:A, \"2021\",B:B, \"2009\"))/T10","v":9.5853674342266298E-2},null,null,"2021-2023",{"$f":"(IF(internalIdle!$C$9=1,(IF($O$1<>\"Select\",SUMIFS(I:I,G:G,$O$1,H:H,R37),0)),(IF($O$1<>\"Select\",SUMIFS(J:J,G:G,$O$1,H:H,R37),0)))*(IF($O$2<>\"Enter\",$O$2,0)))","v":4501.6083341439589}]
[2018,2013,4,252517700,null,null,2024,{"$f":"M66","v":"2006 or earlier"},5.4117825102455698E-2,0.18624640060922792,null,null,"2010-2012",{"$f":"( SUMIFS(D:D,C:C, \"4\",A:A, \"2021\",B:B, \"2010\")+ SUMIFS(D:D,C:C, \"4\",A:A, \"2021\",B:B, \"2011\")+ SUMIFS(D:D,C:C, \"4\",A:A, \"2021\",B:B, \"2012\"))/S10","v":9.2807726166077742E-2},{"$f":"( SUMIFS(D:D,C:C, \"6\",A:A, \"2021\",B:B, \"2010\")+ SUMIFS(D:D,C:C, \"6\",A:A, \"2021\",B:B, \"2011\")+ SUMIFS(D:D,C:C, \"6\",A:A, \"2021\",B:B, \"2012\"))/T10","v":9.3777042185667764E-2},null,null,"2024-2050",{"$f":"(IF(internalIdle!$C$9=1,(IF($O$1<>\"Select\",SUMIFS(I:I,G:G,$O$1,H:H,R38),0)),(IF($O$1<>\"Select\",SUMIFS(J:J,G:G,$O$1,H:H,R38),0)))*(IF($O$2<>\"Enter\",$O$2,0)))","v":0}]
[2018,2012,4,240325000,null,null,2024,"2007-2009",3.7197368133815703E-2,7.6173073166847544E-2,null,null,"2013-2020",{"$f":"( SUMIFS(D:D,C:C, \"4\",A:A, \"2021\",B:B, \"2013\")+ SUMIFS(D:D,C:C, \"4\",A:A, \"2021\",B:B, \"2014\")+ SUMIFS(D:D,C:C, \"4\",A:A, \"2021\",B:B, \"2015\")+SUMIFS(D:D,C:C, \"4\",A:A, \"2021\",B:B, \"2016\")+SUMIFS(D:D,C:C, \"4\",A:A, \"2021\",B:B, \"2017\")+SUMIFS(D:D,C:C, \"4\",A:A, \"2021\",B:B, \"2018\")+SUMIFS(D:D,C:C, \"4\",A:A, \"2021\",B:B, \"2019\")+SUMIFS(D:D,C:C, \"4\",A:A, \"2021\",B:B, \"2020\"))/S10","v":0.66328074318888308},{"$f":"( SUMIFS(D:D,C:C, \"6\",A:A, \"2021\",B:B, \"2013\")+ SUMIFS(D:D,C:C, \"6\",A:A, \"2021\",B:B, \"2014\")+ SUMIFS(D:D,C:C, \"6\",A:A, \"2021\",B:B, \"2015\")+SUMIFS(D:D,C:C, \"6\",A:A, \"2021\",B:B, \"2016\")+SUMIFS(D:D,C:C, \"6\",A:A, \"2021\",B:B, \"2017\")+SUMIFS(D:D,C:C, \"6\",A:A, \"2021\",B:B, \"2018\")+SUMIFS(D:D,C:C, \"6\",A:A, \"2021\",B:B, \"2019\")+SUMIFS(D:D,C:C, \"6\",A:A, \"2021\",B:B, \"2020\"))/T10","v":0.4825755182626516},null,null,null,{"$f":"SUM(S33:S38)","v":28224}]
[2018,2011,4,120150500,null,null,2024,"2010-2012",5.9682098342177851E-2,7.9297413059560173E-2,null,null,"2021-2023",{"$f":"( SUMIFS(D:D,C:C, \"4\",A:A, \"2021\",B:B, \"2021\"))/S10","v":7.6899024356372567E-2},{"$f":"( SUMIFS(D:D,C:C, \"6\",A:A, \"2021\",B:B, \"2021\"))/T10","v":5.0236722894633379E-2}]
[2018,2010,4,91314060,null,null,2024,"2013-2020",0.52818291023261799,0.44979254120914097,null,null,"2024-2050",0,0]
[2018,2009,4,103986600,null,null,2024,"2021-2023",0.24267673553237584,0.15770785988449837,null,null,null,{"$f":"SUM(N36:N41)","v":1},{"$f":"SUM(O36:O41)","v":1}]
[2018,2008,4,60496100,null,null,2024,"2024-2050",{"$f":"N71","v":7.8143062656556933E-2},5.0782712070724989E-2]
[2018,2007,4,210843600,null,null,2025,{"$f":"M76","v":"2006 or earlier"},4.391705101250639E-2,0.16182175417493991,null,null,"2022 Fractions"]
[2018,2006,4,141009400,null,null,2025,"2007-2009",3.1322232480018759E-2,6.9925174867792997E-2,null,null,"Model Year Group","Operating Hours","No. of Trucks"]
[2018,2005,4,116028200,null,null,2025,"2010-2012",5.0181643224508937E-2,7.439709105991929E-2,null,null,"2006 or earlier",{"$f":"( SUMIFS(D:D,C:C, \"4\",A:A, \"2022\",B:B, \"2006\")+ SUMIFS(D:D,C:C, \"4\",A:A, \"2022\",B:B, \"2005\")+ SUMIFS(D:D,C:C, \"4\",A:A, \"2022\",B:B, \"2004\")+ SUMIFS(D:D,C:C, \"4\",A:A, \"2022\",B:B, \"2003\")+ SUMIFS(D:D,C:C, \"4\",A:A, \"2022\",B:B, \"2002\")+ SUMIFS(D:D,C:C, \"4\",A:A, \"2022\",B:B, \"2001\")+SUMIFS(D:D,C:C, \"4\",A:A, \"2022\",B:B, \"2000\")+SUMIFS(D:D,C:C, \"4\",A:A, \"2022\",B:B, \"1999\")+SUMIFS(D:D,C:C, \"4\",A:A, \"2022\",B:B, \"1998\")+SUMIFS(D:D,C:C, \"4\",A:A, \"2022\",B:B, \"1997\")+SUMIFS(D:D,C:C, \"4\",A:A, \"2022\",B:B, \"1996\")+SUMIFS(D:D,C:C, \"4\",A:A, \"2022\",B:B, \"1995\")+SUMIFS(D:D,C:C, \"4\",A:A, \"2022\",B:B, \"1994\")+SUMIFS(D:D,C:C, \"4\",A:A, \"2022\",B:B, \"1993\")+SUMIFS(D:D,C:C, \"4\",A:A, \"2022\",B:B, \"1992\"))/S11","v":8.1233076298347071E-2},{"$f":"( SUMIFS(D:D,C:C, \"6\",A:A, \"2022\",B:B, \"2006\")+ SUMIFS(D:D,C:C, \"6\",A:A, \"2022\",B:B, \"2005\")+ SUMIFS(D:D,C:C, \"6\",A:A, \"2022\",B:B, \"2004\")+ SUMIFS(D:D,C:C, \"6\",A:A, \"2022\",B:B, \"2003\")+ SUMIFS(D:D,C:C, \"6\",A:A, \"2022\",B:B, \"2002\")+ SUMIFS(D:D,C:C, \"6\",A:A, \"2022\",B:B, \"2001\")+SUMIFS(D:D,C:C, \"6\",A:A, \"2022\",B:B, \"2000\")+SUMIFS(D:D,C:C, \"6\",A:A, \"2022\",B:B, \"1999\")+SUMIFS(D:D,C:C, \"6\",A:A, \"2022\",B:B, \"1998\")+SUMIFS(D:D,C:C, \"6\",A:A, \"2022\",B:B, \"1997\")+SUMIFS(D:D,C:C, \"6\",A:A, \"2022\",B:B, \"1996\")+SUMIFS(D:D,C:C, \"6\",A:A, \"2022\",B:B, \"1995\")+SUMIFS(D:D,C:C, \"6\",A:A, \"2022\",B:B, \"1994\")+SUMIFS(D:D,C:C, \"6\",A:A, \"2022\",B:B, \"1993\")+SUMIFS(D:D,C:C, \"6\",A:A, \"2022\",B:B, \"1992\"))/T11","v":0.24489549890183432}]
[2018,2004,4,57057610,null,null,2025,"2013-2020",0.47852277011225397,0.43494776452471701,null,null,"2007-2009",{"$f":"( SUMIFS(D:D,C:C, \"4\",A:A, \"2022\",B:B, \"2007\")+ SUMIFS(D:D,C:C, \"4\",A:A, \"2022\",B:B, \"2008\")+ SUMIFS(D:D,C:C, \"4\",A:A, \"2022\",B:B, \"2009\"))/S11","v":5.5028567279701297E-2},{"$f":"( SUMIFS(D:D,C:C, \"6\",A:A, \"2022\",B:B, \"2007\")+ SUMIFS(D:D,C:C, \"6\",A:A, \"2022\",B:B, \"2008\")+ SUMIFS(D:D,C:C, \"6\",A:A, \"2022\",B:B, \"2009\"))/T11","v":8.9129989548515642E-2}]
[2018,2003,4,45271630,null,null,2025,"2021-2023",0.24015818727692728,0.15804807796539472,null,null,"2010-2012",{"$f":"( SUMIFS(D:D,C:C, \"4\",A:A, \"2022\",B:B, \"2010\")+ SUMIFS(D:D,C:C, \"4\",A:A, \"2022\",B:B, \"2011\")+ SUMIFS(D:D,C:C, \"4\",A:A, \"2022\",B:B, \"2012\"))/S11","v":8.1271901509976721E-2},{"$f":"( SUMIFS(D:D,C:C, \"6\",A:A, \"2022\",B:B, \"2010\")+ SUMIFS(D:D,C:C, \"6\",A:A, \"2022\",B:B, \"2011\")+ SUMIFS(D:D,C:C, \"6\",A:A, \"2022\",B:B, \"2012\"))/T11","v":8.9184991639098835E-2}]
[2018,2002,4,25056450,null,null,2025,"2024-2050",0.15589811589378466,0.10086013740723611,null,null,"2013-2020",{"$f":"( SUMIFS(D:D,C:C, \"4\",A:A, \"2022\",B:B, \"2013\")+ SUMIFS(D:D,C:C, \"4\",A:A, \"2022\",B:B, \"2014\")+ SUMIFS(D:D,C:C, \"4\",A:A, \"2022\",B:B, \"2015\")+SUMIFS(D:D,C:C, \"4\",A:A, \"2022\",B:B, \"2016\")+SUMIFS(D:D,C:C, \"4\",A:A, \"2022\",B:B, \"2017\")+SUMIFS(D:D,C:C, \"4\",A:A, \"2022\",B:B, \"2018\")+SUMIFS(D:D,C:C, \"4\",A:A, \"2022\",B:B, \"2019\")+SUMIFS(D:D,C:C, \"4\",A:A, \"2022\",B:B, \"2020\"))/S11","v":0.62297069477365441},{"$f":"( SUMIFS(D:D,C:C, \"6\",A:A, \"2022\",B:B, \"2013\")+ SUMIFS(D:D,C:C, \"6\",A:A, \"2022\",B:B, \"2014\")+ SUMIFS(D:D,C:C, \"6\",A:A, \"2022\",B:B, \"2015\")+SUMIFS(D:D,C:C, \"6\",A:A, \"2022\",B:B, \"2016\")+SUMIFS(D:D,C:C, \"6\",A:A, \"2022\",B:B, \"2017\")+SUMIFS(D:D,C:C, \"6\",A:A, \"2022\",B:B, \"2018\")+SUMIFS(D:D,C:C, \"6\",A:A, \"2022\",B:B, \"2019\")+SUMIFS(D:D,C:C, \"6\",A:A, \"2022\",B:B, \"2020\"))/T11","v":0.47281119294082596},{"$f":"T11","v":1814526.19921875}]
[2018,2001,4,39085730,null,null,2026,{"$f":"M86","v":"2006 or earlier"},3.5311651965040484E-2,0.13989090072547603,null,null,"2021-2023",{"$f":"( SUMIFS(D:D,C:C, \"4\",A:A, \"2022\",B:B, \"2021\")+SUMIFS(D:D,C:C, \"4\",A:A, \"2022\",B:B, \"2022\")+SUMIFS(D:D,C:C, \"4\",A:A, \"2022\",B:B, \"2023\"))/S11","v":0.15949576013832054},{"$f":"( SUMIFS(D:D,C:C, \"6\",A:A, \"2022\",B:B, \"2021\")+SUMIFS(D:D,C:C, \"6\",A:A, \"2022\",B:B, \"2022\")+SUMIFS(D:D,C:C, \"6\",A:A, \"2022\",B:B, \"2023\"))/T11","v":0.10397832696972524}]
[2018,2000,4,56672380,null,null,2026,"2007-2009",2.7051226774344923E-2,6.4154922897557823E-2,null,null,"2024-2050",0,0]
[2018,1999,4,43183960,null,null,2026,"2010-2012",4.1596031702705004E-2,6.9674999707420554E-2,null,null,null,{"$f":"SUM(N46:N51)","v":1},{"$f":"SUM(O46:O51)","v":1}]
[2018,1998,4,29334390,null,null,2026,"2013-2020",0.42946946761545673,0.41813513802996233]
[2018,1997,4,19066310,null,null,2026,"2021-2023",0.23253035518281814,0.15766594375612566,null,null,"2023 Fractions"]
[2018,1996,4,18739380,null,null,2026,"2024-2050",0.23404126675963471,0.15047809488345759,null,null,"Model Year Group","Operating Hours","No. of Trucks"]
[2018,1995,4,15464180,null,null,2027,{"$f":"M96","v":"2006 or earlier"},2.8296919356046633E-2,0.12138851230201315,null,null,"2006 or earlier",{"$f":"( SUMIFS(D:D,C:C, \"4\",A:A, \"2023\",B:B, \"2006\")+ SUMIFS(D:D,C:C, \"4\",A:A, \"2023\",B:B, \"2005\")+ SUMIFS(D:D,C:C, \"4\",A:A, \"2023\",B:B, \"2004\")+ SUMIFS(D:D,C:C, \"4\",A:A, \"2023\",B:B, \"2003\")+ SUMIFS(D:D,C:C, \"4\",A:A, \"2023\",B:B, \"2002\")+ SUMIFS(D:D,C:C, \"4\",A:A, \"2023\",B:B, \"2001\")+SUMIFS(D:D,C:C, \"4\",A:A, \"2023\",B:B, \"2000\")+SUMIFS(D:D,C:C, \"4\",A:A, \"2023\",B:B, \"1999\")+SUMIFS(D:D,C:C, \"4\",A:A, \"2023\",B:B, \"1998\")+SUMIFS(D:D,C:C, \"4\",A:A, \"2023\",B:B, \"1997\")+SUMIFS(D:D,C:C, \"4\",A:A, \"2023\",B:B, \"1996\")+SUMIFS(D:D,C:C, \"4\",A:A, \"2023\",B:B, \"1995\")+SUMIFS(D:D,C:C, \"4\",A:A, \"2023\",B:B, \"1994\")+SUMIFS(D:D,C:C, \"4\",A:A, \"2023\",B:B, \"1993\"))/S12","v":6.6564599583488065E-2},{"$f":"( SUMIFS(D:D,C:C, \"6\",A:A, \"2023\",B:B, \"2006\")+ SUMIFS(D:D,C:C, \"6\",A:A, \"2023\",B:B, \"2005\")+ SUMIFS(D:D,C:C, \"6\",A:A, \"2023\",B:B, \"2004\")+ SUMIFS(D:D,C:C, \"6\",A:A, \"2023\",B:B, \"2003\")+ SUMIFS(D:D,C:C, \"6\",A:A, \"2023\",B:B, \"2002\")+ SUMIFS(D:D,C:C, \"6\",A:A, \"2023\",B:B, \"2001\")+SUMIFS(D:D,C:C, \"6\",A:A, \"2023\",B:B, \"2000\")+SUMIFS(D:D,C:C, \"6\",A:A, \"2023\",B:B, \"1999\")+SUMIFS(D:D,C:C, \"6\",A:A, \"2023\",B:B, \"1998\")+SUMIFS(D:D,C:C, \"6\",A:A, \"2023\",B:B, \"1997\")+SUMIFS(D:D,C:C, \"6\",A:A, \"2023\",B:B, \"1996\")+SUMIFS(D:D,C:C, \"6\",A:A, \"2023\",B:B, \"1995\")+SUMIFS(D:D,C:C, \"6\",A:A, \"2023\",B:B, \"1994\")+SUMIFS(D:D,C:C, \"6\",A:A, \"2023\",B:B, \"1993\"))/T12","v":0.21416112069225759}]
[2018,1994,4,11749470,null,null,2027,"2007-2009",2.3098944853151726E-2,5.8321053666271785E-2,null,null,"2007-2009",{"$f":"( SUMIFS(D:D,C:C, \"4\",A:A, \"2023\",B:B, \"2007\")+ SUMIFS(D:D,C:C, \"4\",A:A, \"2023\",B:B, \"2008\")+ SUMIFS(D:D,C:C, \"4\",A:A, \"2023\",B:B, \"2009\"))/S12","v":4.428206001919379E-2},{"$f":"( SUMIFS(D:D,C:C, \"6\",A:A, \"2023\",B:B, \"2007\")+ SUMIFS(D:D,C:C, \"6\",A:A, \"2023\",B:B, \"2008\")+ SUMIFS(D:D,C:C, \"6\",A:A, \"2023\",B:B, \"2009\"))/T12","v":8.2360187679700353E-2}]
[2018,1993,4,8230052,null,null,2027,"2010-2012",3.4563537232052854E-2,6.5097042965382032E-2,null,null,"2010-2012",{"$f":"( SUMIFS(D:D,C:C, \"4\",A:A, \"2023\",B:B, \"2010\")+ SUMIFS(D:D,C:C, \"4\",A:A, \"2023\",B:B, \"2011\")+ SUMIFS(D:D,C:C, \"4\",A:A, \"2023\",B:B, \"2012\"))/S12","v":6.9995536031468367E-2},{"$f":"( SUMIFS(D:D,C:C, \"6\",A:A, \"2023\",B:B, \"2010\")+ SUMIFS(D:D,C:C, \"6\",A:A, \"2023\",B:B, \"2011\")+ SUMIFS(D:D,C:C, \"6\",A:A, \"2023\",B:B, \"2012\"))/T12","v":8.4153734138628991E-2}]
[2018,1992,4,4808651,null,null,2027,"2013-2020",0.38232197194502077,0.40010066250657617,null,null,"2013-2020",{"$f":"( SUMIFS(D:D,C:C, \"4\",A:A, \"2023\",B:B, \"2013\")+ SUMIFS(D:D,C:C, \"4\",A:A, \"2023\",B:B, \"2014\")+ SUMIFS(D:D,C:C, \"4\",A:A, \"2023\",B:B, \"2015\")+SUMIFS(D:D,C:C, \"4\",A:A, \"2023\",B:B, \"2016\")+SUMIFS(D:D,C:C, \"4\",A:A, \"2023\",B:B, \"2017\")+SUMIFS(D:D,C:C, \"4\",A:A, \"2023\",B:B, \"2018\")+SUMIFS(D:D,C:C, \"4\",A:A, \"2023\",B:B, \"2019\")+SUMIFS(D:D,C:C, \"4\",A:A, \"2023\",B:B, \"2020\"))/S12","v":0.57796097863807561},{"$f":"( SUMIFS(D:D,C:C, \"6\",A:A, \"2023\",B:B, \"2013\")+ SUMIFS(D:D,C:C, \"6\",A:A, \"2023\",B:B, \"2014\")+ SUMIFS(D:D,C:C, \"6\",A:A, \"2023\",B:B, \"2015\")+SUMIFS(D:D,C:C, \"6\",A:A, \"2023\",B:B, \"2016\")+SUMIFS(D:D,C:C, \"6\",A:A, \"2023\",B:B, \"2017\")+SUMIFS(D:D,C:C, \"6\",A:A, \"2023\",B:B, \"2018\")+SUMIFS(D:D,C:C, \"6\",A:A, \"2023\",B:B, \"2019\")+SUMIFS(D:D,C:C, \"6\",A:A, \"2023\",B:B, \"2020\"))/T12","v":0.46227843712061911}]
[2018,1991,4,3639197,null,null,2027,"2021-2023",0.21905080879205538,0.15582168167759919,null,null,"2021-2023",{"$f":"( SUMIFS(D:D,C:C, \"4\",A:A, \"2023\",B:B, \"2021\")+ SUMIFS(D:D,C:C, \"4\",A:A, \"2023\",B:B, \"2022\")+ SUMIFS(D:D,C:C, \"4\",A:A, \"2023\",B:B, \"2023\"))/S12","v":0.24119682572777412},{"$f":"( SUMIFS(D:D,C:C, \"6\",A:A, \"2023\",B:B, \"2021\")+SUMIFS(D:D,C:C, \"6\",A:A, \"2023\",B:B, \"2022\")+SUMIFS(D:D,C:C, \"6\",A:A, \"2023\",B:B, \"2023\"))/T12","v":0.15704652036879393}]
[2018,1990,4,3461345,null,null,2027,"2024-2050",0.31266781782167263,0.19927104688215766,null,null,"2024-2050",0,0]
[2018,1989,4,3276506,null,null,2028,{"$f":"M106","v":"2006 or earlier"},2.2075837835368435E-2,0.10271451481522857,null,null,null,{"$f":"SUM(N56:N61)","v":1},{"$f":"SUM(O56:O61)","v":1}]
[2018,1988,4,3880153,null,null,2028,"2007-2009",1.9464532412368962E-2,5.2728176551976029E-2]
[2019,2019,6,102644,null,null,2028,"2010-2012",2.8686184302286467E-2,6.0186605551929367E-2,null,null,"2024 Fractions"]
[2019,2018,6,96658.296875,null,null,2028,"2013-2020",0.33622491669883087,0.38179340316103111,null,null,"Model Year Group","Operating Hours","No. of Trucks"]
[2019,2017,6,112490,null,null,2028,"2021-2023",0.20458005781667166,0.15358028268047821,null,null,"2006 or earlier",{"$f":"( SUMIFS(D:D,C:C, \"4\",A:A, \"2024\",B:B, \"2006\")+ SUMIFS(D:D,C:C, \"4\",A:A, \"2024\",B:B, \"2005\")+ SUMIFS(D:D,C:C, \"4\",A:A, \"2024\",B:B, \"2004\")+ SUMIFS(D:D,C:C, \"4\",A:A, \"2024\",B:B, \"2003\")+ SUMIFS(D:D,C:C, \"4\",A:A, \"2024\",B:B, \"2002\")+ SUMIFS(D:D,C:C, \"4\",A:A, \"2024\",B:B, \"2001\")+SUMIFS(D:D,C:C, \"4\",A:A, \"2024\",B:B, \"2000\")+SUMIFS(D:D,C:C, \"4\",A:A, \"2024\",B:B, \"1999\")+SUMIFS(D:D,C:C, \"4\",A:A, \"2024\",B:B, \"1998\")+SUMIFS(D:D,C:C, \"4\",A:A, \"2024\",B:B, \"1997\")+SUMIFS(D:D,C:C, \"4\",A:A, \"2024\",B:B, \"1996\")+SUMIFS(D:D,C:C, \"4\",A:A, \"2024\",B:B, \"1995\")+SUMIFS(D:D,C:C, \"4\",A:A, \"2024\",B:B, \"1994\"))/S13","v":5.4117825102455698E-2},{"$f":"( SUMIFS(D:D,C:C, \"6\",A:A, \"2024\",B:B, \"2006\")+ SUMIFS(D:D,C:C, \"6\",A:A, \"2024\",B:B, \"2005\")+ SUMIFS(D:D,C:C, \"6\",A:A, \"2024\",B:B, \"2004\")+ SUMIFS(D:D,C:C, \"6\",A:A, \"2024\",B:B, \"2003\")+ SUMIFS(D:D,C:C, \"6\",A:A, \"2024\",B:B, \"2002\")+ SUMIFS(D:D,C:C, \"6\",A:A, \"2024\",B:B, \"2001\")+SUMIFS(D:D,C:C, \"6\",A:A, \"2024\",B:B, \"2000\")+SUMIFS(D:D,C:C, \"6\",A:A, \"2024\",B:B, \"1999\")+SUMIFS(D:D,C:C, \"6\",A:A, \"2024\",B:B, \"1998\")+SUMIFS(D:D,C:C, \"6\",A:A, \"2024\",B:B, \"1997\")+SUMIFS(D:D,C:C, \"6\",A:A, \"2024\",B:B, \"1996\")+SUMIFS(D:D,C:C, \"6\",A:A, \"2024\",B:B, \"1995\")+SUMIFS(D:D,C:C, \"6\",A:A, \"2024\",B:B, \"1994\"))/T13","v":0.18624640060922792}]
[2019,2016,6,113772,null,null,2028,"2024-2050",0.38896847093447362,0.24899701723935674,null,null,"2007-2009",{"$f":"( SUMIFS(D:D,C:C, \"4\",A:A, \"2024\",B:B, \"2007\")+ SUMIFS(D:D,C:C, \"4\",A:A, \"2024\",B:B, \"2008\")+ SUMIFS(D:D,C:C, \"4\",A:A, \"2024\",B:B, \"2009\"))/S13","v":3.7197368133815703E-2},{"$f":"( SUMIFS(D:D,C:C, \"6\",A:A, \"2024\",B:B, \"2007\")+ SUMIFS(D:D,C:C, \"6\",A:A, \"2024\",B:B, \"2008\")+ SUMIFS(D:D,C:C, \"6\",A:A, \"2024\",B:B, \"2009\"))/T13","v":7.6173073166847544E-2}]
[2019,2015,6,147367,null,null,2029,{"$f":"M116","v":"2006 or earlier"},1.6876742840912378E-2,8.4924238056731063E-2,null,null,"2010-2012",{"$f":"( SUMIFS(D:D,C:C, \"4\",A:A, \"2024\",B:B, \"2010\")+ SUMIFS(D:D,C:C, \"4\",A:A, \"2024\",B:B, \"2011\")+ SUMIFS(D:D,C:C, \"4\",A:A, \"2024\",B:B, \"2012\"))/S13","v":5.9682098342177851E-2},{"$f":"( SUMIFS(D:D,C:C, \"6\",A:A, \"2024\",B:B, \"2010\")+ SUMIFS(D:D,C:C, \"6\",A:A, \"2024\",B:B, \"2011\")+ SUMIFS(D:D,C:C, \"6\",A:A, \"2024\",B:B, \"2012\"))/T13","v":7.9297413059560173E-2}]
[2019,2014,6,129152,null,null,2029,"2007-2009",1.6300850133715725E-2,4.7729459467862625E-2,null,null,"2013-2020",{"$f":"( SUMIFS(D:D,C:C, \"4\",A:A, \"2024\",B:B, \"2013\")+ SUMIFS(D:D,C:C, \"4\",A:A, \"2024\",B:B, \"2014\")+ SUMIFS(D:D,C:C, \"4\",A:A, \"2024\",B:B, \"2015\")+SUMIFS(D:D,C:C, \"4\",A:A, \"2024\",B:B, \"2016\")+SUMIFS(D:D,C:C, \"4\",A:A, \"2024\",B:B, \"2017\")+SUMIFS(D:D,C:C, \"4\",A:A, \"2024\",B:B, \"2018\")+SUMIFS(D:D,C:C, \"4\",A:A, \"2024\",B:B, \"2019\")+SUMIFS(D:D,C:C, \"4\",A:A, \"2024\",B:B, \"2020\"))/S13","v":0.52818291023261799},{"$f":"( SUMIFS(D:D,C:C, \"6\",A:A, \"2024\",B:B, \"2013\")+ SUMIFS(D:D,C:C, \"6\",A:A, \"2024\",B:B, \"2014\")+ SUMIFS(D:D,C:C, \"6\",A:A, \"2024\",B:B, \"2015\")+SUMIFS(D:D,C:C, \"6\",A:A, \"2024\",B:B, \"2016\")+SUMIFS(D:D,C:C, \"6\",A:A, \"2024\",B:B, \"2017\")+SUMIFS(D:D,C:C, \"6\",A:A, \"2024\",B:B, \"2018\")+SUMIFS(D:D,C:C, \"6\",A:A, \"2024\",B:B, \"2019\")+SUMIFS(D:D,C:C, \"6\",A:A, \"2024\",B:B, \"2020\"))/T13","v":0.44979254120914097}]
[2019,2013,6,93548.6015625,null,null,2029,"2010-2012",2.5032765020358158E-2,5.5654169172816348E-2,null,null,"2021-2023",{"$f":"( SUMIFS(D:D,C:C, \"4\",A:A, \"2024\",B:B, \"2021\")+ SUMIFS(D:D,C:C, \"4\",A:A, \"2024\",B:B, \"2022\")+ SUMIFS(D:D,C:C, \"4\",A:A, \"2024\",B:B, \"2023\"))/S13","v":0.24267673553237584},{"$f":"( SUMIFS(D:D,C:C, \"6\",A:A, \"2024\",B:B, \"2021\")+SUMIFS(D:D,C:C, \"6\",A:A, \"2024\",B:B, \"2022\")+SUMIFS(D:D,C:C, \"6\",A:A, \"2024\",B:B, \"2023\"))/T13","v":0.15770785988449837}]
[2019,2012,6,94608.796875,null,null,2029,"2013-2020",0.29243166135286741,0.36352582563649055,null,null,"2024-2050",{"$f":"( SUMIFS(D:D,C:C, \"4\",A:A, \"2024\",B:B, \"2024\"))/S13","v":7.8143062656556933E-2},{"$f":"( SUMIFS(D:D,C:C, \"6\",A:A, \"2024\",B:B, \"2024\"))/T13","v":5.0782712070724989E-2}]
[2019,2011,6,49742.5,null,null,2029,"2021-2023",0.18869755266018737,0.1501590511705847,null,null,null,{"$f":"SUM(N66:N71)","v":1},{"$f":"SUM(O66:O71)","v":0.99999999999999978}]
[2019,2010,6,40511.5,null,null,2029,"2024-2050",0.46066042799195894,0.29800725649551468]
[2019,2009,6,49692.30078125,null,null,2030,{"$f":"M126","v":"2006 or earlier"},1.2656185822378674E-2,6.8486481646184122E-2,null,null,"2025 Fractions"]
[2019,2008,6,30873.599609375,null,null,2030,"2007-2009",1.3503315124796559E-2,4.3061990774528713E-2,null,null,"Model Year Group","Operating Hours","No. of Trucks"]
[2019,2007,6,117416,null,null,2030,"2010-2012",2.1598918164680292E-2,5.1134834707784044E-2,null,null,"2006 or earlier",{"$f":"( SUMIFS(D:D,C:C, \"4\",A:A, \"2025\",B:B, \"2006\")+ SUMIFS(D:D,C:C, \"4\",A:A, \"2025\",B:B, \"2005\")+ SUMIFS(D:D,C:C, \"4\",A:A, \"2025\",B:B, \"2004\")+ SUMIFS(D:D,C:C, \"4\",A:A, \"2025\",B:B, \"2003\")+ SUMIFS(D:D,C:C, \"4\",A:A, \"2025\",B:B, \"2002\")+ SUMIFS(D:D,C:C, \"4\",A:A, \"2025\",B:B, \"2001\")+SUMIFS(D:D,C:C, \"4\",A:A, \"2025\",B:B, \"2000\")+SUMIFS(D:D,C:C, \"4\",A:A, \"2025\",B:B, \"1999\")+SUMIFS(D:D,C:C, \"4\",A:A, \"2025\",B:B, \"1998\")+SUMIFS(D:D,C:C, \"4\",A:A, \"2025\",B:B, \"1997\")+SUMIFS(D:D,C:C, \"4\",A:A, \"2025\",B:B, \"1996\")+SUMIFS(D:D,C:C, \"4\",A:A, \"2025\",B:B, \"1995\"))/S14","v":4.391705101250639E-2},{"$f":"( SUMIFS(D:D,C:C, \"6\",A:A, \"2025\",B:B, \"2006\")+ SUMIFS(D:D,C:C, \"6\",A:A, \"2025\",B:B, \"2005\")+ SUMIFS(D:D,C:C, \"6\",A:A, \"2025\",B:B, \"2004\")+ SUMIFS(D:D,C:C, \"6\",A:A, \"2025\",B:B, \"2003\")+ SUMIFS(D:D,C:C, \"6\",A:A, \"2025\",B:B, \"2002\")+ SUMIFS(D:D,C:C, \"6\",A:A, \"2025\",B:B, \"2001\")+SUMIFS(D:D,C:C, \"6\",A:A, \"2025\",B:B, \"2000\")+SUMIFS(D:D,C:C, \"6\",A:A, \"2025\",B:B, \"1999\")+SUMIFS(D:D,C:C, \"6\",A:A, \"2025\",B:B, \"1998\")+SUMIFS(D:D,C:C, \"6\",A:A, \"2025\",B:B, \"1997\")+SUMIFS(D:D,C:C, \"6\",A:A, \"2025\",B:B, \"1996\")+SUMIFS(D:D,C:C, \"6\",A:A, \"2025\",B:B, \"1995\"))/T14","v":0.16182175417493991}]
[2019,2006,6,85142.1015625,null,null,2030,"2013-2020",0.25236408986627612,0.34506472473963123,null,null,"2007-2009",{"$f":"( SUMIFS(D:D,C:C, \"4\",A:A, \"2025\",B:B, \"2007\")+ SUMIFS(D:D,C:C, \"4\",A:A, \"2025\",B:B, \"2008\")+ SUMIFS(D:D,C:C, \"4\",A:A, \"2025\",B:B, \"2009\"))/S14","v":3.1322232480018759E-2},{"$f":"( SUMIFS(D:D,C:C, \"6\",A:A, \"2025\",B:B, \"2007\")+ SUMIFS(D:D,C:C, \"6\",A:A, \"2025\",B:B, \"2008\")+ SUMIFS(D:D,C:C, \"6\",A:A, \"2025\",B:B, \"2009\"))/T14","v":6.9925174867792997E-2}]
[2019,2005,6,77874,null,null,2030,"2021-2023",0.17254155942745783,0.14625397370714804,null,null,"2010-2012",{"$f":"( SUMIFS(D:D,C:C, \"4\",A:A, \"2025\",B:B, \"2010\")+ SUMIFS(D:D,C:C, \"4\",A:A, \"2025\",B:B, \"2011\")+ SUMIFS(D:D,C:C, \"4\",A:A, \"2025\",B:B, \"2012\"))/S14","v":5.0181643224508937E-2},{"$f":"( SUMIFS(D:D,C:C, \"6\",A:A, \"2025\",B:B, \"2010\")+ SUMIFS(D:D,C:C, \"6\",A:A, \"2025\",B:B, \"2011\")+ SUMIFS(D:D,C:C, \"6\",A:A, \"2025\",B:B, \"2012\"))/T14","v":7.439709105991929E-2}]
[2019,2004,6,43103.6015625,null,null,2030,"2024-2050",0.52733593159441061,0.34599799442472384,null,null,"2013-2020",{"$f":"( SUMIFS(D:D,C:C, \"4\",A:A, \"2025\",B:B, \"2013\")+ SUMIFS(D:D,C:C, \"4\",A:A, \"2025\",B:B, \"2014\")+ SUMIFS(D:D,C:C, \"4\",A:A, \"2025\",B:B, \"2015\")+SUMIFS(D:D,C:C, \"4\",A:A, \"2025\",B:B, \"2016\")+SUMIFS(D:D,C:C, \"4\",A:A, \"2025\",B:B, \"2017\")+SUMIFS(D:D,C:C, \"4\",A:A, \"2025\",B:B, \"2018\")+SUMIFS(D:D,C:C, \"4\",A:A, \"2025\",B:B, \"2019\")+SUMIFS(D:D,C:C, \"4\",A:A, \"2025\",B:B, \"2020\"))/S14","v":0.47852277011225397},{"$f":"( SUMIFS(D:D,C:C, \"6\",A:A, \"2025\",B:B, \"2013\")+ SUMIFS(D:D,C:C, \"6\",A:A, \"2025\",B:B, \"2014\")+ SUMIFS(D:D,C:C, \"6\",A:A, \"2025\",B:B, \"2015\")+SUMIFS(D:D,C:C, \"6\",A:A, \"2025\",B:B, \"2016\")+SUMIFS(D:D,C:C, \"6\",A:A, \"2025\",B:B, \"2017\")+SUMIFS(D:D,C:C, \"6\",A:A, \"2025\",B:B, \"2018\")+SUMIFS(D:D,C:C, \"6\",A:A, \"2025\",B:B, \"2019\")+SUMIFS(D:D,C:C, \"6\",A:A, \"2025\",B:B, \"2020\"))/T14","v":0.43494776452471701}]
[2019,2003,6,38529.80078125,null,null,2031,{"$f":"M136","v":"2006 or earlier"},{"$f":"N136","v":9.5624546906577929E-3},{"$f":"O136","v":5.7113865201679909E-2},null,null,"2021-2023",{"$f":"( SUMIFS(D:D,C:C, \"4\",A:A, \"2025\",B:B, \"2021\")+ SUMIFS(D:D,C:C, \"4\",A:A, \"2025\",B:B, \"2022\")+ SUMIFS(D:D,C:C, \"4\",A:A, \"2025\",B:B, \"2023\"))/S14","v":0.24015818727692728},{"$f":"( SUMIFS(D:D,C:C, \"6\",A:A, \"2025\",B:B, \"2021\")+SUMIFS(D:D,C:C, \"6\",A:A, \"2025\",B:B, \"2022\")+SUMIFS(D:D,C:C, \"6\",A:A, \"2025\",B:B, \"2023\"))/T14","v":0.15804807796539472}]
[2019,2002,6,24900.80078125,null,null,2031,{"$f":"M137","v":"2007-2009"},{"$f":"N137","v":1.1058639682565256E-2},{"$f":"O137","v":3.8666610433907081E-2},null,null,"2024-2050",{"$f":"( SUMIFS(D:D,C:C, \"4\",A:A, \"2025\",B:B, \"2024\")+SUMIFS(D:D,C:C, \"4\",A:A, \"2025\",B:B, \"2025\"))/S14","v":0.15589811589378466},{"$f":"( SUMIFS(D:D,C:C, \"6\",A:A, \"2025\",B:B, \"2024\")+SUMIFS(D:D,C:C, \"6\",A:A, \"2025\",B:B, \"2025\"))/T14","v":0.10086013740723611}]
[2019,2001,6,40686.80078125,null,null,2031,"2010-2012",1.8472229408498648E-2,4.6683747490364982E-2,null,null,null,{"$f":"SUM(N76:N81)","v":1},{"$f":"SUM(O76:O81)","v":1.0000000000000002}]
[2019,2000,6,62995.1015625,null,null,2031,"2013-2020",0.21590597832377403,0.32446494531893993]
[2019,1999,6,50705.6015625,null,null,2031,"2021-2023",0.1560502200356545,0.14130865515640548,null,null,"2026 Fractions"]
[2019,1998,6,37146.5,null,null,2031,"2024-2050",0.5889504778588498,0.39176217639870259,null,null,"Model Year Group","Operating Hours","No. of Trucks"]
[2019,1997,6,26199.69921875,null,null,2032,"2006 or earlier",{"$f":"N146","v":7.2388996294785995E-3},{"$f":"O146","v":4.9070882980621816E-2},null,null,"2006 or earlier",{"$f":"( SUMIFS(D:D,C:C, \"4\",A:A, \"2026\",B:B, \"2006\")+ SUMIFS(D:D,C:C, \"4\",A:A, \"2026\",B:B, \"2005\")+ SUMIFS(D:D,C:C, \"4\",A:A, \"2026\",B:B, \"2004\")+ SUMIFS(D:D,C:C, \"4\",A:A, \"2026\",B:B, \"2003\")+ SUMIFS(D:D,C:C, \"4\",A:A, \"2026\",B:B, \"2002\")+ SUMIFS(D:D,C:C, \"4\",A:A, \"2026\",B:B, \"2001\")+SUMIFS(D:D,C:C, \"4\",A:A, \"2026\",B:B, \"2000\")+SUMIFS(D:D,C:C, \"4\",A:A, \"2026\",B:B, \"1999\")+SUMIFS(D:D,C:C, \"4\",A:A, \"2026\",B:B, \"1998\")+SUMIFS(D:D,C:C, \"4\",A:A, \"2026\",B:B, \"1997\")+SUMIFS(D:D,C:C, \"4\",A:A, \"2026\",B:B, \"1996\"))/S15","v":3.5311651965040484E-2},{"$f":"( SUMIFS(D:D,C:C, \"6\",A:A, \"2026\",B:B, \"2006\")+ SUMIFS(D:D,C:C, \"6\",A:A, \"2026\",B:B, \"2005\")+ SUMIFS(D:D,C:C, \"6\",A:A, \"2026\",B:B, \"2004\")+ SUMIFS(D:D,C:C, \"6\",A:A, \"2026\",B:B, \"2003\")+ SUMIFS(D:D,C:C, \"6\",A:A, \"2026\",B:B, \"2002\")+ SUMIFS(D:D,C:C, \"6\",A:A, \"2026\",B:B, \"2001\")+SUMIFS(D:D,C:C, \"6\",A:A, \"2026\",B:B, \"2000\")+SUMIFS(D:D,C:C, \"6\",A:A, \"2026\",B:B, \"1999\")+SUMIFS(D:D,C:C, \"6\",A:A, \"2026\",B:B, \"1998\")+SUMIFS(D:D,C:C, \"6\",A:A, \"2026\",B:B, \"1997\")+SUMIFS(D:D,C:C, \"6\",A:A, \"2026\",B:B, \"1996\"))/T15","v":0.13989090072547603}]
[2019,1996,6,27709.30078125,null,null,2032,"2007-2009",{"$f":"N147","v":8.9147231216736185E-3},{"$f":"O147","v":3.4562430436401899E-2},null,null,"2007-2009",{"$f":"( SUMIFS(D:D,C:C, \"4\",A:A, \"2026\",B:B, \"2007\")+ SUMIFS(D:D,C:C, \"4\",A:A, \"2026\",B:B, \"2008\")+ SUMIFS(D:D,C:C, \"4\",A:A, \"2026\",B:B, \"2009\"))/S15","v":2.7051226774344923E-2},{"$f":"( SUMIFS(D:D,C:C, \"6\",A:A, \"2026\",B:B, \"2007\")+ SUMIFS(D:D,C:C, \"6\",A:A, \"2026\",B:B, \"2008\")+ SUMIFS(D:D,C:C, \"6\",A:A, \"2026\",B:B, \"2009\"))/T15","v":6.4154922897557823E-2}]
[2019,1995,6,25213.099609375,null,null,2032,"2010-2012",1.5581664167809775E-2,4.227769883133442E-2,null,null,"2010-2012",{"$f":"( SUMIFS(D:D,C:C, \"4\",A:A, \"2026\",B:B, \"2010\")+ SUMIFS(D:D,C:C, \"4\",A:A, \"2026\",B:B, \"2011\")+ SUMIFS(D:D,C:C, \"4\",A:A, \"2026\",B:B, \"2012\"))/S15","v":4.1596031702705004E-2},{"$f":"( SUMIFS(D:D,C:C, \"6\",A:A, \"2026\",B:B, \"2010\")+ SUMIFS(D:D,C:C, \"6\",A:A, \"2026\",B:B, \"2011\")+ SUMIFS(D:D,C:C, \"6\",A:A, \"2026\",B:B, \"2012\"))/T15","v":6.9674999707420554E-2}]
[2019,1994,6,21347.400390625,null,null,2032,"2013-2020",0.18389035823386529,0.30321594432258553,null,null,"2013-2020",{"$f":"( SUMIFS(D:D,C:C, \"4\",A:A, \"2026\",B:B, \"2013\")+ SUMIFS(D:D,C:C, \"4\",A:A, \"2026\",B:B, \"2014\")+ SUMIFS(D:D,C:C, \"4\",A:A, \"2026\",B:B, \"2015\")+SUMIFS(D:D,C:C, \"4\",A:A, \"2026\",B:B, \"2016\")+SUMIFS(D:D,C:C, \"4\",A:A, \"2026\",B:B, \"2017\")+SUMIFS(D:D,C:C, \"4\",A:A, \"2026\",B:B, \"2018\")+SUMIFS(D:D,C:C, \"4\",A:A, \"2026\",B:B, \"2019\")+SUMIFS(D:D,C:C, \"4\",A:A, \"2026\",B:B, \"2020\"))/S15","v":0.42946946761545673},{"$f":"( SUMIFS(D:D,C:C, \"6\",A:A, \"2026\",B:B, \"2013\")+ SUMIFS(D:D,C:C, \"6\",A:A, \"2026\",B:B, \"2014\")+ SUMIFS(D:D,C:C, \"6\",A:A, \"2026\",B:B, \"2015\")+SUMIFS(D:D,C:C, \"6\",A:A, \"2026\",B:B, \"2016\")+SUMIFS(D:D,C:C, \"6\",A:A, \"2026\",B:B, \"2017\")+SUMIFS(D:D,C:C, \"6\",A:A, \"2026\",B:B, \"2018\")+SUMIFS(D:D,C:C, \"6\",A:A, \"2026\",B:B, \"2019\")+SUMIFS(D:D,C:C, \"6\",A:A, \"2026\",B:B, \"2020\"))/T15","v":0.41813513802996233}]
[2019,1993,6,16617.099609375,null,null,2032,"2021-2023",0.13962929960088039,0.13577026099488163,null,null,"2021-2023",{"$f":"( SUMIFS(D:D,C:C, \"4\",A:A, \"2026\",B:B, \"2021\")+ SUMIFS(D:D,C:C, \"4\",A:A, \"2026\",B:B, \"2022\")+ SUMIFS(D:D,C:C, \"4\",A:A, \"2026\",B:B, \"2023\"))/S15","v":0.23253035518281814},{"$f":"( SUMIFS(D:D,C:C, \"6\",A:A, \"2026\",B:B, \"2021\")+SUMIFS(D:D,C:C, \"6\",A:A, \"2026\",B:B, \"2022\")+SUMIFS(D:D,C:C, \"6\",A:A, \"2026\",B:B, \"2023\"))/T15","v":0.15766594375612566}]
[2019,1992,6,11148.7001953125,null,null,2032,"2024-2050",0.64474505524629233,0.43510278243417472,null,null,"2024-2050",{"$f":"( SUMIFS(D:D,C:C, \"4\",A:A, \"2026\",B:B, \"2024\")+SUMIFS(D:D,C:C, \"4\",A:A, \"2026\",B:B, \"2025\")+SUMIFS(D:D,C:C, \"4\",A:A, \"2026\",B:B, \"2026\"))/S15","v":0.23404126675963471},{"$f":"( SUMIFS(D:D,C:C, \"6\",A:A, \"2026\",B:B, \"2024\")+SUMIFS(D:D,C:C, \"6\",A:A, \"2026\",B:B, \"2025\")+SUMIFS(D:D,C:C, \"6\",A:A, \"2026\",B:B, \"2026\"))/T15","v":0.15047809488345759}]
[2019,1991,6,9906.23046875,null,null,2033,"2006 or earlier",{"$f":"N156","v":5.2031400696379224E-3},{"$f":"O156","v":4.0406888710550849E-2},null,null,null,{"$f":"SUM(N86:N91)","v":1},{"$f":"SUM(O86:O91)","v":1}]
[2019,1990,6,11225,null,null,2033,"2007-2009",{"$f":"N157","v":6.9448150728129762E-3},{"$f":"O157","v":3.0407303391103108E-2}]
[2019,1989,6,25657.19921875,null,null,2033,"2010-2012",1.2883199389658621E-2,3.7966387715521979E-2,null,null,"2027 Fractions"]
[2019,2019,4,307606996,null,null,2033,"2013-2020",0.15465853598916485,0.28108964162336497,null,null,"Model Year Group","Operating Hours","No. of Trucks"]
[2019,2018,4,289668808,null,null,2033,"2021-2023",0.12320408499740361,0.13017987472425685,null,null,"2006 or earlier",{"$f":"( SUMIFS(D:D,C:C, \"4\",A:A, \"2027\",B:B, \"2006\")+ SUMIFS(D:D,C:C, \"4\",A:A, \"2027\",B:B, \"2005\")+ SUMIFS(D:D,C:C, \"4\",A:A, \"2027\",B:B, \"2004\")+ SUMIFS(D:D,C:C, \"4\",A:A, \"2027\",B:B, \"2003\")+ SUMIFS(D:D,C:C, \"4\",A:A, \"2027\",B:B, \"2002\")+ SUMIFS(D:D,C:C, \"4\",A:A, \"2027\",B:B, \"2001\")+SUMIFS(D:D,C:C, \"4\",A:A, \"2027\",B:B, \"2000\")+SUMIFS(D:D,C:C, \"4\",A:A, \"2027\",B:B, \"1999\")+SUMIFS(D:D,C:C, \"4\",A:A, \"2027\",B:B, \"1998\")+SUMIFS(D:D,C:C, \"4\",A:A, \"2027\",B:B, \"1997\"))/S16","v":2.8296919356046633E-2},{"$f":"( SUMIFS(D:D,C:C, \"6\",A:A, \"2027\",B:B, \"2006\")+ SUMIFS(D:D,C:C, \"6\",A:A, \"2027\",B:B, \"2005\")+ SUMIFS(D:D,C:C, \"6\",A:A, \"2027\",B:B, \"2004\")+ SUMIFS(D:D,C:C, \"6\",A:A, \"2027\",B:B, \"2003\")+ SUMIFS(D:D,C:C, \"6\",A:A, \"2027\",B:B, \"2002\")+ SUMIFS(D:D,C:C, \"6\",A:A, \"2027\",B:B, \"2001\")+SUMIFS(D:D,C:C, \"6\",A:A, \"2027\",B:B, \"2000\")+SUMIFS(D:D,C:C, \"6\",A:A, \"2027\",B:B, \"1999\")+SUMIFS(D:D,C:C, \"6\",A:A, \"2027\",B:B, \"1998\")+SUMIFS(D:D,C:C, \"6\",A:A, \"2027\",B:B, \"1997\"))/T16","v":0.12138851230201315}]
[2019,2017,4,337115092,null,null,2033,"2024-2050",0.69710622448132198,0.47994990383520225,null,null,"2007-2009",{"$f":"( SUMIFS(D:D,C:C, \"4\",A:A, \"2027\",B:B, \"2007\")+ SUMIFS(D:D,C:C, \"4\",A:A, \"2027\",B:B, \"2008\")+ SUMIFS(D:D,C:C, \"4\",A:A, \"2027\",B:B, \"2009\"))/S16","v":2.3098944853151726E-2},{"$f":"( SUMIFS(D:D,C:C, \"6\",A:A, \"2027\",B:B, \"2007\")+ SUMIFS(D:D,C:C, \"6\",A:A, \"2027\",B:B, \"2008\")+ SUMIFS(D:D,C:C, \"6\",A:A, \"2027\",B:B, \"2009\"))/T16","v":5.8321053666271785E-2}]
[2019,2016,4,340956408,null,null,2034,"2006 or earlier",{"$f":"N166","v":3.6365007347933195E-3},{"$f":"O166","v":3.2715598951386815E-2},null,null,"2010-2012",{"$f":"( SUMIFS(D:D,C:C, \"4\",A:A, \"2027\",B:B, \"2010\")+ SUMIFS(D:D,C:C, \"4\",A:A, \"2027\",B:B, \"2011\")+ SUMIFS(D:D,C:C, \"4\",A:A, \"2027\",B:B, \"2012\"))/S16","v":3.4563537232052854E-2},{"$f":"( SUMIFS(D:D,C:C, \"6\",A:A, \"2027\",B:B, \"2010\")+ SUMIFS(D:D,C:C, \"6\",A:A, \"2027\",B:B, \"2011\")+ SUMIFS(D:D,C:C, \"6\",A:A, \"2027\",B:B, \"2012\"))/T16","v":6.5097042965382032E-2}]
[2019,2015,4,418346804,null,null,2034,"2007-2009",{"$f":"N167","v":5.3186447536602193E-3},2.6794126222393935E-2,null,null,"2013-2020",{"$f":"( SUMIFS(D:D,C:C, \"4\",A:A, \"2027\",B:B, \"2013\")+ SUMIFS(D:D,C:C, \"4\",A:A, \"2027\",B:B, \"2014\")+ SUMIFS(D:D,C:C, \"4\",A:A, \"2027\",B:B, \"2015\")+SUMIFS(D:D,C:C, \"4\",A:A, \"2027\",B:B, \"2016\")+SUMIFS(D:D,C:C, \"4\",A:A, \"2027\",B:B, \"2017\")+SUMIFS(D:D,C:C, \"4\",A:A, \"2027\",B:B, \"2018\")+SUMIFS(D:D,C:C, \"4\",A:A, \"2027\",B:B, \"2019\")+SUMIFS(D:D,C:C, \"4\",A:A, \"2027\",B:B, \"2020\"))/S16","v":0.38232197194502077},{"$f":"( SUMIFS(D:D,C:C, \"6\",A:A, \"2027\",B:B, \"2013\")+ SUMIFS(D:D,C:C, \"6\",A:A, \"2027\",B:B, \"2014\")+ SUMIFS(D:D,C:C, \"6\",A:A, \"2027\",B:B, \"2015\")+SUMIFS(D:D,C:C, \"6\",A:A, \"2027\",B:B, \"2016\")+SUMIFS(D:D,C:C, \"6\",A:A, \"2027\",B:B, \"2017\")+SUMIFS(D:D,C:C, \"6\",A:A, \"2027\",B:B, \"2018\")+SUMIFS(D:D,C:C, \"6\",A:A, \"2027\",B:B, \"2019\")+SUMIFS(D:D,C:C, \"6\",A:A, \"2027\",B:B, \"2020\"))/T16","v":0.40010066250657617}]
[2019,2014,4,346229396,null,null,2034,"2010-2012",1.0551203297874888E-2,3.4063522207709758E-2,null,null,"2021-2023",{"$f":"( SUMIFS(D:D,C:C, \"4\",A:A, \"2027\",B:B, \"2021\")+ SUMIFS(D:D,C:C, \"4\",A:A, \"2027\",B:B, \"2022\")+ SUMIFS(D:D,C:C, \"4\",A:A, \"2027\",B:B, \"2023\"))/S16","v":0.21905080879205538},{"$f":"( SUMIFS(D:D,C:C, \"6\",A:A, \"2027\",B:B, \"2021\")+SUMIFS(D:D,C:C, \"6\",A:A, \"2027\",B:B, \"2022\")+SUMIFS(D:D,C:C, \"6\",A:A, \"2027\",B:B, \"2023\"))/T16","v":0.15582168167759919}]
[2019,2013,4,235999800,null,null,2034,"2013-2020",0.1298499379875277,0.25963514431625079,null,null,"2024-2050",{"$f":"( SUMIFS(D:D,C:C, \"4\",A:A, \"2027\",B:B, \"2024\")+SUMIFS(D:D,C:C, \"4\",A:A, \"2027\",B:B, \"2025\")+SUMIFS(D:D,C:C, \"4\",A:A, \"2027\",B:B, \"2026\")+SUMIFS(D:D,C:C, \"4\",A:A, \"2027\",B:B, \"2027\"))/S16","v":0.31266781782167263},{"$f":"( SUMIFS(D:D,C:C, \"6\",A:A, \"2027\",B:B, \"2024\")+SUMIFS(D:D,C:C, \"6\",A:A, \"2027\",B:B, \"2025\")+SUMIFS(D:D,C:C, \"6\",A:A, \"2027\",B:B, \"2026\")+SUMIFS(D:D,C:C, \"6\",A:A, \"2027\",B:B, \"2027\"))/T16","v":0.19927104688215766}]
[2019,2012,4,223723300,null,null,2034,"2021-2023",0.10677015606624495,0.12367970396493766,null,null,null,{"$f":"SUM(N96:N101)","v":1},{"$f":"SUM(O96:O101)","v":1}]
[2019,2011,4,109766500,null,null,2034,"2024-2050",0.74387355715989889,0.52311190433732102]
[2019,2010,4,82994410,null,null,2035,"2006 or earlier",{"$f":"N176","v":2.2147154348736205E-3},{"$f":"O176","v":2.3017769704835891E-2},null,null,"2028 Fractions"]
[2019,2009,4,93950160,null,null,2035,"2007-2009",{"$f":"N177","v":4.00554015274874E-3},2.3836308365107962E-2,null,null,"Model Year Group","Operating Hours","No. of Trucks"]
[2019,2008,4,53491740,null,null,2035,"2010-2012",8.5766815573637221E-3,3.0690745949834678E-2,null,null,"2006 or earlier",{"$f":"( SUMIFS(D:D,C:C, \"4\",A:A, \"2028\",B:B, \"2006\")+ SUMIFS(D:D,C:C, \"4\",A:A, \"2028\",B:B, \"2005\")+ SUMIFS(D:D,C:C, \"4\",A:A, \"2028\",B:B, \"2004\")+ SUMIFS(D:D,C:C, \"4\",A:A, \"2028\",B:B, \"2003\")+ SUMIFS(D:D,C:C, \"4\",A:A, \"2028\",B:B, \"2002\")+ SUMIFS(D:D,C:C, \"4\",A:A, \"2028\",B:B, \"2001\")+SUMIFS(D:D,C:C, \"4\",A:A, \"2028\",B:B, \"2000\")+SUMIFS(D:D,C:C, \"4\",A:A, \"2028\",B:B, \"1999\")+SUMIFS(D:D,C:C, \"4\",A:A, \"2028\",B:B, \"1998\"))/S17","v":2.2075837835368435E-2},{"$f":"( SUMIFS(D:D,C:C, \"6\",A:A, \"2028\",B:B, \"2006\")+ SUMIFS(D:D,C:C, \"6\",A:A, \"2028\",B:B, \"2005\")+ SUMIFS(D:D,C:C, \"6\",A:A, \"2028\",B:B, \"2004\")+ SUMIFS(D:D,C:C, \"6\",A:A, \"2028\",B:B, \"2003\")+ SUMIFS(D:D,C:C, \"6\",A:A, \"2028\",B:B, \"2002\")+ SUMIFS(D:D,C:C, \"6\",A:A, \"2028\",B:B, \"2001\")+SUMIFS(D:D,C:C, \"6\",A:A, \"2028\",B:B, \"2000\")+SUMIFS(D:D,C:C, \"6\",A:A, \"2028\",B:B, \"1999\")+SUMIFS(D:D,C:C, \"6\",A:A, \"2028\",B:B, \"1998\"))/T17","v":0.10271451481522857}]
[2019,2007,4,184881400,null,null,2035,"2013-2020",0.10948546234933509,0.24047437126791851,null,null,"2007-2009",{"$f":"( SUMIFS(D:D,C:C, \"4\",A:A, \"2028\",B:B, \"2007\")+ SUMIFS(D:D,C:C, \"4\",A:A, \"2028\",B:B, \"2008\")+ SUMIFS(D:D,C:C, \"4\",A:A, \"2028\",B:B, \"2009\"))/S17","v":1.9464532412368962E-2},{"$f":"( SUMIFS(D:D,C:C, \"6\",A:A, \"2028\",B:B, \"2007\")+ SUMIFS(D:D,C:C, \"6\",A:A, \"2028\",B:B, \"2008\")+ SUMIFS(D:D,C:C, \"6\",A:A, \"2028\",B:B, \"2009\"))/T17","v":5.2728176551976029E-2}]
[2019,2006,4,120607900,null,null,2035,"2021-2023",9.1527956232656096E-2,0.11756093759815923,null,null,"2010-2012",{"$f":"( SUMIFS(D:D,C:C, \"4\",A:A, \"2028\",B:B, \"2010\")+ SUMIFS(D:D,C:C, \"4\",A:A, \"2028\",B:B, \"2011\")+ SUMIFS(D:D,C:C, \"4\",A:A, \"2028\",B:B, \"2012\"))/S17","v":2.8686184302286467E-2},{"$f":"( SUMIFS(D:D,C:C, \"6\",A:A, \"2028\",B:B, \"2010\")+ SUMIFS(D:D,C:C, \"6\",A:A, \"2028\",B:B, \"2011\")+ SUMIFS(D:D,C:C, \"6\",A:A, \"2028\",B:B, \"2012\"))/T17","v":6.0186605551929367E-2}]
[2019,2005,4,98006090,null,null,2035,"2024-2050",0.78418964427302273,0.56441986711414371,null,null,"2013-2020",{"$f":"( SUMIFS(D:D,C:C, \"4\",A:A, \"2028\",B:B, \"2013\")+ SUMIFS(D:D,C:C, \"4\",A:A, \"2028\",B:B, \"2014\")+ SUMIFS(D:D,C:C, \"4\",A:A, \"2028\",B:B, \"2015\")+SUMIFS(D:D,C:C, \"4\",A:A, \"2028\",B:B, \"2016\")+SUMIFS(D:D,C:C, \"4\",A:A, \"2028\",B:B, \"2017\")+SUMIFS(D:D,C:C, \"4\",A:A, \"2028\",B:B, \"2018\")+SUMIFS(D:D,C:C, \"4\",A:A, \"2028\",B:B, \"2019\")+SUMIFS(D:D,C:C, \"4\",A:A, \"2028\",B:B, \"2020\"))/S17","v":0.33622491669883087},{"$f":"( SUMIFS(D:D,C:C, \"6\",A:A, \"2028\",B:B, \"2013\")+ SUMIFS(D:D,C:C, \"6\",A:A, \"2028\",B:B, \"2014\")+ SUMIFS(D:D,C:C, \"6\",A:A, \"2028\",B:B, \"2015\")+SUMIFS(D:D,C:C, \"6\",A:A, \"2028\",B:B, \"2016\")+SUMIFS(D:D,C:C, \"6\",A:A, \"2028\",B:B, \"2017\")+SUMIFS(D:D,C:C, \"6\",A:A, \"2028\",B:B, \"2018\")+SUMIFS(D:D,C:C, \"6\",A:A, \"2028\",B:B, \"2019\")+SUMIFS(D:D,C:C, \"6\",A:A, \"2028\",B:B, \"2020\"))/T17","v":0.38179340316103111}]
[2019,2004,4,47435100,null,null,2036,"2006 or earlier",{"$f":"N186","v":1.1935731301656993E-3},{"$f":"O186","v":1.4139433204532089E-2},null,null,"2021-2023",{"$f":"( SUMIFS(D:D,C:C, \"4\",A:A, \"2028\",B:B, \"2021\")+ SUMIFS(D:D,C:C, \"4\",A:A, \"2028\",B:B, \"2022\")+ SUMIFS(D:D,C:C, \"4\",A:A, \"2028\",B:B, \"2023\"))/S17","v":0.20458005781667166},{"$f":"( SUMIFS(D:D,C:C, \"6\",A:A, \"2028\",B:B, \"2021\")+SUMIFS(D:D,C:C, \"6\",A:A, \"2028\",B:B, \"2022\")+SUMIFS(D:D,C:C, \"6\",A:A, \"2028\",B:B, \"2023\"))/T17","v":0.15358028268047821}]
[2019,2003,4,36312890,null,null,2036,"2007-2009",{"$f":"N187","v":2.8942578019271314E-3},2.1040917115586942E-2,null,null,"2024-2050",{"$f":"( SUMIFS(D:D,C:C, \"4\",A:A, \"2028\",B:B, \"2024\")+SUMIFS(D:D,C:C, \"4\",A:A, \"2028\",B:B, \"2025\")+SUMIFS(D:D,C:C, \"4\",A:A, \"2028\",B:B, \"2026\")+SUMIFS(D:D,C:C, \"4\",A:A, \"2028\",B:B, \"2027\")+SUMIFS(D:D,C:C, \"4\",A:A, \"2028\",B:B, \"2028\"))/S17","v":0.38896847093447362},{"$f":"( SUMIFS(D:D,C:C, \"6\",A:A, \"2028\",B:B, \"2024\")+SUMIFS(D:D,C:C, \"6\",A:A, \"2028\",B:B, \"2025\")+SUMIFS(D:D,C:C, \"6\",A:A, \"2028\",B:B, \"2026\")+SUMIFS(D:D,C:C, \"6\",A:A, \"2028\",B:B, \"2027\")+SUMIFS(D:D,C:C, \"6\",A:A, \"2028\",B:B, \"2028\"))/T17","v":0.24899701723935674}]
[2019,2002,4,22066480,null,null,2036,"2010-2012",6.8658530456655667E-3,2.7576005486353323E-2,null,null,null,{"$f":"SUM(N106:N111)","v":1},{"$f":"SUM(O106:O111)","v":1}]
[2019,2001,4,33765600,null,null,2036,"2013-2020",9.2495783578453894E-2,0.22152209618551785]
[2019,2000,4,48733180,null,null,2036,"2021-2023",7.7126914423698345E-2,0.11134287654949439,null,null,"2029 Fractions"]
[2019,1999,4,36371970,null,null,2036,"2024-2050",0.81942361802008934,0.60437867145851543,null,null,"Model Year Group","Operating Hours","No. of Trucks"]
[2019,1998,4,24554960,null,null,2037,"2006 or earlier",{"$f":"N196","v":0},{"$f":"O196","v":0},null,null,"2006 or earlier",{"$f":"( SUMIFS(D:D,C:C, \"4\",A:A, \"2029\",B:B, \"2006\")+ SUMIFS(D:D,C:C, \"4\",A:A, \"2029\",B:B, \"2005\")+ SUMIFS(D:D,C:C, \"4\",A:A, \"2029\",B:B, \"2004\")+ SUMIFS(D:D,C:C, \"4\",A:A, \"2029\",B:B, \"2003\")+ SUMIFS(D:D,C:C, \"4\",A:A, \"2029\",B:B, \"2002\")+ SUMIFS(D:D,C:C, \"4\",A:A, \"2029\",B:B, \"2001\")+SUMIFS(D:D,C:C, \"4\",A:A, \"2029\",B:B, \"2000\")+SUMIFS(D:D,C:C, \"4\",A:A, \"2029\",B:B, \"1999\"))/S18","v":1.6876742840912378E-2},{"$f":"( SUMIFS(D:D,C:C, \"6\",A:A, \"2029\",B:B, \"2006\")+ SUMIFS(D:D,C:C, \"6\",A:A, \"2029\",B:B, \"2005\")+ SUMIFS(D:D,C:C, \"6\",A:A, \"2029\",B:B, \"2004\")+ SUMIFS(D:D,C:C, \"6\",A:A, \"2029\",B:B, \"2003\")+ SUMIFS(D:D,C:C, \"6\",A:A, \"2029\",B:B, \"2002\")+ SUMIFS(D:D,C:C, \"6\",A:A, \"2029\",B:B, \"2001\")+SUMIFS(D:D,C:C, \"6\",A:A, \"2029\",B:B, \"2000\")+SUMIFS(D:D,C:C, \"6\",A:A, \"2029\",B:B, \"1999\"))/T18","v":8.4924238056731063E-2}]
[2019,1997,4,15844120,null,null,2037,"2007-2009",{"$f":"N197","v":2.3165474702814578E-3},2.2479165779960019E-2,null,null,"2007-2009",{"$f":"( SUMIFS(D:D,C:C, \"4\",A:A, \"2029\",B:B, \"2007\")+ SUMIFS(D:D,C:C, \"4\",A:A, \"2029\",B:B, \"2008\")+ SUMIFS(D:D,C:C, \"4\",A:A, \"2029\",B:B, \"2009\"))/S18","v":1.6300850133715725E-2},{"$f":"( SUMIFS(D:D,C:C, \"6\",A:A, \"2029\",B:B, \"2007\")+ SUMIFS(D:D,C:C, \"6\",A:A, \"2029\",B:B, \"2008\")+ SUMIFS(D:D,C:C, \"6\",A:A, \"2029\",B:B, \"2009\"))/T18","v":4.7729459467862625E-2}]
[2019,1996,4,15197390,null,null,2037,"2010-2012",5.4260313788578075E-3,2.4868633955593768E-2,null,null,"2010-2012",{"$f":"( SUMIFS(D:D,C:C, \"4\",A:A, \"2029\",B:B, \"2010\")+ SUMIFS(D:D,C:C, \"4\",A:A, \"2029\",B:B, \"2011\")+ SUMIFS(D:D,C:C, \"4\",A:A, \"2029\",B:B, \"2012\"))/S18","v":2.5032765020358158E-2},{"$f":"( SUMIFS(D:D,C:C, \"6\",A:A, \"2029\",B:B, \"2010\")+ SUMIFS(D:D,C:C, \"6\",A:A, \"2029\",B:B, \"2011\")+ SUMIFS(D:D,C:C, \"6\",A:A, \"2029\",B:B, \"2012\"))/T18","v":5.5654169172816348E-2}]
[2019,1995,4,12409160,null,null,2037,"2013-2020",7.9074903745653111E-2,0.20420806359990479,null,null,"2013-2020",{"$f":"( SUMIFS(D:D,C:C, \"4\",A:A, \"2029\",B:B, \"2013\")+ SUMIFS(D:D,C:C, \"4\",A:A, \"2029\",B:B, \"2014\")+ SUMIFS(D:D,C:C, \"4\",A:A, \"2029\",B:B, \"2015\")+SUMIFS(D:D,C:C, \"4\",A:A, \"2029\",B:B, \"2016\")+SUMIFS(D:D,C:C, \"4\",A:A, \"2029\",B:B, \"2017\")+SUMIFS(D:D,C:C, \"4\",A:A, \"2029\",B:B, \"2018\")+SUMIFS(D:D,C:C, \"4\",A:A, \"2029\",B:B, \"2019\")+SUMIFS(D:D,C:C, \"4\",A:A, \"2029\",B:B, \"2020\"))/S18","v":0.29243166135286741},{"$f":"( SUMIFS(D:D,C:C, \"6\",A:A, \"2029\",B:B, \"2013\")+ SUMIFS(D:D,C:C, \"6\",A:A, \"2029\",B:B, \"2014\")+ SUMIFS(D:D,C:C, \"6\",A:A, \"2029\",B:B, \"2015\")+SUMIFS(D:D,C:C, \"6\",A:A, \"2029\",B:B, \"2016\")+SUMIFS(D:D,C:C, \"6\",A:A, \"2029\",B:B, \"2017\")+SUMIFS(D:D,C:C, \"6\",A:A, \"2029\",B:B, \"2018\")+SUMIFS(D:D,C:C, \"6\",A:A, \"2029\",B:B, \"2019\")+SUMIFS(D:D,C:C, \"6\",A:A, \"2029\",B:B, \"2020\"))/T18","v":0.36352582563649055}]
[2019,1994,4,9304997,null,null,2037,"2021-2023",6.392465774401794E-2,0.10545127784229305,null,null,"2021-2023",{"$f":"( SUMIFS(D:D,C:C, \"4\",A:A, \"2029\",B:B, \"2021\")+ SUMIFS(D:D,C:C, \"4\",A:A, \"2029\",B:B, \"2022\")+ SUMIFS(D:D,C:C, \"4\",A:A, \"2029\",B:B, \"2023\"))/S18","v":0.18869755266018737},{"$f":"( SUMIFS(D:D,C:C, \"6\",A:A, \"2029\",B:B, \"2021\")+SUMIFS(D:D,C:C, \"6\",A:A, \"2029\",B:B, \"2022\")+SUMIFS(D:D,C:C, \"6\",A:A, \"2029\",B:B, \"2023\"))/T18","v":0.1501590511705847}]
[2019,1993,4,6307833,null,null,2037,"2024-2050",0.84925785966118972,0.64299285882224833,null,null,"2024-2050",{"$f":"( SUMIFS(D:D,C:C, \"4\",A:A, \"2029\",B:B, \"2024\")+SUMIFS(D:D,C:C, \"4\",A:A, \"2029\",B:B, \"2025\")+SUMIFS(D:D,C:C, \"4\",A:A, \"2029\",B:B, \"2026\")+SUMIFS(D:D,C:C, \"4\",A:A, \"2029\",B:B, \"2027\")+SUMIFS(D:D,C:C, \"4\",A:A, \"2029\",B:B, \"2028\")+SUMIFS(D:D,C:C, \"4\",A:A, \"2029\",B:B, \"2029\"))/S18","v":0.46066042799195894},{"$f":"( SUMIFS(D:D,C:C, \"6\",A:A, \"2029\",B:B, \"2024\")+SUMIFS(D:D,C:C, \"6\",A:A, \"2029\",B:B, \"2025\")+SUMIFS(D:D,C:C, \"6\",A:A, \"2029\",B:B, \"2026\")+SUMIFS(D:D,C:C, \"6\",A:A, \"2029\",B:B, \"2027\")+SUMIFS(D:D,C:C, \"6\",A:A, \"2029\",B:B, \"2028\")+SUMIFS(D:D,C:C, \"6\",A:A, \"2029\",B:B, \"2029\"))/T18","v":0.29800725649551468}]
[2019,1992,4,3604508,null,null,2038,"2006 or earlier",{"$f":"N206","v":0},{"$f":"O206","v":0},null,null,null,{"$f":"SUM(N116:N121)","v":1},{"$f":"SUM(O116:O121)","v":1}]
[2019,1991,4,2645219,null,null,2038,"2007-2009",{"$f":"N207","v":1.7352204872485583E-3},1.8784032028690271E-2]
[2019,1990,4,2365549,null,null,2038,"2010-2012",4.1321014493613285E-3,2.1942948137430508E-2,null,null,"2030 Fractions"]
[2019,1989,4,3962825,null,null,2038,"2013-2020",6.6351902195207896E-2,0.18493360612170789,null,null,"Model Year Group","Operating Hours","No. of Trucks"]
[2020,2020,6,95704.5,null,null,2038,"2021-2023",5.3089356644215178E-2,9.8455631223464055E-2,null,null,"2006 or earlier",{"$f":"( SUMIFS(D:D,C:C, \"4\",A:A, \"2030\",B:B, \"2006\")+ SUMIFS(D:D,C:C, \"4\",A:A, \"2030\",B:B, \"2005\")+ SUMIFS(D:D,C:C, \"4\",A:A, \"2030\",B:B, \"2004\")+ SUMIFS(D:D,C:C, \"4\",A:A, \"2030\",B:B, \"2003\")+ SUMIFS(D:D,C:C, \"4\",A:A, \"2030\",B:B, \"2002\")+ SUMIFS(D:D,C:C, \"4\",A:A, \"2030\",B:B, \"2001\")+SUMIFS(D:D,C:C, \"4\",A:A, \"2030\",B:B, \"2000\"))/S19","v":1.2656185822378674E-2},{"$f":"( SUMIFS(D:D,C:C, \"6\",A:A, \"2030\",B:B, \"2006\")+ SUMIFS(D:D,C:C, \"6\",A:A, \"2030\",B:B, \"2005\")+ SUMIFS(D:D,C:C, \"6\",A:A, \"2030\",B:B, \"2004\")+ SUMIFS(D:D,C:C, \"6\",A:A, \"2030\",B:B, \"2003\")+ SUMIFS(D:D,C:C, \"6\",A:A, \"2030\",B:B, \"2002\")+ SUMIFS(D:D,C:C, \"6\",A:A, \"2030\",B:B, \"2001\")+SUMIFS(D:D,C:C, \"6\",A:A, \"2030\",B:B, \"2000\"))/T19","v":6.8486481646184122E-2}]
[2020,2019,6,102977,null,null,2038,"2024-2050",0.87469141922396709,0.67588378248870729,null,null,"2007-2009",{"$f":"( SUMIFS(D:D,C:C, \"4\",A:A, \"2030\",B:B, \"2007\")+ SUMIFS(D:D,C:C, \"4\",A:A, \"2030\",B:B, \"2008\")+ SUMIFS(D:D,C:C, \"4\",A:A, \"2030\",B:B, \"2009\"))/S19","v":1.3503315124796559E-2},{"$f":"( SUMIFS(D:D,C:C, \"6\",A:A, \"2030\",B:B, \"2007\")+ SUMIFS(D:D,C:C, \"6\",A:A, \"2030\",B:B, \"2008\")+ SUMIFS(D:D,C:C, \"6\",A:A, \"2030\",B:B, \"2009\"))/T19","v":4.3061990774528713E-2}]
[2020,2018,6,96972.203125,null,null,2039,"2006 or earlier",{"$f":"N216","v":0},{"$f":"O216","v":0},null,null,"2010-2012",{"$f":"( SUMIFS(D:D,C:C, \"4\",A:A, \"2030\",B:B, \"2010\")+ SUMIFS(D:D,C:C, \"4\",A:A, \"2030\",B:B, \"2011\")+ SUMIFS(D:D,C:C, \"4\",A:A, \"2030\",B:B, \"2012\"))/S19","v":2.1598918164680292E-2},{"$f":"( SUMIFS(D:D,C:C, \"6\",A:A, \"2030\",B:B, \"2010\")+ SUMIFS(D:D,C:C, \"6\",A:A, \"2030\",B:B, \"2011\")+ SUMIFS(D:D,C:C, \"6\",A:A, \"2030\",B:B, \"2012\"))/T19","v":5.1134834707784044E-2}]
[2020,2017,6,112856,null,null,2039,"2007-2009",{"$f":"N217","v":1.2022507094610496E-3},1.413945967411423E-2,null,null,"2013-2020",{"$f":"( SUMIFS(D:D,C:C, \"4\",A:A, \"2030\",B:B, \"2013\")+ SUMIFS(D:D,C:C, \"4\",A:A, \"2030\",B:B, \"2014\")+ SUMIFS(D:D,C:C, \"4\",A:A, \"2030\",B:B, \"2015\")+SUMIFS(D:D,C:C, \"4\",A:A, \"2030\",B:B, \"2016\")+SUMIFS(D:D,C:C, \"4\",A:A, \"2030\",B:B, \"2017\")+SUMIFS(D:D,C:C, \"4\",A:A, \"2030\",B:B, \"2018\")+SUMIFS(D:D,C:C, \"4\",A:A, \"2030\",B:B, \"2019\")+SUMIFS(D:D,C:C, \"4\",A:A, \"2030\",B:B, \"2020\"))/S19","v":0.25236408986627612},{"$f":"( SUMIFS(D:D,C:C, \"6\",A:A, \"2030\",B:B, \"2013\")+ SUMIFS(D:D,C:C, \"6\",A:A, \"2030\",B:B, \"2014\")+ SUMIFS(D:D,C:C, \"6\",A:A, \"2030\",B:B, \"2015\")+SUMIFS(D:D,C:C, \"6\",A:A, \"2030\",B:B, \"2016\")+SUMIFS(D:D,C:C, \"6\",A:A, \"2030\",B:B, \"2017\")+SUMIFS(D:D,C:C, \"6\",A:A, \"2030\",B:B, \"2018\")+SUMIFS(D:D,C:C, \"6\",A:A, \"2030\",B:B, \"2019\")+SUMIFS(D:D,C:C, \"6\",A:A, \"2030\",B:B, \"2020\"))/T19","v":0.34506472473963123}]
[2020,2016,6,114142,null,null,2039,"2010-2012",3.0724117297500943E-3,1.9437874715111585E-2,null,null,"2021-2023",{"$f":"( SUMIFS(D:D,C:C, \"4\",A:A, \"2030\",B:B, \"2021\")+ SUMIFS(D:D,C:C, \"4\",A:A, \"2030\",B:B, \"2022\")+ SUMIFS(D:D,C:C, \"4\",A:A, \"2030\",B:B, \"2023\"))/S19","v":0.17254155942745783},{"$f":"( SUMIFS(D:D,C:C, \"6\",A:A, \"2030\",B:B, \"2021\")+SUMIFS(D:D,C:C, \"6\",A:A, \"2030\",B:B, \"2022\")+SUMIFS(D:D,C:C, \"6\",A:A, \"2030\",B:B, \"2023\"))/T19","v":0.14625397370714804}]
[2020,2015,6,145755,null,null,2039,"2013-2020",5.5249946078640123E-2,0.1675949412668013,null,null,"2024-2050",{"$f":"( SUMIFS(D:D,C:C, \"4\",A:A, \"2030\",B:B, \"2024\")+SUMIFS(D:D,C:C, \"4\",A:A, \"2030\",B:B, \"2025\")+SUMIFS(D:D,C:C, \"4\",A:A, \"2030\",B:B, \"2026\")+SUMIFS(D:D,C:C, \"4\",A:A, \"2030\",B:B, \"2027\")+SUMIFS(D:D,C:C, \"4\",A:A, \"2030\",B:B, \"2028\")+SUMIFS(D:D,C:C, \"4\",A:A, \"2030\",B:B, \"2029\")+SUMIFS(D:D,C:C, \"4\",A:A, \"2030\",B:B, \"2030\"))/S19","v":0.52733593159441061},{"$f":"( SUMIFS(D:D,C:C, \"6\",A:A, \"2030\",B:B, \"2024\")+SUMIFS(D:D,C:C, \"6\",A:A, \"2030\",B:B, \"2025\")+SUMIFS(D:D,C:C, \"6\",A:A, \"2030\",B:B, \"2026\")+SUMIFS(D:D,C:C, \"6\",A:A, \"2030\",B:B, \"2027\")+SUMIFS(D:D,C:C, \"6\",A:A, \"2030\",B:B, \"2028\")+SUMIFS(D:D,C:C, \"6\",A:A, \"2030\",B:B, \"2029\")+SUMIFS(D:D,C:C, \"6\",A:A, \"2030\",B:B, \"2030\"))/T19","v":0.34599799442472384}]
[2020,2014,6,125907,null,null,2039,"2021-2023",4.4822728402868738E-2,9.148275961832518E-2,null,null,null,{"$f":"SUM(N126:N131)","v":1},{"$f":"SUM(O126:O131)","v":1}]
[2020,2013,6,91197.6015625,null,null,2039,"2024-2050",0.89565266307928004,0.70734496472564767]
[2020,2012,6,90888.796875,null,null,2040,"2006 or earlier",{"$f":"N226","v":0},{"$f":"O226","v":0},null,null,2031]
[2020,2011,6,47786.6015625,null,null,2040,"2007-2009",{"$f":"N227","v":0},0,null,null,"Model Year Group","Operating Hours","No. of Trucks"]
[2020,2010,6,38918.6015625,null,null,2040,"2010-2012",3.0565875385826311E-3,2.7709403895159718E-2,null,null,"2006 or earlier",{"$f":"( SUMIFS(D:D,C:C, \"4\",A:A, M134,B:B, \"2006\")+ SUMIFS(D:D,C:C, \"4\",A:A, M134,B:B, \"2005\")+ SUMIFS(D:D,C:C, \"4\",A:A, M134,B:B, \"2004\")+ SUMIFS(D:D,C:C, \"4\",A:A, M134,B:B, \"2003\")+ SUMIFS(D:D,C:C, \"4\",A:A, M134,B:B, \"2002\")+ SUMIFS(D:D,C:C, \"4\",A:A, M134,B:B, \"2001\")+SUMIFS(D:D,C:C, \"4\",A:A, M134,B:B, \"2000\"))/S$20","v":9.5624546906577929E-3},{"$f":"( SUMIFS(D:D,C:C, \"6\",A:A, M134,B:B, \"2006\")+ SUMIFS(D:D,C:C, \"6\",A:A, M134,B:B, \"2005\")+ SUMIFS(D:D,C:C, \"6\",A:A, M134,B:B, \"2004\")+ SUMIFS(D:D,C:C, \"6\",A:A, M134,B:B, \"2003\")+ SUMIFS(D:D,C:C, \"6\",A:A, M134,B:B, \"2002\")+ SUMIFS(D:D,C:C, \"6\",A:A, M134,B:B, \"2001\")+SUMIFS(D:D,C:C, \"6\",A:A, M134,B:B, \"2000\"))/$T20","v":5.7113865201679909E-2}]
[2020,2009,6,47033.30078125,null,null,2040,"2013-2020",4.4342349842412886E-2,0.14837333544868064,null,null,"2007-2009",{"$f":"( SUMIFS(D:D,C:C, \"4\",A:A, M134,B:B, \"2007\")+ SUMIFS(D:D,C:C, \"4\",A:A, M134,B:B, \"2008\")+ SUMIFS(D:D,C:C, \"4\",A:A, M134,B:B, \"2009\"))/S$20","v":1.1058639682565256E-2},{"$f":"( SUMIFS(D:D,C:C, \"6\",A:A, M134,B:B, \"2007\")+ SUMIFS(D:D,C:C, \"6\",A:A, M134,B:B, \"2008\")+ SUMIFS(D:D,C:C, \"6\",A:A, M134,B:B, \"2009\"))/T$20","v":3.8666610433907081E-2}]
[2020,2008,6,29221.599609375,null,null,2040,"2021-2023",3.8386905918282303E-2,8.3771575878065094E-2,null,null,"2010-2012",{"$f":"( SUMIFS(D:D,C:C, \"4\",A:A, M134,B:B, \"2010\")+ SUMIFS(D:D,C:C, \"4\",A:A, M134,B:B, \"2011\")+ SUMIFS(D:D,C:C, \"4\",A:A, M134,B:B, \"2012\"))/S$20","v":1.8472229408498648E-2},{"$f":"( SUMIFS(D:D,C:C, \"6\",A:A, M134,B:B, \"2010\")+ SUMIFS(D:D,C:C, \"6\",A:A, M134,B:B, \"2011\")+ SUMIFS(D:D,C:C, \"6\",A:A, M134,B:B, \"2012\"))/T$20","v":4.6683747490364982E-2}]
[2020,2007,6,109467,null,null,2040,"2024-2050",0.91421415670072215,0.7401456847780945,null,null,"2013-2020",{"$f":"( SUMIFS(D:D,C:C, \"4\",A:A, M134,B:B, \"2013\")+ SUMIFS(D:D,C:C, \"4\",A:A, M134,B:B, \"2014\")+ SUMIFS(D:D,C:C, \"4\",A:A, M134,B:B, \"2015\")+SUMIFS(D:D,C:C, \"4\",A:A, M134,B:B, \"2016\")+SUMIFS(D:D,C:C, \"4\",A:A, M134,B:B, \"2017\")+SUMIFS(D:D,C:C, \"4\",A:A, M134,B:B, \"2018\")+SUMIFS(D:D,C:C, \"4\",A:A, M134,B:B, \"2019\")+SUMIFS(D:D,C:C, \"4\",A:A, M134,B:B, \"2020\"))/S$20","v":0.21590597832377403},{"$f":"( SUMIFS(D:D,C:C, \"6\",A:A, M134,B:B, \"2013\")+ SUMIFS(D:D,C:C, \"6\",A:A, M134,B:B, \"2014\")+ SUMIFS(D:D,C:C, \"6\",A:A, M134,B:B, \"2015\")+SUMIFS(D:D,C:C, \"6\",A:A, M134,B:B, \"2016\")+SUMIFS(D:D,C:C, \"6\",A:A, M134,B:B, \"2017\")+SUMIFS(D:D,C:C, \"6\",A:A, M134,B:B, \"2018\")+SUMIFS(D:D,C:C, \"6\",A:A, M134,B:B, \"2019\")+SUMIFS(D:D,C:C, \"6\",A:A, M134,B:B, \"2020\"))/T$20","v":0.32446494531893993}]
[2020,2006,6,79378.1015625,null,null,null,null,null,null,null,null,"2021-2023",{"$f":"( SUMIFS(D:D,C:C, \"4\",A:A, M134,B:B, \"2021\")+ SUMIFS(D:D,C:C, \"4\",A:A, M134,B:B, \"2022\")+ SUMIFS(D:D,C:C, \"4\",A:A, M134,B:B, \"2023\"))/S$20","v":0.1560502200356545},{"$f":"( SUMIFS(D:D,C:C, \"6\",A:A, M134,B:B, \"2021\")+SUMIFS(D:D,C:C, \"6\",A:A, M134,B:B, \"2022\")+SUMIFS(D:D,C:C, \"6\",A:A, M134,B:B, \"2023\"))/T$20","v":0.14130865515640548}]
[2020,2005,6,72602.1015625,null,null,null,null,null,null,null,null,"2024-2050",{"$f":"( SUMIFS(D:D,C:C, \"4\",A:A, M134,B:B, \"2024\")+SUMIFS(D:D,C:C, \"4\",A:A, M134,B:B, \"2025\")+SUMIFS(D:D,C:C, \"4\",A:A, M134,B:B, \"2026\")+SUMIFS(D:D,C:C, \"4\",A:A, M134,B:B, \"2027\")+SUMIFS(D:D,C:C, \"4\",A:A, M134,B:B, \"2028\")+SUMIFS(D:D,C:C, \"4\",A:A, M134,B:B, \"2029\")+SUMIFS(D:D,C:C, \"4\",A:A, M134,B:B, \"2030\")+SUMIFS(D:D,C:C, \"4\",A:A, M134,B:B, \"2031\"))/S$20","v":0.5889504778588498},{"$f":"( SUMIFS(D:D,C:C, \"6\",A:A, M134,B:B, \"2024\")+SUMIFS(D:D,C:C, \"6\",A:A, M134,B:B, \"2025\")+SUMIFS(D:D,C:C, \"6\",A:A, M134,B:B, \"2026\")+SUMIFS(D:D,C:C, \"6\",A:A, M134,B:B, \"2027\")+SUMIFS(D:D,C:C, \"6\",A:A, M134,B:B, \"2028\")+SUMIFS(D:D,C:C, \"6\",A:A, M134,B:B, \"2029\")+SUMIFS(D:D,C:C, \"6\",A:A, M134,B:B, \"2030\")+SUMIFS(D:D,C:C, \"6\",A:A, M134,B:B, \"2031\"))/T$20","v":0.39176217639870259}]
[2020,2004,6,39574,null,null,null,null,null,null,null,null,null,{"$f":"SUM(N136:N141)","v":1},{"$f":"SUM(O136:O141)","v":1}]
[2020,2003,6,35374.69921875]
[2020,2002,6,22508.400390625,null,null,null,null,null,null,null,null,2032]
[2020,2001,6,36777.69921875,null,null,null,null,null,null,null,null,"Model Year Group","Operating Hours","No. of Trucks"]
[2020,2000,6,56048.8984375,null,null,null,null,null,null,null,null,"2006 or earlier",{"$f":"( SUMIFS(D:D,C:C, \"4\",A:A, M144,B:B, \"2006\")+ SUMIFS(D:D,C:C, \"4\",A:A, M144,B:B, \"2005\")+ SUMIFS(D:D,C:C, \"4\",A:A, M144,B:B, \"2004\")+ SUMIFS(D:D,C:C, \"4\",A:A, M144,B:B, \"2003\")+ SUMIFS(D:D,C:C, \"4\",A:A, M144,B:B, \"2002\")+ SUMIFS(D:D,C:C, \"4\",A:A, M144,B:B, \"2001\")+SUMIFS(D:D,C:C, \"4\",A:A, M144,B:B, \"2000\"))/$S21","v":7.2388996294785995E-3},{"$f":"( SUMIFS(D:D,C:C, \"6\",A:A, M144,B:B, \"2006\")+ SUMIFS(D:D,C:C, \"6\",A:A, M144,B:B, \"2005\")+ SUMIFS(D:D,C:C, \"6\",A:A, M144,B:B, \"2004\")+ SUMIFS(D:D,C:C, \"6\",A:A, M144,B:B, \"2003\")+ SUMIFS(D:D,C:C, \"6\",A:A, M144,B:B, \"2002\")+ SUMIFS(D:D,C:C, \"6\",A:A, M144,B:B, \"2001\")+SUMIFS(D:D,C:C, \"6\",A:A, M144,B:B, \"2000\"))/$T21","v":4.9070882980621816E-2}]
[2020,1999,6,45114.5,null,null,null,null,null,null,null,null,"2007-2009",{"$f":"( SUMIFS(D:D,C:C, \"4\",A:A, M144,B:B, \"2007\")+ SUMIFS(D:D,C:C, \"4\",A:A, M144,B:B, \"2008\")+ SUMIFS(D:D,C:C, \"4\",A:A, M144,B:B, \"2009\"))/S$21","v":8.9147231216736185E-3},{"$f":"( SUMIFS(D:D,C:C, \"6\",A:A, M144,B:B, \"2007\")+ SUMIFS(D:D,C:C, \"6\",A:A, M144,B:B, \"2008\")+ SUMIFS(D:D,C:C, \"6\",A:A, M144,B:B, \"2009\"))/T$21","v":3.4562430436401899E-2}]
[2020,1998,6,33050.5,null,null,null,null,null,null,null,null,"2010-2012",{"$f":"( SUMIFS(D:D,C:C, \"4\",A:A, M144,B:B, \"2010\")+ SUMIFS(D:D,C:C, \"4\",A:A, M144,B:B, \"2011\")+ SUMIFS(D:D,C:C, \"4\",A:A, M144,B:B, \"2012\"))/S$21","v":1.5581664167809775E-2},{"$f":"( SUMIFS(D:D,C:C, \"6\",A:A, M144,B:B, \"2010\")+ SUMIFS(D:D,C:C, \"6\",A:A, M144,B:B, \"2011\")+ SUMIFS(D:D,C:C, \"6\",A:A, M144,B:B, \"2012\"))/T$21","v":4.227769883133442E-2}]
[2020,1997,6,22939,null,null,null,null,null,null,null,null,"2013-2020",{"$f":"( SUMIFS(D:D,C:C, \"4\",A:A, M144,B:B, \"2013\")+ SUMIFS(D:D,C:C, \"4\",A:A, M144,B:B, \"2014\")+ SUMIFS(D:D,C:C, \"4\",A:A, M144,B:B, \"2015\")+SUMIFS(D:D,C:C, \"4\",A:A, M144,B:B, \"2016\")+SUMIFS(D:D,C:C, \"4\",A:A, M144,B:B, \"2017\")+SUMIFS(D:D,C:C, \"4\",A:A, M144,B:B, \"2018\")+SUMIFS(D:D,C:C, \"4\",A:A, M144,B:B, \"2019\")+SUMIFS(D:D,C:C, \"4\",A:A, M144,B:B, \"2020\"))/S$21","v":0.18389035823386529},{"$f":"( SUMIFS(D:D,C:C, \"6\",A:A, M144,B:B, \"2013\")+ SUMIFS(D:D,C:C, \"6\",A:A, M144,B:B, \"2014\")+ SUMIFS(D:D,C:C, \"6\",A:A, M144,B:B, \"2015\")+SUMIFS(D:D,C:C, \"6\",A:A, M144,B:B, \"2016\")+SUMIFS(D:D,C:C, \"6\",A:A, M144,B:B, \"2017\")+SUMIFS(D:D,C:C, \"6\",A:A, M144,B:B, \"2018\")+SUMIFS(D:D,C:C, \"6\",A:A, M144,B:B, \"2019\")+SUMIFS(D:D,C:C, \"6\",A:A, M144,B:B, \"2020\"))/T$21","v":0.30321594432258553}]
[2020,1996,6,24260.80078125,null,null,null,null,null,null,null,null,"2021-2023",{"$f":"( SUMIFS(D:D,C:C, \"4\",A:A, M144,B:B, \"2021\")+ SUMIFS(D:D,C:C, \"4\",A:A, M144,B:B, \"2022\")+ SUMIFS(D:D,C:C, \"4\",A:A, M144,B:B, \"2023\"))/S$21","v":0.13962929960088039},{"$f":"( SUMIFS(D:D,C:C, \"6\",A:A, M144,B:B, \"2021\")+SUMIFS(D:D,C:C, \"6\",A:A, M144,B:B, \"2022\")+SUMIFS(D:D,C:C, \"6\",A:A, M144,B:B, \"2023\"))/T$21","v":0.13577026099488163}]
[2020,1995,6,22075.19921875,null,null,null,null,null,null,null,null,"2024-2050",{"$f":"( SUMIFS(D:D,C:C, \"4\",A:A, M144,B:B, \"2024\")+SUMIFS(D:D,C:C, \"4\",A:A, M144,B:B, \"2025\")+SUMIFS(D:D,C:C, \"4\",A:A, M144,B:B, \"2026\")+SUMIFS(D:D,C:C, \"4\",A:A, M144,B:B, \"2027\")+SUMIFS(D:D,C:C, \"4\",A:A, M144,B:B, \"2028\")+SUMIFS(D:D,C:C, \"4\",A:A, M144,B:B, \"2029\")+SUMIFS(D:D,C:C, \"4\",A:A, M144,B:B, \"2030\")+SUMIFS(D:D,C:C, \"4\",A:A, M144,B:B, \"2031\")+SUMIFS(D:D,C:C, \"4\",A:A, M144,B:B, \"2032\"))/S$21","v":0.64474505524629233},{"$f":"( SUMIFS(D:D,C:C, \"6\",A:A, M144,B:B, \"2024\")+SUMIFS(D:D,C:C, \"6\",A:A, M144,B:B, \"2025\")+SUMIFS(D:D,C:C, \"6\",A:A, M144,B:B, \"2026\")+SUMIFS(D:D,C:C, \"6\",A:A, M144,B:B, \"2027\")+SUMIFS(D:D,C:C, \"6\",A:A, M144,B:B, \"2028\")+SUMIFS(D:D,C:C, \"6\",A:A, M144,B:B, \"2029\")+SUMIFS(D:D,C:C, \"6\",A:A, M144,B:B, \"2030\")+SUMIFS(D:D,C:C, \"6\",A:A, M144,B:B, \"2031\")+SUMIFS(D:D,C:C, \"6\",A:A, M144,B:B, \"2032\"))/T$21","v":0.43510278243417472}]
[2020,1994,6,18387.69921875,null,null,null,null,null,null,null,null,null,{"$f":"SUM(N146:N151)","v":1},{"$f":"SUM(O146:O151)","v":1}]
[2020,1993,6,14313.2998046875]
[2020,1992,6,9602.990234375,null,null,null,null,null,null,null,null,2033]
[2020,1991,6,8392.2197265625,null,null,null,null,null,null,null,null,"Model Year Group","Operating Hours","No. of Trucks"]
[2020,1990,6,25661.5,null,null,null,null,null,null,null,null,"2006 or earlier",{"$f":"( SUMIFS(D:D,C:C, \"4\",A:A, M154,B:B, \"2006\")+ SUMIFS(D:D,C:C, \"4\",A:A, M154,B:B, \"2005\")+ SUMIFS(D:D,C:C, \"4\",A:A, M154,B:B, \"2004\")+ SUMIFS(D:D,C:C, \"4\",A:A, M154,B:B, \"2003\")+ SUMIFS(D:D,C:C, \"4\",A:A, M154,B:B, \"2002\")+ SUMIFS(D:D,C:C, \"4\",A:A, M154,B:B, \"2001\")+SUMIFS(D:D,C:C, \"4\",A:A, M154,B:B, \"2000\"))/$S22","v":5.2031400696379224E-3},{"$f":"( SUMIFS(D:D,C:C, \"6\",A:A, M154,B:B, \"2006\")+ SUMIFS(D:D,C:C, \"6\",A:A, M154,B:B, \"2005\")+ SUMIFS(D:D,C:C, \"6\",A:A, M154,B:B, \"2004\")+ SUMIFS(D:D,C:C, \"6\",A:A, M154,B:B, \"2003\")+ SUMIFS(D:D,C:C, \"6\",A:A, M154,B:B, \"2002\")+ SUMIFS(D:D,C:C, \"6\",A:A, M154,B:B, \"2001\")+SUMIFS(D:D,C:C, \"6\",A:A, M154,B:B, \"2000\"))/$T22","v":4.0406888710550849E-2}]
[2020,2020,4,289215308,null,null,null,null,null,null,null,null,"2007-2009",{"$f":"( SUMIFS(D:D,C:C, \"4\",A:A, M154,B:B, \"2007\")+ SUMIFS(D:D,C:C, \"4\",A:A, M154,B:B, \"2008\")+ SUMIFS(D:D,C:C, \"4\",A:A, M154,B:B, \"2009\"))/S$22","v":6.9448150728129762E-3},{"$f":"( SUMIFS(D:D,C:C, \"6\",A:A, M154,B:B, \"2007\")+ SUMIFS(D:D,C:C, \"6\",A:A, M154,B:B, \"2008\")+ SUMIFS(D:D,C:C, \"6\",A:A, M154,B:B, \"2009\"))/T$22","v":3.0407303391103108E-2}]
[2020,2019,4,311192300,null,null,null,null,null,null,null,null,"2010-2012",{"$f":"( SUMIFS(D:D,C:C, \"4\",A:A, M154,B:B, \"2010\")+ SUMIFS(D:D,C:C, \"4\",A:A, M154,B:B, \"2011\")+ SUMIFS(D:D,C:C, \"4\",A:A, M154,B:B, \"2012\"))/S$22","v":1.2883199389658621E-2},{"$f":"( SUMIFS(D:D,C:C, \"6\",A:A, M154,B:B, \"2010\")+ SUMIFS(D:D,C:C, \"6\",A:A, M154,B:B, \"2011\")+ SUMIFS(D:D,C:C, \"6\",A:A, M154,B:B, \"2012\"))/T$22","v":3.7966387715521979E-2}]
[2020,2018,4,293046004,null,null,null,null,null,null,null,null,"2013-2020",{"$f":"( SUMIFS(D:D,C:C, \"4\",A:A, M154,B:B, \"2013\")+ SUMIFS(D:D,C:C, \"4\",A:A, M154,B:B, \"2014\")+ SUMIFS(D:D,C:C, \"4\",A:A, M154,B:B, \"2015\")+SUMIFS(D:D,C:C, \"4\",A:A, M154,B:B, \"2016\")+SUMIFS(D:D,C:C, \"4\",A:A, M154,B:B, \"2017\")+SUMIFS(D:D,C:C, \"4\",A:A, M154,B:B, \"2018\")+SUMIFS(D:D,C:C, \"4\",A:A, M154,B:B, \"2019\")+SUMIFS(D:D,C:C, \"4\",A:A, M154,B:B, \"2020\"))/S$22","v":0.15465853598916485},{"$f":"( SUMIFS(D:D,C:C, \"6\",A:A, M154,B:B, \"2013\")+ SUMIFS(D:D,C:C, \"6\",A:A, M154,B:B, \"2014\")+ SUMIFS(D:D,C:C, \"6\",A:A, M154,B:B, \"2015\")+SUMIFS(D:D,C:C, \"6\",A:A, M154,B:B, \"2016\")+SUMIFS(D:D,C:C, \"6\",A:A, M154,B:B, \"2017\")+SUMIFS(D:D,C:C, \"6\",A:A, M154,B:B, \"2018\")+SUMIFS(D:D,C:C, \"6\",A:A, M154,B:B, \"2019\")+SUMIFS(D:D,C:C, \"6\",A:A, M154,B:B, \"2020\"))/T$22","v":0.28108964162336497}]
[2020,2017,4,341044400,null,null,null,null,null,null,null,null,"2021-2023",{"$f":"( SUMIFS(D:D,C:C, \"4\",A:A, M154,B:B, \"2021\")+ SUMIFS(D:D,C:C, \"4\",A:A, M154,B:B, \"2022\")+ SUMIFS(D:D,C:C, \"4\",A:A, M154,B:B, \"2023\"))/S$22","v":0.12320408499740361},{"$f":"( SUMIFS(D:D,C:C, \"6\",A:A, M154,B:B, \"2021\")+SUMIFS(D:D,C:C, \"6\",A:A, M154,B:B, \"2022\")+SUMIFS(D:D,C:C, \"6\",A:A, M154,B:B, \"2023\"))/T$22","v":0.13017987472425685}]
[2020,2016,4,326742196,null,null,null,null,null,null,null,null,"2024-2050",{"$f":"( SUMIFS(D:D,C:C, \"4\",A:A, M154,B:B, \"2024\")+SUMIFS(D:D,C:C, \"4\",A:A, M154,B:B, \"2025\")+SUMIFS(D:D,C:C, \"4\",A:A, M154,B:B, \"2026\")+SUMIFS(D:D,C:C, \"4\",A:A, M154,B:B, \"2027\")+SUMIFS(D:D,C:C, \"4\",A:A, M154,B:B, \"2028\")+SUMIFS(D:D,C:C, \"4\",A:A, M154,B:B, \"2029\")+SUMIFS(D:D,C:C, \"4\",A:A, M154,B:B, \"2030\")+SUMIFS(D:D,C:C, \"4\",A:A, M154,B:B, \"2031\")+SUMIFS(D:D,C:C, \"4\",A:A, M154,B:B, \"2032\")+SUMIFS(D:D,C:C, \"4\",A:A, M154,B:B, \"2033\"))/S$22","v":0.69710622448132198},{"$f":"( SUMIFS(D:D,C:C, \"6\",A:A, M154,B:B, \"2024\")+SUMIFS(D:D,C:C, \"6\",A:A, M154,B:B, \"2025\")+SUMIFS(D:D,C:C, \"6\",A:A, M154,B:B, \"2026\")+SUMIFS(D:D,C:C, \"6\",A:A, M154,B:B, \"2027\")+SUMIFS(D:D,C:C, \"6\",A:A, M154,B:B, \"2028\")+SUMIFS(D:D,C:C, \"6\",A:A, M154,B:B, \"2029\")+SUMIFS(D:D,C:C, \"6\",A:A, M154,B:B, \"2030\")+SUMIFS(D:D,C:C, \"6\",A:A, M154,B:B, \"2031\")+SUMIFS(D:D,C:C, \"6\",A:A, M154,B:B, \"2032\")+SUMIFS(D:D,C:C, \"6\",A:A, M154,B:B, \"2033\"))/T$22","v":0.47994990383520225}]
[2020,2015,4,394010400,null,null,null,null,null,null,null,null,null,{"$f":"SUM(N156:N161)","v":1},{"$f":"SUM(O156:O161)","v":1}]
[2020,2014,4,320293600]
[2020,2013,4,217464200,null,null,null,null,null,null,null,null,2034]
[2020,2012,4,202244500,null,null,null,null,null,null,null,null,"Model Year Group","Operating Hours","No. of Trucks"]
[2020,2011,4,98719310,null,null,null,null,null,null,null,null,"2006 or earlier",{"$f":"( SUMIFS(D:D,C:C, \"4\",A:A, M164,B:B, \"2006\")+ SUMIFS(D:D,C:C, \"4\",A:A, M164,B:B, \"2005\")+ SUMIFS(D:D,C:C, \"4\",A:A, M164,B:B, \"2004\")+ SUMIFS(D:D,C:C, \"4\",A:A, M164,B:B, \"2003\")+ SUMIFS(D:D,C:C, \"4\",A:A, M164,B:B, \"2002\")+ SUMIFS(D:D,C:C, \"4\",A:A, M164,B:B, \"2001\")+SUMIFS(D:D,C:C, \"4\",A:A, M164,B:B, \"2000\"))/$S23","v":3.6365007347933195E-3},{"$f":"( SUMIFS(D:D,C:C, \"6\",A:A, M164,B:B, \"2006\")+ SUMIFS(D:D,C:C, \"6\",A:A, M164,B:B, \"2005\")+ SUMIFS(D:D,C:C, \"6\",A:A, M164,B:B, \"2004\")+ SUMIFS(D:D,C:C, \"6\",A:A, M164,B:B, \"2003\")+ SUMIFS(D:D,C:C, \"6\",A:A, M164,B:B, \"2002\")+ SUMIFS(D:D,C:C, \"6\",A:A, M164,B:B, \"2001\")+SUMIFS(D:D,C:C, \"6\",A:A, M164,B:B, \"2000\"))/$T23","v":3.2715598951386815E-2}]
[2020,2010,4,74197610,null,null,null,null,null,null,null,null,"2007-2009",{"$f":"( SUMIFS(D:D,C:C, \"4\",A:A, M164,B:B, \"2007\")+ SUMIFS(D:D,C:C, \"4\",A:A, M164,B:B, \"2008\")+ SUMIFS(D:D,C:C, \"4\",A:A, M164,B:B, \"2009\"))/S$23","v":5.3186447536602193E-3},{"$f":"( SUMIFS(D:D,C:C, \"6\",A:A, M164,B:B, \"2007\")+ SUMIFS(D:D,C:C, \"6\",A:A, M164,B:B, \"2008\")+ SUMIFS(D:D,C:C, \"6\",A:A, M164,B:B, \"2009\"))/T$23","v":2.6794126222393935E-2}]
[2020,2009,4,82173140,null,null,null,null,null,null,null,null,"2010-2012",{"$f":"( SUMIFS(D:D,C:C, \"4\",A:A, M164,B:B, \"2010\")+ SUMIFS(D:D,C:C, \"4\",A:A, M164,B:B, \"2011\")+ SUMIFS(D:D,C:C, \"4\",A:A, M164,B:B, \"2012\"))/S$23","v":1.0551203297874888E-2},{"$f":"( SUMIFS(D:D,C:C, \"6\",A:A, M164,B:B, \"2010\")+ SUMIFS(D:D,C:C, \"6\",A:A, M164,B:B, \"2011\")+ SUMIFS(D:D,C:C, \"6\",A:A, M164,B:B, \"2012\"))/T$23","v":3.4063522207709758E-2}]
[2020,2008,4,46397210,null,null,null,null,null,null,null,null,"2013-2020",{"$f":"( SUMIFS(D:D,C:C, \"4\",A:A, M164,B:B, \"2013\")+ SUMIFS(D:D,C:C, \"4\",A:A, M164,B:B, \"2014\")+ SUMIFS(D:D,C:C, \"4\",A:A, M164,B:B, \"2015\")+SUMIFS(D:D,C:C, \"4\",A:A, M164,B:B, \"2016\")+SUMIFS(D:D,C:C, \"4\",A:A, M164,B:B, \"2017\")+SUMIFS(D:D,C:C, \"4\",A:A, M164,B:B, \"2018\")+SUMIFS(D:D,C:C, \"4\",A:A, M164,B:B, \"2019\")+SUMIFS(D:D,C:C, \"4\",A:A, M164,B:B, \"2020\"))/S$23","v":0.1298499379875277},{"$f":"( SUMIFS(D:D,C:C, \"6\",A:A, M164,B:B, \"2013\")+ SUMIFS(D:D,C:C, \"6\",A:A, M164,B:B, \"2014\")+ SUMIFS(D:D,C:C, \"6\",A:A, M164,B:B, \"2015\")+SUMIFS(D:D,C:C, \"6\",A:A, M164,B:B, \"2016\")+SUMIFS(D:D,C:C, \"6\",A:A, M164,B:B, \"2017\")+SUMIFS(D:D,C:C, \"6\",A:A, M164,B:B, \"2018\")+SUMIFS(D:D,C:C, \"6\",A:A, M164,B:B, \"2019\")+SUMIFS(D:D,C:C, \"6\",A:A, M164,B:B, \"2020\"))/T$23","v":0.25963514431625079}]
[2020,2007,4,156365600,null,null,null,null,null,null,null,null,"2021-2023",{"$f":"( SUMIFS(D:D,C:C, \"4\",A:A, M164,B:B, \"2021\")+ SUMIFS(D:D,C:C, \"4\",A:A, M164,B:B, \"2022\")+ SUMIFS(D:D,C:C, \"4\",A:A, M164,B:B, \"2023\"))/S$23","v":0.10677015606624495},{"$f":"( SUMIFS(D:D,C:C, \"6\",A:A, M164,B:B, \"2021\")+SUMIFS(D:D,C:C, \"6\",A:A, M164,B:B, \"2022\")+SUMIFS(D:D,C:C, \"6\",A:A, M164,B:B, \"2023\"))/T$23","v":0.12367970396493766}]
[2020,2006,4,100736200,null,null,null,null,null,null,null,null,"2024-2050",{"$f":"( SUMIFS(D:D,C:C, \"4\",A:A, M164,B:B, \"2024\")+SUMIFS(D:D,C:C, \"4\",A:A, M164,B:B, \"2025\")+SUMIFS(D:D,C:C, \"4\",A:A, M164,B:B, \"2026\")+SUMIFS(D:D,C:C, \"4\",A:A, M164,B:B, \"2027\")+SUMIFS(D:D,C:C, \"4\",A:A, M164,B:B, \"2028\")+SUMIFS(D:D,C:C, \"4\",A:A, M164,B:B, \"2029\")+SUMIFS(D:D,C:C, \"4\",A:A, M164,B:B, \"2030\")+SUMIFS(D:D,C:C, \"4\",A:A, M164,B:B, \"2031\")+SUMIFS(D:D,C:C, \"4\",A:A, M164,B:B, \"2032\")+SUMIFS(D:D,C:C, \"4\",A:A, M164,B:B, \"2033\")+SUMIFS(D:D,C:C, \"4\",A:A, M164,B:B, \"2034\"))/S$23","v":0.74387355715989889},{"$f":"( SUMIFS(D:D,C:C, \"6\",A:A, M164,B:B, \"2024\")+SUMIFS(D:D,C:C, \"6\",A:A, M164,B:B, \"2025\")+SUMIFS(D:D,C:C, \"6\",A:A, M164,B:B, \"2026\")+SUMIFS(D:D,C:C, \"6\",A:A, M164,B:B, \"2027\")+SUMIFS(D:D,C:C, \"6\",A:A, M164,B:B, \"2028\")+SUMIFS(D:D,C:C, \"6\",A:A, M164,B:B, \"2029\")+SUMIFS(D:D,C:C, \"6\",A:A, M164,B:B, \"2030\")+SUMIFS(D:D,C:C, \"6\",A:A, M164,B:B, \"2031\")+SUMIFS(D:D,C:C, \"6\",A:A, M164,B:B, \"2032\")+SUMIFS(D:D,C:C, \"6\",A:A, M164,B:B, \"2033\")+SUMIFS(D:D,C:C, \"6\",A:A, M164,B:B, \"2034\"))/T$23","v":0.52311190433732102}]
[2020,2005,4,80567610,null,null,null,null,null,null,null,null,null,{"$f":"SUM(N166:N171)","v":1},{"$f":"SUM(O166:O171)","v":1}]
[2020,2004,4,37609540]
[2020,2003,4,31610960,null,null,null,null,null,null,null,null,2035]
[2020,2002,4,18836050,null,null,null,null,null,null,null,null,"Model Year Group","Operating Hours","No. of Trucks"]
[2020,2001,4,28689790,null,null,null,null,null,null,null,null,"2006 or earlier",{"$f":"( SUMIFS(D:D,C:C, \"4\",A:A, M174,B:B, \"2006\")+ SUMIFS(D:D,C:C, \"4\",A:A, M174,B:B, \"2005\")+ SUMIFS(D:D,C:C, \"4\",A:A, M174,B:B, \"2004\")+ SUMIFS(D:D,C:C, \"4\",A:A, M174,B:B, \"2003\")+ SUMIFS(D:D,C:C, \"4\",A:A, M174,B:B, \"2002\")+ SUMIFS(D:D,C:C, \"4\",A:A, M174,B:B, \"2001\")+SUMIFS(D:D,C:C, \"4\",A:A, M174,B:B, \"2000\"))/$S24","v":2.2147154348736205E-3},{"$f":"( SUMIFS(D:D,C:C, \"6\",A:A, M174,B:B, \"2006\")+ SUMIFS(D:D,C:C, \"6\",A:A, M174,B:B, \"2005\")+ SUMIFS(D:D,C:C, \"6\",A:A, M174,B:B, \"2004\")+ SUMIFS(D:D,C:C, \"6\",A:A, M174,B:B, \"2003\")+ SUMIFS(D:D,C:C, \"6\",A:A, M174,B:B, \"2002\")+ SUMIFS(D:D,C:C, \"6\",A:A, M174,B:B, \"2001\")+SUMIFS(D:D,C:C, \"6\",A:A, M174,B:B, \"2000\"))/$T24","v":2.3017769704835891E-2}]
[2020,2000,4,40541760,null,null,null,null,null,null,null,null,"2007-2009",{"$f":"( SUMIFS(D:D,C:C, \"4\",A:A, M174,B:B, \"2007\")+ SUMIFS(D:D,C:C, \"4\",A:A, M174,B:B, \"2008\")+ SUMIFS(D:D,C:C, \"4\",A:A, M174,B:B, \"2009\"))/S$24","v":4.00554015274874E-3},{"$f":"( SUMIFS(D:D,C:C, \"6\",A:A, M174,B:B, \"2007\")+ SUMIFS(D:D,C:C, \"6\",A:A, M174,B:B, \"2008\")+ SUMIFS(D:D,C:C, \"6\",A:A, M174,B:B, \"2009\"))/T$24","v":2.3836308365107962E-2}]
[2020,1999,4,30071980,null,null,null,null,null,null,null,null,"2010-2012",{"$f":"( SUMIFS(D:D,C:C, \"4\",A:A, M174,B:B, \"2010\")+ SUMIFS(D:D,C:C, \"4\",A:A, M174,B:B, \"2011\")+ SUMIFS(D:D,C:C, \"4\",A:A, M174,B:B, \"2012\"))/S$24","v":8.5766815573637221E-3},{"$f":"( SUMIFS(D:D,C:C, \"6\",A:A, M174,B:B, \"2010\")+ SUMIFS(D:D,C:C, \"6\",A:A, M174,B:B, \"2011\")+ SUMIFS(D:D,C:C, \"6\",A:A, M174,B:B, \"2012\"))/T$24","v":3.0690745949834678E-2}]
[2020,1998,4,20154610,null,null,null,null,null,null,null,null,"2013-2020",{"$f":"( SUMIFS(D:D,C:C, \"4\",A:A, M174,B:B, \"2013\")+ SUMIFS(D:D,C:C, \"4\",A:A, M174,B:B, \"2014\")+ SUMIFS(D:D,C:C, \"4\",A:A, M174,B:B, \"2015\")+SUMIFS(D:D,C:C, \"4\",A:A, M174,B:B, \"2016\")+SUMIFS(D:D,C:C, \"4\",A:A, M174,B:B, \"2017\")+SUMIFS(D:D,C:C, \"4\",A:A, M174,B:B, \"2018\")+SUMIFS(D:D,C:C, \"4\",A:A, M174,B:B, \"2019\")+SUMIFS(D:D,C:C, \"4\",A:A, M174,B:B, \"2020\"))/S$24","v":0.10948546234933509},{"$f":"( SUMIFS(D:D,C:C, \"6\",A:A, M174,B:B, \"2013\")+ SUMIFS(D:D,C:C, \"6\",A:A, M174,B:B, \"2014\")+ SUMIFS(D:D,C:C, \"6\",A:A, M174,B:B, \"2015\")+SUMIFS(D:D,C:C, \"6\",A:A, M174,B:B, \"2016\")+SUMIFS(D:D,C:C, \"6\",A:A, M174,B:B, \"2017\")+SUMIFS(D:D,C:C, \"6\",A:A, M174,B:B, \"2018\")+SUMIFS(D:D,C:C, \"6\",A:A, M174,B:B, \"2019\")+SUMIFS(D:D,C:C, \"6\",A:A, M174,B:B, \"2020\"))/T$24","v":0.24047437126791851}]
[2020,1997,4,12686530,null,null,null,null,null,null,null,null,"2021-2023",{"$f":"( SUMIFS(D:D,C:C, \"4\",A:A, M174,B:B, \"2021\")+ SUMIFS(D:D,C:C, \"4\",A:A, M174,B:B, \"2022\")+ SUMIFS(D:D,C:C, \"4\",A:A, M174,B:B, \"2023\"))/S$24","v":9.1527956232656096E-2},{"$f":"( SUMIFS(D:D,C:C, \"6\",A:A, M174,B:B, \"2021\")+SUMIFS(D:D,C:C, \"6\",A:A, M174,B:B, \"2022\")+SUMIFS(D:D,C:C, \"6\",A:A, M174,B:B, \"2023\"))/T$24","v":0.11756093759815923}]
[2020,1996,4,12040520,null,null,null,null,null,null,null,null,"2024-2050",{"$f":"( SUMIFS(D:D,C:C, \"4\",A:A, M174,B:B, \"2024\")+SUMIFS(D:D,C:C, \"4\",A:A, M174,B:B, \"2025\")+SUMIFS(D:D,C:C, \"4\",A:A, M174,B:B, \"2026\")+SUMIFS(D:D,C:C, \"4\",A:A, M174,B:B, \"2027\")+SUMIFS(D:D,C:C, \"4\",A:A, M174,B:B, \"2028\")+SUMIFS(D:D,C:C, \"4\",A:A, M174,B:B, \"2029\")+SUMIFS(D:D,C:C, \"4\",A:A, M174,B:B, \"2030\")+SUMIFS(D:D,C:C, \"4\",A:A, M174,B:B, \"2031\")+SUMIFS(D:D,C:C, \"4\",A:A, M174,B:B, \"2032\")+SUMIFS(D:D,C:C, \"4\",A:A, M174,B:B, \"2033\")+SUMIFS(D:D,C:C, \"4\",A:A, M174,B:B, \"2034\")+SUMIFS(D:D,C:C, \"4\",A:A, M174,B:B, \"2035\"))/S$24","v":0.78418964427302273},{"$f":"( SUMIFS(D:D,C:C, \"6\",A:A, M174,B:B, \"2024\")+SUMIFS(D:D,C:C, \"6\",A:A, M174,B:B, \"2025\")+SUMIFS(D:D,C:C, \"6\",A:A, M174,B:B, \"2026\")+SUMIFS(D:D,C:C, \"6\",A:A, M174,B:B, \"2027\")+SUMIFS(D:D,C:C, \"6\",A:A, M174,B:B, \"2028\")+SUMIFS(D:D,C:C, \"6\",A:A, M174,B:B, \"2029\")+SUMIFS(D:D,C:C, \"6\",A:A, M174,B:B, \"2030\")+SUMIFS(D:D,C:C, \"6\",A:A, M174,B:B, \"2031\")+SUMIFS(D:D,C:C, \"6\",A:A, M174,B:B, \"2032\")+SUMIFS(D:D,C:C, \"6\",A:A, M174,B:B, \"2033\")+SUMIFS(D:D,C:C, \"6\",A:A, M174,B:B, \"2034\")+SUMIFS(D:D,C:C, \"6\",A:A, M174,B:B, \"2035\"))/T$24","v":0.56441986711414371}]
[2020,1995,4,9702878,null,null,null,null,null,null,null,null,null,{"$f":"SUM(N176:N181)","v":1},{"$f":"SUM(O176:O181)","v":1}]
[2020,1994,4,7038438]
[2020,1993,4,4666428,null,null,null,null,null,null,null,null,2036]
[2020,1992,4,2585731,null,null,null,null,null,null,null,null,"Model Year Group","Operating Hours","No. of Trucks"]
[2020,1991,4,1783392,null,null,null,null,null,null,null,null,"2006 or earlier",{"$f":"( SUMIFS(D:D,C:C, \"4\",A:A, M184,B:B, \"2006\")+ SUMIFS(D:D,C:C, \"4\",A:A, M184,B:B, \"2005\")+ SUMIFS(D:D,C:C, \"4\",A:A, M184,B:B, \"2004\")+ SUMIFS(D:D,C:C, \"4\",A:A, M184,B:B, \"2003\")+ SUMIFS(D:D,C:C, \"4\",A:A, M184,B:B, \"2002\")+ SUMIFS(D:D,C:C, \"4\",A:A, M184,B:B, \"2001\")+SUMIFS(D:D,C:C, \"4\",A:A, M184,B:B, \"2000\"))/$S25","v":1.1935731301656993E-3},{"$f":"( SUMIFS(D:D,C:C, \"6\",A:A, M184,B:B, \"2006\")+ SUMIFS(D:D,C:C, \"6\",A:A, M184,B:B, \"2005\")+ SUMIFS(D:D,C:C, \"6\",A:A, M184,B:B, \"2004\")+ SUMIFS(D:D,C:C, \"6\",A:A, M184,B:B, \"2003\")+ SUMIFS(D:D,C:C, \"6\",A:A, M184,B:B, \"2002\")+ SUMIFS(D:D,C:C, \"6\",A:A, M184,B:B, \"2001\")+SUMIFS(D:D,C:C, \"6\",A:A, M184,B:B, \"2000\"))/$T25","v":1.4139433204532089E-2}]
[2020,1990,4,3996709,null,null,null,null,null,null,null,null,"2007-2009",{"$f":"( SUMIFS(D:D,C:C, \"4\",A:A, M184,B:B, \"2007\")+ SUMIFS(D:D,C:C, \"4\",A:A, M184,B:B, \"2008\")+ SUMIFS(D:D,C:C, \"4\",A:A, M184,B:B, \"2009\"))/S$25","v":2.8942578019271314E-3},{"$f":"( SUMIFS(D:D,C:C, \"6\",A:A, M184,B:B, \"2007\")+ SUMIFS(D:D,C:C, \"6\",A:A, M184,B:B, \"2008\")+ SUMIFS(D:D,C:C, \"6\",A:A, M184,B:B, \"2009\"))/T$25","v":2.1040917115586942E-2}]
[2021,2021,6,90984.1015625,null,null,null,null,null,null,null,null,"2010-2012",{"$f":"( SUMIFS(D:D,C:C, \"4\",A:A, M184,B:B, \"2010\")+ SUMIFS(D:D,C:C, \"4\",A:A, M184,B:B, \"2011\")+ SUMIFS(D:D,C:C, \"4\",A:A, M184,B:B, \"2012\"))/S$25","v":6.8658530456655667E-3},{"$f":"( SUMIFS(D:D,C:C, \"6\",A:A, M184,B:B, \"2010\")+ SUMIFS(D:D,C:C, \"6\",A:A, M184,B:B, \"2011\")+ SUMIFS(D:D,C:C, \"6\",A:A, M184,B:B, \"2012\"))/T$25","v":2.7576005486353323E-2}]
[2021,2020,6,95883.203125,null,null,null,null,null,null,null,null,"2013-2020",{"$f":"( SUMIFS(D:D,C:C, \"4\",A:A, M184,B:B, \"2013\")+ SUMIFS(D:D,C:C, \"4\",A:A, M184,B:B, \"2014\")+ SUMIFS(D:D,C:C, \"4\",A:A, M184,B:B, \"2015\")+SUMIFS(D:D,C:C, \"4\",A:A, M184,B:B, \"2016\")+SUMIFS(D:D,C:C, \"4\",A:A, M184,B:B, \"2017\")+SUMIFS(D:D,C:C, \"4\",A:A, M184,B:B, \"2018\")+SUMIFS(D:D,C:C, \"4\",A:A, M184,B:B, \"2019\")+SUMIFS(D:D,C:C, \"4\",A:A, M184,B:B, \"2020\"))/S$25","v":9.2495783578453894E-2},{"$f":"( SUMIFS(D:D,C:C, \"6\",A:A, M184,B:B, \"2013\")+ SUMIFS(D:D,C:C, \"6\",A:A, M184,B:B, \"2014\")+ SUMIFS(D:D,C:C, \"6\",A:A, M184,B:B, \"2015\")+SUMIFS(D:D,C:C, \"6\",A:A, M184,B:B, \"2016\")+SUMIFS(D:D,C:C, \"6\",A:A, M184,B:B, \"2017\")+SUMIFS(D:D,C:C, \"6\",A:A, M184,B:B, \"2018\")+SUMIFS(D:D,C:C, \"6\",A:A, M184,B:B, \"2019\")+SUMIFS(D:D,C:C, \"6\",A:A, M184,B:B, \"2020\"))/T$25","v":0.22152209618551785}]
[2021,2019,6,103169,null,null,null,null,null,null,null,null,"2021-2023",{"$f":"( SUMIFS(D:D,C:C, \"4\",A:A, M184,B:B, \"2021\")+ SUMIFS(D:D,C:C, \"4\",A:A, M184,B:B, \"2022\")+ SUMIFS(D:D,C:C, \"4\",A:A, M184,B:B, \"2023\"))/S$25","v":7.7126914423698345E-2},{"$f":"( SUMIFS(D:D,C:C, \"6\",A:A, M184,B:B, \"2021\")+SUMIFS(D:D,C:C, \"6\",A:A, M184,B:B, \"2022\")+SUMIFS(D:D,C:C, \"6\",A:A, M184,B:B, \"2023\"))/T$25","v":0.11134287654949439}]
[2021,2018,6,97153.296875,null,null,null,null,null,null,null,null,"2024-2050",{"$f":"( SUMIFS(D:D,C:C, \"4\",A:A, M184,B:B, \"2024\")+SUMIFS(D:D,C:C, \"4\",A:A, M184,B:B, \"2025\")+SUMIFS(D:D,C:C, \"4\",A:A, M184,B:B, \"2026\")+SUMIFS(D:D,C:C, \"4\",A:A, M184,B:B, \"2027\")+SUMIFS(D:D,C:C, \"4\",A:A, M184,B:B, \"2028\")+SUMIFS(D:D,C:C, \"4\",A:A, M184,B:B, \"2029\")+SUMIFS(D:D,C:C, \"4\",A:A, M184,B:B, \"2030\")+SUMIFS(D:D,C:C, \"4\",A:A, M184,B:B, \"2031\")+SUMIFS(D:D,C:C, \"4\",A:A, M184,B:B, \"2032\")+SUMIFS(D:D,C:C, \"4\",A:A, M184,B:B, \"2033\")+SUMIFS(D:D,C:C, \"4\",A:A, M184,B:B, \"2034\")+SUMIFS(D:D,C:C, \"4\",A:A, M184,B:B, \"2035\")+SUMIFS(D:D,C:C, \"4\",A:A, M184,B:B, \"2036\"))/S$25","v":0.81942361802008934},{"$f":"( SUMIFS(D:D,C:C, \"6\",A:A, M184,B:B, \"2024\")+SUMIFS(D:D,C:C, \"6\",A:A, M184,B:B, \"2025\")+SUMIFS(D:D,C:C, \"6\",A:A, M184,B:B, \"2026\")+SUMIFS(D:D,C:C, \"6\",A:A, M184,B:B, \"2027\")+SUMIFS(D:D,C:C, \"6\",A:A, M184,B:B, \"2028\")+SUMIFS(D:D,C:C, \"6\",A:A, M184,B:B, \"2029\")+SUMIFS(D:D,C:C, \"6\",A:A, M184,B:B, \"2030\")+SUMIFS(D:D,C:C, \"6\",A:A, M184,B:B, \"2031\")+SUMIFS(D:D,C:C, \"6\",A:A, M184,B:B, \"2032\")+SUMIFS(D:D,C:C, \"6\",A:A, M184,B:B, \"2033\")+SUMIFS(D:D,C:C, \"6\",A:A, M184,B:B, \"2034\")+SUMIFS(D:D,C:C, \"6\",A:A, M184,B:B, \"2035\")+SUMIFS(D:D,C:C, \"6\",A:A, M184,B:B, \"2036\"))/T$25","v":0.60437867145851543}]
[2021,2017,6,113066,null,null,null,null,null,null,null,null,null,{"$f":"SUM(N186:N191)","v":1},{"$f":"SUM(O186:O191)","v":1}]
[2021,2016,6,112741]
[2021,2015,6,141904,null,null,null,null,null,null,null,null,2037]
[2021,2014,6,122581,null,null,null,null,null,null,null,null,"Model Year Group","Operating Hours","No. of Trucks"]
[2021,2013,6,87498.6015625,null,null,null,null,null,null,null,null,"2006 or earlier",{"$f":"( SUMIFS(D:D,C:C, \"4\",A:A, M194,B:B, \"2006\")+ SUMIFS(D:D,C:C, \"4\",A:A, M194,B:B, \"2005\")+ SUMIFS(D:D,C:C, \"4\",A:A, M194,B:B, \"2004\")+ SUMIFS(D:D,C:C, \"4\",A:A, M194,B:B, \"2003\")+ SUMIFS(D:D,C:C, \"4\",A:A, M194,B:B, \"2002\")+ SUMIFS(D:D,C:C, \"4\",A:A, M194,B:B, \"2001\")+SUMIFS(D:D,C:C, \"4\",A:A, M194,B:B, \"2000\"))/$S26","v":0},{"$f":"( SUMIFS(D:D,C:C, \"6\",A:A, M194,B:B, \"2006\")+ SUMIFS(D:D,C:C, \"6\",A:A, M194,B:B, \"2005\")+ SUMIFS(D:D,C:C, \"6\",A:A, M194,B:B, \"2004\")+ SUMIFS(D:D,C:C, \"6\",A:A, M194,B:B, \"2003\")+ SUMIFS(D:D,C:C, \"6\",A:A, M194,B:B, \"2002\")+ SUMIFS(D:D,C:C, \"6\",A:A, M194,B:B, \"2001\")+SUMIFS(D:D,C:C, \"6\",A:A, M194,B:B, \"2000\"))/$T26","v":0}]
[2021,2012,6,87202.296875,null,null,null,null,null,null,null,null,"2007-2009",{"$f":"( SUMIFS(D:D,C:C, \"4\",A:A, M194,B:B, \"2007\")+ SUMIFS(D:D,C:C, \"4\",A:A, M194,B:B, \"2008\")+ SUMIFS(D:D,C:C, \"4\",A:A, M194,B:B, \"2009\"))/S$26","v":2.3165474702814578E-3},{"$f":"( SUMIFS(D:D,C:C, \"6\",A:A, M194,B:B, \"2007\")+ SUMIFS(D:D,C:C, \"6\",A:A, M194,B:B, \"2008\")+ SUMIFS(D:D,C:C, \"6\",A:A, M194,B:B, \"2009\"))/T$26","v":2.2479165779960019E-2}]
[2021,2011,6,45848.3984375,null,null,null,null,null,null,null,null,"2010-2012",{"$f":"( SUMIFS(D:D,C:C, \"4\",A:A, M194,B:B, \"2010\")+ SUMIFS(D:D,C:C, \"4\",A:A, M194,B:B, \"2011\")+ SUMIFS(D:D,C:C, \"4\",A:A, M194,B:B, \"2012\"))/S$26","v":5.4260313788578075E-3},{"$f":"( SUMIFS(D:D,C:C, \"6\",A:A, M194,B:B, \"2010\")+ SUMIFS(D:D,C:C, \"6\",A:A, M194,B:B, \"2011\")+ SUMIFS(D:D,C:C, \"6\",A:A, M194,B:B, \"2012\"))/T$26","v":2.4868633955593768E-2}]
[2021,2010,6,36789.6015625,null,null,null,null,null,null,null,null,"2013-2020",{"$f":"( SUMIFS(D:D,C:C, \"4\",A:A, M194,B:B, \"2013\")+ SUMIFS(D:D,C:C, \"4\",A:A, M194,B:B, \"2014\")+ SUMIFS(D:D,C:C, \"4\",A:A, M194,B:B, \"2015\")+SUMIFS(D:D,C:C, \"4\",A:A, M194,B:B, \"2016\")+SUMIFS(D:D,C:C, \"4\",A:A, M194,B:B, \"2017\")+SUMIFS(D:D,C:C, \"4\",A:A, M194,B:B, \"2018\")+SUMIFS(D:D,C:C, \"4\",A:A, M194,B:B, \"2019\")+SUMIFS(D:D,C:C, \"4\",A:A, M194,B:B, \"2020\"))/S$26","v":7.9074903745653111E-2},{"$f":"( SUMIFS(D:D,C:C, \"6\",A:A, M194,B:B, \"2013\")+ SUMIFS(D:D,C:C, \"6\",A:A, M194,B:B, \"2014\")+ SUMIFS(D:D,C:C, \"6\",A:A, M194,B:B, \"2015\")+SUMIFS(D:D,C:C, \"6\",A:A, M194,B:B, \"2016\")+SUMIFS(D:D,C:C, \"6\",A:A, M194,B:B, \"2017\")+SUMIFS(D:D,C:C, \"6\",A:A, M194,B:B, \"2018\")+SUMIFS(D:D,C:C, \"6\",A:A, M194,B:B, \"2019\")+SUMIFS(D:D,C:C, \"6\",A:A, M194,B:B, \"2020\"))/T$26","v":0.20420806359990479}]
[2021,2009,6,44460.5,null,null,null,null,null,null,null,null,"2021-2023",{"$f":"( SUMIFS(D:D,C:C, \"4\",A:A, M194,B:B, \"2021\")+ SUMIFS(D:D,C:C, \"4\",A:A, M194,B:B, \"2022\")+ SUMIFS(D:D,C:C, \"4\",A:A, M194,B:B, \"2023\"))/S$26","v":6.392465774401794E-2},{"$f":"( SUMIFS(D:D,C:C, \"6\",A:A, M194,B:B, \"2021\")+SUMIFS(D:D,C:C, \"6\",A:A, M194,B:B, \"2022\")+SUMIFS(D:D,C:C, \"6\",A:A, M194,B:B, \"2023\"))/T$26","v":0.10545127784229305}]
[2021,2008,6,27209.80078125,null,null,null,null,null,null,null,null,"2024-2050",{"$f":"( SUMIFS(D:D,C:C, \"4\",A:A, M194,B:B, \"2024\")+SUMIFS(D:D,C:C, \"4\",A:A, M194,B:B, \"2025\")+SUMIFS(D:D,C:C, \"4\",A:A, M194,B:B, \"2026\")+SUMIFS(D:D,C:C, \"4\",A:A, M194,B:B, \"2027\")+SUMIFS(D:D,C:C, \"4\",A:A, M194,B:B, \"2028\")+SUMIFS(D:D,C:C, \"4\",A:A, M194,B:B, \"2029\")+SUMIFS(D:D,C:C, \"4\",A:A, M194,B:B, \"2030\")+SUMIFS(D:D,C:C, \"4\",A:A, M194,B:B, \"2031\")+SUMIFS(D:D,C:C, \"4\",A:A, M194,B:B, \"2032\")+SUMIFS(D:D,C:C, \"4\",A:A, M194,B:B, \"2033\")+SUMIFS(D:D,C:C, \"4\",A:A, M194,B:B, \"2034\")+SUMIFS(D:D,C:C, \"4\",A:A, M194,B:B, \"2035\")+SUMIFS(D:D,C:C, \"4\",A:A, M194,B:B, \"2036\")+SUMIFS(D:D,C:C, \"4\",A:A, M194,B:B, \"2037\"))/S$26","v":0.84925785966118972},{"$f":"( SUMIFS(D:D,C:C, \"6\",A:A, M194,B:B, \"2024\")+SUMIFS(D:D,C:C, \"6\",A:A, M194,B:B, \"2025\")+SUMIFS(D:D,C:C, \"6\",A:A, M194,B:B, \"2026\")+SUMIFS(D:D,C:C, \"6\",A:A, M194,B:B, \"2027\")+SUMIFS(D:D,C:C, \"6\",A:A, M194,B:B, \"2028\")+SUMIFS(D:D,C:C, \"6\",A:A, M194,B:B, \"2029\")+SUMIFS(D:D,C:C, \"6\",A:A, M194,B:B, \"2030\")+SUMIFS(D:D,C:C, \"6\",A:A, M194,B:B, \"2031\")+SUMIFS(D:D,C:C, \"6\",A:A, M194,B:B, \"2032\")+SUMIFS(D:D,C:C, \"6\",A:A, M194,B:B, \"2033\")+SUMIFS(D:D,C:C, \"6\",A:A, M194,B:B, \"2034\")+SUMIFS(D:D,C:C, \"6\",A:A, M194,B:B, \"2035\")+SUMIFS(D:D,C:C, \"6\",A:A, M194,B:B, \"2036\")+SUMIFS(D:D,C:C, \"6\",A:A, M194,B:B, \"2037\"))/T$26","v":0.64299285882224833}]
[2021,2007,6,101931,null,null,null,null,null,null,null,null,null,{"$f":"SUM(N196:N201)","v":1},{"$f":"SUM(O196:O201)","v":1}]
[2021,2006,6,73913.3984375]
[2021,2005,6,66577,null,null,null,null,null,null,null,null,2038]
[2021,2004,6,36289.80078125,null,null,null,null,null,null,null,null,"Model Year Group","Operating Hours","No. of Trucks"]
[2021,2003,6,31938.80078125,null,null,null,null,null,null,null,null,"2006 or earlier",{"$f":"( SUMIFS(D:D,C:C, \"4\",A:A, M204,B:B, \"2006\")+ SUMIFS(D:D,C:C, \"4\",A:A, M204,B:B, \"2005\")+ SUMIFS(D:D,C:C, \"4\",A:A, M204,B:B, \"2004\")+ SUMIFS(D:D,C:C, \"4\",A:A, M204,B:B, \"2003\")+ SUMIFS(D:D,C:C, \"4\",A:A, M204,B:B, \"2002\")+ SUMIFS(D:D,C:C, \"4\",A:A, M204,B:B, \"2001\")+SUMIFS(D:D,C:C, \"4\",A:A, M204,B:B, \"2000\"))/$S27","v":0},{"$f":"( SUMIFS(D:D,C:C, \"6\",A:A, M204,B:B, \"2006\")+ SUMIFS(D:D,C:C, \"6\",A:A, M204,B:B, \"2005\")+ SUMIFS(D:D,C:C, \"6\",A:A, M204,B:B, \"2004\")+ SUMIFS(D:D,C:C, \"6\",A:A, M204,B:B, \"2003\")+ SUMIFS(D:D,C:C, \"6\",A:A, M204,B:B, \"2002\")+ SUMIFS(D:D,C:C, \"6\",A:A, M204,B:B, \"2001\")+SUMIFS(D:D,C:C, \"6\",A:A, M204,B:B, \"2000\"))/$T27","v":0}]
[2021,2002,6,20322.19921875,null,null,null,null,null,null,null,null,"2007-2009",{"$f":"( SUMIFS(D:D,C:C, \"4\",A:A, M204,B:B, \"2007\")+ SUMIFS(D:D,C:C, \"4\",A:A, M204,B:B, \"2008\")+ SUMIFS(D:D,C:C, \"4\",A:A, M204,B:B, \"2009\"))/S$27","v":1.7352204872485583E-3},{"$f":"( SUMIFS(D:D,C:C, \"6\",A:A, M204,B:B, \"2007\")+ SUMIFS(D:D,C:C, \"6\",A:A, M204,B:B, \"2008\")+ SUMIFS(D:D,C:C, \"6\",A:A, M204,B:B, \"2009\"))/T$27","v":1.8784032028690271E-2}]
[2021,2001,6,32685.400390625,null,null,null,null,null,null,null,null,"2010-2012",{"$f":"( SUMIFS(D:D,C:C, \"4\",A:A, M204,B:B, \"2010\")+ SUMIFS(D:D,C:C, \"4\",A:A, M204,B:B, \"2011\")+ SUMIFS(D:D,C:C, \"4\",A:A, M204,B:B, \"2012\"))/S$27","v":4.1321014493613285E-3},{"$f":"( SUMIFS(D:D,C:C, \"6\",A:A, M204,B:B, \"2010\")+ SUMIFS(D:D,C:C, \"6\",A:A, M204,B:B, \"2011\")+ SUMIFS(D:D,C:C, \"6\",A:A, M204,B:B, \"2012\"))/T$27","v":2.1942948137430508E-2}]
[2021,2000,6,49812.19921875,null,null,null,null,null,null,null,null,"2013-2020",{"$f":"( SUMIFS(D:D,C:C, \"4\",A:A, M204,B:B, \"2013\")+ SUMIFS(D:D,C:C, \"4\",A:A, M204,B:B, \"2014\")+ SUMIFS(D:D,C:C, \"4\",A:A, M204,B:B, \"2015\")+SUMIFS(D:D,C:C, \"4\",A:A, M204,B:B, \"2016\")+SUMIFS(D:D,C:C, \"4\",A:A, M204,B:B, \"2017\")+SUMIFS(D:D,C:C, \"4\",A:A, M204,B:B, \"2018\")+SUMIFS(D:D,C:C, \"4\",A:A, M204,B:B, \"2019\")+SUMIFS(D:D,C:C, \"4\",A:A, M204,B:B, \"2020\"))/S$27","v":6.6351902195207896E-2},{"$f":"( SUMIFS(D:D,C:C, \"6\",A:A, M204,B:B, \"2013\")+ SUMIFS(D:D,C:C, \"6\",A:A, M204,B:B, \"2014\")+ SUMIFS(D:D,C:C, \"6\",A:A, M204,B:B, \"2015\")+SUMIFS(D:D,C:C, \"6\",A:A, M204,B:B, \"2016\")+SUMIFS(D:D,C:C, \"6\",A:A, M204,B:B, \"2017\")+SUMIFS(D:D,C:C, \"6\",A:A, M204,B:B, \"2018\")+SUMIFS(D:D,C:C, \"6\",A:A, M204,B:B, \"2019\")+SUMIFS(D:D,C:C, \"6\",A:A, M204,B:B, \"2020\"))/T$27","v":0.18493360612170789}]
[2021,1999,6,40094.5,null,null,null,null,null,null,null,null,"2021-2023",{"$f":"( SUMIFS(D:D,C:C, \"4\",A:A, M204,B:B, \"2021\")+ SUMIFS(D:D,C:C, \"4\",A:A, M204,B:B, \"2022\")+ SUMIFS(D:D,C:C, \"4\",A:A, M204,B:B, \"2023\"))/S$27","v":5.3089356644215178E-2},{"$f":"( SUMIFS(D:D,C:C, \"6\",A:A, M204,B:B, \"2021\")+SUMIFS(D:D,C:C, \"6\",A:A, M204,B:B, \"2022\")+SUMIFS(D:D,C:C, \"6\",A:A, M204,B:B, \"2023\"))/T$27","v":9.8455631223464055E-2}]
[2021,1998,6,28905.5,null,null,null,null,null,null,null,null,"2024-2050",{"$f":"( SUMIFS(D:D,C:C, \"4\",A:A, M204,B:B, \"2024\")+SUMIFS(D:D,C:C, \"4\",A:A, M204,B:B, \"2025\")+SUMIFS(D:D,C:C, \"4\",A:A, M204,B:B, \"2026\")+SUMIFS(D:D,C:C, \"4\",A:A, M204,B:B, \"2027\")+SUMIFS(D:D,C:C, \"4\",A:A, M204,B:B, \"2028\")+SUMIFS(D:D,C:C, \"4\",A:A, M204,B:B, \"2029\")+SUMIFS(D:D,C:C, \"4\",A:A, M204,B:B, \"2030\")+SUMIFS(D:D,C:C, \"4\",A:A, M204,B:B, \"2031\")+SUMIFS(D:D,C:C, \"4\",A:A, M204,B:B, \"2032\")+SUMIFS(D:D,C:C, \"4\",A:A, M204,B:B, \"2033\")+SUMIFS(D:D,C:C, \"4\",A:A, M204,B:B, \"2034\")+SUMIFS(D:D,C:C, \"4\",A:A, M204,B:B, \"2035\")+SUMIFS(D:D,C:C, \"4\",A:A, M204,B:B, \"2036\")+SUMIFS(D:D,C:C, \"4\",A:A, M204,B:B, \"2037\")+SUMIFS(D:D,C:C, \"4\",A:A, M204,B:B, \"2038\"))/S$27","v":0.87469141922396709},{"$f":"( SUMIFS(D:D,C:C, \"6\",A:A, M204,B:B, \"2024\")+SUMIFS(D:D,C:C, \"6\",A:A, M204,B:B, \"2025\")+SUMIFS(D:D,C:C, \"6\",A:A, M204,B:B, \"2026\")+SUMIFS(D:D,C:C, \"6\",A:A, M204,B:B, \"2027\")+SUMIFS(D:D,C:C, \"6\",A:A, M204,B:B, \"2028\")+SUMIFS(D:D,C:C, \"6\",A:A, M204,B:B, \"2029\")+SUMIFS(D:D,C:C, \"6\",A:A, M204,B:B, \"2030\")+SUMIFS(D:D,C:C, \"6\",A:A, M204,B:B, \"2031\")+SUMIFS(D:D,C:C, \"6\",A:A, M204,B:B, \"2032\")+SUMIFS(D:D,C:C, \"6\",A:A, M204,B:B, \"2033\")+SUMIFS(D:D,C:C, \"6\",A:A, M204,B:B, \"2034\")+SUMIFS(D:D,C:C, \"6\",A:A, M204,B:B, \"2035\")+SUMIFS(D:D,C:C, \"6\",A:A, M204,B:B, \"2036\")+SUMIFS(D:D,C:C, \"6\",A:A, M204,B:B, \"2037\")+SUMIFS(D:D,C:C, \"6\",A:A, M204,B:B, \"2038\"))/T$27","v":0.67588378248870729}]
[2021,1997,6,20062.099609375,null,null,null,null,null,null,null,null,null,{"$f":"SUM(N206:N211)","v":1},{"$f":"SUM(O206:O211)","v":1}]
[2021,1996,6,21218.099609375]
[2021,1995,6,18994.400390625,null,null,null,null,null,null,null,null,2039]
[2021,1994,6,15821.5,null,null,null,null,null,null,null,null,"Model Year Group","Operating Hours","No. of Trucks"]
[2021,1993,6,12315.7001953125,null,null,null,null,null,null,null,null,"2006 or earlier",{"$f":"( SUMIFS(D:D,C:C, \"4\",A:A, M214,B:B, \"2006\")+ SUMIFS(D:D,C:C, \"4\",A:A, M214,B:B, \"2005\")+ SUMIFS(D:D,C:C, \"4\",A:A, M214,B:B, \"2004\")+ SUMIFS(D:D,C:C, \"4\",A:A, M214,B:B, \"2003\")+ SUMIFS(D:D,C:C, \"4\",A:A, M214,B:B, \"2002\")+ SUMIFS(D:D,C:C, \"4\",A:A, M214,B:B, \"2001\")+SUMIFS(D:D,C:C, \"4\",A:A, M214,B:B, \"2000\"))/$S28","v":0},{"$f":"( SUMIFS(D:D,C:C, \"6\",A:A, M214,B:B, \"2006\")+ SUMIFS(D:D,C:C, \"6\",A:A, M214,B:B, \"2005\")+ SUMIFS(D:D,C:C, \"6\",A:A, M214,B:B, \"2004\")+ SUMIFS(D:D,C:C, \"6\",A:A, M214,B:B, \"2003\")+ SUMIFS(D:D,C:C, \"6\",A:A, M214,B:B, \"2002\")+ SUMIFS(D:D,C:C, \"6\",A:A, M214,B:B, \"2001\")+SUMIFS(D:D,C:C, \"6\",A:A, M214,B:B, \"2000\"))/$T28","v":0}]
[2021,1992,6,8127.02001953125,null,null,null,null,null,null,null,null,"2007-2009",{"$f":"( SUMIFS(D:D,C:C, \"4\",A:A, M214,B:B, \"2007\")+ SUMIFS(D:D,C:C, \"4\",A:A, M214,B:B, \"2008\")+ SUMIFS(D:D,C:C, \"4\",A:A, M214,B:B, \"2009\"))/S$28","v":1.2022507094610496E-3},{"$f":"( SUMIFS(D:D,C:C, \"6\",A:A, M214,B:B, \"2007\")+ SUMIFS(D:D,C:C, \"6\",A:A, M214,B:B, \"2008\")+ SUMIFS(D:D,C:C, \"6\",A:A, M214,B:B, \"2009\"))/T$28","v":1.413945967411423E-2}]
[2021,1991,6,25608,null,null,null,null,null,null,null,null,"2010-2012",{"$f":"( SUMIFS(D:D,C:C, \"4\",A:A, M214,B:B, \"2010\")+ SUMIFS(D:D,C:C, \"4\",A:A, M214,B:B, \"2011\")+ SUMIFS(D:D,C:C, \"4\",A:A, M214,B:B, \"2012\"))/S$28","v":3.0724117297500943E-3},{"$f":"( SUMIFS(D:D,C:C, \"6\",A:A, M214,B:B, \"2010\")+ SUMIFS(D:D,C:C, \"6\",A:A, M214,B:B, \"2011\")+ SUMIFS(D:D,C:C, \"6\",A:A, M214,B:B, \"2012\"))/T$28","v":1.9437874715111585E-2}]
[2021,2021,4,277375296,null,null,null,null,null,null,null,null,"2013-2020",{"$f":"( SUMIFS(D:D,C:C, \"4\",A:A, M214,B:B, \"2013\")+ SUMIFS(D:D,C:C, \"4\",A:A, M214,B:B, \"2014\")+ SUMIFS(D:D,C:C, \"4\",A:A, M214,B:B, \"2015\")+SUMIFS(D:D,C:C, \"4\",A:A, M214,B:B, \"2016\")+SUMIFS(D:D,C:C, \"4\",A:A, M214,B:B, \"2017\")+SUMIFS(D:D,C:C, \"4\",A:A, M214,B:B, \"2018\")+SUMIFS(D:D,C:C, \"4\",A:A, M214,B:B, \"2019\")+SUMIFS(D:D,C:C, \"4\",A:A, M214,B:B, \"2020\"))/S$28","v":5.5249946078640123E-2},{"$f":"( SUMIFS(D:D,C:C, \"6\",A:A, M214,B:B, \"2013\")+ SUMIFS(D:D,C:C, \"6\",A:A, M214,B:B, \"2014\")+ SUMIFS(D:D,C:C, \"6\",A:A, M214,B:B, \"2015\")+SUMIFS(D:D,C:C, \"6\",A:A, M214,B:B, \"2016\")+SUMIFS(D:D,C:C, \"6\",A:A, M214,B:B, \"2017\")+SUMIFS(D:D,C:C, \"6\",A:A, M214,B:B, \"2018\")+SUMIFS(D:D,C:C, \"6\",A:A, M214,B:B, \"2019\")+SUMIFS(D:D,C:C, \"6\",A:A, M214,B:B, \"2020\"))/T$28","v":0.1675949412668013}]
[2021,2020,4,292311004,null,null,null,null,null,null,null,null,"2021-2023",{"$f":"( SUMIFS(D:D,C:C, \"4\",A:A, M214,B:B, \"2021\")+ SUMIFS(D:D,C:C, \"4\",A:A, M214,B:B, \"2022\")+ SUMIFS(D:D,C:C, \"4\",A:A, M214,B:B, \"2023\"))/S$28","v":4.4822728402868738E-2},{"$f":"( SUMIFS(D:D,C:C, \"6\",A:A, M214,B:B, \"2021\")+SUMIFS(D:D,C:C, \"6\",A:A, M214,B:B, \"2022\")+SUMIFS(D:D,C:C, \"6\",A:A, M214,B:B, \"2023\"))/T$28","v":9.148275961832518E-2}]
[2021,2019,4,314523692,null,null,null,null,null,null,null,null,"2024-2050",{"$f":"( SUMIFS(D:D,C:C, \"4\",A:A, M214,B:B, \"2024\")+SUMIFS(D:D,C:C, \"4\",A:A, M214,B:B, \"2025\")+SUMIFS(D:D,C:C, \"4\",A:A, M214,B:B, \"2026\")+SUMIFS(D:D,C:C, \"4\",A:A, M214,B:B, \"2027\")+SUMIFS(D:D,C:C, \"4\",A:A, M214,B:B, \"2028\")+SUMIFS(D:D,C:C, \"4\",A:A, M214,B:B, \"2029\")+SUMIFS(D:D,C:C, \"4\",A:A, M214,B:B, \"2030\")+SUMIFS(D:D,C:C, \"4\",A:A, M214,B:B, \"2031\")+SUMIFS(D:D,C:C, \"4\",A:A, M214,B:B, \"2032\")+SUMIFS(D:D,C:C, \"4\",A:A, M214,B:B, \"2033\")+SUMIFS(D:D,C:C, \"4\",A:A, M214,B:B, \"2034\")+SUMIFS(D:D,C:C, \"4\",A:A, M214,B:B, \"2035\")+SUMIFS(D:D,C:C, \"4\",A:A, M214,B:B, \"2036\")+SUMIFS(D:D,C:C, \"4\",A:A, M214,B:B, \"2037\")+SUMIFS(D:D,C:C, \"4\",A:A, M214,B:B, \"2038\")+SUMIFS(D:D,C:C, \"4\",A:A, M214,B:B, \"2039\"))/S$28","v":0.89565266307928004},{"$f":"( SUMIFS(D:D,C:C, \"6\",A:A, M214,B:B, \"2024\")+SUMIFS(D:D,C:C, \"6\",A:A, M214,B:B, \"2025\")+SUMIFS(D:D,C:C, \"6\",A:A, M214,B:B, \"2026\")+SUMIFS(D:D,C:C, \"6\",A:A, M214,B:B, \"2027\")+SUMIFS(D:D,C:C, \"6\",A:A, M214,B:B, \"2028\")+SUMIFS(D:D,C:C, \"6\",A:A, M214,B:B, \"2029\")+SUMIFS(D:D,C:C, \"6\",A:A, M214,B:B, \"2030\")+SUMIFS(D:D,C:C, \"6\",A:A, M214,B:B, \"2031\")+SUMIFS(D:D,C:C, \"6\",A:A, M214,B:B, \"2032\")+SUMIFS(D:D,C:C, \"6\",A:A, M214,B:B, \"2033\")+SUMIFS(D:D,C:C, \"6\",A:A, M214,B:B, \"2034\")+SUMIFS(D:D,C:C, \"6\",A:A, M214,B:B, \"2035\")+SUMIFS(D:D,C:C, \"6\",A:A, M214,B:B, \"2036\")+SUMIFS(D:D,C:C, \"6\",A:A, M214,B:B, \"2037\")+SUMIFS(D:D,C:C, \"6\",A:A, M214,B:B, \"2038\")+SUMIFS(D:D,C:C, \"6\",A:A, M214,B:B, \"2039\"))/T$28","v":0.70734496472564767}]
[2021,2018,4,296182396,null,null,null,null,null,null,null,null,null,{"$f":"SUM(N216:N221)","v":1},{"$f":"SUM(O216:O221)","v":1}]
[2021,2017,4,326518292]
[2021,2016,4,307454000,null,null,null,null,null,null,null,null,2040]
[2021,2015,4,364173300,null,null,null,null,null,null,null,null,"Model Year Group","Operating Hours","No. of Trucks"]
[2021,2014,4,294876900,null,null,null,null,null,null,null,null,"2006 or earlier",{"$f":"( SUMIFS(D:D,C:C, \"4\",A:A, M224,B:B, \"2006\")+ SUMIFS(D:D,C:C, \"4\",A:A, M224,B:B, \"2005\")+ SUMIFS(D:D,C:C, \"4\",A:A, M224,B:B, \"2004\")+ SUMIFS(D:D,C:C, \"4\",A:A, M224,B:B, \"2003\")+ SUMIFS(D:D,C:C, \"4\",A:A, M224,B:B, \"2002\")+ SUMIFS(D:D,C:C, \"4\",A:A, M224,B:B, \"2001\")+SUMIFS(D:D,C:C, \"4\",A:A, M224,B:B, \"2000\"))/$S29","v":0},{"$f":"( SUMIFS(D:D,C:C, \"6\",A:A, M224,B:B, \"2006\")+ SUMIFS(D:D,C:C, \"6\",A:A, M224,B:B, \"2005\")+ SUMIFS(D:D,C:C, \"6\",A:A, M224,B:B, \"2004\")+ SUMIFS(D:D,C:C, \"6\",A:A, M224,B:B, \"2003\")+ SUMIFS(D:D,C:C, \"6\",A:A, M224,B:B, \"2002\")+ SUMIFS(D:D,C:C, \"6\",A:A, M224,B:B, \"2001\")+SUMIFS(D:D,C:C, \"6\",A:A, M224,B:B, \"2000\"))/$T29","v":0}]
[2021,2013,4,196418500,null,null,null,null,null,null,null,null,"2007-2009",{"$f":"( SUMIFS(D:D,C:C, \"4\",A:A, M224,B:B, \"2007\")+ SUMIFS(D:D,C:C, \"4\",A:A, M224,B:B, \"2008\")+ SUMIFS(D:D,C:C, \"4\",A:A, M224,B:B, \"2009\"))/S$29","v":0},{"$f":"( SUMIFS(D:D,C:C, \"6\",A:A, M224,B:B, \"2007\")+ SUMIFS(D:D,C:C, \"6\",A:A, M224,B:B, \"2008\")+ SUMIFS(D:D,C:C, \"6\",A:A, M224,B:B, \"2009\"))/T$29","v":0}]
[2021,2012,4,181734600,null,null,null,null,null,null,null,null,"2010-2012",{"$f":"( SUMIFS(D:D,C:C, \"4\",A:A, M224,B:B, \"2010\")+ SUMIFS(D:D,C:C, \"4\",A:A, M224,B:B, \"2011\")+ SUMIFS(D:D,C:C, \"4\",A:A, M224,B:B, \"2012\"))/S$29","v":3.0565875385826311E-3},{"$f":"( SUMIFS(D:D,C:C, \"6\",A:A, M224,B:B, \"2010\")+ SUMIFS(D:D,C:C, \"6\",A:A, M224,B:B, \"2011\")+ SUMIFS(D:D,C:C, \"6\",A:A, M224,B:B, \"2012\"))/T$29","v":2.7709403895159718E-2}]
[2021,2011,4,88180220,null,null,null,null,null,null,null,null,"2013-2020",{"$f":"( SUMIFS(D:D,C:C, \"4\",A:A, M224,B:B, \"2013\")+ SUMIFS(D:D,C:C, \"4\",A:A, M224,B:B, \"2014\")+ SUMIFS(D:D,C:C, \"4\",A:A, M224,B:B, \"2015\")+SUMIFS(D:D,C:C, \"4\",A:A, M224,B:B, \"2016\")+SUMIFS(D:D,C:C, \"4\",A:A, M224,B:B, \"2017\")+SUMIFS(D:D,C:C, \"4\",A:A, M224,B:B, \"2018\")+SUMIFS(D:D,C:C, \"4\",A:A, M224,B:B, \"2019\")+SUMIFS(D:D,C:C, \"4\",A:A, M224,B:B, \"2020\"))/S$29","v":4.4342349842412886E-2},{"$f":"( SUMIFS(D:D,C:C, \"6\",A:A, M224,B:B, \"2013\")+ SUMIFS(D:D,C:C, \"6\",A:A, M224,B:B, \"2014\")+ SUMIFS(D:D,C:C, \"6\",A:A, M224,B:B, \"2015\")+SUMIFS(D:D,C:C, \"6\",A:A, M224,B:B, \"2016\")+SUMIFS(D:D,C:C, \"6\",A:A, M224,B:B, \"2017\")+SUMIFS(D:D,C:C, \"6\",A:A, M224,B:B, \"2018\")+SUMIFS(D:D,C:C, \"6\",A:A, M224,B:B, \"2019\")+SUMIFS(D:D,C:C, \"6\",A:A, M224,B:B, \"2020\"))/T$29","v":0.14837333544868064}]
[2021,2010,4,64843270,null,null,null,null,null,null,null,null,"2021-2023",{"$f":"( SUMIFS(D:D,C:C, \"4\",A:A, M224,B:B, \"2021\")+ SUMIFS(D:D,C:C, \"4\",A:A, M224,B:B, \"2022\")+ SUMIFS(D:D,C:C, \"4\",A:A, M224,B:B, \"2023\"))/S$29","v":3.8386905918282303E-2},{"$f":"( SUMIFS(D:D,C:C, \"6\",A:A, M224,B:B, \"2021\")+SUMIFS(D:D,C:C, \"6\",A:A, M224,B:B, \"2022\")+SUMIFS(D:D,C:C, \"6\",A:A, M224,B:B, \"2023\"))/T$29","v":8.3771575878065094E-2}]
[2021,2009,4,71215840,null,null,null,null,null,null,null,null,"2024-2050",{"$f":"( SUMIFS(D:D,C:C, \"4\",A:A, M224,B:B, \"2024\")+SUMIFS(D:D,C:C, \"4\",A:A, M224,B:B, \"2025\")+SUMIFS(D:D,C:C, \"4\",A:A, M224,B:B, \"2026\")+SUMIFS(D:D,C:C, \"4\",A:A, M224,B:B, \"2027\")+SUMIFS(D:D,C:C, \"4\",A:A, M224,B:B, \"2028\")+SUMIFS(D:D,C:C, \"4\",A:A, M224,B:B, \"2029\")+SUMIFS(D:D,C:C, \"4\",A:A, M224,B:B, \"2030\")+SUMIFS(D:D,C:C, \"4\",A:A, M224,B:B, \"2031\")+SUMIFS(D:D,C:C, \"4\",A:A, M224,B:B, \"2032\")+SUMIFS(D:D,C:C, \"4\",A:A, M224,B:B, \"2033\")+SUMIFS(D:D,C:C, \"4\",A:A, M224,B:B, \"2034\")+SUMIFS(D:D,C:C, \"4\",A:A, M224,B:B, \"2035\")+SUMIFS(D:D,C:C, \"4\",A:A, M224,B:B, \"2036\")+SUMIFS(D:D,C:C, \"4\",A:A, M224,B:B, \"2037\")+SUMIFS(D:D,C:C, \"4\",A:A, M224,B:B, \"2038\")+SUMIFS(D:D,C:C, \"4\",A:A, M224,B:B, \"2039\")+SUMIFS(D:D,C:C, \"4\",A:A, M224,B:B, \"2040\"))/S$29","v":0.91421415670072215},{"$f":"( SUMIFS(D:D,C:C, \"6\",A:A, M224,B:B, \"2024\")+SUMIFS(D:D,C:C, \"6\",A:A, M224,B:B, \"2025\")+SUMIFS(D:D,C:C, \"6\",A:A, M224,B:B, \"2026\")+SUMIFS(D:D,C:C, \"6\",A:A, M224,B:B, \"2027\")+SUMIFS(D:D,C:C, \"6\",A:A, M224,B:B, \"2028\")+SUMIFS(D:D,C:C, \"6\",A:A, M224,B:B, \"2029\")+SUMIFS(D:D,C:C, \"6\",A:A, M224,B:B, \"2030\")+SUMIFS(D:D,C:C, \"6\",A:A, M224,B:B, \"2031\")+SUMIFS(D:D,C:C, \"6\",A:A, M224,B:B, \"2032\")+SUMIFS(D:D,C:C, \"6\",A:A, M224,B:B, \"2033\")+SUMIFS(D:D,C:C, \"6\",A:A, M224,B:B, \"2034\")+SUMIFS(D:D,C:C, \"6\",A:A, M224,B:B, \"2035\")+SUMIFS(D:D,C:C, \"6\",A:A, M224,B:B, \"2036\")+SUMIFS(D:D,C:C, \"6\",A:A, M224,B:B, \"2037\")+SUMIFS(D:D,C:C, \"6\",A:A, M224,B:B, \"2038\")+SUMIFS(D:D,C:C, \"6\",A:A, M224,B:B, \"2039\")+SUMIFS(D:D,C:C, \"6\",A:A, M224,B:B, \"2040\"))/T$29","v":0.7401456847780945}]
[2021,2008,4,39209970,null,null,null,null,null,null,null,null,null,{"$f":"SUM(N226:N231)","v":1},{"$f":"SUM(O226:O231)","v":1}]
[2021,2007,4,130498800]
[2021,2006,4,82746190]
[2021,2005,4,63830260]
[2021,2004,4,32714790]
[2021,2003,4,26963520]
[2021,2002,4,15992920]
[2021,2001,4,23850840]
[2021,2000,4,33496230]
[2021,1999,4,24665800]
[2021,1998,4,16127310]
[2021,1997,4,10044590]
[2021,1996,4,9408436]
[2021,1995,4,7334817]
[2021,1994,4,5203654]
[2021,1993,4,3345430]
[2021,1992,4,1742267]
[2021,1991,4,4023565]
[2022,2022,6,97531.796875]
[2022,2021,6,91139.6015625]
[2022,2020,6,96047]
[2022,2019,6,103346]
[2022,2018,6,97319.296875]
[2022,2017,6,111674]
[2022,2016,6,109772]
[2022,2015,6,138168]
[2022,2014,6,117634]
[2022,2013,6,83968]
[2022,2012,6,83683.6015625]
[2022,2011,6,43355.6015625]
[2022,2010,6,34789.30078125]
[2022,2009,6,41419.80078125]
[2022,2008,6,25348.900390625]
[2022,2007,6,94960]
[2022,2006,6,67822.1015625]
[2022,2005,6,61090.30078125]
[2022,2004,6,32790.3984375]
[2022,2003,6,28858.900390625]
[2022,2002,6,18077.599609375]
[2022,2001,6,29075.30078125]
[2022,2000,6,44310.3984375]
[2022,1999,6,35103.8984375]
[2022,1998,6,25307.599609375]
[2022,1997,6,17565]
[2022,1996,6,18279.599609375]
[2022,1995,6,16363.900390625]
[2022,1994,6,13630.400390625]
[2022,1993,6,10437.5]
[2022,1992,6,25656.400390625]
[2022,2022,4,299454896]
[2022,2021,4,279828904]
[2022,2020,4,294895504]
[2022,2019,4,317305504]
[2022,2018,4,283046304]
[2022,2017,4,306715596]
[2022,2016,4,283718204]
[2022,2015,4,334740500]
[2022,2014,4,265948500]
[2022,2013,4,176240700]
[2022,2012,4,162095100]
[2022,2011,4,76960230]
[2022,2010,4,56121770]
[2022,2009,4,60112120]
[2022,2008,4,32684480]
[2022,2007,4,107065500]
[2022,2006,4,65487210]
[2022,2005,4,55464380]
[2022,2004,4,27879740]
[2022,2003,4,22872800]
[2022,2002,4,13285350]
[2022,2001,4,19690950]
[2022,2000,4,27453560]
[2022,1999,4,19725160]
[2022,1998,4,12761130]
[2022,1997,4,7844054]
[2022,1996,4,7109062]
[2022,1995,4,5420376]
[2022,1994,4,3728923]
[2022,1993,4,2253523]
[2022,1992,4,4059870]
[2023,2023,6,95541.1015625]
[2023,2022,6,97810.6015625]
[2023,2021,6,91400.1015625]
[2023,2020,6,96321.6015625]
[2023,2019,6,103641]
[2023,2018,6,96212.6015625]
[2023,2017,6,108815]
[2023,2016,6,106962]
[2023,2015,6,132664]
[2023,2014,6,112949]
[2023,2013,6,80623.5]
[2023,2012,6,79159.6015625]
[2023,2011,6,41011.69921875]
[2023,2010,6,32413.599609375]
[2023,2009,6,38591.19921875]
[2023,2008,6,23617.80078125]
[2023,2007,6,87123.8984375]
[2023,2006,6,62225.3984375]
[2023,2005,6,55179.80078125]
[2023,2004,6,29617.900390625]
[2023,2003,6,25656.099609375]
[2023,2002,6,16071.2998046875]
[2023,2001,6,25848.5]
[2023,2000,6,38762.30078125]
[2023,1999,6,30708.599609375]
[2023,1998,6,22138.80078125]
[2023,1997,6,15115.7001953125]
[2023,1996,6,15730.7001953125]
[2023,1995,6,14082.099609375]
[2023,1994,6,11535.7998046875]
[2023,1993,6,25637.19921875]
[2023,2023,4,295906696]
[2023,2022,4,302936396]
[2023,2021,4,283081704]
[2023,2020,4,298325300]
[2023,2019,4,304068208]
[2023,2018,4,266560600]
[2023,2017,4,283704804]
[2023,2016,4,261403000]
[2023,2015,4,302550596]
[2023,2014,4,239141500]
[2023,2013,4,157533000]
[2023,2012,4,141744400]
[2023,2011,4,66738280]
[2023,2010,4,47452690]
[2023,2009,4,50193750]
[2023,2008,4,26861400]
[2023,2007,4,84860110]
[2023,2006,4,56988820]
[2023,2005,4,47326330]
[2023,2004,4,23679630]
[2023,2003,4,19019740]
[2023,2002,4,10979310]
[2023,2001,4,16155080]
[2023,2000,4,21971280]
[2023,1999,4,15619890]
[2023,1998,4,9973075]
[2023,1997,4,5930015]
[2023,1996,4,5256213]
[2023,1995,4,3886176]
[2023,1994,4,2512444]
[2023,1993,4,4092310]
[2024,2024,6,92013.3984375]
[2024,2023,6,95876.5]
[2024,2022,6,98154]
[2024,2021,6,91721]
[2024,2020,6,96659.796875]
[2024,2019,6,102574]
[2024,2018,6,93893.5]
[2024,2017,6,106192]
[2024,2016,6,102906]
[2024,2015,6,127635]
[2024,2014,6,108667]
[2024,2013,6,76453.6015625]
[2024,2012,6,75065.3984375]
[2024,2011,6,38324.30078125]
[2024,2010,6,30289.599609375]
[2024,2009,6,36062.3984375]
[2024,2008,6,21744.099609375]
[2024,2007,6,80211.796875]
[2024,2006,6,56429.5]
[2024,2005,6,50040.19921875]
[2024,2004,6,26450.19921875]
[2024,2003,6,22912.19921875]
[2024,2002,6,14352.5]
[2024,2001,6,22727.099609375]
[2024,2000,6,34081.3984375]
[2024,1999,6,27000.19921875]
[2024,1998,6,19159.69921875]
[2024,1997,6,13081.7001953125]
[2024,1996,6,13613.900390625]
[2024,1995,6,11992.7001953125]
[2024,1994,6,25619.30078125]
[2024,2024,4,287275000]
[2024,2023,4,299336204]
[2024,2022,4,306446704]
[2024,2021,4,286362304]
[2024,2020,4,285867604]
[2024,2019,4,286471704]
[2024,2018,4,246770600]
[2024,2017,4,261611000]
[2024,2016,4,236574800]
[2024,2015,4,272409900]
[2024,2014,4,214036500]
[2024,2013,4,138000900]
[2024,2012,4,123136700]
[2024,2011,4,56557410]
[2024,2010,4,39713400]
[2024,2009,4,41345060]
[2024,2008,4,21349550]
[2024,2007,4,74052960]
[2024,2006,4,48787710]
[2024,2005,4,40329260]
[2024,2004,4,19766230]
[2024,2003,4,15778710]
[2024,2002,4,9042356]
[2024,2001,4,12985840]
[2024,2000,4,17474990]
[2024,1999,4,12260910]
[2024,1998,4,7576970]
[2024,1997,4,4406243]
[2024,1996,4,3787192]
[2024,1995,4,2632964]
[2024,1994,4,4122364]
[2025,2025,6,90698]
[2025,2024,6,92376]
[2025,2023,6,96254.296875]
[2025,2022,6,98540.703125]
[2025,2021,6,92082.3984375]
[2025,2020,6,95802.1015625]
[2025,2019,6,100349]
[2025,2018,6,91857.203125]
[2025,2017,6,102529]
[2025,2016,6,99356.1015625]
[2025,2015,6,123231]
[2025,2014,6,103525]
[2025,2013,6,72836.203125]
[2025,2012,6,70551.8984375]
[2025,2011,6,36020]
[2025,2010,6,28468.30078125]
[2025,2009,6,33431.8984375]
[2025,2008,6,20158]
[2025,2007,6,73333.203125]
[2025,2006,6,51590.30078125]
[2025,2005,6,45107.80078125]
[2025,2004,6,23843]
[2025,2003,6,20653.69921875]
[2025,2002,6,12753.900390625]
[2025,2001,6,20195.599609375]
[2025,2000,6,30285.30078125]
[2025,1999,6,23646.900390625]
[2025,1998,6,16780.099609375]
[2025,1997,6,11457]
[2025,1996,6,11748.599609375]
[2025,1995,6,25664.900390625]
[2025,2025,4,285689104]
[2025,2024,4,290974304]
[2025,2023,4,303191200]
[2025,2022,4,310393000]
[2025,2021,4,274755200]
[2025,2020,4,269941500]
[2025,2019,4,266086400]
[2025,2018,4,228310900]
[2025,2017,4,237804600]
[2025,2016,4,213943300]
[2025,2015,4,244884500]
[2025,2014,4,188529400]
[2025,2013,4,120543700]
[2025,2012,4,105044400]
[2025,2011,4,47647100]
[2025,2010,4,32929200]
[2025,2009,4,33117610]
[2025,2008,4,18775910]
[2025,2007,4,63966670]
[2025,2006,4,41948830]
[2025,2005,4,34009110]
[2025,2004,4,16565940]
[2025,2003,4,13128140]
[2025,2002,4,7352204]
[2025,2001,4,10447370]
[2025,2000,4,13875100]
[2025,1999,4,9434779]
[2025,1998,4,5702291]
[2025,1997,4,3215550]
[2025,1996,4,2602343]
[2025,1995,4,4166466]
[2026,2026,6,89975.8984375]
[2026,2025,6,91048.5]
[2026,2024,6,92733]
[2026,2023,6,96626.296875]
[2026,2022,6,98921.6015625]
[2026,2021,6,91286]
[2026,2020,6,93774.6015625]
[2026,2019,6,98225.796875]
[2026,2018,6,88763.703125]
[2026,2017,6,99075.796875]
[2026,2016,6,96010.1015625]
[2026,2015,6,117539]
[2026,2014,6,98743.296875]
[2026,2013,6,68560.3984375]
[2026,2012,6,66410.1015625]
[2026,2011,6,33905.3984375]
[2026,2010,6,26440.80078125]
[2026,2009,6,31051]
[2026,2008,6,18470.099609375]
[2026,2007,6,67192.796875]
[2026,2006,6,46624.8984375]
[2026,2005,6,40766.30078125]
[2026,2004,6,21548.19921875]
[2026,2003,6,18407.400390625]
[2026,2002,6,11366.7001953125]
[2026,2001,6,17999.099609375]
[2026,2000,6,26612.5]
[2026,1999,6,20779.099609375]
[2026,1998,6,14745.099609375]
[2026,1997,6,9924.1396484375]
[2026,1996,6,25723.19921875]
[2026,2026,4,286797700]
[2026,2025,4,290216796]
[2026,2024,4,295586400]
[2026,2023,4,307996200]
[2026,2022,4,298685004]
[2026,2021,4,260286400]
[2026,2020,4,251619900]
[2026,2019,4,247054000]
[2026,2018,4,208335600]
[2026,2017,4,215885900]
[2026,2016,4,193068400]
[2026,2015,4,216604600]
[2026,2014,4,165370500]
[2026,2013,4,103297700]
[2026,2012,4,88895700]
[2026,2011,4,39686350]
[2026,2010,4,26504850]
[2026,2009,4,29267190]
[2026,2008,4,16303320]
[2026,2007,4,55287450]
[2026,2006,4,35572580]
[2026,2005,4,28662160]
[2026,2004,4,13860200]
[2026,2003,4,10737960]
[2026,2002,4,5950288]
[2026,2001,4,8344676]
[2026,2000,4,10744740]
[2026,1999,4,7145542]
[2026,1998,4,4187806]
[2026,1997,4,2224458]
[2026,1996,4,4225770]
[2027,2027,6,88999.5]
[2027,2026,6,90247.203125]
[2027,2025,6,91322.8984375]
[2027,2024,6,93012.5]
[2027,2023,6,96917.6015625]
[2027,2022,6,98027.6015625]
[2027,2021,6,89360.8984375]
[2027,2020,6,91797.1015625]
[2027,2019,6,94970.703125]
[2027,2018,6,85822.203125]
[2027,2017,6,95792.5]
[2027,2016,6,91671.3984375]
[2027,2015,6,112227]
[2027,2014,6,93091.1015625]
[2027,2013,6,64635.8984375]
[2027,2012,6,62608.80078125]
[2027,2011,6,31556]
[2027,2010,6,24608.69921875]
[2027,2009,6,28525.19921875]
[2027,2008,6,16967.69921875]
[2027,2007,6,60917.3984375]
[2027,2006,6,42270.3984375]
[2027,2005,6,36958.8984375]
[2027,2004,6,19276.099609375]
[2027,2003,6,16466.400390625]
[2027,2002,6,10168.2001953125]
[2027,2001,6,15884.2998046875]
[2027,2000,6,23485.599609375]
[2027,1999,6,18337.599609375]
[2027,1998,6,12834.900390625]
[2027,1997,6,25798.30078125]
[2027,2027,4,287047904]
[2027,2026,4,291071004]
[2027,2025,4,294541000]
[2027,2024,4,299991096]
[2027,2023,4,296102000]
[2027,2022,4,282822200]
[2027,2021,4,242619100]
[2027,2020,4,233620800]
[2027,2019,4,225545900]
[2027,2018,4,189222700]
[2027,2017,4,194913700]
[2027,2016,4,170937300]
[2027,2015,4,190180500]
[2027,2014,4,141919800]
[2027,2013,4,87546060]
[2027,2012,4,74152270]
[2027,2011,4,32007290]
[2027,2010,4,23469920]
[2027,2009,4,25477250]
[2027,2008,4,14126830]
[2027,2007,4,47027800]
[2027,2006,4,30071920]
[2027,2005,4,24054370]
[2027,2004,4,11377960]
[2027,2003,4,8722053]
[2027,2002,4,4769981]
[2027,2001,4,6489282]
[2027,2000,4,8171968]
[2027,1999,4,5269864]
[2027,1998,4,2910989]
[2027,1997,4,4288336]
[2028,2028,6,87547]
[2028,2027,6,89380.6015625]
[2028,2026,6,90633.6015625]
[2028,2025,6,91713.8984375]
[2028,2024,6,93410.796875]
[2028,2023,6,96036.296875]
[2028,2022,6,95825.203125]
[2028,2021,6,87353.203125]
[2028,2020,6,88506.8984375]
[2028,2019,6,91566.703125]
[2028,2018,6,82746.1015625]
[2028,2017,6,91077.8984375]
[2028,2016,6,87159.6015625]
[2028,2015,6,105203]
[2028,2014,6,87264.296875]
[2028,2013,6,60590.19921875]
[2028,2012,6,57852.6015625]
[2028,2011,6,29158.80078125]
[2028,2010,6,22410.099609375]
[2028,2009,6,25976.69921875]
[2028,2008,6,15224.900390625]
[2028,2007,6,54660.19921875]
[2028,2006,6,37928.6015625]
[2028,2005,6,32668.30078125]
[2028,2004,6,17038.30078125]
[2028,2003,6,14554.7998046875]
[2028,2002,6,8851.73046875]
[2028,2001,6,13827.7998046875]
[2028,2000,6,20445]
[2028,1999,6,15718.2998046875]
[2028,1998,6,25706]
[2028,2028,4,287187600]
[2028,2027,4,293203100]
[2028,2026,4,297312996]
[2028,2025,4,300856596]
[2028,2024,4,290264900]
[2028,2023,4,281810904]
[2028,2022,4,264615300]
[2028,2021,4,226110300]
[2028,2020,4,213786600]
[2028,2019,4,205338300]
[2028,2018,4,171244700]
[2028,2017,4,172732700]
[2028,2016,4,150224600]
[2028,2015,4,163125100]
[2028,2014,4,120214800]
[2028,2013,4,72987850]
[2028,2012,4,59682720]
[2028,2011,4,28284660]
[2028,2010,4,20357570]
[2028,2009,4,21997030]
[2028,2008,4,11954360]
[2028,2007,4,39550700]
[2028,2006,4,25107300]
[2028,2005,4,19612440]
[2028,2004,4,9179182]
[2028,2003,4,6944493]
[2028,2002,4,3678025]
[2028,2001,4,4893700]
[2028,2000,4,5975878]
[2028,1999,4,3625868]
[2028,1998,4,4346032]
[2029,2029,6,86911.703125]
[2029,2028,6,88063.203125]
[2029,2027,6,89907.5]
[2029,2026,6,91167.8984375]
[2029,2025,6,92254.703125]
[2029,2024,6,92771.8984375]
[2029,2023,6,94156.296875]
[2029,2022,6,93949.296875]
[2029,2021,6,84530.703125]
[2029,2020,6,85647.1015625]
[2029,2019,6,88608.1015625]
[2029,2018,6,79018.6015625]
[2029,2017,6,86975.1015625]
[2029,2016,6,82123.296875]
[2029,2015,6,99124]
[2029,2014,6,82222]
[2029,2013,6,56317.5]
[2029,2012,6,53772.8984375]
[2029,2011,6,26731.19921875]
[2029,2010,6,20544.400390625]
[2029,2009,6,23483.19921875]
[2029,2008,6,13763.400390625]
[2029,2007,6,49413.3984375]
[2029,2006,6,33804.80078125]
[2029,2005,6,29116.5]
[2029,2004,6,15185.7998046875]
[2029,2003,6,12787]
[2029,2002,6,7776.60009765625]
[2029,2001,6,12148.2998046875]
[2029,2000,6,17701.400390625]
[2029,1999,6,25672.30078125]
[2029,2029,4,288432900]
[2029,2028,4,292254404]
[2029,2027,4,298375200]
[2029,2026,4,302557596]
[2029,2025,4,290019800]
[2029,2024,4,275410700]
[2029,2023,4,263043300]
[2029,2022,4,246024200]
[2029,2021,4,206566300]
[2029,2020,4,194306300]
[2029,2019,4,185517200]
[2029,2018,4,151611700]
[2029,2017,4,151657000]
[2029,2016,4,128825400]
[2029,2015,4,138147200]
[2029,2014,4,100202190]
[2029,2013,4,58777500]
[2029,2012,4,52769980]
[2029,2011,4,24566490]
[2029,2010,4,17600070]
[2029,2009,4,18653970]
[2029,2008,4,10075150]
[2029,2007,4,33091710]
[2029,2006,4,20531670]
[2029,2005,4,15869310]
[2029,2004,4,7330143]
[2029,2003,4,5375211]
[2029,2002,4,2784290]
[2029,2001,4,3592288]
[2029,2000,4,4130996]
[2029,1999,4,4390990]
[2030,2030,6,87219.703125]
[2030,2029,6,87524.203125]
[2030,2028,6,88683.796875]
[2030,2027,6,90541.203125]
[2030,2026,6,91810.3984375]
[2030,2025,6,91784.3984375]
[2030,2024,6,91172.203125]
[2030,2023,6,92532.796875]
[2030,2022,6,91188.3984375]
[2030,2021,6,82046.6015625]
[2030,2020,6,83130.1015625]
[2030,2019,6,84927.8984375]
[2030,2018,6,75736.796875]
[2030,2017,6,82306.5]
[2030,2016,6,77715.1015625]
[2030,2015,6,93803.203125]
[2030,2014,6,76809.8984375]
[2030,2013,6,52610.5]
[2030,2012,6,49580.30078125]
[2030,2011,6,24647.099609375]
[2030,2010,6,18693.099609375]
[2030,2009,6,21367.099609375]
[2030,2008,6,12523.2001953125]
[2030,2007,6,44360.5]
[2030,2006,6,30348]
[2030,2005,6,26139.099609375]
[2030,2004,6,13448.5]
[2030,2003,6,11324.099609375]
[2030,2002,6,6886.93017578125]
[2030,2001,6,10611]
[2030,2000,6,25693.69921875]
[2030,2030,4,292279296]
[2030,2029,4,293299696]
[2030,2028,4,297185496]
[2030,2027,4,303409600]
[2030,2026,4,291439396]
[2030,2025,4,275137900]
[2030,2024,4,257191800]
[2030,2023,4,244678800]
[2030,2022,4,225010200]
[2030,2021,4,187953900]
[2030,2020,4,175746500]
[2030,2019,4,164539800]
[2030,2018,4,133349400]
[2030,2017,4,130372400]
[2030,2016,4,109366900]
[2030,2015,4,115431600]
[2030,2014,4,80947170]
[2030,2013,4,52133050]
[2030,2012,4,46009750]
[2030,2011,4,21320820]
[2030,2010,4,14993800]
[2030,2009,4,15793800]
[2030,2008,4,8468484]
[2030,2007,4,27205660]
[2030,2006,4,16701920]
[2030,2005,4,12740390]
[2030,2004,4,5708447]
[2030,2003,4,4093989]
[2030,2002,4,2056358]
[2030,2001,4,2500454]
[2030,2000,4,4437549]
[2031,2031,6,87524.3984375]
[2031,2030,6,87518.296875]
[2031,2029,6,87823.796875]
[2031,2028,6,88987.3984375]
[2031,2027,6,90851.1015625]
[2031,2026,6,91028.796875]
[2031,2025,6,89907.5]
[2031,2024,6,89307.796875]
[2031,2023,6,89536.1015625]
[2031,2022,6,88235.203125]
[2031,2021,6,79389.5]
[2031,2020,6,79445.703125]
[2031,2019,6,81163.796875]
[2031,2018,6,71476]
[2031,2017,6,77676.1015625]
[2031,2016,6,73343.1015625]
[2031,2015,6,87406.5]
[2031,2014,6,71572]
[2031,2013,6,48394.8984375]
[2031,2012,6,45607.5]
[2031,2011,6,22377.900390625]
[2031,2010,6,16972.099609375]
[2031,2009,6,19399.900390625]
[2031,2008,6,11220.7001953125]
[2031,2007,6,39746.8984375]
[2031,2006,6,27191.69921875]
[2031,2005,6,23108.599609375]
[2031,2004,6,11889.2998046875]
[2031,2003,6,10011.2001953125]
[2031,2002,6,6006.27001953125]
[2031,2001,6,25731.69921875]
[2031,2031,4,296813804]
[2031,2030,4,296792900]
[2031,2029,4,297829600]
[2031,2028,4,301774596]
[2031,2027,4,291849004]
[2031,2026,4,276141600]
[2031,2025,4,256662500]
[2031,2024,4,238980100]
[2031,2023,4,223579300]
[2031,2022,4,204552600]
[2031,2021,4,169848800]
[2031,2020,4,155762400]
[2031,2019,4,144616700]
[2031,2018,4,114573400]
[2031,2017,4,110621500]
[2031,2016,4,91335140]
[2031,2015,4,93217860]
[2031,2014,4,71771960]
[2031,2013,4,45447570]
[2031,2012,4,39925210]
[2031,2011,4,18164460]
[2031,2010,4,12695470]
[2031,2009,4,13275850]
[2031,2008,4,6963972]
[2031,2007,4,22136620]
[2031,2006,4,13412220]
[2031,2005,4,9926349]
[2031,2004,4,4349810]
[2031,2003,4,3025055]
[2031,2002,4,1432327]
[2031,2001,4,4497336]
[2032,2032,6,87663.8984375]
[2032,2031,6,87620]
[2032,2030,6,87613.8984375]
[2032,2029,6,87919.703125]
[2032,2028,6,89084.6015625]
[2032,2027,6,89880.1015625]
[2032,2026,6,88983.703125]
[2032,2025,6,87887.5]
[2032,2024,6,86249.296875]
[2032,2023,6,86469.796875]
[2032,2022,6,85213.5]
[2032,2021,6,75735.5]
[2032,2020,6,75789.1015625]
[2032,2019,6,76472.1015625]
[2032,2018,6,67344.296875]
[2032,2017,6,73186]
[2032,2016,6,68239.3984375]
[2032,2015,6,81324.203125]
[2032,2014,6,65748.5]
[2032,2013,6,44457.19921875]
[2032,2012,6,41359.3984375]
[2032,2011,6,20293.5]
[2032,2010,6,15391.2001953125]
[2032,2009,6,17364.400390625]
[2032,2008,6,10043.400390625]
[2032,2007,6,35576.5]
[2032,2006,6,24018.30078125]
[2032,2005,6,20411.69921875]
[2032,2004,6,10501.7998046875]
[2032,2003,6,8724.9501953125]
[2032,2002,6,25766.80078125]
[2032,2032,4,301107304]
[2032,2031,4,300956800]
[2032,2030,4,300935900]
[2032,2029,4,301986504]
[2032,2028,4,289851900]
[2032,2027,4,276161400]
[2032,2026,4,257289500]
[2032,2025,4,238201800]
[2032,2024,4,218140600]
[2032,2023,4,203036200]
[2032,2022,4,184652100]
[2032,2021,4,150396300]
[2032,2020,4,136775600]
[2032,2019,4,124157300]
[2032,2018,4,97140240]
[2032,2017,4,92310800]
[2032,2016,4,73711960]
[2032,2015,4,82599540]
[2032,2014,4,62538070]
[2032,2013,4,39418400]
[2032,2012,4,34003490]
[2032,2011,4,15375050]
[2032,2010,4,10667980]
[2032,2009,4,10915410]
[2032,2008,4,5665470]
[2032,2007,4,17773480]
[2032,2006,4,10449730]
[2032,2005,4,7563776]
[2032,2004,4,3214051]
[2032,2003,4,2107394]
[2032,2002,4,4561346]
[2033,2033,6,88171.796875]
[2033,2032,6,87861.796875]
[2033,2031,6,87817.8984375]
[2033,2030,6,87811.703125]
[2033,2029,6,88118.296875]
[2033,2028,6,88101.5]
[2033,2027,6,87693.3984375]
[2033,2026,6,86818.703125]
[2033,2025,6,84580.8984375]
[2033,2024,6,83004.296875]
[2033,2023,6,83216.5]
[2033,2022,6,80874.6015625]
[2033,2021,6,71879.203125]
[2033,2020,6,70922.6015625]
[2033,2019,6,71561.703125]
[2033,2018,6,63020]
[2033,2017,6,67513.703125]
[2033,2016,6,62950.5]
[2033,2015,6,73940]
[2033,2014,6,59778.6015625]
[2033,2013,6,39829.5]
[2033,2012,6,37054.1015625]
[2033,2011,6,18181.099609375]
[2033,2010,6,13584.5]
[2033,2009,6,15326]
[2033,2008,6,8864.4404296875]
[2033,2007,6,30927.30078125]
[2033,2006,6,20879.599609375]
[2033,2005,6,17744.30078125]
[2033,2004,6,8989.76953125]
[2033,2003,6,25629.80078125]
[2033,2033,4,307106604]
[2033,2032,4,306026996]
[2033,2031,4,305874004]
[2033,2030,4,305852604]
[2033,2029,4,290735296]
[2033,2028,4,274499300]
[2033,2027,4,257121700]
[2033,2026,4,238611000]
[2033,2025,4,216925800]
[2033,2024,4,197636900]
[2033,2023,4,182857900]
[2033,2022,4,162857800]
[2033,2021,4,131541700]
[2033,2020,4,116765000]
[2033,2019,4,104673600]
[2033,2018,4,80605020]
[2033,2017,4,73952450]
[2033,2016,4,64835940]
[2033,2015,4,71317450]
[2033,2014,4,53747790]
[2033,2013,4,33205700]
[2033,2012,4,28467800]
[2033,2011,4,12778740]
[2033,2010,4,8659291]
[2033,2009,4,8766817]
[2033,2008,4,4490751]
[2033,2007,4,13644660]
[2033,2006,4,7845857]
[2033,2005,4,5506906]
[2033,2004,4,2201864]
[2033,2003,4,4600850]
[2034,2034,6,89145.203125]
[2034,2033,6,88392.5]
[2034,2032,6,88081.796875]
[2034,2031,6,88037.703125]
[2034,2030,6,88031.5]
[2034,2029,6,87220.796875]
[2034,2028,6,86086.296875]
[2034,2027,6,85687.6015625]
[2034,2026,6,83731.3984375]
[2034,2025,6,81573.1015625]
[2034,2024,6,80052.6015625]
[2034,2023,6,79201.3984375]
[2034,2022,6,76972.5]
[2034,2021,6,67499.1015625]
[2034,2020,6,66600.796875]
[2034,2019,6,67200.8984375]
[2034,2018,6,58380.1015625]
[2034,2017,6,62543]
[2034,2016,6,57517]
[2034,2015,6,67558]
[2034,2014,6,53860.3984375]
[2034,2013,6,35886.30078125]
[2034,2012,6,33385.69921875]
[2034,2011,6,16150.5]
[2034,2010,6,12067.2001953125]
[2034,2009,6,13614.2998046875]
[2034,2008,6,7761.89990234375]
[2034,2007,6,27080.599609375]
[2034,2006,6,18282.599609375]
[2034,2005,6,15312.099609375]
[2034,2004,6,25571]
[2034,2034,4,314143800]
[2034,2033,4,311491104]
[2034,2032,4,310396396]
[2034,2031,4,310241100]
[2034,2030,4,293861504]
[2034,2029,4,274947000]
[2034,2028,4,255374100]
[2034,2027,4,238268400]
[2034,2026,4,217268800]
[2034,2025,4,196510300]
[2034,2024,4,177971700]
[2034,2023,4,161361700]
[2034,2022,4,142517100]
[2034,2021,4,112434000]
[2034,2020,4,98561460]
[2034,2019,4,86962020]
[2034,2018,4,64698770]
[2034,2017,4,65172720]
[2034,2016,4,56128550]
[2034,2015,4,61455730]
[2034,2014,4,45430620]
[2034,2013,4,27894450]
[2034,2012,4,23741050]
[2034,2011,4,10415870]
[2034,2010,4,6983799]
[2034,2009,4,6978025]
[2034,2008,4,3464656]
[2034,2007,4,10295510]
[2034,2006,4,5740629]
[2034,2005,4,3794448]
[2034,2004,4,4644183]
[2035,2035,6,88886.296875]
[2035,2034,6,89680.8984375]
[2035,2033,6,88923.6015625]
[2035,2032,6,88611]
[2035,2031,6,88566.703125]
[2035,2030,6,87556.296875]
[2035,2029,6,85754.8984375]
[2035,2028,6,84639.5]
[2035,2027,6,83270]
[2035,2026,6,81368.8984375]
[2035,2025,6,79271.6015625]
[2035,2024,6,76880.796875]
[2035,2023,6,76063.203125]
[2035,2022,6,73044.6015625]
[2035,2021,6,64054.6015625]
[2035,2020,6,63202.1015625]
[2035,2019,6,63005]
[2035,2018,6,54735]
[2035,2017,6,57924.3984375]
[2035,2016,6,53269.6015625]
[2035,2015,6,61798.3984375]
[2035,2014,6,49268.6015625]
[2035,2013,6,32826.8984375]
[2035,2012,6,30158.599609375]
[2035,2011,6,14589.2998046875]
[2035,2010,6,10900.7998046875]
[2035,2009,6,12143]
[2035,2008,6,6923.080078125]
[2035,2007,6,24154.099609375]
[2035,2006,6,16098.2998046875]
[2035,2005,6,25637.69921875]
[2035,2035,4,315361300]
[2035,2034,4,318180700]
[2035,2033,4,315494396]
[2035,2032,4,314385396]
[2035,2031,4,297658796]
[2035,2030,4,277881704]
[2035,2029,4,256120300]
[2035,2028,4,236954500]
[2035,2027,4,217541200]
[2035,2026,4,197351500]
[2035,2025,4,177433700]
[2035,2024,4,157698800]
[2035,2023,4,141791400]
[2035,2022,4,122498400]
[2035,2021,4,95438060]
[2035,2020,4,82343390]
[2035,2019,4,70299180]
[2035,2018,4,57424260]
[2035,2017,4,56910700]
[2035,2016,4,48787700]
[2035,2015,4,52480750]
[2035,2014,4,38556970]
[2035,2013,4,23502420]
[2035,2012,4,19582400]
[2035,2011,4,8500862]
[2035,2010,4,5625251]
[2035,2009,4,5457076]
[2035,2008,4,2649917]
[2035,2007,4,7635786]
[2035,2006,4,4016388]
[2035,2005,4,4688000]
[2036,2036,6,88374.5]
[2036,2035,6,89452.6015625]
[2036,2034,6,90252.296875]
[2036,2033,6,89490.203125]
[2036,2032,6,89175.6015625]
[2036,2031,6,88103.8984375]
[2036,2030,6,86083.296875]
[2036,2029,6,84312.203125]
[2036,2028,6,82234]
[2036,2027,6,80903.3984375]
[2036,2026,6,79056.3984375]
[2036,2025,6,76099.296875]
[2036,2024,6,73804.1015625]
[2036,2023,6,72137.203125]
[2036,2022,6,69274.3984375]
[2036,2021,6,60748.3984375]
[2036,2020,6,59206.8984375]
[2036,2019,6,59022.30078125]
[2036,2018,6,50640.30078125]
[2036,2017,6,53591.1015625]
[2036,2016,6,48666.80078125]
[2036,2015,6,56458.6015625]
[2036,2014,6,45011.5]
[2036,2013,6,29609.69921875]
[2036,2012,6,27202.900390625]
[2036,2011,6,13159.5]
[2036,2010,6,9706.0498046875]
[2036,2009,6,10812.099609375]
[2036,2008,6,6164.2998046875]
[2036,2007,6,21226.599609375]
[2036,2006,6,25672.30078125]
[2036,2036,4,315561704]
[2036,2035,4,319410992]
[2036,2034,4,322265896]
[2036,2033,4,319544800]
[2036,2032,4,301630396]
[2036,2031,4,281416408]
[2036,2030,4,258753700]
[2036,2029,4,237555200]
[2036,2028,4,216215400]
[2036,2027,4,197483600]
[2036,2026,4,178089500]
[2036,2025,4,157099200]
[2036,2024,4,138464400]
[2036,2023,4,121754400]
[2036,2022,4,103878600]
[2036,2021,4,79655330]
[2036,2020,4,66486000]
[2036,2019,4,62320320]
[2036,2018,4,50073670]
[2036,2017,4,49397420]
[2036,2016,4,41594520]
[2036,2015,4,44467730]
[2036,2014,4,32433110]
[2036,2013,4,19349530]
[2036,2012,4,15952400]
[2036,2011,4,6834477]
[2036,2010,4,4389950]
[2036,2009,4,4165092]
[2036,2008,4,1961236]
[2036,2007,4,5329895]
[2036,2006,4,4724472]
[2037,2037,6,88837.1015625]
[2037,2036,6,89184.703125]
[2037,2035,6,90272.703125]
[2037,2034,6,91079.703125]
[2037,2033,6,90310.6015625]
[2037,2032,6,89017.703125]
[2037,2031,6,86984.1015625]
[2037,2030,6,84989.203125]
[2037,2029,6,82318.3984375]
[2037,2028,6,80289.296875]
[2037,2027,6,78990.203125]
[2037,2026,6,76322.1015625]
[2037,2025,6,73467.203125]
[2037,2024,6,70444.203125]
[2037,2023,6,68853.1015625]
[2037,2022,6,66120.6015625]
[2037,2021,6,57318.30078125]
[2037,2020,6,55863.8984375]
[2037,2019,6,55044.1015625]
[2037,2018,6,47227]
[2037,2017,6,49392.69921875]
[2037,2016,6,44854.19921875]
[2037,2015,6,52035.6015625]
[2037,2014,6,40992.80078125]
[2037,2013,6,26966.19921875]
[2037,2012,6,24774.30078125]
[2037,2011,6,11840.7001953125]
[2037,2010,6,8733.330078125]
[2037,2009,6,9728.509765625]
[2037,2008,6,5479.08984375]
[2037,2007,6,25783.5]
[2037,2037,4,318119308]
[2037,2036,4,319364096]
[2037,2035,4,323259300]
[2037,2034,4,326149396]
[2037,2033,4,306342496]
[2037,2032,4,285146596]
[2037,2031,4,262208100]
[2037,2030,4,240146300]
[2037,2029,4,217055600]
[2037,2028,4,196544500]
[2037,2027,4,178448600]
[2037,2026,4,158009000]
[2037,2025,4,138226100]
[2037,2024,4,119236300]
[2037,2023,4,103541900]
[2037,2022,4,86947260]
[2037,2021,4,64548910]
[2037,2020,4,59153750]
[2037,2019,4,54583770]
[2037,2018,4,43655720]
[2037,2017,4,42335610]
[2037,2016,4,35428810]
[2037,2015,4,37601410]
[2037,2014,4,26864750]
[2037,2013,4,15858680]
[2037,2012,4,12903410]
[2037,2011,4,5370738]
[2037,2010,4,3373908]
[2037,2009,4,3104068]
[2037,2008,4,1379703]
[2037,2007,4,4758481]
[2038,2038,6,89689.1015625]
[2038,2037,6,88910.6015625]
[2038,2036,6,89258.3984375]
[2038,2035,6,90347.296875]
[2038,2034,6,91155]
[2038,2033,6,89321.296875]
[2038,2032,6,86993.8984375]
[2038,2031,6,85006.5]
[2038,2030,6,82055.703125]
[2038,2029,6,79477.1015625]
[2038,2028,6,77518.1015625]
[2038,2027,6,75333.203125]
[2038,2026,6,72788.6015625]
[2038,2025,6,69200.3984375]
[2038,2024,6,66352.8984375]
[2038,2023,6,64854.30078125]
[2038,2022,6,61501.5]
[2038,2021,6,53314.1015625]
[2038,2020,6,51303.19921875]
[2038,2019,6,50550.30078125]
[2038,2018,6,42815]
[2038,2017,6,44778.5]
[2038,2016,6,40663.8984375]
[2038,2015,6,46561.3984375]
[2038,2014,6,36680.3984375]
[2038,2013,6,24129.30078125]
[2038,2012,6,21876.099609375]
[2038,2011,6,10455.5]
[2038,2010,6,7711.68994140625]
[2038,2009,6,8475.83984375]
[2038,2008,6,25802.80078125]
[2038,2038,4,324856604]
[2038,2037,4,322035896]
[2038,2036,4,323295700]
[2038,2035,4,327240504]
[2038,2034,4,312755396]
[2038,2033,4,289404100]
[2038,2032,4,265247600]
[2038,2031,4,242952200]
[2038,2030,4,218846200]
[2038,2029,4,196789100]
[2038,2028,4,177132600]
[2038,2027,4,157751900]
[2038,2026,4,138521100]
[2038,2025,4,118475500]
[2038,2024,4,100927200]
[2038,2023,4,86260900]
[2038,2022,4,70054830]
[2038,2021,4,57101790]
[2038,2020,4,51458120]
[2038,2019,4,47264010]
[2038,2018,4,37118960]
[2038,2017,4,35774940]
[2038,2016,4,29721340]
[2038,2015,4,30864320]
[2038,2014,4,21819120]
[2038,2013,4,12711720]
[2038,2012,4,10036510]
[2038,2011,4,4085603]
[2038,2010,4,2488803]
[2038,2009,4,2158817]
[2038,2008,4,4816714]
[2039,2039,6,90211.3984375]
[2039,2038,6,89909]
[2039,2037,6,89128.6015625]
[2039,2036,6,89477.296875]
[2039,2035,6,90568.8984375]
[2039,2034,6,90361.1015625]
[2039,2033,6,87546.5]
[2039,2032,6,85265.296875]
[2039,2031,6,82368.703125]
[2039,2030,6,79509.5]
[2039,2029,6,77010.8984375]
[2039,2028,6,74247.5]
[2039,2027,6,72154.796875]
[2039,2026,6,68905.203125]
[2039,2025,6,65508.3984375]
[2039,2024,6,62812.8984375]
[2039,2023,6,60670.3984375]
[2039,2022,6,57533.8984375]
[2039,2021,6,49279.6015625]
[2039,2020,6,47420.8984375]
[2039,2019,6,46160.80078125]
[2039,2018,6,39097.19921875]
[2039,2017,6,40890.1015625]
[2039,2016,6,36679]
[2039,2015,6,41998.6015625]
[2039,2014,6,33085.80078125]
[2039,2013,6,21495.400390625]
[2039,2012,6,19488.19921875]
[2039,2011,6,9314.25]
[2039,2010,6,6783.830078125]
[2039,2009,6,25886.099609375]
[2039,2039,4,329191200]
[2039,2038,4,328087708]
[2039,2037,4,325239796]
[2039,2036,4,326511896]
[2039,2035,4,313067096]
[2039,2034,4,294962596]
[2039,2033,4,268928500]
[2039,2032,4,245513700]
[2039,2031,4,221323700]
[2039,2030,4,198341200]
[2039,2029,4,177289600]
[2039,2028,4,156640800]
[2039,2027,4,138341500]
[2039,2026,4,118852000]
[2039,2025,4,100387700]
[2039,2024,4,84170180]
[2039,2023,4,69624760]
[2039,2022,4,62082200]
[2039,2021,4,49797860]
[2039,2020,4,44669370]
[2039,2019,4,40318770]
[2039,2018,4,31469510]
[2039,2017,4,30110150]
[2039,2016,4,24495370]
[2039,2015,4,25169460]
[2039,2014,4,17560500]
[2039,2013,4,9935587]
[2039,2012,4,7672150]
[2039,2011,4,3028473]
[2039,2010,4,1740778]
[2039,2009,4,4868385]
[2040,2040,6,90486]
[2040,2039,6,90313.796875]
[2040,2038,6,90011]
[2040,2037,6,89229.796875]
[2040,2036,6,89578.796875]
[2040,2035,6,89378.6015625]
[2040,2034,6,87883.6015625]
[2040,2033,6,85146.203125]
[2040,2032,6,81710.296875]
[2040,2031,6,78934.5]
[2040,2030,6,76194.5]
[2040,2029,6,72700.6015625]
[2040,2028,6,70091.796875]
[2040,2027,6,67086.1015625]
[2040,2026,6,64064.80078125]
[2040,2025,6,60906.69921875]
[2040,2024,6,57503.80078125]
[2040,2023,6,55542.30078125]
[2040,2022,6,51849.6015625]
[2040,2021,6,44410.8984375]
[2040,2020,6,42058.80078125]
[2040,2019,6,40941.1015625]
[2040,2018,6,34676.30078125]
[2040,2017,6,35682.69921875]
[2040,2016,6,32007.900390625]
[2040,2015,6,36650]
[2040,2014,6,28400]
[2040,2013,6,18451.099609375]
[2040,2012,6,16728.099609375]
[2040,2011,6,7862.1201171875]
[2040,2010,6,25622.099609375]
[2040,2040,4,334474704]
[2040,2039,4,333838100]
[2040,2038,4,332719000]
[2040,2037,4,329831184]
[2040,2036,4,313660700]
[2040,2035,4,295538300]
[2040,2034,4,273464700]
[2040,2033,4,248350100]
[2040,2032,4,222401300]
[2040,2031,4,199460400]
[2040,2030,4,177684600]
[2040,2029,4,155366200]
[2040,2028,4,136128900]
[2040,2027,4,117214900]
[2040,2026,4,99448650]
[2040,2025,4,82674200]
[2040,2024,4,66846480]
[2040,2023,4,60710280]
[2040,2022,4,53074330]
[2040,2021,4,42376650]
[2040,2020,4,37212330]
[2040,2019,4,33380970]
[2040,2018,4,25865660]
[2040,2017,4,24139010]
[2040,2016,4,19430830]
[2040,2015,4,19704450]
[2040,2014,4,13297230]
[2040,2013,4,7358042]
[2040,2012,4,5509587]
[2040,2011,4,2043639]
[2040,2010,4,4881237]

{"sheet":"BatteryAPU","index":8,"n_rows":49,"n_cols":10,"rows_kept":49,"cut":false,"hidden":true,"merged":[]}
["pollutantid","Mygroupid","inventory","activity","emissionRates",null,"unites","energy content of diesel"]
[2,1,580992425.310058,3434839590,169.14688738348201,{"$f":"(E2/H26)*$H$4","v":2.4629961891919665},"g/hr",0.13700000000000001,"MMBTU/gal"]
[2,2,83722721.122192293,2394832375,34.959741648804197,{"$f":"(E3/H27)*$H$4","v":0.51040516542010772},null,"battery APU fuel use rate"]
[2,3,464454309.70751899,3450534586,134.60358043996101,1.8902962934583041,null,0.109,"gal/hr"]
[2,4,2288017814.64257,28045322993,81.582865535677996,1.325151885074707]
[2,5,725566903.35156202,10854165972,66.846859097536793,1.2650641125233737]
[2,6,2452241521.0546799,39053341874,62.7921044239054,{"$f":"(E7/H31)*$H$4","v":1.3591100525446922},null,null,{"$f":"H4*H2","v":1.4933000000000002E-2},"MMBTU/hr"]
[3,1,2251503249.8066401,3434839590,655.49007189783799,{"$f":"(E8/H26)*$H$4","v":9.5447783527774437}]
[3,2,707403455.26611304,2394832375,295.387461206387,{"$f":"(E9/H27)*$H$4","v":4.3125972587165453}]
[3,3,653620762.22753894,3450534586,189.42594138296701,2.6601904177488627]
[3,4,3746590411.6953101,28045322993,133.59056027382599,2.1699137632966394]
[3,5,1176345037.3125,10854165972,108.37728484593499,2.051019532140856]
[3,6,3822385053.1875,39053341874,97.876004197537696,2.1184870682107078]
[87,1,120455285.62939399,3434839590,35.068678601493097,{"$f":"(E14/H26)*$H$4","v":0.51064505585404107}]
[87,2,11790163.4560546,2394832375,4.92316856041111,{"$f":"(E15/H27)*$H$4","v":7.1877266391459652E-2}]
[87,3,18787663.555328298,3450534586,5.4448558874199797,7.6464466017644034E-2]
[87,4,100644264.158813,28045322993,3.5886291694316999,5.8290165189488485E-2]
[87,5,28529633.90625,10854165972,2.6284501250346199,4.9742919407583644E-2]
[87,6,90600056.183593705,39053341874,2.3199053355254899,{"$f":"(E19/H31)*$H$4","v":5.0213425579417083E-2}]
[90,1,273758481792.75,3434839590,79700.514280129704,{"$f":"(E20/H26)*$H$4","v":1160.5419761792743}]
[90,2,190365953174.75,2394832375,79490.303856757397,{"$f":"(E21/H27)*$H$4","v":1160.5423774832348}]
[90,3,285150353277.625,3450534586,82639.471122700095,{"$f":"(E22/H28)*$H$4","v":1160.5418328843955}]
[90,4,2003801256178,28045322993,71448.678151367305,{"$f":"(E23/H29)*$H$4","v":1160.5421054617725}]
[90,5,665619142252,10854165972,61323.840446982897,{"$f":"(E24/H30)*$H$4","v":1160.5420335216027}]
[90,6,2093965546256,39053341874,53618.088639171401,1160.5421403902969,"MMBTU/hr","running fuel use rate"]
[91,1,3522522659.6884699,3434839590,1025.52755882509,{"$f":"I7","v":1.4933000000000002E-2},{"$f":"E26/1000","v":1.0255275588250901},{"$f":"G26/$H$2","v":7.4856026191612406},"gal/hr"]
[91,2,2449488130.64746,2394832375,1022.8223721284201,0,{"$f":"E27/1000","v":1.02282237212842},{"$f":"G27/$H$2","v":7.4658567308643784},"gal/hr"]
[91,3,3669105330.6640601,3450534586,1063.34402372052,0,{"$f":"E28/1000","v":1.0633440237205201},7.7616352096388317,"gal/hr"]
[91,4,25783436910.8046,28045322993,919.34890239060996,0,0.91934890239060996,6.7105759298584662,"gal/hr"]
[91,5,8564696809.03125,10854165972,789.070006035029,0,0.78907000603502897,5.7596350805476559,"gal/hr"]
[91,6,26943603695.1875,39053341874,689.91800451078302,0,0.689918004510783,5.0358978431444008,"gal/hr"]
[98,1,273843188555.625,3434839590,79725.175333624502,{"$f":"(E32/H26)*$H$4","v":1160.9010728302308}]
[98,2,190601457516.625,2394832375,79588.642406183004,{"$f":"(E33/H27)*$H$4","v":1161.9781004382546}]
[98,3,285382663419.5,3450534586,82706.796963402405,1161.4873187824494]
[98,4,2004919889361,28045322993,71488.564772864906,1161.1899845393184]
[98,5,666028742740,10854165972,61361.577154626502,1161.2561935466092]
[98,6,2095390982812,39053341874,53654.588372295402,1161.332162554057]
[100,1,115268855.21728501,3434839590,33.558730239651503,{"$f":"(E38/H26)*$H$4","v":0.48865826603708767}]
[100,2,3170595.7169074998,2394832375,1.3239322092042001,{"$f":"(E39/H27)*$H$4","v":1.9329142790361329E-2}]
[100,3,4262520.7687683096,3450534586,1.23532185014542,1.7348158993434115E-2]
[100,4,41591939.525482103,28045322993,1.4830258697987999,2.4088814655805341E-2]
[100,5,11155143.3105468,10854165972,1.02772919995173,1.9449579917498329E-2]
[100,6,35751775.041625902,39053341874,0.91546006887128695,1.9814768014568124E-2]
[110,1,106047011.34570301,3434839590,30.873934158218699,{"$f":"(E44/H26)*$H$4","v":0.44956418266601955}]
[110,2,2916939.40665435,2394832375,1.2180140193128699,{"$f":"(E45/H27)*$H$4","v":1.7782758615799449E-2}]
[110,3,3921506.0950164702,3450534586,1.1364923310513599,1.5960253315017953E-2]
[110,4,38264466.520522997,28045322993,1.3643795983406399,2.2161641232225259E-2]
[110,5,10262699.4749145,10854165972,0.94550788161787502,1.7893557083923598E-2]
[110,6,32891528.5388183,39053341874,0.84222058754761997,1.8229528656476802E-2]