{"text_format":"1","workbook":"xlsx","n_sheets":15,"sheets":["Overview","Guidance","General Project Information","Waterbody Information","Swales","Filter Strip","PSHs & Energy Diss.","Level Spreader & HSB","Other Toolbox BMPs","Other Non-Toolbox BMPs","Bridge to Culvert","Summary List","SCM Summary","CAMA Map","Picklists"],"not_rendered":{"charts":0,"images":11,"macros":0,"external_links":1,"defined_names":83,"comments":2,"pivot_tables":0},"unopened":[],"bounds":{"document_bytes":16777216,"sheet_cells":100000,"rows_first":2000,"rows_last":500,"rows_between":2000,"halvings":0,"cell_chars":16384,"cell_head_chars":4096},"cells_cut":0,"cells_raw":0,"read":"whole","date_system":"1900"}

{"sheet":"Overview","index":0,"n_rows":22,"n_cols":3,"rows_kept":22,"cut":false,"hidden":false,"merged":[[9,0,9,2],[0,0,0,2],[1,0,1,2],[2,0,2,2],[3,0,3,2],[8,0,8,2],[6,0,6,2],[7,0,7,2],[4,0,4,2],[5,0,5,2]]}
["North Carolina Department of Transportation"]
["Highway Stormwater Program"]
["STORMWATER MANAGEMENT PLAN\nFOR NCDOT PROJECTS"]
[]
["Overview"]
["\nIntroduction\nThe Stormwater Management Plan (SMP) is used to evaluate and present mitigation efforts for potential stormwater runoff impacts to surface waters.  The SMP form documents both the Preliminary SMP and the final SMP.   A Preliminary Stormwater Management Plan (pSMP) is developed during the preliminary hydraulic recommendation phase (2HY1) and specifically identifies characteristics of waterbodies that will be crossed during the project.  The pSMP establishes the stormwater treatment goals, which helps inform subsequent drainage design decisions and establish reasonable expectations for design engineers and regulatory approvers. The SMP summarizes project stormwater management information including post-construction stormwater best management practices (BMPs) selected to mitigate stormwater impacts. The pSMP consists of only the \"General Project Information\" and \"Waterbody Information\" tabs of the SMP form and the NC-SELDM Catalog Reports Basin Characteristic Reports for each highway-stream crossing, in order as found on the project. \n\nThe final SMP is prepared as part of the Complete Hydraulic Design (2HY1) and documents the stormwater management decisions made for the project.  The  information within the pSMP and SMP is used to support compliance with the Department’s NPDES permit as well as other federal and state environmental permit applications during the design stage of a project. \n\nThis SMP form was developed for use on NCDOT roadway and bridge replacement projects and is being made available for non-road projects; however, some fields and sheets may not apply.\n\n\n"]
["Instructions\n\nGeneral guidelines for filling out the form:\n- See the \"Guidance\" tab for definitions and links to resources where requested information can be found.\n- See the \"Overview\" tab regarding fillable cells and worksheet protection. Many of the cells in the form have drop down menus which must be used. Selected cells provide separate instructions for the pSMP and the SMP.\n- The workbook has been distributed with some cells protected in order to preserve formatting and formulas.  Cell protection may be removed from each tab by selecting \"Unprotect Sheet\" under the Excel \"Review\" ribbon or by clicking \"File\" on the Excel ribbon and deactivating the \"Protect Current Sheet\" button under the \"Protect Workbook\" dropdown.\n- Fill out the applicable worksheets (not all sheets are required for all projects) with yellow tabs as completely as possible. The yellow cells within each worksheet should be filled in by the user. Some fields contain a pull-down list of options, but allow unique values to be entered. Further explanation of terms is provided in one of two ways: (1) click on the yellow cell of interest to display a message that describes what should be entered, or (2) click on the Guidance tab and scroll to the term and corresponding definition of interest for a more complete explanation. \n- Space is provided at the bottom of each worksheet or at the end of each row to include any additional comments that apply to a given section of the SMP.  If needed, additional space can be created by unprotecting the sheet as described above, or by simply attaching additional documentation to the form. "]
["General guidelines for filling out the pSMP:\n- If the PCSP does not require a SMP, then a pSMP is not needed either.\n- Complete only the \"General Project Information\" and \"Waterbody Information\" tabs.\n- Using the information in the pSMP, run the NC-SELDM Catalog for any blueline stream crossings as shown on the StreamStats application. This may include stream crossings in addition to the major stream crossings reported in the Hydraulic Planning Report. See the NC-SELDM Catalog for specific instructions.\n- NC-SELDM Catalog reports should be saved and accompany the pSMP.\n- The pSMP should be saved in PDF format and only include the applicable tabs. The PDF shall be saved using the following naming convention: [Project/TIP No.]_HYD_pSMP_[YYYYMMDD] and submitted via one of the two following methods. Any project that is on the Preconstuction Site (https://connect.ncdot.gov/site/preconstruction/SitePages/Home.aspx) should upload the pSMP  to the Preconstruction site. For any projects not on the Preconstruction site such as Division, LAP, and maintenance, please submit the PDF of the pSMP via email to NCDOT_Hydraulics_SMP@ncdot.gov. The supporting NC-SELDM Catalog and StreamStats reports should be saved as PDFs in two separate zip files and uploaded to the Preconstruction Site or submitted via email. \n- The pSMP is required to be uploaded but is not required to be approved.\n\n\n"]
["General guidelines for filling out the SMP:\n-The SMP should be saved in PDF format and only include the applicable tabs. The PDF shall be saved using the following naming convention: [Project/TIP No.]_HYD_SMP_[YYYYMMDD] and submitted via one of the two following methods  prior to the project being LET or awarded.   Any project that is on the Preconstruction site should submit  the SMP  through the ATLAS Workbench to the Preconstruction site. For any projects not on the Preconstruction Site such as Division, LAP, and maintenance, please submit the PDF of the SMP via email to NCDOT_Hydraulics_SMP@ncdot.gov.\n\n*** Note that submittal of the pSMP or the SMP to the Hydraulics Unit is not part of any permit approval process. The pSMP, the final SMP and all attachments should be maintained as separate documents in the project files.*** "]
["Guidance for completing the SCM Summary:\n-For instructions on the SCM Summary sheets please see \"Completing 3D Series Hydraulic Summary Plan Sheets, Including Drainage Summary Sheets and Stormwater Control Measure Summary Sheets\" guidance document located on the Hydraulics Connect site under the Guidelines for Drainage Studies section, Additional Resources.\nhttps://connect.ncdot.gov/resources/hydro/Pages/Guidelines-Drainage-Studies.aspx\n"]
["Version Number","Revision Date","Revision Summary"]
[3,"2021-08-05","Released for use."]
[3.01,"2021-12-28","Corrected typos on 'Overview' tab"]
[3.02,"2024-04-23","pSMP instruction revisions, additional Guidance for Non-Toolbox BMPs, updated NCDEQ River Basin Map link"]
[]
[]
[]
[]
[]
[]
[]
[{"$f":"'General Project Information'!A6","v":"(Version 3.02; Released April 23, 2024)"}]

{"sheet":"Guidance","index":1,"n_rows":160,"n_cols":2,"rows_kept":160,"cut":false,"hidden":false,"merged":[[126,0,126,1],[0,0,0,1],[5,0,5,1],[7,0,7,1],[3,0,3,1],[17,0,18,0],[4,0,4,1],[8,0,8,1],[6,0,6,1],[117,0,117,1],[118,0,118,1],[137,0,137,1],[105,0,105,1],[51,0,51,1],[9,0,9,1],[30,0,30,1],[69,0,69,1],[80,0,80,1],[94,0,94,1],[106,0,106,1],[52,0,52,1],[70,0,70,1],[81,0,81,1],[95,0,95,1],[107,0,107,1],[127,0,127,1],[93,0,93,1]]}
["Note:  For more information or guidance on the definitions provided below, reference the NCDOT Hydraulics Unit website,"]
["https://connect.ncdot.gov/resources/hydro/Pages/default.aspx"]
[]
["General Guidance"]
["Referenced Documents"]
["North Carolina Department of Transportation (NCDOT) Stormwater Best Management Practices (BMP) Toolbox (2014)"]
["https://connect.ncdot.gov/resources/hydro/Pages/HSPProgramPages.aspx?PGM=BMPT"]
["Federal Highway Administration (FHWA) Hydraulic Engineering Circular No. 14 (HEC-14), Third Edition, July 2006"]
["http://www.fhwa.dot.gov/engineering/hydraulics/pubs/06086/hec14.pdf"]
["General Project Information"]
["WBS Element:","The Work Breakdown Structure (WBS) Element is a unique project identifying number used by NCDOT's SAP management system. All projects have a WBS element. \n"]
["TIP/Proj No.:","If the project is a Transportation Improvement Program (TIP) project, provide the TIP Project Number.  If the project is not part of a TIP project, add the contract number, project number, or other unique identification.\n"]
["Project Type:","Provide type of project activity. If \"Other\", explain in the General Project Narrative. \n"]
["NCDOT Contact:","Provide contact information for the project NCDOT representative.\n"]
["Contractor/Designer:","Provide contact information for the project contractor or designer.\n"]
["City/Town:","Provide either the municipality where the project takes place, or the nearest municipality to the project.\n"]
["County(ies):","Provide the county where the project takes place.  Include more than one county if necessary.\n"]
["River Basin(s):  ","Provide the river basin in which the project takes place, from the 17 major river basins identified in North Carolina. Provide more than one river basin if necessary.  More information on river basins, including interactive mapping tools, can be found on the North Carolina Department of Environment and Natural Resources (NCDENR) website, "]
[null,"https://experience.arcgis.com/experience/d6387977847643308aee59517ccdaad9/"]
["CAMA County:","Indicates whether the project occurs in a county subject to the Coastal Area Management Act (CAMA), administered by the Coastal Resources Commission.  Cell populates based on selection in \"County(ies)\" cell.  The \"CAMA Map\" tab illustrates these counties. A list of CAMA counties is provided on the North Carolina Division of Coastal Management website, "]
[null,"http://deq.nc.gov/about/divisions/coastal-management/about-coastal-management/cama-counties"]
["Wetlands within Project Limits?","Indicate whether wetlands are present within the project limits."]
["Project Length:","Provide linear length of entire project. Enter \"N/A\" for non-road projects.\n"]
["Surrounding Land Use:","Provide general information on the project area surrounding land uses.\n"]
["Project Built-Upon Area (BUA):","The portion of a project that is covered by impervious or partially impervious surface including, but not limited to buildings; pavement and gravel areas such as roads, parking lots and paths; and recreation facilities such as tennis courts.  Refer to NC Session Law 2006-246 for full definition.\n"]
["Typical Cross Section:","Provide a brief description of the design or existing typical cross section, including median types and dimensions, if applicable. Note if the typical section is shoulder or curb and gutter. Enter \"N/A\" for non-road projects.\n"]
["Annual Average Daily Traffic (design/future):","Provide the estimated design Annual Average Daily Traffic (AADT) within the project area (20-yr projection, typ.).  Provide the year for which this estimation was made. The proposed AADT may be found as part of preliminary roadway design documents. Enter \"N/A\" for non-road projects.\n"]
["Annual Average Daily Traffic (existing):","Provide the existing Annual Average Daily Traffic (AADT) for the project area and the year in which the estimate was performed. Enter \"N/A\" for non-road projects. AADT for a roadway may be obtained from NCDOT's Traffic Survey Unit website,"]
[null,"https://connect.ncdot.gov/resources/State-Mapping/Pages/Traffic-Survey-Group.aspx"]
["General Project Narrative: \n(Description of Minimization of Water Quality Impacts)","Provide a summary of the current project area, including reference to NCDOT and non-NCDOT roadways in the project area, and facility type. Describe proposed improvements. Pressing 'ALT + Enter' will create a carriage return within the cell and advance the cursor to the next line.\n\nProvide a brief description of any known or potential stormwater and water quality impacts as well as the preliminary determination results of the SELDM Catalog. For each highway-stream crossing, document if the SELDM Catalog recommended minimum stormwater control measures, a BMP Toolbox stormwater control measure, or no stormwater control measure needed. Use the stream crossing name/ID found in the Natural Resource Technical Report (NRTR) for consistency. Refer to 'Detailed Instructions' tab of SELDM Catalog for instructions. \n\nAlso, identify any existing stormwater controls from previous NCDOT project permits or those which may be owned by others. "]
["Waterbody Information"]
["Surface Water Body:","Provide the first named surface water to which runoff from the project area drains.  If runoff from the project area drains to an unnamed tributary, provide the first named stream downstream of the unnamed tributary.  Surface waters within the project area can be found from 7.5-minute USGS Topographic Maps, among other resources. If there are multiple water bodies, they should each be documented in the additional spaces provided in order according to station.\n"]
["NCDWR Stream Index:","Provide the North Carolina Division of Water Resources' (NCDWR) stream index number for the water body (previously identified).  The stream index can be found on the NCDWR Surface Water Classifications map tool.  To find the mapping tool, refer to the NCDWR Classifications website,"]
[null,"https://deq.nc.gov/about/divisions/water-resources/planning/classification-standards/classifications"]
["NCDWR Surface Water Classification:","Designations applied to surface water bodies by NCDWR which define the best uses to be protected within these waters and carry with them an associated set of water quality standards to protect those uses. Surface water classifications can be found through the environmental documents for the project, as well as from NCDWR's Classifications and Standards Unit (CSU) website,"]
[null,"https://deq.nc.gov/about/divisions/water-resources/planning/classification-standards/classifications"]
["Primary (Surface Water Body Classification):","Provide primary classifications for the water body (previously defined).  For example, water bodies classified as WS-I are also protected as Class C.  All classifications should be listed in the spaces provided.  For more information on primary surface water classifications, refer to,"]
[null,"https://deq.nc.gov/about/divisions/water-resources/planning/classification-standards/classifications"]
["Supplemental (Surface Water Body Classification):","Provide any supplemental classifications for the water body (previously identified) per NCDWR's Classifications and Standards Unit (CSU).  For more information on supplemental surface water classifications, refer to,"]
[null,"https://deq.nc.gov/about/divisions/water-resources/planning/classification-standards/classifications"]
["Other Stream Classification: ","Provide any surface water classifications as determined by agencies other than NCDWR, including The NC Division of Parks and Recreation, NC Wildlife Resources Commission, the NC Division of Coastal Management, the NC Division of Environmental Health, and the Marine Fisheries Commission. Other surface water classifications are generally listed in the project's environmental documents."]
["Impairment:","If the water body is impaired, provide the type of water quality impairment.  Provide all impairments if more than one exists. Impaired waters and associated type of water quality impairment(s) are listed in the North Carolina Integrated Report.  For more information, refer to the following section of NCDWR's website,"]
[null,"http://deq.nc.gov/about/divisions/water-resources/planning/modeling-assessment/water-quality-data-assessment/integrated-report-files"]
["Aquatic Threatened/Endangered Species:","If threatened or endangered aquatic species (not terrestrial species) are present (indicate \"Yes\" or \"No\"), provide a brief description of the species and any related stormwater management measures used to protect the species of concern. Consult the project's Environmental Impact Statement (EIS) or Environmental Assessment (EA).\n"]
["NRTR Stream ID, if available:","If available, provide the ID assigned to the water body in the Natural Resource Technical Report (NRTR). If the ID includes a superscript, denote it by selecting the character and checking the \"Superscript\" box in the \"Font\" dialogue box. Or, use the carat symbol (^). Note that NRTRs are not completed for all projects. \"N/A\" may be entered for such cases.\n"]
["Buffer Rules in Effect:","Select the Riparian Area Buffer Rule that applies to your project, if applicable.  Otherwise, select \"N/A.\"  For more information, refer to the following section of NCDWR's website, "]
[null,"https://deq.nc.gov/about/divisions/water-resources/water-quality-permitting/401-buffer-authorization/riparian-buffer"]
["Project Includes Bridge Spanning Water Body?","Indicate whether a bridge spanning the listed water body is included as part of the project. If \"Yes,\" be sure to describe all bridge BMPs that were used in the General Project Narrative. Refer to Chapter 9 of the Toolbox for additional information.\n"]
["Deck Drains Discharge Over Water Body?","Note that this cell will automatically be populated with \"N/A\" if \"No\" was selected in the previous cell; and will be blank if \"Yes\" was selected in the previous Cell. \n\nIndicate whether deck drains discharge over the listed water body. \nFor the pSMP, assuming a Yes response in the previous cell, leave this cell blank but discuss in the General Project Narrative section whether or not a distributed direct discharge is being considered (including consideration of the SELDM Catalog output) for each crossing. \nFor the SMP, assuming a Yes response in the previous cell, indicate whether deck drains discharge over the listed water body and provide justification in the General Project Narrative section. Specifically, indicate why direct discharge could not be avoided."]
["Deck Drains Discharge Over Buffer?","For the pSMP, leave this cell blank. For the SMP, indicate whether deck drains discharge over the riparian buffer. Note that this cell will automatically be populated with \"N/A\" if \"N/A\" is selected for \"Buffer Rules in Effect\" or if \"No\" was selected under \"Project Includes Bridge Spanning Water Body.\" If \"Yes\" is selected, provide justification in the General Project Narrative section and then indicate whether dissipator pads were used."]
["Dissipator Pads Provided in Buffer?","For the pSMP, leave this cell blank. For the SMP, indicate whether dissipator pads were provided in the buffer underneath deck drains. Note that this cell will automatically be populated with \"N/A\" if \"No\" or \"N/A\" is contained in the previous cell.  If \"Yes\" is selected, describe the dimensions and materials used for the pads. If \"No\" was selected, provide justification for why dissipator pads were not provided.\n"]
["Swales"]
["If a swale is designed for water quality treatment per the BMP Toolbox, it should be identified as a BMP on the Swales tab. Any swale that should be included in the Inspection and Maintenance (I&M) Program should be identified on the Swales tab.   Grass swales identified as BMPs should be located within the normal mowing pattern. The Hydraulic Design Engineer should consult with Division representatives  to confirm the planned  extent of the mowing pattern.\n\nUse of vegetated conveyance is also beneficial for water quality, but does not always meet the definition of a swale. Roadside channels or ditches that that are not designed specifically for water quality treatment per the Toolbox should not be recorded on the swale tab but should be described in the General Project Narrative area.  A continuous swale that changes cross-section along the run (i.e.. A ‘V’ swale that widens to a base swale as it moves further downstream) should be recorded as 1 swale in the SMP and not multiple as the cross-section, slope etc. change."]
["Sheet No.:","Provide the plan sheet number on which the applicable swale section begins.\n"]
["Station & Coordinates (Road and Non Road Projects):","Road and Non Road Projects: provide the project station (i.e., alignment, station, and right or left; e.g., -L- 12+73 Rt.) and coordinates (latitude/longitude, decimal degrees) for the downslope end of the swale (e.g., 35.764498 / -78.578803).\n\n"]
["Surface Water Body:","Select the water body that the swale eventually drains to. Refer to the water bodies listed on the General Project Information sheet (drop down values are based on these). If only one water body was listed, that water body will be entered automatically after a Sheet No. is entered (via the \"IF\" formula that resides in the cell unless it is replaced by the user with a value from the drop down list). Note that water body names do not automatically synchronize with those on the General Project Information sheet and that they will need to be updated if any revisions are made to the water body names on the General Project Information sheet.\n"]
["Base Width:","Provide base width of swale.  Base width is equal to zero for V-ditch geometry.\n"]
["Front Slope:","Provide the front slope (nearest the road) of swale. Enter only the horizontal change as it relates to 1 unit of vertical change. For example, for a 3:1 slope, enter \"3\" into the cell.\n"]
["Back Slope:","Provide the back slope (furthest from road) of swale. Enter only the horizontal change as it relates to 1 unit of vertical change. For example, for a 3:1 slope, enter \"3\" into the cell.\n"]
["Drainage Area:","Provide the total drainage area flowing to the listed swale section in acres.  \n"]
["Length Recommended for Treatment:","A treatment length of 100 feet for every one acre of drainage area,  as is recommended by the NCDOT Stormwater Best Management Practices Toolbox (2014), is automatically calculated.\n"]
["Actual Length:","Input actual linear length of swale.\n"]
["Longitudinal Slope:","Input longitudinal slope of swale.\n"]
["Q2:","Provide the 2-year storm event peak flow rate (in cubic feet per second) through the swale section listed.\n"]
["V2:","Provide the 2-year storm event velocity (in feet per second) through the swale section listed.\n"]
["Q10:","Provide the 10-year storm event peak flow rate (in cubic feet per second) through the swale section listed.\n"]
["V10:","Provide the 10-year storm event velocity (in feet per second) through the swale section listed.\n"]
["Rock Check Dams Used:","Indicate if rock check dams are installed within swale channel.\n"]
["Swale Installed for Buffer Compliance?","Indicate whether the swale was used for buffer compliance. If \"Yes,\" use the Additional Comments box to describe how the swale was used to meet buffer protection requirements.\n"]
["Filter Strip"]
["If a filter strip is designed for water quality treatment per the BMP Toolbox, it should be identified as a BMP on the Filter Strip tab. Any filter strip that should be included in the  Inspection and Maintenance (I&M) Program should be identified on the Filter Strip tab. Any filter strips not documented on the Filter Strip tab, should be described in the General Project Narrative area."]
["Sheet No.:","Provide the plan sheet number on which the applicable filter strip begins.\n"]
["Station & Coordinates (Road and Non Road Projects):","Road and Non Road Projects: provide the project station (i.e., alignment, station, and right or left; e.g., -L- 12+73 Rt.) and coordinates (latitude/longitude, decimal degrees) for the downslope end mid-point of the filter strip (e.g., 35.764498 / -78.578803).\n"]
["Surface Water Body:","Select the water body that the filter strip eventually drains to. Refer to the water bodies listed on the General Project Information sheet (drop down values are based on these). If only one water body was listed, that water body will be entered automatically after a Sheet No. is entered (via the \"IF\" formula that resides in the cell unless it is replaced by the user with a value from the drop down list). Note that water body names do not automatically synchronize with those on the General Project Information sheet and that they will need to be updated if any revisions are made to the water body names on the General Project Information sheet.\n"]
["Drainage Area:","Provide the total drainage area flowing to the listed filter strip section in acres.  \n"]
["Surface Area:","Provide the estimated surface area of the filter strip section in acres. "]
["Drainage Area: Surface Area Ratio","The ratio of drainage area to surface area is automatically calculated and should be less than 10:1 as is recommended by the NCDOT Stormwater Best Management Practices Toolbox (2014)."]
["Actual Length:","Input length of filter strip in feet."]
["Longitudinal Slope:","Input longitudinal slope of filter strip in percent."]
["Filter Strip Installed for Buffer Compliance?","Indicate whether the filter strip was used for buffer compliance. If \"Yes,\" use the Additional Comments box to describe how the filter strip was used to meet buffer protection requirements.\n"]
["Preformed Scour Holes and Energy Dissipators"]
["PSHs not used solely for energy dissipation (e.g., PSHs used in associated with buffer compliance) should be listed on this tab. PSHs used solely for energy dissipation may be described in the general project narrative. Any PSH that should be included in the  Inspection and Maintenance (I&M) Program should be identified on this tab. Any PSHs not documented on this tab, should be described in the General Project Narrative area. Preferably, energy dissipators should be entered on this tab; however, describing them in the general project narrative is also acceptable. "]
["Sheet No.:","Provide the plan sheet number on which the applicable energy dissipator is shown.\n"]
["Station & Coordinates (Road and Non Road Projects):","Road and Non Road Projects: provide the project station (i.e., alignment, station, and right or left; e.g., -L- 12+73 Rt.) and coordinates (latitude/longitude, decimal degrees) for the downslope end of the energy dissipator (e.g., 35.764498 / -78.578803).\n"]
["Surface Water Body:","Select the water body that the energy dissipator eventually drains to. Refer to the water bodies listed on the General Project Information sheet (drop down values are based on these). If only one water body was listed, that water body will be entered automatically after a Sheet No. is entered (via the \"IF\" formula that resides in the cell unless it is replaced by the user with a value from the drop down list). Note that water body names do not automatically synchronize with those on the General Project Information sheet and that they will need to be updated if any revisions are made to the water body names on the General Project Information sheet.\n"]
["Energy Dissipator Type:","Provide the energy dissipator type located at the listed station.  Refer to FHWA HEC-14 for descriptions of types.  \n"]
["Riprap Type:","Provide riprap size used in energy dissipator.  Refer to NCDOT Standard Specification 1042 for riprap sizes.\n"]
["Drainage Area:","Provide the total drainage area flowing to the listed energy dissipator in acres.  \n"]
["Conveyance Structure:","List the hydraulic structure directly flowing to energy dissipator, including equalizer pipes.  \n"]
["Pipe/Structure Dimensions:","If conveyance structure is pipe, select the pipe diameter from the pull down list.  If not listed, manually input the pipe diameter.  For structures other than pipes, dimensions and standard acronyms are to be included, i.e., 2-8x8 RCBC\n"]
["Q10:","Provide the 10-year storm event peak flow rate (in cubic feet per second) flowing to energy dissipator listed.\n"]
["V10:","Provide the 10-year storm event velocity (in feet per second) exiting energy dissipator listed.\n"]
["PSH Installed for Buffer Compliance?","Indicate whether the PSH was used for buffer compliance. If \"Yes,\" use the Additional Comments box to describe how the PSH was used to meet buffer protection requirements.\n"]
["Level Spreaders, Hazardous Spill Basins, and Forebays"]
["All level spreaders, hazardous spill basins, and forebays included in the project should be listed on this tab."]
["Dual-purpose BMPs (such as hazardous spill basins that also function as dry detention basins) should be listed on both applicable worksheets. Fields documenting BMP type that utilize dropdown menus can be overwritten with manual entries. Users may enter \"HSB/DDB,\" for example. Include any necessary notes in the comment boxes to cross-reference entries and define the BMP's configuration. Record only the portion of the BMP's volume that pertains to its function on the worksheet. Note that a HSB/DDB must be designed to capture the WQv plus the spill volume in the event that a spill occurs during or following a rain event.\n\nFor example, consider a HSB/DDB with a drainage area of 0.75 ac that is entirely NBUA. The total volume of the HSB/DDB is 5,200 ft3, the required HSB volume is 2,360 ft3, the HSB volume provided is 2,500 ft3, and the dry detention portion (WQv) is 2,700 ft3. On the Level Spreaders, Hazardous Spill Basin, and Forebays tab, enter 2,360 for the Required/Minimum Treatment and 2,500 for the Treatment Achieved. Add notes in the Additional Comments field discussing the BMP's configuration, documenting the total BMP volume of 5,200 ft3, and referring to other applicable sheets (i.e., the Other BMPs sheet)."]
["Sheet No.:","Provide the plan sheet number on which the applicable stormwater best management practice (BMP) is shown.\n"]
["Station & Coordinates (Road and Non Road Projects):","Road and Non Road Projects: provide the project station (i.e., alignment, station, and right or left; e.g., -L- 12+73 Rt.) and coordinates (latitude/longitude, decimal degrees) for the downslope end* (e.g., 35.764498 / \n-78.578803).\n* LS = Center of Level Spreader Weir\n* HSB = On the Outlet Structure\n* Forebay = Center of the Forebay"]
["Surface Water Body:","Select the water body that the BMP eventually drains to. Refer to the water bodies listed on the General Project Information sheet (drop down values are based on these). If only one water body was listed, that water body will be entered automatically after a Sheet No. is entered (via the \"IF\" formula that resides in the cell unless it is replaced by the user with a value from the drop down list). Note that water body names do not automatically synchronize with those on the General Project Information sheet and that they will need to be updated if any revisions are made to the water body names on the General Project Information sheet.\n"]
["Level Spreader, Hazardous Spill Basin, or Forebay:","Indicate whether the BMP located at the listed station is a level spreader, hazardous spill basin, or forebay.\n"]
["Drainage Area:","Provide the total drainage area flowing to the listed BMP in acres.  \n"]
["New Built-Upon Area (NBUA):","The amount of added impervious or partially impervious surface draining to the BMP including, but not limited to buildings; pavement and gravel areas such as roads, parking lots and paths; and recreation facilities such as tennis courts.  Refer to NC Session Law 2006-246 for full definition.\n"]
["Required / Minimum Treatment:","Provide the required/minimum design treatment (including units) for the listed BMP type. For more information on the stormwater treatment calculation refer to the document, NCDOT Stormwater Best Management Practices Toolbox (2014). Minimum treatment criteria will automatically populate based on BMP type selection.\n"]
["Treatment  Achieved:","Provide the actual treatment achieved (including units).  For more information on the stormwater treatment calculation refer to the document, NCDOT Stormwater Best Management Practices Toolbox (2014).  \n"]
["BMP Installed for Buffer Compliance?","Indicate whether the BMP was used for buffer compliance. If \"Yes,\" use the Additional Comments box to describe how the BMP was used to meet buffer protection requirements.\n"]
["Other Toolbox BMPs"]
["All bioretention basins, dry detention basins, filtration basins, infiltration basins, stormwater wetlands, wet detention basins, and BMP variations similar to these that are not listed on other sheets should be listed on this tab. "]
["Dual-purpose BMPs (such as hazardous spill basins that also function as dry detention basins) should be listed on both applicable worksheets. Fields documenting BMP type that utilize dropdown menus can be overwritten with manual entries. Users may enter \"HSB/DDB,\" for example. Include any necessary notes in the comment boxes to cross-reference entries and define the BMP's configuration. Record only the portion of the BMP's volume that pertains to its function on the worksheet. Note that a HSB/DDB must be designed to capture the WQv plus the spill volume in the event that the spill occurs during or following a rain event.\n\nFor example, consider a HSB/DDB with a drainage area of 0.75 ac that is entirely NBUA. The total volume of the HSB/DDB is 5,200 ft3, the required HSB volume is 2,360 ft3, the HSB volume provided is 2,500 ft3, and the dry detention portion (WQv) is 2,700 ft3. On the Other BMPs sheet, enter 0.062 ac-ft (2,700 ft3) under Volume Treated which results in 1.04\" of precipitation treated. Add notes in the Additional Comments field discussing the BMP's configuration, documenting the total BMP volume of 5,200 ft3, and referring to other applicable sheets (i.e., the Level Spreader, HSB, & Forebay sheet)."]
["Sheet No.:","Provide the plan sheet number on which the applicable BMP is shown.\n"]
["Station & Coordinates (Road and Non Road Projects):","Road and Non Road Projects: provide the project station (i.e., alignment, station, and right or left; e.g., -L- 12+73 Rt.) and coordinates (latitude/longitude, decimal degrees) for the downslope end* (e.g., 35.764498 / -78.578803).\n*On the Outlet Structure\n*If no Outlet Structure, use Center of Basin"]
["Surface Water Body:","Select the water body that the BMP eventually drains to. Refer to the water bodies listed on the General Project Information sheet (drop down values are based on these). If only one water body was listed, that water body will be entered automatically after a Sheet No. is entered (via the \"IF\" formula that resides in the cell unless it is replaced by the user with a value from the drop down list). Note that water body names do not automatically synchronize with those on the General Project Information sheet and that they will need to be updated if any revisions are made to the water body names on the General Project Information sheet.\n"]
["BMP Type:","Provide the BMP type located at the listed station.  Refer to the document, NCDOT Stormwater Best Management Practices Toolbox (2014), for approved NCDOT post-construction BMPs. \n"]
["Drainage Area:","Provide the total drainage area flowing to the listed BMP in acres.  \n"]
["New Built-Upon Area (NBUA):","The amount of added impervious or partially impervious surface draining to the BMP including, but not limited to buildings; pavement and gravel areas such as roads, parking lots and paths; and recreation facilities such as tennis courts.  Refer to NC Session Law 2006-246 for full definition.\n"]
["Volume Treated:","Provide the treatment volume achieved and the associated units of measure.\n"]
["Precipitation Depth Treated over NBUA:","Provide the precipitation depth treated (in inches) as calculated relative to the new built-upon area (i.e., [P = WQv/(3,450 ANBU)] with unit conversions as appropriate).\n"]
["BMP Installed for Buffer Compliance?","Indicate whether the BMP was used for buffer compliance. If \"Yes,\" use the Additional Comments box to describe how the BMP was used to meet buffer protection requirements.\n"]
["Other Non-Toolbox BMPs"]
["All bio-embankments, bio-filtration conveyances, bio-swales, infiltration chambers, permeable pavements, sand filters, and BMP variations similar to these that are not included in the Toolbox should be listed on this tab.  These BMPs need approval for use from the State Hydraulics Engineer. "]
["Sheet No.:","Provide the plan sheet number on which the applicable BMP is shown.\n"]
["Station & Coordinates (Road and Non Road Projects):","Road and Non Road Projects: provide the project station (i.e., alignment, station, and right or left; e.g., -L- 12+73 Rt.) and coordinates (latitude/longitude, decimal degrees) for the downslope end* (e.g., 35.764498 / -78.578803).\n*On the Outlet Structure\n*If no Outlet Structure, use Center of Basin"]
["Surface Water Body:","Select the water body that the BMP eventually drains to. Refer to the water bodies listed on the General Project Information sheet (drop down values are based on these). If only one water body was listed, that water body will be entered automatically after a Sheet No. is entered (via the \"IF\" formula that resides in the cell unless it is replaced by the user with a value from the drop down list). Note that water body names do not automatically synchronize with those on the General Project Information sheet and that they will need to be updated if any revisions are made to the water body names on the General Project Information sheet.\n"]
["BMP Type:","Provide the BMP type located at the listed station.  Refer to the document, NCDOT Stormwater Best Management Practices Toolbox (2014), for approved NCDOT post-construction BMPs. \n"]
["Drainage Area:","Provide the total drainage area flowing to the listed BMP in acres.  \n"]
["New Built-Upon Area (NBUA):","The amount of added impervious or partially impervious surface draining to the BMP including, but not limited to buildings; pavement and gravel areas such as roads, parking lots and paths; and recreation facilities such as tennis courts.  Refer to NC Session Law 2006-246 for full definition.\n"]
["BMP Installed for Buffer Compliance?","Indicate whether the BMP was used for buffer compliance. If \"Yes,\" use the Additional Comments box to describe how the BMP was used to meet buffer protection requirements.\n"]
["Bridge to Culvert Avoidance and Minimization"]
["The \"Bridge to Culvert Avoidance and Minimization\" sheet should be filled out for any project in the state involving a bridge converted to culvert(s)."]
["Sheet No.:","Provide the plan sheet number on which the culvert is shown.\n"]
["Station:","Provide the project station of the culvert.\n"]
["Drainage Area:","Provide the total area (in acres or square miles) draining to the culvert and indicate units of measure.\n"]
["Surface Water Body:","Select the water body associated with the culvert. Refer to the water bodies listed on the General Project Information sheet (drop down values are based on these). If only one water body was listed, that water body will be entered automatically (via the \"IF\" formula that resides in the cell unless it is replaced by the user with a value from the drop down list). Note that water body names do not automatically synchronize with those on the General Project Information sheet and that they will need to be updated if any revisions are made to the water body names on the General Project Information sheet.\n"]
["Culvert Type:","Indicate the type and material of construction for the culvert (e.g., \"Reinforced concrete box culvert).\n"]
["Number of Culverts:","Indicate the number of culverts to be installed.\n"]
["Culvert Width/Diameter (ft):","Provide the culvert width if rectangular or the diameter if circular.\n"]
["Culvert Height (ft):","Provide the culvert height if rectangular or type \"N/A\" if circular.\n"]
["Culvert Length (ft):","Provide the culvert length.\n"]
["Bridge to Culvert Avoidance and Minimization (Continued)"]
["Avoidance and Minimization Efforts: \n(Bridge to Culvert)","Provide a brief overview of bridge to culvert avoidance and/or minimization efforts and describe, in detail, any efforts that will not be captured in the remainder of the form. Some examples of minimization efforts include: culvert burial, low flow sill/baffles, slope considerations, velocity considerations, and culvert angle and stream bend considerations.\n"]
["Existing Average Stream Slope (%):","Provide the existing average slope (%) of the stream along the distance of the proposed culvert.\n"]
["Proposed Culvert Slope (%):","Provide the proposed culvert slope, in %.\n"]
["Existing Low Flow Channel Dimensions in the Stream:","Provide a description of the approximate average existing low flow channel dimensions for the stream. Indicate units of measure (typically feet).\n"]
["Proposed Low Flow Dimensions Through the Culvert:","Provide a description of the proposed low flow dimensions for the culvert. Indicate units of measure (typically feet).\n"]
["Existing Low Flow Velocities in the Stream (ft/s):","Provide the existing low flow velocities in the section of stream to be impacted by the culvert. Use the average spring flow if available. If unavailable, use bankfull flow.\n"]
["Proposed Low Flow Velocities Through the Culvert (ft/s):","Provide the proposed low flow velocities through the culvert. Use the average spring flow if available. If unavailable, use bankfull flow.\n"]
["Alternating Low Flow Sills/Baffles:","Indicate whether the culvert will have low flow sills and/or baffles and provide justification.\n"]
["Proposed Culvert Burial Depth (ft):","Provide the depth of burial of the culvert (i.e., the distance from the invert of the culvert to the elevation of the natural streambed).\n"]
["Existing Streambed Material:","Describe the existing streambed material (e.g., boulders, cobbles, gravel, sand).\n"]
["Proposed Sills/Baffles:","Describe the proposed sills and/or baffles in detail, including spacing, dimensions, and justification.\n"]
["Stream Patterns Up and Downstream of Culvert that Could Affect Fish Passage and Bank Stability:","Describe any characteristics of the stream and culvert that may prevent fish passage or bank stability (e.g., bends in the stream or changes in slope).\n"]
["Bed Forms Impacted by Culvert (riffles, pools, glides, etc.):","Describe the bed forms that will be affected by the culvert.\n"]
["Low Flow Floodplain Bench Required?","Indicate whether a low flow floodplain bench is required (yes/no) and provide justification.\n"]
["Sharp Bends at Inlet/Outlet?","Indicate whether there are any sharp bends at the inlet or outlet of the culvert (yes/no) and describe the general alignment of the culvert with the stream.\n"]
["Stream Realignment Necessary?","Indicate whether stream realignment is necessary (yes/no) and provide justification.\n"]
["Bank Stabilization:","Describe bank stabilization measures, including distances up and downstream where appropriate.\n"]
["Natural Stream Channel 2-yr Velocity (ft/s):","Provide the 2-year natural stream channel velocity.\n"]
["Proposed Culvert 2-yr Outlet Velocity (ft/s):","Provide the 2-year culvert outlet velocity.\n"]
["Natural Stream Channel 10-yr Velocity (ft/s):","Provide the 10-year natural stream channel velocity.\n"]
["Proposed Culvert 10-yr Outlet Velocity (ft/s):","Provide the 10-year culvert outlet velocity.\n"]
["Evaluate/Describe Roadway Geometric Constraints:","Describe any roadway constraints that prevent ideal culvert design and installation.\n"]

{"sheet":"General Project Information","index":2,"n_rows":534,"n_cols":27,"rows_kept":534,"cut":false,"hidden":false,"merged":[[442,3,442,10],[398,0,440,2],[398,3,440,14],[441,0,441,1],[397,3,397,10],[353,0,395,2],[353,3,395,14],[24,3,35,14],[24,0,35,2],[38,3,80,14],[38,0,80,2],[83,0,125,2],[83,3,125,14],[128,0,170,2],[128,3,170,14],[173,0,215,2],[173,3,215,14],[172,3,172,10],[171,0,171,1],[127,3,127,10],[126,0,126,1],[82,3,82,10],[533,0,575,2],[533,3,575,14],[531,0,531,1],[532,3,532,10],[488,0,530,2],[488,3,530,14],[487,3,487,10],[443,0,485,2],[443,3,485,14],[486,0,486,1],[22,8,22,14],[23,4,23,5],[19,7,19,14],[396,0,396,1],[352,3,352,10],[351,0,351,1],[307,3,307,10],[306,0,306,1],[262,3,262,10],[261,0,261,1],[217,3,217,10],[216,0,216,1],[218,0,260,2],[218,3,260,14],[263,0,305,2],[263,3,305,14],[308,0,350,2],[308,3,350,14],[36,0,36,1],[0,0,0,14],[3,0,3,14],[4,0,4,14],[5,3,5,10],[8,8,8,9],[10,3,10,6],[10,8,12,8],[7,3,7,10],[8,6,8,7],[8,3,8,4],[12,3,12,6],[10,2,12,2],[8,13,8,14],[13,3,13,6],[11,9,11,14],[12,9,12,14],[9,7,9,8],[13,9,13,14],[10,9,10,14],[14,9,14,14],[81,0,81,1],[15,8,15,9],[15,3,15,6],[21,0,21,2],[23,9,23,11],[22,3,22,7],[23,13,23,14],[14,3,14,6],[15,10,15,11],[16,10,16,11],[20,0,20,2],[23,0,23,2],[37,3,37,10],[20,8,20,14],[19,0,19,2],[21,11,21,14],[21,6,21,7],[15,0,15,2],[21,3,21,5],[22,0,22,2],[15,12,15,14],[19,5,19,6],[16,8,16,9],[17,0,17,2],[1,0,1,14],[16,5,16,6],[21,8,21,10],[17,4,17,14],[19,3,19,4],[18,3,18,10],[20,3,20,7],[16,3,16,4],[16,0,16,2],[16,12,16,14],[9,3,9,6],[11,3,11,6],[6,0,6,1],[8,10,8,11],[8,0,8,2],[9,9,9,14],[9,0,9,2]]}
["Please fill out all yellow cells as completely as possible.  Use pick lists where provided.  For more information on the NCDOT Stormwater Management Plan form, please refer to the document, NCDOT Stormwater Best Management Practices Toolbox (2014).",null,null,null,null,null,null,null,null,null,null,null,null,null,null,null,null,null,null,null,null,null,null,null,null,"# pages previous sheets:",0]
["If the project drains to multiple water bodies, please drag the print area down such that Water Bodies 2 through 6 print on Page 2",null,null,null,null,null,null,null,null,null,null,null,null,null,null,null,null,null,null,null,null,null,null,null,null,"# pages this sheet:",{"$f":"COUNT(M7,M37,M82,M127,M172,M217,M262,M307,M352,M397,M442,M487,M532)","v":1}]
[null,null,null,null,null,null,null,null,null,null,null,null,null,null,null,null,null,null,null,null,null,null,null,null,null,"# pages total:",{"$f":"AA2+0","v":1}]
["North Carolina Department of Transportation"]
["Highway Stormwater Program"]
["(Version 3.02; Released April 23, 2024)",null,null,"    STORMWATER MANAGEMENT PLAN\n    FOR NCDOT PROJECTS"]
["WBS Element:",null,{"$f":"$D$9&\"\"","v":""},"TIP/Proj No:",{"$f":"$G$9&\"\"","v":""},null,"County(ies):",{"$f":"$I$16&\"   \"&$K$16&\"   \"&$M$16&\" \"","v":"       "},null,null,null,"Page ",1,"of ",{"$f":"MAX(AA3,'Waterbody Information'!AA3,Swales!X3,'Filter Strip'!W3,'PSHs & Energy Diss.'!W3,'Level Spreader & HSB'!X3,'Other Toolbox BMPs'!W3,'Bridge to Culvert'!AA3)","v":1}]
[null,null,null,"General Project Information"]
["WBS Element:",null,null,null,null,"TIP Number:",null,null,"Project Type:",null,"Other",null,"Date:"]
["NCDOT Contact:",null,null,null,null,null,null,"Contractor / Designer:"]
[null,null,"Address:",null,null,null,null,null,"Address:"]
[]
[]
[null,null,"Phone:",null,null,null,null,null,"Phone:"]
[null,null,"Email:",null,null,null,null,null,"Email:"]
["City/Town:",null,null,null,null,null,null,"County(ies):"]
["River Basin(s):  ",null,null,null,null,null,null,"CAMA County?",{"$f":"IF(I16=\"\",\"\",IF(ISNA(VLOOKUP(I16,NC_CAMA_Counties,1,FALSE)),\"No\",\"Yes\"))","v":""},null,{"$f":"IF(K16=\"\",\"\",IF(ISNA(VLOOKUP(K16,NC_CAMA_Counties,1,FALSE)),\"No\",\"Yes\"))","v":""},null,{"$f":"IF(M16=\"\",\"\",IF(ISNA(VLOOKUP(M16,NC_CAMA_Counties,1,FALSE)),\"No\",\"Yes\"))","v":""}]
["Wetlands within Project Limits?"]
[null,null,null,"Project Description"]
["Project Length (lin. miles or feet):        ",null,null,null,null,"Surrounding Land Use:    "]
[null,null,null,"Proposed Project",null,null,null,null,"Existing Site"]
["Project Built-Upon Area (ac.)",null,null,null,null,null,"ac.",null,null,null,null,"ac."]
["Typical Cross Section Description:       "]
["Annual Avg Daily Traffic (veh/hr/day):",null,null,"Design/Future:",null,null,"Year:",null,"Existing:",null,null,null,"Year:"]
["General Project Narrative:\n(Description of Minimization of Water Quality Impacts)"]
[]
[]
[]
[]
[]
[]
[]
[]
[]
[]
[]
["WBS Element:",null,{"$f":"$D$9&\"\"","v":""},"TIP No.:",{"$f":"$G$9&\"\"","v":""},null,"County(ies):",{"$f":"$I$16&\"   \"&$K$16&\"   \"&$M$16&\" \"","v":"       "},null,null,null,"Page ",{"$f":"IF(D39<>\"\",MAX('General Project Information'!$M$7)+1,\"\")","v":""},"of ",{"$f":"'General Project Information'!$O$7","v":1}]
[null,null,null,"Additional General Project Information"]
["General Project Narrative:\n(Description of Minimization of Water Quality Impacts)"]
[]
[]
[]
[]
[]
[]
[]
[]
[]
[]
[]
[]
[]
[]
[]
[]
[]
[]
[]
[]
[]
[]
[]
[]
[]
[]
[]
[]
[]
[]
[]
[]
[]
[]
[]
[]
[]
[]
[]
[]
[]
[]
["WBS Element:",null,{"$f":"$D$9&\"\"","v":""},"TIP No.:",{"$f":"$G$9&\"\"","v":""},null,"County(ies):",{"$f":"$I$16&\"   \"&$K$16&\"   \"&$M$16&\" \"","v":"       "},null,null,null,"Page ",{"$f":"IF(D84<>\"\",MAX('General Project Information'!$M$37)+1,\"\")","v":""},"of ",{"$f":"'General Project Information'!$O$7","v":1}]
[null,null,null,"Additional General Project Information"]
["General Project Narrative:\n(Description of Minimization of Water Quality Impacts)"]
[]
[]
[]
[]
[]
[]
[]
[]
[]
[]
[]
[]
[]
[]
[]
[]
[]
[]
[]
[]
[]
[]
[]
[]
[]
[]
[]
[]
[]
[]
[]
[]
[]
[]
[]
[]
[]
[]
[]
[]
[]
[]
["WBS Element:",null,{"$f":"$D$9&\"\"","v":""},"TIP No.:",{"$f":"$G$9&\"\"","v":""},null,"County(ies):",{"$f":"$I$16&\"   \"&$K$16&\"   \"&$M$16&\" \"","v":"       "},null,null,null,"Page ",{"$f":"IF(D129<>\"\",MAX('General Project Information'!$M$82)+1,\"\")","v":""},"of ",{"$f":"'General Project Information'!$O$7","v":1}]
[null,null,null,"Additional General Project Information"]
["General Project Narrative:\n(Description of Minimization of Water Quality Impacts)"]
[]
[]
[]
[]
[]
[]
[]
[]
[]
[]
[]
[]
[]
[]
[]
[]
[]
[]
[]
[]
[]
[]
[]
[]
[]
[]
[]
[]
[]
[]
[]
[]
[]
[]
[]
[]
[]
[]
[]
[]
[]
[]
["WBS Element:",null,{"$f":"$D$9&\"\"","v":""},"TIP No.:",{"$f":"$G$9&\"\"","v":""},null,"County(ies):",{"$f":"$I$16&\"   \"&$K$16&\"   \"&$M$16&\" \"","v":"       "},null,null,null,"Page ",{"$f":"IF(D174<>\"\",MAX('General Project Information'!$M$127)+1,\"\")","v":""},"of ",{"$f":"'General Project Information'!$O$7","v":1}]
[null,null,null,"Additional General Project Information"]
["General Project Narrative:\n(Description of Minimization of Water Quality Impacts)"]
[]
[]
[]
[]
[]
[]
[]
[]
[]
[]
[]
[]
[]
[]
[]
[]
[]
[]
[]
[]
[]
[]
[]
[]
[]
[]
[]
[]
[]
[]
[]
[]
[]
[]
[]
[]
[]
[]
[]
[]
[]
[]
["WBS Element:",null,{"$f":"$D$9&\"\"","v":""},"TIP No.:",{"$f":"$G$9&\"\"","v":""},null,"County(ies):",{"$f":"$I$16&\"   \"&$K$16&\"   \"&$M$16&\" \"","v":"       "},null,null,null,"Page ",{"$f":"IF(D219<>\"\",MAX('General Project Information'!$M$172)+1,\"\")","v":""},"of ",{"$f":"'General Project Information'!$O$7","v":1}]
[null,null,null,"Additional General Project Information"]
["General Project Narrative:\n(Description of Minimization of Water Quality Impacts)"]
[]
[]
[]
[]
[]
[]
[]
[]
[]
[]
[]
[]
[]
[]
[]
[]
[]
[]
[]
[]
[]
[]
[]
[]
[]
[]
[]
[]
[]
[]
[]
[]
[]
[]
[]
[]
[]
[]
[]
[]
[]
[]
["WBS Element:",null,{"$f":"$D$9&\"\"","v":""},"TIP No.:",{"$f":"$G$9&\"\"","v":""},null,"County(ies):",{"$f":"$I$16&\"   \"&$K$16&\"   \"&$M$16&\" \"","v":"       "},null,null,null,"Page ",{"$f":"IF(D264<>\"\",MAX('General Project Information'!$M$217)+1,\"\")","v":""},"of ",{"$f":"'General Project Information'!$O$7","v":1}]
[null,null,null,"Additional General Project Information"]
["General Project Narrative:\n(Description of Minimization of Water Quality Impacts)"]
[]
[]
[]
[]
[]
[]
[]
[]
[]
[]
[]
[]
[]
[]
[]
[]
[]
[]
[]
[]
[]
[]
[]
[]
[]
[]
[]
[]
[]
[]
[]
[]
[]
[]
[]
[]
[]
[]
[]
[]
[]
[]
["WBS Element:",null,{"$f":"$D$9&\"\"","v":""},"TIP No.:",{"$f":"$G$9&\"\"","v":""},null,"County(ies):",{"$f":"$I$16&\"   \"&$K$16&\"   \"&$M$16&\" \"","v":"       "},null,null,null,"Page ",{"$f":"IF(D309<>\"\",MAX('General Project Information'!$M$262)+1,\"\")","v":""},"of ",{"$f":"'General Project Information'!$O$7","v":1}]
[null,null,null,"Additional General Project Information"]
["General Project Narrative:\n(Description of Minimization of Water Quality Impacts)"]
[]
[]
[]
[]
[]
[]
[]
[]
[]
[]
[]
[]
[]
[]
[]
[]
[]
[]
[]
[]
[]
[]
[]
[]
[]
[]
[]
[]
[]
[]
[]
[]
[]
[]
[]
[]
[]
[]
[]
[]
[]
[]
["WBS Element:",null,{"$f":"$D$9&\"\"","v":""},"TIP No.:",{"$f":"$G$9&\"\"","v":""},null,"County(ies):",{"$f":"$I$16&\"   \"&$K$16&\"   \"&$M$16&\" \"","v":"       "},null,null,null,"Page ",{"$f":"IF(D354<>\"\",MAX('General Project Information'!$M$307)+1,\"\")","v":""},"of ",{"$f":"'General Project Information'!$O$7","v":1}]
[null,null,null,"Additional General Project Information"]
["General Project Narrative:\n(Description of Minimization of Water Quality Impacts)"]
[]
[]
[]
[]
[]
[]
[]
[]
[]
[]
[]
[]
[]
[]
[]
[]
[]
[]
[]
[]
[]
[]
[]
[]
[]
[]
[]
[]
[]
[]
[]
[]
[]
[]
[]
[]
[]
[]
[]
[]
[]
[]
["WBS Element:",null,{"$f":"$D$9&\"\"","v":""},"TIP No.:",{"$f":"$G$9&\"\"","v":""},null,"County(ies):",{"$f":"$I$16&\"   \"&$K$16&\"   \"&$M$16&\" \"","v":"       "},null,null,null,"Page ",{"$f":"IF(D399<>\"\",MAX('General Project Information'!$M$352)+1,\"\")","v":""},"of ",{"$f":"'General Project Information'!$O$7","v":1}]
[null,null,null,"Additional General Project Information"]
["General Project Narrative:\n(Description of Minimization of Water Quality Impacts)"]
[]
[]
[]
[]
[]
[]
[]
[]
[]
[]
[]
[]
[]
[]
[]
[]
[]
[]
[]
[]
[]
[]
[]
[]
[]
[]
[]
[]
[]
[]
[]
[]
[]
[]
[]
[]
[]
[]
[]
[]
[]
[]
["WBS Element:",null,{"$f":"$D$9&\"\"","v":""},"TIP No.:",{"$f":"$G$9&\"\"","v":""},null,"County(ies):",{"$f":"$I$16&\"   \"&$K$16&\"   \"&$M$16&\" \"","v":"       "},null,null,null,"Page ",{"$f":"IF(D444<>\"\",MAX('General Project Information'!$M$397)+1,\"\")","v":""},"of ",{"$f":"'General Project Information'!$O$7","v":1}]
[null,null,null,"Additional General Project Information"]
["General Project Narrative:\n(Description of Minimization of Water Quality Impacts)"]
[]
[]
[]
[]
[]
[]
[]
[]
[]
[]
[]
[]
[]
[]
[]
[]
[]
[]
[]
[]
[]
[]
[]
[]
[]
[]
[]
[]
[]
[]
[]
[]
[]
[]
[]
[]
[]
[]
[]
[]
[]
[]
["WBS Element:",null,{"$f":"$D$9&\"\"","v":""},"TIP No.:",{"$f":"$G$9&\"\"","v":""},null,"County(ies):",{"$f":"$I$16&\"   \"&$K$16&\"   \"&$M$16&\" \"","v":"       "},null,null,null,"Page ",{"$f":"IF(D489<>\"\",MAX('General Project Information'!$M$442)+1,\"\")","v":""},"of ",{"$f":"'General Project Information'!$O$7","v":1}]
[null,null,null,"Additional General Project Information"]
["General Project Narrative:\n(Description of Minimization of Water Quality Impacts)"]
[]
[]
[]
[]
[]
[]
[]
[]
[]
[]
[]
[]
[]
[]
[]
[]
[]
[]
[]
[]
[]
[]
[]
[]
[]
[]
[]
[]
[]
[]
[]
[]
[]
[]
[]
[]
[]
[]
[]
[]
[]
[]
["WBS Element:",null,{"$f":"$D$9&\"\"","v":""},"TIP No.:",{"$f":"$G$9&\"\"","v":""},null,"County(ies):",{"$f":"$I$16&\"   \"&$K$16&\"   \"&$M$16&\" \"","v":"       "},null,null,null,"Page ",{"$f":"IF(D534<>\"\",MAX('General Project Information'!$M$487)+1,\"\")","v":""},"of ",{"$f":"'General Project Information'!$O$7","v":1}]
[null,null,null,"Additional General Project Information"]
["General Project Narrative:\n(Description of Minimization of Water Quality Impacts)"]

{"sheet":"Waterbody Information","index":3,"n_rows":581,"n_cols":27,"rows_kept":581,"cut":false,"hidden":false,"merged":[[36,5,36,14],[23,3,23,4],[25,5,25,14],[26,3,26,8],[26,9,26,11],[26,12,26,14],[27,0,27,3],[27,5,27,7],[27,9,27,12],[20,3,20,6],[20,7,20,8],[20,9,20,14],[21,0,22,4],[21,5,21,6],[21,9,21,10],[21,11,21,12],[21,13,21,14],[24,3,24,4],[24,5,24,6],[24,7,24,8],[24,9,24,10],[24,11,24,12],[22,13,22,14],[23,5,23,6],[31,9,31,14],[28,5,29,8],[28,9,29,14],[29,0,29,4],[28,0,28,3],[34,13,34,14],[13,5,13,6],[13,7,13,8],[13,9,13,10],[13,11,13,12],[12,0,12,2],[12,3,12,4],[12,5,12,6],[12,7,12,8],[12,9,12,10],[12,11,12,12],[33,5,33,6],[33,7,33,8],[33,9,33,10],[33,11,33,12],[23,11,23,12],[23,13,23,14],[35,11,35,12],[35,13,35,14],[19,0,19,14],[32,0,33,4],[32,5,32,6],[33,13,33,14],[34,0,34,2],[34,3,34,4],[34,5,34,6],[34,7,34,8],[34,9,34,10],[34,11,34,12],[30,0,30,14],[31,0,31,2],[31,3,31,6],[31,7,31,8],[10,5,10,6],[10,7,10,8],[10,9,10,10],[21,7,21,8],[17,9,18,14],[18,0,18,4],[15,3,15,8],[15,9,15,11],[16,0,16,3],[16,5,16,7],[16,9,16,12],[16,13,16,14],[23,7,23,8],[23,9,23,10],[13,0,13,2],[13,3,13,4],[578,0,578,3],[578,5,578,7],[578,9,578,12],[578,13,578,14],[573,9,573,10],[573,11,573,12],[568,0,568,3],[568,5,569,8],[568,9,569,14],[569,0,569,4],[570,0,570,14],[571,0,571,2],[571,3,571,6],[571,7,571,8],[571,9,571,14],[565,5,565,14],[579,0,579,3],[579,5,580,8],[579,9,580,14],[580,0,580,4],[575,13,575,14],[576,5,576,14],[577,0,577,2],[577,3,577,8],[577,9,577,11],[577,12,577,14],[575,0,575,2],[575,3,575,4],[575,5,575,6],[575,7,575,8],[575,9,575,10],[575,11,575,12],[573,13,573,14],[574,0,574,2],[574,3,574,4],[574,5,574,6],[574,7,574,8],[574,9,574,10],[574,11,574,12],[574,13,574,14],[572,0,573,4],[572,5,572,6],[572,7,572,8],[572,9,572,10],[572,11,572,12],[572,13,572,14],[573,5,573,6],[573,7,573,8],[566,0,566,2],[566,3,566,8],[566,9,566,11],[566,12,566,14],[567,0,567,3],[567,5,567,7],[567,9,567,12],[567,13,567,14],[563,13,563,14],[564,0,564,2],[564,3,564,4],[564,5,564,6],[564,7,564,8],[564,9,564,10],[564,11,564,12],[564,13,564,14],[563,0,563,2],[563,3,563,4],[563,5,563,6],[563,7,563,8],[563,9,563,10],[563,11,563,12],[561,13,561,14],[562,5,562,6],[562,7,562,8],[562,9,562,10],[562,11,562,12],[562,13,562,14],[559,0,559,14],[560,0,560,2],[560,3,560,6],[560,7,560,8],[560,9,560,14],[561,0,562,4],[561,5,561,6],[561,7,561,8],[561,9,561,10],[561,11,561,12],[556,0,556,3],[556,5,556,7],[556,9,556,12],[556,13,556,14],[557,0,557,3],[557,5,558,8],[557,9,558,14],[558,0,558,4],[553,13,553,14],[554,5,554,14],[555,0,555,2],[555,3,555,8],[555,9,555,11],[555,12,555,14],[553,0,553,2],[553,3,553,4],[553,5,553,6],[553,7,553,8],[553,9,553,10],[553,11,553,12],[551,13,551,14],[552,0,552,2],[552,3,552,4],[552,5,552,6],[552,7,552,8],[552,9,552,10],[552,11,552,12],[552,13,552,14],[550,0,551,4],[550,5,550,6],[550,7,550,8],[550,9,550,10],[550,11,550,12],[550,13,550,14],[551,5,551,6],[551,7,551,8],[551,9,551,10],[551,11,551,12],[546,0,546,3],[546,5,547,8],[546,9,547,14],[547,0,547,4],[548,0,548,14],[549,0,549,2],[549,3,549,6],[549,7,549,8],[549,9,549,14],[543,5,543,14],[544,0,544,2],[544,3,544,8],[544,9,544,11],[544,12,544,14],[545,0,545,3],[545,5,545,7],[545,9,545,12],[545,13,545,14],[541,11,541,12],[541,13,541,14],[542,0,542,2],[542,3,542,4],[542,5,542,6],[542,7,542,8],[542,9,542,10],[542,11,542,12],[542,13,542,14],[540,5,540,6],[540,7,540,8],[540,9,540,10],[540,11,540,12],[540,13,540,14],[541,0,541,2],[541,3,541,4],[541,5,541,6],[541,7,541,8],[541,9,541,10],[538,0,538,2],[538,3,538,6],[538,7,538,8],[538,9,538,14],[539,0,540,4],[539,5,539,6],[539,7,539,8],[539,9,539,10],[539,11,539,12],[539,13,539,14],[534,0,534,3],[534,5,535,8],[534,9,535,14],[535,0,535,4],[536,0,536,1],[537,3,537,10],[531,5,531,14],[532,0,532,2],[532,3,532,8],[532,9,532,11],[532,12,532,14],[533,0,533,3],[533,5,533,7],[533,9,533,12],[533,13,533,14],[529,13,529,14],[530,0,530,2],[530,3,530,4],[530,5,530,6],[530,7,530,8],[530,9,530,10],[530,11,530,12],[530,13,530,14],[529,0,529,2],[529,3,529,4],[529,5,529,6],[529,7,529,8],[529,9,529,10],[529,11,529,12],[527,13,527,14],[528,5,528,6],[528,7,528,8],[528,9,528,10],[528,11,528,12],[528,13,528,14],[525,0,525,14],[526,0,526,2],[526,3,526,6],[526,7,526,8],[526,9,526,14],[527,0,528,4],[527,5,527,6],[527,7,527,8],[527,9,527,10],[527,11,527,12],[522,0,522,3],[522,5,522,7],[522,9,522,12],[522,13,522,14],[523,0,523,3],[523,5,524,8],[523,9,524,14],[524,0,524,4],[519,13,519,14],[520,5,520,14],[521,0,521,2],[521,3,521,8],[521,9,521,11],[521,12,521,14],[519,0,519,2],[519,3,519,4],[519,5,519,6],[519,7,519,8],[519,9,519,10],[519,11,519,12],[517,13,517,14],[518,0,518,2],[518,3,518,4],[518,5,518,6],[518,7,518,8],[518,9,518,10],[518,11,518,12],[518,13,518,14],[516,0,517,4],[516,5,516,6],[516,7,516,8],[516,9,516,10],[516,11,516,12],[516,13,516,14],[517,5,517,6],[517,7,517,8],[517,9,517,10],[517,11,517,12],[512,0,512,3],[512,5,513,8],[512,9,513,14],[513,0,513,4],[514,0,514,14],[515,0,515,2],[515,3,515,6],[515,7,515,8],[515,9,515,14],[509,5,509,14],[510,0,510,2],[510,3,510,8],[510,9,510,11],[510,12,510,14],[511,0,511,3],[511,5,511,7],[511,9,511,12],[511,13,511,14],[507,13,507,14],[508,0,508,2],[508,3,508,4],[508,5,508,6],[508,7,508,8],[508,9,508,10],[508,11,508,12],[508,13,508,14],[507,0,507,2],[507,3,507,4],[507,5,507,6],[507,7,507,8],[507,9,507,10],[507,11,507,12],[505,13,505,14],[506,5,506,6],[506,7,506,8],[506,9,506,10],[506,11,506,12],[506,13,506,14],[503,0,503,14],[504,0,504,2],[504,3,504,6],[504,7,504,8],[504,9,504,14],[505,0,506,4],[505,5,505,6],[505,7,505,8],[505,9,505,10],[505,11,505,12],[500,0,500,3],[500,5,500,7],[500,9,500,12],[500,13,500,14],[501,0,501,3],[501,5,502,8],[501,9,502,14],[502,0,502,4],[497,13,497,14],[498,5,498,14],[499,0,499,2],[499,3,499,8],[499,9,499,11],[499,12,499,14],[497,0,497,2],[497,3,497,4],[497,5,497,6],[497,7,497,8],[497,9,497,10],[497,11,497,12],[495,13,495,14],[496,0,496,2],[496,3,496,4],[496,5,496,6],[496,7,496,8],[496,9,496,10],[496,11,496,12],[496,13,496,14],[494,0,495,4],[494,5,494,6],[494,7,494,8],[494,9,494,10],[494,11,494,12],[494,13,494,14],[495,5,495,6],[495,7,495,8],[495,9,495,10],[495,11,495,12],[491,0,491,1],[492,3,492,10],[493,0,493,2],[493,3,493,6],[493,7,493,8],[493,9,493,14],[488,0,488,3],[488,5,488,7],[488,9,488,12],[488,13,488,14],[489,0,489,3],[489,5,490,8],[489,9,490,14],[490,0,490,4],[485,13,485,14],[486,5,486,14],[487,0,487,2],[487,3,487,8],[487,9,487,11],[487,12,487,14],[485,0,485,2],[485,3,485,4],[485,5,485,6],[485,7,485,8],[485,9,485,10],[485,11,485,12],[483,13,483,14],[484,0,484,2],[484,3,484,4],[484,5,484,6],[484,7,484,8],[484,9,484,10],[484,11,484,12],[484,13,484,14],[482,0,483,4],[482,5,482,6],[482,7,482,8],[482,9,482,10],[482,11,482,12],[482,13,482,14],[483,5,483,6],[483,7,483,8],[483,9,483,10],[483,11,483,12],[478,0,478,3],[478,5,479,8],[478,9,479,14],[479,0,479,4],[480,0,480,14],[481,0,481,2],[481,3,481,6],[481,7,481,8],[481,9,481,14],[475,5,475,14],[476,0,476,2],[476,3,476,8],[476,9,476,11],[476,12,476,14],[477,0,477,3],[477,5,477,7],[477,9,477,12],[477,13,477,14],[473,13,473,14],[474,0,474,2],[474,3,474,4],[474,5,474,6],[474,7,474,8],[474,9,474,10],[474,11,474,12],[474,13,474,14],[473,0,473,2],[473,3,473,4],[473,5,473,6],[473,7,473,8],[473,9,473,10],[473,11,473,12],[471,13,471,14],[472,5,472,6],[472,7,472,8],[472,9,472,10],[472,11,472,12],[472,13,472,14],[469,0,469,14],[470,0,470,2],[470,3,470,6],[470,7,470,8],[470,9,470,14],[471,0,472,4],[471,5,471,6],[471,7,471,8],[471,9,471,10],[471,11,471,12],[466,0,466,3],[466,5,466,7],[466,9,466,12],[466,13,466,14],[467,0,467,3],[467,5,468,8],[467,9,468,14],[468,0,468,4],[463,13,463,14],[464,5,464,14],[465,0,465,2],[465,3,465,8],[465,9,465,11],[465,12,465,14],[463,0,463,2],[463,3,463,4],[463,5,463,6],[463,7,463,8],[463,9,463,10],[463,11,463,12],[461,13,461,14],[462,0,462,2],[462,3,462,4],[462,5,462,6],[462,7,462,8],[462,9,462,10],[462,11,462,12],[462,13,462,14],[460,0,461,4],[460,5,460,6],[460,7,460,8],[460,9,460,10],[460,11,460,12],[460,13,460,14],[461,5,461,6],[461,7,461,8],[461,9,461,10],[461,11,461,12],[456,0,456,3],[456,5,457,8],[456,9,457,14],[457,0,457,4],[458,0,458,14],[459,0,459,2],[459,3,459,6],[459,7,459,8],[459,9,459,14],[453,5,453,14],[454,0,454,2],[454,3,454,8],[454,9,454,11],[454,12,454,14],[455,0,455,3],[455,5,455,7],[455,9,455,12],[455,13,455,14],[451,11,451,12],[451,13,451,14],[452,0,452,2],[452,3,452,4],[452,5,452,6],[452,7,452,8],[452,9,452,10],[452,11,452,12],[452,13,452,14],[450,5,450,6],[450,7,450,8],[450,9,450,10],[450,11,450,12],[450,13,450,14],[451,0,451,2],[451,3,451,4],[451,5,451,6],[451,7,451,8],[451,9,451,10],[448,0,448,2],[448,3,448,6],[448,7,448,8],[448,9,448,14],[449,0,450,4],[449,5,449,6],[449,7,449,8],[449,9,449,10],[449,11,449,12],[449,13,449,14],[444,0,444,3],[444,5,445,8],[444,9,445,14],[445,0,445,4],[446,0,446,1],[447,3,447,10],[441,5,441,14],[442,0,442,2],[442,3,442,8],[442,9,442,11],[442,12,442,14],[443,0,443,3],[443,5,443,7],[443,9,443,12],[443,13,443,14],[439,13,439,14],[440,0,440,2],[440,3,440,4],[440,5,440,6],[440,7,440,8],[440,9,440,10],[440,11,440,12],[440,13,440,14],[439,0,439,2],[439,3,439,4],[439,5,439,6],[439,7,439,8],[439,9,439,10],[439,11,439,12],[437,13,437,14],[438,5,438,6],[438,7,438,8],[438,9,438,10],[438,11,438,12],[438,13,438,14],[435,0,435,14],[436,0,436,2],[436,3,436,6],[436,7,436,8],[436,9,436,14],[437,0,438,4],[437,5,437,6],[437,7,437,8],[437,9,437,10],[437,11,437,12],[432,0,432,3],[432,5,432,7],[432,9,432,12],[432,13,432,14],[433,0,433,3],[433,5,434,8],[433,9,434,14],[434,0,434,4],[429,13,429,14],[430,5,430,14],[431,0,431,2],[431,3,431,8],[431,9,431,11],[431,12,431,14],[429,0,429,2],[429,3,429,4],[429,5,429,6],[429,7,429,8],[429,9,429,10],[429,11,429,12],[427,13,427,14],[428,0,428,2],[428,3,428,4],[428,5,428,6],[428,7,428,8],[428,9,428,10],[428,11,428,12],[428,13,428,14],[426,0,427,4],[426,5,426,6],[426,7,426,8],[426,9,426,10],[426,11,426,12],[426,13,426,14],[427,5,427,6],[427,7,427,8],[427,9,427,10],[427,11,427,12],[422,0,422,3],[422,5,423,8],[422,9,423,14],[423,0,423,4],[424,0,424,14],[425,0,425,2],[425,3,425,6],[425,7,425,8],[425,9,425,14],[419,5,419,14],[420,0,420,2],[420,3,420,8],[420,9,420,11],[420,12,420,14],[421,0,421,3],[421,5,421,7],[421,9,421,12],[421,13,421,14],[417,13,417,14],[418,0,418,2],[418,3,418,4],[418,5,418,6],[418,7,418,8],[418,9,418,10],[418,11,418,12],[418,13,418,14],[417,0,417,2],[417,3,417,4],[417,5,417,6],[417,7,417,8],[417,9,417,10],[417,11,417,12],[415,13,415,14],[416,5,416,6],[416,7,416,8],[416,9,416,10],[416,11,416,12],[416,13,416,14],[413,0,413,14],[414,0,414,2],[414,3,414,6],[414,7,414,8],[414,9,414,14],[415,0,416,4],[415,5,415,6],[415,7,415,8],[415,9,415,10],[415,11,415,12],[410,0,410,3],[410,5,410,7],[410,9,410,12],[410,13,410,14],[411,0,411,3],[411,5,412,8],[411,9,412,14],[412,0,412,4],[407,13,407,14],[408,5,408,14],[409,0,409,2],[409,3,409,8],[409,9,409,11],[409,12,409,14],[407,0,407,2],[407,3,407,4],[407,5,407,6],[407,7,407,8],[407,9,407,10],[407,11,407,12],[405,13,405,14],[406,0,406,2],[406,3,406,4],[406,5,406,6],[406,7,406,8],[406,9,406,10],[406,11,406,12],[406,13,406,14],[404,0,405,4],[404,5,404,6],[404,7,404,8],[404,9,404,10],[404,11,404,12],[404,13,404,14],[405,5,405,6],[405,7,405,8],[405,9,405,10],[405,11,405,12],[401,0,401,1],[402,3,402,10],[403,0,403,2],[403,3,403,6],[403,7,403,8],[403,9,403,14],[398,0,398,3],[398,5,398,7],[398,9,398,12],[398,13,398,14],[399,0,399,3],[399,5,400,8],[399,9,400,14],[400,0,400,4],[395,13,395,14],[396,5,396,14],[397,0,397,2],[397,3,397,8],[397,9,397,11],[397,12,397,14],[395,0,395,2],[395,3,395,4],[395,5,395,6],[395,7,395,8],[395,9,395,10],[395,11,395,12],[393,13,393,14],[394,0,394,2],[394,3,394,4],[394,5,394,6],[394,7,394,8],[394,9,394,10],[394,11,394,12],[394,13,394,14],[392,0,393,4],[392,5,392,6],[392,7,392,8],[392,9,392,10],[392,11,392,12],[392,13,392,14],[393,5,393,6],[393,7,393,8],[393,9,393,10],[393,11,393,12],[388,0,388,3],[388,5,389,8],[388,9,389,14],[389,0,389,4],[390,0,390,14],[391,0,391,2],[391,3,391,6],[391,7,391,8],[391,9,391,14],[385,5,385,14],[386,0,386,2],[386,3,386,8],[386,9,386,11],[386,12,386,14],[387,0,387,3],[387,5,387,7],[387,9,387,12],[387,13,387,14],[383,13,383,14],[384,0,384,2],[384,3,384,4],[384,5,384,6],[384,7,384,8],[384,9,384,10],[384,11,384,12],[384,13,384,14],[383,0,383,2],[383,3,383,4],[383,5,383,6],[383,7,383,8],[383,9,383,10],[383,11,383,12],[381,13,381,14],[382,5,382,6],[382,7,382,8],[382,9,382,10],[382,11,382,12],[382,13,382,14],[379,0,379,14],[380,0,380,2],[380,3,380,6],[380,7,380,8],[380,9,380,14],[381,0,382,4],[381,5,381,6],[381,7,381,8],[381,9,381,10],[381,11,381,12],[376,0,376,3],[376,5,376,7],[376,9,376,12],[376,13,376,14],[377,0,377,3],[377,5,378,8],[377,9,378,14],[378,0,378,4],[373,13,373,14],[374,5,374,14],[375,0,375,2],[375,3,375,8],[375,9,375,11],[375,12,375,14],[373,0,373,2],[373,3,373,4],[373,5,373,6],[373,7,373,8],[373,9,373,10],[373,11,373,12],[371,13,371,14],[372,0,372,2],[372,3,372,4],[372,5,372,6],[372,7,372,8],[372,9,372,10],[372,11,372,12],[372,13,372,14],[370,0,371,4],[370,5,370,6],[370,7,370,8],[370,9,370,10],[370,11,370,12],[370,13,370,14],[371,5,371,6],[371,7,371,8],[371,9,371,10],[371,11,371,12],[366,0,366,3],[366,5,367,8],[366,9,367,14],[367,0,367,4],[368,0,368,14],[369,0,369,2],[369,3,369,6],[369,7,369,8],[369,9,369,14],[363,5,363,14],[364,0,364,2],[364,3,364,8],[364,9,364,11],[364,12,364,14],[365,0,365,3],[365,5,365,7],[365,9,365,12],[365,13,365,14],[361,11,361,12],[361,13,361,14],[362,0,362,2],[362,3,362,4],[362,5,362,6],[362,7,362,8],[362,9,362,10],[362,11,362,12],[362,13,362,14],[360,5,360,6],[360,7,360,8],[360,9,360,10],[360,11,360,12],[360,13,360,14],[361,0,361,2],[361,3,361,4],[361,5,361,6],[361,7,361,8],[361,9,361,10],[358,0,358,2],[358,3,358,6],[358,7,358,8],[358,9,358,14],[359,0,360,4],[359,5,359,6],[359,7,359,8],[359,9,359,10],[359,11,359,12],[359,13,359,14],[354,0,354,3],[354,5,355,8],[354,9,355,14],[355,0,355,4],[356,0,356,1],[357,3,357,10],[351,5,351,14],[352,0,352,2],[352,3,352,8],[352,9,352,11],[352,12,352,14],[353,0,353,3],[353,5,353,7],[353,9,353,12],[353,13,353,14],[349,13,349,14],[350,0,350,2],[350,3,350,4],[350,5,350,6],[350,7,350,8],[350,9,350,10],[350,11,350,12],[350,13,350,14],[349,0,349,2],[349,3,349,4],[349,5,349,6],[349,7,349,8],[349,9,349,10],[349,11,349,12],[347,13,347,14],[348,5,348,6],[348,7,348,8],[348,9,348,10],[348,11,348,12],[348,13,348,14],[345,0,345,14],[346,0,346,2],[346,3,346,6],[346,7,346,8],[346,9,346,14],[347,0,348,4],[347,5,347,6],[347,7,347,8],[347,9,347,10],[347,11,347,12],[342,0,342,3],[342,5,342,7],[342,9,342,12],[342,13,342,14],[343,0,343,3],[343,5,344,8],[343,9,344,14],[344,0,344,4],[339,13,339,14],[340,5,340,14],[341,0,341,2],[341,3,341,8],[341,9,341,11],[341,12,341,14]],"merged_total":2212,"flags":["merged_cut"]}
["Please fill out all yellow cells as completely as possible.  Use pick lists where provided.  For more information on the NCDOT Stormwater Management Plan form, please refer to the document, NCDOT Stormwater Best Management Practices Toolbox (2014).",null,null,null,null,null,null,null,null,null,null,null,null,null,null,null,null,null,null,null,null,null,null,null,null,"# pages previous sheets:",{"$f":"'General Project Information'!AA3","v":1}]
["If the project drains to multiple water bodies, please drag the print area down such that Water Bodies 4 through 7 print on the second page, water bodies 8 through 11 on third, etc.",null,null,null,null,null,null,null,null,null,null,null,null,null,null,null,null,null,null,null,null,null,null,null,null,"# pages this sheet:",{"$f":"COUNT(M7,M42,M87,M132,M177,M222,M267,M312,M357,M402,M447,M492,M537)","v":0}]
[null,null,null,null,null,null,null,null,null,null,null,null,null,null,null,null,null,null,null,null,null,null,null,null,null,"# pages total:",{"$f":"AA1+AA2","v":1}]
["North Carolina Department of Transportation"]
["Highway Stormwater Program"]
[{"$f":"'General Project Information'!A6","v":"(Version 3.02; Released April 23, 2024)"},null,null,"    STORMWATER MANAGEMENT PLAN\n    FOR NCDOT PROJECTS"]
["WBS Element:",null,{"$f":"'General Project Information'!$C$7","v":""},"TIP/Proj No.:",{"$f":"'General Project Information'!$E$7","v":""},null,"County(ies):",{"$f":"'General Project Information'!$H$7","v":"       "},null,null,null,"Page ",{"$f":"IF(D10<>\"\",MAX(AA1)+1,\"\")","v":""},"of ",{"$f":"MAX(AA3,Swales!X3,'Filter Strip'!W3,'PSHs & Energy Diss.'!W3,'Level Spreader & HSB'!X3,'Other Toolbox BMPs'!W3,'Bridge to Culvert'!AA3)","v":1}]
[null,null,null,"General Project Information"]
[null,null,null,"Waterbody Information"]
["Surface Water Body (1):  ",null,null,null,null,null,null,"NCDWR Stream Index No.:"]
["NCDWR Surface Water Classification for Water Body",null,null,null,null,"Primary Classification:  "]
[null,null,null,null,null,"Supplemental Classification:  "]
["Other Stream Classification: "]
["Impairments:"]
["Aquatic T&E Species?",null,null,null,"Comments:"]
["NRTR Stream ID:",null,null,null,null,null,null,null,null,"Buffer Rules in Effect:"]
["Project Includes Bridge Spanning Water Body?",null,null,null,null,"Deck Drains Discharge Over Buffer?",null,null,{"$f":"IF(OR(E17=\"No\",M16=\"N/A\"),\"N/A\",\"\")","v":""},"Dissipator Pads Provided in Buffer?"]
["Deck Drains Discharge Over Water Body?",null,null,null,{"$f":"IF(E17=\"No\",\"N/A\",\"\")","v":""},"(If yes, provide justification in the General Project Narrative)",null,null,null,"(If yes, describe in the General Project Narrative; if no, justify in the General Project Narrative)"]
["(If yes, provide justification in the General Project Narrative)"]
[]
["Surface Water Body (2):       ",null,null,null,null,null,null,"NCDWR Stream Index No.:"]
["NCDWR Surface Water Classification for Water Body",null,null,null,null,"Primary Classification:  "]
[null,null,null,null,null,"Supplemental Classification:  "]
["Other Stream Classification: "]
["Impairments:"]
["Aquatic T&E Species?",null,null,null,"Comments:"]
["NRTR Stream ID:",null,null,null,null,null,null,null,null,"Buffer Rules in Effect:"]
["Project Includes Bridge Spanning Water Body?",null,null,null,null,"Deck Drains Discharge Over Buffer?",null,null,{"$f":"IF(OR(E28=\"No\",M27=\"N/A\"),\"N/A\",\"\")","v":""},"Dissipator Pads Provided in Buffer?",null,null,null,{"$f":"IF(OR(I28=\"No\",I28=\"N/A\",),\"N/A\",\"\")","v":""}]
["Deck Drains Discharge Over Water Body?",null,null,null,{"$f":"IF(E28=\"No\",\"N/A\",\"\")","v":""},"(If yes, provide justification in the General Project Narrative)",null,null,null,"(If yes, describe in the General Project Narrative; if no, justify in the General Project Narrative)"]
["(If yes, provide justification in the General Project Narrative)"]
[]
["Surface Water Body (3):       ",null,null,null,null,null,null,"NCDWR Stream Index No.:"]
["NCDWR Surface Water Classification for Water Body",null,null,null,null,"Primary Classification:  "]
[null,null,null,null,null,"Supplemental Classification:  "]
["Other Stream Classification: "]
["Impairments:"]
["Aquatic T&E Species?",null,null,null,"Comments:"]
["NRTR Stream ID:",null,null,null,null,null,null,null,null,"Buffer Rules in Effect:"]
["Project Includes Bridge Spanning Water Body?",null,null,null,null,"Deck Drains Discharge Over Buffer?",null,null,{"$f":"IF(OR(E39=\"No\",M38=\"N/A\"),\"N/A\",\"\")","v":""},"Dissipator Pads Provided in Buffer?",null,null,null,{"$f":"IF(OR(I39=\"No\",I39=\"N/A\",),\"N/A\",\"\")","v":""}]
["Deck Drains Discharge Over Water Body?",null,null,null,{"$f":"IF(E39=\"No\",\"N/A\",\"\")","v":""},"(If yes, provide justification in the General Project Narrative)",null,null,null,"(If yes, describe in the General Project Narrative; if no, justify in the General Project Narrative)"]
["(If yes, provide justification in the General Project Narrative)"]
["WBS Element:",null,{"$f":"'General Project Information'!$C$7","v":""},"TIP No.:",{"$f":"'General Project Information'!$E$7","v":""},null,"County(ies):",{"$f":"'General Project Information'!$H$7","v":"       "},null,null,null,"Page ",{"$f":"IF(D44<>\"\",MAX('Waterbody Information'!$M$7)+1,\"\")","v":""},"of ",{"$f":"'Waterbody Information'!$O$7","v":1}]
[null,null,null,"Additional Waterbody Information"]
["Surface Water Body (4):       ",null,null,null,null,null,null,"NCDWR Stream Index No.:"]
["NCDWR Surface Water Classification for Water Body",null,null,null,null,"Primary Classification:  "]
[null,null,null,null,null,"Supplemental Classification:  "]
["Other Stream Classification: "]
["Impairments:"]
["Aquatic T&E Species?",null,null,null,"Comments:"]
["NRTR Stream ID:",null,null,null,null,null,null,null,null,"Buffer Rules in Effect:"]
["Project Includes Bridge Spanning Water Body?",null,null,null,null,"Deck Drains Discharge Over Buffer?",null,null,{"$f":"IF(OR(E51=\"No\",M50=\"N/A\"),\"N/A\",\"\")","v":""},"Dissipator Pads Provided in Buffer?",null,null,null,{"$f":"IF(OR(I51=\"No\",I51=\"N/A\",),\"N/A\",\"\")","v":""}]
["Deck Drains Discharge Over Water Body?",null,null,null,{"$f":"IF(E51=\"No\",\"N/A\",\"\")","v":""},"(If yes, provide justification in the General Project Narrative)",null,null,null,"(If yes, describe in the General Project Narrative; if no, justify in the General Project Narrative)"]
["(If yes, provide justification in the General Project Narrative)"]
[]
["Surface Water Body (5):       ",null,null,null,null,null,null,"NCDWR Stream Index No.:"]
["NCDWR Surface Water Classification for Water Body",null,null,null,null,"Primary Classification:  "]
[null,null,null,null,null,"Supplemental Classification:  "]
["Other Stream Classification: "]
["Impairments:"]
["Aquatic T&E Species?",null,null,null,"Comments:"]
["NRTR Stream ID:",null,null,null,null,null,null,null,null,"Buffer Rules in Effect:"]
["Project Includes Bridge Spanning Water Body?",null,null,null,null,"Deck Drains Discharge Over Buffer?",null,null,{"$f":"IF(OR(E62=\"No\",M61=\"N/A\"),\"N/A\",\"\")","v":""},"Dissipator Pads Provided in Buffer?",null,null,null,{"$f":"IF(OR(I62=\"No\",I62=\"N/A\",),\"N/A\",\"\")","v":""}]
["Deck Drains Discharge Over Water Body?",null,null,null,{"$f":"IF(E62=\"No\",\"N/A\",\"\")","v":""},"(If yes, provide justification in the General Project Narrative)",null,null,null,"(If yes, describe in the General Project Narrative; if no, justify in the General Project Narrative)"]
["(If yes, provide justification in the General Project Narrative)"]
[]
["Surface Water Body (6):       ",null,null,null,null,null,null,"NCDWR Stream Index No.:"]
["NCDWR Surface Water Classification for Water Body",null,null,null,null,"Primary Classification:  "]
[null,null,null,null,null,"Supplemental Classification:  "]
["Other Stream Classification: "]
["Impairments:"]
["Aquatic T&E Species?",null,null,null,"Comments:"]
["NRTR Stream ID:",null,null,null,null,null,null,null,null,"Buffer Rules in Effect:"]
["Project Includes Bridge Spanning Water Body?",null,null,null,null,"Deck Drains Discharge Over Buffer?",null,null,{"$f":"IF(OR(E73=\"No\",M72=\"N/A\"),\"N/A\",\"\")","v":""},"Dissipator Pads Provided in Buffer?",null,null,null,{"$f":"IF(OR(I73=\"No\",I73=\"N/A\",),\"N/A\",\"\")","v":""}]
["Deck Drains Discharge Over Water Body?",null,null,null,{"$f":"IF(E73=\"No\",\"N/A\",\"\")","v":""},"(If yes, provide justification in the General Project Narrative)",null,null,null,"(If yes, describe in the General Project Narrative; if no, justify in the General Project Narrative)"]
["(If yes, provide justification in the General Project Narrative)"]
[]
["Surface Water Body (7):       ",null,null,null,null,null,null,"NCDWR Stream Index No.:"]
["NCDWR Surface Water Classification for Water Body",null,null,null,null,"Primary Classification:  "]
[null,null,null,null,null,"Supplemental Classification:  "]
["Other Stream Classification: "]
["Impairments:"]
["Aquatic T&E Species?",null,null,null,"Comments:"]
["NRTR Stream ID:",null,null,null,null,null,null,null,null,"Buffer Rules in Effect:"]
["Project Includes Bridge Spanning Water Body?",null,null,null,null,"Deck Drains Discharge Over Buffer?",null,null,{"$f":"IF(OR(E84=\"No\",M83=\"N/A\"),\"N/A\",\"\")","v":""},"Dissipator Pads Provided in Buffer?",null,null,null,{"$f":"IF(OR(I84=\"No\",I84=\"N/A\",),\"N/A\",\"\")","v":""}]
["Deck Drains Discharge Over Water Body?",null,null,null,{"$f":"IF(E84=\"No\",\"N/A\",\"\")","v":""},"(If yes, provide justification in the General Project Narrative)",null,null,null,"(If yes, describe in the General Project Narrative; if no, justify in the General Project Narrative)"]
["(If yes, provide justification in the General Project Narrative)"]
["WBS Element:",null,{"$f":"'General Project Information'!$C$7","v":""},"TIP No.:",{"$f":"'General Project Information'!$E$7","v":""},null,"County(ies):",{"$f":"'General Project Information'!$H$7","v":"       "},null,null,null,"Page ",{"$f":"IF(D89<>\"\",MAX('Waterbody Information'!$M$42)+1,\"\")","v":""},"of ",{"$f":"'Waterbody Information'!$O$7","v":1}]
[null,null,null,"Additional Waterbody Information"]
["Surface Water Body (8):       ",null,null,null,null,null,null,"NCDWR Stream Index No.:"]
["NCDWR Surface Water Classification for Water Body",null,null,null,null,"Primary Classification:  "]
[null,null,null,null,null,"Supplemental Classification:  "]
["Other Stream Classification: "]
["Impairments:"]
["Aquatic T&E Species?",null,null,null,"Comments:"]
["NRTR Stream ID:",null,null,null,null,null,null,null,null,"Buffer Rules in Effect:"]
["Project Includes Bridge Spanning Water Body?",null,null,null,null,"Deck Drains Discharge Over Buffer?",null,null,{"$f":"IF(OR(E96=\"No\",M95=\"N/A\"),\"N/A\",\"\")","v":""},"Dissipator Pads Provided in Buffer?",null,null,null,{"$f":"IF(OR(I96=\"No\",I96=\"N/A\",),\"N/A\",\"\")","v":""}]
["Deck Drains Discharge Over Water Body?",null,null,null,{"$f":"IF(E96=\"No\",\"N/A\",\"\")","v":""},"(If yes, provide justification in the General Project Narrative)",null,null,null,"(If yes, describe in the General Project Narrative; if no, justify in the General Project Narrative)"]
["(If yes, provide justification in the General Project Narrative)"]
[]
["Surface Water Body (9):       ",null,null,null,null,null,null,"NCDWR Stream Index No.:"]
["NCDWR Surface Water Classification for Water Body",null,null,null,null,"Primary Classification:  "]
[null,null,null,null,null,"Supplemental Classification:  "]
["Other Stream Classification: "]
["Impairments:"]
["Aquatic T&E Species?",null,null,null,"Comments:"]
["NRTR Stream ID:",null,null,null,null,null,null,null,null,"Buffer Rules in Effect:"]
["Project Includes Bridge Spanning Water Body?",null,null,null,null,"Deck Drains Discharge Over Buffer?",null,null,{"$f":"IF(OR(E107=\"No\",M106=\"N/A\"),\"N/A\",\"\")","v":""},"Dissipator Pads Provided in Buffer?",null,null,null,{"$f":"IF(OR(I107=\"No\",I107=\"N/A\",),\"N/A\",\"\")","v":""}]
["Deck Drains Discharge Over Water Body?",null,null,null,{"$f":"IF(E107=\"No\",\"N/A\",\"\")","v":""},"(If yes, provide justification in the General Project Narrative)",null,null,null,"(If yes, describe in the General Project Narrative; if no, justify in the General Project Narrative)"]
["(If yes, provide justification in the General Project Narrative)"]
[]
["Surface Water Body (10):       ",null,null,null,null,null,null,"NCDWR Stream Index No.:"]
["NCDWR Surface Water Classification for Water Body",null,null,null,null,"Primary Classification:  "]
[null,null,null,null,null,"Supplemental Classification:  "]
["Other Stream Classification: "]
["Impairments:"]
["Aquatic T&E Species?",null,null,null,"Comments:"]
["NRTR Stream ID:",null,null,null,null,null,null,null,null,"Buffer Rules in Effect:"]
["Project Includes Bridge Spanning Water Body?",null,null,null,null,"Deck Drains Discharge Over Buffer?",null,null,{"$f":"IF(OR(E118=\"No\",M117=\"N/A\"),\"N/A\",\"\")","v":""},"Dissipator Pads Provided in Buffer?",null,null,null,{"$f":"IF(OR(I118=\"No\",I118=\"N/A\",),\"N/A\",\"\")","v":""}]
["Deck Drains Discharge Over Water Body?",null,null,null,{"$f":"IF(E118=\"No\",\"N/A\",\"\")","v":""},"(If yes, provide justification in the General Project Narrative)",null,null,null,"(If yes, describe in the General Project Narrative; if no, justify in the General Project Narrative)"]
["(If yes, provide justification in the General Project Narrative)"]
[]
["Surface Water Body (11):       ",null,null,null,null,null,null,"NCDWR Stream Index No.:"]
["NCDWR Surface Water Classification for Water Body",null,null,null,null,"Primary Classification:  "]
[null,null,null,null,null,"Supplemental Classification:  "]
["Other Stream Classification: "]
["Impairments:"]
["Aquatic T&E Species?",null,null,null,"Comments:"]
["NRTR Stream ID:",null,null,null,null,null,null,null,null,"Buffer Rules in Effect:"]
["Project Includes Bridge Spanning Water Body?",null,null,null,null,"Deck Drains Discharge Over Buffer?",null,null,{"$f":"IF(OR(E129=\"No\",M128=\"N/A\"),\"N/A\",\"\")","v":""},"Dissipator Pads Provided in Buffer?",null,null,null,{"$f":"IF(OR(I129=\"No\",I129=\"N/A\",),\"N/A\",\"\")","v":""}]
["Deck Drains Discharge Over Water Body?",null,null,null,{"$f":"IF(E129=\"No\",\"N/A\",\"\")","v":""},"(If yes, provide justification in the General Project Narrative)",null,null,null,"(If yes, describe in the General Project Narrative; if no, justify in the General Project Narrative)"]
["(If yes, provide justification in the General Project Narrative)"]
["WBS Element:",null,{"$f":"'General Project Information'!$C$7","v":""},"TIP No.:",{"$f":"'General Project Information'!$E$7","v":""},null,"County(ies):",{"$f":"'General Project Information'!$H$7","v":"       "},null,null,null,"Page ",{"$f":"IF(D134<>\"\",MAX('Waterbody Information'!$M$87)+1,\"\")","v":""},"of ",{"$f":"'Waterbody Information'!$O$7","v":1}]
[null,null,null,"Additional Waterbody Information"]
["Surface Water Body (12):       ",null,null,null,null,null,null,"NCDWR Stream Index No.:"]
["NCDWR Surface Water Classification for Water Body",null,null,null,null,"Primary Classification:  "]
[null,null,null,null,null,"Supplemental Classification:  "]
["Other Stream Classification: "]
["Impairments:"]
["Aquatic T&E Species?",null,null,null,"Comments:"]
["NRTR Stream ID:",null,null,null,null,null,null,null,null,"Buffer Rules in Effect:"]
["Project Includes Bridge Spanning Water Body?",null,null,null,null,"Deck Drains Discharge Over Buffer?",null,null,{"$f":"IF(OR(E141=\"No\",M140=\"N/A\"),\"N/A\",\"\")","v":""},"Dissipator Pads Provided in Buffer?",null,null,null,{"$f":"IF(OR(I141=\"No\",I141=\"N/A\",),\"N/A\",\"\")","v":""}]
["Deck Drains Discharge Over Water Body?",null,null,null,{"$f":"IF(E141=\"No\",\"N/A\",\"\")","v":""},"(If yes, provide justification in the General Project Narrative)",null,null,null,"(If yes, describe in the General Project Narrative; if no, justify in the General Project Narrative)"]
["(If yes, provide justification in the General Project Narrative)"]
[]
["Surface Water Body (13):       ",null,null,null,null,null,null,"NCDWR Stream Index No.:"]
["NCDWR Surface Water Classification for Water Body",null,null,null,null,"Primary Classification:  "]
[null,null,null,null,null,"Supplemental Classification:  "]
["Other Stream Classification: "]
["Impairments:"]
["Aquatic T&E Species?",null,null,null,"Comments:"]
["NRTR Stream ID:",null,null,null,null,null,null,null,null,"Buffer Rules in Effect:"]
["Project Includes Bridge Spanning Water Body?",null,null,null,null,"Deck Drains Discharge Over Buffer?",null,null,{"$f":"IF(OR(E152=\"No\",M151=\"N/A\"),\"N/A\",\"\")","v":""},"Dissipator Pads Provided in Buffer?",null,null,null,{"$f":"IF(OR(I152=\"No\",I152=\"N/A\",),\"N/A\",\"\")","v":""}]
["Deck Drains Discharge Over Water Body?",null,null,null,{"$f":"IF(E152=\"No\",\"N/A\",\"\")","v":""},"(If yes, provide justification in the General Project Narrative)",null,null,null,"(If yes, describe in the General Project Narrative; if no, justify in the General Project Narrative)"]
["(If yes, provide justification in the General Project Narrative)"]
[]
["Surface Water Body (14):       ",null,null,null,null,null,null,"NCDWR Stream Index No.:"]
["NCDWR Surface Water Classification for Water Body",null,null,null,null,"Primary Classification:  "]
[null,null,null,null,null,"Supplemental Classification:  "]
["Other Stream Classification: "]
["Impairments:"]
["Aquatic T&E Species?",null,null,null,"Comments:"]
["NRTR Stream ID:",null,null,null,null,null,null,null,null,"Buffer Rules in Effect:"]
["Project Includes Bridge Spanning Water Body?",null,null,null,null,"Deck Drains Discharge Over Buffer?",null,null,{"$f":"IF(OR(E163=\"No\",M162=\"N/A\"),\"N/A\",\"\")","v":""},"Dissipator Pads Provided in Buffer?",null,null,null,{"$f":"IF(OR(I163=\"No\",I163=\"N/A\",),\"N/A\",\"\")","v":""}]
["Deck Drains Discharge Over Water Body?",null,null,null,{"$f":"IF(E163=\"No\",\"N/A\",\"\")","v":""},"(If yes, provide justification in the General Project Narrative)",null,null,null,"(If yes, describe in the General Project Narrative; if no, justify in the General Project Narrative)"]
["(If yes, provide justification in the General Project Narrative)"]
[]
["Surface Water Body (15):       ",null,null,null,null,null,null,"NCDWR Stream Index No.:"]
["NCDWR Surface Water Classification for Water Body",null,null,null,null,"Primary Classification:  "]
[null,null,null,null,null,"Supplemental Classification:  "]
["Other Stream Classification: "]
["Impairments:"]
["Aquatic T&E Species?",null,null,null,"Comments:"]
["NRTR Stream ID:",null,null,null,null,null,null,null,null,"Buffer Rules in Effect:"]
["Project Includes Bridge Spanning Water Body?",null,null,null,null,"Deck Drains Discharge Over Buffer?",null,null,{"$f":"IF(OR(E174=\"No\",M173=\"N/A\"),\"N/A\",\"\")","v":""},"Dissipator Pads Provided in Buffer?",null,null,null,{"$f":"IF(OR(I174=\"No\",I174=\"N/A\",),\"N/A\",\"\")","v":""}]
["Deck Drains Discharge Over Water Body?",null,null,null,{"$f":"IF(E174=\"No\",\"N/A\",\"\")","v":""},"(If yes, provide justification in the General Project Narrative)",null,null,null,"(If yes, describe in the General Project Narrative; if no, justify in the General Project Narrative)"]
["(If yes, provide justification in the General Project Narrative)"]
["WBS Element:",null,{"$f":"'General Project Information'!$C$7","v":""},"TIP No.:",{"$f":"'General Project Information'!$E$7","v":""},null,"County(ies):",{"$f":"'General Project Information'!$H$7","v":"       "},null,null,null,"Page ",{"$f":"IF(D179<>\"\",MAX('Waterbody Information'!$M$132)+1,\"\")","v":""},"of ",{"$f":"'Waterbody Information'!$O$7","v":1}]
[null,null,null,"Additional Waterbody Information"]
["Surface Water Body (16):       ",null,null,null,null,null,null,"NCDWR Stream Index No.:"]
["NCDWR Surface Water Classification for Water Body",null,null,null,null,"Primary Classification:  "]
[null,null,null,null,null,"Supplemental Classification:  "]
["Other Stream Classification: "]
["Impairments:"]
["Aquatic T&E Species?",null,null,null,"Comments:"]
["NRTR Stream ID:",null,null,null,null,null,null,null,null,"Buffer Rules in Effect:"]
["Project Includes Bridge Spanning Water Body?",null,null,null,null,"Deck Drains Discharge Over Buffer?",null,null,{"$f":"IF(OR(E186=\"No\",M185=\"N/A\"),\"N/A\",\"\")","v":""},"Dissipator Pads Provided in Buffer?",null,null,null,{"$f":"IF(OR(I186=\"No\",I186=\"N/A\",),\"N/A\",\"\")","v":""}]
["Deck Drains Discharge Over Water Body?",null,null,null,{"$f":"IF(E186=\"No\",\"N/A\",\"\")","v":""},"(If yes, provide justification in the General Project Narrative)",null,null,null,"(If yes, describe in the General Project Narrative; if no, justify in the General Project Narrative)"]
["(If yes, provide justification in the General Project Narrative)"]
[]
["Surface Water Body (17):       ",null,null,null,null,null,null,"NCDWR Stream Index No.:"]
["NCDWR Surface Water Classification for Water Body",null,null,null,null,"Primary Classification:  "]
[null,null,null,null,null,"Supplemental Classification:  "]
["Other Stream Classification: "]
["Impairments:"]
["Aquatic T&E Species?",null,null,null,"Comments:"]
["NRTR Stream ID:",null,null,null,null,null,null,null,null,"Buffer Rules in Effect:"]
["Project Includes Bridge Spanning Water Body?",null,null,null,null,"Deck Drains Discharge Over Buffer?",null,null,{"$f":"IF(OR(E197=\"No\",M196=\"N/A\"),\"N/A\",\"\")","v":""},"Dissipator Pads Provided in Buffer?",null,null,null,{"$f":"IF(OR(I197=\"No\",I197=\"N/A\",),\"N/A\",\"\")","v":""}]
["Deck Drains Discharge Over Water Body?",null,null,null,{"$f":"IF(E197=\"No\",\"N/A\",\"\")","v":""},"(If yes, provide justification in the General Project Narrative)",null,null,null,"(If yes, describe in the General Project Narrative; if no, justify in the General Project Narrative)"]
["(If yes, provide justification in the General Project Narrative)"]
[]
["Surface Water Body (18):       ",null,null,null,null,null,null,"NCDWR Stream Index No.:"]
["NCDWR Surface Water Classification for Water Body",null,null,null,null,"Primary Classification:  "]
[null,null,null,null,null,"Supplemental Classification:  "]
["Other Stream Classification: "]
["Impairments:"]
["Aquatic T&E Species?",null,null,null,"Comments:"]
["NRTR Stream ID:",null,null,null,null,null,null,null,null,"Buffer Rules in Effect:"]
["Project Includes Bridge Spanning Water Body?",null,null,null,null,"Deck Drains Discharge Over Buffer?",null,null,{"$f":"IF(OR(E208=\"No\",M207=\"N/A\"),\"N/A\",\"\")","v":""},"Dissipator Pads Provided in Buffer?",null,null,null,{"$f":"IF(OR(I208=\"No\",I208=\"N/A\",),\"N/A\",\"\")","v":""}]
["Deck Drains Discharge Over Water Body?",null,null,null,{"$f":"IF(E208=\"No\",\"N/A\",\"\")","v":""},"(If yes, provide justification in the General Project Narrative)",null,null,null,"(If yes, describe in the General Project Narrative; if no, justify in the General Project Narrative)"]
["(If yes, provide justification in the General Project Narrative)"]
[]
["Surface Water Body (19):       ",null,null,null,null,null,null,"NCDWR Stream Index No.:"]
["NCDWR Surface Water Classification for Water Body",null,null,null,null,"Primary Classification:  "]
[null,null,null,null,null,"Supplemental Classification:  "]
["Other Stream Classification: "]
["Impairments:"]
["Aquatic T&E Species?",null,null,null,"Comments:"]
["NRTR Stream ID:",null,null,null,null,null,null,null,null,"Buffer Rules in Effect:"]
["Project Includes Bridge Spanning Water Body?",null,null,null,null,"Deck Drains Discharge Over Buffer?",null,null,{"$f":"IF(OR(E219=\"No\",M218=\"N/A\"),\"N/A\",\"\")","v":""},"Dissipator Pads Provided in Buffer?",null,null,null,{"$f":"IF(OR(I219=\"No\",I219=\"N/A\",),\"N/A\",\"\")","v":""}]
["Deck Drains Discharge Over Water Body?",null,null,null,{"$f":"IF(E219=\"No\",\"N/A\",\"\")","v":""},"(If yes, provide justification in the General Project Narrative)",null,null,null,"(If yes, describe in the General Project Narrative; if no, justify in the General Project Narrative)"]
["(If yes, provide justification in the General Project Narrative)"]
["WBS Element:",null,{"$f":"'General Project Information'!$C$7","v":""},"TIP No.:",{"$f":"'General Project Information'!$E$7","v":""},null,"County(ies):",{"$f":"'General Project Information'!$H$7","v":"       "},null,null,null,"Page ",{"$f":"IF(D224<>\"\",MAX('Waterbody Information'!$M$177)+1,\"\")","v":""},"of ",{"$f":"'Waterbody Information'!$O$7","v":1}]
[null,null,null,"Additional Waterbody Information"]
["Surface Water Body (20):       ",null,null,null,null,null,null,"NCDWR Stream Index No.:"]
["NCDWR Surface Water Classification for Water Body",null,null,null,null,"Primary Classification:  "]
[null,null,null,null,null,"Supplemental Classification:  "]
["Other Stream Classification: "]
["Impairments:"]
["Aquatic T&E Species?",null,null,null,"Comments:"]
["NRTR Stream ID:",null,null,null,null,null,null,null,null,"Buffer Rules in Effect:"]
["Project Includes Bridge Spanning Water Body?",null,null,null,null,"Deck Drains Discharge Over Buffer?",null,null,{"$f":"IF(OR(E231=\"No\",M230=\"N/A\"),\"N/A\",\"\")","v":""},"Dissipator Pads Provided in Buffer?",null,null,null,{"$f":"IF(OR(I231=\"No\",I231=\"N/A\",),\"N/A\",\"\")","v":""}]
["Deck Drains Discharge Over Water Body?",null,null,null,{"$f":"IF(E231=\"No\",\"N/A\",\"\")","v":""},"(If yes, provide justification in the General Project Narrative)",null,null,null,"(If yes, describe in the General Project Narrative; if no, justify in the General Project Narrative)"]
["(If yes, provide justification in the General Project Narrative)"]
[]
["Surface Water Body (21):       ",null,null,null,null,null,null,"NCDWR Stream Index No.:"]
["NCDWR Surface Water Classification for Water Body",null,null,null,null,"Primary Classification:  "]
[null,null,null,null,null,"Supplemental Classification:  "]
["Other Stream Classification: "]
["Impairments:"]
["Aquatic T&E Species?",null,null,null,"Comments:"]
["NRTR Stream ID:",null,null,null,null,null,null,null,null,"Buffer Rules in Effect:"]
["Project Includes Bridge Spanning Water Body?",null,null,null,null,"Deck Drains Discharge Over Buffer?",null,null,{"$f":"IF(OR(E242=\"No\",M241=\"N/A\"),\"N/A\",\"\")","v":""},"Dissipator Pads Provided in Buffer?",null,null,null,{"$f":"IF(OR(I242=\"No\",I242=\"N/A\",),\"N/A\",\"\")","v":""}]
["Deck Drains Discharge Over Water Body?",null,null,null,{"$f":"IF(E242=\"No\",\"N/A\",\"\")","v":""},"(If yes, provide justification in the General Project Narrative)",null,null,null,"(If yes, describe in the General Project Narrative; if no, justify in the General Project Narrative)"]
["(If yes, provide justification in the General Project Narrative)"]
[]
["Surface Water Body (22):       ",null,null,null,null,null,null,"NCDWR Stream Index No.:"]
["NCDWR Surface Water Classification for Water Body",null,null,null,null,"Primary Classification:  "]
[null,null,null,null,null,"Supplemental Classification:  "]
["Other Stream Classification: "]
["Impairments:"]
["Aquatic T&E Species?",null,null,null,"Comments:"]
["NRTR Stream ID:",null,null,null,null,null,null,null,null,"Buffer Rules in Effect:"]
["Project Includes Bridge Spanning Water Body?",null,null,null,null,"Deck Drains Discharge Over Buffer?",null,null,{"$f":"IF(OR(E253=\"No\",M252=\"N/A\"),\"N/A\",\"\")","v":""},"Dissipator Pads Provided in Buffer?",null,null,null,{"$f":"IF(OR(I253=\"No\",I253=\"N/A\",),\"N/A\",\"\")","v":""}]
["Deck Drains Discharge Over Water Body?",null,null,null,{"$f":"IF(E253=\"No\",\"N/A\",\"\")","v":""},"(If yes, provide justification in the General Project Narrative)",null,null,null,"(If yes, describe in the General Project Narrative; if no, justify in the General Project Narrative)"]
["(If yes, provide justification in the General Project Narrative)"]
[]
["Surface Water Body (23):       ",null,null,null,null,null,null,"NCDWR Stream Index No.:"]
["NCDWR Surface Water Classification for Water Body",null,null,null,null,"Primary Classification:  "]
[null,null,null,null,null,"Supplemental Classification:  "]
["Other Stream Classification: "]
["Impairments:"]
["Aquatic T&E Species?",null,null,null,"Comments:"]
["NRTR Stream ID:",null,null,null,null,null,null,null,null,"Buffer Rules in Effect:"]
["Project Includes Bridge Spanning Water Body?",null,null,null,null,"Deck Drains Discharge Over Buffer?",null,null,{"$f":"IF(OR(E264=\"No\",M263=\"N/A\"),\"N/A\",\"\")","v":""},"Dissipator Pads Provided in Buffer?",null,null,null,{"$f":"IF(OR(I264=\"No\",I264=\"N/A\",),\"N/A\",\"\")","v":""}]
["Deck Drains Discharge Over Water Body?",null,null,null,{"$f":"IF(E264=\"No\",\"N/A\",\"\")","v":""},"(If yes, provide justification in the General Project Narrative)",null,null,null,"(If yes, describe in the General Project Narrative; if no, justify in the General Project Narrative)"]
["(If yes, provide justification in the General Project Narrative)"]
["WBS Element:",null,{"$f":"'General Project Information'!$C$7","v":""},"TIP No.:",{"$f":"'General Project Information'!$E$7","v":""},null,"County(ies):",{"$f":"'General Project Information'!$H$7","v":"       "},null,null,null,"Page ",{"$f":"IF(D269<>\"\",MAX('Waterbody Information'!$M$222)+1,\"\")","v":""},"of ",{"$f":"'Waterbody Information'!$O$7","v":1}]
[null,null,null,"Additional Waterbody Information"]
["Surface Water Body (24):       ",null,null,null,null,null,null,"NCDWR Stream Index No.:"]
["NCDWR Surface Water Classification for Water Body",null,null,null,null,"Primary Classification:  "]
[null,null,null,null,null,"Supplemental Classification:  "]
["Other Stream Classification: "]
["Impairments:"]
["Aquatic T&E Species?",null,null,null,"Comments:"]
["NRTR Stream ID:",null,null,null,null,null,null,null,null,"Buffer Rules in Effect:"]
["Project Includes Bridge Spanning Water Body?",null,null,null,null,"Deck Drains Discharge Over Buffer?",null,null,{"$f":"IF(OR(E276=\"No\",M275=\"N/A\"),\"N/A\",\"\")","v":""},"Dissipator Pads Provided in Buffer?",null,null,null,{"$f":"IF(OR(I276=\"No\",I276=\"N/A\",),\"N/A\",\"\")","v":""}]
["Deck Drains Discharge Over Water Body?",null,null,null,{"$f":"IF(E276=\"No\",\"N/A\",\"\")","v":""},"(If yes, provide justification in the General Project Narrative)",null,null,null,"(If yes, describe in the General Project Narrative; if no, justify in the General Project Narrative)"]
["(If yes, provide justification in the General Project Narrative)"]
[]
["Surface Water Body (25):       ",null,null,null,null,null,null,"NCDWR Stream Index No.:"]
["NCDWR Surface Water Classification for Water Body",null,null,null,null,"Primary Classification:  "]
[null,null,null,null,null,"Supplemental Classification:  "]
["Other Stream Classification: "]
["Impairments:"]
["Aquatic T&E Species?",null,null,null,"Comments:"]
["NRTR Stream ID:",null,null,null,null,null,null,null,null,"Buffer Rules in Effect:"]
["Project Includes Bridge Spanning Water Body?",null,null,null,null,"Deck Drains Discharge Over Buffer?",null,null,{"$f":"IF(OR(E287=\"No\",M286=\"N/A\"),\"N/A\",\"\")","v":""},"Dissipator Pads Provided in Buffer?",null,null,null,{"$f":"IF(OR(I287=\"No\",I287=\"N/A\",),\"N/A\",\"\")","v":""}]
["Deck Drains Discharge Over Water Body?",null,null,null,{"$f":"IF(E287=\"No\",\"N/A\",\"\")","v":""},"(If yes, provide justification in the General Project Narrative)",null,null,null,"(If yes, describe in the General Project Narrative; if no, justify in the General Project Narrative)"]
["(If yes, provide justification in the General Project Narrative)"]
[]
["Surface Water Body (26):       ",null,null,null,null,null,null,"NCDWR Stream Index No.:"]
["NCDWR Surface Water Classification for Water Body",null,null,null,null,"Primary Classification:  "]
[null,null,null,null,null,"Supplemental Classification:  "]
["Other Stream Classification: "]
["Impairments:"]
["Aquatic T&E Species?",null,null,null,"Comments:"]
["NRTR Stream ID:",null,null,null,null,null,null,null,null,"Buffer Rules in Effect:"]
["Project Includes Bridge Spanning Water Body?",null,null,null,null,"Deck Drains Discharge Over Buffer?",null,null,{"$f":"IF(OR(E298=\"No\",M297=\"N/A\"),\"N/A\",\"\")","v":""},"Dissipator Pads Provided in Buffer?",null,null,null,{"$f":"IF(OR(I298=\"No\",I298=\"N/A\",),\"N/A\",\"\")","v":""}]
["Deck Drains Discharge Over Water Body?",null,null,null,{"$f":"IF(E298=\"No\",\"N/A\",\"\")","v":""},"(If yes, provide justification in the General Project Narrative)",null,null,null,"(If yes, describe in the General Project Narrative; if no, justify in the General Project Narrative)"]
["(If yes, provide justification in the General Project Narrative)"]
[]
["Surface Water Body (27):       ",null,null,null,null,null,null,"NCDWR Stream Index No.:"]
["NCDWR Surface Water Classification for Water Body",null,null,null,null,"Primary Classification:  "]
[null,null,null,null,null,"Supplemental Classification:  "]
["Other Stream Classification: "]
["Impairments:"]
["Aquatic T&E Species?",null,null,null,"Comments:"]
["NRTR Stream ID:",null,null,null,null,null,null,null,null,"Buffer Rules in Effect:"]
["Project Includes Bridge Spanning Water Body?",null,null,null,null,"Deck Drains Discharge Over Buffer?",null,null,{"$f":"IF(OR(E309=\"No\",M308=\"N/A\"),\"N/A\",\"\")","v":""},"Dissipator Pads Provided in Buffer?",null,null,null,{"$f":"IF(OR(I309=\"No\",I309=\"N/A\",),\"N/A\",\"\")","v":""}]
["Deck Drains Discharge Over Water Body?",null,null,null,{"$f":"IF(E309=\"No\",\"N/A\",\"\")","v":""},"(If yes, provide justification in the General Project Narrative)",null,null,null,"(If yes, describe in the General Project Narrative; if no, justify in the General Project Narrative)"]
["(If yes, provide justification in the General Project Narrative)"]
["WBS Element:",null,{"$f":"'General Project Information'!$C$7","v":""},"TIP No.:",{"$f":"'General Project Information'!$E$7","v":""},null,"County(ies):",{"$f":"'General Project Information'!$H$7","v":"       "},null,null,null,"Page ",{"$f":"IF(D314<>\"\",MAX('Waterbody Information'!$M$267)+1,\"\")","v":""},"of ",{"$f":"'Waterbody Information'!$O$7","v":1}]
[null,null,null,"Additional Waterbody Information"]
["Surface Water Body (28):       ",null,null,null,null,null,null,"NCDWR Stream Index No.:"]
["NCDWR Surface Water Classification for Water Body",null,null,null,null,"Primary Classification:  "]
[null,null,null,null,null,"Supplemental Classification:  "]
["Other Stream Classification: "]
["Impairments:"]
["Aquatic T&E Species?",null,null,null,"Comments:"]
["NRTR Stream ID:",null,null,null,null,null,null,null,null,"Buffer Rules in Effect:"]
["Project Includes Bridge Spanning Water Body?",null,null,null,null,"Deck Drains Discharge Over Buffer?",null,null,{"$f":"IF(OR(E321=\"No\",M320=\"N/A\"),\"N/A\",\"\")","v":""},"Dissipator Pads Provided in Buffer?",null,null,null,{"$f":"IF(OR(I321=\"No\",I321=\"N/A\",),\"N/A\",\"\")","v":""}]
["Deck Drains Discharge Over Water Body?",null,null,null,{"$f":"IF(E321=\"No\",\"N/A\",\"\")","v":""},"(If yes, provide justification in the General Project Narrative)",null,null,null,"(If yes, describe in the General Project Narrative; if no, justify in the General Project Narrative)"]
["(If yes, provide justification in the General Project Narrative)"]
[]
["Surface Water Body (29):       ",null,null,null,null,null,null,"NCDWR Stream Index No.:"]
["NCDWR Surface Water Classification for Water Body",null,null,null,null,"Primary Classification:  "]
[null,null,null,null,null,"Supplemental Classification:  "]
["Other Stream Classification: "]
["Impairments:"]
["Aquatic T&E Species?",null,null,null,"Comments:"]
["NRTR Stream ID:",null,null,null,null,null,null,null,null,"Buffer Rules in Effect:"]
["Project Includes Bridge Spanning Water Body?",null,null,null,null,"Deck Drains Discharge Over Buffer?",null,null,{"$f":"IF(OR(E332=\"No\",M331=\"N/A\"),\"N/A\",\"\")","v":""},"Dissipator Pads Provided in Buffer?",null,null,null,{"$f":"IF(OR(I332=\"No\",I332=\"N/A\",),\"N/A\",\"\")","v":""}]
["Deck Drains Discharge Over Water Body?",null,null,null,{"$f":"IF(E332=\"No\",\"N/A\",\"\")","v":""},"(If yes, provide justification in the General Project Narrative)",null,null,null,"(If yes, describe in the General Project Narrative; if no, justify in the General Project Narrative)"]
["(If yes, provide justification in the General Project Narrative)"]
[]
["Surface Water Body (30):       ",null,null,null,null,null,null,"NCDWR Stream Index No.:"]
["NCDWR Surface Water Classification for Water Body",null,null,null,null,"Primary Classification:  "]
[null,null,null,null,null,"Supplemental Classification:  "]
["Other Stream Classification: "]
["Impairments:"]
["Aquatic T&E Species?",null,null,null,"Comments:"]
["NRTR Stream ID:",null,null,null,null,null,null,null,null,"Buffer Rules in Effect:"]
["Project Includes Bridge Spanning Water Body?",null,null,null,null,"Deck Drains Discharge Over Buffer?",null,null,{"$f":"IF(OR(E343=\"No\",M342=\"N/A\"),\"N/A\",\"\")","v":""},"Dissipator Pads Provided in Buffer?",null,null,null,{"$f":"IF(OR(I343=\"No\",I343=\"N/A\",),\"N/A\",\"\")","v":""}]
["Deck Drains Discharge Over Water Body?",null,null,null,{"$f":"IF(E343=\"No\",\"N/A\",\"\")","v":""},"(If yes, provide justification in the General Project Narrative)",null,null,null,"(If yes, describe in the General Project Narrative; if no, justify in the General Project Narrative)"]
["(If yes, provide justification in the General Project Narrative)"]
[]
["Surface Water Body (31):       ",null,null,null,null,null,null,"NCDWR Stream Index No.:"]
["NCDWR Surface Water Classification for Water Body",null,null,null,null,"Primary Classification:  "]
[null,null,null,null,null,"Supplemental Classification:  "]
["Other Stream Classification: "]
["Impairments:"]
["Aquatic T&E Species?",null,null,null,"Comments:"]
["NRTR Stream ID:",null,null,null,null,null,null,null,null,"Buffer Rules in Effect:"]
["Project Includes Bridge Spanning Water Body?",null,null,null,null,"Deck Drains Discharge Over Buffer?",null,null,{"$f":"IF(OR(E354=\"No\",M353=\"N/A\"),\"N/A\",\"\")","v":""},"Dissipator Pads Provided in Buffer?",null,null,null,{"$f":"IF(OR(I354=\"No\",I354=\"N/A\",),\"N/A\",\"\")","v":""}]
["Deck Drains Discharge Over Water Body?",null,null,null,{"$f":"IF(E354=\"No\",\"N/A\",\"\")","v":""},"(If yes, provide justification in the General Project Narrative)",null,null,null,"(If yes, describe in the General Project Narrative; if no, justify in the General Project Narrative)"]
["(If yes, provide justification in the General Project Narrative)"]
["WBS Element:",null,{"$f":"'General Project Information'!$C$7","v":""},"TIP No.:",{"$f":"'General Project Information'!$E$7","v":""},null,"County(ies):",{"$f":"'General Project Information'!$H$7","v":"       "},null,null,null,"Page ",{"$f":"IF(D359<>\"\",MAX('Waterbody Information'!$M$312)+1,\"\")","v":""},"of ",{"$f":"'Waterbody Information'!$O$7","v":1}]
[null,null,null,"Additional Waterbody Information"]
["Surface Water Body (32):       ",null,null,null,null,null,null,"NCDWR Stream Index No.:"]
["NCDWR Surface Water Classification for Water Body",null,null,null,null,"Primary Classification:  "]
[null,null,null,null,null,"Supplemental Classification:  "]
["Other Stream Classification: "]
["Impairments:"]
["Aquatic T&E Species?",null,null,null,"Comments:"]
["NRTR Stream ID:",null,null,null,null,null,null,null,null,"Buffer Rules in Effect:"]
["Project Includes Bridge Spanning Water Body?",null,null,null,null,"Deck Drains Discharge Over Buffer?",null,null,{"$f":"IF(OR(E366=\"No\",M365=\"N/A\"),\"N/A\",\"\")","v":""},"Dissipator Pads Provided in Buffer?",null,null,null,{"$f":"IF(OR(I366=\"No\",I366=\"N/A\",),\"N/A\",\"\")","v":""}]
["Deck Drains Discharge Over Water Body?",null,null,null,{"$f":"IF(E366=\"No\",\"N/A\",\"\")","v":""},"(If yes, provide justification in the General Project Narrative)",null,null,null,"(If yes, describe in the General Project Narrative; if no, justify in the General Project Narrative)"]
["(If yes, provide justification in the General Project Narrative)"]
[]
["Surface Water Body (33):       ",null,null,null,null,null,null,"NCDWR Stream Index No.:"]
["NCDWR Surface Water Classification for Water Body",null,null,null,null,"Primary Classification:  "]
[null,null,null,null,null,"Supplemental Classification:  "]
["Other Stream Classification: "]
["Impairments:"]
["Aquatic T&E Species?",null,null,null,"Comments:"]
["NRTR Stream ID:",null,null,null,null,null,null,null,null,"Buffer Rules in Effect:"]
["Project Includes Bridge Spanning Water Body?",null,null,null,null,"Deck Drains Discharge Over Buffer?",null,null,{"$f":"IF(OR(E377=\"No\",M376=\"N/A\"),\"N/A\",\"\")","v":""},"Dissipator Pads Provided in Buffer?",null,null,null,{"$f":"IF(OR(I377=\"No\",I377=\"N/A\",),\"N/A\",\"\")","v":""}]
["Deck Drains Discharge Over Water Body?",null,null,null,{"$f":"IF(E377=\"No\",\"N/A\",\"\")","v":""},"(If yes, provide justification in the General Project Narrative)",null,null,null,"(If yes, describe in the General Project Narrative; if no, justify in the General Project Narrative)"]
["(If yes, provide justification in the General Project Narrative)"]
[]
["Surface Water Body (34):       ",null,null,null,null,null,null,"NCDWR Stream Index No.:"]
["NCDWR Surface Water Classification for Water Body",null,null,null,null,"Primary Classification:  "]
[null,null,null,null,null,"Supplemental Classification:  "]
["Other Stream Classification: "]
["Impairments:"]
["Aquatic T&E Species?",null,null,null,"Comments:"]
["NRTR Stream ID:",null,null,null,null,null,null,null,null,"Buffer Rules in Effect:"]
["Project Includes Bridge Spanning Water Body?",null,null,null,null,"Deck Drains Discharge Over Buffer?",null,null,{"$f":"IF(OR(E388=\"No\",M387=\"N/A\"),\"N/A\",\"\")","v":""},"Dissipator Pads Provided in Buffer?",null,null,null,{"$f":"IF(OR(I388=\"No\",I388=\"N/A\",),\"N/A\",\"\")","v":""}]
["Deck Drains Discharge Over Water Body?",null,null,null,{"$f":"IF(E388=\"No\",\"N/A\",\"\")","v":""},"(If yes, provide justification in the General Project Narrative)",null,null,null,"(If yes, describe in the General Project Narrative; if no, justify in the General Project Narrative)"]
["(If yes, provide justification in the General Project Narrative)"]
[]
["Surface Water Body (35):       ",null,null,null,null,null,null,"NCDWR Stream Index No.:"]
["NCDWR Surface Water Classification for Water Body",null,null,null,null,"Primary Classification:  "]
[null,null,null,null,null,"Supplemental Classification:  "]
["Other Stream Classification: "]
["Impairments:"]
["Aquatic T&E Species?",null,null,null,"Comments:"]
["NRTR Stream ID:",null,null,null,null,null,null,null,null,"Buffer Rules in Effect:"]
["Project Includes Bridge Spanning Water Body?",null,null,null,null,"Deck Drains Discharge Over Buffer?",null,null,{"$f":"IF(OR(E399=\"No\",M398=\"N/A\"),\"N/A\",\"\")","v":""},"Dissipator Pads Provided in Buffer?",null,null,null,{"$f":"IF(OR(I399=\"No\",I399=\"N/A\",),\"N/A\",\"\")","v":""}]
["Deck Drains Discharge Over Water Body?",null,null,null,{"$f":"IF(E399=\"No\",\"N/A\",\"\")","v":""},"(If yes, provide justification in the General Project Narrative)",null,null,null,"(If yes, describe in the General Project Narrative; if no, justify in the General Project Narrative)"]
["(If yes, provide justification in the General Project Narrative)"]
["WBS Element:",null,{"$f":"'General Project Information'!$C$7","v":""},"TIP No.:",{"$f":"'General Project Information'!$E$7","v":""},null,"County(ies):",{"$f":"'General Project Information'!$H$7","v":"       "},null,null,null,"Page ",{"$f":"IF(D404<>\"\",MAX('Waterbody Information'!$M$357)+1,\"\")","v":""},"of ",{"$f":"'Waterbody Information'!$O$7","v":1}]
[null,null,null,"Additional Waterbody Information"]
["Surface Water Body (36):       ",null,null,null,null,null,null,"NCDWR Stream Index No.:"]
["NCDWR Surface Water Classification for Water Body",null,null,null,null,"Primary Classification:  "]
[null,null,null,null,null,"Supplemental Classification:  "]
["Other Stream Classification: "]
["Impairments:"]
["Aquatic T&E Species?",null,null,null,"Comments:"]
["NRTR Stream ID:",null,null,null,null,null,null,null,null,"Buffer Rules in Effect:"]
["Project Includes Bridge Spanning Water Body?",null,null,null,null,"Deck Drains Discharge Over Buffer?",null,null,{"$f":"IF(OR(E411=\"No\",M410=\"N/A\"),\"N/A\",\"\")","v":""},"Dissipator Pads Provided in Buffer?",null,null,null,{"$f":"IF(OR(I411=\"No\",I411=\"N/A\",),\"N/A\",\"\")","v":""}]
["Deck Drains Discharge Over Water Body?",null,null,null,{"$f":"IF(E411=\"No\",\"N/A\",\"\")","v":""},"(If yes, provide justification in the General Project Narrative)",null,null,null,"(If yes, describe in the General Project Narrative; if no, justify in the General Project Narrative)"]
["(If yes, provide justification in the General Project Narrative)"]
[]
["Surface Water Body (37):       ",null,null,null,null,null,null,"NCDWR Stream Index No.:"]
["NCDWR Surface Water Classification for Water Body",null,null,null,null,"Primary Classification:  "]
[null,null,null,null,null,"Supplemental Classification:  "]
["Other Stream Classification: "]
["Impairments:"]
["Aquatic T&E Species?",null,null,null,"Comments:"]
["NRTR Stream ID:",null,null,null,null,null,null,null,null,"Buffer Rules in Effect:"]
["Project Includes Bridge Spanning Water Body?",null,null,null,null,"Deck Drains Discharge Over Buffer?",null,null,{"$f":"IF(OR(E422=\"No\",M421=\"N/A\"),\"N/A\",\"\")","v":""},"Dissipator Pads Provided in Buffer?",null,null,null,{"$f":"IF(OR(I422=\"No\",I422=\"N/A\",),\"N/A\",\"\")","v":""}]
["Deck Drains Discharge Over Water Body?",null,null,null,{"$f":"IF(E422=\"No\",\"N/A\",\"\")","v":""},"(If yes, provide justification in the General Project Narrative)",null,null,null,"(If yes, describe in the General Project Narrative; if no, justify in the General Project Narrative)"]
["(If yes, provide justification in the General Project Narrative)"]
[]
["Surface Water Body (38):       ",null,null,null,null,null,null,"NCDWR Stream Index No.:"]
["NCDWR Surface Water Classification for Water Body",null,null,null,null,"Primary Classification:  "]
[null,null,null,null,null,"Supplemental Classification:  "]
["Other Stream Classification: "]
["Impairments:"]
["Aquatic T&E Species?",null,null,null,"Comments:"]
["NRTR Stream ID:",null,null,null,null,null,null,null,null,"Buffer Rules in Effect:"]
["Project Includes Bridge Spanning Water Body?",null,null,null,null,"Deck Drains Discharge Over Buffer?",null,null,{"$f":"IF(OR(E433=\"No\",M432=\"N/A\"),\"N/A\",\"\")","v":""},"Dissipator Pads Provided in Buffer?",null,null,null,{"$f":"IF(OR(I433=\"No\",I433=\"N/A\",),\"N/A\",\"\")","v":""}]
["Deck Drains Discharge Over Water Body?",null,null,null,{"$f":"IF(E433=\"No\",\"N/A\",\"\")","v":""},"(If yes, provide justification in the General Project Narrative)",null,null,null,"(If yes, describe in the General Project Narrative; if no, justify in the General Project Narrative)"]
["(If yes, provide justification in the General Project Narrative)"]
[]
["Surface Water Body (39):       ",null,null,null,null,null,null,"NCDWR Stream Index No.:"]
["NCDWR Surface Water Classification for Water Body",null,null,null,null,"Primary Classification:  "]
[null,null,null,null,null,"Supplemental Classification:  "]
["Other Stream Classification: "]
["Impairments:"]
["Aquatic T&E Species?",null,null,null,"Comments:"]
["NRTR Stream ID:",null,null,null,null,null,null,null,null,"Buffer Rules in Effect:"]
["Project Includes Bridge Spanning Water Body?",null,null,null,null,"Deck Drains Discharge Over Buffer?",null,null,{"$f":"IF(OR(E444=\"No\",M443=\"N/A\"),\"N/A\",\"\")","v":""},"Dissipator Pads Provided in Buffer?",null,null,null,{"$f":"IF(OR(I444=\"No\",I444=\"N/A\",),\"N/A\",\"\")","v":""}]
["Deck Drains Discharge Over Water Body?",null,null,null,{"$f":"IF(E444=\"No\",\"N/A\",\"\")","v":""},"(If yes, provide justification in the General Project Narrative)",null,null,null,"(If yes, describe in the General Project Narrative; if no, justify in the General Project Narrative)"]
["(If yes, provide justification in the General Project Narrative)"]
["WBS Element:",null,{"$f":"'General Project Information'!$C$7","v":""},"TIP No.:",{"$f":"'General Project Information'!$E$7","v":""},null,"County(ies):",{"$f":"'General Project Information'!$H$7","v":"       "},null,null,null,"Page ",{"$f":"IF(D449<>\"\",MAX('Waterbody Information'!$M$402)+1,\"\")","v":""},"of ",{"$f":"'Waterbody Information'!$O$7","v":1}]
[null,null,null,"Additional Waterbody Information"]
["Surface Water Body (40):       ",null,null,null,null,null,null,"NCDWR Stream Index No.:"]
["NCDWR Surface Water Classification for Water Body",null,null,null,null,"Primary Classification:  "]
[null,null,null,null,null,"Supplemental Classification:  "]
["Other Stream Classification: "]
["Impairments:"]
["Aquatic T&E Species?",null,null,null,"Comments:"]
["NRTR Stream ID:",null,null,null,null,null,null,null,null,"Buffer Rules in Effect:"]
["Project Includes Bridge Spanning Water Body?",null,null,null,null,"Deck Drains Discharge Over Buffer?",null,null,{"$f":"IF(OR(E456=\"No\",M455=\"N/A\"),\"N/A\",\"\")","v":""},"Dissipator Pads Provided in Buffer?",null,null,null,{"$f":"IF(OR(I456=\"No\",I456=\"N/A\",),\"N/A\",\"\")","v":""}]
["Deck Drains Discharge Over Water Body?",null,null,null,{"$f":"IF(E456=\"No\",\"N/A\",\"\")","v":""},"(If yes, provide justification in the General Project Narrative)",null,null,null,"(If yes, describe in the General Project Narrative; if no, justify in the General Project Narrative)"]
["(If yes, provide justification in the General Project Narrative)"]
[]
["Surface Water Body (41):       ",null,null,null,null,null,null,"NCDWR Stream Index No.:"]
["NCDWR Surface Water Classification for Water Body",null,null,null,null,"Primary Classification:  "]
[null,null,null,null,null,"Supplemental Classification:  "]
["Other Stream Classification: "]
["Impairments:"]
["Aquatic T&E Species?",null,null,null,"Comments:"]
["NRTR Stream ID:",null,null,null,null,null,null,null,null,"Buffer Rules in Effect:"]
["Project Includes Bridge Spanning Water Body?",null,null,null,null,"Deck Drains Discharge Over Buffer?",null,null,{"$f":"IF(OR(E467=\"No\",M466=\"N/A\"),\"N/A\",\"\")","v":""},"Dissipator Pads Provided in Buffer?",null,null,null,{"$f":"IF(OR(I467=\"No\",I467=\"N/A\",),\"N/A\",\"\")","v":""}]
["Deck Drains Discharge Over Water Body?",null,null,null,{"$f":"IF(E467=\"No\",\"N/A\",\"\")","v":""},"(If yes, provide justification in the General Project Narrative)",null,null,null,"(If yes, describe in the General Project Narrative; if no, justify in the General Project Narrative)"]
["(If yes, provide justification in the General Project Narrative)"]
[]
["Surface Water Body (42):       ",null,null,null,null,null,null,"NCDWR Stream Index No.:"]
["NCDWR Surface Water Classification for Water Body",null,null,null,null,"Primary Classification:  "]
[null,null,null,null,null,"Supplemental Classification:  "]
["Other Stream Classification: "]
["Impairments:"]
["Aquatic T&E Species?",null,null,null,"Comments:"]
["NRTR Stream ID:",null,null,null,null,null,null,null,null,"Buffer Rules in Effect:"]
["Project Includes Bridge Spanning Water Body?",null,null,null,null,"Deck Drains Discharge Over Buffer?",null,null,{"$f":"IF(OR(E478=\"No\",M477=\"N/A\"),\"N/A\",\"\")","v":""},"Dissipator Pads Provided in Buffer?",null,null,null,{"$f":"IF(OR(I478=\"No\",I478=\"N/A\",),\"N/A\",\"\")","v":""}]
["Deck Drains Discharge Over Water Body?",null,null,null,{"$f":"IF(E478=\"No\",\"N/A\",\"\")","v":""},"(If yes, provide justification in the General Project Narrative)",null,null,null,"(If yes, describe in the General Project Narrative; if no, justify in the General Project Narrative)"]
["(If yes, provide justification in the General Project Narrative)"]
[]
["Surface Water Body (43):       ",null,null,null,null,null,null,"NCDWR Stream Index No.:"]
["NCDWR Surface Water Classification for Water Body",null,null,null,null,"Primary Classification:  "]
[null,null,null,null,null,"Supplemental Classification:  "]
["Other Stream Classification: "]
["Impairments:"]
["Aquatic T&E Species?",null,null,null,"Comments:"]
["NRTR Stream ID:",null,null,null,null,null,null,null,null,"Buffer Rules in Effect:"]
["Project Includes Bridge Spanning Water Body?",null,null,null,null,"Deck Drains Discharge Over Buffer?",null,null,{"$f":"IF(OR(E489=\"No\",M488=\"N/A\"),\"N/A\",\"\")","v":""},"Dissipator Pads Provided in Buffer?",null,null,null,{"$f":"IF(OR(I489=\"No\",I489=\"N/A\",),\"N/A\",\"\")","v":""}]
["Deck Drains Discharge Over Water Body?",null,null,null,{"$f":"IF(E489=\"No\",\"N/A\",\"\")","v":""},"(If yes, provide justification in the General Project Narrative)",null,null,null,"(If yes, describe in the General Project Narrative; if no, justify in the General Project Narrative)"]
["(If yes, provide justification in the General Project Narrative)"]
["WBS Element:",null,{"$f":"'General Project Information'!$C$7","v":""},"TIP No.:",{"$f":"'General Project Information'!$E$7","v":""},null,"County(ies):",{"$f":"'General Project Information'!$H$7","v":"       "},null,null,null,"Page ",{"$f":"IF(D494<>\"\",MAX('Waterbody Information'!$M$447)+1,\"\")","v":""},"of ",{"$f":"'Waterbody Information'!$O$7","v":1}]
[null,null,null,"Additional Waterbody Information"]
["Surface Water Body (44):       ",null,null,null,null,null,null,"NCDWR Stream Index No.:"]
["NCDWR Surface Water Classification for Water Body",null,null,null,null,"Primary Classification:  "]
[null,null,null,null,null,"Supplemental Classification:  "]
["Other Stream Classification: "]
["Impairments:"]
["Aquatic T&E Species?",null,null,null,"Comments:"]
["NRTR Stream ID:",null,null,null,null,null,null,null,null,"Buffer Rules in Effect:"]
["Project Includes Bridge Spanning Water Body?",null,null,null,null,"Deck Drains Discharge Over Buffer?",null,null,{"$f":"IF(OR(E501=\"No\",M500=\"N/A\"),\"N/A\",\"\")","v":""},"Dissipator Pads Provided in Buffer?",null,null,null,{"$f":"IF(OR(I501=\"No\",I501=\"N/A\",),\"N/A\",\"\")","v":""}]
["Deck Drains Discharge Over Water Body?",null,null,null,{"$f":"IF(E501=\"No\",\"N/A\",\"\")","v":""},"(If yes, provide justification in the General Project Narrative)",null,null,null,"(If yes, describe in the General Project Narrative; if no, justify in the General Project Narrative)"]
["(If yes, provide justification in the General Project Narrative)"]
[]
["Surface Water Body (45):       ",null,null,null,null,null,null,"NCDWR Stream Index No.:"]
["NCDWR Surface Water Classification for Water Body",null,null,null,null,"Primary Classification:  "]
[null,null,null,null,null,"Supplemental Classification:  "]
["Other Stream Classification: "]
["Impairments:"]
["Aquatic T&E Species?",null,null,null,"Comments:"]
["NRTR Stream ID:",null,null,null,null,null,null,null,null,"Buffer Rules in Effect:"]
["Project Includes Bridge Spanning Water Body?",null,null,null,null,"Deck Drains Discharge Over Buffer?",null,null,{"$f":"IF(OR(E512=\"No\",M511=\"N/A\"),\"N/A\",\"\")","v":""},"Dissipator Pads Provided in Buffer?",null,null,null,{"$f":"IF(OR(I512=\"No\",I512=\"N/A\",),\"N/A\",\"\")","v":""}]
["Deck Drains Discharge Over Water Body?",null,null,null,{"$f":"IF(E512=\"No\",\"N/A\",\"\")","v":""},"(If yes, provide justification in the General Project Narrative)",null,null,null,"(If yes, describe in the General Project Narrative; if no, justify in the General Project Narrative)"]
["(If yes, provide justification in the General Project Narrative)"]
[]
["Surface Water Body (46):       ",null,null,null,null,null,null,"NCDWR Stream Index No.:"]
["NCDWR Surface Water Classification for Water Body",null,null,null,null,"Primary Classification:  "]
[null,null,null,null,null,"Supplemental Classification:  "]
["Other Stream Classification: "]
["Impairments:"]
["Aquatic T&E Species?",null,null,null,"Comments:"]
["NRTR Stream ID:",null,null,null,null,null,null,null,null,"Buffer Rules in Effect:"]
["Project Includes Bridge Spanning Water Body?",null,null,null,null,"Deck Drains Discharge Over Buffer?",null,null,{"$f":"IF(OR(E523=\"No\",M522=\"N/A\"),\"N/A\",\"\")","v":""},"Dissipator Pads Provided in Buffer?",null,null,null,{"$f":"IF(OR(I523=\"No\",I523=\"N/A\",),\"N/A\",\"\")","v":""}]
["Deck Drains Discharge Over Water Body?",null,null,null,{"$f":"IF(E523=\"No\",\"N/A\",\"\")","v":""},"(If yes, provide justification in the General Project Narrative)",null,null,null,"(If yes, describe in the General Project Narrative; if no, justify in the General Project Narrative)"]
["(If yes, provide justification in the General Project Narrative)"]
[]
["Surface Water Body (47):       ",null,null,null,null,null,null,"NCDWR Stream Index No.:"]
["NCDWR Surface Water Classification for Water Body",null,null,null,null,"Primary Classification:  "]
[null,null,null,null,null,"Supplemental Classification:  "]
["Other Stream Classification: "]
["Impairments:"]
["Aquatic T&E Species?",null,null,null,"Comments:"]
["NRTR Stream ID:",null,null,null,null,null,null,null,null,"Buffer Rules in Effect:"]
["Project Includes Bridge Spanning Water Body?",null,null,null,null,"Deck Drains Discharge Over Buffer?",null,null,{"$f":"IF(OR(E534=\"No\",M533=\"N/A\"),\"N/A\",\"\")","v":""},"Dissipator Pads Provided in Buffer?",null,null,null,{"$f":"IF(OR(I534=\"No\",I534=\"N/A\",),\"N/A\",\"\")","v":""}]
["Deck Drains Discharge Over Water Body?",null,null,null,{"$f":"IF(E534=\"No\",\"N/A\",\"\")","v":""},"(If yes, provide justification in the General Project Narrative)",null,null,null,"(If yes, describe in the General Project Narrative; if no, justify in the General Project Narrative)"]
["(If yes, provide justification in the General Project Narrative)"]
["WBS Element:",null,{"$f":"'General Project Information'!$C$7","v":""},"TIP No.:",{"$f":"'General Project Information'!$E$7","v":""},null,"County(ies):",{"$f":"'General Project Information'!$H$7","v":"       "},null,null,null,"Page ",{"$f":"IF(D539<>\"\",MAX('Waterbody Information'!$M$492)+1,\"\")","v":""},"of ",{"$f":"'Waterbody Information'!$O$7","v":1}]
[null,null,null,"Additional Waterbody Information"]
["Surface Water Body (48):       ",null,null,null,null,null,null,"NCDWR Stream Index No.:"]
["NCDWR Surface Water Classification for Water Body",null,null,null,null,"Primary Classification:  "]
[null,null,null,null,null,"Supplemental Classification:  "]
["Other Stream Classification: "]
["Impairments:"]
["Aquatic T&E Species?",null,null,null,"Comments:"]
["NRTR Stream ID:",null,null,null,null,null,null,null,null,"Buffer Rules in Effect:"]
["Project Includes Bridge Spanning Water Body?",null,null,null,null,"Deck Drains Discharge Over Buffer?",null,null,{"$f":"IF(OR(E546=\"No\",M545=\"N/A\"),\"N/A\",\"\")","v":""},"Dissipator Pads Provided in Buffer?",null,null,null,{"$f":"IF(OR(I546=\"No\",I546=\"N/A\",),\"N/A\",\"\")","v":""}]
["Deck Drains Discharge Over Water Body?",null,null,null,{"$f":"IF(E546=\"No\",\"N/A\",\"\")","v":""},"(If yes, provide justification in the General Project Narrative)",null,null,null,"(If yes, describe in the General Project Narrative; if no, justify in the General Project Narrative)"]
["(If yes, provide justification in the General Project Narrative)"]
[]
["Surface Water Body (49):       ",null,null,null,null,null,null,"NCDWR Stream Index No.:"]
["NCDWR Surface Water Classification for Water Body",null,null,null,null,"Primary Classification:  "]
[null,null,null,null,null,"Supplemental Classification:  "]
["Other Stream Classification: "]
["Impairments:"]
["Aquatic T&E Species?",null,null,null,"Comments:"]
["NRTR Stream ID:",null,null,null,null,null,null,null,null,"Buffer Rules in Effect:"]
["Project Includes Bridge Spanning Water Body?",null,null,null,null,"Deck Drains Discharge Over Buffer?",null,null,{"$f":"IF(OR(E557=\"No\",M556=\"N/A\"),\"N/A\",\"\")","v":""},"Dissipator Pads Provided in Buffer?",null,null,null,{"$f":"IF(OR(I557=\"No\",I557=\"N/A\",),\"N/A\",\"\")","v":""}]
["Deck Drains Discharge Over Water Body?",null,null,null,{"$f":"IF(E557=\"No\",\"N/A\",\"\")","v":""},"(If yes, provide justification in the General Project Narrative)",null,null,null,"(If yes, describe in the General Project Narrative; if no, justify in the General Project Narrative)"]
["(If yes, provide justification in the General Project Narrative)"]
[]
["Surface Water Body (50):       ",null,null,null,null,null,null,"NCDWR Stream Index No.:"]
["NCDWR Surface Water Classification for Water Body",null,null,null,null,"Primary Classification:  "]
[null,null,null,null,null,"Supplemental Classification:  "]
["Other Stream Classification: "]
["Impairments:"]
["Aquatic T&E Species?",null,null,null,"Comments:"]
["NRTR Stream ID:",null,null,null,null,null,null,null,null,"Buffer Rules in Effect:"]
["Project Includes Bridge Spanning Water Body?",null,null,null,null,"Deck Drains Discharge Over Buffer?",null,null,{"$f":"IF(OR(E568=\"No\",M567=\"N/A\"),\"N/A\",\"\")","v":""},"Dissipator Pads Provided in Buffer?",null,null,null,{"$f":"IF(OR(I568=\"No\",I568=\"N/A\",),\"N/A\",\"\")","v":""}]
["Deck Drains Discharge Over Water Body?",null,null,null,{"$f":"IF(E568=\"No\",\"N/A\",\"\")","v":""},"(If yes, provide justification in the General Project Narrative)",null,null,null,"(If yes, describe in the General Project Narrative; if no, justify in the General Project Narrative)"]
["(If yes, provide justification in the General Project Narrative)"]
[]
["Surface Water Body (51):       ",null,null,null,null,null,null,"NCDWR Stream Index No.:"]
["NCDWR Surface Water Classification for Water Body",null,null,null,null,"Primary Classification:  "]
[null,null,null,null,null,"Supplemental Classification:  "]
["Other Stream Classification: "]
["Impairments:"]
["Aquatic T&E Species?",null,null,null,"Comments:"]
["NRTR Stream ID:",null,null,null,null,null,null,null,null,"Buffer Rules in Effect:"]
["Project Includes Bridge Spanning Water Body?",null,null,null,null,"Deck Drains Discharge Over Buffer?",null,null,{"$f":"IF(OR(E579=\"No\",M578=\"N/A\"),\"N/A\",\"\")","v":""},"Dissipator Pads Provided in Buffer?",null,null,null,{"$f":"IF(OR(I579=\"No\",I579=\"N/A\",),\"N/A\",\"\")","v":""}]
["Deck Drains Discharge Over Water Body?",null,null,null,{"$f":"IF(E579=\"No\",\"N/A\",\"\")","v":""},"(If yes, provide justification in the General Project Narrative)",null,null,null,"(If yes, describe in the General Project Narrative; if no, justify in the General Project Narrative)"]
["(If yes, provide justification in the General Project Narrative)"]

{"sheet":"Swales","index":4,"n_rows":316,"n_cols":24,"rows_kept":316,"cut":false,"hidden":false,"merged":[[20,8,20,13],[12,0,12,19],[8,0,10,5],[0,0,0,17],[14,0,14,19],[1,6,1,19],[2,6,2,19],[3,6,3,19],[4,6,4,19],[5,6,5,19],[6,6,6,19],[13,0,13,19],[1,0,7,5],[7,6,7,19],[8,6,8,19],[9,6,9,19],[10,6,10,19],[19,0,19,5],[16,8,16,14],[17,8,17,14],[18,8,18,14],[68,8,68,14],[60,8,60,14],[67,8,67,14],[61,0,66,19],[316,0,321,19],[315,8,315,14],[172,0,172,5],[173,8,173,13],[171,8,171,14],[222,8,222,14],[224,8,224,13],[223,0,223,5],[264,8,264,14],[271,8,271,14],[272,8,272,14],[273,8,273,14],[221,8,221,14],[265,0,270,19],[274,0,274,5],[275,8,275,13],[213,8,213,14],[220,8,220,14],[69,8,69,14],[111,8,111,14],[118,8,118,14],[119,8,119,14],[120,8,120,14],[163,0,168,19],[214,0,219,19],[70,0,70,5],[169,8,169,14],[162,8,162,14],[71,8,71,13],[112,0,117,19],[121,0,121,5],[122,8,122,13],[170,8,170,14]]}
["Swale Design Guidelines *",null,null,null,null,null,null,null,null,null,null,null,null,null,null,null,null,null,null,null,null,null,"# pages previous sheets:",{"$f":"'Waterbody Information'!AA3","v":1}]
["Swale",null,null,null,null,null,"• Designed to treat Q2 and convey Q10 without erosion and with 6” freeboard",null,null,null,null,null,null,null,null,null,null,null,null,null,null,null,"# pages this sheet:",{"$f":"COUNT(R20,R71,R122,R173,R224,R275)","v":0}]
[null,null,null,null,null,null,"• Side slopes 3:1 or flatter",null,null,null,null,null,null,null,null,null,null,null,null,null,null,null,"# pages total:",{"$f":"X2+X1","v":1}]
[null,null,null,null,null,null,"• Long. slope ≥ 0.3% and ≤ 4%"]
[null,null,null,null,null,null,"• Flow velocity from the 2-year storm (V2) ≤ 2 fps"]
[null,null,null,null,null,null,"Flow velocity from the 10-year storm (V10) ≤ 4 fps"]
[null,null,null,null,null,null,"• Base Width ≤ 6 ft"]
[null,null,null,null,null,null,"• 100 ft of swale length per acre of DA"]
["Check Dams (Optional)",null,null,null,null,null,"• 1 ft high along wetted perimeter"]
[null,null,null,null,null,null,"• 4.5 ft wide in the direction of flow"]
[null,null,null,null,null,null,"• Toe of upstream = top elev. of downstream check"]
[]
["* Design guidelines are outlined for various Best Management Practices (BMPs) as provided in the NCDOT BMP Toolbox (2014).  The guidelines listed are intended to provide a general overview of key design elements, but do not include all design criteria, guidelines, or recommendations and are not intended to serve as the sole source of design criteria.  The NCDOT BMP Toolbox, NCDOT Standard Details, the Federal Highway Administration (FHWA) Hydraulic Engineering Circular 14 (HEC-14) (July 2006), and any other applicable sources should be referenced for additional information. "]
["Please fill out all yellow cells as completely as possible.  Use pick lists where provided.  See swale design guidelines above.  For more information on the NCDOT Stormwater Management Plan form, please refer to the document, NCDOT Stormwater Best Management Practices Toolbox (2014).  "]
["Print area may be adjusted to include sheets as needed."]
[]
[null,null,null,null,null,null,null,null,"North Carolina Department of Transportation"]
[null,null,null,null,null,null,null,null,"Highway Stormwater Program"]
[{"$f":"'General Project Information'!$A$6","v":"(Version 3.02; Released April 23, 2024)"},null,null,null,null,null,null,null,"STORMWATER MANAGEMENT PLAN\nFOR NCDOT PROJECTS"]
["WBS Element:",null,null,null,null,null,{"$f":"'General Project Information'!$C$7","v":""},"TIP/Proj No.:",{"$f":"'General Project Information'!$E$7","v":""},null,"County(ies):",{"$f":"'General Project Information'!$H$7","v":"       "},null,null,null,null,"Page ",{"$f":"IF(A23<>\"\",MAX(X1)+1,\"\")","v":""},"of ",{"$f":"'General Project Information'!$O$7","v":1}]
[null,null,null,null,null,null,null,null,"Swale"]
["Sheet No.","Line","Station","Location\n(LT,RT,CL)","Latitude","Longitude","Surface Water Body","Base Width\n(ft)","Front Slope\n(H:1)","Back Slope\n(H:1)","Drainage Area\n(ac)","Recommended Treatm't Length\n(ft)","Actual Length\n(ft)","Longitudinal Slope\n(%)","Q2\n(cfs)","V2\n(fps)","Q10\n(cfs)","V10\n(fps)","Rock Checks Used","BMP Associated w/ Buffer Rules?"]
[null,null,null,null,null,null,{"$f":"IF(AND(A23<>\"\",'Waterbody Information'!$D$10<>\"\",'Waterbody Information'!$D$21=\"\"),Picklists!$AH$4,\"\")","v":""},null,null,null,null,{"$f":"IF(K23=\"\",\"\",K23*100)","v":""}]
[null,null,null,null,null,null,{"$f":"IF(AND(A24<>\"\",'Waterbody Information'!$D$10<>\"\",'Waterbody Information'!$D$21=\"\"),Picklists!$AH$4,\"\")","v":""},null,null,null,null,""]
[null,null,null,null,null,null,{"$f":"IF(AND(A25<>\"\",'Waterbody Information'!$D$10<>\"\",'Waterbody Information'!$D$21=\"\"),Picklists!$AH$4,\"\")","v":""},null,null,null,null,""]
[null,null,null,null,null,null,{"$f":"IF(AND(A26<>\"\",'Waterbody Information'!$D$10<>\"\",'Waterbody Information'!$D$21=\"\"),Picklists!$AH$4,\"\")","v":""},null,null,null,null,""]
[null,null,null,null,null,null,{"$f":"IF(AND(A27<>\"\",'Waterbody Information'!$D$10<>\"\",'Waterbody Information'!$D$21=\"\"),Picklists!$AH$4,\"\")","v":""},null,null,null,null,""]
[null,null,null,null,null,null,{"$f":"IF(AND(A28<>\"\",'Waterbody Information'!$D$10<>\"\",'Waterbody Information'!$D$21=\"\"),Picklists!$AH$4,\"\")","v":""},null,null,null,null,""]
[null,null,null,null,null,null,{"$f":"IF(AND(A29<>\"\",'Waterbody Information'!$D$10<>\"\",'Waterbody Information'!$D$21=\"\"),Picklists!$AH$4,\"\")","v":""},null,null,null,null,""]
[null,null,null,null,null,null,{"$f":"IF(AND(A30<>\"\",'Waterbody Information'!$D$10<>\"\",'Waterbody Information'!$D$21=\"\"),Picklists!$AH$4,\"\")","v":""},null,null,null,null,""]
[null,null,null,null,null,null,{"$f":"IF(AND(A31<>\"\",'Waterbody Information'!$D$10<>\"\",'Waterbody Information'!$D$21=\"\"),Picklists!$AH$4,\"\")","v":""},null,null,null,null,""]
[null,null,null,null,null,null,{"$f":"IF(AND(A32<>\"\",'Waterbody Information'!$D$10<>\"\",'Waterbody Information'!$D$21=\"\"),Picklists!$AH$4,\"\")","v":""},null,null,null,null,""]
[null,null,null,null,null,null,{"$f":"IF(AND(A33<>\"\",'Waterbody Information'!$D$10<>\"\",'Waterbody Information'!$D$21=\"\"),Picklists!$AH$4,\"\")","v":""},null,null,null,null,""]
[null,null,null,null,null,null,{"$f":"IF(AND(A34<>\"\",'Waterbody Information'!$D$10<>\"\",'Waterbody Information'!$D$21=\"\"),Picklists!$AH$4,\"\")","v":""},null,null,null,null,""]
[null,null,null,null,null,null,{"$f":"IF(AND(A35<>\"\",'Waterbody Information'!$D$10<>\"\",'Waterbody Information'!$D$21=\"\"),Picklists!$AH$4,\"\")","v":""},null,null,null,null,""]
[null,null,null,null,null,null,{"$f":"IF(AND(A36<>\"\",'Waterbody Information'!$D$10<>\"\",'Waterbody Information'!$D$21=\"\"),Picklists!$AH$4,\"\")","v":""},null,null,null,null,""]
[null,null,null,null,null,null,{"$f":"IF(AND(A37<>\"\",'Waterbody Information'!$D$10<>\"\",'Waterbody Information'!$D$21=\"\"),Picklists!$AH$4,\"\")","v":""},null,null,null,null,""]
[null,null,null,null,null,null,{"$f":"IF(AND(A38<>\"\",'Waterbody Information'!$D$10<>\"\",'Waterbody Information'!$D$21=\"\"),Picklists!$AH$4,\"\")","v":""},null,null,null,null,""]
[null,null,null,null,null,null,{"$f":"IF(AND(A39<>\"\",'Waterbody Information'!$D$10<>\"\",'Waterbody Information'!$D$21=\"\"),Picklists!$AH$4,\"\")","v":""},null,null,null,null,""]
[null,null,null,null,null,null,{"$f":"IF(AND(A40<>\"\",'Waterbody Information'!$D$10<>\"\",'Waterbody Information'!$D$21=\"\"),Picklists!$AH$4,\"\")","v":""},null,null,null,null,""]
[null,null,null,null,null,null,{"$f":"IF(AND(A41<>\"\",'Waterbody Information'!$D$10<>\"\",'Waterbody Information'!$D$21=\"\"),Picklists!$AH$4,\"\")","v":""},null,null,null,null,""]
[null,null,null,null,null,null,{"$f":"IF(AND(A42<>\"\",'Waterbody Information'!$D$10<>\"\",'Waterbody Information'!$D$21=\"\"),Picklists!$AH$4,\"\")","v":""},null,null,null,null,""]
[null,null,null,null,null,null,{"$f":"IF(AND(A43<>\"\",'Waterbody Information'!$D$10<>\"\",'Waterbody Information'!$D$21=\"\"),Picklists!$AH$4,\"\")","v":""},null,null,null,null,""]
[null,null,null,null,null,null,{"$f":"IF(AND(A44<>\"\",'Waterbody Information'!$D$10<>\"\",'Waterbody Information'!$D$21=\"\"),Picklists!$AH$4,\"\")","v":""},null,null,null,null,""]
[null,null,null,null,null,null,{"$f":"IF(AND(A45<>\"\",'Waterbody Information'!$D$10<>\"\",'Waterbody Information'!$D$21=\"\"),Picklists!$AH$4,\"\")","v":""},null,null,null,null,""]
[null,null,null,null,null,null,{"$f":"IF(AND(A46<>\"\",'Waterbody Information'!$D$10<>\"\",'Waterbody Information'!$D$21=\"\"),Picklists!$AH$4,\"\")","v":""},null,null,null,null,""]
[null,null,null,null,null,null,{"$f":"IF(AND(A47<>\"\",'Waterbody Information'!$D$10<>\"\",'Waterbody Information'!$D$21=\"\"),Picklists!$AH$4,\"\")","v":""},null,null,null,null,""]
[null,null,null,null,null,null,{"$f":"IF(AND(A48<>\"\",'Waterbody Information'!$D$10<>\"\",'Waterbody Information'!$D$21=\"\"),Picklists!$AH$4,\"\")","v":""},null,null,null,null,""]
[null,null,null,null,null,null,{"$f":"IF(AND(A49<>\"\",'Waterbody Information'!$D$10<>\"\",'Waterbody Information'!$D$21=\"\"),Picklists!$AH$4,\"\")","v":""},null,null,null,null,""]
[null,null,null,null,null,null,{"$f":"IF(AND(A50<>\"\",'Waterbody Information'!$D$10<>\"\",'Waterbody Information'!$D$21=\"\"),Picklists!$AH$4,\"\")","v":""},null,null,null,null,""]
[null,null,null,null,null,null,{"$f":"IF(AND(A51<>\"\",'Waterbody Information'!$D$10<>\"\",'Waterbody Information'!$D$21=\"\"),Picklists!$AH$4,\"\")","v":""},null,null,null,null,""]
[null,null,null,null,null,null,{"$f":"IF(AND(A52<>\"\",'Waterbody Information'!$D$10<>\"\",'Waterbody Information'!$D$21=\"\"),Picklists!$AH$4,\"\")","v":""},null,null,null,null,""]
[null,null,null,null,null,null,{"$f":"IF(AND(A53<>\"\",'Waterbody Information'!$D$10<>\"\",'Waterbody Information'!$D$21=\"\"),Picklists!$AH$4,\"\")","v":""},null,null,null,null,""]
[null,null,null,null,null,null,{"$f":"IF(AND(A54<>\"\",'Waterbody Information'!$D$10<>\"\",'Waterbody Information'!$D$21=\"\"),Picklists!$AH$4,\"\")","v":""},null,null,null,null,""]
[null,null,null,null,null,null,{"$f":"IF(AND(A55<>\"\",'Waterbody Information'!$D$10<>\"\",'Waterbody Information'!$D$21=\"\"),Picklists!$AH$4,\"\")","v":""},null,null,null,null,""]
[null,null,null,null,null,null,{"$f":"IF(AND(A56<>\"\",'Waterbody Information'!$D$10<>\"\",'Waterbody Information'!$D$21=\"\"),Picklists!$AH$4,\"\")","v":""},null,null,null,null,""]
[null,null,null,null,null,null,{"$f":"IF(AND(A57<>\"\",'Waterbody Information'!$D$10<>\"\",'Waterbody Information'!$D$21=\"\"),Picklists!$AH$4,\"\")","v":""},null,null,null,null,""]
[null,null,null,null,null,null,{"$f":"IF(AND(A58<>\"\",'Waterbody Information'!$D$10<>\"\",'Waterbody Information'!$D$21=\"\"),Picklists!$AH$4,\"\")","v":""},null,null,null,null,""]
[null,null,null,null,null,null,{"$f":"IF(AND(A59<>\"\",'Waterbody Information'!$D$10<>\"\",'Waterbody Information'!$D$21=\"\"),Picklists!$AH$4,\"\")","v":""},null,null,null,null,""]
[null,null,null,null,null,null,{"$f":"IF(AND(A60<>\"\",'Waterbody Information'!$D$10<>\"\",'Waterbody Information'!$D$21=\"\"),Picklists!$AH$4,\"\")","v":""},null,null,null,null,""]
[null,null,null,null,null,null,null,null,"Additional Comments"]
[]
[]
[]
[]
[]
[]
[null,null,null,null,null,null,null,null,"North Carolina Department of Transportation"]
[null,null,null,null,null,null,null,null,"Highway Stormwater Program"]
[{"$f":"'General Project Information'!$A$6","v":"(Version 3.02; Released April 23, 2024)"},null,null,null,null,null,null,null,"STORMWATER MANAGEMENT PLAN\nFOR NCDOT PROJECTS"]
["WBS Element:",null,null,null,null,null,{"$f":"'General Project Information'!$C$7","v":""},"TIP No.:",{"$f":"'General Project Information'!$E$7","v":""},null,"County(ies):",{"$f":"'General Project Information'!$H$7","v":"       "},null,null,null,null,"Page ",{"$f":"IF(A74<>\"\",MAX(R20)+1,\"\")","v":""},"of ",{"$f":"'General Project Information'!$O$7","v":1}]
[null,null,null,null,null,null,null,null,"Swales"]
["Sheet No.","Line","Station","Location\n(LT,RT,CL)","Latitude","Longitude","Surface Water Body","Base Width\n(ft)","Front Slope\n(H:1)","Back Slope\n(H:1)","Drainage Area\n(ac)","Recommended Treatm't Length\n(ft)","Actual Length\n(ft)","Longitudinal Slope\n(%)","Q2\n(cfs)","V2\n(fps)","Q10\n(cfs)","V10\n(fps)","Rock Checks Used","BMP Associated w/ Buffer Rules?"]
[null,null,null,null,null,null,{"$f":"IF(AND(A74<>\"\",'Waterbody Information'!$D$10<>\"\",'Waterbody Information'!$D$21=\"\"),Picklists!$AH$4,\"\")","v":""},null,null,null,null,{"$f":"IF(K74=\"\",\"\",K74*100)","v":""}]
[null,null,null,null,null,null,{"$f":"IF(AND(A75<>\"\",'Waterbody Information'!$D$10<>\"\",'Waterbody Information'!$D$21=\"\"),Picklists!$AH$4,\"\")","v":""},null,null,null,null,""]
[null,null,null,null,null,null,{"$f":"IF(AND(A76<>\"\",'Waterbody Information'!$D$10<>\"\",'Waterbody Information'!$D$21=\"\"),Picklists!$AH$4,\"\")","v":""},null,null,null,null,""]
[null,null,null,null,null,null,{"$f":"IF(AND(A77<>\"\",'Waterbody Information'!$D$10<>\"\",'Waterbody Information'!$D$21=\"\"),Picklists!$AH$4,\"\")","v":""},null,null,null,null,""]
[null,null,null,null,null,null,{"$f":"IF(AND(A78<>\"\",'Waterbody Information'!$D$10<>\"\",'Waterbody Information'!$D$21=\"\"),Picklists!$AH$4,\"\")","v":""},null,null,null,null,""]
[null,null,null,null,null,null,{"$f":"IF(AND(A79<>\"\",'Waterbody Information'!$D$10<>\"\",'Waterbody Information'!$D$21=\"\"),Picklists!$AH$4,\"\")","v":""},null,null,null,null,""]
[null,null,null,null,null,null,{"$f":"IF(AND(A80<>\"\",'Waterbody Information'!$D$10<>\"\",'Waterbody Information'!$D$21=\"\"),Picklists!$AH$4,\"\")","v":""},null,null,null,null,""]
[null,null,null,null,null,null,{"$f":"IF(AND(A81<>\"\",'Waterbody Information'!$D$10<>\"\",'Waterbody Information'!$D$21=\"\"),Picklists!$AH$4,\"\")","v":""},null,null,null,null,""]
[null,null,null,null,null,null,{"$f":"IF(AND(A82<>\"\",'Waterbody Information'!$D$10<>\"\",'Waterbody Information'!$D$21=\"\"),Picklists!$AH$4,\"\")","v":""},null,null,null,null,""]
[null,null,null,null,null,null,{"$f":"IF(AND(A83<>\"\",'Waterbody Information'!$D$10<>\"\",'Waterbody Information'!$D$21=\"\"),Picklists!$AH$4,\"\")","v":""},null,null,null,null,""]
[null,null,null,null,null,null,{"$f":"IF(AND(A84<>\"\",'Waterbody Information'!$D$10<>\"\",'Waterbody Information'!$D$21=\"\"),Picklists!$AH$4,\"\")","v":""},null,null,null,null,""]
[null,null,null,null,null,null,{"$f":"IF(AND(A85<>\"\",'Waterbody Information'!$D$10<>\"\",'Waterbody Information'!$D$21=\"\"),Picklists!$AH$4,\"\")","v":""},null,null,null,null,""]
[null,null,null,null,null,null,{"$f":"IF(AND(A86<>\"\",'Waterbody Information'!$D$10<>\"\",'Waterbody Information'!$D$21=\"\"),Picklists!$AH$4,\"\")","v":""},null,null,null,null,""]
[null,null,null,null,null,null,{"$f":"IF(AND(A87<>\"\",'Waterbody Information'!$D$10<>\"\",'Waterbody Information'!$D$21=\"\"),Picklists!$AH$4,\"\")","v":""},null,null,null,null,""]
[null,null,null,null,null,null,{"$f":"IF(AND(A88<>\"\",'Waterbody Information'!$D$10<>\"\",'Waterbody Information'!$D$21=\"\"),Picklists!$AH$4,\"\")","v":""},null,null,null,null,""]
[null,null,null,null,null,null,{"$f":"IF(AND(A89<>\"\",'Waterbody Information'!$D$10<>\"\",'Waterbody Information'!$D$21=\"\"),Picklists!$AH$4,\"\")","v":""},null,null,null,null,""]
[null,null,null,null,null,null,{"$f":"IF(AND(A90<>\"\",'Waterbody Information'!$D$10<>\"\",'Waterbody Information'!$D$21=\"\"),Picklists!$AH$4,\"\")","v":""},null,null,null,null,""]
[null,null,null,null,null,null,{"$f":"IF(AND(A91<>\"\",'Waterbody Information'!$D$10<>\"\",'Waterbody Information'!$D$21=\"\"),Picklists!$AH$4,\"\")","v":""},null,null,null,null,""]
[null,null,null,null,null,null,{"$f":"IF(AND(A92<>\"\",'Waterbody Information'!$D$10<>\"\",'Waterbody Information'!$D$21=\"\"),Picklists!$AH$4,\"\")","v":""},null,null,null,null,""]
[null,null,null,null,null,null,{"$f":"IF(AND(A93<>\"\",'Waterbody Information'!$D$10<>\"\",'Waterbody Information'!$D$21=\"\"),Picklists!$AH$4,\"\")","v":""},null,null,null,null,""]
[null,null,null,null,null,null,{"$f":"IF(AND(A94<>\"\",'Waterbody Information'!$D$10<>\"\",'Waterbody Information'!$D$21=\"\"),Picklists!$AH$4,\"\")","v":""},null,null,null,null,""]
[null,null,null,null,null,null,{"$f":"IF(AND(A95<>\"\",'Waterbody Information'!$D$10<>\"\",'Waterbody Information'!$D$21=\"\"),Picklists!$AH$4,\"\")","v":""},null,null,null,null,""]
[null,null,null,null,null,null,{"$f":"IF(AND(A96<>\"\",'Waterbody Information'!$D$10<>\"\",'Waterbody Information'!$D$21=\"\"),Picklists!$AH$4,\"\")","v":""},null,null,null,null,""]
[null,null,null,null,null,null,{"$f":"IF(AND(A97<>\"\",'Waterbody Information'!$D$10<>\"\",'Waterbody Information'!$D$21=\"\"),Picklists!$AH$4,\"\")","v":""},null,null,null,null,""]
[null,null,null,null,null,null,{"$f":"IF(AND(A98<>\"\",'Waterbody Information'!$D$10<>\"\",'Waterbody Information'!$D$21=\"\"),Picklists!$AH$4,\"\")","v":""},null,null,null,null,""]
[null,null,null,null,null,null,{"$f":"IF(AND(A99<>\"\",'Waterbody Information'!$D$10<>\"\",'Waterbody Information'!$D$21=\"\"),Picklists!$AH$4,\"\")","v":""},null,null,null,null,""]
[null,null,null,null,null,null,{"$f":"IF(AND(A100<>\"\",'Waterbody Information'!$D$10<>\"\",'Waterbody Information'!$D$21=\"\"),Picklists!$AH$4,\"\")","v":""},null,null,null,null,""]
[null,null,null,null,null,null,{"$f":"IF(AND(A101<>\"\",'Waterbody Information'!$D$10<>\"\",'Waterbody Information'!$D$21=\"\"),Picklists!$AH$4,\"\")","v":""},null,null,null,null,""]
[null,null,null,null,null,null,{"$f":"IF(AND(A102<>\"\",'Waterbody Information'!$D$10<>\"\",'Waterbody Information'!$D$21=\"\"),Picklists!$AH$4,\"\")","v":""},null,null,null,null,""]
[null,null,null,null,null,null,{"$f":"IF(AND(A103<>\"\",'Waterbody Information'!$D$10<>\"\",'Waterbody Information'!$D$21=\"\"),Picklists!$AH$4,\"\")","v":""},null,null,null,null,""]
[null,null,null,null,null,null,{"$f":"IF(AND(A104<>\"\",'Waterbody Information'!$D$10<>\"\",'Waterbody Information'!$D$21=\"\"),Picklists!$AH$4,\"\")","v":""},null,null,null,null,""]
[null,null,null,null,null,null,{"$f":"IF(AND(A105<>\"\",'Waterbody Information'!$D$10<>\"\",'Waterbody Information'!$D$21=\"\"),Picklists!$AH$4,\"\")","v":""},null,null,null,null,""]
[null,null,null,null,null,null,{"$f":"IF(AND(A106<>\"\",'Waterbody Information'!$D$10<>\"\",'Waterbody Information'!$D$21=\"\"),Picklists!$AH$4,\"\")","v":""},null,null,null,null,""]
[null,null,null,null,null,null,{"$f":"IF(AND(A107<>\"\",'Waterbody Information'!$D$10<>\"\",'Waterbody Information'!$D$21=\"\"),Picklists!$AH$4,\"\")","v":""},null,null,null,null,""]
[null,null,null,null,null,null,{"$f":"IF(AND(A108<>\"\",'Waterbody Information'!$D$10<>\"\",'Waterbody Information'!$D$21=\"\"),Picklists!$AH$4,\"\")","v":""},null,null,null,null,""]
[null,null,null,null,null,null,{"$f":"IF(AND(A109<>\"\",'Waterbody Information'!$D$10<>\"\",'Waterbody Information'!$D$21=\"\"),Picklists!$AH$4,\"\")","v":""},null,null,null,null,""]
[null,null,null,null,null,null,{"$f":"IF(AND(A110<>\"\",'Waterbody Information'!$D$10<>\"\",'Waterbody Information'!$D$21=\"\"),Picklists!$AH$4,\"\")","v":""},null,null,null,null,""]
[null,null,null,null,null,null,{"$f":"IF(AND(A111<>\"\",'Waterbody Information'!$D$10<>\"\",'Waterbody Information'!$D$21=\"\"),Picklists!$AH$4,\"\")","v":""},null,null,null,null,""]
[null,null,null,null,null,null,null,null,"Additional Comments"]
[]
[]
[]
[]
[]
[]
[null,null,null,null,null,null,null,null,"North Carolina Department of Transportation"]
[null,null,null,null,null,null,null,null,"Highway Stormwater Program"]
[{"$f":"'General Project Information'!$A$6","v":"(Version 3.02; Released April 23, 2024)"},null,null,null,null,null,null,null,"STORMWATER MANAGEMENT PLAN\nFOR NCDOT PROJECTS"]
["WBS Element:",null,null,null,null,null,{"$f":"'General Project Information'!$C$7","v":""},"TIP No.:",{"$f":"'General Project Information'!$E$7","v":""},null,"County(ies):",{"$f":"'General Project Information'!$H$7","v":"       "},null,null,null,null,"Page ",{"$f":"IF(A125<>\"\",MAX(R71)+1,\"\")","v":""},"of ",{"$f":"'General Project Information'!$O$7","v":1}]
[null,null,null,null,null,null,null,null,"Swales"]
["Sheet No.","Line","Station","Location\n(LT,RT,CL)","Latitude","Longitude","Surface Water Body","Base Width\n(ft)","Front Slope\n(H:1)","Back Slope\n(H:1)","Drainage Area\n(ac)","Recommended Treatm't Length\n(ft)","Actual Length\n(ft)","Longitudinal Slope\n(%)","Q2\n(cfs)","V2\n(fps)","Q10\n(cfs)","V10\n(fps)","Rock Checks Used","BMP Associated w/ Buffer Rules?"]
[null,null,null,null,null,null,{"$f":"IF(AND(A125<>\"\",'Waterbody Information'!$D$10<>\"\",'Waterbody Information'!$D$21=\"\"),Picklists!$AH$4,\"\")","v":""},null,null,null,null,{"$f":"IF(K125=\"\",\"\",K125*100)","v":""}]
[null,null,null,null,null,null,{"$f":"IF(AND(A126<>\"\",'Waterbody Information'!$D$10<>\"\",'Waterbody Information'!$D$21=\"\"),Picklists!$AH$4,\"\")","v":""},null,null,null,null,""]
[null,null,null,null,null,null,{"$f":"IF(AND(A127<>\"\",'Waterbody Information'!$D$10<>\"\",'Waterbody Information'!$D$21=\"\"),Picklists!$AH$4,\"\")","v":""},null,null,null,null,""]
[null,null,null,null,null,null,{"$f":"IF(AND(A128<>\"\",'Waterbody Information'!$D$10<>\"\",'Waterbody Information'!$D$21=\"\"),Picklists!$AH$4,\"\")","v":""},null,null,null,null,""]
[null,null,null,null,null,null,{"$f":"IF(AND(A129<>\"\",'Waterbody Information'!$D$10<>\"\",'Waterbody Information'!$D$21=\"\"),Picklists!$AH$4,\"\")","v":""},null,null,null,null,""]
[null,null,null,null,null,null,{"$f":"IF(AND(A130<>\"\",'Waterbody Information'!$D$10<>\"\",'Waterbody Information'!$D$21=\"\"),Picklists!$AH$4,\"\")","v":""},null,null,null,null,""]
[null,null,null,null,null,null,{"$f":"IF(AND(A131<>\"\",'Waterbody Information'!$D$10<>\"\",'Waterbody Information'!$D$21=\"\"),Picklists!$AH$4,\"\")","v":""},null,null,null,null,""]
[null,null,null,null,null,null,{"$f":"IF(AND(A132<>\"\",'Waterbody Information'!$D$10<>\"\",'Waterbody Information'!$D$21=\"\"),Picklists!$AH$4,\"\")","v":""},null,null,null,null,""]
[null,null,null,null,null,null,{"$f":"IF(AND(A133<>\"\",'Waterbody Information'!$D$10<>\"\",'Waterbody Information'!$D$21=\"\"),Picklists!$AH$4,\"\")","v":""},null,null,null,null,""]
[null,null,null,null,null,null,{"$f":"IF(AND(A134<>\"\",'Waterbody Information'!$D$10<>\"\",'Waterbody Information'!$D$21=\"\"),Picklists!$AH$4,\"\")","v":""},null,null,null,null,""]
[null,null,null,null,null,null,{"$f":"IF(AND(A135<>\"\",'Waterbody Information'!$D$10<>\"\",'Waterbody Information'!$D$21=\"\"),Picklists!$AH$4,\"\")","v":""},null,null,null,null,""]
[null,null,null,null,null,null,{"$f":"IF(AND(A136<>\"\",'Waterbody Information'!$D$10<>\"\",'Waterbody Information'!$D$21=\"\"),Picklists!$AH$4,\"\")","v":""},null,null,null,null,""]
[null,null,null,null,null,null,{"$f":"IF(AND(A137<>\"\",'Waterbody Information'!$D$10<>\"\",'Waterbody Information'!$D$21=\"\"),Picklists!$AH$4,\"\")","v":""},null,null,null,null,""]
[null,null,null,null,null,null,{"$f":"IF(AND(A138<>\"\",'Waterbody Information'!$D$10<>\"\",'Waterbody Information'!$D$21=\"\"),Picklists!$AH$4,\"\")","v":""},null,null,null,null,""]
[null,null,null,null,null,null,{"$f":"IF(AND(A139<>\"\",'Waterbody Information'!$D$10<>\"\",'Waterbody Information'!$D$21=\"\"),Picklists!$AH$4,\"\")","v":""},null,null,null,null,""]
[null,null,null,null,null,null,{"$f":"IF(AND(A140<>\"\",'Waterbody Information'!$D$10<>\"\",'Waterbody Information'!$D$21=\"\"),Picklists!$AH$4,\"\")","v":""},null,null,null,null,""]
[null,null,null,null,null,null,{"$f":"IF(AND(A141<>\"\",'Waterbody Information'!$D$10<>\"\",'Waterbody Information'!$D$21=\"\"),Picklists!$AH$4,\"\")","v":""},null,null,null,null,""]
[null,null,null,null,null,null,{"$f":"IF(AND(A142<>\"\",'Waterbody Information'!$D$10<>\"\",'Waterbody Information'!$D$21=\"\"),Picklists!$AH$4,\"\")","v":""},null,null,null,null,""]
[null,null,null,null,null,null,{"$f":"IF(AND(A143<>\"\",'Waterbody Information'!$D$10<>\"\",'Waterbody Information'!$D$21=\"\"),Picklists!$AH$4,\"\")","v":""},null,null,null,null,""]
[null,null,null,null,null,null,{"$f":"IF(AND(A144<>\"\",'Waterbody Information'!$D$10<>\"\",'Waterbody Information'!$D$21=\"\"),Picklists!$AH$4,\"\")","v":""},null,null,null,null,""]
[null,null,null,null,null,null,{"$f":"IF(AND(A145<>\"\",'Waterbody Information'!$D$10<>\"\",'Waterbody Information'!$D$21=\"\"),Picklists!$AH$4,\"\")","v":""},null,null,null,null,""]
[null,null,null,null,null,null,{"$f":"IF(AND(A146<>\"\",'Waterbody Information'!$D$10<>\"\",'Waterbody Information'!$D$21=\"\"),Picklists!$AH$4,\"\")","v":""},null,null,null,null,""]
[null,null,null,null,null,null,{"$f":"IF(AND(A147<>\"\",'Waterbody Information'!$D$10<>\"\",'Waterbody Information'!$D$21=\"\"),Picklists!$AH$4,\"\")","v":""},null,null,null,null,""]
[null,null,null,null,null,null,{"$f":"IF(AND(A148<>\"\",'Waterbody Information'!$D$10<>\"\",'Waterbody Information'!$D$21=\"\"),Picklists!$AH$4,\"\")","v":""},null,null,null,null,""]
[null,null,null,null,null,null,{"$f":"IF(AND(A149<>\"\",'Waterbody Information'!$D$10<>\"\",'Waterbody Information'!$D$21=\"\"),Picklists!$AH$4,\"\")","v":""},null,null,null,null,""]
[null,null,null,null,null,null,{"$f":"IF(AND(A150<>\"\",'Waterbody Information'!$D$10<>\"\",'Waterbody Information'!$D$21=\"\"),Picklists!$AH$4,\"\")","v":""},null,null,null,null,""]
[null,null,null,null,null,null,{"$f":"IF(AND(A151<>\"\",'Waterbody Information'!$D$10<>\"\",'Waterbody Information'!$D$21=\"\"),Picklists!$AH$4,\"\")","v":""},null,null,null,null,""]
[null,null,null,null,null,null,{"$f":"IF(AND(A152<>\"\",'Waterbody Information'!$D$10<>\"\",'Waterbody Information'!$D$21=\"\"),Picklists!$AH$4,\"\")","v":""},null,null,null,null,""]
[null,null,null,null,null,null,{"$f":"IF(AND(A153<>\"\",'Waterbody Information'!$D$10<>\"\",'Waterbody Information'!$D$21=\"\"),Picklists!$AH$4,\"\")","v":""},null,null,null,null,""]
[null,null,null,null,null,null,{"$f":"IF(AND(A154<>\"\",'Waterbody Information'!$D$10<>\"\",'Waterbody Information'!$D$21=\"\"),Picklists!$AH$4,\"\")","v":""},null,null,null,null,""]
[null,null,null,null,null,null,{"$f":"IF(AND(A155<>\"\",'Waterbody Information'!$D$10<>\"\",'Waterbody Information'!$D$21=\"\"),Picklists!$AH$4,\"\")","v":""},null,null,null,null,""]
[null,null,null,null,null,null,{"$f":"IF(AND(A156<>\"\",'Waterbody Information'!$D$10<>\"\",'Waterbody Information'!$D$21=\"\"),Picklists!$AH$4,\"\")","v":""},null,null,null,null,""]
[null,null,null,null,null,null,{"$f":"IF(AND(A157<>\"\",'Waterbody Information'!$D$10<>\"\",'Waterbody Information'!$D$21=\"\"),Picklists!$AH$4,\"\")","v":""},null,null,null,null,""]
[null,null,null,null,null,null,{"$f":"IF(AND(A158<>\"\",'Waterbody Information'!$D$10<>\"\",'Waterbody Information'!$D$21=\"\"),Picklists!$AH$4,\"\")","v":""},null,null,null,null,""]
[null,null,null,null,null,null,{"$f":"IF(AND(A159<>\"\",'Waterbody Information'!$D$10<>\"\",'Waterbody Information'!$D$21=\"\"),Picklists!$AH$4,\"\")","v":""},null,null,null,null,""]
[null,null,null,null,null,null,{"$f":"IF(AND(A160<>\"\",'Waterbody Information'!$D$10<>\"\",'Waterbody Information'!$D$21=\"\"),Picklists!$AH$4,\"\")","v":""},null,null,null,null,""]
[null,null,null,null,null,null,{"$f":"IF(AND(A161<>\"\",'Waterbody Information'!$D$10<>\"\",'Waterbody Information'!$D$21=\"\"),Picklists!$AH$4,\"\")","v":""},null,null,null,null,""]
[null,null,null,null,null,null,{"$f":"IF(AND(A162<>\"\",'Waterbody Information'!$D$10<>\"\",'Waterbody Information'!$D$21=\"\"),Picklists!$AH$4,\"\")","v":""},null,null,null,null,""]
[null,null,null,null,null,null,null,null,"Additional Comments"]
[]
[]
[]
[]
[]
[]
[null,null,null,null,null,null,null,null,"North Carolina Department of Transportation"]
[null,null,null,null,null,null,null,null,"Highway Stormwater Program"]
[{"$f":"'General Project Information'!$A$6","v":"(Version 3.02; Released April 23, 2024)"},null,null,null,null,null,null,null,"STORMWATER MANAGEMENT PLAN\nFOR NCDOT PROJECTS"]
["WBS Element:",null,null,null,null,null,{"$f":"'General Project Information'!$C$7","v":""},"TIP No.:",{"$f":"'General Project Information'!$E$7","v":""},null,"County(ies):",{"$f":"'General Project Information'!$H$7","v":"       "},null,null,null,null,"Page ",{"$f":"IF(A176<>\"\",MAX(R122)+1,\"\")","v":""},"of ",{"$f":"'General Project Information'!$O$7","v":1}]
[null,null,null,null,null,null,null,null,"Swales"]
["Sheet No.","Line","Station","Location\n(LT,RT,CL)","Latitude","Longitude","Surface Water Body","Base Width\n(ft)","Front Slope\n(H:1)","Back Slope\n(H:1)","Drainage Area\n(ac)","Recommended Treatm't Length\n(ft)","Actual Length\n(ft)","Longitudinal Slope\n(%)","Q2\n(cfs)","V2\n(fps)","Q10\n(cfs)","V10\n(fps)","Rock Checks Used","BMP Associated w/ Buffer Rules?"]
[null,null,null,null,null,null,{"$f":"IF(AND(A176<>\"\",'Waterbody Information'!$D$10<>\"\",'Waterbody Information'!$D$21=\"\"),Picklists!$AH$4,\"\")","v":""},null,null,null,null,{"$f":"IF(K176=\"\",\"\",K176*100)","v":""}]
[null,null,null,null,null,null,{"$f":"IF(AND(A177<>\"\",'Waterbody Information'!$D$10<>\"\",'Waterbody Information'!$D$21=\"\"),Picklists!$AH$4,\"\")","v":""},null,null,null,null,""]
[null,null,null,null,null,null,{"$f":"IF(AND(A178<>\"\",'Waterbody Information'!$D$10<>\"\",'Waterbody Information'!$D$21=\"\"),Picklists!$AH$4,\"\")","v":""},null,null,null,null,""]
[null,null,null,null,null,null,{"$f":"IF(AND(A179<>\"\",'Waterbody Information'!$D$10<>\"\",'Waterbody Information'!$D$21=\"\"),Picklists!$AH$4,\"\")","v":""},null,null,null,null,""]
[null,null,null,null,null,null,{"$f":"IF(AND(A180<>\"\",'Waterbody Information'!$D$10<>\"\",'Waterbody Information'!$D$21=\"\"),Picklists!$AH$4,\"\")","v":""},null,null,null,null,""]
[null,null,null,null,null,null,{"$f":"IF(AND(A181<>\"\",'Waterbody Information'!$D$10<>\"\",'Waterbody Information'!$D$21=\"\"),Picklists!$AH$4,\"\")","v":""},null,null,null,null,""]
[null,null,null,null,null,null,{"$f":"IF(AND(A182<>\"\",'Waterbody Information'!$D$10<>\"\",'Waterbody Information'!$D$21=\"\"),Picklists!$AH$4,\"\")","v":""},null,null,null,null,""]
[null,null,null,null,null,null,{"$f":"IF(AND(A183<>\"\",'Waterbody Information'!$D$10<>\"\",'Waterbody Information'!$D$21=\"\"),Picklists!$AH$4,\"\")","v":""},null,null,null,null,""]
[null,null,null,null,null,null,{"$f":"IF(AND(A184<>\"\",'Waterbody Information'!$D$10<>\"\",'Waterbody Information'!$D$21=\"\"),Picklists!$AH$4,\"\")","v":""},null,null,null,null,""]
[null,null,null,null,null,null,{"$f":"IF(AND(A185<>\"\",'Waterbody Information'!$D$10<>\"\",'Waterbody Information'!$D$21=\"\"),Picklists!$AH$4,\"\")","v":""},null,null,null,null,""]
[null,null,null,null,null,null,{"$f":"IF(AND(A186<>\"\",'Waterbody Information'!$D$10<>\"\",'Waterbody Information'!$D$21=\"\"),Picklists!$AH$4,\"\")","v":""},null,null,null,null,""]
[null,null,null,null,null,null,{"$f":"IF(AND(A187<>\"\",'Waterbody Information'!$D$10<>\"\",'Waterbody Information'!$D$21=\"\"),Picklists!$AH$4,\"\")","v":""},null,null,null,null,""]
[null,null,null,null,null,null,{"$f":"IF(AND(A188<>\"\",'Waterbody Information'!$D$10<>\"\",'Waterbody Information'!$D$21=\"\"),Picklists!$AH$4,\"\")","v":""},null,null,null,null,""]
[null,null,null,null,null,null,{"$f":"IF(AND(A189<>\"\",'Waterbody Information'!$D$10<>\"\",'Waterbody Information'!$D$21=\"\"),Picklists!$AH$4,\"\")","v":""},null,null,null,null,""]
[null,null,null,null,null,null,{"$f":"IF(AND(A190<>\"\",'Waterbody Information'!$D$10<>\"\",'Waterbody Information'!$D$21=\"\"),Picklists!$AH$4,\"\")","v":""},null,null,null,null,""]
[null,null,null,null,null,null,{"$f":"IF(AND(A191<>\"\",'Waterbody Information'!$D$10<>\"\",'Waterbody Information'!$D$21=\"\"),Picklists!$AH$4,\"\")","v":""},null,null,null,null,""]
[null,null,null,null,null,null,{"$f":"IF(AND(A192<>\"\",'Waterbody Information'!$D$10<>\"\",'Waterbody Information'!$D$21=\"\"),Picklists!$AH$4,\"\")","v":""},null,null,null,null,""]
[null,null,null,null,null,null,{"$f":"IF(AND(A193<>\"\",'Waterbody Information'!$D$10<>\"\",'Waterbody Information'!$D$21=\"\"),Picklists!$AH$4,\"\")","v":""},null,null,null,null,""]
[null,null,null,null,null,null,{"$f":"IF(AND(A194<>\"\",'Waterbody Information'!$D$10<>\"\",'Waterbody Information'!$D$21=\"\"),Picklists!$AH$4,\"\")","v":""},null,null,null,null,""]
[null,null,null,null,null,null,{"$f":"IF(AND(A195<>\"\",'Waterbody Information'!$D$10<>\"\",'Waterbody Information'!$D$21=\"\"),Picklists!$AH$4,\"\")","v":""},null,null,null,null,""]
[null,null,null,null,null,null,{"$f":"IF(AND(A196<>\"\",'Waterbody Information'!$D$10<>\"\",'Waterbody Information'!$D$21=\"\"),Picklists!$AH$4,\"\")","v":""},null,null,null,null,""]
[null,null,null,null,null,null,{"$f":"IF(AND(A197<>\"\",'Waterbody Information'!$D$10<>\"\",'Waterbody Information'!$D$21=\"\"),Picklists!$AH$4,\"\")","v":""},null,null,null,null,""]
[null,null,null,null,null,null,{"$f":"IF(AND(A198<>\"\",'Waterbody Information'!$D$10<>\"\",'Waterbody Information'!$D$21=\"\"),Picklists!$AH$4,\"\")","v":""},null,null,null,null,""]
[null,null,null,null,null,null,{"$f":"IF(AND(A199<>\"\",'Waterbody Information'!$D$10<>\"\",'Waterbody Information'!$D$21=\"\"),Picklists!$AH$4,\"\")","v":""},null,null,null,null,""]
[null,null,null,null,null,null,{"$f":"IF(AND(A200<>\"\",'Waterbody Information'!$D$10<>\"\",'Waterbody Information'!$D$21=\"\"),Picklists!$AH$4,\"\")","v":""},null,null,null,null,""]
[null,null,null,null,null,null,{"$f":"IF(AND(A201<>\"\",'Waterbody Information'!$D$10<>\"\",'Waterbody Information'!$D$21=\"\"),Picklists!$AH$4,\"\")","v":""},null,null,null,null,""]
[null,null,null,null,null,null,{"$f":"IF(AND(A202<>\"\",'Waterbody Information'!$D$10<>\"\",'Waterbody Information'!$D$21=\"\"),Picklists!$AH$4,\"\")","v":""},null,null,null,null,""]
[null,null,null,null,null,null,{"$f":"IF(AND(A203<>\"\",'Waterbody Information'!$D$10<>\"\",'Waterbody Information'!$D$21=\"\"),Picklists!$AH$4,\"\")","v":""},null,null,null,null,""]
[null,null,null,null,null,null,{"$f":"IF(AND(A204<>\"\",'Waterbody Information'!$D$10<>\"\",'Waterbody Information'!$D$21=\"\"),Picklists!$AH$4,\"\")","v":""},null,null,null,null,""]
[null,null,null,null,null,null,{"$f":"IF(AND(A205<>\"\",'Waterbody Information'!$D$10<>\"\",'Waterbody Information'!$D$21=\"\"),Picklists!$AH$4,\"\")","v":""},null,null,null,null,""]
[null,null,null,null,null,null,{"$f":"IF(AND(A206<>\"\",'Waterbody Information'!$D$10<>\"\",'Waterbody Information'!$D$21=\"\"),Picklists!$AH$4,\"\")","v":""},null,null,null,null,""]
[null,null,null,null,null,null,{"$f":"IF(AND(A207<>\"\",'Waterbody Information'!$D$10<>\"\",'Waterbody Information'!$D$21=\"\"),Picklists!$AH$4,\"\")","v":""},null,null,null,null,""]
[null,null,null,null,null,null,{"$f":"IF(AND(A208<>\"\",'Waterbody Information'!$D$10<>\"\",'Waterbody Information'!$D$21=\"\"),Picklists!$AH$4,\"\")","v":""},null,null,null,null,""]
[null,null,null,null,null,null,{"$f":"IF(AND(A209<>\"\",'Waterbody Information'!$D$10<>\"\",'Waterbody Information'!$D$21=\"\"),Picklists!$AH$4,\"\")","v":""},null,null,null,null,""]
[null,null,null,null,null,null,{"$f":"IF(AND(A210<>\"\",'Waterbody Information'!$D$10<>\"\",'Waterbody Information'!$D$21=\"\"),Picklists!$AH$4,\"\")","v":""},null,null,null,null,""]
[null,null,null,null,null,null,{"$f":"IF(AND(A211<>\"\",'Waterbody Information'!$D$10<>\"\",'Waterbody Information'!$D$21=\"\"),Picklists!$AH$4,\"\")","v":""},null,null,null,null,""]
[null,null,null,null,null,null,{"$f":"IF(AND(A212<>\"\",'Waterbody Information'!$D$10<>\"\",'Waterbody Information'!$D$21=\"\"),Picklists!$AH$4,\"\")","v":""},null,null,null,null,""]
[null,null,null,null,null,null,{"$f":"IF(AND(A213<>\"\",'Waterbody Information'!$D$10<>\"\",'Waterbody Information'!$D$21=\"\"),Picklists!$AH$4,\"\")","v":""},null,null,null,null,""]
[null,null,null,null,null,null,null,null,"Additional Comments"]
[]
[]
[]
[]
[]
[]
[null,null,null,null,null,null,null,null,"North Carolina Department of Transportation"]
[null,null,null,null,null,null,null,null,"Highway Stormwater Program"]
[{"$f":"'General Project Information'!$A$6","v":"(Version 3.02; Released April 23, 2024)"},null,null,null,null,null,null,null,"STORMWATER MANAGEMENT PLAN\nFOR NCDOT PROJECTS"]
["WBS Element:",null,null,null,null,null,{"$f":"'General Project Information'!$C$7","v":""},"TIP No.:",{"$f":"'General Project Information'!$E$7","v":""},null,"County(ies):",{"$f":"'General Project Information'!$H$7","v":"       "},null,null,null,null,"Page ",{"$f":"IF(A227<>\"\",MAX(R173)+1,\"\")","v":""},"of ",{"$f":"'General Project Information'!$O$7","v":1}]
[null,null,null,null,null,null,null,null,"Swales"]
["Sheet No.","Line","Station","Location\n(LT,RT,CL)","Latitude","Longitude","Surface Water Body","Base Width\n(ft)","Front Slope\n(H:1)","Back Slope\n(H:1)","Drainage Area\n(ac)","Recommended Treatm't Length\n(ft)","Actual Length\n(ft)","Longitudinal Slope\n(%)","Q2\n(cfs)","V2\n(fps)","Q10\n(cfs)","V10\n(fps)","Rock Checks Used","BMP Associated w/ Buffer Rules?"]
[null,null,null,null,null,null,{"$f":"IF(AND(A227<>\"\",'Waterbody Information'!$D$10<>\"\",'Waterbody Information'!$D$21=\"\"),Picklists!$AH$4,\"\")","v":""},null,null,null,null,{"$f":"IF(K227=\"\",\"\",K227*100)","v":""}]
[null,null,null,null,null,null,{"$f":"IF(AND(A228<>\"\",'Waterbody Information'!$D$10<>\"\",'Waterbody Information'!$D$21=\"\"),Picklists!$AH$4,\"\")","v":""},null,null,null,null,""]
[null,null,null,null,null,null,{"$f":"IF(AND(A229<>\"\",'Waterbody Information'!$D$10<>\"\",'Waterbody Information'!$D$21=\"\"),Picklists!$AH$4,\"\")","v":""},null,null,null,null,""]
[null,null,null,null,null,null,{"$f":"IF(AND(A230<>\"\",'Waterbody Information'!$D$10<>\"\",'Waterbody Information'!$D$21=\"\"),Picklists!$AH$4,\"\")","v":""},null,null,null,null,""]
[null,null,null,null,null,null,{"$f":"IF(AND(A231<>\"\",'Waterbody Information'!$D$10<>\"\",'Waterbody Information'!$D$21=\"\"),Picklists!$AH$4,\"\")","v":""},null,null,null,null,""]
[null,null,null,null,null,null,{"$f":"IF(AND(A232<>\"\",'Waterbody Information'!$D$10<>\"\",'Waterbody Information'!$D$21=\"\"),Picklists!$AH$4,\"\")","v":""},null,null,null,null,""]
[null,null,null,null,null,null,{"$f":"IF(AND(A233<>\"\",'Waterbody Information'!$D$10<>\"\",'Waterbody Information'!$D$21=\"\"),Picklists!$AH$4,\"\")","v":""},null,null,null,null,""]
[null,null,null,null,null,null,{"$f":"IF(AND(A234<>\"\",'Waterbody Information'!$D$10<>\"\",'Waterbody Information'!$D$21=\"\"),Picklists!$AH$4,\"\")","v":""},null,null,null,null,""]
[null,null,null,null,null,null,{"$f":"IF(AND(A235<>\"\",'Waterbody Information'!$D$10<>\"\",'Waterbody Information'!$D$21=\"\"),Picklists!$AH$4,\"\")","v":""},null,null,null,null,""]
[null,null,null,null,null,null,{"$f":"IF(AND(A236<>\"\",'Waterbody Information'!$D$10<>\"\",'Waterbody Information'!$D$21=\"\"),Picklists!$AH$4,\"\")","v":""},null,null,null,null,""]
[null,null,null,null,null,null,{"$f":"IF(AND(A237<>\"\",'Waterbody Information'!$D$10<>\"\",'Waterbody Information'!$D$21=\"\"),Picklists!$AH$4,\"\")","v":""},null,null,null,null,""]
[null,null,null,null,null,null,{"$f":"IF(AND(A238<>\"\",'Waterbody Information'!$D$10<>\"\",'Waterbody Information'!$D$21=\"\"),Picklists!$AH$4,\"\")","v":""},null,null,null,null,""]
[null,null,null,null,null,null,{"$f":"IF(AND(A239<>\"\",'Waterbody Information'!$D$10<>\"\",'Waterbody Information'!$D$21=\"\"),Picklists!$AH$4,\"\")","v":""},null,null,null,null,""]
[null,null,null,null,null,null,{"$f":"IF(AND(A240<>\"\",'Waterbody Information'!$D$10<>\"\",'Waterbody Information'!$D$21=\"\"),Picklists!$AH$4,\"\")","v":""},null,null,null,null,""]
[null,null,null,null,null,null,{"$f":"IF(AND(A241<>\"\",'Waterbody Information'!$D$10<>\"\",'Waterbody Information'!$D$21=\"\"),Picklists!$AH$4,\"\")","v":""},null,null,null,null,""]
[null,null,null,null,null,null,{"$f":"IF(AND(A242<>\"\",'Waterbody Information'!$D$10<>\"\",'Waterbody Information'!$D$21=\"\"),Picklists!$AH$4,\"\")","v":""},null,null,null,null,""]
[null,null,null,null,null,null,{"$f":"IF(AND(A243<>\"\",'Waterbody Information'!$D$10<>\"\",'Waterbody Information'!$D$21=\"\"),Picklists!$AH$4,\"\")","v":""},null,null,null,null,""]
[null,null,null,null,null,null,{"$f":"IF(AND(A244<>\"\",'Waterbody Information'!$D$10<>\"\",'Waterbody Information'!$D$21=\"\"),Picklists!$AH$4,\"\")","v":""},null,null,null,null,""]
[null,null,null,null,null,null,{"$f":"IF(AND(A245<>\"\",'Waterbody Information'!$D$10<>\"\",'Waterbody Information'!$D$21=\"\"),Picklists!$AH$4,\"\")","v":""},null,null,null,null,""]
[null,null,null,null,null,null,{"$f":"IF(AND(A246<>\"\",'Waterbody Information'!$D$10<>\"\",'Waterbody Information'!$D$21=\"\"),Picklists!$AH$4,\"\")","v":""},null,null,null,null,""]
[null,null,null,null,null,null,{"$f":"IF(AND(A247<>\"\",'Waterbody Information'!$D$10<>\"\",'Waterbody Information'!$D$21=\"\"),Picklists!$AH$4,\"\")","v":""},null,null,null,null,""]
[null,null,null,null,null,null,{"$f":"IF(AND(A248<>\"\",'Waterbody Information'!$D$10<>\"\",'Waterbody Information'!$D$21=\"\"),Picklists!$AH$4,\"\")","v":""},null,null,null,null,""]
[null,null,null,null,null,null,{"$f":"IF(AND(A249<>\"\",'Waterbody Information'!$D$10<>\"\",'Waterbody Information'!$D$21=\"\"),Picklists!$AH$4,\"\")","v":""},null,null,null,null,""]
[null,null,null,null,null,null,{"$f":"IF(AND(A250<>\"\",'Waterbody Information'!$D$10<>\"\",'Waterbody Information'!$D$21=\"\"),Picklists!$AH$4,\"\")","v":""},null,null,null,null,""]
[null,null,null,null,null,null,{"$f":"IF(AND(A251<>\"\",'Waterbody Information'!$D$10<>\"\",'Waterbody Information'!$D$21=\"\"),Picklists!$AH$4,\"\")","v":""},null,null,null,null,""]
[null,null,null,null,null,null,{"$f":"IF(AND(A252<>\"\",'Waterbody Information'!$D$10<>\"\",'Waterbody Information'!$D$21=\"\"),Picklists!$AH$4,\"\")","v":""},null,null,null,null,""]
[null,null,null,null,null,null,{"$f":"IF(AND(A253<>\"\",'Waterbody Information'!$D$10<>\"\",'Waterbody Information'!$D$21=\"\"),Picklists!$AH$4,\"\")","v":""},null,null,null,null,""]
[null,null,null,null,null,null,{"$f":"IF(AND(A254<>\"\",'Waterbody Information'!$D$10<>\"\",'Waterbody Information'!$D$21=\"\"),Picklists!$AH$4,\"\")","v":""},null,null,null,null,""]
[null,null,null,null,null,null,{"$f":"IF(AND(A255<>\"\",'Waterbody Information'!$D$10<>\"\",'Waterbody Information'!$D$21=\"\"),Picklists!$AH$4,\"\")","v":""},null,null,null,null,""]
[null,null,null,null,null,null,{"$f":"IF(AND(A256<>\"\",'Waterbody Information'!$D$10<>\"\",'Waterbody Information'!$D$21=\"\"),Picklists!$AH$4,\"\")","v":""},null,null,null,null,""]
[null,null,null,null,null,null,{"$f":"IF(AND(A257<>\"\",'Waterbody Information'!$D$10<>\"\",'Waterbody Information'!$D$21=\"\"),Picklists!$AH$4,\"\")","v":""},null,null,null,null,""]
[null,null,null,null,null,null,{"$f":"IF(AND(A258<>\"\",'Waterbody Information'!$D$10<>\"\",'Waterbody Information'!$D$21=\"\"),Picklists!$AH$4,\"\")","v":""},null,null,null,null,""]
[null,null,null,null,null,null,{"$f":"IF(AND(A259<>\"\",'Waterbody Information'!$D$10<>\"\",'Waterbody Information'!$D$21=\"\"),Picklists!$AH$4,\"\")","v":""},null,null,null,null,""]
[null,null,null,null,null,null,{"$f":"IF(AND(A260<>\"\",'Waterbody Information'!$D$10<>\"\",'Waterbody Information'!$D$21=\"\"),Picklists!$AH$4,\"\")","v":""},null,null,null,null,""]
[null,null,null,null,null,null,{"$f":"IF(AND(A261<>\"\",'Waterbody Information'!$D$10<>\"\",'Waterbody Information'!$D$21=\"\"),Picklists!$AH$4,\"\")","v":""},null,null,null,null,""]
[null,null,null,null,null,null,{"$f":"IF(AND(A262<>\"\",'Waterbody Information'!$D$10<>\"\",'Waterbody Information'!$D$21=\"\"),Picklists!$AH$4,\"\")","v":""},null,null,null,null,""]
[null,null,null,null,null,null,{"$f":"IF(AND(A263<>\"\",'Waterbody Information'!$D$10<>\"\",'Waterbody Information'!$D$21=\"\"),Picklists!$AH$4,\"\")","v":""},null,null,null,null,""]
[null,null,null,null,null,null,{"$f":"IF(AND(A264<>\"\",'Waterbody Information'!$D$10<>\"\",'Waterbody Information'!$D$21=\"\"),Picklists!$AH$4,\"\")","v":""},null,null,null,null,""]
[null,null,null,null,null,null,null,null,"Additional Comments"]
[]
[]
[]
[]
[]
[]
[null,null,null,null,null,null,null,null,"North Carolina Department of Transportation"]
[null,null,null,null,null,null,null,null,"Highway Stormwater Program"]
[{"$f":"'General Project Information'!$A$6","v":"(Version 3.02; Released April 23, 2024)"},null,null,null,null,null,null,null,"STORMWATER MANAGEMENT PLAN\nFOR NCDOT PROJECTS"]
["WBS Element:",null,null,null,null,null,{"$f":"'General Project Information'!$C$7","v":""},"TIP No.:",{"$f":"'General Project Information'!$E$7","v":""},null,"County(ies):",{"$f":"'General Project Information'!$H$7","v":"       "},null,null,null,null,"Page ",{"$f":"IF(A278<>\"\",MAX(R224)+1,\"\")","v":""},"of ",{"$f":"'General Project Information'!$O$7","v":1}]
[null,null,null,null,null,null,null,null,"Swales"]
["Sheet No.","Line","Station","Location\n(LT,RT,CL)","Latitude","Longitude","Surface Water Body","Base Width\n(ft)","Front Slope\n(H:1)","Back Slope\n(H:1)","Drainage Area\n(ac)","Recommended Treatm't Length\n(ft)","Actual Length\n(ft)","Longitudinal Slope\n(%)","Q2\n(cfs)","V2\n(fps)","Q10\n(cfs)","V10\n(fps)","Rock Checks Used","BMP Associated w/ Buffer Rules?"]
[null,null,null,null,null,null,{"$f":"IF(AND(A278<>\"\",'Waterbody Information'!$D$10<>\"\",'Waterbody Information'!$D$21=\"\"),Picklists!$AH$4,\"\")","v":""},null,null,null,null,{"$f":"IF(K278=\"\",\"\",K278*100)","v":""}]
[null,null,null,null,null,null,{"$f":"IF(AND(A279<>\"\",'Waterbody Information'!$D$10<>\"\",'Waterbody Information'!$D$21=\"\"),Picklists!$AH$4,\"\")","v":""},null,null,null,null,""]
[null,null,null,null,null,null,{"$f":"IF(AND(A280<>\"\",'Waterbody Information'!$D$10<>\"\",'Waterbody Information'!$D$21=\"\"),Picklists!$AH$4,\"\")","v":""},null,null,null,null,""]
[null,null,null,null,null,null,{"$f":"IF(AND(A281<>\"\",'Waterbody Information'!$D$10<>\"\",'Waterbody Information'!$D$21=\"\"),Picklists!$AH$4,\"\")","v":""},null,null,null,null,""]
[null,null,null,null,null,null,{"$f":"IF(AND(A282<>\"\",'Waterbody Information'!$D$10<>\"\",'Waterbody Information'!$D$21=\"\"),Picklists!$AH$4,\"\")","v":""},null,null,null,null,""]
[null,null,null,null,null,null,{"$f":"IF(AND(A283<>\"\",'Waterbody Information'!$D$10<>\"\",'Waterbody Information'!$D$21=\"\"),Picklists!$AH$4,\"\")","v":""},null,null,null,null,""]
[null,null,null,null,null,null,{"$f":"IF(AND(A284<>\"\",'Waterbody Information'!$D$10<>\"\",'Waterbody Information'!$D$21=\"\"),Picklists!$AH$4,\"\")","v":""},null,null,null,null,""]
[null,null,null,null,null,null,{"$f":"IF(AND(A285<>\"\",'Waterbody Information'!$D$10<>\"\",'Waterbody Information'!$D$21=\"\"),Picklists!$AH$4,\"\")","v":""},null,null,null,null,""]
[null,null,null,null,null,null,{"$f":"IF(AND(A286<>\"\",'Waterbody Information'!$D$10<>\"\",'Waterbody Information'!$D$21=\"\"),Picklists!$AH$4,\"\")","v":""},null,null,null,null,""]
[null,null,null,null,null,null,{"$f":"IF(AND(A287<>\"\",'Waterbody Information'!$D$10<>\"\",'Waterbody Information'!$D$21=\"\"),Picklists!$AH$4,\"\")","v":""},null,null,null,null,""]
[null,null,null,null,null,null,{"$f":"IF(AND(A288<>\"\",'Waterbody Information'!$D$10<>\"\",'Waterbody Information'!$D$21=\"\"),Picklists!$AH$4,\"\")","v":""},null,null,null,null,""]
[null,null,null,null,null,null,{"$f":"IF(AND(A289<>\"\",'Waterbody Information'!$D$10<>\"\",'Waterbody Information'!$D$21=\"\"),Picklists!$AH$4,\"\")","v":""},null,null,null,null,""]
[null,null,null,null,null,null,{"$f":"IF(AND(A290<>\"\",'Waterbody Information'!$D$10<>\"\",'Waterbody Information'!$D$21=\"\"),Picklists!$AH$4,\"\")","v":""},null,null,null,null,""]
[null,null,null,null,null,null,{"$f":"IF(AND(A291<>\"\",'Waterbody Information'!$D$10<>\"\",'Waterbody Information'!$D$21=\"\"),Picklists!$AH$4,\"\")","v":""},null,null,null,null,""]
[null,null,null,null,null,null,{"$f":"IF(AND(A292<>\"\",'Waterbody Information'!$D$10<>\"\",'Waterbody Information'!$D$21=\"\"),Picklists!$AH$4,\"\")","v":""},null,null,null,null,""]
[null,null,null,null,null,null,{"$f":"IF(AND(A293<>\"\",'Waterbody Information'!$D$10<>\"\",'Waterbody Information'!$D$21=\"\"),Picklists!$AH$4,\"\")","v":""},null,null,null,null,""]
[null,null,null,null,null,null,{"$f":"IF(AND(A294<>\"\",'Waterbody Information'!$D$10<>\"\",'Waterbody Information'!$D$21=\"\"),Picklists!$AH$4,\"\")","v":""},null,null,null,null,""]
[null,null,null,null,null,null,{"$f":"IF(AND(A295<>\"\",'Waterbody Information'!$D$10<>\"\",'Waterbody Information'!$D$21=\"\"),Picklists!$AH$4,\"\")","v":""},null,null,null,null,""]
[null,null,null,null,null,null,{"$f":"IF(AND(A296<>\"\",'Waterbody Information'!$D$10<>\"\",'Waterbody Information'!$D$21=\"\"),Picklists!$AH$4,\"\")","v":""},null,null,null,null,""]
[null,null,null,null,null,null,{"$f":"IF(AND(A297<>\"\",'Waterbody Information'!$D$10<>\"\",'Waterbody Information'!$D$21=\"\"),Picklists!$AH$4,\"\")","v":""},null,null,null,null,""]
[null,null,null,null,null,null,{"$f":"IF(AND(A298<>\"\",'Waterbody Information'!$D$10<>\"\",'Waterbody Information'!$D$21=\"\"),Picklists!$AH$4,\"\")","v":""},null,null,null,null,""]
[null,null,null,null,null,null,{"$f":"IF(AND(A299<>\"\",'Waterbody Information'!$D$10<>\"\",'Waterbody Information'!$D$21=\"\"),Picklists!$AH$4,\"\")","v":""},null,null,null,null,""]
[null,null,null,null,null,null,{"$f":"IF(AND(A300<>\"\",'Waterbody Information'!$D$10<>\"\",'Waterbody Information'!$D$21=\"\"),Picklists!$AH$4,\"\")","v":""},null,null,null,null,""]
[null,null,null,null,null,null,{"$f":"IF(AND(A301<>\"\",'Waterbody Information'!$D$10<>\"\",'Waterbody Information'!$D$21=\"\"),Picklists!$AH$4,\"\")","v":""},null,null,null,null,""]
[null,null,null,null,null,null,{"$f":"IF(AND(A302<>\"\",'Waterbody Information'!$D$10<>\"\",'Waterbody Information'!$D$21=\"\"),Picklists!$AH$4,\"\")","v":""},null,null,null,null,""]
[null,null,null,null,null,null,{"$f":"IF(AND(A303<>\"\",'Waterbody Information'!$D$10<>\"\",'Waterbody Information'!$D$21=\"\"),Picklists!$AH$4,\"\")","v":""},null,null,null,null,""]
[null,null,null,null,null,null,{"$f":"IF(AND(A304<>\"\",'Waterbody Information'!$D$10<>\"\",'Waterbody Information'!$D$21=\"\"),Picklists!$AH$4,\"\")","v":""},null,null,null,null,""]
[null,null,null,null,null,null,{"$f":"IF(AND(A305<>\"\",'Waterbody Information'!$D$10<>\"\",'Waterbody Information'!$D$21=\"\"),Picklists!$AH$4,\"\")","v":""},null,null,null,null,""]
[null,null,null,null,null,null,{"$f":"IF(AND(A306<>\"\",'Waterbody Information'!$D$10<>\"\",'Waterbody Information'!$D$21=\"\"),Picklists!$AH$4,\"\")","v":""},null,null,null,null,""]
[null,null,null,null,null,null,{"$f":"IF(AND(A307<>\"\",'Waterbody Information'!$D$10<>\"\",'Waterbody Information'!$D$21=\"\"),Picklists!$AH$4,\"\")","v":""},null,null,null,null,""]
[null,null,null,null,null,null,{"$f":"IF(AND(A308<>\"\",'Waterbody Information'!$D$10<>\"\",'Waterbody Information'!$D$21=\"\"),Picklists!$AH$4,\"\")","v":""},null,null,null,null,""]
[null,null,null,null,null,null,{"$f":"IF(AND(A309<>\"\",'Waterbody Information'!$D$10<>\"\",'Waterbody Information'!$D$21=\"\"),Picklists!$AH$4,\"\")","v":""},null,null,null,null,""]
[null,null,null,null,null,null,{"$f":"IF(AND(A310<>\"\",'Waterbody Information'!$D$10<>\"\",'Waterbody Information'!$D$21=\"\"),Picklists!$AH$4,\"\")","v":""},null,null,null,null,""]
[null,null,null,null,null,null,{"$f":"IF(AND(A311<>\"\",'Waterbody Information'!$D$10<>\"\",'Waterbody Information'!$D$21=\"\"),Picklists!$AH$4,\"\")","v":""},null,null,null,null,""]
[null,null,null,null,null,null,{"$f":"IF(AND(A312<>\"\",'Waterbody Information'!$D$10<>\"\",'Waterbody Information'!$D$21=\"\"),Picklists!$AH$4,\"\")","v":""},null,null,null,null,""]
[null,null,null,null,null,null,{"$f":"IF(AND(A313<>\"\",'Waterbody Information'!$D$10<>\"\",'Waterbody Information'!$D$21=\"\"),Picklists!$AH$4,\"\")","v":""},null,null,null,null,""]
[null,null,null,null,null,null,{"$f":"IF(AND(A314<>\"\",'Waterbody Information'!$D$10<>\"\",'Waterbody Information'!$D$21=\"\"),Picklists!$AH$4,\"\")","v":""},null,null,null,null,""]
[null,null,null,null,null,null,{"$f":"IF(AND(A315<>\"\",'Waterbody Information'!$D$10<>\"\",'Waterbody Information'!$D$21=\"\"),Picklists!$AH$4,\"\")","v":""},null,null,null,null,""]
[null,null,null,null,null,null,null,null,"Additional Comments"]

{"sheet":"Filter Strip","index":5,"n_rows":108,"n_cols":23,"rows_kept":108,"cut":false,"hidden":false,"merged":[[16,0,16,15],[55,12,55,15],[69,12,69,15],[70,12,70,15],[71,12,71,15],[72,12,72,15],[73,12,73,15],[74,12,74,15],[75,12,75,15],[37,12,37,15],[38,12,38,15],[39,12,39,15],[40,12,40,15],[41,12,41,15],[42,12,42,15],[43,12,43,15],[44,12,44,15],[45,12,45,15],[28,12,28,15],[29,12,29,15],[30,12,30,15],[31,12,31,15],[32,12,32,15],[33,12,33,15],[76,12,76,15],[46,12,46,15],[47,12,47,15],[48,12,48,15],[49,12,49,15],[50,12,50,15],[51,12,51,15],[52,12,52,15],[53,12,53,15],[54,12,54,15],[34,12,34,15],[35,12,35,15],[36,12,36,15],[19,12,19,15],[20,12,20,15],[21,12,21,15],[22,12,22,15],[23,12,23,15],[24,12,24,15],[25,12,25,15],[26,12,26,15],[27,12,27,15],[108,0,113,15],[101,12,101,15],[102,12,102,15],[103,12,103,15],[104,12,104,15],[105,12,105,15],[106,12,106,15],[57,0,62,15],[66,0,66,5],[67,6,67,10],[90,12,90,15],[91,12,91,15],[92,12,92,15],[93,12,93,15],[94,12,94,15],[95,12,95,15],[96,12,96,15],[97,12,97,15],[98,12,98,15],[99,12,99,15],[100,12,100,15],[85,12,85,15],[86,12,86,15],[87,12,87,15],[89,12,89,15],[77,12,77,15],[78,12,78,15],[79,12,79,15],[80,12,80,15],[81,12,81,15],[82,12,82,15],[83,12,83,15],[84,12,84,15],[18,12,18,15],[107,7,107,10],[12,7,12,10],[13,7,13,10],[14,7,14,10],[17,12,17,15],[68,12,68,15],[0,0,0,14],[1,0,6,5],[10,0,10,15],[15,0,15,5],[8,0,8,15],[1,6,1,15],[2,6,2,15],[3,6,3,15],[4,6,4,15],[5,6,5,15],[6,6,6,15],[9,0,9,15],[56,7,56,10],[64,7,64,10],[65,7,65,10],[63,7,63,10],[88,12,88,15]]}
["Filter Strip Design Guidelines *",null,null,null,null,null,null,null,null,null,null,null,null,null,null,null,null,null,null,null,null,"# pages previous sheets:",{"$f":"Swales!X3","v":1}]
["Filter Strip",null,null,null,null,null,"• Long. slope ≥ 2% and ≤ 5% is optimal",null,null,null,null,null,null,null,null,null,null,null,null,null,null,"# pages this sheet:",{"$f":"COUNT(N16,N67)","v":0}]
[null,null,null,null,null,null,"• Minimum length = 50 ft when filter strip is adjacent to SA waters and 30 ft for other locations",null,null,null,null,null,null,null,null,null,null,null,null,null,null,"# pages total:",{"$f":"W2+W1","v":1}]
[null,null,null,null,null,null,"• Drainage area to filter strip surface area ratio ≤ 10:1 recommended"]
[null,null,null,null,null,null,"• Slope of the upgrade overland flow path ≤ 5%"]
[null,null,null,null,null,null,"• Seasonal high water table  ≤ 1 ft lower than any point along the filter strip"]
[null,null,null,null,null,null,"• Permissible velocity  ≤ 4 fps or grass;  ≤ 1 fps for native herbaceous vegetation"]
[]
["* Design guidelines are outlined for various Best Management Practices (BMPs) as provided in the NCDOT BMP Toolbox (2014).  The guidelines listed are intended to provide a general overview of key design elements, but do not include all design criteria, guidelines, or recommendations and are not intended to serve as the sole source of design criteria.  The NCDOT BMP Toolbox, NCDOT Standard Details, the Federal Highway Administration (FHWA) Hydraulic Engineering Circular 14 (HEC-14) (July 2006), and any other applicable sources should be referenced for additional information. "]
["Please fill out all yellow cells as completely as possible.  Use pick lists where provided.  See swale design guidelines above.  For more information on the NCDOT Stormwater Management Plan form, please refer to the document, NCDOT Stormwater Best Management Practices Toolbox (2014).  "]
["Print area may be adjusted to include sheets as needed."]
[]
[null,null,null,null,null,null,null,"North Carolina Department of Transportation"]
[null,null,null,null,null,null,null,"Highway Stormwater Program"]
[{"$f":"'General Project Information'!$A$6","v":"(Version 3.02; Released April 23, 2024)"},null,null,null,null,null,null,"STORMWATER MANAGEMENT PLAN\nFOR NCDOT PROJECTS"]
["WBS Element:",null,null,null,null,null,{"$f":"'General Project Information'!$C$7","v":""},"TIP/Proj No.:",{"$f":"'General Project Information'!$E$7","v":""},"County(ies):",{"$f":"'General Project Information'!$H$7","v":"       "},null,"Page ",{"$f":"IF(A19<>\"\",MAX(W1)+1,\"\")","v":""},"of ",{"$f":"'General Project Information'!$O$7","v":1}]
["Filter Strip"]
["Sheet No.","Line","Station","Location\n(LT,RT,CL)","Latitude","Longitude","Surface Water Body","Drainage Area\n(ac)","Surface Area\n(ac)","Drainage Area: Surface Area Ratio","Actual Length\n(ft)","Longitudinal Slope\n(%)","BMP Associated with Buffer Rules?"]
[null,null,null,null,null,null,{"$f":"IF(AND(A19<>\"\",'Waterbody Information'!$D$10<>\"\",'Waterbody Information'!$D$21=\"\"),Picklists!$AH$4,\"\")","v":""},null,null,{"$f":"IF(OR(I19=\"\",H19=\"\"),\"\",(H19/I19))","v":""}]
[null,null,null,null,null,null,{"$f":"IF(AND(A20<>\"\",'Waterbody Information'!$D$10<>\"\",'Waterbody Information'!$D$21=\"\"),Picklists!$AH$4,\"\")","v":""},null,null,{"$f":"IF(OR(I20=\"\",H20=\"\"),\"\",(H20/I20))","v":""}]
[null,null,null,null,null,null,{"$f":"IF(AND(A21<>\"\",'Waterbody Information'!$D$10<>\"\",'Waterbody Information'!$D$21=\"\"),Picklists!$AH$4,\"\")","v":""},null,null,""]
[null,null,null,null,null,null,{"$f":"IF(AND(A22<>\"\",'Waterbody Information'!$D$10<>\"\",'Waterbody Information'!$D$21=\"\"),Picklists!$AH$4,\"\")","v":""},null,null,""]
[null,null,null,null,null,null,{"$f":"IF(AND(A23<>\"\",'Waterbody Information'!$D$10<>\"\",'Waterbody Information'!$D$21=\"\"),Picklists!$AH$4,\"\")","v":""},null,null,""]
[null,null,null,null,null,null,{"$f":"IF(AND(A24<>\"\",'Waterbody Information'!$D$10<>\"\",'Waterbody Information'!$D$21=\"\"),Picklists!$AH$4,\"\")","v":""},null,null,""]
[null,null,null,null,null,null,{"$f":"IF(AND(A25<>\"\",'Waterbody Information'!$D$10<>\"\",'Waterbody Information'!$D$21=\"\"),Picklists!$AH$4,\"\")","v":""},null,null,""]
[null,null,null,null,null,null,{"$f":"IF(AND(A26<>\"\",'Waterbody Information'!$D$10<>\"\",'Waterbody Information'!$D$21=\"\"),Picklists!$AH$4,\"\")","v":""},null,null,""]
[null,null,null,null,null,null,{"$f":"IF(AND(A27<>\"\",'Waterbody Information'!$D$10<>\"\",'Waterbody Information'!$D$21=\"\"),Picklists!$AH$4,\"\")","v":""},null,null,""]
[null,null,null,null,null,null,{"$f":"IF(AND(A28<>\"\",'Waterbody Information'!$D$10<>\"\",'Waterbody Information'!$D$21=\"\"),Picklists!$AH$4,\"\")","v":""},null,null,""]
[null,null,null,null,null,null,{"$f":"IF(AND(A29<>\"\",'Waterbody Information'!$D$10<>\"\",'Waterbody Information'!$D$21=\"\"),Picklists!$AH$4,\"\")","v":""},null,null,""]
[null,null,null,null,null,null,{"$f":"IF(AND(A30<>\"\",'Waterbody Information'!$D$10<>\"\",'Waterbody Information'!$D$21=\"\"),Picklists!$AH$4,\"\")","v":""},null,null,""]
[null,null,null,null,null,null,{"$f":"IF(AND(A31<>\"\",'Waterbody Information'!$D$10<>\"\",'Waterbody Information'!$D$21=\"\"),Picklists!$AH$4,\"\")","v":""},null,null,""]
[null,null,null,null,null,null,{"$f":"IF(AND(A32<>\"\",'Waterbody Information'!$D$10<>\"\",'Waterbody Information'!$D$21=\"\"),Picklists!$AH$4,\"\")","v":""},null,null,""]
[null,null,null,null,null,null,{"$f":"IF(AND(A33<>\"\",'Waterbody Information'!$D$10<>\"\",'Waterbody Information'!$D$21=\"\"),Picklists!$AH$4,\"\")","v":""},null,null,""]
[null,null,null,null,null,null,{"$f":"IF(AND(A34<>\"\",'Waterbody Information'!$D$10<>\"\",'Waterbody Information'!$D$21=\"\"),Picklists!$AH$4,\"\")","v":""},null,null,""]
[null,null,null,null,null,null,{"$f":"IF(AND(A35<>\"\",'Waterbody Information'!$D$10<>\"\",'Waterbody Information'!$D$21=\"\"),Picklists!$AH$4,\"\")","v":""},null,null,""]
[null,null,null,null,null,null,{"$f":"IF(AND(A36<>\"\",'Waterbody Information'!$D$10<>\"\",'Waterbody Information'!$D$21=\"\"),Picklists!$AH$4,\"\")","v":""},null,null,""]
[null,null,null,null,null,null,{"$f":"IF(AND(A37<>\"\",'Waterbody Information'!$D$10<>\"\",'Waterbody Information'!$D$21=\"\"),Picklists!$AH$4,\"\")","v":""},null,null,""]
[null,null,null,null,null,null,{"$f":"IF(AND(A38<>\"\",'Waterbody Information'!$D$10<>\"\",'Waterbody Information'!$D$21=\"\"),Picklists!$AH$4,\"\")","v":""},null,null,""]
[null,null,null,null,null,null,{"$f":"IF(AND(A39<>\"\",'Waterbody Information'!$D$10<>\"\",'Waterbody Information'!$D$21=\"\"),Picklists!$AH$4,\"\")","v":""},null,null,""]
[null,null,null,null,null,null,{"$f":"IF(AND(A40<>\"\",'Waterbody Information'!$D$10<>\"\",'Waterbody Information'!$D$21=\"\"),Picklists!$AH$4,\"\")","v":""},null,null,""]
[null,null,null,null,null,null,{"$f":"IF(AND(A41<>\"\",'Waterbody Information'!$D$10<>\"\",'Waterbody Information'!$D$21=\"\"),Picklists!$AH$4,\"\")","v":""},null,null,""]
[null,null,null,null,null,null,{"$f":"IF(AND(A42<>\"\",'Waterbody Information'!$D$10<>\"\",'Waterbody Information'!$D$21=\"\"),Picklists!$AH$4,\"\")","v":""},null,null,""]
[null,null,null,null,null,null,{"$f":"IF(AND(A43<>\"\",'Waterbody Information'!$D$10<>\"\",'Waterbody Information'!$D$21=\"\"),Picklists!$AH$4,\"\")","v":""},null,null,""]
[null,null,null,null,null,null,{"$f":"IF(AND(A44<>\"\",'Waterbody Information'!$D$10<>\"\",'Waterbody Information'!$D$21=\"\"),Picklists!$AH$4,\"\")","v":""},null,null,""]
[null,null,null,null,null,null,{"$f":"IF(AND(A45<>\"\",'Waterbody Information'!$D$10<>\"\",'Waterbody Information'!$D$21=\"\"),Picklists!$AH$4,\"\")","v":""},null,null,""]
[null,null,null,null,null,null,{"$f":"IF(AND(A46<>\"\",'Waterbody Information'!$D$10<>\"\",'Waterbody Information'!$D$21=\"\"),Picklists!$AH$4,\"\")","v":""},null,null,""]
[null,null,null,null,null,null,{"$f":"IF(AND(A47<>\"\",'Waterbody Information'!$D$10<>\"\",'Waterbody Information'!$D$21=\"\"),Picklists!$AH$4,\"\")","v":""},null,null,""]
[null,null,null,null,null,null,{"$f":"IF(AND(A48<>\"\",'Waterbody Information'!$D$10<>\"\",'Waterbody Information'!$D$21=\"\"),Picklists!$AH$4,\"\")","v":""},null,null,""]
[null,null,null,null,null,null,{"$f":"IF(AND(A49<>\"\",'Waterbody Information'!$D$10<>\"\",'Waterbody Information'!$D$21=\"\"),Picklists!$AH$4,\"\")","v":""},null,null,""]
[null,null,null,null,null,null,{"$f":"IF(AND(A50<>\"\",'Waterbody Information'!$D$10<>\"\",'Waterbody Information'!$D$21=\"\"),Picklists!$AH$4,\"\")","v":""},null,null,""]
[null,null,null,null,null,null,{"$f":"IF(AND(A51<>\"\",'Waterbody Information'!$D$10<>\"\",'Waterbody Information'!$D$21=\"\"),Picklists!$AH$4,\"\")","v":""},null,null,""]
[null,null,null,null,null,null,{"$f":"IF(AND(A52<>\"\",'Waterbody Information'!$D$10<>\"\",'Waterbody Information'!$D$21=\"\"),Picklists!$AH$4,\"\")","v":""},null,null,""]
[null,null,null,null,null,null,{"$f":"IF(AND(A53<>\"\",'Waterbody Information'!$D$10<>\"\",'Waterbody Information'!$D$21=\"\"),Picklists!$AH$4,\"\")","v":""},null,null,""]
[null,null,null,null,null,null,{"$f":"IF(AND(A54<>\"\",'Waterbody Information'!$D$10<>\"\",'Waterbody Information'!$D$21=\"\"),Picklists!$AH$4,\"\")","v":""},null,null,""]
[null,null,null,null,null,null,{"$f":"IF(AND(A55<>\"\",'Waterbody Information'!$D$10<>\"\",'Waterbody Information'!$D$21=\"\"),Picklists!$AH$4,\"\")","v":""},null,null,""]
[null,null,null,null,null,null,{"$f":"IF(AND(A56<>\"\",'Waterbody Information'!$D$10<>\"\",'Waterbody Information'!$D$21=\"\"),Picklists!$AH$4,\"\")","v":""},null,null,""]
[null,null,null,null,null,null,null,"Additional Comments"]
[]
[]
[]
[]
[]
[]
[null,null,null,null,null,null,null,"North Carolina Department of Transportation"]
[null,null,null,null,null,null,null,"Highway Stormwater Program"]
[{"$f":"'General Project Information'!$A$6","v":"(Version 3.02; Released April 23, 2024)"},null,null,null,null,null,null,"STORMWATER MANAGEMENT PLAN\nFOR NCDOT PROJECTS"]
["WBS Element:",null,null,null,null,null,{"$f":"'General Project Information'!$C$7","v":""},"TIP No.:",{"$f":"'General Project Information'!$E$7","v":""},"County(ies):",{"$f":"'General Project Information'!$H$7","v":"       "},null,"Page ",{"$f":"IF(A70<>\"\",MAX(N16)+1,\"\")","v":""},"of ",{"$f":"'General Project Information'!$O$7","v":1}]
[null,null,null,null,null,null,"Filter Strips"]
["Sheet No.","Line","Station","Location\n(LT,RT,CL)","Latitude","Longitude","Surface Water Body","Drainage Area\n(ac)","Surface Area\n(ac)","Drainage Area: Surface Area Ratio","Actual Length\n(ft)","Longitudinal Slope\n(%)","BMP Associated with Buffer Rules?"]
[null,null,null,null,null,null,{"$f":"IF(AND(A70<>\"\",'Waterbody Information'!$D$10<>\"\",'Waterbody Information'!$D$21=\"\"),Picklists!$AH$4,\"\")","v":""},null,null,{"$f":"IF(OR(I70=\"\",H70=\"\"),\"\",(H70/I70))","v":""}]
[null,null,null,null,null,null,{"$f":"IF(AND(A71<>\"\",'Waterbody Information'!$D$10<>\"\",'Waterbody Information'!$D$21=\"\"),Picklists!$AH$4,\"\")","v":""},null,null,{"$f":"IF(OR(I71=\"\",H71=\"\"),\"\",(H71/I71))","v":""}]
[null,null,null,null,null,null,{"$f":"IF(AND(A72<>\"\",'Waterbody Information'!$D$10<>\"\",'Waterbody Information'!$D$21=\"\"),Picklists!$AH$4,\"\")","v":""},null,null,""]
[null,null,null,null,null,null,{"$f":"IF(AND(A73<>\"\",'Waterbody Information'!$D$10<>\"\",'Waterbody Information'!$D$21=\"\"),Picklists!$AH$4,\"\")","v":""},null,null,""]
[null,null,null,null,null,null,{"$f":"IF(AND(A74<>\"\",'Waterbody Information'!$D$10<>\"\",'Waterbody Information'!$D$21=\"\"),Picklists!$AH$4,\"\")","v":""},null,null,""]
[null,null,null,null,null,null,{"$f":"IF(AND(A75<>\"\",'Waterbody Information'!$D$10<>\"\",'Waterbody Information'!$D$21=\"\"),Picklists!$AH$4,\"\")","v":""},null,null,""]
[null,null,null,null,null,null,{"$f":"IF(AND(A76<>\"\",'Waterbody Information'!$D$10<>\"\",'Waterbody Information'!$D$21=\"\"),Picklists!$AH$4,\"\")","v":""},null,null,""]
[null,null,null,null,null,null,{"$f":"IF(AND(A77<>\"\",'Waterbody Information'!$D$10<>\"\",'Waterbody Information'!$D$21=\"\"),Picklists!$AH$4,\"\")","v":""},null,null,""]
[null,null,null,null,null,null,{"$f":"IF(AND(A78<>\"\",'Waterbody Information'!$D$10<>\"\",'Waterbody Information'!$D$21=\"\"),Picklists!$AH$4,\"\")","v":""},null,null,""]
[null,null,null,null,null,null,{"$f":"IF(AND(A79<>\"\",'Waterbody Information'!$D$10<>\"\",'Waterbody Information'!$D$21=\"\"),Picklists!$AH$4,\"\")","v":""},null,null,""]
[null,null,null,null,null,null,{"$f":"IF(AND(A80<>\"\",'Waterbody Information'!$D$10<>\"\",'Waterbody Information'!$D$21=\"\"),Picklists!$AH$4,\"\")","v":""},null,null,""]
[null,null,null,null,null,null,{"$f":"IF(AND(A81<>\"\",'Waterbody Information'!$D$10<>\"\",'Waterbody Information'!$D$21=\"\"),Picklists!$AH$4,\"\")","v":""},null,null,""]
[null,null,null,null,null,null,{"$f":"IF(AND(A82<>\"\",'Waterbody Information'!$D$10<>\"\",'Waterbody Information'!$D$21=\"\"),Picklists!$AH$4,\"\")","v":""},null,null,""]
[null,null,null,null,null,null,{"$f":"IF(AND(A83<>\"\",'Waterbody Information'!$D$10<>\"\",'Waterbody Information'!$D$21=\"\"),Picklists!$AH$4,\"\")","v":""},null,null,""]
[null,null,null,null,null,null,{"$f":"IF(AND(A84<>\"\",'Waterbody Information'!$D$10<>\"\",'Waterbody Information'!$D$21=\"\"),Picklists!$AH$4,\"\")","v":""},null,null,""]
[null,null,null,null,null,null,{"$f":"IF(AND(A85<>\"\",'Waterbody Information'!$D$10<>\"\",'Waterbody Information'!$D$21=\"\"),Picklists!$AH$4,\"\")","v":""},null,null,""]
[null,null,null,null,null,null,{"$f":"IF(AND(A86<>\"\",'Waterbody Information'!$D$10<>\"\",'Waterbody Information'!$D$21=\"\"),Picklists!$AH$4,\"\")","v":""},null,null,""]
[null,null,null,null,null,null,{"$f":"IF(AND(A87<>\"\",'Waterbody Information'!$D$10<>\"\",'Waterbody Information'!$D$21=\"\"),Picklists!$AH$4,\"\")","v":""},null,null,""]
[null,null,null,null,null,null,{"$f":"IF(AND(A88<>\"\",'Waterbody Information'!$D$10<>\"\",'Waterbody Information'!$D$21=\"\"),Picklists!$AH$4,\"\")","v":""},null,null,""]
[null,null,null,null,null,null,{"$f":"IF(AND(A89<>\"\",'Waterbody Information'!$D$10<>\"\",'Waterbody Information'!$D$21=\"\"),Picklists!$AH$4,\"\")","v":""},null,null,""]
[null,null,null,null,null,null,{"$f":"IF(AND(A90<>\"\",'Waterbody Information'!$D$10<>\"\",'Waterbody Information'!$D$21=\"\"),Picklists!$AH$4,\"\")","v":""},null,null,""]
[null,null,null,null,null,null,{"$f":"IF(AND(A91<>\"\",'Waterbody Information'!$D$10<>\"\",'Waterbody Information'!$D$21=\"\"),Picklists!$AH$4,\"\")","v":""},null,null,""]
[null,null,null,null,null,null,{"$f":"IF(AND(A92<>\"\",'Waterbody Information'!$D$10<>\"\",'Waterbody Information'!$D$21=\"\"),Picklists!$AH$4,\"\")","v":""},null,null,""]
[null,null,null,null,null,null,{"$f":"IF(AND(A93<>\"\",'Waterbody Information'!$D$10<>\"\",'Waterbody Information'!$D$21=\"\"),Picklists!$AH$4,\"\")","v":""},null,null,""]
[null,null,null,null,null,null,{"$f":"IF(AND(A94<>\"\",'Waterbody Information'!$D$10<>\"\",'Waterbody Information'!$D$21=\"\"),Picklists!$AH$4,\"\")","v":""},null,null,""]
[null,null,null,null,null,null,{"$f":"IF(AND(A95<>\"\",'Waterbody Information'!$D$10<>\"\",'Waterbody Information'!$D$21=\"\"),Picklists!$AH$4,\"\")","v":""},null,null,""]
[null,null,null,null,null,null,{"$f":"IF(AND(A96<>\"\",'Waterbody Information'!$D$10<>\"\",'Waterbody Information'!$D$21=\"\"),Picklists!$AH$4,\"\")","v":""},null,null,""]
[null,null,null,null,null,null,{"$f":"IF(AND(A97<>\"\",'Waterbody Information'!$D$10<>\"\",'Waterbody Information'!$D$21=\"\"),Picklists!$AH$4,\"\")","v":""},null,null,""]
[null,null,null,null,null,null,{"$f":"IF(AND(A98<>\"\",'Waterbody Information'!$D$10<>\"\",'Waterbody Information'!$D$21=\"\"),Picklists!$AH$4,\"\")","v":""},null,null,""]
[null,null,null,null,null,null,{"$f":"IF(AND(A99<>\"\",'Waterbody Information'!$D$10<>\"\",'Waterbody Information'!$D$21=\"\"),Picklists!$AH$4,\"\")","v":""},null,null,""]
[null,null,null,null,null,null,{"$f":"IF(AND(A100<>\"\",'Waterbody Information'!$D$10<>\"\",'Waterbody Information'!$D$21=\"\"),Picklists!$AH$4,\"\")","v":""},null,null,""]
[null,null,null,null,null,null,{"$f":"IF(AND(A101<>\"\",'Waterbody Information'!$D$10<>\"\",'Waterbody Information'!$D$21=\"\"),Picklists!$AH$4,\"\")","v":""},null,null,""]
[null,null,null,null,null,null,{"$f":"IF(AND(A102<>\"\",'Waterbody Information'!$D$10<>\"\",'Waterbody Information'!$D$21=\"\"),Picklists!$AH$4,\"\")","v":""},null,null,""]
[null,null,null,null,null,null,{"$f":"IF(AND(A103<>\"\",'Waterbody Information'!$D$10<>\"\",'Waterbody Information'!$D$21=\"\"),Picklists!$AH$4,\"\")","v":""},null,null,""]
[null,null,null,null,null,null,{"$f":"IF(AND(A104<>\"\",'Waterbody Information'!$D$10<>\"\",'Waterbody Information'!$D$21=\"\"),Picklists!$AH$4,\"\")","v":""},null,null,""]
[null,null,null,null,null,null,{"$f":"IF(AND(A105<>\"\",'Waterbody Information'!$D$10<>\"\",'Waterbody Information'!$D$21=\"\"),Picklists!$AH$4,\"\")","v":""},null,null,""]
[null,null,null,null,null,null,{"$f":"IF(AND(A106<>\"\",'Waterbody Information'!$D$10<>\"\",'Waterbody Information'!$D$21=\"\"),Picklists!$AH$4,\"\")","v":""},null,null,""]
[null,null,null,null,null,null,{"$f":"IF(AND(A107<>\"\",'Waterbody Information'!$D$10<>\"\",'Waterbody Information'!$D$21=\"\"),Picklists!$AH$4,\"\")","v":""},null,null,""]
[null,null,null,null,null,null,null,"Additional Comments"]

{"sheet":"PSHs & Energy Diss.","index":6,"n_rows":215,"n_cols":23,"rows_kept":215,"cut":false,"hidden":false,"merged":[[196,7,196,8],[196,12,196,13],[196,14,196,15],[196,16,196,17],[196,18,196,19],[202,7,202,8],[202,12,202,13],[202,14,202,15],[202,16,202,17],[202,18,202,19],[199,14,199,15],[199,16,199,17],[199,18,199,19],[200,7,200,8],[200,12,200,13],[200,14,200,15],[200,16,200,17],[200,18,200,19],[201,7,201,8],[201,12,201,13],[201,14,201,15],[201,16,201,17],[201,18,201,19],[194,7,194,8],[194,12,194,13],[194,14,194,15],[194,16,194,17],[194,18,194,19],[195,7,195,8],[195,12,195,13],[195,14,195,15],[195,16,195,17],[195,18,195,19],[192,7,192,8],[192,12,192,13],[192,14,192,15],[192,16,192,17],[192,18,192,19],[190,12,190,13],[190,14,190,15],[193,7,193,8],[193,12,193,13],[193,14,193,15],[193,16,193,17],[193,18,193,19],[186,7,186,8],[186,12,186,13],[186,14,186,15],[186,16,186,17],[186,18,186,19],[190,16,190,17],[190,18,190,19],[191,7,191,8],[191,12,191,13],[191,14,191,15],[191,16,191,17],[191,18,191,19],[188,14,188,15],[188,16,188,17],[188,18,188,19],[189,12,189,13],[189,14,189,15],[189,16,189,17],[189,18,189,19],[187,12,187,13],[187,14,187,15],[187,16,187,17],[187,18,187,19],[188,12,188,13],[184,7,184,8],[184,12,184,13],[184,14,184,15],[184,16,184,17],[184,18,184,19],[185,12,185,13],[185,14,185,15],[185,16,185,17],[185,18,185,19],[185,7,185,8],[181,7,181,8],[181,12,181,13],[181,14,181,15],[181,16,181,17],[181,18,181,19],[182,14,182,15],[182,16,182,17],[182,18,182,19],[183,7,183,8],[183,12,183,13],[183,14,183,15],[183,16,183,17],[183,18,183,19],[177,7,177,8],[177,12,177,13],[177,14,177,15],[177,16,177,17],[177,18,177,19],[175,12,175,13],[179,18,179,19],[180,7,180,8],[180,12,180,13],[180,14,180,15],[180,16,180,17],[180,18,180,19],[178,14,178,15],[178,16,178,17],[178,18,178,19],[179,14,179,15],[179,16,179,17],[178,7,178,8],[178,12,178,13],[179,7,179,8],[179,12,179,13],[173,18,173,19],[174,7,174,8],[174,12,174,13],[174,14,174,15],[174,16,174,17],[174,18,174,19],[175,16,175,17],[175,18,175,19],[176,7,176,8],[176,12,176,13],[176,14,176,15],[176,16,176,17],[176,18,176,19],[148,14,148,15],[148,16,148,17],[148,18,148,19],[149,7,149,8],[149,12,149,13],[149,14,149,15],[149,16,149,17],[149,18,149,19],[150,7,150,8],[150,12,150,13],[150,14,150,15],[150,16,150,17],[150,18,150,19],[148,7,148,8],[148,12,148,13],[145,18,145,19],[146,7,146,8],[146,12,146,13],[146,14,146,15],[146,16,146,17],[146,18,146,19],[147,7,147,8],[147,12,147,13],[147,14,147,15],[147,16,147,17],[147,18,147,19],[145,7,145,8],[145,12,145,13],[145,14,145,15],[145,16,145,17],[143,7,143,8],[143,12,143,13],[143,14,143,15],[143,16,143,17],[143,18,143,19],[144,7,144,8],[144,12,144,13],[144,14,144,15],[144,16,144,17],[144,18,144,19],[141,12,141,13],[141,14,141,15],[141,16,141,17],[141,18,141,19],[142,7,142,8],[142,12,142,13],[142,14,142,15],[142,16,142,17],[142,18,142,19],[141,7,141,8],[135,7,135,8],[135,12,135,13],[135,14,135,15],[135,16,135,17],[135,18,135,19],[136,7,136,8],[136,12,136,13],[136,14,136,15],[136,16,136,17],[136,18,136,19],[133,7,133,8],[133,12,133,13],[133,14,133,15],[133,16,133,17],[133,18,133,19],[134,7,134,8],[134,12,134,13],[134,14,134,15],[134,16,134,17],[134,18,134,19],[125,7,125,8],[125,12,125,13],[125,14,125,15],[125,16,125,17],[125,18,125,19],[126,7,126,8],[126,12,126,13],[126,14,126,15],[126,16,126,17],[126,18,126,19],[123,7,123,8],[123,12,123,13],[123,14,123,15],[123,16,123,17],[123,18,123,19],[124,7,124,8],[124,12,124,13],[124,14,124,15],[124,16,124,17],[124,18,124,19],[121,7,121,8],[121,12,121,13],[121,14,121,15],[121,16,121,17],[121,18,121,19],[122,7,122,8],[122,12,122,13],[122,14,122,15],[122,16,122,17],[122,18,122,19],[101,7,101,8],[101,12,101,13],[101,14,101,15],[101,16,101,17],[101,18,101,19],[102,7,102,8],[102,12,102,13],[102,14,102,15],[102,16,102,17],[102,18,102,19],[99,7,99,8],[99,12,99,13],[99,14,99,15],[99,16,99,17],[99,18,99,19],[100,7,100,8],[100,12,100,13],[100,14,100,15],[100,16,100,17],[100,18,100,19],[97,7,97,8],[97,12,97,13],[97,14,97,15],[97,16,97,17],[97,18,97,19],[98,7,98,8],[98,12,98,13],[98,14,98,15],[98,16,98,17],[98,18,98,19],[93,7,93,8],[93,12,93,13],[93,14,93,15],[93,16,93,17],[93,18,93,19],[94,7,94,8],[94,12,94,13],[94,14,94,15],[94,16,94,17],[94,18,94,19],[91,7,91,8],[91,12,91,13],[91,14,91,15],[91,16,91,17],[91,18,91,19],[92,7,92,8],[92,12,92,13],[92,14,92,15],[92,16,92,17],[92,18,92,19],[89,7,89,8],[89,12,89,13],[89,14,89,15],[89,16,89,17],[89,18,89,19],[90,7,90,8],[90,12,90,13],[90,14,90,15],[90,16,90,17],[90,18,90,19],[87,7,87,8],[87,12,87,13],[87,14,87,15],[87,16,87,17],[87,18,87,19],[88,7,88,8],[88,12,88,13],[88,14,88,15],[88,16,88,17],[88,18,88,19],[85,7,85,8],[85,12,85,13],[85,14,85,15],[85,16,85,17],[85,18,85,19],[86,7,86,8],[86,12,86,13],[86,14,86,15],[86,16,86,17],[86,18,86,19],[83,7,83,8],[83,12,83,13],[83,14,83,15],[83,16,83,17],[83,18,83,19],[84,7,84,8],[84,12,84,13],[84,14,84,15],[84,16,84,17],[84,18,84,19],[81,7,81,8],[81,12,81,13],[81,14,81,15],[81,16,81,17],[81,18,81,19],[82,7,82,8],[82,12,82,13],[82,14,82,15],[82,16,82,17],[82,18,82,19],[79,7,79,8],[79,12,79,13],[79,14,79,15],[79,16,79,17],[79,18,79,19],[80,7,80,8],[80,12,80,13],[80,14,80,15],[80,16,80,17],[80,18,80,19],[77,7,77,8],[77,12,77,13],[77,14,77,15],[77,16,77,17],[77,18,77,19],[78,7,78,8],[78,12,78,13],[78,14,78,15],[78,16,78,17],[78,18,78,19],[75,7,75,8],[75,12,75,13],[75,14,75,15],[75,16,75,17],[75,18,75,19],[76,7,76,8],[76,12,76,13],[76,14,76,15],[76,16,76,17],[76,18,76,19],[73,7,73,8],[73,12,73,13],[73,14,73,15],[73,16,73,17],[73,18,73,19],[74,7,74,8],[74,12,74,13],[74,14,74,15],[74,16,74,17],[74,18,74,19],[50,7,50,8],[51,7,51,8],[52,7,52,8],[71,7,71,8],[71,12,71,13],[71,14,71,15],[71,16,71,17],[71,18,71,19],[72,7,72,8],[72,12,72,13],[72,14,72,15],[72,16,72,17],[72,18,72,19],[50,18,50,19],[51,18,51,19],[52,18,52,19],[52,14,52,15],[35,7,35,8],[36,7,36,8],[37,7,37,8],[38,7,38,8],[21,7,21,8],[22,7,22,8],[23,7,23,8],[24,7,24,8],[25,7,25,8],[26,7,26,8],[27,7,27,8],[28,7,28,8],[29,7,29,8],[30,18,30,19],[31,18,31,19],[47,18,47,19],[48,18,48,19],[49,18,49,19],[32,18,32,19],[33,18,33,19],[34,18,34,19],[35,18,35,19],[36,18,36,19],[37,18,37,19],[38,18,38,19],[39,18,39,19],[40,18,40,19],[41,18,41,19],[42,18,42,19],[43,18,43,19],[44,18,44,19],[45,18,45,19],[46,18,46,19],[23,16,23,17],[24,16,24,17],[25,16,25,17],[26,16,26,17],[27,16,27,17],[28,16,28,17],[29,16,29,17],[23,18,23,19],[24,18,24,19],[25,18,25,19],[26,18,26,19],[27,18,27,19],[28,18,28,19],[29,18,29,19],[30,16,30,17],[31,16,31,17],[32,16,32,17],[33,16,33,17],[34,16,34,17],[35,16,35,17],[36,16,36,17],[37,16,37,17],[44,16,44,17],[38,16,38,17],[39,16,39,17],[40,16,40,17],[41,16,41,17],[45,16,45,17],[46,16,46,17],[46,14,46,15],[42,16,42,17],[43,16,43,17],[43,14,43,15],[44,14,44,15],[45,14,45,15],[38,14,38,15],[39,14,39,15],[40,14,40,15],[41,14,41,15],[42,14,42,15],[23,14,23,15],[24,14,24,15],[25,14,25,15],[26,14,26,15],[27,14,27,15],[28,14,28,15],[29,14,29,15],[30,14,30,15],[31,14,31,15],[30,12,30,13],[31,12,31,13],[32,12,32,13],[33,12,33,13],[34,12,34,13],[35,12,35,13],[36,12,36,13],[37,12,37,13],[38,12,38,13],[47,14,47,15],[48,14,48,15],[49,14,49,15],[50,14,50,15],[51,14,51,15],[51,12,51,13],[52,12,52,13],[32,14,32,15],[127,12,127,13],[127,14,127,15],[33,14,33,15],[34,14,34,15],[35,14,35,15],[36,14,36,15],[37,14,37,15],[127,16,127,17],[127,18,127,19],[203,7,203,11],[117,7,117,11],[165,7,165,11],[166,7,166,11],[167,7,167,11],[119,7,119,11],[170,7,170,8],[154,0,163,19],[164,0,164,19],[127,7,127,8],[128,7,128,8],[128,12,128,13],[128,14,128,15],[128,16,128,17],[128,18,128,19],[187,7,187,8],[188,7,188,8],[189,7,189,8],[190,7,190,8],[175,7,175,8],[182,7,182,8],[182,12,182,13],[0,0,0,16],[19,7,19,11],[20,7,20,8],[9,0,9,5],[15,7,15,11],[115,7,115,11],[116,7,116,11],[39,12,39,13],[40,12,40,13],[1,0,8,5],[18,0,18,5],[12,0,12,19],[13,0,13,19],[11,0,11,19],[16,7,16,11],[95,12,95,13],[95,14,95,15],[95,16,95,17],[95,18,95,19],[96,7,96,8],[96,12,96,13],[96,14,96,15],[96,16,96,17],[96,18,96,19],[172,7,172,8],[172,12,172,13],[172,14,172,15],[175,14,175,15],[204,0,213,19],[214,0,214,19],[197,7,197,8],[197,12,197,13],[197,14,197,15],[197,16,197,17],[197,18,197,19],[198,7,198,8],[198,12,198,13],[198,14,198,15],[198,16,198,17],[198,18,198,19],[199,7,199,8],[199,12,199,13],[172,16,172,17],[172,18,172,19],[173,7,173,8],[173,12,173,13],[173,14,173,15],[173,16,173,17],[151,16,151,17],[151,18,151,19],[152,7,152,8],[152,12,152,13],[152,14,152,15],[152,16,152,17],[152,18,152,19],[171,7,171,8],[168,0,168,5],[170,12,170,13],[153,7,153,11],[169,7,169,11],[170,14,170,15],[151,7,151,8],[151,12,151,13],[151,14,151,15],[171,12,171,13],[171,14,171,15],[171,16,171,17],[171,18,171,19],[170,16,170,17],[170,18,170,19],[137,7,137,8],[137,12,137,13],[137,14,137,15],[137,16,137,17],[137,18,137,19],[138,7,138,8],[138,12,138,13],[138,14,138,15],[138,16,138,17],[138,18,138,19],[139,7,139,8],[139,12,139,13],[139,14,139,15],[139,16,139,17],[139,18,139,19],[140,7,140,8],[140,12,140,13],[140,14,140,15],[140,16,140,17],[140,18,140,19],[129,7,129,8],[129,12,129,13],[129,14,129,15],[129,16,129,17],[129,18,129,19],[130,7,130,8],[130,12,130,13],[41,12,41,13],[42,12,42,13],[43,12,43,13],[44,12,44,13],[45,12,45,13],[46,12,46,13],[47,12,47,13],[48,12,48,13],[49,12,49,13],[130,14,130,15],[130,16,130,17],[130,18,130,19],[114,0,114,19],[103,7,103,11],[118,0,118,5],[120,16,120,17],[95,7,95,8],[131,7,131,8],[131,12,131,13],[131,14,131,15],[131,16,131,17],[131,18,131,19],[132,7,132,8],[132,12,132,13],[132,14,132,15],[132,16,132,17],[132,18,132,19],[23,12,23,13],[24,12,24,13],[25,12,25,13],[26,12,26,13],[27,12,27,13],[28,12,28,13],[29,12,29,13],[67,7,67,11],[66,7,66,11],[65,7,65,11],[50,12,50,13],[42,7,42,8],[43,7,43,8],[44,7,44,8],[45,7,45,8],[46,7,46,8],[39,7,39,8],[40,7,40,8],[41,7,41,8],[30,7,30,8],[31,7,31,8],[32,7,32,8],[33,7,33,8],[34,7,34,8],[17,7,17,11],[20,18,20,19],[20,14,20,15],[20,12,20,13],[20,16,20,17],[21,12,21,13],[22,12,22,13],[21,18,21,19],[22,18,22,19],[21,14,21,15],[22,14,22,15],[21,16,21,17],[22,16,22,17],[47,7,47,8],[48,7,48,8],[49,7,49,8],[120,14,120,15],[68,0,68,5],[70,14,70,15],[54,0,63,19],[69,7,69,11],[64,0,64,19],[70,16,70,17],[120,12,120,13],[120,7,120,8],[104,0,113,19],[120,18,120,19],[70,18,70,19],[53,7,53,11],[70,12,70,13],[70,7,70,8],[47,16,47,17],[48,16,48,17],[49,16,49,17],[50,16,50,17],[51,16,51,17],[52,16,52,17],[6,6,6,19],[7,6,7,19],[8,6,8,19],[9,6,9,19],[1,6,1,19],[2,6,2,19],[3,6,3,19],[4,6,4,19],[5,6,5,19]]}
["Preformed Scour Holes and Energy Dissipators Design Guidelines *",null,null,null,null,null,null,null,null,null,null,null,null,null,null,null,null,null,null,null,null,"# pages previous sheets:",{"$f":"'Filter Strip'!W3","v":1}]
["Preformed Scour Hole (PSH) Design Guidelines*",null,null,null,null,null,"• 15” pipe, Q10 ≤ 6 cfs",null,null,null,null,null,null,null,null,null,null,null,null,null,null,"# pages this sheet:",{"$f":"COUNT(R19,R69,R119,R169)","v":0}]
[null,null,null,null,null,null,"• 18” pipe, Q10 ≤ 10 cfs",null,null,null,null,null,null,null,null,null,null,null,null,null,null,"# pages total:",{"$f":"W2+W1","v":1}]
[null,null,null,null,null,null,"• PSHs to be used with 15” and 18” pipes and Class B riprap only"]
[null,null,null,null,null,null,"• Permanent soil reinforcement matting (PSRM) lined apron and downgrade area must be flat"]
[null,null,null,null,null,null,"• Base width and base length = 3 x pipe diam."]
[null,null,null,null,null,null,"• Side slope  2:1 or flatter"]
[null,null,null,null,null,null,"• 1 ft ≤ depth ≤ 3 ft"]
[null,null,null,null,null,null,"• Meet clear recovery zone requirements outlined in the NDCDOT Roadway Design Manual and locate outside of Zone 2 in buffer areas"]
["General",null,null,null,null,null,"• Velocities exiting energy dissipators should be ≤ 4 fps"]
[]
["* Design guidelines are outlined for various Best Management Practices (BMPs) as provided in the NCDOT BMP Toolbox (2014).  The guidelines listed are intended to provide a general overview of key design elements, but do not include all design criteria, guidelines, or recommendations and are not intended to serve as the sole source of design criteria.  The NCDOT BMP Toolbox, NCDOT Standard Details, the Federal Highway Administration (FHWA) Hydraulic Engineering Circular 14 (HEC-14) (July 2006), and any other applicable sources should be referenced for additional information. "]
["Please fill out all yellow cells as completely as possible.  Use pick lists where provided.  See PSH design guidelines above.  For more information on the NCDOT Stormwater Management Plan form, please refer to the document, NCDOT Stormwater Best Management Practices Toolbox (2014).  If needed, additional pages are provided in this workbook."]
["Print area may be adjusted to include sheets as needed."]
[]
[null,null,null,null,null,null,null,"North Carolina Department of Transportation"]
[null,null,null,null,null,null,null,"Highway Stormwater Program"]
[{"$f":"'General Project Information'!$A$6","v":"(Version 3.02; Released April 23, 2024)"},null,null,null,null,null,null,"STORMWATER MANAGEMENT PLAN\nFOR NCDOT PROJECTS"]
["WBS Element:",null,null,null,null,null,null,null,"TIP/Proj No.:",{"$f":"'General Project Information'!$E$7","v":""},"County(ies):",{"$f":"'General Project Information'!$H$7","v":"       "},null,null,null,null,"Page ",{"$f":"IF(A22<>\"\",MAX(W1)+1,\"\")","v":""},"of",{"$f":"'General Project Information'!$O$7","v":1}]
[null,null,null,null,null,null,null,"Preformed Scour Holes and Energy Dissipators"]
["Sheet No.","Line","Station","Location\n(LT,RT,CL)","Latitude","Longitude","Surface Water Body","Energy Dissipator Type",null,"Riprap Type","Drainage Area\n(ac)","Conveyance Structure","Pipe (in) / Structure Dimensions (ft)",null,"Q10\n(cfs)",null,"V10\n(fps)",null,"BMP Associated w/ Buffer Rules?"]
[null,null,null,null,null,null,{"$f":"IF(AND(A22<>\"\",'Waterbody Information'!$D$10<>\"\",'Waterbody Information'!$D$21=\"\"),Picklists!$AH$4,\"\")","v":""},null,null,null,null,null,null,null,null,null,null,null,{"$f":"IF(H22=\"\",\"\",IF(H22<>\"PSH\",\"N/A\",\"\"))","v":""}]
[null,null,null,null,null,null,{"$f":"IF(AND(A23<>\"\",'Waterbody Information'!$D$10<>\"\",'Waterbody Information'!$D$21=\"\"),Picklists!$AH$4,\"\")","v":""},null,null,null,null,null,null,null,null,null,null,null,{"$f":"IF(H23=\"\",\"\",IF(H23<>\"PSH\",\"N/A\",\"\"))","v":""}]
[null,null,null,null,null,null,{"$f":"IF(AND(A24<>\"\",'Waterbody Information'!$D$10<>\"\",'Waterbody Information'!$D$21=\"\"),Picklists!$AH$4,\"\")","v":""},null,null,null,null,null,null,null,null,null,null,null,""]
[null,null,null,null,null,null,{"$f":"IF(AND(A25<>\"\",'Waterbody Information'!$D$10<>\"\",'Waterbody Information'!$D$21=\"\"),Picklists!$AH$4,\"\")","v":""},null,null,null,null,null,null,null,null,null,null,null,""]
[null,null,null,null,null,null,{"$f":"IF(AND(A26<>\"\",'Waterbody Information'!$D$10<>\"\",'Waterbody Information'!$D$21=\"\"),Picklists!$AH$4,\"\")","v":""},null,null,null,null,null,null,null,null,null,null,null,""]
[null,null,null,null,null,null,{"$f":"IF(AND(A27<>\"\",'Waterbody Information'!$D$10<>\"\",'Waterbody Information'!$D$21=\"\"),Picklists!$AH$4,\"\")","v":""},null,null,null,null,null,null,null,null,null,null,null,""]
[null,null,null,null,null,null,{"$f":"IF(AND(A28<>\"\",'Waterbody Information'!$D$10<>\"\",'Waterbody Information'!$D$21=\"\"),Picklists!$AH$4,\"\")","v":""},null,null,null,null,null,null,null,null,null,null,null,""]
[null,null,null,null,null,null,{"$f":"IF(AND(A29<>\"\",'Waterbody Information'!$D$10<>\"\",'Waterbody Information'!$D$21=\"\"),Picklists!$AH$4,\"\")","v":""},null,null,null,null,null,null,null,null,null,null,null,""]
[null,null,null,null,null,null,{"$f":"IF(AND(A30<>\"\",'Waterbody Information'!$D$10<>\"\",'Waterbody Information'!$D$21=\"\"),Picklists!$AH$4,\"\")","v":""},null,null,null,null,null,null,null,null,null,null,null,""]
[null,null,null,null,null,null,{"$f":"IF(AND(A31<>\"\",'Waterbody Information'!$D$10<>\"\",'Waterbody Information'!$D$21=\"\"),Picklists!$AH$4,\"\")","v":""},null,null,null,null,null,null,null,null,null,null,null,""]
[null,null,null,null,null,null,{"$f":"IF(AND(A32<>\"\",'Waterbody Information'!$D$10<>\"\",'Waterbody Information'!$D$21=\"\"),Picklists!$AH$4,\"\")","v":""},null,null,null,null,null,null,null,null,null,null,null,""]
[null,null,null,null,null,null,{"$f":"IF(AND(A33<>\"\",'Waterbody Information'!$D$10<>\"\",'Waterbody Information'!$D$21=\"\"),Picklists!$AH$4,\"\")","v":""},null,null,null,null,null,null,null,null,null,null,null,""]
[null,null,null,null,null,null,{"$f":"IF(AND(A34<>\"\",'Waterbody Information'!$D$10<>\"\",'Waterbody Information'!$D$21=\"\"),Picklists!$AH$4,\"\")","v":""},null,null,null,null,null,null,null,null,null,null,null,""]
[null,null,null,null,null,null,{"$f":"IF(AND(A35<>\"\",'Waterbody Information'!$D$10<>\"\",'Waterbody Information'!$D$21=\"\"),Picklists!$AH$4,\"\")","v":""},null,null,null,null,null,null,null,null,null,null,null,""]
[null,null,null,null,null,null,{"$f":"IF(AND(A36<>\"\",'Waterbody Information'!$D$10<>\"\",'Waterbody Information'!$D$21=\"\"),Picklists!$AH$4,\"\")","v":""},null,null,null,null,null,null,null,null,null,null,null,""]
[null,null,null,null,null,null,{"$f":"IF(AND(A37<>\"\",'Waterbody Information'!$D$10<>\"\",'Waterbody Information'!$D$21=\"\"),Picklists!$AH$4,\"\")","v":""},null,null,null,null,null,null,null,null,null,null,null,""]
[null,null,null,null,null,null,{"$f":"IF(AND(A38<>\"\",'Waterbody Information'!$D$10<>\"\",'Waterbody Information'!$D$21=\"\"),Picklists!$AH$4,\"\")","v":""},null,null,null,null,null,null,null,null,null,null,null,""]
[null,null,null,null,null,null,{"$f":"IF(AND(A39<>\"\",'Waterbody Information'!$D$10<>\"\",'Waterbody Information'!$D$21=\"\"),Picklists!$AH$4,\"\")","v":""},null,null,null,null,null,null,null,null,null,null,null,""]
[null,null,null,null,null,null,{"$f":"IF(AND(A40<>\"\",'Waterbody Information'!$D$10<>\"\",'Waterbody Information'!$D$21=\"\"),Picklists!$AH$4,\"\")","v":""},null,null,null,null,null,null,null,null,null,null,null,""]
[null,null,null,null,null,null,{"$f":"IF(AND(A41<>\"\",'Waterbody Information'!$D$10<>\"\",'Waterbody Information'!$D$21=\"\"),Picklists!$AH$4,\"\")","v":""},null,null,null,null,null,null,null,null,null,null,null,""]
[null,null,null,null,null,null,{"$f":"IF(AND(A42<>\"\",'Waterbody Information'!$D$10<>\"\",'Waterbody Information'!$D$21=\"\"),Picklists!$AH$4,\"\")","v":""},null,null,null,null,null,null,null,null,null,null,null,""]
[null,null,null,null,null,null,{"$f":"IF(AND(A43<>\"\",'Waterbody Information'!$D$10<>\"\",'Waterbody Information'!$D$21=\"\"),Picklists!$AH$4,\"\")","v":""},null,null,null,null,null,null,null,null,null,null,null,""]
[null,null,null,null,null,null,{"$f":"IF(AND(A44<>\"\",'Waterbody Information'!$D$10<>\"\",'Waterbody Information'!$D$21=\"\"),Picklists!$AH$4,\"\")","v":""},null,null,null,null,null,null,null,null,null,null,null,""]
[null,null,null,null,null,null,{"$f":"IF(AND(A45<>\"\",'Waterbody Information'!$D$10<>\"\",'Waterbody Information'!$D$21=\"\"),Picklists!$AH$4,\"\")","v":""},null,null,null,null,null,null,null,null,null,null,null,""]
[null,null,null,null,null,null,{"$f":"IF(AND(A46<>\"\",'Waterbody Information'!$D$10<>\"\",'Waterbody Information'!$D$21=\"\"),Picklists!$AH$4,\"\")","v":""},null,null,null,null,null,null,null,null,null,null,null,""]
[null,null,null,null,null,null,{"$f":"IF(AND(A47<>\"\",'Waterbody Information'!$D$10<>\"\",'Waterbody Information'!$D$21=\"\"),Picklists!$AH$4,\"\")","v":""},null,null,null,null,null,null,null,null,null,null,null,""]
[null,null,null,null,null,null,{"$f":"IF(AND(A48<>\"\",'Waterbody Information'!$D$10<>\"\",'Waterbody Information'!$D$21=\"\"),Picklists!$AH$4,\"\")","v":""},null,null,null,null,null,null,null,null,null,null,null,""]
[null,null,null,null,null,null,{"$f":"IF(AND(A49<>\"\",'Waterbody Information'!$D$10<>\"\",'Waterbody Information'!$D$21=\"\"),Picklists!$AH$4,\"\")","v":""},null,null,null,null,null,null,null,null,null,null,null,""]
[null,null,null,null,null,null,{"$f":"IF(AND(A50<>\"\",'Waterbody Information'!$D$10<>\"\",'Waterbody Information'!$D$21=\"\"),Picklists!$AH$4,\"\")","v":""},null,null,null,null,null,null,null,null,null,null,null,""]
[null,null,null,null,null,null,{"$f":"IF(AND(A51<>\"\",'Waterbody Information'!$D$10<>\"\",'Waterbody Information'!$D$21=\"\"),Picklists!$AH$4,\"\")","v":""},null,null,null,null,null,null,null,null,null,null,null,""]
[null,null,null,null,null,null,{"$f":"IF(AND(A52<>\"\",'Waterbody Information'!$D$10<>\"\",'Waterbody Information'!$D$21=\"\"),Picklists!$AH$4,\"\")","v":""},null,null,null,null,null,null,null,null,null,null,null,""]
[null,null,null,null,null,null,null,null,null,null,null,null,null,null,null,null,null,null,""]
[null,null,null,null,null,null,null,"Additional Comments"]
[]
[]
[]
[]
[]
[]
[]
[]
[]
[]
["* Refer to the NCDOT Best Management Practices Toolbox (2014), NCDOT Standards, the Federal Highway Administration (FHWA) Hydraulic Engineering Circular No. 14 (HEC-14), Third Edition, Hydraulic Design of Energy Dissipators for Culverts and Channels (July 2006), as applicable, for design guidance and criteria."]
[null,null,null,null,null,null,null,"North Carolina Department of Transportation"]
[null,null,null,null,null,null,null,"Highway Stormwater Program"]
[{"$f":"'General Project Information'!$A$6","v":"(Version 3.02; Released April 23, 2024)"},null,null,null,null,null,null,"STORMWATER MANAGEMENT PLAN\nFOR NCDOT PROJECTS"]
["WBS Element:",null,null,null,null,null,null,null,"TIP No.:",{"$f":"'General Project Information'!$E$7","v":""},"County(ies):",{"$f":"'General Project Information'!$H$7","v":"       "},null,null,null,null,"Page ",{"$f":"IF(A72<>\"\",MAX(R19)+1,\"\")","v":""},"of",{"$f":"'General Project Information'!$O$7","v":1}]
[null,null,null,null,null,null,null,"Preformed Scour Holes and Energy Dissipators"]
["Sheet No.","Line","Station","Location\n(LT,RT,CL)","Latitude","Longitude","Surface Water Body","Energy Dissipator Type",null,"Riprap Type","Drainage Area\n(ac)","Conveyance Structure","Pipe (in) / Structure Dimensions (ft)",null,"Q10\n(cfs)",null,"V10\n(fps)",null,"BMP Associated w/ Buffer Rules?"]
[null,null,null,null,null,null,null,null,null,null,null,null,null,null,null,null,null,null,{"$f":"IF(H72=\"\",\"\",IF(H72<>\"PSH\",\"N/A\",\"\"))","v":""}]
[null,null,null,null,null,null,{"$f":"IF(AND(A73<>\"\",'Waterbody Information'!$D$10<>\"\",'Waterbody Information'!$D$21=\"\"),Picklists!$AH$4,\"\")","v":""},null,null,null,null,null,null,null,null,null,null,null,{"$f":"IF(H73=\"\",\"\",IF(H73<>\"PSH\",\"N/A\",\"\"))","v":""}]
[null,null,null,null,null,null,{"$f":"IF(AND(A74<>\"\",'Waterbody Information'!$D$10<>\"\",'Waterbody Information'!$D$21=\"\"),Picklists!$AH$4,\"\")","v":""},null,null,null,null,null,null,null,null,null,null,null,""]
[null,null,null,null,null,null,{"$f":"IF(AND(A75<>\"\",'Waterbody Information'!$D$10<>\"\",'Waterbody Information'!$D$21=\"\"),Picklists!$AH$4,\"\")","v":""},null,null,null,null,null,null,null,null,null,null,null,""]
[null,null,null,null,null,null,{"$f":"IF(AND(A76<>\"\",'Waterbody Information'!$D$10<>\"\",'Waterbody Information'!$D$21=\"\"),Picklists!$AH$4,\"\")","v":""},null,null,null,null,null,null,null,null,null,null,null,""]
[null,null,null,null,null,null,{"$f":"IF(AND(A77<>\"\",'Waterbody Information'!$D$10<>\"\",'Waterbody Information'!$D$21=\"\"),Picklists!$AH$4,\"\")","v":""},null,null,null,null,null,null,null,null,null,null,null,""]
[null,null,null,null,null,null,{"$f":"IF(AND(A78<>\"\",'Waterbody Information'!$D$10<>\"\",'Waterbody Information'!$D$21=\"\"),Picklists!$AH$4,\"\")","v":""},null,null,null,null,null,null,null,null,null,null,null,""]
[null,null,null,null,null,null,{"$f":"IF(AND(A79<>\"\",'Waterbody Information'!$D$10<>\"\",'Waterbody Information'!$D$21=\"\"),Picklists!$AH$4,\"\")","v":""},null,null,null,null,null,null,null,null,null,null,null,""]
[null,null,null,null,null,null,{"$f":"IF(AND(A80<>\"\",'Waterbody Information'!$D$10<>\"\",'Waterbody Information'!$D$21=\"\"),Picklists!$AH$4,\"\")","v":""},null,null,null,null,null,null,null,null,null,null,null,""]
[null,null,null,null,null,null,{"$f":"IF(AND(A81<>\"\",'Waterbody Information'!$D$10<>\"\",'Waterbody Information'!$D$21=\"\"),Picklists!$AH$4,\"\")","v":""},null,null,null,null,null,null,null,null,null,null,null,""]
[null,null,null,null,null,null,{"$f":"IF(AND(A82<>\"\",'Waterbody Information'!$D$10<>\"\",'Waterbody Information'!$D$21=\"\"),Picklists!$AH$4,\"\")","v":""},null,null,null,null,null,null,null,null,null,null,null,""]
[null,null,null,null,null,null,{"$f":"IF(AND(A83<>\"\",'Waterbody Information'!$D$10<>\"\",'Waterbody Information'!$D$21=\"\"),Picklists!$AH$4,\"\")","v":""},null,null,null,null,null,null,null,null,null,null,null,""]
[null,null,null,null,null,null,{"$f":"IF(AND(A84<>\"\",'Waterbody Information'!$D$10<>\"\",'Waterbody Information'!$D$21=\"\"),Picklists!$AH$4,\"\")","v":""},null,null,null,null,null,null,null,null,null,null,null,""]
[null,null,null,null,null,null,{"$f":"IF(AND(A85<>\"\",'Waterbody Information'!$D$10<>\"\",'Waterbody Information'!$D$21=\"\"),Picklists!$AH$4,\"\")","v":""},null,null,null,null,null,null,null,null,null,null,null,""]
[null,null,null,null,null,null,{"$f":"IF(AND(A86<>\"\",'Waterbody Information'!$D$10<>\"\",'Waterbody Information'!$D$21=\"\"),Picklists!$AH$4,\"\")","v":""},null,null,null,null,null,null,null,null,null,null,null,""]
[null,null,null,null,null,null,{"$f":"IF(AND(A87<>\"\",'Waterbody Information'!$D$10<>\"\",'Waterbody Information'!$D$21=\"\"),Picklists!$AH$4,\"\")","v":""},null,null,null,null,null,null,null,null,null,null,null,""]
[null,null,null,null,null,null,{"$f":"IF(AND(A88<>\"\",'Waterbody Information'!$D$10<>\"\",'Waterbody Information'!$D$21=\"\"),Picklists!$AH$4,\"\")","v":""},null,null,null,null,null,null,null,null,null,null,null,""]
[null,null,null,null,null,null,{"$f":"IF(AND(A89<>\"\",'Waterbody Information'!$D$10<>\"\",'Waterbody Information'!$D$21=\"\"),Picklists!$AH$4,\"\")","v":""},null,null,null,null,null,null,null,null,null,null,null,""]
[null,null,null,null,null,null,{"$f":"IF(AND(A90<>\"\",'Waterbody Information'!$D$10<>\"\",'Waterbody Information'!$D$21=\"\"),Picklists!$AH$4,\"\")","v":""},null,null,null,null,null,null,null,null,null,null,null,""]
[null,null,null,null,null,null,{"$f":"IF(AND(A91<>\"\",'Waterbody Information'!$D$10<>\"\",'Waterbody Information'!$D$21=\"\"),Picklists!$AH$4,\"\")","v":""},null,null,null,null,null,null,null,null,null,null,null,""]
[null,null,null,null,null,null,{"$f":"IF(AND(A92<>\"\",'Waterbody Information'!$D$10<>\"\",'Waterbody Information'!$D$21=\"\"),Picklists!$AH$4,\"\")","v":""},null,null,null,null,null,null,null,null,null,null,null,""]
[null,null,null,null,null,null,{"$f":"IF(AND(A93<>\"\",'Waterbody Information'!$D$10<>\"\",'Waterbody Information'!$D$21=\"\"),Picklists!$AH$4,\"\")","v":""},null,null,null,null,null,null,null,null,null,null,null,""]
[null,null,null,null,null,null,{"$f":"IF(AND(A94<>\"\",'Waterbody Information'!$D$10<>\"\",'Waterbody Information'!$D$21=\"\"),Picklists!$AH$4,\"\")","v":""},null,null,null,null,null,null,null,null,null,null,null,""]
[null,null,null,null,null,null,{"$f":"IF(AND(A95<>\"\",'Waterbody Information'!$D$10<>\"\",'Waterbody Information'!$D$21=\"\"),Picklists!$AH$4,\"\")","v":""},null,null,null,null,null,null,null,null,null,null,null,""]
[null,null,null,null,null,null,{"$f":"IF(AND(A96<>\"\",'Waterbody Information'!$D$10<>\"\",'Waterbody Information'!$D$21=\"\"),Picklists!$AH$4,\"\")","v":""},null,null,null,null,null,null,null,null,null,null,null,""]
[null,null,null,null,null,null,{"$f":"IF(AND(A97<>\"\",'Waterbody Information'!$D$10<>\"\",'Waterbody Information'!$D$21=\"\"),Picklists!$AH$4,\"\")","v":""},null,null,null,null,null,null,null,null,null,null,null,""]
[null,null,null,null,null,null,{"$f":"IF(AND(A98<>\"\",'Waterbody Information'!$D$10<>\"\",'Waterbody Information'!$D$21=\"\"),Picklists!$AH$4,\"\")","v":""},null,null,null,null,null,null,null,null,null,null,null,""]
[null,null,null,null,null,null,{"$f":"IF(AND(A99<>\"\",'Waterbody Information'!$D$10<>\"\",'Waterbody Information'!$D$21=\"\"),Picklists!$AH$4,\"\")","v":""},null,null,null,null,null,null,null,null,null,null,null,""]
[null,null,null,null,null,null,{"$f":"IF(AND(A100<>\"\",'Waterbody Information'!$D$10<>\"\",'Waterbody Information'!$D$21=\"\"),Picklists!$AH$4,\"\")","v":""},null,null,null,null,null,null,null,null,null,null,null,""]
[null,null,null,null,null,null,{"$f":"IF(AND(A101<>\"\",'Waterbody Information'!$D$10<>\"\",'Waterbody Information'!$D$21=\"\"),Picklists!$AH$4,\"\")","v":""},null,null,null,null,null,null,null,null,null,null,null,""]
[null,null,null,null,null,null,{"$f":"IF(AND(A102<>\"\",'Waterbody Information'!$D$10<>\"\",'Waterbody Information'!$D$21=\"\"),Picklists!$AH$4,\"\")","v":""},null,null,null,null,null,null,null,null,null,null,null,""]
[null,null,null,null,null,null,null,null,null,null,null,null,null,null,null,null,null,null,""]
[null,null,null,null,null,null,null,"Additional Comments"]
[]
[]
[]
[]
[]
[]
[]
[]
[]
[]
["* Refer to the NCDOT Best Management Practices Toolbox (2014), NCDOT Standards, the Federal Highway Administration (FHWA) Hydraulic Engineering Circular No. 14 (HEC-14), Third Edition, Hydraulic Design of Energy Dissipators for Culverts and Channels (July 2006), as applicable, for design guidance and criteria."]
[null,null,null,null,null,null,null,"North Carolina Department of Transportation"]
[null,null,null,null,null,null,null,"Highway Stormwater Program"]
[{"$f":"'General Project Information'!$A$6","v":"(Version 3.02; Released April 23, 2024)"},null,null,null,null,null,null,"STORMWATER MANAGEMENT PLAN\nFOR NCDOT PROJECTS"]
["WBS Element:",null,null,null,null,null,null,null,"TIP No.:",{"$f":"'General Project Information'!$E$7","v":""},"County(ies):",{"$f":"'General Project Information'!$H$7","v":"       "},null,null,null,null,"Page ",{"$f":"IF(A122<>\"\",MAX(R69)+1,\"\")","v":""},"of",{"$f":"'General Project Information'!$O$7","v":1}]
[null,null,null,null,null,null,null,"Preformed Scour Holes and Energy Dissipators"]
["Sheet No.","Line","Station","Location\n(LT,RT,CL)","Latitude","Longitude","Surface Water Body","Energy Dissipator Type",null,"Riprap Type","Drainage Area\n(ac)","Conveyance Structure","Pipe (in) / Structure Dimensions (ft)",null,"Q10\n(cfs)",null,"V10\n(fps)",null,"BMP Associated w/ Buffer Rules?"]
[null,null,null,null,null,null,{"$f":"IF(AND(A122<>\"\",'Waterbody Information'!$D$10<>\"\",'Waterbody Information'!$D$21=\"\"),Picklists!$AH$4,\"\")","v":""},null,null,null,null,null,null,null,null,null,null,null,{"$f":"IF(H122=\"\",\"\",IF(H122<>\"PSH\",\"N/A\",\"\"))","v":""}]
[null,null,null,null,null,null,{"$f":"IF(AND(A123<>\"\",'Waterbody Information'!$D$10<>\"\",'Waterbody Information'!$D$21=\"\"),Picklists!$AH$4,\"\")","v":""},null,null,null,null,null,null,null,null,null,null,null,{"$f":"IF(H123=\"\",\"\",IF(H123<>\"PSH\",\"N/A\",\"\"))","v":""}]
[null,null,null,null,null,null,{"$f":"IF(AND(A124<>\"\",'Waterbody Information'!$D$10<>\"\",'Waterbody Information'!$D$21=\"\"),Picklists!$AH$4,\"\")","v":""},null,null,null,null,null,null,null,null,null,null,null,""]
[null,null,null,null,null,null,{"$f":"IF(AND(A125<>\"\",'Waterbody Information'!$D$10<>\"\",'Waterbody Information'!$D$21=\"\"),Picklists!$AH$4,\"\")","v":""},null,null,null,null,null,null,null,null,null,null,null,""]
[null,null,null,null,null,null,{"$f":"IF(AND(A126<>\"\",'Waterbody Information'!$D$10<>\"\",'Waterbody Information'!$D$21=\"\"),Picklists!$AH$4,\"\")","v":""},null,null,null,null,null,null,null,null,null,null,null,""]
[null,null,null,null,null,null,{"$f":"IF(AND(A127<>\"\",'Waterbody Information'!$D$10<>\"\",'Waterbody Information'!$D$21=\"\"),Picklists!$AH$4,\"\")","v":""},null,null,null,null,null,null,null,null,null,null,null,""]
[null,null,null,null,null,null,{"$f":"IF(AND(A128<>\"\",'Waterbody Information'!$D$10<>\"\",'Waterbody Information'!$D$21=\"\"),Picklists!$AH$4,\"\")","v":""},null,null,null,null,null,null,null,null,null,null,null,""]
[null,null,null,null,null,null,{"$f":"IF(AND(A129<>\"\",'Waterbody Information'!$D$10<>\"\",'Waterbody Information'!$D$21=\"\"),Picklists!$AH$4,\"\")","v":""},null,null,null,null,null,null,null,null,null,null,null,""]
[null,null,null,null,null,null,{"$f":"IF(AND(A130<>\"\",'Waterbody Information'!$D$10<>\"\",'Waterbody Information'!$D$21=\"\"),Picklists!$AH$4,\"\")","v":""},null,null,null,null,null,null,null,null,null,null,null,""]
[null,null,null,null,null,null,{"$f":"IF(AND(A131<>\"\",'Waterbody Information'!$D$10<>\"\",'Waterbody Information'!$D$21=\"\"),Picklists!$AH$4,\"\")","v":""},null,null,null,null,null,null,null,null,null,null,null,""]
[null,null,null,null,null,null,{"$f":"IF(AND(A132<>\"\",'Waterbody Information'!$D$10<>\"\",'Waterbody Information'!$D$21=\"\"),Picklists!$AH$4,\"\")","v":""},null,null,null,null,null,null,null,null,null,null,null,""]
[null,null,null,null,null,null,{"$f":"IF(AND(A133<>\"\",'Waterbody Information'!$D$10<>\"\",'Waterbody Information'!$D$21=\"\"),Picklists!$AH$4,\"\")","v":""},null,null,null,null,null,null,null,null,null,null,null,""]
[null,null,null,null,null,null,{"$f":"IF(AND(A134<>\"\",'Waterbody Information'!$D$10<>\"\",'Waterbody Information'!$D$21=\"\"),Picklists!$AH$4,\"\")","v":""},null,null,null,null,null,null,null,null,null,null,null,""]
[null,null,null,null,null,null,{"$f":"IF(AND(A135<>\"\",'Waterbody Information'!$D$10<>\"\",'Waterbody Information'!$D$21=\"\"),Picklists!$AH$4,\"\")","v":""},null,null,null,null,null,null,null,null,null,null,null,""]
[null,null,null,null,null,null,{"$f":"IF(AND(A136<>\"\",'Waterbody Information'!$D$10<>\"\",'Waterbody Information'!$D$21=\"\"),Picklists!$AH$4,\"\")","v":""},null,null,null,null,null,null,null,null,null,null,null,""]
[null,null,null,null,null,null,{"$f":"IF(AND(A137<>\"\",'Waterbody Information'!$D$10<>\"\",'Waterbody Information'!$D$21=\"\"),Picklists!$AH$4,\"\")","v":""},null,null,null,null,null,null,null,null,null,null,null,""]
[null,null,null,null,null,null,{"$f":"IF(AND(A138<>\"\",'Waterbody Information'!$D$10<>\"\",'Waterbody Information'!$D$21=\"\"),Picklists!$AH$4,\"\")","v":""},null,null,null,null,null,null,null,null,null,null,null,""]
[null,null,null,null,null,null,{"$f":"IF(AND(A139<>\"\",'Waterbody Information'!$D$10<>\"\",'Waterbody Information'!$D$21=\"\"),Picklists!$AH$4,\"\")","v":""},null,null,null,null,null,null,null,null,null,null,null,""]
[null,null,null,null,null,null,{"$f":"IF(AND(A140<>\"\",'Waterbody Information'!$D$10<>\"\",'Waterbody Information'!$D$21=\"\"),Picklists!$AH$4,\"\")","v":""},null,null,null,null,null,null,null,null,null,null,null,""]
[null,null,null,null,null,null,{"$f":"IF(AND(A141<>\"\",'Waterbody Information'!$D$10<>\"\",'Waterbody Information'!$D$21=\"\"),Picklists!$AH$4,\"\")","v":""},null,null,null,null,null,null,null,null,null,null,null,""]
[null,null,null,null,null,null,{"$f":"IF(AND(A142<>\"\",'Waterbody Information'!$D$10<>\"\",'Waterbody Information'!$D$21=\"\"),Picklists!$AH$4,\"\")","v":""},null,null,null,null,null,null,null,null,null,null,null,""]
[null,null,null,null,null,null,{"$f":"IF(AND(A143<>\"\",'Waterbody Information'!$D$10<>\"\",'Waterbody Information'!$D$21=\"\"),Picklists!$AH$4,\"\")","v":""},null,null,null,null,null,null,null,null,null,null,null,""]
[null,null,null,null,null,null,{"$f":"IF(AND(A144<>\"\",'Waterbody Information'!$D$10<>\"\",'Waterbody Information'!$D$21=\"\"),Picklists!$AH$4,\"\")","v":""},null,null,null,null,null,null,null,null,null,null,null,""]
[null,null,null,null,null,null,{"$f":"IF(AND(A145<>\"\",'Waterbody Information'!$D$10<>\"\",'Waterbody Information'!$D$21=\"\"),Picklists!$AH$4,\"\")","v":""},null,null,null,null,null,null,null,null,null,null,null,""]
[null,null,null,null,null,null,{"$f":"IF(AND(A146<>\"\",'Waterbody Information'!$D$10<>\"\",'Waterbody Information'!$D$21=\"\"),Picklists!$AH$4,\"\")","v":""},null,null,null,null,null,null,null,null,null,null,null,""]
[null,null,null,null,null,null,{"$f":"IF(AND(A147<>\"\",'Waterbody Information'!$D$10<>\"\",'Waterbody Information'!$D$21=\"\"),Picklists!$AH$4,\"\")","v":""},null,null,null,null,null,null,null,null,null,null,null,""]
[null,null,null,null,null,null,{"$f":"IF(AND(A148<>\"\",'Waterbody Information'!$D$10<>\"\",'Waterbody Information'!$D$21=\"\"),Picklists!$AH$4,\"\")","v":""},null,null,null,null,null,null,null,null,null,null,null,""]
[null,null,null,null,null,null,{"$f":"IF(AND(A149<>\"\",'Waterbody Information'!$D$10<>\"\",'Waterbody Information'!$D$21=\"\"),Picklists!$AH$4,\"\")","v":""},null,null,null,null,null,null,null,null,null,null,null,""]
[null,null,null,null,null,null,{"$f":"IF(AND(A150<>\"\",'Waterbody Information'!$D$10<>\"\",'Waterbody Information'!$D$21=\"\"),Picklists!$AH$4,\"\")","v":""},null,null,null,null,null,null,null,null,null,null,null,""]
[null,null,null,null,null,null,{"$f":"IF(AND(A151<>\"\",'Waterbody Information'!$D$10<>\"\",'Waterbody Information'!$D$21=\"\"),Picklists!$AH$4,\"\")","v":""},null,null,null,null,null,null,null,null,null,null,null,""]
[null,null,null,null,null,null,{"$f":"IF(AND(A152<>\"\",'Waterbody Information'!$D$10<>\"\",'Waterbody Information'!$D$21=\"\"),Picklists!$AH$4,\"\")","v":""},null,null,null,null,null,null,null,null,null,null,null,""]
[null,null,null,null,null,null,{"$f":"IF(AND(A153<>\"\",'Waterbody Information'!$D$10<>\"\",'Waterbody Information'!$D$21=\"\"),Picklists!$AH$4,\"\")","v":""},null,null,null,null,null,null,null,null,null,null,null,""]
[null,null,null,null,null,null,null,"Additional Comments"]
[]
[]
[]
[]
[]
[]
[]
[]
[]
[]
["* Refer to the NCDOT Best Management Practices Toolbox (2014), NCDOT Standards, the Federal Highway Administration (FHWA) Hydraulic Engineering Circular No. 14 (HEC-14), Third Edition, Hydraulic Design of Energy Dissipators for Culverts and Channels (July 2006), as applicable, for design guidance and criteria."]
[null,null,null,null,null,null,null,"North Carolina Department of Transportation"]
[null,null,null,null,null,null,null,"Highway Stormwater Program"]
[{"$f":"'General Project Information'!$A$6","v":"(Version 3.02; Released April 23, 2024)"},null,null,null,null,null,null,"STORMWATER MANAGEMENT PLAN\nFOR NCDOT PROJECTS"]
["WBS Element:",null,null,null,null,null,null,null,"TIP No.:",{"$f":"'General Project Information'!$E$7","v":""},"County(ies):",{"$f":"'General Project Information'!$H$7","v":"       "},null,null,null,null,"Page ",{"$f":"IF(A172<>\"\",MAX(R119)+1,\"\")","v":""},"of",{"$f":"'General Project Information'!$O$7","v":1}]
[null,null,null,null,null,null,null,"Preformed Scour Holes and Energy Dissipators"]
["Sheet No.","Line","Station","Location\n(LT,RT,CL)","Latitude","Longitude","Surface Water Body","Energy Dissipator Type",null,"Riprap Type","Drainage Area\n(ac)","Conveyance Structure","Pipe (in) / Structure Dimensions (ft)",null,"Q10\n(cfs)",null,"V10\n(fps)",null,"BMP Associated w/ Buffer Rules?"]
[null,null,null,null,null,null,{"$f":"IF(AND(A172<>\"\",'Waterbody Information'!$D$10<>\"\",'Waterbody Information'!$D$21=\"\"),Picklists!$AH$4,\"\")","v":""},null,null,null,null,null,null,null,null,null,null,null,{"$f":"IF(H172=\"\",\"\",IF(H172<>\"PSH\",\"N/A\",\"\"))","v":""}]
[null,null,null,null,null,null,{"$f":"IF(AND(A173<>\"\",'Waterbody Information'!$D$10<>\"\",'Waterbody Information'!$D$21=\"\"),Picklists!$AH$4,\"\")","v":""},null,null,null,null,null,null,null,null,null,null,null,{"$f":"IF(H173=\"\",\"\",IF(H173<>\"PSH\",\"N/A\",\"\"))","v":""}]
[null,null,null,null,null,null,{"$f":"IF(AND(A174<>\"\",'Waterbody Information'!$D$10<>\"\",'Waterbody Information'!$D$21=\"\"),Picklists!$AH$4,\"\")","v":""},null,null,null,null,null,null,null,null,null,null,null,""]
[null,null,null,null,null,null,{"$f":"IF(AND(A175<>\"\",'Waterbody Information'!$D$10<>\"\",'Waterbody Information'!$D$21=\"\"),Picklists!$AH$4,\"\")","v":""},null,null,null,null,null,null,null,null,null,null,null,""]
[null,null,null,null,null,null,{"$f":"IF(AND(A176<>\"\",'Waterbody Information'!$D$10<>\"\",'Waterbody Information'!$D$21=\"\"),Picklists!$AH$4,\"\")","v":""},null,null,null,null,null,null,null,null,null,null,null,""]
[null,null,null,null,null,null,{"$f":"IF(AND(A177<>\"\",'Waterbody Information'!$D$10<>\"\",'Waterbody Information'!$D$21=\"\"),Picklists!$AH$4,\"\")","v":""},null,null,null,null,null,null,null,null,null,null,null,""]
[null,null,null,null,null,null,{"$f":"IF(AND(A178<>\"\",'Waterbody Information'!$D$10<>\"\",'Waterbody Information'!$D$21=\"\"),Picklists!$AH$4,\"\")","v":""},null,null,null,null,null,null,null,null,null,null,null,""]
[null,null,null,null,null,null,{"$f":"IF(AND(A179<>\"\",'Waterbody Information'!$D$10<>\"\",'Waterbody Information'!$D$21=\"\"),Picklists!$AH$4,\"\")","v":""},null,null,null,null,null,null,null,null,null,null,null,""]
[null,null,null,null,null,null,{"$f":"IF(AND(A180<>\"\",'Waterbody Information'!$D$10<>\"\",'Waterbody Information'!$D$21=\"\"),Picklists!$AH$4,\"\")","v":""},null,null,null,null,null,null,null,null,null,null,null,""]
[null,null,null,null,null,null,{"$f":"IF(AND(A181<>\"\",'Waterbody Information'!$D$10<>\"\",'Waterbody Information'!$D$21=\"\"),Picklists!$AH$4,\"\")","v":""},null,null,null,null,null,null,null,null,null,null,null,""]
[null,null,null,null,null,null,{"$f":"IF(AND(A182<>\"\",'Waterbody Information'!$D$10<>\"\",'Waterbody Information'!$D$21=\"\"),Picklists!$AH$4,\"\")","v":""},null,null,null,null,null,null,null,null,null,null,null,""]
[null,null,null,null,null,null,{"$f":"IF(AND(A183<>\"\",'Waterbody Information'!$D$10<>\"\",'Waterbody Information'!$D$21=\"\"),Picklists!$AH$4,\"\")","v":""},null,null,null,null,null,null,null,null,null,null,null,""]
[null,null,null,null,null,null,{"$f":"IF(AND(A184<>\"\",'Waterbody Information'!$D$10<>\"\",'Waterbody Information'!$D$21=\"\"),Picklists!$AH$4,\"\")","v":""},null,null,null,null,null,null,null,null,null,null,null,""]
[null,null,null,null,null,null,{"$f":"IF(AND(A185<>\"\",'Waterbody Information'!$D$10<>\"\",'Waterbody Information'!$D$21=\"\"),Picklists!$AH$4,\"\")","v":""},null,null,null,null,null,null,null,null,null,null,null,""]
[null,null,null,null,null,null,{"$f":"IF(AND(A186<>\"\",'Waterbody Information'!$D$10<>\"\",'Waterbody Information'!$D$21=\"\"),Picklists!$AH$4,\"\")","v":""},null,null,null,null,null,null,null,null,null,null,null,""]
[null,null,null,null,null,null,{"$f":"IF(AND(A187<>\"\",'Waterbody Information'!$D$10<>\"\",'Waterbody Information'!$D$21=\"\"),Picklists!$AH$4,\"\")","v":""},null,null,null,null,null,null,null,null,null,null,null,""]
[null,null,null,null,null,null,{"$f":"IF(AND(A188<>\"\",'Waterbody Information'!$D$10<>\"\",'Waterbody Information'!$D$21=\"\"),Picklists!$AH$4,\"\")","v":""},null,null,null,null,null,null,null,null,null,null,null,""]
[null,null,null,null,null,null,{"$f":"IF(AND(A189<>\"\",'Waterbody Information'!$D$10<>\"\",'Waterbody Information'!$D$21=\"\"),Picklists!$AH$4,\"\")","v":""},null,null,null,null,null,null,null,null,null,null,null,""]
[null,null,null,null,null,null,{"$f":"IF(AND(A190<>\"\",'Waterbody Information'!$D$10<>\"\",'Waterbody Information'!$D$21=\"\"),Picklists!$AH$4,\"\")","v":""},null,null,null,null,null,null,null,null,null,null,null,""]
[null,null,null,null,null,null,{"$f":"IF(AND(A191<>\"\",'Waterbody Information'!$D$10<>\"\",'Waterbody Information'!$D$21=\"\"),Picklists!$AH$4,\"\")","v":""},null,null,null,null,null,null,null,null,null,null,null,""]
[null,null,null,null,null,null,{"$f":"IF(AND(A192<>\"\",'Waterbody Information'!$D$10<>\"\",'Waterbody Information'!$D$21=\"\"),Picklists!$AH$4,\"\")","v":""},null,null,null,null,null,null,null,null,null,null,null,""]
[null,null,null,null,null,null,{"$f":"IF(AND(A193<>\"\",'Waterbody Information'!$D$10<>\"\",'Waterbody Information'!$D$21=\"\"),Picklists!$AH$4,\"\")","v":""},null,null,null,null,null,null,null,null,null,null,null,""]
[null,null,null,null,null,null,{"$f":"IF(AND(A194<>\"\",'Waterbody Information'!$D$10<>\"\",'Waterbody Information'!$D$21=\"\"),Picklists!$AH$4,\"\")","v":""},null,null,null,null,null,null,null,null,null,null,null,""]
[null,null,null,null,null,null,{"$f":"IF(AND(A195<>\"\",'Waterbody Information'!$D$10<>\"\",'Waterbody Information'!$D$21=\"\"),Picklists!$AH$4,\"\")","v":""},null,null,null,null,null,null,null,null,null,null,null,""]
[null,null,null,null,null,null,{"$f":"IF(AND(A196<>\"\",'Waterbody Information'!$D$10<>\"\",'Waterbody Information'!$D$21=\"\"),Picklists!$AH$4,\"\")","v":""},null,null,null,null,null,null,null,null,null,null,null,""]
[null,null,null,null,null,null,{"$f":"IF(AND(A197<>\"\",'Waterbody Information'!$D$10<>\"\",'Waterbody Information'!$D$21=\"\"),Picklists!$AH$4,\"\")","v":""},null,null,null,null,null,null,null,null,null,null,null,""]
[null,null,null,null,null,null,{"$f":"IF(AND(A198<>\"\",'Waterbody Information'!$D$10<>\"\",'Waterbody Information'!$D$21=\"\"),Picklists!$AH$4,\"\")","v":""},null,null,null,null,null,null,null,null,null,null,null,""]
[null,null,null,null,null,null,{"$f":"IF(AND(A199<>\"\",'Waterbody Information'!$D$10<>\"\",'Waterbody Information'!$D$21=\"\"),Picklists!$AH$4,\"\")","v":""},null,null,null,null,null,null,null,null,null,null,null,""]
[null,null,null,null,null,null,{"$f":"IF(AND(A200<>\"\",'Waterbody Information'!$D$10<>\"\",'Waterbody Information'!$D$21=\"\"),Picklists!$AH$4,\"\")","v":""},null,null,null,null,null,null,null,null,null,null,null,""]
[null,null,null,null,null,null,{"$f":"IF(AND(A201<>\"\",'Waterbody Information'!$D$10<>\"\",'Waterbody Information'!$D$21=\"\"),Picklists!$AH$4,\"\")","v":""},null,null,null,null,null,null,null,null,null,null,null,""]
[null,null,null,null,null,null,{"$f":"IF(AND(A202<>\"\",'Waterbody Information'!$D$10<>\"\",'Waterbody Information'!$D$21=\"\"),Picklists!$AH$4,\"\")","v":""},null,null,null,null,null,null,null,null,null,null,null,""]
[null,null,null,null,null,null,{"$f":"IF(AND(A203<>\"\",'Waterbody Information'!$D$10<>\"\",'Waterbody Information'!$D$21=\"\"),Picklists!$AH$4,\"\")","v":""},null,null,null,null,null,null,null,null,null,null,null,""]
[null,null,null,null,null,null,null,"Additional Comments"]
[]
[]
[]
[]
[]
[]
[]
[]
[]
[]
["* Refer to the NCDOT Best Management Practices Toolbox (2014), NCDOT Standards, the Federal Highway Administration (FHWA) Hydraulic Engineering Circular No. 14 (HEC-14), Third Edition, Hydraulic Design of Energy Dissipators for Culverts and Channels (July 2006), as applicable, for design guidance and criteria."]

{"sheet":"Level Spreader & HSB","index":7,"n_rows":175,"n_cols":24,"rows_kept":175,"cut":false,"hidden":false,"merged":[[15,6,15,18],[16,6,16,18],[17,6,17,18],[19,6,19,18],[20,6,20,18],[21,6,21,18],[22,6,22,18],[18,6,18,18],[175,0,181,18],[174,7,174,13],[173,0,173,18],[169,10,169,12],[169,17,169,18],[33,7,33,13],[80,7,80,13],[81,7,81,13],[72,7,72,13],[44,10,44,12],[45,10,45,12],[46,10,46,12],[47,10,47,12],[48,10,48,12],[49,10,49,12],[50,10,50,12],[51,10,51,12],[52,10,52,12],[53,10,53,12],[54,10,54,12],[55,10,55,12],[163,10,163,12],[163,17,163,18],[73,0,79,18],[84,7,84,13],[82,7,82,13],[85,10,85,14],[86,10,86,12],[86,17,86,18],[87,10,87,12],[87,17,87,18],[148,10,148,12],[148,17,148,18],[159,10,159,12],[159,17,159,18],[160,10,160,12],[160,17,160,18],[161,10,161,12],[161,17,161,18],[162,10,162,12],[134,0,134,5],[136,10,136,14],[136,15,136,16],[136,17,136,18],[135,7,135,13],[141,10,141,12],[141,17,141,18],[147,10,147,12],[147,17,147,18],[138,10,138,12],[138,17,138,18],[139,10,139,12],[139,17,139,18],[140,10,140,12],[140,17,140,18],[142,10,142,12],[142,17,142,18],[143,10,143,12],[143,17,143,18],[144,10,144,12],[144,17,144,18],[145,10,145,12],[145,17,145,18],[146,10,146,12],[93,10,93,12],[93,17,93,18],[94,10,94,12],[94,17,94,18],[100,10,100,12],[100,17,100,18],[106,10,106,12],[124,0,130,18],[122,0,122,18],[123,7,123,13],[95,10,95,12],[95,17,95,18],[96,10,96,12],[96,17,96,18],[97,10,97,12],[97,17,97,18],[98,10,98,12],[98,17,98,18],[99,10,99,12],[99,17,99,18],[101,10,101,12],[101,17,101,18],[102,10,102,12],[102,17,102,18],[71,0,71,18],[85,15,85,16],[83,0,83,5],[32,0,32,5],[29,7,29,13],[30,7,30,13],[31,7,31,13],[85,17,85,18],[34,15,34,16],[35,10,35,12],[36,10,36,12],[37,10,37,12],[38,10,38,12],[39,10,39,12],[40,10,40,12],[41,10,41,12],[42,10,42,12],[43,10,43,12],[56,10,56,12],[57,10,57,12],[58,10,58,12],[59,10,59,12],[60,10,60,12],[61,10,61,12],[8,0,13,5],[25,0,25,17],[26,0,26,18],[27,0,27,18],[0,0,0,18],[11,6,11,18],[34,10,34,14],[34,17,34,18],[14,0,23,5],[1,0,7,5],[6,6,6,18],[7,6,7,18],[8,6,8,18],[12,6,12,18],[13,6,13,18],[14,6,14,18],[9,6,9,18],[10,6,10,18],[1,6,1,18],[2,6,2,18],[3,6,3,18],[4,6,4,18],[5,6,5,18],[23,6,23,18],[62,10,62,12],[63,10,63,12],[64,10,64,12],[65,10,65,12],[66,10,66,12],[67,10,67,12],[68,10,68,12],[69,10,69,12],[70,10,70,12],[35,17,35,18],[36,17,36,18],[37,17,37,18],[38,17,38,18],[39,17,39,18],[40,17,40,18],[41,17,41,18],[42,17,42,18],[43,17,43,18],[44,17,44,18],[45,17,45,18],[46,17,46,18],[47,17,47,18],[48,17,48,18],[49,17,49,18],[50,17,50,18],[51,17,51,18],[52,17,52,18],[53,17,53,18],[54,17,54,18],[55,17,55,18],[56,17,56,18],[57,17,57,18],[58,17,58,18],[59,17,59,18],[60,17,60,18],[61,17,61,18],[62,17,62,18],[63,17,63,18],[64,17,64,18],[65,17,65,18],[66,17,66,18],[67,17,67,18],[68,17,68,18],[69,17,69,18],[70,17,70,18],[88,17,88,18],[89,10,89,12],[89,17,89,18],[90,10,90,12],[90,17,90,18],[91,10,91,12],[91,17,91,18],[92,10,92,12],[92,17,92,18],[88,10,88,12],[103,10,103,12],[103,17,103,18],[104,10,104,12],[104,17,104,18],[105,10,105,12],[105,17,105,18],[106,17,106,18],[107,10,107,12],[107,17,107,18],[108,10,108,12],[108,17,108,18],[109,10,109,12],[109,17,109,18],[110,10,110,12],[110,17,110,18],[111,10,111,12],[111,17,111,18],[112,10,112,12],[112,17,112,18],[113,10,113,12],[113,17,113,18],[114,10,114,12],[114,17,114,18],[115,10,115,12],[115,17,115,18],[116,10,116,12],[116,17,116,18],[117,10,117,12],[117,17,117,18],[118,10,118,12],[118,17,118,18],[119,10,119,12],[119,17,119,18],[120,10,120,12],[120,17,120,18],[121,10,121,12],[121,17,121,18],[137,10,137,12],[137,17,137,18],[133,7,133,13],[131,7,131,13],[132,7,132,13],[146,17,146,18],[149,10,149,12],[149,17,149,18],[150,10,150,12],[150,17,150,18],[151,10,151,12],[151,17,151,18],[152,10,152,12],[152,17,152,18],[153,10,153,12],[153,17,153,18],[154,10,154,12],[154,17,154,18],[155,10,155,12],[155,17,155,18],[156,10,156,12],[156,17,156,18],[157,10,157,12],[157,17,157,18],[158,10,158,12],[158,17,158,18],[170,10,170,12],[170,17,170,18],[171,10,171,12],[171,17,171,18],[172,10,172,12],[172,17,172,18],[164,10,164,12],[164,17,164,18],[165,10,165,12],[165,17,165,18],[166,10,166,12],[166,17,166,18],[167,10,167,12],[167,17,167,18],[168,10,168,12],[168,17,168,18],[162,17,162,18]]}
["BMP Design Guidelines *",null,null,null,null,null,null,null,null,null,null,null,null,null,null,null,null,null,null,null,null,null,"# pages previous sheets:",{"$f":"'PSHs & Energy Diss.'!W3","v":1}]
["Forebay",null,null,null,null,null,"• Serves as pretreatment for other downgrade BMP, not a stand-alone BMP",null,null,null,null,null,null,null,null,null,null,null,null,null,null,null,"# pages this sheet:",{"$f":"COUNT(Q33,Q84,Q135)","v":0}]
[null,null,null,null,null,null,"• Sized to contain 0.1 in of runoff from the new built-upon area",null,null,null,null,null,null,null,null,null,null,null,null,null,null,null,"# pages total:",{"$f":"X2+X1","v":1}]
[null,null,null,null,null,null,"• Lining adequate to handle V10"]
[null,null,null,null,null,null,"• 3 ft ≤ depth ≤ 5 ft"]
[null,null,null,null,null,null,"• 2:1 ≤ L:W ratio ≤ 6:1"]
[null,null,null,null,null,null,"Sideslopes 2:1 or flatter"]
[null,null,null,null,null,null,"• Meet clear recovery zone requirements per NDCDOT Roadway Design Manual "]
["Hazardous Spill Basin",null,null,null,null,null,"• Meet clear recovery zone requirements outlined in the NDCDOT Roadway Design Manual "]
[null,null,null,null,null,null,"• Applied at rural or urban arterials crossing ORWs or WS-I, or if the crossing is within ½ mile of critical area of a WS-II, WS-III, or WS-IV"]
[null,null,null,null,null,null,"• Volume = 2-year storm, tc = 10 min., td = 5 min. + 1,550 cf with 1 ft freeboard"]
[null,null,null,null,null,null,"• Sideslopes 2:1 or flatter"]
[null,null,null,null,null,null,"• Convey 10-year storm without failure or downgrade erosion"]
[null,null,null,null,null,null,"• Outlet structure able to stop outflow from basin"]
["Level Spreader",null,null,null,null,null,"• Meet clear recovery zone requirements outlined in the NDCDOT Roadway Design Manual and locate outside of buffer zones"]
[null,null,null,null,null,null,"• Treat runoff from the 1 in/hr storm"]
[null,null,null,null,null,null,"• Must pass Q10 without erosion or failure"]
[null,null,null,null,null,null,"• Max down grade slope = 5% for forest and 8% for dense ground cover"]
[null,null,null,null,null,null,"• Level Spreader length ≥ 10 ft and ≤ 100 ft"]
[null,null,null,null,null,null,"• Trough depth ≥ 1.5 ft"]
[null,null,null,null,null,null,"• Trough width ≥ 5.5 ft"]
[null,null,null,null,null,null,"• Concrete lip extends 4 in. above ground with zero percent grade"]
[null,null,null,null,null,null,"• First 3 ft down grade lined with PSRM"]
[null,null,null,null,null,null,"• Level spreader length:\n     o Grass or densely vegetated buffer = 10 ft per 1 cfs of flow \n     o Forested buffer 50 ft wide = 50 ft per 1 cfs pf flow"]
[]
["* Design guidelines are outlined for various Best Management Practices (BMPs) as provided in the NCDOT BMP Toolbox (2014).  The guidelines listed are intended to provide a general overview of key design elements, but do not include all design criteria, guidelines, or recommendations and are not intended to serve as the sole source of design criteria.  The NCDOT BMP Toolbox, NCDOT Standard Details, the Federal Highway Administration (FHWA) Hydraulic Engineering Circular 14 (HEC-14) (July 2006), and any other applicable sources should be referenced for additional information. "]
["Please fill out all yellow cells as completely as possible.  Use pick lists where provided.  See top of worksheet for design guidelines.   For more information on the NCDOT Stormwater Management Plan form, please refer to the document, NCDOT Stormwater Best Management Practices Toolbox (2014).  If needed, additional pages are provided in this workbook."]
["Print area may be adjusted to include sheets as needed."]
[]
[null,null,null,null,null,null,null,"North Carolina Department of Transportation"]
[null,null,null,null,null,null,null,"Highway Stormwater Program"]
[{"$f":"'General Project Information'!$A$6","v":"(Version 3.02; Released April 23, 2024)"},null,null,null,null,null,null,"STORMWATER MANAGEMENT PLAN                         \nFOR NCDOT PROJECTS  "]
["WBS Element:",null,null,null,null,null,null,{"$f":"'General Project Information'!$C$7","v":""},"TIP/Proj No.:",{"$f":"'General Project Information'!$E$7","v":""},"County(ies):",{"$f":"'General Project Information'!$H$7","v":"       "},null,null,null,"Page ",{"$f":"IF(A36<>\"\",MAX(X1)+1,\"\")","v":""},"of",{"$f":"'General Project Information'!$O$7","v":1}]
[null,null,null,null,null,null,null,"Level Spreaders and Hazardous Spill Basins"]
["Sheet No.","Line","Station","Location\n(LT,RT,CL)","Latitude","Longitude","Surface Water Body","Level Spreader or Hazardous Spill Basin?","Drainage Area\n(ac)","New Built-Upon Area\n(ac)","Required / Minimum Treatment",null,null,null,null,"Treatment Achieved",null,"BMP Associated w/ Buffer Rules?"]
[null,null,null,null,null,null,{"$f":"IF(AND(A36<>\"\",'Waterbody Information'!$D$10<>\"\",'Waterbody Information'!$D$21=\"\"),Picklists!$AH$4,\"\")","v":""},null,null,null,{"$f":"IF(H36=\"Hazardous Spill Basin\",\"2yr, tc=10 min, td= 5 min storm runoff + 1,550 cf   (cf)\",IF(H36=\"Level Spreader\",\"Level Spreader Length (ft)\",IF(H36=\"Other\",\"\",\"\")))","v":""},null,null,null,{"$f":"IF(K36=\"\",\"\",IF(H36=\"Hazardous Spill Basin\",\"cf\",IF(H36=\"Level Spreader\",\"ft\",IF(H36=\"Dry Detention Basin\",\"cf\",IF(H36=\"Infiltration Basin\",\"cf\",\"\")))))","v":""},null,{"$f":"IF(O36=\"\",\"\",O36)","v":""},{"$f":"IF(H36=\"\",\"\",IF(H36=\"Level Spreader\",\"\",\"N/A\"))","v":""}]
[null,null,null,null,null,null,{"$f":"IF(AND(A37<>\"\",'Waterbody Information'!$D$10<>\"\",'Waterbody Information'!$D$21=\"\"),Picklists!$AH$4,\"\")","v":""},null,null,null,{"$f":"IF(H37=\"Hazardous Spill Basin\",\"2yr, tc=10 min, td= 5 min storm runoff + 1,550 cf   (cf)\",IF(H37=\"Level Spreader\",\"Level Spreader Length (ft)\",IF(H37=\"Other\",\"\",\"\")))","v":""},null,null,null,{"$f":"IF(K37=\"\",\"\",IF(H37=\"Hazardous Spill Basin\",\"cf\",IF(H37=\"Level Spreader\",\"ft\",IF(H37=\"Dry Detention Basin\",\"cf\",IF(H37=\"Infiltration Basin\",\"cf\",\"\")))))","v":""},null,{"$f":"IF(O37=\"\",\"\",O37)","v":""},{"$f":"IF(H37=\"\",\"\",IF(H37=\"Level Spreader\",\"\",\"N/A\"))","v":""}]
[null,null,null,null,null,null,{"$f":"IF(AND(A38<>\"\",'Waterbody Information'!$D$10<>\"\",'Waterbody Information'!$D$21=\"\"),Picklists!$AH$4,\"\")","v":""},null,null,null,"",null,null,null,"",null,"",""]
[null,null,null,null,null,null,{"$f":"IF(AND(A39<>\"\",'Waterbody Information'!$D$10<>\"\",'Waterbody Information'!$D$21=\"\"),Picklists!$AH$4,\"\")","v":""},null,null,null,"",null,null,null,"",null,"",""]
[null,null,null,null,null,null,{"$f":"IF(AND(A40<>\"\",'Waterbody Information'!$D$10<>\"\",'Waterbody Information'!$D$21=\"\"),Picklists!$AH$4,\"\")","v":""},null,null,null,"",null,null,null,"",null,"",""]
[null,null,null,null,null,null,{"$f":"IF(AND(A41<>\"\",'Waterbody Information'!$D$10<>\"\",'Waterbody Information'!$D$21=\"\"),Picklists!$AH$4,\"\")","v":""},null,null,null,"",null,null,null,"",null,"",""]
[null,null,null,null,null,null,{"$f":"IF(AND(A42<>\"\",'Waterbody Information'!$D$10<>\"\",'Waterbody Information'!$D$21=\"\"),Picklists!$AH$4,\"\")","v":""},null,null,null,"",null,null,null,"",null,"",""]
[null,null,null,null,null,null,{"$f":"IF(AND(A43<>\"\",'Waterbody Information'!$D$10<>\"\",'Waterbody Information'!$D$21=\"\"),Picklists!$AH$4,\"\")","v":""},null,null,null,"",null,null,null,"",null,"",""]
[null,null,null,null,null,null,{"$f":"IF(AND(A44<>\"\",'Waterbody Information'!$D$10<>\"\",'Waterbody Information'!$D$21=\"\"),Picklists!$AH$4,\"\")","v":""},null,null,null,"",null,null,null,"",null,"",""]
[null,null,null,null,null,null,{"$f":"IF(AND(A45<>\"\",'Waterbody Information'!$D$10<>\"\",'Waterbody Information'!$D$21=\"\"),Picklists!$AH$4,\"\")","v":""},null,null,null,"",null,null,null,"",null,"",""]
[null,null,null,null,null,null,{"$f":"IF(AND(A46<>\"\",'Waterbody Information'!$D$10<>\"\",'Waterbody Information'!$D$21=\"\"),Picklists!$AH$4,\"\")","v":""},null,null,null,"",null,null,null,"",null,"",""]
[null,null,null,null,null,null,{"$f":"IF(AND(A47<>\"\",'Waterbody Information'!$D$10<>\"\",'Waterbody Information'!$D$21=\"\"),Picklists!$AH$4,\"\")","v":""},null,null,null,"",null,null,null,"",null,"",""]
[null,null,null,null,null,null,{"$f":"IF(AND(A48<>\"\",'Waterbody Information'!$D$10<>\"\",'Waterbody Information'!$D$21=\"\"),Picklists!$AH$4,\"\")","v":""},null,null,null,"",null,null,null,"",null,"",""]
[null,null,null,null,null,null,{"$f":"IF(AND(A49<>\"\",'Waterbody Information'!$D$10<>\"\",'Waterbody Information'!$D$21=\"\"),Picklists!$AH$4,\"\")","v":""},null,null,null,"",null,null,null,"",null,"",""]
[null,null,null,null,null,null,{"$f":"IF(AND(A50<>\"\",'Waterbody Information'!$D$10<>\"\",'Waterbody Information'!$D$21=\"\"),Picklists!$AH$4,\"\")","v":""},null,null,null,"",null,null,null,"",null,"",""]
[null,null,null,null,null,null,{"$f":"IF(AND(A51<>\"\",'Waterbody Information'!$D$10<>\"\",'Waterbody Information'!$D$21=\"\"),Picklists!$AH$4,\"\")","v":""},null,null,null,"",null,null,null,"",null,"",""]
[null,null,null,null,null,null,{"$f":"IF(AND(A52<>\"\",'Waterbody Information'!$D$10<>\"\",'Waterbody Information'!$D$21=\"\"),Picklists!$AH$4,\"\")","v":""},null,null,null,"",null,null,null,"",null,"",""]
[null,null,null,null,null,null,{"$f":"IF(AND(A53<>\"\",'Waterbody Information'!$D$10<>\"\",'Waterbody Information'!$D$21=\"\"),Picklists!$AH$4,\"\")","v":""},null,null,null,"",null,null,null,"",null,"",""]
[null,null,null,null,null,null,{"$f":"IF(AND(A54<>\"\",'Waterbody Information'!$D$10<>\"\",'Waterbody Information'!$D$21=\"\"),Picklists!$AH$4,\"\")","v":""},null,null,null,"",null,null,null,"",null,"",""]
[null,null,null,null,null,null,{"$f":"IF(AND(A55<>\"\",'Waterbody Information'!$D$10<>\"\",'Waterbody Information'!$D$21=\"\"),Picklists!$AH$4,\"\")","v":""},null,null,null,"",null,null,null,"",null,"",""]
[null,null,null,null,null,null,{"$f":"IF(AND(A56<>\"\",'Waterbody Information'!$D$10<>\"\",'Waterbody Information'!$D$21=\"\"),Picklists!$AH$4,\"\")","v":""},null,null,null,"",null,null,null,"",null,"",""]
[null,null,null,null,null,null,{"$f":"IF(AND(A57<>\"\",'Waterbody Information'!$D$10<>\"\",'Waterbody Information'!$D$21=\"\"),Picklists!$AH$4,\"\")","v":""},null,null,null,"",null,null,null,"",null,"",""]
[null,null,null,null,null,null,{"$f":"IF(AND(A58<>\"\",'Waterbody Information'!$D$10<>\"\",'Waterbody Information'!$D$21=\"\"),Picklists!$AH$4,\"\")","v":""},null,null,null,"",null,null,null,"",null,"",""]
[null,null,null,null,null,null,{"$f":"IF(AND(A59<>\"\",'Waterbody Information'!$D$10<>\"\",'Waterbody Information'!$D$21=\"\"),Picklists!$AH$4,\"\")","v":""},null,null,null,"",null,null,null,"",null,"",""]
[null,null,null,null,null,null,{"$f":"IF(AND(A60<>\"\",'Waterbody Information'!$D$10<>\"\",'Waterbody Information'!$D$21=\"\"),Picklists!$AH$4,\"\")","v":""},null,null,null,"",null,null,null,"",null,"",""]
[null,null,null,null,null,null,{"$f":"IF(AND(A61<>\"\",'Waterbody Information'!$D$10<>\"\",'Waterbody Information'!$D$21=\"\"),Picklists!$AH$4,\"\")","v":""},null,null,null,"",null,null,null,"",null,"",""]
[null,null,null,null,null,null,{"$f":"IF(AND(A62<>\"\",'Waterbody Information'!$D$10<>\"\",'Waterbody Information'!$D$21=\"\"),Picklists!$AH$4,\"\")","v":""},null,null,null,"",null,null,null,"",null,"",""]
[null,null,null,null,null,null,{"$f":"IF(AND(A63<>\"\",'Waterbody Information'!$D$10<>\"\",'Waterbody Information'!$D$21=\"\"),Picklists!$AH$4,\"\")","v":""},null,null,null,"",null,null,null,"",null,"",""]
[null,null,null,null,null,null,{"$f":"IF(AND(A64<>\"\",'Waterbody Information'!$D$10<>\"\",'Waterbody Information'!$D$21=\"\"),Picklists!$AH$4,\"\")","v":""},null,null,null,"",null,null,null,"",null,"",""]
[null,null,null,null,null,null,{"$f":"IF(AND(A65<>\"\",'Waterbody Information'!$D$10<>\"\",'Waterbody Information'!$D$21=\"\"),Picklists!$AH$4,\"\")","v":""},null,null,null,"",null,null,null,"",null,"",""]
[null,null,null,null,null,null,{"$f":"IF(AND(A66<>\"\",'Waterbody Information'!$D$10<>\"\",'Waterbody Information'!$D$21=\"\"),Picklists!$AH$4,\"\")","v":""},null,null,null,"",null,null,null,"",null,"",""]
[null,null,null,null,null,null,{"$f":"IF(AND(A67<>\"\",'Waterbody Information'!$D$10<>\"\",'Waterbody Information'!$D$21=\"\"),Picklists!$AH$4,\"\")","v":""},null,null,null,"",null,null,null,"",null,"",""]
[null,null,null,null,null,null,{"$f":"IF(AND(A68<>\"\",'Waterbody Information'!$D$10<>\"\",'Waterbody Information'!$D$21=\"\"),Picklists!$AH$4,\"\")","v":""},null,null,null,"",null,null,null,"",null,"",""]
[null,null,null,null,null,null,{"$f":"IF(AND(A69<>\"\",'Waterbody Information'!$D$10<>\"\",'Waterbody Information'!$D$21=\"\"),Picklists!$AH$4,\"\")","v":""},null,null,null,"",null,null,null,"",null,"",""]
[null,null,null,null,null,null,null,null,null,null,"",null,null,null,"",null,"",""]
[null,null,null,null,null,null,null,null,null,null,"",null,null,null,"",null,"",""]
["*Hazardous spill basins are pollution prevention measures designed for spill containment rather than stormwater treatment. Under Required / Minimum Treatment and Treatment Achieved, provide the minimum required volume and the actual HSB volume, respectively. Refer to the NCDOT Stormwater Best Management Practices Toolbox (2014) for design guidance. "]
[null,null,null,null,null,null,null,"Additional Comments"]
[]
[]
[]
[]
[]
[]
[]
[null,null,null,null,null,null,null,"North Carolina Department of Transportation"]
[null,null,null,null,null,null,null,"Highway Stormwater Program"]
[{"$f":"'General Project Information'!$A$6","v":"(Version 3.02; Released April 23, 2024)"},null,null,null,null,null,null,"STORMWATER MANAGEMENT PLAN                         \nFOR NCDOT PROJECTS  "]
["WBS Element:",null,null,null,null,null,null,{"$f":"'General Project Information'!$C$7","v":""},"TIP No.:",{"$f":"'General Project Information'!$E$7","v":""},"County(ies):",{"$f":"'General Project Information'!$H$7","v":"       "},null,null,null,"Page ",{"$f":"IF(A87<>\"\",MAX(Q33)+1,\"\")","v":""},"of",{"$f":"'General Project Information'!$O$7","v":1}]
[null,null,null,null,null,null,null,"Level Spreaders, Hazardous Spill Basins, and Forebays"]
["Sheet No.","Line","Station","Location\n(LT,RT,CL)","Latitude","Longitude","Surface Water Body","Level Spreader, Hazardous Spill Basin, or Forebay?","Drainage Area\n(ac)","New Built-Upon Area\n(ac)","Required / Minimum Treatment",null,null,null,null,"Treatment Achieved",null,"BMP Associated w/ Buffer Rules?"]
[null,null,null,null,null,null,null,null,null,null,{"$f":"IF(H87=\"Hazardous Spill Basin\",\"2yr, tc=10 min, td= 5 min storm runoff + 1,550 cf   (cf)\",IF(H87=\"Level Spreader\",\"Level Spreader Length (ft)\",IF(H87=\"Other\",\"\",\"\")))","v":""},null,null,null,{"$f":"IF(K87=\"\",\"\",IF(H87=\"Hazardous Spill Basin\",\"cf\",IF(H87=\"Level Spreader\",\"ft\",IF(H87=\"Dry Detention Basin\",\"cf\",IF(H87=\"Infiltration Basin\",\"cf\",\"\")))))","v":""},null,{"$f":"IF(O87=\"\",\"\",O87)","v":""},{"$f":"IF(H87=\"\",\"\",IF(H87=\"Level Spreader\",\"\",\"N/A\"))","v":""}]
[null,null,null,null,null,null,{"$f":"IF(AND(A88<>\"\",'Waterbody Information'!$D$10<>\"\",'Waterbody Information'!$D$21=\"\"),Picklists!$AH$4,\"\")","v":""},null,null,null,{"$f":"IF(H88=\"Hazardous Spill Basin\",\"2yr, tc=10 min, td= 5 min storm runoff + 1,550 cf   (cf)\",IF(H88=\"Level Spreader\",\"Level Spreader Length (ft)\",IF(H88=\"Other\",\"\",\"\")))","v":""},null,null,null,"",null,{"$f":"IF(O88=\"\",\"\",O88)","v":""},{"$f":"IF(H88=\"\",\"\",IF(H88=\"Level Spreader\",\"\",\"N/A\"))","v":""}]
[null,null,null,null,null,null,{"$f":"IF(AND(A89<>\"\",'Waterbody Information'!$D$10<>\"\",'Waterbody Information'!$D$21=\"\"),Picklists!$AH$4,\"\")","v":""},null,null,null,"",null,null,null,"",null,"",""]
[null,null,null,null,null,null,{"$f":"IF(AND(A90<>\"\",'Waterbody Information'!$D$10<>\"\",'Waterbody Information'!$D$21=\"\"),Picklists!$AH$4,\"\")","v":""},null,null,null,"",null,null,null,"",null,"",""]
[null,null,null,null,null,null,{"$f":"IF(AND(A91<>\"\",'Waterbody Information'!$D$10<>\"\",'Waterbody Information'!$D$21=\"\"),Picklists!$AH$4,\"\")","v":""},null,null,null,"",null,null,null,"",null,"",""]
[null,null,null,null,null,null,{"$f":"IF(AND(A92<>\"\",'Waterbody Information'!$D$10<>\"\",'Waterbody Information'!$D$21=\"\"),Picklists!$AH$4,\"\")","v":""},null,null,null,"",null,null,null,"",null,"",""]
[null,null,null,null,null,null,{"$f":"IF(AND(A93<>\"\",'Waterbody Information'!$D$10<>\"\",'Waterbody Information'!$D$21=\"\"),Picklists!$AH$4,\"\")","v":""},null,null,null,"",null,null,null,"",null,"",""]
[null,null,null,null,null,null,{"$f":"IF(AND(A94<>\"\",'Waterbody Information'!$D$10<>\"\",'Waterbody Information'!$D$21=\"\"),Picklists!$AH$4,\"\")","v":""},null,null,null,"",null,null,null,"",null,"",""]
[null,null,null,null,null,null,{"$f":"IF(AND(A95<>\"\",'Waterbody Information'!$D$10<>\"\",'Waterbody Information'!$D$21=\"\"),Picklists!$AH$4,\"\")","v":""},null,null,null,"",null,null,null,"",null,"",""]
[null,null,null,null,null,null,{"$f":"IF(AND(A96<>\"\",'Waterbody Information'!$D$10<>\"\",'Waterbody Information'!$D$21=\"\"),Picklists!$AH$4,\"\")","v":""},null,null,null,"",null,null,null,"",null,"",""]
[null,null,null,null,null,null,{"$f":"IF(AND(A97<>\"\",'Waterbody Information'!$D$10<>\"\",'Waterbody Information'!$D$21=\"\"),Picklists!$AH$4,\"\")","v":""},null,null,null,"",null,null,null,"",null,"",""]
[null,null,null,null,null,null,{"$f":"IF(AND(A98<>\"\",'Waterbody Information'!$D$10<>\"\",'Waterbody Information'!$D$21=\"\"),Picklists!$AH$4,\"\")","v":""},null,null,null,"",null,null,null,"",null,"",""]
[null,null,null,null,null,null,{"$f":"IF(AND(A99<>\"\",'Waterbody Information'!$D$10<>\"\",'Waterbody Information'!$D$21=\"\"),Picklists!$AH$4,\"\")","v":""},null,null,null,"",null,null,null,"",null,"",""]
[null,null,null,null,null,null,{"$f":"IF(AND(A100<>\"\",'Waterbody Information'!$D$10<>\"\",'Waterbody Information'!$D$21=\"\"),Picklists!$AH$4,\"\")","v":""},null,null,null,"",null,null,null,"",null,"",""]
[null,null,null,null,null,null,{"$f":"IF(AND(A101<>\"\",'Waterbody Information'!$D$10<>\"\",'Waterbody Information'!$D$21=\"\"),Picklists!$AH$4,\"\")","v":""},null,null,null,"",null,null,null,"",null,"",""]
[null,null,null,null,null,null,{"$f":"IF(AND(A102<>\"\",'Waterbody Information'!$D$10<>\"\",'Waterbody Information'!$D$21=\"\"),Picklists!$AH$4,\"\")","v":""},null,null,null,"",null,null,null,"",null,"",""]
[null,null,null,null,null,null,{"$f":"IF(AND(A103<>\"\",'Waterbody Information'!$D$10<>\"\",'Waterbody Information'!$D$21=\"\"),Picklists!$AH$4,\"\")","v":""},null,null,null,"",null,null,null,"",null,"",""]
[null,null,null,null,null,null,{"$f":"IF(AND(A104<>\"\",'Waterbody Information'!$D$10<>\"\",'Waterbody Information'!$D$21=\"\"),Picklists!$AH$4,\"\")","v":""},null,null,null,"",null,null,null,"",null,"",""]
[null,null,null,null,null,null,{"$f":"IF(AND(A105<>\"\",'Waterbody Information'!$D$10<>\"\",'Waterbody Information'!$D$21=\"\"),Picklists!$AH$4,\"\")","v":""},null,null,null,"",null,null,null,"",null,"",""]
[null,null,null,null,null,null,{"$f":"IF(AND(A106<>\"\",'Waterbody Information'!$D$10<>\"\",'Waterbody Information'!$D$21=\"\"),Picklists!$AH$4,\"\")","v":""},null,null,null,"",null,null,null,"",null,"",""]
[null,null,null,null,null,null,{"$f":"IF(AND(A107<>\"\",'Waterbody Information'!$D$10<>\"\",'Waterbody Information'!$D$21=\"\"),Picklists!$AH$4,\"\")","v":""},null,null,null,"",null,null,null,"",null,"",""]
[null,null,null,null,null,null,{"$f":"IF(AND(A108<>\"\",'Waterbody Information'!$D$10<>\"\",'Waterbody Information'!$D$21=\"\"),Picklists!$AH$4,\"\")","v":""},null,null,null,"",null,null,null,"",null,"",""]
[null,null,null,null,null,null,{"$f":"IF(AND(A109<>\"\",'Waterbody Information'!$D$10<>\"\",'Waterbody Information'!$D$21=\"\"),Picklists!$AH$4,\"\")","v":""},null,null,null,"",null,null,null,"",null,"",""]
[null,null,null,null,null,null,{"$f":"IF(AND(A110<>\"\",'Waterbody Information'!$D$10<>\"\",'Waterbody Information'!$D$21=\"\"),Picklists!$AH$4,\"\")","v":""},null,null,null,"",null,null,null,"",null,"",""]
[null,null,null,null,null,null,{"$f":"IF(AND(A111<>\"\",'Waterbody Information'!$D$10<>\"\",'Waterbody Information'!$D$21=\"\"),Picklists!$AH$4,\"\")","v":""},null,null,null,"",null,null,null,"",null,"",""]
[null,null,null,null,null,null,{"$f":"IF(AND(A112<>\"\",'Waterbody Information'!$D$10<>\"\",'Waterbody Information'!$D$21=\"\"),Picklists!$AH$4,\"\")","v":""},null,null,null,"",null,null,null,"",null,"",""]
[null,null,null,null,null,null,{"$f":"IF(AND(A113<>\"\",'Waterbody Information'!$D$10<>\"\",'Waterbody Information'!$D$21=\"\"),Picklists!$AH$4,\"\")","v":""},null,null,null,"",null,null,null,"",null,"",""]
[null,null,null,null,null,null,{"$f":"IF(AND(A114<>\"\",'Waterbody Information'!$D$10<>\"\",'Waterbody Information'!$D$21=\"\"),Picklists!$AH$4,\"\")","v":""},null,null,null,"",null,null,null,"",null,"",""]
[null,null,null,null,null,null,{"$f":"IF(AND(A115<>\"\",'Waterbody Information'!$D$10<>\"\",'Waterbody Information'!$D$21=\"\"),Picklists!$AH$4,\"\")","v":""},null,null,null,"",null,null,null,"",null,"",""]
[null,null,null,null,null,null,{"$f":"IF(AND(A116<>\"\",'Waterbody Information'!$D$10<>\"\",'Waterbody Information'!$D$21=\"\"),Picklists!$AH$4,\"\")","v":""},null,null,null,"",null,null,null,"",null,"",""]
[null,null,null,null,null,null,{"$f":"IF(AND(A117<>\"\",'Waterbody Information'!$D$10<>\"\",'Waterbody Information'!$D$21=\"\"),Picklists!$AH$4,\"\")","v":""},null,null,null,"",null,null,null,"",null,"",""]
[null,null,null,null,null,null,{"$f":"IF(AND(A118<>\"\",'Waterbody Information'!$D$10<>\"\",'Waterbody Information'!$D$21=\"\"),Picklists!$AH$4,\"\")","v":""},null,null,null,"",null,null,null,"",null,"",""]
[null,null,null,null,null,null,{"$f":"IF(AND(A119<>\"\",'Waterbody Information'!$D$10<>\"\",'Waterbody Information'!$D$21=\"\"),Picklists!$AH$4,\"\")","v":""},null,null,null,"",null,null,null,"",null,"",""]
[null,null,null,null,null,null,{"$f":"IF(AND(A120<>\"\",'Waterbody Information'!$D$10<>\"\",'Waterbody Information'!$D$21=\"\"),Picklists!$AH$4,\"\")","v":""},null,null,null,"",null,null,null,"",null,"",""]
[null,null,null,null,null,null,{"$f":"IF(AND(A121<>\"\",'Waterbody Information'!$D$10<>\"\",'Waterbody Information'!$D$21=\"\"),Picklists!$AH$4,\"\")","v":""},null,null,null,"",null,null,null,"",null,"",""]
[null,null,null,null,null,null,null,null,null,null,"",null,null,null,"",null,"",""]
["*Hazardous spill basins are pollution prevention measures designed for spill containment rather than stormwater treatment. Under Required / Minimum Treatment and Treatment Achieved, provide the minimum required volume and the actual HSB volume, respectively. Refer to the NCDOT Stormwater Best Management Practices Toolbox (2014) for design guidance. "]
[null,null,null,null,null,null,null,"Additional Comments"]
[]
[]
[]
[]
[]
[]
[]
[null,null,null,null,null,null,null,"North Carolina Department of Transportation"]
[null,null,null,null,null,null,null,"Highway Stormwater Program"]
[{"$f":"'General Project Information'!$A$6","v":"(Version 3.02; Released April 23, 2024)"},null,null,null,null,null,null,"STORMWATER MANAGEMENT PLAN                         \nFOR NCDOT PROJECTS  "]
["WBS Element:",null,null,null,null,null,null,{"$f":"'General Project Information'!$C$7","v":""},"TIP No.:",{"$f":"'General Project Information'!$E$7","v":""},"County(ies):",{"$f":"'General Project Information'!$H$7","v":"       "},null,null,null,"Page ",{"$f":"IF(A138<>\"\",MAX(Q84)+1,\"\")","v":""},"of",{"$f":"'General Project Information'!$O$7","v":1}]
[null,null,null,null,null,null,null,"Level Spreaders, Hazardous Spill Basins, and Forebays"]
["Sheet No.","Line","Station","Location\n(LT,RT,CL)","Latitude","Longitude","Surface Water Body","Level Spreader, Hazardous Spill Basin, or Forebay?","Drainage Area\n(ac)","New Built-Upon Area\n(ac)","Required / Minimum Treatment",null,null,null,null,"Treatment Achieved",null,"BMP Associated w/ Buffer Rules?"]
[null,null,null,null,null,null,null,null,null,null,{"$f":"IF(H138=\"Hazardous Spill Basin\",\"2yr, tc=10 min, td= 5 min storm runoff + 1,550 cf   (cf)\",IF(H138=\"Level Spreader\",\"Level Spreader Length (ft)\",IF(H138=\"Other\",\"\",\"\")))","v":""},null,null,null,{"$f":"IF(K138=\"\",\"\",IF(H138=\"Hazardous Spill Basin\",\"cf\",IF(H138=\"Level Spreader\",\"ft\",IF(H138=\"Dry Detention Basin\",\"cf\",IF(H138=\"Infiltration Basin\",\"cf\",\"\")))))","v":""},null,{"$f":"IF(O138=\"\",\"\",O138)","v":""},{"$f":"IF(H138=\"\",\"\",IF(H138=\"Level Spreader\",\"\",\"N/A\"))","v":""}]
[null,null,null,null,null,null,null,null,null,null,{"$f":"IF(H139=\"Hazardous Spill Basin\",\"2yr, tc=10 min, td= 5 min storm runoff + 1,550 cf   (cf)\",IF(H139=\"Level Spreader\",\"Level Spreader Length (ft)\",IF(H139=\"Other\",\"\",\"\")))","v":""},null,null,null,"",null,{"$f":"IF(O139=\"\",\"\",O139)","v":""},{"$f":"IF(H139=\"\",\"\",IF(H139=\"Level Spreader\",\"\",\"N/A\"))","v":""}]
[null,null,null,null,null,null,{"$f":"IF(AND(A140<>\"\",'Waterbody Information'!$D$10<>\"\",'Waterbody Information'!$D$21=\"\"),Picklists!$AH$4,\"\")","v":""},null,null,null,"",null,null,null,"",null,"",""]
[null,null,null,null,null,null,{"$f":"IF(AND(A141<>\"\",'Waterbody Information'!$D$10<>\"\",'Waterbody Information'!$D$21=\"\"),Picklists!$AH$4,\"\")","v":""},null,null,null,"",null,null,null,"",null,"",""]
[null,null,null,null,null,null,{"$f":"IF(AND(A142<>\"\",'Waterbody Information'!$D$10<>\"\",'Waterbody Information'!$D$21=\"\"),Picklists!$AH$4,\"\")","v":""},null,null,null,"",null,null,null,"",null,"",""]
[null,null,null,null,null,null,{"$f":"IF(AND(A143<>\"\",'Waterbody Information'!$D$10<>\"\",'Waterbody Information'!$D$21=\"\"),Picklists!$AH$4,\"\")","v":""},null,null,null,"",null,null,null,"",null,"",""]
[null,null,null,null,null,null,{"$f":"IF(AND(A144<>\"\",'Waterbody Information'!$D$10<>\"\",'Waterbody Information'!$D$21=\"\"),Picklists!$AH$4,\"\")","v":""},null,null,null,"",null,null,null,"",null,"",""]
[null,null,null,null,null,null,{"$f":"IF(AND(A145<>\"\",'Waterbody Information'!$D$10<>\"\",'Waterbody Information'!$D$21=\"\"),Picklists!$AH$4,\"\")","v":""},null,null,null,"",null,null,null,"",null,"",""]
[null,null,null,null,null,null,{"$f":"IF(AND(A146<>\"\",'Waterbody Information'!$D$10<>\"\",'Waterbody Information'!$D$21=\"\"),Picklists!$AH$4,\"\")","v":""},null,null,null,"",null,null,null,"",null,"",""]
[null,null,null,null,null,null,{"$f":"IF(AND(A147<>\"\",'Waterbody Information'!$D$10<>\"\",'Waterbody Information'!$D$21=\"\"),Picklists!$AH$4,\"\")","v":""},null,null,null,"",null,null,null,"",null,"",""]
[null,null,null,null,null,null,{"$f":"IF(AND(A148<>\"\",'Waterbody Information'!$D$10<>\"\",'Waterbody Information'!$D$21=\"\"),Picklists!$AH$4,\"\")","v":""},null,null,null,"",null,null,null,"",null,"",""]
[null,null,null,null,null,null,{"$f":"IF(AND(A149<>\"\",'Waterbody Information'!$D$10<>\"\",'Waterbody Information'!$D$21=\"\"),Picklists!$AH$4,\"\")","v":""},null,null,null,"",null,null,null,"",null,"",""]
[null,null,null,null,null,null,{"$f":"IF(AND(A150<>\"\",'Waterbody Information'!$D$10<>\"\",'Waterbody Information'!$D$21=\"\"),Picklists!$AH$4,\"\")","v":""},null,null,null,"",null,null,null,"",null,"",""]
[null,null,null,null,null,null,{"$f":"IF(AND(A151<>\"\",'Waterbody Information'!$D$10<>\"\",'Waterbody Information'!$D$21=\"\"),Picklists!$AH$4,\"\")","v":""},null,null,null,"",null,null,null,"",null,"",""]
[null,null,null,null,null,null,{"$f":"IF(AND(A152<>\"\",'Waterbody Information'!$D$10<>\"\",'Waterbody Information'!$D$21=\"\"),Picklists!$AH$4,\"\")","v":""},null,null,null,"",null,null,null,"",null,"",""]
[null,null,null,null,null,null,{"$f":"IF(AND(A153<>\"\",'Waterbody Information'!$D$10<>\"\",'Waterbody Information'!$D$21=\"\"),Picklists!$AH$4,\"\")","v":""},null,null,null,"",null,null,null,"",null,"",""]
[null,null,null,null,null,null,{"$f":"IF(AND(A154<>\"\",'Waterbody Information'!$D$10<>\"\",'Waterbody Information'!$D$21=\"\"),Picklists!$AH$4,\"\")","v":""},null,null,null,"",null,null,null,"",null,"",""]
[null,null,null,null,null,null,{"$f":"IF(AND(A155<>\"\",'Waterbody Information'!$D$10<>\"\",'Waterbody Information'!$D$21=\"\"),Picklists!$AH$4,\"\")","v":""},null,null,null,"",null,null,null,"",null,"",""]
[null,null,null,null,null,null,{"$f":"IF(AND(A156<>\"\",'Waterbody Information'!$D$10<>\"\",'Waterbody Information'!$D$21=\"\"),Picklists!$AH$4,\"\")","v":""},null,null,null,"",null,null,null,"",null,"",""]
[null,null,null,null,null,null,{"$f":"IF(AND(A157<>\"\",'Waterbody Information'!$D$10<>\"\",'Waterbody Information'!$D$21=\"\"),Picklists!$AH$4,\"\")","v":""},null,null,null,"",null,null,null,"",null,"",""]
[null,null,null,null,null,null,{"$f":"IF(AND(A158<>\"\",'Waterbody Information'!$D$10<>\"\",'Waterbody Information'!$D$21=\"\"),Picklists!$AH$4,\"\")","v":""},null,null,null,"",null,null,null,"",null,"",""]
[null,null,null,null,null,null,{"$f":"IF(AND(A159<>\"\",'Waterbody Information'!$D$10<>\"\",'Waterbody Information'!$D$21=\"\"),Picklists!$AH$4,\"\")","v":""},null,null,null,"",null,null,null,"",null,"",""]
[null,null,null,null,null,null,{"$f":"IF(AND(A160<>\"\",'Waterbody Information'!$D$10<>\"\",'Waterbody Information'!$D$21=\"\"),Picklists!$AH$4,\"\")","v":""},null,null,null,"",null,null,null,"",null,"",""]
[null,null,null,null,null,null,{"$f":"IF(AND(A161<>\"\",'Waterbody Information'!$D$10<>\"\",'Waterbody Information'!$D$21=\"\"),Picklists!$AH$4,\"\")","v":""},null,null,null,"",null,null,null,"",null,"",""]
[null,null,null,null,null,null,{"$f":"IF(AND(A162<>\"\",'Waterbody Information'!$D$10<>\"\",'Waterbody Information'!$D$21=\"\"),Picklists!$AH$4,\"\")","v":""},null,null,null,"",null,null,null,"",null,"",""]
[null,null,null,null,null,null,{"$f":"IF(AND(A163<>\"\",'Waterbody Information'!$D$10<>\"\",'Waterbody Information'!$D$21=\"\"),Picklists!$AH$4,\"\")","v":""},null,null,null,"",null,null,null,"",null,"",""]
[null,null,null,null,null,null,{"$f":"IF(AND(A164<>\"\",'Waterbody Information'!$D$10<>\"\",'Waterbody Information'!$D$21=\"\"),Picklists!$AH$4,\"\")","v":""},null,null,null,"",null,null,null,"",null,"",""]
[null,null,null,null,null,null,{"$f":"IF(AND(A165<>\"\",'Waterbody Information'!$D$10<>\"\",'Waterbody Information'!$D$21=\"\"),Picklists!$AH$4,\"\")","v":""},null,null,null,"",null,null,null,"",null,"",""]
[null,null,null,null,null,null,{"$f":"IF(AND(A166<>\"\",'Waterbody Information'!$D$10<>\"\",'Waterbody Information'!$D$21=\"\"),Picklists!$AH$4,\"\")","v":""},null,null,null,"",null,null,null,"",null,"",""]
[null,null,null,null,null,null,{"$f":"IF(AND(A167<>\"\",'Waterbody Information'!$D$10<>\"\",'Waterbody Information'!$D$21=\"\"),Picklists!$AH$4,\"\")","v":""},null,null,null,"",null,null,null,"",null,"",""]
[null,null,null,null,null,null,{"$f":"IF(AND(A168<>\"\",'Waterbody Information'!$D$10<>\"\",'Waterbody Information'!$D$21=\"\"),Picklists!$AH$4,\"\")","v":""},null,null,null,"",null,null,null,"",null,"",""]
[null,null,null,null,null,null,{"$f":"IF(AND(A169<>\"\",'Waterbody Information'!$D$10<>\"\",'Waterbody Information'!$D$21=\"\"),Picklists!$AH$4,\"\")","v":""},null,null,null,"",null,null,null,"",null,"",""]
[null,null,null,null,null,null,{"$f":"IF(AND(A170<>\"\",'Waterbody Information'!$D$10<>\"\",'Waterbody Information'!$D$21=\"\"),Picklists!$AH$4,\"\")","v":""},null,null,null,"",null,null,null,"",null,"",""]
[null,null,null,null,null,null,{"$f":"IF(AND(A171<>\"\",'Waterbody Information'!$D$10<>\"\",'Waterbody Information'!$D$21=\"\"),Picklists!$AH$4,\"\")","v":""},null,null,null,"",null,null,null,"",null,"",""]
[null,null,null,null,null,null,{"$f":"IF(AND(A172<>\"\",'Waterbody Information'!$D$10<>\"\",'Waterbody Information'!$D$21=\"\"),Picklists!$AH$4,\"\")","v":""},null,null,null,"",null,null,null,"",null,"",""]
[null,null,null,null,null,null,null,null,null,null,"",null,null,null,"",null,"",""]
["*Hazardous spill basins are pollution prevention measures designed for spill containment rather than stormwater treatment. Under Required / Minimum Treatment and Treatment Achieved, provide the minimum required volume and the actual HSB volume, respectively. Refer to the NCDOT Stormwater Best Management Practices Toolbox (2014) for design guidance. "]
[null,null,null,null,null,null,null,"Additional Comments"]

{"sheet":"Other Toolbox BMPs","index":8,"n_rows":218,"n_cols":23,"rows_kept":218,"cut":false,"hidden":false,"merged":[[151,7,151,8],[141,7,141,8],[141,12,141,13],[135,7,135,8],[135,12,135,13],[133,7,133,8],[134,7,134,8],[133,12,133,13],[106,12,106,13],[140,7,140,8],[140,12,140,13],[108,7,108,8],[109,7,109,8],[107,12,107,13],[108,12,108,13],[109,12,109,13],[110,12,110,13],[111,12,111,13],[112,12,112,13],[129,12,129,13],[128,7,128,8],[128,12,128,13],[190,7,190,8],[190,12,190,13],[190,14,190,15],[191,7,191,8],[191,12,191,13],[193,12,193,13],[193,14,193,15],[194,7,194,8],[194,12,194,13],[194,14,194,15],[191,14,191,15],[192,7,192,8],[192,12,192,13],[192,14,192,15],[193,7,193,8],[187,7,187,8],[187,12,187,13],[187,14,187,15],[188,7,188,8],[188,12,188,13],[188,14,188,15],[189,7,189,8],[189,12,189,13],[189,14,189,15],[176,0,176,4],[178,14,178,15],[178,12,178,13],[164,7,164,8],[164,12,164,13],[164,14,164,15],[160,14,160,15],[161,7,161,8],[161,12,161,13],[161,14,161,15],[162,7,162,8],[162,12,162,13],[162,14,162,15],[163,7,163,8],[163,12,163,13],[163,14,163,15],[178,7,178,8],[177,6,177,11],[165,6,165,11],[173,6,173,11],[160,7,160,8],[160,12,160,13],[166,0,172,15],[174,6,174,11],[141,14,141,15],[151,12,151,13],[151,14,151,15],[152,7,152,8],[152,12,152,13],[152,14,152,15],[147,14,147,15],[148,7,148,8],[148,12,148,13],[148,14,148,15],[149,7,149,8],[149,12,149,13],[149,14,149,15],[150,7,150,8],[150,12,150,13],[150,14,150,15],[142,7,142,8],[142,12,142,13],[142,14,142,15],[143,7,143,8],[143,12,143,13],[143,14,143,15],[144,7,144,8],[144,12,144,13],[140,14,140,15],[137,7,137,8],[137,12,137,13],[137,14,137,15],[138,7,138,8],[138,12,138,13],[138,14,138,15],[139,7,139,8],[139,12,139,13],[139,14,139,15],[135,14,135,15],[136,7,136,8],[136,12,136,13],[136,14,136,15],[98,7,98,8],[113,6,113,11],[121,6,121,11],[122,6,122,11],[125,6,125,11],[99,7,99,8],[100,7,100,8],[101,7,101,8],[102,7,102,8],[103,7,103,8],[104,7,104,8],[105,7,105,8],[106,7,106,8],[107,7,107,8],[100,14,100,15],[101,14,101,15],[102,14,102,15],[103,14,103,15],[104,14,104,15],[105,14,105,15],[33,0,44,4],[33,5,33,15],[48,5,48,15],[49,5,49,15],[50,5,50,15],[51,5,51,15],[52,5,52,15],[53,5,53,15],[54,5,54,15],[45,0,54,4],[45,5,45,15],[46,5,46,15],[47,5,47,15],[36,5,36,15],[41,5,41,15],[37,5,37,15],[38,5,38,15],[39,5,39,15],[16,5,16,15],[17,5,17,15],[18,5,18,15],[10,0,20,4],[55,0,63,4],[24,5,24,15],[1,5,1,15],[2,5,2,15],[3,5,3,15],[5,5,5,15],[10,5,10,15],[9,5,9,15],[32,5,32,15],[34,5,34,15],[15,5,15,15],[19,5,19,15],[20,5,20,15],[21,5,21,15],[22,5,22,15],[23,5,23,15],[63,5,63,15],[25,5,25,15],[26,5,26,15],[21,0,32,4],[0,0,0,15],[1,0,9,4],[8,5,8,15],[6,5,6,15],[7,5,7,15],[11,5,11,15],[12,5,12,15],[13,5,13,15],[14,5,14,15],[4,5,4,15],[205,14,205,15],[206,12,206,13],[206,14,206,15],[76,14,76,15],[77,14,77,15],[78,14,78,15],[79,14,79,15],[80,14,80,15],[61,5,61,15],[62,5,62,15],[94,12,94,13],[97,7,97,8],[69,6,69,11],[70,6,70,11],[71,6,71,11],[73,6,73,11],[65,0,65,15],[66,0,66,15],[67,0,67,15],[133,14,133,15],[134,12,134,13],[134,14,134,15],[82,7,82,8],[95,7,95,8],[218,0,224,15],[217,6,217,11],[211,7,211,8],[211,12,211,13],[211,14,211,15],[55,5,55,15],[56,5,56,15],[27,5,27,15],[35,5,35,15],[28,5,28,15],[44,5,44,15],[72,0,72,4],[74,12,74,13],[74,14,74,15],[74,7,74,8],[75,12,75,13],[75,14,75,15],[75,7,75,8],[76,7,76,8],[77,7,77,8],[78,7,78,8],[79,7,79,8],[80,7,80,8],[81,7,81,8],[29,5,29,15],[30,5,30,15],[31,5,31,15],[40,5,40,15],[59,5,59,15],[60,5,60,15],[58,5,58,15],[42,5,42,15],[43,5,43,15],[57,5,57,15],[81,14,81,15],[83,7,83,8],[84,7,84,8],[85,7,85,8],[86,7,86,8],[87,7,87,8],[88,7,88,8],[89,7,89,8],[90,7,90,8],[85,12,85,13],[86,12,86,13],[87,12,87,13],[88,12,88,13],[89,12,89,13],[90,12,90,13],[82,14,82,15],[83,14,83,15],[84,14,84,15],[85,14,85,15],[86,14,86,15],[87,14,87,15],[88,14,88,15],[89,14,89,15],[90,14,90,15],[91,12,91,13],[92,12,92,13],[93,12,93,13],[96,7,96,8],[91,7,91,8],[76,12,76,13],[77,12,77,13],[78,12,78,13],[79,12,79,13],[80,12,80,13],[81,12,81,13],[82,12,82,13],[83,12,83,13],[84,12,84,13],[92,7,92,8],[93,7,93,8],[94,7,94,8],[95,12,95,13],[96,12,96,13],[97,12,97,13],[98,12,98,13],[99,12,99,13],[100,12,100,13],[101,12,101,13],[102,12,102,13],[103,12,103,13],[104,12,104,13],[105,12,105,13],[91,14,91,15],[92,14,92,15],[93,14,93,15],[94,14,94,15],[95,14,95,15],[96,14,96,15],[97,14,97,15],[98,14,98,15],[99,14,99,15],[106,14,106,15],[107,14,107,15],[108,14,108,15],[109,14,109,15],[110,14,110,15],[111,14,111,15],[112,14,112,15],[127,7,127,8],[127,12,127,13],[127,14,127,15],[128,14,128,15],[110,7,110,8],[111,7,111,8],[112,7,112,8],[126,7,126,8],[126,12,126,13],[126,14,126,15],[114,0,120,15],[123,6,123,11],[124,0,124,4],[129,14,129,15],[130,7,130,8],[130,12,130,13],[130,14,130,15],[131,7,131,8],[131,12,131,13],[131,14,131,15],[132,7,132,8],[132,12,132,13],[132,14,132,15],[129,7,129,8],[144,14,144,15],[145,7,145,8],[145,12,145,13],[145,14,145,15],[146,7,146,8],[146,12,146,13],[146,14,146,15],[157,7,157,8],[157,12,157,13],[157,14,157,15],[153,7,153,8],[153,12,153,13],[153,14,153,15],[154,14,154,15],[155,14,155,15],[156,14,156,15],[154,7,154,8],[154,12,154,13],[155,7,155,8],[155,12,155,13],[156,7,156,8],[156,12,156,13],[147,7,147,8],[147,12,147,13],[158,7,158,8],[158,12,158,13],[158,14,158,15],[159,7,159,8],[159,12,159,13],[159,14,159,15],[179,14,179,15],[180,7,180,8],[180,12,180,13],[180,14,180,15],[175,6,175,11],[181,7,181,8],[181,12,181,13],[181,14,181,15],[182,7,182,8],[182,12,182,13],[182,14,182,15],[179,7,179,8],[179,12,179,13],[183,12,183,13],[183,14,183,15],[183,7,183,8],[184,7,184,8],[184,12,184,13],[184,14,184,15],[185,7,185,8],[185,12,185,13],[185,14,185,15],[186,7,186,8],[186,12,186,13],[186,14,186,15],[195,7,195,8],[196,7,196,8],[197,7,197,8],[198,7,198,8],[195,12,195,13],[195,14,195,15],[196,12,196,13],[198,12,198,13],[198,14,198,15],[196,14,196,15],[197,12,197,13],[197,14,197,15],[201,7,201,8],[201,12,201,13],[201,14,201,15],[202,7,202,8],[202,12,202,13],[202,14,202,15],[199,7,199,8],[207,12,207,13],[207,14,207,15],[199,12,199,13],[199,14,199,15],[200,7,200,8],[200,12,200,13],[200,14,200,15],[205,7,205,8],[206,7,206,8],[207,7,207,8],[203,7,203,8],[203,12,203,13],[203,14,203,15],[204,7,204,8],[204,12,204,13],[204,14,204,15],[205,12,205,13],[208,7,208,8],[208,12,208,13],[208,14,208,15],[209,7,209,8],[209,12,209,13],[209,14,209,15],[210,7,210,8],[210,12,210,13],[210,14,210,15],[216,7,216,8],[216,12,216,13],[216,14,216,15],[212,12,212,13],[212,14,212,15],[213,7,213,8],[213,12,213,13],[213,14,213,15],[214,7,214,8],[214,12,214,13],[214,14,214,15],[215,7,215,8],[215,12,215,13],[215,14,215,15],[212,7,212,8]]}
["BMP Design Guidelines *",null,null,null,null,null,null,null,null,null,null,null,null,null,null,null,null,null,null,null,null,"# pages previous sheets:",{"$f":"'Level Spreader & HSB'!X3","v":1}]
["Dry Detention Basin",null,null,null,null,"• Meet clear recovery zone requirements outlined in the NDCDOT Roadway Design Manual ",null,null,null,null,null,null,null,null,null,null,null,null,null,null,null,"# pages this sheet:",{"$f":"COUNT(N73,N125,N177)","v":0}]
[null,null,null,null,null,"• Basin sized to safely convey the 50-year storm with 1ft of freeboard and to maximize treatment based on site constraints",null,null,null,null,null,null,null,null,null,null,null,null,null,null,null,"# pages total:",{"$f":"W2+W1","v":1}]
[null,null,null,null,null,"• WQv drawdown period = 2-5 days with 2 in. to 3 in. diameter per orifice(s) outlet"]
[null,null,null,null,null,"• Outlet structure and/or emergency spillway sized and lined to safely convey the 50-year storm"]
[null,null,null,null,null,"• L:W of basin ≥ 3:1"]
[null,null,null,null,null,"• Sideslopes 3:1 or flatter (or else stabilization)"]
[null,null,null,null,null,"• Embankment ≤ 12 ft high, ≥ 10 ft wide, and impounds ≤ 10 ac-ft"]
[null,null,null,null,null,"• Basin Volume ≤ 10 acre-feet"]
[null,null,null,null,null,"• Basin bottom ≥ 2 ft above high groundwater level"]
["Infiltration Basin",null,null,null,null,"• Meet clear recovery zone requirements outlined in the NDCDOT Roadway Design Manual "]
[null,null,null,null,null,"• DA ≤ 5 acres (recommended)"]
[null,null,null,null,null,"• Sized to maximize treatment based on site constraints and contain or convey the 50-year storm with 1ft freeboard"]
[null,null,null,null,null,"• WQv drawdown period ≤ 5 days"]
[null,null,null,null,null,"• Bypass structure passes 10-year storm to stable conveyance"]
[null,null,null,null,null,"• 50 ft from tidal waters, SA waters, 30 ft from all other waters, 100 ft from water supply wells"]
[null,null,null,null,null,"• Basin bottom 2 ft above high groundwater"]
[null,null,null,null,null,"• Basin bottom 3 ft above bedrock or impervious soil layer"]
[null,null,null,null,null,"• Hydraulic conductivity of soil ≥ 0.52 in/hr"]
[null,null,null,null,null,"• Sideslopes 3:1 or flatter"]
[null,null,null,null,null,"• Embankment ≤ 12 ft high, ≥ 10 ft wide"]
["Media Filter - Bioretention Basin",null,null,null,null,"• Meet clear recovery zone requirements outlined in the NDCDOT Roadway Design Manual "]
[null,null,null,null,null,"• DA ≤ 5 acres, DA slopes should generall be < 20%"]
[null,null,null,null,null,"• 50 ft from SA waters, 30 ft from all other waters, 100 ft from water supply wells"]
[null,null,null,null,null,"• Basin bottom 2 ft above high groundwater"]
[null,null,null,null,null,"• Sized to maximize treatment based on site constraints"]
[null,null,null,null,null,"• Maximum ponding depth ≤ 12 in"]
[null,null,null,null,null,"• Ponded water should infiltrate into media within 12 hours; top 24 in of media (entire media if <24 in) should drain within 48 hours"]
[null,null,null,null,null,"• Hydraulic conductivity of media ≥ 0.52 in/hr and ≤ 6 in/hr, but 1-2 in/hr is ideal"]
[null,null,null,null,null,"• Underdrain consisting of minimum 6-in peforated plastic pipe with filter sock; branches spaced 10 ft maximum"]
[null,null,null,null,null,"• L:W of basin ≥ 2:1"]
[null,null,null,null,null,"• Sideslopes 3:1 or flatter"]
[null,null,null,null,null,"• Embankment ≤ 12 ft high, ≥ 10 ft wide"]
["Media Filter - Filtration Basin",null,null,null,null,"• Meet clear recovery zone requirements outlined in the NDCDOT Roadway Design Manual "]
[null,null,null,null,null,"• DA ≤ 5 acres, DA slopes should generall be < 20%"]
[null,null,null,null,null,"• 50 ft from tidal waters, SA waters, 30 ft from all other waters, 100 ft from water supply wells"]
[null,null,null,null,null,"• Basin bottom 2 ft above high groundwater"]
[null,null,null,null,null,"• Sized to maximize treatment based on site constraints"]
[null,null,null,null,null,"• Maximum ponding depth ≥ 12 in and ≤ 36 in"]
[null,null,null,null,null,"• Ponded water should infiltrate into media within 24 hours; top 24 in of media (entire media if <24 in) should drain within 48 hours"]
[null,null,null,null,null,"• Hydraulic conductivity of media ≥ 0.52 in/hr and ≤ 6 in/hr, but 1-2 in/hr is ideal"]
[null,null,null,null,null,"• Underdrain consisting of minimum 6-in peforated plastic pipe with filter sock; branches spaced 10 ft maximum"]
[null,null,null,null,null,"• L:W of basin ≥ 2:1"]
[null,null,null,null,null,"• Sideslopes 3:1 or flatter"]
[null,null,null,null,null,"• Embankment ≤ 12 ft high, ≥ 10 ft wide"]
["Stormwater Wetland",null,null,null,null,"• Meet clear recovery zone requirements outlined in the NDCDOT Roadway Design Manual "]
[null,null,null,null,null,"• DA should typically be ≥ 5 acres (recommended)"]
[null,null,null,null,null,"• Will be sized to handle all runoff at ultimate build-out including off site drainage; WQv size ≥ 2,630 cubic ft; WQv elevation ≤ 1 ft above permanent pool elevation. "]
[null,null,null,null,null,"• L:W of basin ≥ 1.5:1, 3:1 recommended"]
[null,null,null,null,null,"• WQv drawdown period = 2-5 days with 2 to 3 in. diameter orifice(s)"]
[null,null,null,null,null,"• Minimum 1 ft of freebooard above the 50-year storm elevation"]
[null,null,null,null,null,"• Sideslopes 3:1 or flatter for vegetaed and submerged areas"]
[null,null,null,null,null,"• Embankment ≤ 12 ft high, ≥ 10 ft wide, and  ≤ 10 ac-ft of impoundment capacity"]
[null,null,null,null,null,"• Forebay depth 3-5 ft; shallow water depth 3-6 in; shallow land zone = permanent pool elevation; deep pool depth 1.5-3 ft"]
[null,null,null,null,null,"• Outlet control structure should be designed to convey the 10-year storm or 50-year storm if an emergency spillway not included in the design"]
["Wet Detention Basin",null,null,null,null,"• Meet clear recovery zone requirements outlined in the NDCDOT Roadway Design Manual "]
[null,null,null,null,null,"• Permanent pool average depth ≥ 3 ft and ≤ 8 ft"]
[null,null,null,null,null,"• Sized to maximize treatment based on site constraints and to contain or convey the 50-year storm with 1ft freeboard"]
[null,null,null,null,null,"• WQv drawdown period = 2-5 days with 2 in. minimum diameter orifice(s) outlet"]
[null,null,null,null,null,"• Permanent pool should be between 1 and 3 times the WQv"]
[null,null,null,null,null,"• L:W of basin ≥ 2:1"]
[null,null,null,null,null,"• 10 ft wide vegetated shelf with 10:1 slope are perimeter"]
[null,null,null,null,null,"• Sideslopes 3:1 or flatter"]
[null,null,null,null,null,"• Embankment ≤ 12 ft high, ≥ 10 ft wide, and impounds ≤ 10 ac-ft"]
[]
["* Design guidelines are outlined for various Best Management Practices (BMPs) as provided in the NCDOT BMP Toolbox (2014).  The guidelines listed are intended to provide a general overview of key design elements, but do not include all design criteria, guidelines, or recommendations and are not intended to serve as the sole source of design criteria.  The NCDOT BMP Toolbox, NCDOT Standard Details, the Federal Highway Administration (FHWA) Hydraulic Engineering Circular 14 (HEC-14) (July 2006), and any other applicable sources should be referenced for additional information. "]
["Please fill out all yellow cells as completely as possible.  Use pick lists where provided.  See top of worksheet for design guidelines.   For more information on the NCDOT Stormwater Management Plan form, please refer to the document, NCDOT Stormwater Best Management Practices Toolbox (2014).  If needed, additional pages are provided in this workbook."]
["Print area may be adjusted to include sheets as needed."]
[]
[null,null,null,null,null,null,"North Carolina Department of Transportation"]
[null,null,null,null,null,null,"Highway Stormwater Program"]
[{"$f":"'General Project Information'!$A$6","v":"(Version 3.02; Released April 23, 2024)"},null,null,null,null,null,"STORMWATER MANAGEMENT PLAN\nFOR NCDOT PROJECTS"]
["WBS Element:",null,null,null,null,{"$f":"'General Project Information'!$C$7","v":""},null,"TIP/Proj No.:",{"$f":"'General Project Information'!$E$7","v":""},null,"County(ies):",{"$f":"'General Project Information'!$H$7","v":"       "},"Page ",{"$f":"IF(A76<>\"\",MAX(W1)+1,\"\")","v":""},"of",{"$f":"'General Project Information'!$O$7","v":1}]
[null,null,null,null,null,null,"Other Toolbox Best Management Practices"]
["Sheet No.","Line","Station","Location\n(LT,RT,CL)","Latitude","Longitude","Surface Water Body","BMP Type",null,"Drainage Area\n(ac)","New Built-Upon Area\n(ac)","Volume Treated\n(ac-ft)","Precipitation Depth Treated over NBUA\n(in)",null,"BMP Associated w/ Buffer Rules?"]
[null,null,null,null,null,null,{"$f":"IF(AND(A76<>\"\",'Waterbody Information'!$D$10<>\"\",'Waterbody Information'!$D$21=\"\"),Picklists!$AH$4,\"\")","v":""},null,null,null,null,null,{"$f":"IF(K76=\"\",\"\",IF(K76=0,\"N/A\",L76/(K76*3450)*43560))","v":""}]
[null,null,null,null,null,null,{"$f":"IF(AND(A77<>\"\",'Waterbody Information'!$D$10<>\"\",'Waterbody Information'!$D$21=\"\"),Picklists!$AH$4,\"\")","v":""},null,null,null,null,null,{"$f":"IF(K77=\"\",\"\",IF(K77=0,\"N/A\",L77/(K77*3450)*43560))","v":""}]
[null,null,null,null,null,null,{"$f":"IF(AND(A78<>\"\",'Waterbody Information'!$D$10<>\"\",'Waterbody Information'!$D$21=\"\"),Picklists!$AH$4,\"\")","v":""},null,null,null,null,null,""]
[null,null,null,null,null,null,{"$f":"IF(AND(A79<>\"\",'Waterbody Information'!$D$10<>\"\",'Waterbody Information'!$D$21=\"\"),Picklists!$AH$4,\"\")","v":""},null,null,null,null,null,""]
[null,null,null,null,null,null,{"$f":"IF(AND(A80<>\"\",'Waterbody Information'!$D$10<>\"\",'Waterbody Information'!$D$21=\"\"),Picklists!$AH$4,\"\")","v":""},null,null,null,null,null,""]
[null,null,null,null,null,null,{"$f":"IF(AND(A81<>\"\",'Waterbody Information'!$D$10<>\"\",'Waterbody Information'!$D$21=\"\"),Picklists!$AH$4,\"\")","v":""},null,null,null,null,null,""]
[null,null,null,null,null,null,{"$f":"IF(AND(A82<>\"\",'Waterbody Information'!$D$10<>\"\",'Waterbody Information'!$D$21=\"\"),Picklists!$AH$4,\"\")","v":""},null,null,null,null,null,""]
[null,null,null,null,null,null,{"$f":"IF(AND(A83<>\"\",'Waterbody Information'!$D$10<>\"\",'Waterbody Information'!$D$21=\"\"),Picklists!$AH$4,\"\")","v":""},null,null,null,null,null,""]
[null,null,null,null,null,null,{"$f":"IF(AND(A84<>\"\",'Waterbody Information'!$D$10<>\"\",'Waterbody Information'!$D$21=\"\"),Picklists!$AH$4,\"\")","v":""},null,null,null,null,null,""]
[null,null,null,null,null,null,{"$f":"IF(AND(A85<>\"\",'Waterbody Information'!$D$10<>\"\",'Waterbody Information'!$D$21=\"\"),Picklists!$AH$4,\"\")","v":""},null,null,null,null,null,""]
[null,null,null,null,null,null,{"$f":"IF(AND(A86<>\"\",'Waterbody Information'!$D$10<>\"\",'Waterbody Information'!$D$21=\"\"),Picklists!$AH$4,\"\")","v":""},null,null,null,null,null,""]
[null,null,null,null,null,null,{"$f":"IF(AND(A87<>\"\",'Waterbody Information'!$D$10<>\"\",'Waterbody Information'!$D$21=\"\"),Picklists!$AH$4,\"\")","v":""},null,null,null,null,null,""]
[null,null,null,null,null,null,{"$f":"IF(AND(A88<>\"\",'Waterbody Information'!$D$10<>\"\",'Waterbody Information'!$D$21=\"\"),Picklists!$AH$4,\"\")","v":""},null,null,null,null,null,""]
[null,null,null,null,null,null,{"$f":"IF(AND(A89<>\"\",'Waterbody Information'!$D$10<>\"\",'Waterbody Information'!$D$21=\"\"),Picklists!$AH$4,\"\")","v":""},null,null,null,null,null,""]
[null,null,null,null,null,null,{"$f":"IF(AND(A90<>\"\",'Waterbody Information'!$D$10<>\"\",'Waterbody Information'!$D$21=\"\"),Picklists!$AH$4,\"\")","v":""},null,null,null,null,null,""]
[null,null,null,null,null,null,{"$f":"IF(AND(A91<>\"\",'Waterbody Information'!$D$10<>\"\",'Waterbody Information'!$D$21=\"\"),Picklists!$AH$4,\"\")","v":""},null,null,null,null,null,""]
[null,null,null,null,null,null,{"$f":"IF(AND(A92<>\"\",'Waterbody Information'!$D$10<>\"\",'Waterbody Information'!$D$21=\"\"),Picklists!$AH$4,\"\")","v":""},null,null,null,null,null,""]
[null,null,null,null,null,null,{"$f":"IF(AND(A93<>\"\",'Waterbody Information'!$D$10<>\"\",'Waterbody Information'!$D$21=\"\"),Picklists!$AH$4,\"\")","v":""},null,null,null,null,null,""]
[null,null,null,null,null,null,{"$f":"IF(AND(A94<>\"\",'Waterbody Information'!$D$10<>\"\",'Waterbody Information'!$D$21=\"\"),Picklists!$AH$4,\"\")","v":""},null,null,null,null,null,""]
[null,null,null,null,null,null,{"$f":"IF(AND(A95<>\"\",'Waterbody Information'!$D$10<>\"\",'Waterbody Information'!$D$21=\"\"),Picklists!$AH$4,\"\")","v":""},null,null,null,null,null,""]
[null,null,null,null,null,null,{"$f":"IF(AND(A96<>\"\",'Waterbody Information'!$D$10<>\"\",'Waterbody Information'!$D$21=\"\"),Picklists!$AH$4,\"\")","v":""},null,null,null,null,null,""]
[null,null,null,null,null,null,{"$f":"IF(AND(A97<>\"\",'Waterbody Information'!$D$10<>\"\",'Waterbody Information'!$D$21=\"\"),Picklists!$AH$4,\"\")","v":""},null,null,null,null,null,""]
[null,null,null,null,null,null,{"$f":"IF(AND(A98<>\"\",'Waterbody Information'!$D$10<>\"\",'Waterbody Information'!$D$21=\"\"),Picklists!$AH$4,\"\")","v":""},null,null,null,null,null,""]
[null,null,null,null,null,null,{"$f":"IF(AND(A99<>\"\",'Waterbody Information'!$D$10<>\"\",'Waterbody Information'!$D$21=\"\"),Picklists!$AH$4,\"\")","v":""},null,null,null,null,null,""]
[null,null,null,null,null,null,{"$f":"IF(AND(A100<>\"\",'Waterbody Information'!$D$10<>\"\",'Waterbody Information'!$D$21=\"\"),Picklists!$AH$4,\"\")","v":""},null,null,null,null,null,""]
[null,null,null,null,null,null,{"$f":"IF(AND(A101<>\"\",'Waterbody Information'!$D$10<>\"\",'Waterbody Information'!$D$21=\"\"),Picklists!$AH$4,\"\")","v":""},null,null,null,null,null,""]
[null,null,null,null,null,null,{"$f":"IF(AND(A102<>\"\",'Waterbody Information'!$D$10<>\"\",'Waterbody Information'!$D$21=\"\"),Picklists!$AH$4,\"\")","v":""},null,null,null,null,null,""]
[null,null,null,null,null,null,{"$f":"IF(AND(A103<>\"\",'Waterbody Information'!$D$10<>\"\",'Waterbody Information'!$D$21=\"\"),Picklists!$AH$4,\"\")","v":""},null,null,null,null,null,""]
[null,null,null,null,null,null,{"$f":"IF(AND(A104<>\"\",'Waterbody Information'!$D$10<>\"\",'Waterbody Information'!$D$21=\"\"),Picklists!$AH$4,\"\")","v":""},null,null,null,null,null,""]
[null,null,null,null,null,null,{"$f":"IF(AND(A105<>\"\",'Waterbody Information'!$D$10<>\"\",'Waterbody Information'!$D$21=\"\"),Picklists!$AH$4,\"\")","v":""},null,null,null,null,null,""]
[null,null,null,null,null,null,{"$f":"IF(AND(A106<>\"\",'Waterbody Information'!$D$10<>\"\",'Waterbody Information'!$D$21=\"\"),Picklists!$AH$4,\"\")","v":""},null,null,null,null,null,""]
[null,null,null,null,null,null,{"$f":"IF(AND(A107<>\"\",'Waterbody Information'!$D$10<>\"\",'Waterbody Information'!$D$21=\"\"),Picklists!$AH$4,\"\")","v":""},null,null,null,null,null,""]
[null,null,null,null,null,null,{"$f":"IF(AND(A108<>\"\",'Waterbody Information'!$D$10<>\"\",'Waterbody Information'!$D$21=\"\"),Picklists!$AH$4,\"\")","v":""},null,null,null,null,null,""]
[null,null,null,null,null,null,{"$f":"IF(AND(A109<>\"\",'Waterbody Information'!$D$10<>\"\",'Waterbody Information'!$D$21=\"\"),Picklists!$AH$4,\"\")","v":""},null,null,null,null,null,""]
[null,null,null,null,null,null,{"$f":"IF(AND(A110<>\"\",'Waterbody Information'!$D$10<>\"\",'Waterbody Information'!$D$21=\"\"),Picklists!$AH$4,\"\")","v":""},null,null,null,null,null,""]
[null,null,null,null,null,null,{"$f":"IF(AND(A111<>\"\",'Waterbody Information'!$D$10<>\"\",'Waterbody Information'!$D$21=\"\"),Picklists!$AH$4,\"\")","v":""},null,null,null,null,null,""]
[null,null,null,null,null,null,{"$f":"IF(AND(A112<>\"\",'Waterbody Information'!$D$10<>\"\",'Waterbody Information'!$D$21=\"\"),Picklists!$AH$4,\"\")","v":""},null,null,null,null,null,""]
[null,null,null,null,null,null,null,null,null,null,null,null,""]
[null,null,null,null,null,null,"Additional Comments"]
[]
[]
[]
[]
[]
[]
[]
[null,null,null,null,null,null,"North Carolina Department of Transportation"]
[null,null,null,null,null,null,"Highway Stormwater Program"]
[{"$f":"'General Project Information'!$A$6","v":"(Version 3.02; Released April 23, 2024)"},null,null,null,null,null,"STORMWATER MANAGEMENT PLAN\nFOR NCDOT PROJECTS"]
["WBS Element:",null,null,null,null,{"$f":"'General Project Information'!$C$7","v":""},null,"TIP No.:",{"$f":"'General Project Information'!$E$7","v":""},null,"County(ies):",{"$f":"'General Project Information'!$H$7","v":"       "},"Page ",{"$f":"IF(A128<>\"\",MAX(N73)+1,\"\")","v":""},"of",{"$f":"'General Project Information'!$O$7","v":1}]
[null,null,null,null,null,null,"Other Toolbox Best Management Practices"]
["Sheet No.","Line","Station","Location\n(LT,RT,CL)","Latitude","Longitude","Surface Water Body","BMP Type",null,"Drainage Area\n(ac)","New Built-Upon Area\n(ac)","Volume Treated\n(ac-ft)","Precipitation Depth Treated over NBUA\n(in)",null,"BMP Associated w/ Buffer Rules?"]
[null,null,null,null,null,null,null,null,null,null,null,null,{"$f":"IF(K128=\"\",\"\",IF(K128=0,\"N/A\",L128/(K128*3450)*43560))","v":""}]
[null,null,null,null,null,null,{"$f":"IF(AND(A129<>\"\",'Waterbody Information'!$D$10<>\"\",'Waterbody Information'!$D$21=\"\"),Picklists!$AH$4,\"\")","v":""},null,null,null,null,null,{"$f":"IF(K129=\"\",\"\",IF(K129=0,\"N/A\",L129/(K129*3450)*43560))","v":""}]
[null,null,null,null,null,null,{"$f":"IF(AND(A130<>\"\",'Waterbody Information'!$D$10<>\"\",'Waterbody Information'!$D$21=\"\"),Picklists!$AH$4,\"\")","v":""},null,null,null,null,null,""]
[null,null,null,null,null,null,{"$f":"IF(AND(A131<>\"\",'Waterbody Information'!$D$10<>\"\",'Waterbody Information'!$D$21=\"\"),Picklists!$AH$4,\"\")","v":""},null,null,null,null,null,""]
[null,null,null,null,null,null,{"$f":"IF(AND(A132<>\"\",'Waterbody Information'!$D$10<>\"\",'Waterbody Information'!$D$21=\"\"),Picklists!$AH$4,\"\")","v":""},null,null,null,null,null,""]
[null,null,null,null,null,null,{"$f":"IF(AND(A133<>\"\",'Waterbody Information'!$D$10<>\"\",'Waterbody Information'!$D$21=\"\"),Picklists!$AH$4,\"\")","v":""},null,null,null,null,null,""]
[null,null,null,null,null,null,{"$f":"IF(AND(A134<>\"\",'Waterbody Information'!$D$10<>\"\",'Waterbody Information'!$D$21=\"\"),Picklists!$AH$4,\"\")","v":""},null,null,null,null,null,""]
[null,null,null,null,null,null,{"$f":"IF(AND(A135<>\"\",'Waterbody Information'!$D$10<>\"\",'Waterbody Information'!$D$21=\"\"),Picklists!$AH$4,\"\")","v":""},null,null,null,null,null,""]
[null,null,null,null,null,null,{"$f":"IF(AND(A136<>\"\",'Waterbody Information'!$D$10<>\"\",'Waterbody Information'!$D$21=\"\"),Picklists!$AH$4,\"\")","v":""},null,null,null,null,null,""]
[null,null,null,null,null,null,{"$f":"IF(AND(A137<>\"\",'Waterbody Information'!$D$10<>\"\",'Waterbody Information'!$D$21=\"\"),Picklists!$AH$4,\"\")","v":""},null,null,null,null,null,""]
[null,null,null,null,null,null,{"$f":"IF(AND(A138<>\"\",'Waterbody Information'!$D$10<>\"\",'Waterbody Information'!$D$21=\"\"),Picklists!$AH$4,\"\")","v":""},null,null,null,null,null,""]
[null,null,null,null,null,null,{"$f":"IF(AND(A139<>\"\",'Waterbody Information'!$D$10<>\"\",'Waterbody Information'!$D$21=\"\"),Picklists!$AH$4,\"\")","v":""},null,null,null,null,null,""]
[null,null,null,null,null,null,{"$f":"IF(AND(A140<>\"\",'Waterbody Information'!$D$10<>\"\",'Waterbody Information'!$D$21=\"\"),Picklists!$AH$4,\"\")","v":""},null,null,null,null,null,""]
[null,null,null,null,null,null,{"$f":"IF(AND(A141<>\"\",'Waterbody Information'!$D$10<>\"\",'Waterbody Information'!$D$21=\"\"),Picklists!$AH$4,\"\")","v":""},null,null,null,null,null,""]
[null,null,null,null,null,null,{"$f":"IF(AND(A142<>\"\",'Waterbody Information'!$D$10<>\"\",'Waterbody Information'!$D$21=\"\"),Picklists!$AH$4,\"\")","v":""},null,null,null,null,null,""]
[null,null,null,null,null,null,{"$f":"IF(AND(A143<>\"\",'Waterbody Information'!$D$10<>\"\",'Waterbody Information'!$D$21=\"\"),Picklists!$AH$4,\"\")","v":""},null,null,null,null,null,""]
[null,null,null,null,null,null,{"$f":"IF(AND(A144<>\"\",'Waterbody Information'!$D$10<>\"\",'Waterbody Information'!$D$21=\"\"),Picklists!$AH$4,\"\")","v":""},null,null,null,null,null,""]
[null,null,null,null,null,null,{"$f":"IF(AND(A145<>\"\",'Waterbody Information'!$D$10<>\"\",'Waterbody Information'!$D$21=\"\"),Picklists!$AH$4,\"\")","v":""},null,null,null,null,null,""]
[null,null,null,null,null,null,{"$f":"IF(AND(A146<>\"\",'Waterbody Information'!$D$10<>\"\",'Waterbody Information'!$D$21=\"\"),Picklists!$AH$4,\"\")","v":""},null,null,null,null,null,""]
[null,null,null,null,null,null,{"$f":"IF(AND(A147<>\"\",'Waterbody Information'!$D$10<>\"\",'Waterbody Information'!$D$21=\"\"),Picklists!$AH$4,\"\")","v":""},null,null,null,null,null,""]
[null,null,null,null,null,null,{"$f":"IF(AND(A148<>\"\",'Waterbody Information'!$D$10<>\"\",'Waterbody Information'!$D$21=\"\"),Picklists!$AH$4,\"\")","v":""},null,null,null,null,null,""]
[null,null,null,null,null,null,{"$f":"IF(AND(A149<>\"\",'Waterbody Information'!$D$10<>\"\",'Waterbody Information'!$D$21=\"\"),Picklists!$AH$4,\"\")","v":""},null,null,null,null,null,""]
[null,null,null,null,null,null,{"$f":"IF(AND(A150<>\"\",'Waterbody Information'!$D$10<>\"\",'Waterbody Information'!$D$21=\"\"),Picklists!$AH$4,\"\")","v":""},null,null,null,null,null,""]
[null,null,null,null,null,null,{"$f":"IF(AND(A151<>\"\",'Waterbody Information'!$D$10<>\"\",'Waterbody Information'!$D$21=\"\"),Picklists!$AH$4,\"\")","v":""},null,null,null,null,null,""]
[null,null,null,null,null,null,{"$f":"IF(AND(A152<>\"\",'Waterbody Information'!$D$10<>\"\",'Waterbody Information'!$D$21=\"\"),Picklists!$AH$4,\"\")","v":""},null,null,null,null,null,""]
[null,null,null,null,null,null,{"$f":"IF(AND(A153<>\"\",'Waterbody Information'!$D$10<>\"\",'Waterbody Information'!$D$21=\"\"),Picklists!$AH$4,\"\")","v":""},null,null,null,null,null,""]
[null,null,null,null,null,null,{"$f":"IF(AND(A154<>\"\",'Waterbody Information'!$D$10<>\"\",'Waterbody Information'!$D$21=\"\"),Picklists!$AH$4,\"\")","v":""},null,null,null,null,null,""]
[null,null,null,null,null,null,{"$f":"IF(AND(A155<>\"\",'Waterbody Information'!$D$10<>\"\",'Waterbody Information'!$D$21=\"\"),Picklists!$AH$4,\"\")","v":""},null,null,null,null,null,""]
[null,null,null,null,null,null,{"$f":"IF(AND(A156<>\"\",'Waterbody Information'!$D$10<>\"\",'Waterbody Information'!$D$21=\"\"),Picklists!$AH$4,\"\")","v":""},null,null,null,null,null,""]
[null,null,null,null,null,null,{"$f":"IF(AND(A157<>\"\",'Waterbody Information'!$D$10<>\"\",'Waterbody Information'!$D$21=\"\"),Picklists!$AH$4,\"\")","v":""},null,null,null,null,null,""]
[null,null,null,null,null,null,{"$f":"IF(AND(A158<>\"\",'Waterbody Information'!$D$10<>\"\",'Waterbody Information'!$D$21=\"\"),Picklists!$AH$4,\"\")","v":""},null,null,null,null,null,""]
[null,null,null,null,null,null,{"$f":"IF(AND(A159<>\"\",'Waterbody Information'!$D$10<>\"\",'Waterbody Information'!$D$21=\"\"),Picklists!$AH$4,\"\")","v":""},null,null,null,null,null,""]
[null,null,null,null,null,null,{"$f":"IF(AND(A160<>\"\",'Waterbody Information'!$D$10<>\"\",'Waterbody Information'!$D$21=\"\"),Picklists!$AH$4,\"\")","v":""},null,null,null,null,null,""]
[null,null,null,null,null,null,{"$f":"IF(AND(A161<>\"\",'Waterbody Information'!$D$10<>\"\",'Waterbody Information'!$D$21=\"\"),Picklists!$AH$4,\"\")","v":""},null,null,null,null,null,""]
[null,null,null,null,null,null,{"$f":"IF(AND(A162<>\"\",'Waterbody Information'!$D$10<>\"\",'Waterbody Information'!$D$21=\"\"),Picklists!$AH$4,\"\")","v":""},null,null,null,null,null,""]
[null,null,null,null,null,null,{"$f":"IF(AND(A163<>\"\",'Waterbody Information'!$D$10<>\"\",'Waterbody Information'!$D$21=\"\"),Picklists!$AH$4,\"\")","v":""},null,null,null,null,null,""]
[null,null,null,null,null,null,{"$f":"IF(AND(A164<>\"\",'Waterbody Information'!$D$10<>\"\",'Waterbody Information'!$D$21=\"\"),Picklists!$AH$4,\"\")","v":""},null,null,null,null,null,""]
[null,null,null,null,null,null,null,null,null,null,null,null,""]
[null,null,null,null,null,null,"Additional Comments"]
[]
[]
[]
[]
[]
[]
[]
[null,null,null,null,null,null,"North Carolina Department of Transportation"]
[null,null,null,null,null,null,"Highway Stormwater Program"]
[{"$f":"'General Project Information'!$A$6","v":"(Version 3.02; Released April 23, 2024)"},null,null,null,null,null,"STORMWATER MANAGEMENT PLAN\nFOR NCDOT PROJECTS"]
["WBS Element:",null,null,null,null,{"$f":"'General Project Information'!$C$7","v":""},null,"TIP No.:",{"$f":"'General Project Information'!$E$7","v":""},null,"County(ies):",{"$f":"'General Project Information'!$H$7","v":"       "},"Page ",{"$f":"IF(A180<>\"\",MAX(N125)+1,\"\")","v":""},"of",{"$f":"'General Project Information'!$O$7","v":1}]
[null,null,null,null,null,null,"Other Toolbox Best Management Practices"]
["Sheet No.","Line","Station","Location\n(LT,RT,CL)","Latitude","Longitude","Surface Water Body","BMP Type",null,"Drainage Area\n(ac)","New Built-Upon Area\n(ac)","Volume Treated\n(ac-ft)","Precipitation Depth Treated over NBUA\n(in)",null,"BMP Associated w/ Buffer Rules?"]
[null,null,null,null,null,null,null,null,null,null,null,null,{"$f":"IF(K180=\"\",\"\",IF(K180=0,\"N/A\",L180/(K180*3450)*43560))","v":""}]
[null,null,null,null,null,null,{"$f":"IF(AND(A181<>\"\",'Waterbody Information'!$D$10<>\"\",'Waterbody Information'!$D$21=\"\"),Picklists!$AH$4,\"\")","v":""},null,null,null,null,null,{"$f":"IF(K181=\"\",\"\",IF(K181=0,\"N/A\",L181/(K181*3450)*43560))","v":""}]
[null,null,null,null,null,null,{"$f":"IF(AND(A182<>\"\",'Waterbody Information'!$D$10<>\"\",'Waterbody Information'!$D$21=\"\"),Picklists!$AH$4,\"\")","v":""},null,null,null,null,null,""]
[null,null,null,null,null,null,{"$f":"IF(AND(A183<>\"\",'Waterbody Information'!$D$10<>\"\",'Waterbody Information'!$D$21=\"\"),Picklists!$AH$4,\"\")","v":""},null,null,null,null,null,""]
[null,null,null,null,null,null,{"$f":"IF(AND(A184<>\"\",'Waterbody Information'!$D$10<>\"\",'Waterbody Information'!$D$21=\"\"),Picklists!$AH$4,\"\")","v":""},null,null,null,null,null,""]
[null,null,null,null,null,null,{"$f":"IF(AND(A185<>\"\",'Waterbody Information'!$D$10<>\"\",'Waterbody Information'!$D$21=\"\"),Picklists!$AH$4,\"\")","v":""},null,null,null,null,null,""]
[null,null,null,null,null,null,{"$f":"IF(AND(A186<>\"\",'Waterbody Information'!$D$10<>\"\",'Waterbody Information'!$D$21=\"\"),Picklists!$AH$4,\"\")","v":""},null,null,null,null,null,""]
[null,null,null,null,null,null,{"$f":"IF(AND(A187<>\"\",'Waterbody Information'!$D$10<>\"\",'Waterbody Information'!$D$21=\"\"),Picklists!$AH$4,\"\")","v":""},null,null,null,null,null,""]
[null,null,null,null,null,null,{"$f":"IF(AND(A188<>\"\",'Waterbody Information'!$D$10<>\"\",'Waterbody Information'!$D$21=\"\"),Picklists!$AH$4,\"\")","v":""},null,null,null,null,null,""]
[null,null,null,null,null,null,{"$f":"IF(AND(A189<>\"\",'Waterbody Information'!$D$10<>\"\",'Waterbody Information'!$D$21=\"\"),Picklists!$AH$4,\"\")","v":""},null,null,null,null,null,""]
[null,null,null,null,null,null,{"$f":"IF(AND(A190<>\"\",'Waterbody Information'!$D$10<>\"\",'Waterbody Information'!$D$21=\"\"),Picklists!$AH$4,\"\")","v":""},null,null,null,null,null,""]
[null,null,null,null,null,null,{"$f":"IF(AND(A191<>\"\",'Waterbody Information'!$D$10<>\"\",'Waterbody Information'!$D$21=\"\"),Picklists!$AH$4,\"\")","v":""},null,null,null,null,null,""]
[null,null,null,null,null,null,{"$f":"IF(AND(A192<>\"\",'Waterbody Information'!$D$10<>\"\",'Waterbody Information'!$D$21=\"\"),Picklists!$AH$4,\"\")","v":""},null,null,null,null,null,""]
[null,null,null,null,null,null,{"$f":"IF(AND(A193<>\"\",'Waterbody Information'!$D$10<>\"\",'Waterbody Information'!$D$21=\"\"),Picklists!$AH$4,\"\")","v":""},null,null,null,null,null,""]
[null,null,null,null,null,null,{"$f":"IF(AND(A194<>\"\",'Waterbody Information'!$D$10<>\"\",'Waterbody Information'!$D$21=\"\"),Picklists!$AH$4,\"\")","v":""},null,null,null,null,null,""]
[null,null,null,null,null,null,{"$f":"IF(AND(A195<>\"\",'Waterbody Information'!$D$10<>\"\",'Waterbody Information'!$D$21=\"\"),Picklists!$AH$4,\"\")","v":""},null,null,null,null,null,""]
[null,null,null,null,null,null,{"$f":"IF(AND(A196<>\"\",'Waterbody Information'!$D$10<>\"\",'Waterbody Information'!$D$21=\"\"),Picklists!$AH$4,\"\")","v":""},null,null,null,null,null,""]
[null,null,null,null,null,null,{"$f":"IF(AND(A197<>\"\",'Waterbody Information'!$D$10<>\"\",'Waterbody Information'!$D$21=\"\"),Picklists!$AH$4,\"\")","v":""},null,null,null,null,null,""]
[null,null,null,null,null,null,{"$f":"IF(AND(A198<>\"\",'Waterbody Information'!$D$10<>\"\",'Waterbody Information'!$D$21=\"\"),Picklists!$AH$4,\"\")","v":""},null,null,null,null,null,""]
[null,null,null,null,null,null,{"$f":"IF(AND(A199<>\"\",'Waterbody Information'!$D$10<>\"\",'Waterbody Information'!$D$21=\"\"),Picklists!$AH$4,\"\")","v":""},null,null,null,null,null,""]
[null,null,null,null,null,null,{"$f":"IF(AND(A200<>\"\",'Waterbody Information'!$D$10<>\"\",'Waterbody Information'!$D$21=\"\"),Picklists!$AH$4,\"\")","v":""},null,null,null,null,null,""]
[null,null,null,null,null,null,{"$f":"IF(AND(A201<>\"\",'Waterbody Information'!$D$10<>\"\",'Waterbody Information'!$D$21=\"\"),Picklists!$AH$4,\"\")","v":""},null,null,null,null,null,""]
[null,null,null,null,null,null,{"$f":"IF(AND(A202<>\"\",'Waterbody Information'!$D$10<>\"\",'Waterbody Information'!$D$21=\"\"),Picklists!$AH$4,\"\")","v":""},null,null,null,null,null,""]
[null,null,null,null,null,null,{"$f":"IF(AND(A203<>\"\",'Waterbody Information'!$D$10<>\"\",'Waterbody Information'!$D$21=\"\"),Picklists!$AH$4,\"\")","v":""},null,null,null,null,null,""]
[null,null,null,null,null,null,{"$f":"IF(AND(A204<>\"\",'Waterbody Information'!$D$10<>\"\",'Waterbody Information'!$D$21=\"\"),Picklists!$AH$4,\"\")","v":""},null,null,null,null,null,""]
[null,null,null,null,null,null,{"$f":"IF(AND(A205<>\"\",'Waterbody Information'!$D$10<>\"\",'Waterbody Information'!$D$21=\"\"),Picklists!$AH$4,\"\")","v":""},null,null,null,null,null,""]
[null,null,null,null,null,null,{"$f":"IF(AND(A206<>\"\",'Waterbody Information'!$D$10<>\"\",'Waterbody Information'!$D$21=\"\"),Picklists!$AH$4,\"\")","v":""},null,null,null,null,null,""]
[null,null,null,null,null,null,{"$f":"IF(AND(A207<>\"\",'Waterbody Information'!$D$10<>\"\",'Waterbody Information'!$D$21=\"\"),Picklists!$AH$4,\"\")","v":""},null,null,null,null,null,""]
[null,null,null,null,null,null,{"$f":"IF(AND(A208<>\"\",'Waterbody Information'!$D$10<>\"\",'Waterbody Information'!$D$21=\"\"),Picklists!$AH$4,\"\")","v":""},null,null,null,null,null,""]
[null,null,null,null,null,null,{"$f":"IF(AND(A209<>\"\",'Waterbody Information'!$D$10<>\"\",'Waterbody Information'!$D$21=\"\"),Picklists!$AH$4,\"\")","v":""},null,null,null,null,null,""]
[null,null,null,null,null,null,{"$f":"IF(AND(A210<>\"\",'Waterbody Information'!$D$10<>\"\",'Waterbody Information'!$D$21=\"\"),Picklists!$AH$4,\"\")","v":""},null,null,null,null,null,""]
[null,null,null,null,null,null,{"$f":"IF(AND(A211<>\"\",'Waterbody Information'!$D$10<>\"\",'Waterbody Information'!$D$21=\"\"),Picklists!$AH$4,\"\")","v":""},null,null,null,null,null,""]
[null,null,null,null,null,null,{"$f":"IF(AND(A212<>\"\",'Waterbody Information'!$D$10<>\"\",'Waterbody Information'!$D$21=\"\"),Picklists!$AH$4,\"\")","v":""},null,null,null,null,null,""]
[null,null,null,null,null,null,{"$f":"IF(AND(A213<>\"\",'Waterbody Information'!$D$10<>\"\",'Waterbody Information'!$D$21=\"\"),Picklists!$AH$4,\"\")","v":""},null,null,null,null,null,""]
[null,null,null,null,null,null,{"$f":"IF(AND(A214<>\"\",'Waterbody Information'!$D$10<>\"\",'Waterbody Information'!$D$21=\"\"),Picklists!$AH$4,\"\")","v":""},null,null,null,null,null,""]
[null,null,null,null,null,null,{"$f":"IF(AND(A215<>\"\",'Waterbody Information'!$D$10<>\"\",'Waterbody Information'!$D$21=\"\"),Picklists!$AH$4,\"\")","v":""},null,null,null,null,null,""]
[null,null,null,null,null,null,{"$f":"IF(AND(A216<>\"\",'Waterbody Information'!$D$10<>\"\",'Waterbody Information'!$D$21=\"\"),Picklists!$AH$4,\"\")","v":""},null,null,null,null,null,""]
[null,null,null,null,null,null,null,null,null,null,null,null,""]
[null,null,null,null,null,null,"Additional Comments"]

{"sheet":"Other Non-Toolbox BMPs","index":9,"n_rows":227,"n_cols":23,"rows_kept":227,"cut":false,"hidden":false,"merged":[[64,0,72,4],[64,5,64,15],[65,5,65,15],[66,5,66,15],[67,5,67,15],[68,5,68,15],[69,5,69,15],[70,5,70,15],[71,5,71,15],[72,5,72,15],[225,11,225,15],[225,7,225,8],[226,6,226,11],[227,0,233,15],[83,11,83,15],[84,11,84,15],[85,11,85,15],[86,11,86,15],[87,11,87,15],[223,7,223,8],[224,7,224,8],[223,11,223,15],[224,11,224,15],[221,7,221,8],[222,7,222,8],[221,11,221,15],[222,11,222,15],[219,7,219,8],[220,7,220,8],[219,11,219,15],[220,11,220,15],[217,7,217,8],[218,7,218,8],[217,11,217,15],[218,11,218,15],[215,7,215,8],[216,7,216,8],[215,11,215,15],[216,11,216,15],[213,7,213,8],[214,7,214,8],[213,11,213,15],[214,11,214,15],[211,7,211,8],[212,7,212,8],[211,11,211,15],[212,11,212,15],[209,7,209,8],[210,7,210,8],[209,11,209,15],[210,11,210,15],[207,7,207,8],[208,7,208,8],[207,11,207,15],[208,11,208,15],[205,7,205,8],[206,7,206,8],[205,11,205,15],[206,11,206,15],[203,7,203,8],[204,7,204,8],[203,11,203,15],[204,11,204,15],[201,7,201,8],[202,7,202,8],[201,11,201,15],[202,11,202,15],[199,7,199,8],[200,7,200,8],[199,11,199,15],[200,11,200,15],[197,7,197,8],[198,7,198,8],[197,11,197,15],[198,11,198,15],[195,7,195,8],[196,7,196,8],[195,11,195,15],[196,11,196,15],[193,7,193,8],[194,7,194,8],[193,11,193,15],[194,11,194,15],[191,7,191,8],[192,7,192,8],[191,11,191,15],[192,11,192,15],[189,7,189,8],[190,7,190,8],[189,11,189,15],[190,11,190,15],[186,6,186,11],[187,7,187,8],[188,7,188,8],[187,11,187,15],[188,11,188,15],[174,6,174,11],[175,0,181,15],[182,6,182,11],[183,6,183,11],[184,6,184,11],[185,0,185,4],[172,7,172,8],[173,7,173,8],[172,11,172,15],[173,11,173,15],[170,7,170,8],[171,7,171,8],[170,11,170,15],[171,11,171,15],[168,7,168,8],[169,7,169,8],[168,11,168,15],[169,11,169,15],[166,7,166,8],[167,7,167,8],[166,11,166,15],[167,11,167,15],[164,7,164,8],[165,7,165,8],[164,11,164,15],[165,11,165,15],[162,7,162,8],[163,7,163,8],[162,11,162,15],[163,11,163,15],[160,7,160,8],[161,7,161,8],[160,11,160,15],[161,11,161,15],[158,7,158,8],[159,7,159,8],[158,11,158,15],[159,11,159,15],[156,7,156,8],[157,7,157,8],[156,11,156,15],[157,11,157,15],[154,7,154,8],[155,7,155,8],[154,11,154,15],[155,11,155,15],[152,7,152,8],[153,7,153,8],[152,11,152,15],[153,11,153,15],[150,7,150,8],[151,7,151,8],[150,11,150,15],[151,11,151,15],[148,7,148,8],[149,7,149,8],[148,11,148,15],[149,11,149,15],[146,7,146,8],[147,7,147,8],[146,11,146,15],[147,11,147,15],[144,7,144,8],[145,7,145,8],[144,11,144,15],[145,11,145,15],[142,7,142,8],[143,7,143,8],[142,11,142,15],[143,11,143,15],[140,7,140,8],[141,7,141,8],[140,11,140,15],[141,11,141,15],[138,7,138,8],[139,7,139,8],[138,11,138,15],[139,11,139,15],[136,7,136,8],[137,7,137,8],[135,11,135,15],[136,11,136,15],[137,11,137,15],[131,6,131,11],[132,6,132,11],[133,0,133,4],[134,6,134,11],[135,7,135,8],[121,7,121,8],[122,6,122,11],[123,0,129,15],[130,6,130,11],[121,11,121,15],[119,7,119,8],[120,7,120,8],[120,11,120,15],[119,11,119,15],[117,7,117,8],[118,7,118,8],[118,11,118,15],[117,11,117,15],[115,7,115,8],[116,7,116,8],[116,11,116,15],[115,11,115,15],[113,7,113,8],[114,7,114,8],[114,11,114,15],[113,11,113,15],[111,7,111,8],[112,7,112,8],[112,11,112,15],[111,11,111,15],[109,7,109,8],[110,7,110,8],[110,11,110,15],[109,11,109,15],[107,7,107,8],[108,7,108,8],[108,11,108,15],[107,11,107,15],[105,7,105,8],[106,7,106,8],[106,11,106,15],[105,11,105,15],[103,7,103,8],[104,7,104,8],[104,11,104,15],[103,11,103,15],[101,7,101,8],[102,7,102,8],[102,11,102,15],[101,11,101,15],[99,7,99,8],[100,7,100,8],[100,11,100,15],[99,11,99,15],[97,7,97,8],[98,7,98,8],[98,11,98,15],[97,11,97,15],[95,7,95,8],[96,7,96,8],[96,11,96,15],[95,11,95,15],[93,7,93,8],[94,7,94,8],[94,11,94,15],[93,11,93,15],[91,7,91,8],[92,7,92,8],[92,11,92,15],[91,11,91,15],[89,7,89,8],[90,7,90,8],[89,11,89,15],[90,11,90,15],[87,7,87,8],[88,7,88,8],[88,11,88,15],[85,7,85,8],[86,7,86,8],[83,7,83,8],[84,7,84,8],[76,0,76,15],[78,6,78,11],[79,6,79,11],[80,6,80,11],[81,0,81,4],[82,6,82,11],[21,0,32,4],[21,5,21,15],[27,5,27,15],[60,5,60,15],[61,5,61,15],[62,5,62,15],[63,5,63,15],[74,0,74,15],[75,0,75,15],[51,5,51,15],[52,5,52,15],[53,5,53,15],[54,5,54,15],[55,0,63,4],[55,5,55,15],[56,5,56,15],[57,5,57,15],[58,5,58,15],[59,5,59,15],[42,5,42,15],[43,5,43,15],[44,5,44,15],[45,0,54,4],[45,5,45,15],[46,5,46,15],[47,5,47,15],[48,5,48,15],[49,5,49,15],[50,5,50,15],[33,0,44,4],[33,5,33,15],[34,5,34,15],[35,5,35,15],[36,5,36,15],[37,5,37,15],[38,5,38,15],[39,5,39,15],[40,5,40,15],[41,5,41,15],[11,5,11,15],[12,5,12,15],[13,5,13,15],[14,5,14,15],[15,5,15,15],[16,5,16,15],[17,5,17,15],[19,5,19,15],[20,5,20,15],[28,5,28,15],[29,5,29,15],[30,5,30,15],[31,5,31,15],[32,5,32,15],[18,5,18,15],[0,0,0,15],[1,0,9,4],[1,5,1,15],[2,5,2,15],[3,5,3,15],[4,5,4,15],[5,5,5,15],[6,5,6,15],[7,5,7,15],[8,5,8,15],[22,5,22,15],[23,5,23,15],[24,5,24,15],[25,5,25,15],[26,5,26,15],[9,5,9,15],[10,0,20,4],[10,5,10,15]]}
["BMP Design Guidelines *",null,null,null,null,null,null,null,null,null,null,null,null,null,null,null,null,null,null,null,null,"# pages previous sheets:",{"$f":"'Other Toolbox BMPs'!W3","v":1}]
["Bio-Embankment",null,null,null,null,null,null,null,null,null,null,null,null,null,null,null,null,null,null,null,null,"# pages this sheet:",{"$f":"COUNT(N82,N134,N186)","v":0}]
[null,null,null,null,null,null,null,null,null,null,null,null,null,null,null,null,null,null,null,null,null,"# pages total:",{"$f":"W2+W1","v":1}]
[]
[]
[]
[]
[]
[]
[]
["Bio-filtration Conveyance"]
[]
[]
[]
[]
[]
[]
[]
[]
[]
[]
["Bio-swale"]
[]
[]
[]
[]
[]
[]
[]
[]
[]
[]
[]
["Infiltration Chamber"]
[]
[]
[]
[]
[]
[]
[]
[]
[]
[]
[]
["Permeable Pavement for Detention"]
[]
[]
[]
[]
[]
[]
[]
[]
[]
["Permeable Pavement for Infiltration"]
[]
[]
[]
[]
[]
[]
[]
[]
["Sand Filter"]
[]
[]
[]
[]
[]
[]
[]
[]
[]
["* Design guidelines are outlined for various Best Management Practices (BMPs) as provided in the NCDOT BMP Toolbox (2014).  The guidelines listed are intended to provide a general overview of key design elements, but do not include all design criteria, guidelines, or recommendations and are not intended to serve as the sole source of design criteria.  The NCDOT BMP Toolbox, NCDOT Standard Details, the Federal Highway Administration (FHWA) Hydraulic Engineering Circular 14 (HEC-14) (July 2006), and any other applicable sources should be referenced for additional information. "]
["Please fill out all yellow cells as completely as possible.  Use pick lists where provided.  See top of worksheet for design guidelines.   For more information on the NCDOT Stormwater Management Plan form, please refer to the document, NCDOT Stormwater Best Management Practices Toolbox (2014).  If needed, additional pages are provided in this workbook."]
["Print area may be adjusted to include sheets as needed."]
[]
[null,null,null,null,null,null,"North Carolina Department of Transportation"]
[null,null,null,null,null,null,"Highway Stormwater Program"]
[{"$f":"'General Project Information'!$A$6","v":"(Version 3.02; Released April 23, 2024)"},null,null,null,null,null,"STORMWATER MANAGEMENT PLAN\nFOR NCDOT PROJECTS"]
["WBS Element:",null,null,null,null,{"$f":"'General Project Information'!$C$7","v":""},null,"TIP/Proj No.:",{"$f":"'General Project Information'!$E$7","v":""},"County(ies):",{"$f":"'General Project Information'!$H$7","v":"       "},null,"Page ",{"$f":"IF(A85<>\"\",MAX(W1)+1,\"\")","v":""},"of",{"$f":"'General Project Information'!$O$7","v":1}]
[null,null,null,null,null,null,"Other Non-Toolbox Best Management Practices"]
["Sheet No.","Line","Station","Location\n(LT,RT,CL)","Latitude","Longitude","Surface Water Body","BMP Type",null,"Drainage Area\n(ac)","New Built-Upon Area\n(ac)","BMP Associated w/ Buffer Rules?"]
[null,null,null,null,null,null,{"$f":"IF(AND(A85<>\"\",'Waterbody Information'!$D$10<>\"\",'Waterbody Information'!$D$21=\"\"),Picklists!$AH$4,\"\")","v":""}]
[null,null,null,null,null,null,{"$f":"IF(AND(A86<>\"\",'Waterbody Information'!$D$10<>\"\",'Waterbody Information'!$D$21=\"\"),Picklists!$AH$4,\"\")","v":""}]
[null,null,null,null,null,null,{"$f":"IF(AND(A87<>\"\",'Waterbody Information'!$D$10<>\"\",'Waterbody Information'!$D$21=\"\"),Picklists!$AH$4,\"\")","v":""}]
[null,null,null,null,null,null,{"$f":"IF(AND(A88<>\"\",'Waterbody Information'!$D$10<>\"\",'Waterbody Information'!$D$21=\"\"),Picklists!$AH$4,\"\")","v":""}]
[null,null,null,null,null,null,{"$f":"IF(AND(A89<>\"\",'Waterbody Information'!$D$10<>\"\",'Waterbody Information'!$D$21=\"\"),Picklists!$AH$4,\"\")","v":""}]
[null,null,null,null,null,null,{"$f":"IF(AND(A90<>\"\",'Waterbody Information'!$D$10<>\"\",'Waterbody Information'!$D$21=\"\"),Picklists!$AH$4,\"\")","v":""}]
[null,null,null,null,null,null,{"$f":"IF(AND(A91<>\"\",'Waterbody Information'!$D$10<>\"\",'Waterbody Information'!$D$21=\"\"),Picklists!$AH$4,\"\")","v":""}]
[null,null,null,null,null,null,{"$f":"IF(AND(A92<>\"\",'Waterbody Information'!$D$10<>\"\",'Waterbody Information'!$D$21=\"\"),Picklists!$AH$4,\"\")","v":""}]
[null,null,null,null,null,null,{"$f":"IF(AND(A93<>\"\",'Waterbody Information'!$D$10<>\"\",'Waterbody Information'!$D$21=\"\"),Picklists!$AH$4,\"\")","v":""}]
[null,null,null,null,null,null,{"$f":"IF(AND(A94<>\"\",'Waterbody Information'!$D$10<>\"\",'Waterbody Information'!$D$21=\"\"),Picklists!$AH$4,\"\")","v":""}]
[null,null,null,null,null,null,{"$f":"IF(AND(A95<>\"\",'Waterbody Information'!$D$10<>\"\",'Waterbody Information'!$D$21=\"\"),Picklists!$AH$4,\"\")","v":""}]
[null,null,null,null,null,null,{"$f":"IF(AND(A96<>\"\",'Waterbody Information'!$D$10<>\"\",'Waterbody Information'!$D$21=\"\"),Picklists!$AH$4,\"\")","v":""}]
[null,null,null,null,null,null,{"$f":"IF(AND(A97<>\"\",'Waterbody Information'!$D$10<>\"\",'Waterbody Information'!$D$21=\"\"),Picklists!$AH$4,\"\")","v":""}]
[null,null,null,null,null,null,{"$f":"IF(AND(A98<>\"\",'Waterbody Information'!$D$10<>\"\",'Waterbody Information'!$D$21=\"\"),Picklists!$AH$4,\"\")","v":""}]
[null,null,null,null,null,null,{"$f":"IF(AND(A99<>\"\",'Waterbody Information'!$D$10<>\"\",'Waterbody Information'!$D$21=\"\"),Picklists!$AH$4,\"\")","v":""}]
[null,null,null,null,null,null,{"$f":"IF(AND(A100<>\"\",'Waterbody Information'!$D$10<>\"\",'Waterbody Information'!$D$21=\"\"),Picklists!$AH$4,\"\")","v":""}]
[null,null,null,null,null,null,{"$f":"IF(AND(A101<>\"\",'Waterbody Information'!$D$10<>\"\",'Waterbody Information'!$D$21=\"\"),Picklists!$AH$4,\"\")","v":""}]
[null,null,null,null,null,null,{"$f":"IF(AND(A102<>\"\",'Waterbody Information'!$D$10<>\"\",'Waterbody Information'!$D$21=\"\"),Picklists!$AH$4,\"\")","v":""}]
[null,null,null,null,null,null,{"$f":"IF(AND(A103<>\"\",'Waterbody Information'!$D$10<>\"\",'Waterbody Information'!$D$21=\"\"),Picklists!$AH$4,\"\")","v":""}]
[null,null,null,null,null,null,{"$f":"IF(AND(A104<>\"\",'Waterbody Information'!$D$10<>\"\",'Waterbody Information'!$D$21=\"\"),Picklists!$AH$4,\"\")","v":""}]
[null,null,null,null,null,null,{"$f":"IF(AND(A105<>\"\",'Waterbody Information'!$D$10<>\"\",'Waterbody Information'!$D$21=\"\"),Picklists!$AH$4,\"\")","v":""}]
[null,null,null,null,null,null,{"$f":"IF(AND(A106<>\"\",'Waterbody Information'!$D$10<>\"\",'Waterbody Information'!$D$21=\"\"),Picklists!$AH$4,\"\")","v":""}]
[null,null,null,null,null,null,{"$f":"IF(AND(A107<>\"\",'Waterbody Information'!$D$10<>\"\",'Waterbody Information'!$D$21=\"\"),Picklists!$AH$4,\"\")","v":""}]
[null,null,null,null,null,null,{"$f":"IF(AND(A108<>\"\",'Waterbody Information'!$D$10<>\"\",'Waterbody Information'!$D$21=\"\"),Picklists!$AH$4,\"\")","v":""}]
[null,null,null,null,null,null,{"$f":"IF(AND(A109<>\"\",'Waterbody Information'!$D$10<>\"\",'Waterbody Information'!$D$21=\"\"),Picklists!$AH$4,\"\")","v":""}]
[null,null,null,null,null,null,{"$f":"IF(AND(A110<>\"\",'Waterbody Information'!$D$10<>\"\",'Waterbody Information'!$D$21=\"\"),Picklists!$AH$4,\"\")","v":""}]
[null,null,null,null,null,null,{"$f":"IF(AND(A111<>\"\",'Waterbody Information'!$D$10<>\"\",'Waterbody Information'!$D$21=\"\"),Picklists!$AH$4,\"\")","v":""}]
[null,null,null,null,null,null,{"$f":"IF(AND(A112<>\"\",'Waterbody Information'!$D$10<>\"\",'Waterbody Information'!$D$21=\"\"),Picklists!$AH$4,\"\")","v":""}]
[null,null,null,null,null,null,{"$f":"IF(AND(A113<>\"\",'Waterbody Information'!$D$10<>\"\",'Waterbody Information'!$D$21=\"\"),Picklists!$AH$4,\"\")","v":""}]
[null,null,null,null,null,null,{"$f":"IF(AND(A114<>\"\",'Waterbody Information'!$D$10<>\"\",'Waterbody Information'!$D$21=\"\"),Picklists!$AH$4,\"\")","v":""}]
[null,null,null,null,null,null,{"$f":"IF(AND(A115<>\"\",'Waterbody Information'!$D$10<>\"\",'Waterbody Information'!$D$21=\"\"),Picklists!$AH$4,\"\")","v":""}]
[null,null,null,null,null,null,{"$f":"IF(AND(A116<>\"\",'Waterbody Information'!$D$10<>\"\",'Waterbody Information'!$D$21=\"\"),Picklists!$AH$4,\"\")","v":""}]
[null,null,null,null,null,null,{"$f":"IF(AND(A117<>\"\",'Waterbody Information'!$D$10<>\"\",'Waterbody Information'!$D$21=\"\"),Picklists!$AH$4,\"\")","v":""}]
[null,null,null,null,null,null,{"$f":"IF(AND(A118<>\"\",'Waterbody Information'!$D$10<>\"\",'Waterbody Information'!$D$21=\"\"),Picklists!$AH$4,\"\")","v":""}]
[null,null,null,null,null,null,{"$f":"IF(AND(A119<>\"\",'Waterbody Information'!$D$10<>\"\",'Waterbody Information'!$D$21=\"\"),Picklists!$AH$4,\"\")","v":""}]
[null,null,null,null,null,null,{"$f":"IF(AND(A120<>\"\",'Waterbody Information'!$D$10<>\"\",'Waterbody Information'!$D$21=\"\"),Picklists!$AH$4,\"\")","v":""}]
[null,null,null,null,null,null,{"$f":"IF(AND(A121<>\"\",'Waterbody Information'!$D$10<>\"\",'Waterbody Information'!$D$21=\"\"),Picklists!$AH$4,\"\")","v":""}]
[null,null,null,null,null,null,{"$f":"IF(AND(A122<>\"\",'Waterbody Information'!$D$10<>\"\",'Waterbody Information'!$D$21=\"\"),Picklists!$AH$4,\"\")","v":""}]
[null,null,null,null,null,null,"Additional Comments"]
[]
[]
[]
[]
[]
[]
[]
[null,null,null,null,null,null,"North Carolina Department of Transportation"]
[null,null,null,null,null,null,"Highway Stormwater Program"]
[{"$f":"'General Project Information'!$A$6","v":"(Version 3.02; Released April 23, 2024)"},null,null,null,null,null,"STORMWATER MANAGEMENT PLAN\nFOR NCDOT PROJECTS"]
["WBS Element:",null,null,null,null,{"$f":"'General Project Information'!$C$7","v":""},null,"TIP No.:",{"$f":"'General Project Information'!$E$7","v":""},"County(ies):",{"$f":"'General Project Information'!$H$7","v":"       "},null,"Page ",{"$f":"IF(A137<>\"\",MAX(N82)+1,\"\")","v":""},"of",{"$f":"'General Project Information'!$O$7","v":1}]
[null,null,null,null,null,null,"Other Non-Toolbox Best Management Practices"]
["Sheet No.","Line","Station","Location\n(LT,RT,CL)","Latitude","Longitude","Surface Water Body","BMP Type",null,"Drainage Area\n(ac)","New Built-Upon Area\n(ac)","BMP Associated w/ Buffer Rules?"]
[null,null,null,null,null,null,{"$f":"IF(AND(A137<>\"\",'Waterbody Information'!$D$10<>\"\",'Waterbody Information'!$D$21=\"\"),Picklists!$AH$4,\"\")","v":""}]
[null,null,null,null,null,null,{"$f":"IF(AND(A138<>\"\",'Waterbody Information'!$D$10<>\"\",'Waterbody Information'!$D$21=\"\"),Picklists!$AH$4,\"\")","v":""}]
[null,null,null,null,null,null,{"$f":"IF(AND(A139<>\"\",'Waterbody Information'!$D$10<>\"\",'Waterbody Information'!$D$21=\"\"),Picklists!$AH$4,\"\")","v":""}]
[null,null,null,null,null,null,{"$f":"IF(AND(A140<>\"\",'Waterbody Information'!$D$10<>\"\",'Waterbody Information'!$D$21=\"\"),Picklists!$AH$4,\"\")","v":""}]
[null,null,null,null,null,null,{"$f":"IF(AND(A141<>\"\",'Waterbody Information'!$D$10<>\"\",'Waterbody Information'!$D$21=\"\"),Picklists!$AH$4,\"\")","v":""}]
[null,null,null,null,null,null,{"$f":"IF(AND(A142<>\"\",'Waterbody Information'!$D$10<>\"\",'Waterbody Information'!$D$21=\"\"),Picklists!$AH$4,\"\")","v":""}]
[null,null,null,null,null,null,{"$f":"IF(AND(A143<>\"\",'Waterbody Information'!$D$10<>\"\",'Waterbody Information'!$D$21=\"\"),Picklists!$AH$4,\"\")","v":""}]
[null,null,null,null,null,null,{"$f":"IF(AND(A144<>\"\",'Waterbody Information'!$D$10<>\"\",'Waterbody Information'!$D$21=\"\"),Picklists!$AH$4,\"\")","v":""}]
[null,null,null,null,null,null,{"$f":"IF(AND(A145<>\"\",'Waterbody Information'!$D$10<>\"\",'Waterbody Information'!$D$21=\"\"),Picklists!$AH$4,\"\")","v":""}]
[null,null,null,null,null,null,{"$f":"IF(AND(A146<>\"\",'Waterbody Information'!$D$10<>\"\",'Waterbody Information'!$D$21=\"\"),Picklists!$AH$4,\"\")","v":""}]
[null,null,null,null,null,null,{"$f":"IF(AND(A147<>\"\",'Waterbody Information'!$D$10<>\"\",'Waterbody Information'!$D$21=\"\"),Picklists!$AH$4,\"\")","v":""}]
[null,null,null,null,null,null,{"$f":"IF(AND(A148<>\"\",'Waterbody Information'!$D$10<>\"\",'Waterbody Information'!$D$21=\"\"),Picklists!$AH$4,\"\")","v":""}]
[null,null,null,null,null,null,{"$f":"IF(AND(A149<>\"\",'Waterbody Information'!$D$10<>\"\",'Waterbody Information'!$D$21=\"\"),Picklists!$AH$4,\"\")","v":""}]
[null,null,null,null,null,null,{"$f":"IF(AND(A150<>\"\",'Waterbody Information'!$D$10<>\"\",'Waterbody Information'!$D$21=\"\"),Picklists!$AH$4,\"\")","v":""}]
[null,null,null,null,null,null,{"$f":"IF(AND(A151<>\"\",'Waterbody Information'!$D$10<>\"\",'Waterbody Information'!$D$21=\"\"),Picklists!$AH$4,\"\")","v":""}]
[null,null,null,null,null,null,{"$f":"IF(AND(A152<>\"\",'Waterbody Information'!$D$10<>\"\",'Waterbody Information'!$D$21=\"\"),Picklists!$AH$4,\"\")","v":""}]
[null,null,null,null,null,null,{"$f":"IF(AND(A153<>\"\",'Waterbody Information'!$D$10<>\"\",'Waterbody Information'!$D$21=\"\"),Picklists!$AH$4,\"\")","v":""}]
[null,null,null,null,null,null,{"$f":"IF(AND(A154<>\"\",'Waterbody Information'!$D$10<>\"\",'Waterbody Information'!$D$21=\"\"),Picklists!$AH$4,\"\")","v":""}]
[null,null,null,null,null,null,{"$f":"IF(AND(A155<>\"\",'Waterbody Information'!$D$10<>\"\",'Waterbody Information'!$D$21=\"\"),Picklists!$AH$4,\"\")","v":""}]
[null,null,null,null,null,null,{"$f":"IF(AND(A156<>\"\",'Waterbody Information'!$D$10<>\"\",'Waterbody Information'!$D$21=\"\"),Picklists!$AH$4,\"\")","v":""}]
[null,null,null,null,null,null,{"$f":"IF(AND(A157<>\"\",'Waterbody Information'!$D$10<>\"\",'Waterbody Information'!$D$21=\"\"),Picklists!$AH$4,\"\")","v":""}]
[null,null,null,null,null,null,{"$f":"IF(AND(A158<>\"\",'Waterbody Information'!$D$10<>\"\",'Waterbody Information'!$D$21=\"\"),Picklists!$AH$4,\"\")","v":""}]
[null,null,null,null,null,null,{"$f":"IF(AND(A159<>\"\",'Waterbody Information'!$D$10<>\"\",'Waterbody Information'!$D$21=\"\"),Picklists!$AH$4,\"\")","v":""}]
[null,null,null,null,null,null,{"$f":"IF(AND(A160<>\"\",'Waterbody Information'!$D$10<>\"\",'Waterbody Information'!$D$21=\"\"),Picklists!$AH$4,\"\")","v":""}]
[null,null,null,null,null,null,{"$f":"IF(AND(A161<>\"\",'Waterbody Information'!$D$10<>\"\",'Waterbody Information'!$D$21=\"\"),Picklists!$AH$4,\"\")","v":""}]
[null,null,null,null,null,null,{"$f":"IF(AND(A162<>\"\",'Waterbody Information'!$D$10<>\"\",'Waterbody Information'!$D$21=\"\"),Picklists!$AH$4,\"\")","v":""}]
[null,null,null,null,null,null,{"$f":"IF(AND(A163<>\"\",'Waterbody Information'!$D$10<>\"\",'Waterbody Information'!$D$21=\"\"),Picklists!$AH$4,\"\")","v":""}]
[null,null,null,null,null,null,{"$f":"IF(AND(A164<>\"\",'Waterbody Information'!$D$10<>\"\",'Waterbody Information'!$D$21=\"\"),Picklists!$AH$4,\"\")","v":""}]
[null,null,null,null,null,null,{"$f":"IF(AND(A165<>\"\",'Waterbody Information'!$D$10<>\"\",'Waterbody Information'!$D$21=\"\"),Picklists!$AH$4,\"\")","v":""}]
[null,null,null,null,null,null,{"$f":"IF(AND(A166<>\"\",'Waterbody Information'!$D$10<>\"\",'Waterbody Information'!$D$21=\"\"),Picklists!$AH$4,\"\")","v":""}]
[null,null,null,null,null,null,{"$f":"IF(AND(A167<>\"\",'Waterbody Information'!$D$10<>\"\",'Waterbody Information'!$D$21=\"\"),Picklists!$AH$4,\"\")","v":""}]
[null,null,null,null,null,null,{"$f":"IF(AND(A168<>\"\",'Waterbody Information'!$D$10<>\"\",'Waterbody Information'!$D$21=\"\"),Picklists!$AH$4,\"\")","v":""}]
[null,null,null,null,null,null,{"$f":"IF(AND(A169<>\"\",'Waterbody Information'!$D$10<>\"\",'Waterbody Information'!$D$21=\"\"),Picklists!$AH$4,\"\")","v":""}]
[null,null,null,null,null,null,{"$f":"IF(AND(A170<>\"\",'Waterbody Information'!$D$10<>\"\",'Waterbody Information'!$D$21=\"\"),Picklists!$AH$4,\"\")","v":""}]
[null,null,null,null,null,null,{"$f":"IF(AND(A171<>\"\",'Waterbody Information'!$D$10<>\"\",'Waterbody Information'!$D$21=\"\"),Picklists!$AH$4,\"\")","v":""}]
[null,null,null,null,null,null,{"$f":"IF(AND(A172<>\"\",'Waterbody Information'!$D$10<>\"\",'Waterbody Information'!$D$21=\"\"),Picklists!$AH$4,\"\")","v":""}]
[null,null,null,null,null,null,{"$f":"IF(AND(A173<>\"\",'Waterbody Information'!$D$10<>\"\",'Waterbody Information'!$D$21=\"\"),Picklists!$AH$4,\"\")","v":""}]
[null,null,null,null,null,null,{"$f":"IF(AND(A174<>\"\",'Waterbody Information'!$D$10<>\"\",'Waterbody Information'!$D$21=\"\"),Picklists!$AH$4,\"\")","v":""}]
[null,null,null,null,null,null,"Additional Comments"]
[]
[]
[]
[]
[]
[]
[]
[null,null,null,null,null,null,"North Carolina Department of Transportation"]
[null,null,null,null,null,null,"Highway Stormwater Program"]
[{"$f":"'General Project Information'!$A$6","v":"(Version 3.02; Released April 23, 2024)"},null,null,null,null,null,"STORMWATER MANAGEMENT PLAN\nFOR NCDOT PROJECTS"]
["WBS Element:",null,null,null,null,{"$f":"'General Project Information'!$C$7","v":""},null,"TIP No.:",{"$f":"'General Project Information'!$E$7","v":""},"County(ies):",{"$f":"'General Project Information'!$H$7","v":"       "},null,"Page ",{"$f":"IF(A189<>\"\",MAX(N134)+1,\"\")","v":""},"of",{"$f":"'General Project Information'!$O$7","v":1}]
[null,null,null,null,null,null,"Other Non-Toolbox Best Management Practices"]
["Sheet No.","Line","Station","Location\n(LT,RT,CL)","Latitude","Longitude","Surface Water Body","BMP Type",null,"Drainage Area\n(ac)","New Built-Upon Area\n(ac)","BMP Associated w/ Buffer Rules?"]
[null,null,null,null,null,null,{"$f":"IF(AND(A189<>\"\",'Waterbody Information'!$D$10<>\"\",'Waterbody Information'!$D$21=\"\"),Picklists!$AH$4,\"\")","v":""}]
[null,null,null,null,null,null,{"$f":"IF(AND(A190<>\"\",'Waterbody Information'!$D$10<>\"\",'Waterbody Information'!$D$21=\"\"),Picklists!$AH$4,\"\")","v":""}]
[null,null,null,null,null,null,{"$f":"IF(AND(A191<>\"\",'Waterbody Information'!$D$10<>\"\",'Waterbody Information'!$D$21=\"\"),Picklists!$AH$4,\"\")","v":""}]
[null,null,null,null,null,null,{"$f":"IF(AND(A192<>\"\",'Waterbody Information'!$D$10<>\"\",'Waterbody Information'!$D$21=\"\"),Picklists!$AH$4,\"\")","v":""}]
[null,null,null,null,null,null,{"$f":"IF(AND(A193<>\"\",'Waterbody Information'!$D$10<>\"\",'Waterbody Information'!$D$21=\"\"),Picklists!$AH$4,\"\")","v":""}]
[null,null,null,null,null,null,{"$f":"IF(AND(A194<>\"\",'Waterbody Information'!$D$10<>\"\",'Waterbody Information'!$D$21=\"\"),Picklists!$AH$4,\"\")","v":""}]
[null,null,null,null,null,null,{"$f":"IF(AND(A195<>\"\",'Waterbody Information'!$D$10<>\"\",'Waterbody Information'!$D$21=\"\"),Picklists!$AH$4,\"\")","v":""}]
[null,null,null,null,null,null,{"$f":"IF(AND(A196<>\"\",'Waterbody Information'!$D$10<>\"\",'Waterbody Information'!$D$21=\"\"),Picklists!$AH$4,\"\")","v":""}]
[null,null,null,null,null,null,{"$f":"IF(AND(A197<>\"\",'Waterbody Information'!$D$10<>\"\",'Waterbody Information'!$D$21=\"\"),Picklists!$AH$4,\"\")","v":""}]
[null,null,null,null,null,null,{"$f":"IF(AND(A198<>\"\",'Waterbody Information'!$D$10<>\"\",'Waterbody Information'!$D$21=\"\"),Picklists!$AH$4,\"\")","v":""}]
[null,null,null,null,null,null,{"$f":"IF(AND(A199<>\"\",'Waterbody Information'!$D$10<>\"\",'Waterbody Information'!$D$21=\"\"),Picklists!$AH$4,\"\")","v":""}]
[null,null,null,null,null,null,{"$f":"IF(AND(A200<>\"\",'Waterbody Information'!$D$10<>\"\",'Waterbody Information'!$D$21=\"\"),Picklists!$AH$4,\"\")","v":""}]
[null,null,null,null,null,null,{"$f":"IF(AND(A201<>\"\",'Waterbody Information'!$D$10<>\"\",'Waterbody Information'!$D$21=\"\"),Picklists!$AH$4,\"\")","v":""}]
[null,null,null,null,null,null,{"$f":"IF(AND(A202<>\"\",'Waterbody Information'!$D$10<>\"\",'Waterbody Information'!$D$21=\"\"),Picklists!$AH$4,\"\")","v":""}]
[null,null,null,null,null,null,{"$f":"IF(AND(A203<>\"\",'Waterbody Information'!$D$10<>\"\",'Waterbody Information'!$D$21=\"\"),Picklists!$AH$4,\"\")","v":""}]
[null,null,null,null,null,null,{"$f":"IF(AND(A204<>\"\",'Waterbody Information'!$D$10<>\"\",'Waterbody Information'!$D$21=\"\"),Picklists!$AH$4,\"\")","v":""}]
[null,null,null,null,null,null,{"$f":"IF(AND(A205<>\"\",'Waterbody Information'!$D$10<>\"\",'Waterbody Information'!$D$21=\"\"),Picklists!$AH$4,\"\")","v":""}]
[null,null,null,null,null,null,{"$f":"IF(AND(A206<>\"\",'Waterbody Information'!$D$10<>\"\",'Waterbody Information'!$D$21=\"\"),Picklists!$AH$4,\"\")","v":""}]
[null,null,null,null,null,null,{"$f":"IF(AND(A207<>\"\",'Waterbody Information'!$D$10<>\"\",'Waterbody Information'!$D$21=\"\"),Picklists!$AH$4,\"\")","v":""}]
[null,null,null,null,null,null,{"$f":"IF(AND(A208<>\"\",'Waterbody Information'!$D$10<>\"\",'Waterbody Information'!$D$21=\"\"),Picklists!$AH$4,\"\")","v":""}]
[null,null,null,null,null,null,{"$f":"IF(AND(A209<>\"\",'Waterbody Information'!$D$10<>\"\",'Waterbody Information'!$D$21=\"\"),Picklists!$AH$4,\"\")","v":""}]
[null,null,null,null,null,null,{"$f":"IF(AND(A210<>\"\",'Waterbody Information'!$D$10<>\"\",'Waterbody Information'!$D$21=\"\"),Picklists!$AH$4,\"\")","v":""}]
[null,null,null,null,null,null,{"$f":"IF(AND(A211<>\"\",'Waterbody Information'!$D$10<>\"\",'Waterbody Information'!$D$21=\"\"),Picklists!$AH$4,\"\")","v":""}]
[null,null,null,null,null,null,{"$f":"IF(AND(A212<>\"\",'Waterbody Information'!$D$10<>\"\",'Waterbody Information'!$D$21=\"\"),Picklists!$AH$4,\"\")","v":""}]
[null,null,null,null,null,null,{"$f":"IF(AND(A213<>\"\",'Waterbody Information'!$D$10<>\"\",'Waterbody Information'!$D$21=\"\"),Picklists!$AH$4,\"\")","v":""}]
[null,null,null,null,null,null,{"$f":"IF(AND(A214<>\"\",'Waterbody Information'!$D$10<>\"\",'Waterbody Information'!$D$21=\"\"),Picklists!$AH$4,\"\")","v":""}]
[null,null,null,null,null,null,{"$f":"IF(AND(A215<>\"\",'Waterbody Information'!$D$10<>\"\",'Waterbody Information'!$D$21=\"\"),Picklists!$AH$4,\"\")","v":""}]
[null,null,null,null,null,null,{"$f":"IF(AND(A216<>\"\",'Waterbody Information'!$D$10<>\"\",'Waterbody Information'!$D$21=\"\"),Picklists!$AH$4,\"\")","v":""}]
[null,null,null,null,null,null,{"$f":"IF(AND(A217<>\"\",'Waterbody Information'!$D$10<>\"\",'Waterbody Information'!$D$21=\"\"),Picklists!$AH$4,\"\")","v":""}]
[null,null,null,null,null,null,{"$f":"IF(AND(A218<>\"\",'Waterbody Information'!$D$10<>\"\",'Waterbody Information'!$D$21=\"\"),Picklists!$AH$4,\"\")","v":""}]
[null,null,null,null,null,null,{"$f":"IF(AND(A219<>\"\",'Waterbody Information'!$D$10<>\"\",'Waterbody Information'!$D$21=\"\"),Picklists!$AH$4,\"\")","v":""}]
[null,null,null,null,null,null,{"$f":"IF(AND(A220<>\"\",'Waterbody Information'!$D$10<>\"\",'Waterbody Information'!$D$21=\"\"),Picklists!$AH$4,\"\")","v":""}]
[null,null,null,null,null,null,{"$f":"IF(AND(A221<>\"\",'Waterbody Information'!$D$10<>\"\",'Waterbody Information'!$D$21=\"\"),Picklists!$AH$4,\"\")","v":""}]
[null,null,null,null,null,null,{"$f":"IF(AND(A222<>\"\",'Waterbody Information'!$D$10<>\"\",'Waterbody Information'!$D$21=\"\"),Picklists!$AH$4,\"\")","v":""}]
[null,null,null,null,null,null,{"$f":"IF(AND(A223<>\"\",'Waterbody Information'!$D$10<>\"\",'Waterbody Information'!$D$21=\"\"),Picklists!$AH$4,\"\")","v":""}]
[null,null,null,null,null,null,{"$f":"IF(AND(A224<>\"\",'Waterbody Information'!$D$10<>\"\",'Waterbody Information'!$D$21=\"\"),Picklists!$AH$4,\"\")","v":""}]
[null,null,null,null,null,null,{"$f":"IF(AND(A225<>\"\",'Waterbody Information'!$D$10<>\"\",'Waterbody Information'!$D$21=\"\"),Picklists!$AH$4,\"\")","v":""}]
[null,null,null,null,null,null,{"$f":"IF(AND(A226<>\"\",'Waterbody Information'!$D$10<>\"\",'Waterbody Information'!$D$21=\"\"),Picklists!$AH$4,\"\")","v":""}]
[null,null,null,null,null,null,"Additional Comments"]

{"sheet":"Bridge to Culvert","index":10,"n_rows":47,"n_cols":27,"rows_kept":47,"cut":false,"hidden":false,"merged":[[5,0,5,11],[0,0,0,11],[1,3,1,7],[2,3,2,7],[3,3,3,7],[4,0,4,1],[6,0,6,11],[7,0,7,1],[8,0,8,2],[8,3,8,4],[7,6,7,7],[7,8,7,11],[8,6,8,7],[8,8,8,11],[9,0,9,2],[9,3,9,5],[10,8,10,11],[10,0,10,2],[10,3,10,5],[9,8,9,11],[11,0,11,2],[11,3,11,11],[12,0,12,5],[12,6,12,11],[13,0,13,2],[13,3,13,4],[13,6,16,7],[13,8,16,11],[14,0,14,2],[14,3,14,4],[15,0,15,5],[16,0,16,2],[16,3,16,5],[17,0,18,2],[17,3,18,5],[34,0,35,2],[34,3,35,3],[34,4,35,11],[17,8,19,11],[19,0,27,2],[19,3,27,5],[20,6,21,7],[20,8,21,11],[22,6,23,7],[22,8,23,11],[24,6,27,7],[24,8,27,11],[17,6,19,7],[28,0,28,11],[29,0,31,2],[29,3,31,11],[32,0,33,2],[32,3,33,11],[36,0,37,2],[36,3,37,3],[36,4,37,11],[38,0,39,2],[38,3,39,3],[38,4,39,11],[40,0,41,2],[40,3,41,11],[43,0,43,3],[43,4,43,5],[42,0,42,11],[46,0,46,11],[47,0,51,11],[44,0,44,3],[44,4,44,5],[43,6,43,9],[43,10,43,11],[44,6,44,9],[44,10,44,11],[45,0,45,11]]}
["Please fill out all yellow cells as completely as possible.  Use pick lists where provided.  For more information on the NCDOT Stormwater Management Plan form, please refer to the document, NCDOT Stormwater Best Management Practices Toolbox (2014).",null,null,null,null,null,null,null,null,null,null,null,null,null,null,null,null,null,null,null,null,null,null,null,null,"# pages previous sheets:",{"$f":"'Other Non-Toolbox BMPs'!W3","v":1}]
[null,null,null,"North Carolina Department of Transportation",null,null,null,null,null,null,null,null,null,null,null,null,null,null,null,null,null,null,null,null,null,"# pages this sheet:",{"$f":"COUNT(J5)","v":0}]
[null,null,null,"Highway Stormwater Program",null,null,null,null,null,null,null,null,null,null,null,null,null,null,null,null,null,null,null,null,null,"# pages total:",{"$f":"AA2+AA1","v":1}]
[{"$f":"'General Project Information'!$A$6","v":"(Version 3.02; Released April 23, 2024)"},null,null,"STORMWATER MANAGEMENT PLAN\nFOR NCDOT PROJECTS"]
["WBS Element:",null,{"$f":"'General Project Information'!$C$7","v":""},"TIP/Proj No.:",{"$f":"'General Project Information'!$E$7","v":""},"County(ies):",{"$f":"'General Project Information'!$H$7","v":"       "},null,"Page ",{"$f":"IF(D8<>\"\",MAX(AA1)+1,\"\")","v":""},"of ",{"$f":"'General Project Information'!$O$7","v":1}]
["Bridge to Culvert Avoidance and Minimization"]
["Proposed Structure Summary"]
["Sheet No. & Station",null,"Sheet No.:",null,"Station:",null,"Number of Barrels:"]
["Drainage Area (ac or sq mi):",null,null,null,null,null,"Barrel Width/Diameter (ft):"]
["Surface Water Body:",null,null,"",null,null,"Barrel Height (ft):"]
["Culvert Type:",null,null,null,null,null,"Culvert Length (ft)"]
["Avoidance and Minimization Efforts:\n(Bridge to Culvert)"]
["Stream Slope",null,null,null,null,null,"Fish and/or Aquatic Life Passage"]
["Existing Average Stream Slope (%):",null,null,null,null,"%","Existing Low Flow Channel Dimensions in the Stream:"]
["Proposed Culvert Slope (%):",null,null,null,null,"%"]
["Culvert Burial"]
["Proposed Culvert Burial Depth (ft):"]
["Existing Streambed Material:",null,null,null,null,null,"Proposed Low Flow Dimensions Through the Culvert:"]
[]
["Proposed Sills/Baffles:"]
[null,null,null,null,null,null,"Existing Low Flow Velocities in the Stream (ft/s):"]
[]
[null,null,null,null,null,null,"Proposed Low Flow Velocities Through the Culvert (ft/s):"]
[]
[null,null,null,null,null,null,"Alternating Low Flow Sills/Baffles:"]
[]
[]
[]
["Culvert/Stream Alignment"]
["Stream Patterns Upstream and Downstream of the Culvert that Could Affect Fish Passage and Bank Stability:"]
[]
[]
["Bed Forms Impacted by Culvert (riffles, pools, glides, etc.):"]
[]
["Low Flow Floodplain Bench Required? (provide justification)"]
[]
["Bends at Inlet/Outlet?\n(describe culvert alignment with stream)"]
[]
["Stream Realignment Necessary? (provide justification)"]
[]
["Bank Stabilization:"]
[]
["Outlet Velocities"]
["Natural Stream Channel 2-yr Velocity (ft/s):",null,null,null,null,null,"Natural Stream Channel 10-yr Velocity (ft/s):"]
["Proposed Culvert 2-yr Outlet Velocity (ft/s):",null,null,null,null,null,"Proposed Culvert 10-yr Outlet Velocity (ft/s):"]
["Roadway Geometric Considerations"]
["Evaluate/Describe Roadway Geometric Constraints:"]

{"sheet":"Summary List","index":11,"n_rows":768,"n_cols":19,"rows_kept":768,"cut":false,"hidden":true,"merged":[]}
[{"$f":"IF(Swales!A23<>\"\",Swales!A23,\"\")","v":""},{"$f":"IF(A1<>\"\",Swales!$I$21,\"\")","v":""},{"$f":"IF(Swales!B23<>\"\",Swales!B23,\"\")","v":""},{"$f":"IF(Swales!C23<>\"\",Swales!C23,\"\")","v":""},{"$f":"IF(Swales!D23<>\"\",Swales!D23,\"\")","v":""},{"$f":"IF(Swales!E23<>\"\",Swales!E23,\"\")","v":""},{"$f":"IF(Swales!F23<>\"\",Swales!F23,\"\")","v":""},null,null,null,null,null,{"$f":"_xlfn._xlws.SORT(A1:G768,{1,3,4},{1,1,1},FALSE)","v":""},"","","","","",""]
[{"$f":"IF(Swales!A24<>\"\",Swales!A24,\"\")","v":""},{"$f":"IF(A2<>\"\",Swales!$I$21,\"\")","v":""},{"$f":"IF(Swales!B24<>\"\",Swales!B24,\"\")","v":""},{"$f":"IF(Swales!C24<>\"\",Swales!C24,\"\")","v":""},{"$f":"IF(Swales!D24<>\"\",Swales!D24,\"\")","v":""},{"$f":"IF(Swales!E24<>\"\",Swales!E24,\"\")","v":""},{"$f":"IF(Swales!F24<>\"\",Swales!F24,\"\")","v":""},null,null,"Swales",null,null,"","","","","","",""]
[{"$f":"IF(Swales!A25<>\"\",Swales!A25,\"\")","v":""},{"$f":"IF(A3<>\"\",Swales!$I$21,\"\")","v":""},{"$f":"IF(Swales!B25<>\"\",Swales!B25,\"\")","v":""},{"$f":"IF(Swales!C25<>\"\",Swales!C25,\"\")","v":""},{"$f":"IF(Swales!D25<>\"\",Swales!D25,\"\")","v":""},{"$f":"IF(Swales!E25<>\"\",Swales!E25,\"\")","v":""},{"$f":"IF(Swales!F25<>\"\",Swales!F25,\"\")","v":""},null,null,"Filter Strips",null,null,"","","","","","",""]
[{"$f":"IF(Swales!A26<>\"\",Swales!A26,\"\")","v":""},{"$f":"IF(A4<>\"\",Swales!$I$21,\"\")","v":""},{"$f":"IF(Swales!B26<>\"\",Swales!B26,\"\")","v":""},{"$f":"IF(Swales!C26<>\"\",Swales!C26,\"\")","v":""},{"$f":"IF(Swales!D26<>\"\",Swales!D26,\"\")","v":""},{"$f":"IF(Swales!E26<>\"\",Swales!E26,\"\")","v":""},{"$f":"IF(Swales!F26<>\"\",Swales!F26,\"\")","v":""},null,null,"PSHs & Energy Dissipators",null,null,"","","","","","",""]
[{"$f":"IF(Swales!A27<>\"\",Swales!A27,\"\")","v":""},{"$f":"IF(A5<>\"\",Swales!$I$21,\"\")","v":""},{"$f":"IF(Swales!B27<>\"\",Swales!B27,\"\")","v":""},{"$f":"IF(Swales!C27<>\"\",Swales!C27,\"\")","v":""},{"$f":"IF(Swales!D27<>\"\",Swales!D27,\"\")","v":""},{"$f":"IF(Swales!E27<>\"\",Swales!E27,\"\")","v":""},{"$f":"IF(Swales!F27<>\"\",Swales!F27,\"\")","v":""},null,null,"Level Spreader & HSB",null,null,"","","","","","",""]
[{"$f":"IF(Swales!A28<>\"\",Swales!A28,\"\")","v":""},{"$f":"IF(A6<>\"\",Swales!$I$21,\"\")","v":""},{"$f":"IF(Swales!B28<>\"\",Swales!B28,\"\")","v":""},{"$f":"IF(Swales!C28<>\"\",Swales!C28,\"\")","v":""},{"$f":"IF(Swales!D28<>\"\",Swales!D28,\"\")","v":""},{"$f":"IF(Swales!E28<>\"\",Swales!E28,\"\")","v":""},{"$f":"IF(Swales!F28<>\"\",Swales!F28,\"\")","v":""},null,null,"Other Toolbox BMPs",null,null,"","","","","","",""]
[{"$f":"IF(Swales!A29<>\"\",Swales!A29,\"\")","v":""},{"$f":"IF(A7<>\"\",Swales!$I$21,\"\")","v":""},{"$f":"IF(Swales!B29<>\"\",Swales!B29,\"\")","v":""},{"$f":"IF(Swales!C29<>\"\",Swales!C29,\"\")","v":""},{"$f":"IF(Swales!D29<>\"\",Swales!D29,\"\")","v":""},{"$f":"IF(Swales!E29<>\"\",Swales!E29,\"\")","v":""},{"$f":"IF(Swales!F29<>\"\",Swales!F29,\"\")","v":""},null,null,"Other Non-Toolbox BMPs",null,null,"","","","","","",""]
[{"$f":"IF(Swales!A30<>\"\",Swales!A30,\"\")","v":""},{"$f":"IF(A8<>\"\",Swales!$I$21,\"\")","v":""},{"$f":"IF(Swales!B30<>\"\",Swales!B30,\"\")","v":""},{"$f":"IF(Swales!C30<>\"\",Swales!C30,\"\")","v":""},{"$f":"IF(Swales!D30<>\"\",Swales!D30,\"\")","v":""},{"$f":"IF(Swales!E30<>\"\",Swales!E30,\"\")","v":""},{"$f":"IF(Swales!F30<>\"\",Swales!F30,\"\")","v":""},null,null,null,null,null,"","","","","","",""]
[{"$f":"IF(Swales!A31<>\"\",Swales!A31,\"\")","v":""},{"$f":"IF(A9<>\"\",Swales!$I$21,\"\")","v":""},{"$f":"IF(Swales!B31<>\"\",Swales!B31,\"\")","v":""},{"$f":"IF(Swales!C31<>\"\",Swales!C31,\"\")","v":""},{"$f":"IF(Swales!D31<>\"\",Swales!D31,\"\")","v":""},{"$f":"IF(Swales!E31<>\"\",Swales!E31,\"\")","v":""},{"$f":"IF(Swales!F31<>\"\",Swales!F31,\"\")","v":""},null,null,null,null,null,"","","","","","",""]
[{"$f":"IF(Swales!A32<>\"\",Swales!A32,\"\")","v":""},{"$f":"IF(A10<>\"\",Swales!$I$21,\"\")","v":""},{"$f":"IF(Swales!B32<>\"\",Swales!B32,\"\")","v":""},{"$f":"IF(Swales!C32<>\"\",Swales!C32,\"\")","v":""},{"$f":"IF(Swales!D32<>\"\",Swales!D32,\"\")","v":""},{"$f":"IF(Swales!E32<>\"\",Swales!E32,\"\")","v":""},{"$f":"IF(Swales!F32<>\"\",Swales!F32,\"\")","v":""},null,null,null,null,null,"","","","","","",""]
[{"$f":"IF(Swales!A33<>\"\",Swales!A33,\"\")","v":""},{"$f":"IF(A11<>\"\",Swales!$I$21,\"\")","v":""},{"$f":"IF(Swales!B33<>\"\",Swales!B33,\"\")","v":""},{"$f":"IF(Swales!C33<>\"\",Swales!C33,\"\")","v":""},{"$f":"IF(Swales!D33<>\"\",Swales!D33,\"\")","v":""},{"$f":"IF(Swales!E33<>\"\",Swales!E33,\"\")","v":""},{"$f":"IF(Swales!F33<>\"\",Swales!F33,\"\")","v":""},null,null,null,null,null,"","","","","","",""]
[{"$f":"IF(Swales!A34<>\"\",Swales!A34,\"\")","v":""},{"$f":"IF(A12<>\"\",Swales!$I$21,\"\")","v":""},{"$f":"IF(Swales!B34<>\"\",Swales!B34,\"\")","v":""},{"$f":"IF(Swales!C34<>\"\",Swales!C34,\"\")","v":""},{"$f":"IF(Swales!D34<>\"\",Swales!D34,\"\")","v":""},{"$f":"IF(Swales!E34<>\"\",Swales!E34,\"\")","v":""},{"$f":"IF(Swales!F34<>\"\",Swales!F34,\"\")","v":""},null,null,null,null,null,"","","","","","",""]
[{"$f":"IF(Swales!A35<>\"\",Swales!A35,\"\")","v":""},{"$f":"IF(A13<>\"\",Swales!$I$21,\"\")","v":""},{"$f":"IF(Swales!B35<>\"\",Swales!B35,\"\")","v":""},{"$f":"IF(Swales!C35<>\"\",Swales!C35,\"\")","v":""},{"$f":"IF(Swales!D35<>\"\",Swales!D35,\"\")","v":""},{"$f":"IF(Swales!E35<>\"\",Swales!E35,\"\")","v":""},{"$f":"IF(Swales!F35<>\"\",Swales!F35,\"\")","v":""},null,null,null,null,null,"","","","","","",""]
[{"$f":"IF(Swales!A36<>\"\",Swales!A36,\"\")","v":""},{"$f":"IF(A14<>\"\",Swales!$I$21,\"\")","v":""},{"$f":"IF(Swales!B36<>\"\",Swales!B36,\"\")","v":""},{"$f":"IF(Swales!C36<>\"\",Swales!C36,\"\")","v":""},{"$f":"IF(Swales!D36<>\"\",Swales!D36,\"\")","v":""},{"$f":"IF(Swales!E36<>\"\",Swales!E36,\"\")","v":""},{"$f":"IF(Swales!F36<>\"\",Swales!F36,\"\")","v":""},null,null,null,null,null,"","","","","","",""]
[{"$f":"IF(Swales!A37<>\"\",Swales!A37,\"\")","v":""},{"$f":"IF(A15<>\"\",Swales!$I$21,\"\")","v":""},{"$f":"IF(Swales!B37<>\"\",Swales!B37,\"\")","v":""},{"$f":"IF(Swales!C37<>\"\",Swales!C37,\"\")","v":""},{"$f":"IF(Swales!D37<>\"\",Swales!D37,\"\")","v":""},{"$f":"IF(Swales!E37<>\"\",Swales!E37,\"\")","v":""},{"$f":"IF(Swales!F37<>\"\",Swales!F37,\"\")","v":""},null,null,null,null,null,"","","","","","",""]
[{"$f":"IF(Swales!A38<>\"\",Swales!A38,\"\")","v":""},{"$f":"IF(A16<>\"\",Swales!$I$21,\"\")","v":""},{"$f":"IF(Swales!B38<>\"\",Swales!B38,\"\")","v":""},{"$f":"IF(Swales!C38<>\"\",Swales!C38,\"\")","v":""},{"$f":"IF(Swales!D38<>\"\",Swales!D38,\"\")","v":""},{"$f":"IF(Swales!E38<>\"\",Swales!E38,\"\")","v":""},{"$f":"IF(Swales!F38<>\"\",Swales!F38,\"\")","v":""},null,null,null,null,null,"","","","","","",""]
[{"$f":"IF(Swales!A39<>\"\",Swales!A39,\"\")","v":""},{"$f":"IF(A17<>\"\",Swales!$I$21,\"\")","v":""},{"$f":"IF(Swales!B39<>\"\",Swales!B39,\"\")","v":""},{"$f":"IF(Swales!C39<>\"\",Swales!C39,\"\")","v":""},{"$f":"IF(Swales!D39<>\"\",Swales!D39,\"\")","v":""},{"$f":"IF(Swales!E39<>\"\",Swales!E39,\"\")","v":""},{"$f":"IF(Swales!F39<>\"\",Swales!F39,\"\")","v":""},null,null,null,null,null,"","","","","","",""]
[{"$f":"IF(Swales!A40<>\"\",Swales!A40,\"\")","v":""},{"$f":"IF(A18<>\"\",Swales!$I$21,\"\")","v":""},{"$f":"IF(Swales!B40<>\"\",Swales!B40,\"\")","v":""},{"$f":"IF(Swales!C40<>\"\",Swales!C40,\"\")","v":""},{"$f":"IF(Swales!D40<>\"\",Swales!D40,\"\")","v":""},{"$f":"IF(Swales!E40<>\"\",Swales!E40,\"\")","v":""},{"$f":"IF(Swales!F40<>\"\",Swales!F40,\"\")","v":""},null,null,null,null,null,"","","","","","",""]
[{"$f":"IF(Swales!A41<>\"\",Swales!A41,\"\")","v":""},{"$f":"IF(A19<>\"\",Swales!$I$21,\"\")","v":""},{"$f":"IF(Swales!B41<>\"\",Swales!B41,\"\")","v":""},{"$f":"IF(Swales!C41<>\"\",Swales!C41,\"\")","v":""},{"$f":"IF(Swales!D41<>\"\",Swales!D41,\"\")","v":""},{"$f":"IF(Swales!E41<>\"\",Swales!E41,\"\")","v":""},{"$f":"IF(Swales!F41<>\"\",Swales!F41,\"\")","v":""},null,null,null,null,null,"","","","","","",""]
[{"$f":"IF(Swales!A42<>\"\",Swales!A42,\"\")","v":""},{"$f":"IF(A20<>\"\",Swales!$I$21,\"\")","v":""},{"$f":"IF(Swales!B42<>\"\",Swales!B42,\"\")","v":""},{"$f":"IF(Swales!C42<>\"\",Swales!C42,\"\")","v":""},{"$f":"IF(Swales!D42<>\"\",Swales!D42,\"\")","v":""},{"$f":"IF(Swales!E42<>\"\",Swales!E42,\"\")","v":""},{"$f":"IF(Swales!F42<>\"\",Swales!F42,\"\")","v":""},null,null,null,null,null,"","","","","","",""]
[{"$f":"IF(Swales!A43<>\"\",Swales!A43,\"\")","v":""},{"$f":"IF(A21<>\"\",Swales!$I$21,\"\")","v":""},{"$f":"IF(Swales!B43<>\"\",Swales!B43,\"\")","v":""},{"$f":"IF(Swales!C43<>\"\",Swales!C43,\"\")","v":""},{"$f":"IF(Swales!D43<>\"\",Swales!D43,\"\")","v":""},{"$f":"IF(Swales!E43<>\"\",Swales!E43,\"\")","v":""},{"$f":"IF(Swales!F43<>\"\",Swales!F43,\"\")","v":""},null,null,null,null,null,"","","","","","",""]
[{"$f":"IF(Swales!A44<>\"\",Swales!A44,\"\")","v":""},{"$f":"IF(A22<>\"\",Swales!$I$21,\"\")","v":""},{"$f":"IF(Swales!B44<>\"\",Swales!B44,\"\")","v":""},{"$f":"IF(Swales!C44<>\"\",Swales!C44,\"\")","v":""},{"$f":"IF(Swales!D44<>\"\",Swales!D44,\"\")","v":""},{"$f":"IF(Swales!E44<>\"\",Swales!E44,\"\")","v":""},{"$f":"IF(Swales!F44<>\"\",Swales!F44,\"\")","v":""},null,null,null,null,null,"","","","","","",""]
[{"$f":"IF(Swales!A45<>\"\",Swales!A45,\"\")","v":""},{"$f":"IF(A23<>\"\",Swales!$I$21,\"\")","v":""},{"$f":"IF(Swales!B45<>\"\",Swales!B45,\"\")","v":""},{"$f":"IF(Swales!C45<>\"\",Swales!C45,\"\")","v":""},{"$f":"IF(Swales!D45<>\"\",Swales!D45,\"\")","v":""},{"$f":"IF(Swales!E45<>\"\",Swales!E45,\"\")","v":""},{"$f":"IF(Swales!F45<>\"\",Swales!F45,\"\")","v":""},null,null,null,null,null,"","","","","","",""]
[{"$f":"IF(Swales!A46<>\"\",Swales!A46,\"\")","v":""},{"$f":"IF(A24<>\"\",Swales!$I$21,\"\")","v":""},{"$f":"IF(Swales!B46<>\"\",Swales!B46,\"\")","v":""},{"$f":"IF(Swales!C46<>\"\",Swales!C46,\"\")","v":""},{"$f":"IF(Swales!D46<>\"\",Swales!D46,\"\")","v":""},{"$f":"IF(Swales!E46<>\"\",Swales!E46,\"\")","v":""},{"$f":"IF(Swales!F46<>\"\",Swales!F46,\"\")","v":""},null,null,null,null,null,"","","","","","",""]
[{"$f":"IF(Swales!A47<>\"\",Swales!A47,\"\")","v":""},{"$f":"IF(A25<>\"\",Swales!$I$21,\"\")","v":""},{"$f":"IF(Swales!B47<>\"\",Swales!B47,\"\")","v":""},{"$f":"IF(Swales!C47<>\"\",Swales!C47,\"\")","v":""},{"$f":"IF(Swales!D47<>\"\",Swales!D47,\"\")","v":""},{"$f":"IF(Swales!E47<>\"\",Swales!E47,\"\")","v":""},{"$f":"IF(Swales!F47<>\"\",Swales!F47,\"\")","v":""},null,null,null,null,null,"","","","","","",""]
[{"$f":"IF(Swales!A48<>\"\",Swales!A48,\"\")","v":""},{"$f":"IF(A26<>\"\",Swales!$I$21,\"\")","v":""},{"$f":"IF(Swales!B48<>\"\",Swales!B48,\"\")","v":""},{"$f":"IF(Swales!C48<>\"\",Swales!C48,\"\")","v":""},{"$f":"IF(Swales!D48<>\"\",Swales!D48,\"\")","v":""},{"$f":"IF(Swales!E48<>\"\",Swales!E48,\"\")","v":""},{"$f":"IF(Swales!F48<>\"\",Swales!F48,\"\")","v":""},null,null,null,null,null,"","","","","","",""]
[{"$f":"IF(Swales!A49<>\"\",Swales!A49,\"\")","v":""},{"$f":"IF(A27<>\"\",Swales!$I$21,\"\")","v":""},{"$f":"IF(Swales!B49<>\"\",Swales!B49,\"\")","v":""},{"$f":"IF(Swales!C49<>\"\",Swales!C49,\"\")","v":""},{"$f":"IF(Swales!D49<>\"\",Swales!D49,\"\")","v":""},{"$f":"IF(Swales!E49<>\"\",Swales!E49,\"\")","v":""},{"$f":"IF(Swales!F49<>\"\",Swales!F49,\"\")","v":""},null,null,null,null,null,"","","","","","",""]
[{"$f":"IF(Swales!A50<>\"\",Swales!A50,\"\")","v":""},{"$f":"IF(A28<>\"\",Swales!$I$21,\"\")","v":""},{"$f":"IF(Swales!B50<>\"\",Swales!B50,\"\")","v":""},{"$f":"IF(Swales!C50<>\"\",Swales!C50,\"\")","v":""},{"$f":"IF(Swales!D50<>\"\",Swales!D50,\"\")","v":""},{"$f":"IF(Swales!E50<>\"\",Swales!E50,\"\")","v":""},{"$f":"IF(Swales!F50<>\"\",Swales!F50,\"\")","v":""},null,null,null,null,null,"","","","","","",""]
[{"$f":"IF(Swales!A51<>\"\",Swales!A51,\"\")","v":""},{"$f":"IF(A29<>\"\",Swales!$I$21,\"\")","v":""},{"$f":"IF(Swales!B51<>\"\",Swales!B51,\"\")","v":""},{"$f":"IF(Swales!C51<>\"\",Swales!C51,\"\")","v":""},{"$f":"IF(Swales!D51<>\"\",Swales!D51,\"\")","v":""},{"$f":"IF(Swales!E51<>\"\",Swales!E51,\"\")","v":""},{"$f":"IF(Swales!F51<>\"\",Swales!F51,\"\")","v":""},null,null,null,null,null,"","","","","","",""]
[{"$f":"IF(Swales!A52<>\"\",Swales!A52,\"\")","v":""},{"$f":"IF(A30<>\"\",Swales!$I$21,\"\")","v":""},{"$f":"IF(Swales!B52<>\"\",Swales!B52,\"\")","v":""},{"$f":"IF(Swales!C52<>\"\",Swales!C52,\"\")","v":""},{"$f":"IF(Swales!D52<>\"\",Swales!D52,\"\")","v":""},{"$f":"IF(Swales!E52<>\"\",Swales!E52,\"\")","v":""},{"$f":"IF(Swales!F52<>\"\",Swales!F52,\"\")","v":""},null,null,null,null,null,"","","","","","",""]
[{"$f":"IF(Swales!A53<>\"\",Swales!A53,\"\")","v":""},{"$f":"IF(A31<>\"\",Swales!$I$21,\"\")","v":""},{"$f":"IF(Swales!B53<>\"\",Swales!B53,\"\")","v":""},{"$f":"IF(Swales!C53<>\"\",Swales!C53,\"\")","v":""},{"$f":"IF(Swales!D53<>\"\",Swales!D53,\"\")","v":""},{"$f":"IF(Swales!E53<>\"\",Swales!E53,\"\")","v":""},{"$f":"IF(Swales!F53<>\"\",Swales!F53,\"\")","v":""},null,null,null,null,null,"","","","","","",""]
[{"$f":"IF(Swales!A54<>\"\",Swales!A54,\"\")","v":""},{"$f":"IF(A32<>\"\",Swales!$I$21,\"\")","v":""},{"$f":"IF(Swales!B54<>\"\",Swales!B54,\"\")","v":""},{"$f":"IF(Swales!C54<>\"\",Swales!C54,\"\")","v":""},{"$f":"IF(Swales!D54<>\"\",Swales!D54,\"\")","v":""},{"$f":"IF(Swales!E54<>\"\",Swales!E54,\"\")","v":""},{"$f":"IF(Swales!F54<>\"\",Swales!F54,\"\")","v":""},null,null,null,null,null,"","","","","","",""]
[{"$f":"IF(Swales!A55<>\"\",Swales!A55,\"\")","v":""},{"$f":"IF(A33<>\"\",Swales!$I$21,\"\")","v":""},{"$f":"IF(Swales!B55<>\"\",Swales!B55,\"\")","v":""},{"$f":"IF(Swales!C55<>\"\",Swales!C55,\"\")","v":""},{"$f":"IF(Swales!D55<>\"\",Swales!D55,\"\")","v":""},{"$f":"IF(Swales!E55<>\"\",Swales!E55,\"\")","v":""},{"$f":"IF(Swales!F55<>\"\",Swales!F55,\"\")","v":""},null,null,null,null,null,"","","","","","",""]
[{"$f":"IF(Swales!A56<>\"\",Swales!A56,\"\")","v":""},{"$f":"IF(A34<>\"\",Swales!$I$21,\"\")","v":""},{"$f":"IF(Swales!B56<>\"\",Swales!B56,\"\")","v":""},{"$f":"IF(Swales!C56<>\"\",Swales!C56,\"\")","v":""},{"$f":"IF(Swales!D56<>\"\",Swales!D56,\"\")","v":""},{"$f":"IF(Swales!E56<>\"\",Swales!E56,\"\")","v":""},{"$f":"IF(Swales!F56<>\"\",Swales!F56,\"\")","v":""},null,null,null,null,null,"","","","","","",""]
[{"$f":"IF(Swales!A57<>\"\",Swales!A57,\"\")","v":""},{"$f":"IF(A35<>\"\",Swales!$I$21,\"\")","v":""},{"$f":"IF(Swales!B57<>\"\",Swales!B57,\"\")","v":""},{"$f":"IF(Swales!C57<>\"\",Swales!C57,\"\")","v":""},{"$f":"IF(Swales!D57<>\"\",Swales!D57,\"\")","v":""},{"$f":"IF(Swales!E57<>\"\",Swales!E57,\"\")","v":""},{"$f":"IF(Swales!F57<>\"\",Swales!F57,\"\")","v":""},null,null,null,null,null,"","","","","","",""]
[{"$f":"IF(Swales!A58<>\"\",Swales!A58,\"\")","v":""},{"$f":"IF(A36<>\"\",Swales!$I$21,\"\")","v":""},{"$f":"IF(Swales!B58<>\"\",Swales!B58,\"\")","v":""},{"$f":"IF(Swales!C58<>\"\",Swales!C58,\"\")","v":""},{"$f":"IF(Swales!D58<>\"\",Swales!D58,\"\")","v":""},{"$f":"IF(Swales!E58<>\"\",Swales!E58,\"\")","v":""},{"$f":"IF(Swales!F58<>\"\",Swales!F58,\"\")","v":""},null,null,null,null,null,"","","","","","",""]
[{"$f":"IF(Swales!A59<>\"\",Swales!A59,\"\")","v":""},{"$f":"IF(A37<>\"\",Swales!$I$21,\"\")","v":""},{"$f":"IF(Swales!B59<>\"\",Swales!B59,\"\")","v":""},{"$f":"IF(Swales!C59<>\"\",Swales!C59,\"\")","v":""},{"$f":"IF(Swales!D59<>\"\",Swales!D59,\"\")","v":""},{"$f":"IF(Swales!E59<>\"\",Swales!E59,\"\")","v":""},{"$f":"IF(Swales!F59<>\"\",Swales!F59,\"\")","v":""},null,null,null,null,null,"","","","","","",""]
[{"$f":"IF(Swales!A60<>\"\",Swales!A60,\"\")","v":""},{"$f":"IF(A38<>\"\",Swales!$I$21,\"\")","v":""},{"$f":"IF(Swales!B60<>\"\",Swales!B60,\"\")","v":""},{"$f":"IF(Swales!C60<>\"\",Swales!C60,\"\")","v":""},{"$f":"IF(Swales!D60<>\"\",Swales!D60,\"\")","v":""},{"$f":"IF(Swales!E60<>\"\",Swales!E60,\"\")","v":""},{"$f":"IF(Swales!F60<>\"\",Swales!F60,\"\")","v":""},null,null,null,null,null,"","","","","","",""]
[{"$f":"IF(Swales!A74<>\"\",Swales!A74,\"\")","v":""},{"$f":"IF(A39<>\"\",Swales!$I$21,\"\")","v":""},{"$f":"IF(Swales!B74<>\"\",Swales!B74,\"\")","v":""},{"$f":"IF(Swales!C74<>\"\",Swales!C74,\"\")","v":""},{"$f":"IF(Swales!D74<>\"\",Swales!D74,\"\")","v":""},{"$f":"IF(Swales!E74<>\"\",Swales!E74,\"\")","v":""},{"$f":"IF(Swales!F74<>\"\",Swales!F74,\"\")","v":""},null,null,null,null,null,"","","","","","",""]
[{"$f":"IF(Swales!A75<>\"\",Swales!A75,\"\")","v":""},{"$f":"IF(A40<>\"\",Swales!$I$21,\"\")","v":""},{"$f":"IF(Swales!B75<>\"\",Swales!B75,\"\")","v":""},{"$f":"IF(Swales!C75<>\"\",Swales!C75,\"\")","v":""},{"$f":"IF(Swales!D75<>\"\",Swales!D75,\"\")","v":""},{"$f":"IF(Swales!E75<>\"\",Swales!E75,\"\")","v":""},{"$f":"IF(Swales!F75<>\"\",Swales!F75,\"\")","v":""},null,null,null,null,null,"","","","","","",""]
[{"$f":"IF(Swales!A76<>\"\",Swales!A76,\"\")","v":""},{"$f":"IF(A41<>\"\",Swales!$I$21,\"\")","v":""},{"$f":"IF(Swales!B76<>\"\",Swales!B76,\"\")","v":""},{"$f":"IF(Swales!C76<>\"\",Swales!C76,\"\")","v":""},{"$f":"IF(Swales!D76<>\"\",Swales!D76,\"\")","v":""},{"$f":"IF(Swales!E76<>\"\",Swales!E76,\"\")","v":""},{"$f":"IF(Swales!F76<>\"\",Swales!F76,\"\")","v":""},null,null,null,null,null,"","","","","","",""]
[{"$f":"IF(Swales!A77<>\"\",Swales!A77,\"\")","v":""},{"$f":"IF(A42<>\"\",Swales!$I$21,\"\")","v":""},{"$f":"IF(Swales!B77<>\"\",Swales!B77,\"\")","v":""},{"$f":"IF(Swales!C77<>\"\",Swales!C77,\"\")","v":""},{"$f":"IF(Swales!D77<>\"\",Swales!D77,\"\")","v":""},{"$f":"IF(Swales!E77<>\"\",Swales!E77,\"\")","v":""},{"$f":"IF(Swales!F77<>\"\",Swales!F77,\"\")","v":""},null,null,null,null,null,"","","","","","",""]
[{"$f":"IF(Swales!A78<>\"\",Swales!A78,\"\")","v":""},{"$f":"IF(A43<>\"\",Swales!$I$21,\"\")","v":""},{"$f":"IF(Swales!B78<>\"\",Swales!B78,\"\")","v":""},{"$f":"IF(Swales!C78<>\"\",Swales!C78,\"\")","v":""},{"$f":"IF(Swales!D78<>\"\",Swales!D78,\"\")","v":""},{"$f":"IF(Swales!E78<>\"\",Swales!E78,\"\")","v":""},{"$f":"IF(Swales!F78<>\"\",Swales!F78,\"\")","v":""},null,null,null,null,null,"","","","","","",""]
[{"$f":"IF(Swales!A79<>\"\",Swales!A79,\"\")","v":""},{"$f":"IF(A44<>\"\",Swales!$I$21,\"\")","v":""},{"$f":"IF(Swales!B79<>\"\",Swales!B79,\"\")","v":""},{"$f":"IF(Swales!C79<>\"\",Swales!C79,\"\")","v":""},{"$f":"IF(Swales!D79<>\"\",Swales!D79,\"\")","v":""},{"$f":"IF(Swales!E79<>\"\",Swales!E79,\"\")","v":""},{"$f":"IF(Swales!F79<>\"\",Swales!F79,\"\")","v":""},null,null,null,null,null,"","","","","","",""]
[{"$f":"IF(Swales!A80<>\"\",Swales!A80,\"\")","v":""},{"$f":"IF(A45<>\"\",Swales!$I$21,\"\")","v":""},{"$f":"IF(Swales!B80<>\"\",Swales!B80,\"\")","v":""},{"$f":"IF(Swales!C80<>\"\",Swales!C80,\"\")","v":""},{"$f":"IF(Swales!D80<>\"\",Swales!D80,\"\")","v":""},{"$f":"IF(Swales!E80<>\"\",Swales!E80,\"\")","v":""},{"$f":"IF(Swales!F80<>\"\",Swales!F80,\"\")","v":""},null,null,null,null,null,"","","","","","",""]
[{"$f":"IF(Swales!A81<>\"\",Swales!A81,\"\")","v":""},{"$f":"IF(A46<>\"\",Swales!$I$21,\"\")","v":""},{"$f":"IF(Swales!B81<>\"\",Swales!B81,\"\")","v":""},{"$f":"IF(Swales!C81<>\"\",Swales!C81,\"\")","v":""},{"$f":"IF(Swales!D81<>\"\",Swales!D81,\"\")","v":""},{"$f":"IF(Swales!E81<>\"\",Swales!E81,\"\")","v":""},{"$f":"IF(Swales!F81<>\"\",Swales!F81,\"\")","v":""},null,null,null,null,null,"","","","","","",""]
[{"$f":"IF(Swales!A82<>\"\",Swales!A82,\"\")","v":""},{"$f":"IF(A47<>\"\",Swales!$I$21,\"\")","v":""},{"$f":"IF(Swales!B82<>\"\",Swales!B82,\"\")","v":""},{"$f":"IF(Swales!C82<>\"\",Swales!C82,\"\")","v":""},{"$f":"IF(Swales!D82<>\"\",Swales!D82,\"\")","v":""},{"$f":"IF(Swales!E82<>\"\",Swales!E82,\"\")","v":""},{"$f":"IF(Swales!F82<>\"\",Swales!F82,\"\")","v":""},null,null,null,null,null,"","","","","","",""]
[{"$f":"IF(Swales!A83<>\"\",Swales!A83,\"\")","v":""},{"$f":"IF(A48<>\"\",Swales!$I$21,\"\")","v":""},{"$f":"IF(Swales!B83<>\"\",Swales!B83,\"\")","v":""},{"$f":"IF(Swales!C83<>\"\",Swales!C83,\"\")","v":""},{"$f":"IF(Swales!D83<>\"\",Swales!D83,\"\")","v":""},{"$f":"IF(Swales!E83<>\"\",Swales!E83,\"\")","v":""},{"$f":"IF(Swales!F83<>\"\",Swales!F83,\"\")","v":""},null,null,null,null,null,"","","","","","",""]
[{"$f":"IF(Swales!A84<>\"\",Swales!A84,\"\")","v":""},{"$f":"IF(A49<>\"\",Swales!$I$21,\"\")","v":""},{"$f":"IF(Swales!B84<>\"\",Swales!B84,\"\")","v":""},{"$f":"IF(Swales!C84<>\"\",Swales!C84,\"\")","v":""},{"$f":"IF(Swales!D84<>\"\",Swales!D84,\"\")","v":""},{"$f":"IF(Swales!E84<>\"\",Swales!E84,\"\")","v":""},{"$f":"IF(Swales!F84<>\"\",Swales!F84,\"\")","v":""},null,null,null,null,null,"","","","","","",""]
[{"$f":"IF(Swales!A85<>\"\",Swales!A85,\"\")","v":""},{"$f":"IF(A50<>\"\",Swales!$I$21,\"\")","v":""},{"$f":"IF(Swales!B85<>\"\",Swales!B85,\"\")","v":""},{"$f":"IF(Swales!C85<>\"\",Swales!C85,\"\")","v":""},{"$f":"IF(Swales!D85<>\"\",Swales!D85,\"\")","v":""},{"$f":"IF(Swales!E85<>\"\",Swales!E85,\"\")","v":""},{"$f":"IF(Swales!F85<>\"\",Swales!F85,\"\")","v":""},null,null,null,null,null,"","","","","","",""]
[{"$f":"IF(Swales!A86<>\"\",Swales!A86,\"\")","v":""},{"$f":"IF(A51<>\"\",Swales!$I$21,\"\")","v":""},{"$f":"IF(Swales!B86<>\"\",Swales!B86,\"\")","v":""},{"$f":"IF(Swales!C86<>\"\",Swales!C86,\"\")","v":""},{"$f":"IF(Swales!D86<>\"\",Swales!D86,\"\")","v":""},{"$f":"IF(Swales!E86<>\"\",Swales!E86,\"\")","v":""},{"$f":"IF(Swales!F86<>\"\",Swales!F86,\"\")","v":""},null,null,null,null,null,"","","","","","",""]
[{"$f":"IF(Swales!A87<>\"\",Swales!A87,\"\")","v":""},{"$f":"IF(A52<>\"\",Swales!$I$21,\"\")","v":""},{"$f":"IF(Swales!B87<>\"\",Swales!B87,\"\")","v":""},{"$f":"IF(Swales!C87<>\"\",Swales!C87,\"\")","v":""},{"$f":"IF(Swales!D87<>\"\",Swales!D87,\"\")","v":""},{"$f":"IF(Swales!E87<>\"\",Swales!E87,\"\")","v":""},{"$f":"IF(Swales!F87<>\"\",Swales!F87,\"\")","v":""},null,null,null,null,null,"","","","","","",""]
[{"$f":"IF(Swales!A88<>\"\",Swales!A88,\"\")","v":""},{"$f":"IF(A53<>\"\",Swales!$I$21,\"\")","v":""},{"$f":"IF(Swales!B88<>\"\",Swales!B88,\"\")","v":""},{"$f":"IF(Swales!C88<>\"\",Swales!C88,\"\")","v":""},{"$f":"IF(Swales!D88<>\"\",Swales!D88,\"\")","v":""},{"$f":"IF(Swales!E88<>\"\",Swales!E88,\"\")","v":""},{"$f":"IF(Swales!F88<>\"\",Swales!F88,\"\")","v":""},null,null,null,null,null,"","","","","","",""]
[{"$f":"IF(Swales!A89<>\"\",Swales!A89,\"\")","v":""},{"$f":"IF(A54<>\"\",Swales!$I$21,\"\")","v":""},{"$f":"IF(Swales!B89<>\"\",Swales!B89,\"\")","v":""},{"$f":"IF(Swales!C89<>\"\",Swales!C89,\"\")","v":""},{"$f":"IF(Swales!D89<>\"\",Swales!D89,\"\")","v":""},{"$f":"IF(Swales!E89<>\"\",Swales!E89,\"\")","v":""},{"$f":"IF(Swales!F89<>\"\",Swales!F89,\"\")","v":""},null,null,null,null,null,"","","","","","",""]
[{"$f":"IF(Swales!A90<>\"\",Swales!A90,\"\")","v":""},{"$f":"IF(A55<>\"\",Swales!$I$21,\"\")","v":""},{"$f":"IF(Swales!B90<>\"\",Swales!B90,\"\")","v":""},{"$f":"IF(Swales!C90<>\"\",Swales!C90,\"\")","v":""},{"$f":"IF(Swales!D90<>\"\",Swales!D90,\"\")","v":""},{"$f":"IF(Swales!E90<>\"\",Swales!E90,\"\")","v":""},{"$f":"IF(Swales!F90<>\"\",Swales!F90,\"\")","v":""},null,null,null,null,null,"","","","","","",""]
[{"$f":"IF(Swales!A91<>\"\",Swales!A91,\"\")","v":""},{"$f":"IF(A56<>\"\",Swales!$I$21,\"\")","v":""},{"$f":"IF(Swales!B91<>\"\",Swales!B91,\"\")","v":""},{"$f":"IF(Swales!C91<>\"\",Swales!C91,\"\")","v":""},{"$f":"IF(Swales!D91<>\"\",Swales!D91,\"\")","v":""},{"$f":"IF(Swales!E91<>\"\",Swales!E91,\"\")","v":""},{"$f":"IF(Swales!F91<>\"\",Swales!F91,\"\")","v":""},null,null,null,null,null,"","","","","","",""]
[{"$f":"IF(Swales!A92<>\"\",Swales!A92,\"\")","v":""},{"$f":"IF(A57<>\"\",Swales!$I$21,\"\")","v":""},{"$f":"IF(Swales!B92<>\"\",Swales!B92,\"\")","v":""},{"$f":"IF(Swales!C92<>\"\",Swales!C92,\"\")","v":""},{"$f":"IF(Swales!D92<>\"\",Swales!D92,\"\")","v":""},{"$f":"IF(Swales!E92<>\"\",Swales!E92,\"\")","v":""},{"$f":"IF(Swales!F92<>\"\",Swales!F92,\"\")","v":""},null,null,null,null,null,"","","","","","",""]
[{"$f":"IF(Swales!A93<>\"\",Swales!A93,\"\")","v":""},{"$f":"IF(A58<>\"\",Swales!$I$21,\"\")","v":""},{"$f":"IF(Swales!B93<>\"\",Swales!B93,\"\")","v":""},{"$f":"IF(Swales!C93<>\"\",Swales!C93,\"\")","v":""},{"$f":"IF(Swales!D93<>\"\",Swales!D93,\"\")","v":""},{"$f":"IF(Swales!E93<>\"\",Swales!E93,\"\")","v":""},{"$f":"IF(Swales!F93<>\"\",Swales!F93,\"\")","v":""},null,null,null,null,null,"","","","","","",""]
[{"$f":"IF(Swales!A94<>\"\",Swales!A94,\"\")","v":""},{"$f":"IF(A59<>\"\",Swales!$I$21,\"\")","v":""},{"$f":"IF(Swales!B94<>\"\",Swales!B94,\"\")","v":""},{"$f":"IF(Swales!C94<>\"\",Swales!C94,\"\")","v":""},{"$f":"IF(Swales!D94<>\"\",Swales!D94,\"\")","v":""},{"$f":"IF(Swales!E94<>\"\",Swales!E94,\"\")","v":""},{"$f":"IF(Swales!F94<>\"\",Swales!F94,\"\")","v":""},null,null,null,null,null,"","","","","","",""]
[{"$f":"IF(Swales!A95<>\"\",Swales!A95,\"\")","v":""},{"$f":"IF(A60<>\"\",Swales!$I$21,\"\")","v":""},{"$f":"IF(Swales!B95<>\"\",Swales!B95,\"\")","v":""},{"$f":"IF(Swales!C95<>\"\",Swales!C95,\"\")","v":""},{"$f":"IF(Swales!D95<>\"\",Swales!D95,\"\")","v":""},{"$f":"IF(Swales!E95<>\"\",Swales!E95,\"\")","v":""},{"$f":"IF(Swales!F95<>\"\",Swales!F95,\"\")","v":""},null,null,null,null,null,"","","","","","",""]
[{"$f":"IF(Swales!A96<>\"\",Swales!A96,\"\")","v":""},{"$f":"IF(A61<>\"\",Swales!$I$21,\"\")","v":""},{"$f":"IF(Swales!B96<>\"\",Swales!B96,\"\")","v":""},{"$f":"IF(Swales!C96<>\"\",Swales!C96,\"\")","v":""},{"$f":"IF(Swales!D96<>\"\",Swales!D96,\"\")","v":""},{"$f":"IF(Swales!E96<>\"\",Swales!E96,\"\")","v":""},{"$f":"IF(Swales!F96<>\"\",Swales!F96,\"\")","v":""},null,null,null,null,null,"","","","","","",""]
[{"$f":"IF(Swales!A97<>\"\",Swales!A97,\"\")","v":""},{"$f":"IF(A62<>\"\",Swales!$I$21,\"\")","v":""},{"$f":"IF(Swales!B97<>\"\",Swales!B97,\"\")","v":""},{"$f":"IF(Swales!C97<>\"\",Swales!C97,\"\")","v":""},{"$f":"IF(Swales!D97<>\"\",Swales!D97,\"\")","v":""},{"$f":"IF(Swales!E97<>\"\",Swales!E97,\"\")","v":""},{"$f":"IF(Swales!F97<>\"\",Swales!F97,\"\")","v":""},null,null,null,null,null,"","","","","","",""]
[{"$f":"IF(Swales!A98<>\"\",Swales!A98,\"\")","v":""},{"$f":"IF(A63<>\"\",Swales!$I$21,\"\")","v":""},{"$f":"IF(Swales!B98<>\"\",Swales!B98,\"\")","v":""},{"$f":"IF(Swales!C98<>\"\",Swales!C98,\"\")","v":""},{"$f":"IF(Swales!D98<>\"\",Swales!D98,\"\")","v":""},{"$f":"IF(Swales!E98<>\"\",Swales!E98,\"\")","v":""},{"$f":"IF(Swales!F98<>\"\",Swales!F98,\"\")","v":""},null,null,null,null,null,"","","","","","",""]
[{"$f":"IF(Swales!A99<>\"\",Swales!A99,\"\")","v":""},{"$f":"IF(A64<>\"\",Swales!$I$21,\"\")","v":""},{"$f":"IF(Swales!B99<>\"\",Swales!B99,\"\")","v":""},{"$f":"IF(Swales!C99<>\"\",Swales!C99,\"\")","v":""},{"$f":"IF(Swales!D99<>\"\",Swales!D99,\"\")","v":""},{"$f":"IF(Swales!E99<>\"\",Swales!E99,\"\")","v":""},{"$f":"IF(Swales!F99<>\"\",Swales!F99,\"\")","v":""},null,null,null,null,null,"","","","","","",""]
[{"$f":"IF(Swales!A100<>\"\",Swales!A100,\"\")","v":""},{"$f":"IF(A65<>\"\",Swales!$I$21,\"\")","v":""},{"$f":"IF(Swales!B100<>\"\",Swales!B100,\"\")","v":""},{"$f":"IF(Swales!C100<>\"\",Swales!C100,\"\")","v":""},{"$f":"IF(Swales!D100<>\"\",Swales!D100,\"\")","v":""},{"$f":"IF(Swales!E100<>\"\",Swales!E100,\"\")","v":""},{"$f":"IF(Swales!F100<>\"\",Swales!F100,\"\")","v":""},null,null,null,null,null,"","","","","","",""]
[{"$f":"IF(Swales!A101<>\"\",Swales!A101,\"\")","v":""},{"$f":"IF(A66<>\"\",Swales!$I$21,\"\")","v":""},{"$f":"IF(Swales!B101<>\"\",Swales!B101,\"\")","v":""},{"$f":"IF(Swales!C101<>\"\",Swales!C101,\"\")","v":""},{"$f":"IF(Swales!D101<>\"\",Swales!D101,\"\")","v":""},{"$f":"IF(Swales!E101<>\"\",Swales!E101,\"\")","v":""},{"$f":"IF(Swales!F101<>\"\",Swales!F101,\"\")","v":""},null,null,null,null,null,"","","","","","",""]
[{"$f":"IF(Swales!A102<>\"\",Swales!A102,\"\")","v":""},{"$f":"IF(A67<>\"\",Swales!$I$21,\"\")","v":""},{"$f":"IF(Swales!B102<>\"\",Swales!B102,\"\")","v":""},{"$f":"IF(Swales!C102<>\"\",Swales!C102,\"\")","v":""},{"$f":"IF(Swales!D102<>\"\",Swales!D102,\"\")","v":""},{"$f":"IF(Swales!E102<>\"\",Swales!E102,\"\")","v":""},{"$f":"IF(Swales!F102<>\"\",Swales!F102,\"\")","v":""},null,null,null,null,null,"","","","","","",""]
[{"$f":"IF(Swales!A103<>\"\",Swales!A103,\"\")","v":""},{"$f":"IF(A68<>\"\",Swales!$I$21,\"\")","v":""},{"$f":"IF(Swales!B103<>\"\",Swales!B103,\"\")","v":""},{"$f":"IF(Swales!C103<>\"\",Swales!C103,\"\")","v":""},{"$f":"IF(Swales!D103<>\"\",Swales!D103,\"\")","v":""},{"$f":"IF(Swales!E103<>\"\",Swales!E103,\"\")","v":""},{"$f":"IF(Swales!F103<>\"\",Swales!F103,\"\")","v":""},null,null,null,null,null,"","","","","","",""]
[{"$f":"IF(Swales!A104<>\"\",Swales!A104,\"\")","v":""},{"$f":"IF(A69<>\"\",Swales!$I$21,\"\")","v":""},{"$f":"IF(Swales!B104<>\"\",Swales!B104,\"\")","v":""},{"$f":"IF(Swales!C104<>\"\",Swales!C104,\"\")","v":""},{"$f":"IF(Swales!D104<>\"\",Swales!D104,\"\")","v":""},{"$f":"IF(Swales!E104<>\"\",Swales!E104,\"\")","v":""},{"$f":"IF(Swales!F104<>\"\",Swales!F104,\"\")","v":""},null,null,null,null,null,"","","","","","",""]
[{"$f":"IF(Swales!A105<>\"\",Swales!A105,\"\")","v":""},{"$f":"IF(A70<>\"\",Swales!$I$21,\"\")","v":""},{"$f":"IF(Swales!B105<>\"\",Swales!B105,\"\")","v":""},{"$f":"IF(Swales!C105<>\"\",Swales!C105,\"\")","v":""},{"$f":"IF(Swales!D105<>\"\",Swales!D105,\"\")","v":""},{"$f":"IF(Swales!E105<>\"\",Swales!E105,\"\")","v":""},{"$f":"IF(Swales!F105<>\"\",Swales!F105,\"\")","v":""},null,null,null,null,null,"","","","","","",""]
[{"$f":"IF(Swales!A106<>\"\",Swales!A106,\"\")","v":""},{"$f":"IF(A71<>\"\",Swales!$I$21,\"\")","v":""},{"$f":"IF(Swales!B106<>\"\",Swales!B106,\"\")","v":""},{"$f":"IF(Swales!C106<>\"\",Swales!C106,\"\")","v":""},{"$f":"IF(Swales!D106<>\"\",Swales!D106,\"\")","v":""},{"$f":"IF(Swales!E106<>\"\",Swales!E106,\"\")","v":""},{"$f":"IF(Swales!F106<>\"\",Swales!F106,\"\")","v":""},null,null,null,null,null,"","","","","","",""]
[{"$f":"IF(Swales!A107<>\"\",Swales!A107,\"\")","v":""},{"$f":"IF(A72<>\"\",Swales!$I$21,\"\")","v":""},{"$f":"IF(Swales!B107<>\"\",Swales!B107,\"\")","v":""},{"$f":"IF(Swales!C107<>\"\",Swales!C107,\"\")","v":""},{"$f":"IF(Swales!D107<>\"\",Swales!D107,\"\")","v":""},{"$f":"IF(Swales!E107<>\"\",Swales!E107,\"\")","v":""},{"$f":"IF(Swales!F107<>\"\",Swales!F107,\"\")","v":""},null,null,null,null,null,"","","","","","",""]
[{"$f":"IF(Swales!A108<>\"\",Swales!A108,\"\")","v":""},{"$f":"IF(A73<>\"\",Swales!$I$21,\"\")","v":""},{"$f":"IF(Swales!B108<>\"\",Swales!B108,\"\")","v":""},{"$f":"IF(Swales!C108<>\"\",Swales!C108,\"\")","v":""},{"$f":"IF(Swales!D108<>\"\",Swales!D108,\"\")","v":""},{"$f":"IF(Swales!E108<>\"\",Swales!E108,\"\")","v":""},{"$f":"IF(Swales!F108<>\"\",Swales!F108,\"\")","v":""},null,null,null,null,null,"","","","","","",""]
[{"$f":"IF(Swales!A109<>\"\",Swales!A109,\"\")","v":""},{"$f":"IF(A74<>\"\",Swales!$I$21,\"\")","v":""},{"$f":"IF(Swales!B109<>\"\",Swales!B109,\"\")","v":""},{"$f":"IF(Swales!C109<>\"\",Swales!C109,\"\")","v":""},{"$f":"IF(Swales!D109<>\"\",Swales!D109,\"\")","v":""},{"$f":"IF(Swales!E109<>\"\",Swales!E109,\"\")","v":""},{"$f":"IF(Swales!F109<>\"\",Swales!F109,\"\")","v":""},null,null,null,null,null,"","","","","","",""]
[{"$f":"IF(Swales!A110<>\"\",Swales!A110,\"\")","v":""},{"$f":"IF(A75<>\"\",Swales!$I$21,\"\")","v":""},{"$f":"IF(Swales!B110<>\"\",Swales!B110,\"\")","v":""},{"$f":"IF(Swales!C110<>\"\",Swales!C110,\"\")","v":""},{"$f":"IF(Swales!D110<>\"\",Swales!D110,\"\")","v":""},{"$f":"IF(Swales!E110<>\"\",Swales!E110,\"\")","v":""},{"$f":"IF(Swales!F110<>\"\",Swales!F110,\"\")","v":""},null,null,null,null,null,"","","","","","",""]
[{"$f":"IF(Swales!A111<>\"\",Swales!A111,\"\")","v":""},{"$f":"IF(A76<>\"\",Swales!$I$21,\"\")","v":""},{"$f":"IF(Swales!B111<>\"\",Swales!B111,\"\")","v":""},{"$f":"IF(Swales!C111<>\"\",Swales!C111,\"\")","v":""},{"$f":"IF(Swales!D111<>\"\",Swales!D111,\"\")","v":""},{"$f":"IF(Swales!E111<>\"\",Swales!E111,\"\")","v":""},{"$f":"IF(Swales!F111<>\"\",Swales!F111,\"\")","v":""},null,null,null,null,null,"","","","","","",""]
[{"$f":"IF(Swales!A125<>\"\",Swales!A125,\"\")","v":""},{"$f":"IF(A77<>\"\",Swales!$I$21,\"\")","v":""},{"$f":"IF(Swales!B125<>\"\",Swales!B125,\"\")","v":""},{"$f":"IF(Swales!C125<>\"\",Swales!C125,\"\")","v":""},{"$f":"IF(Swales!D125<>\"\",Swales!D125,\"\")","v":""},{"$f":"IF(Swales!E125<>\"\",Swales!E125,\"\")","v":""},{"$f":"IF(Swales!F125<>\"\",Swales!F125,\"\")","v":""},null,null,null,null,null,"","","","","","",""]
[{"$f":"IF(Swales!A126<>\"\",Swales!A126,\"\")","v":""},{"$f":"IF(A78<>\"\",Swales!$I$21,\"\")","v":""},{"$f":"IF(Swales!B126<>\"\",Swales!B126,\"\")","v":""},{"$f":"IF(Swales!C126<>\"\",Swales!C126,\"\")","v":""},{"$f":"IF(Swales!D126<>\"\",Swales!D126,\"\")","v":""},{"$f":"IF(Swales!E126<>\"\",Swales!E126,\"\")","v":""},{"$f":"IF(Swales!F126<>\"\",Swales!F126,\"\")","v":""},null,null,null,null,null,"","","","","","",""]
[{"$f":"IF(Swales!A127<>\"\",Swales!A127,\"\")","v":""},{"$f":"IF(A79<>\"\",Swales!$I$21,\"\")","v":""},{"$f":"IF(Swales!B127<>\"\",Swales!B127,\"\")","v":""},{"$f":"IF(Swales!C127<>\"\",Swales!C127,\"\")","v":""},{"$f":"IF(Swales!D127<>\"\",Swales!D127,\"\")","v":""},{"$f":"IF(Swales!E127<>\"\",Swales!E127,\"\")","v":""},{"$f":"IF(Swales!F127<>\"\",Swales!F127,\"\")","v":""},null,null,null,null,null,"","","","","","",""]
[{"$f":"IF(Swales!A128<>\"\",Swales!A128,\"\")","v":""},{"$f":"IF(A80<>\"\",Swales!$I$21,\"\")","v":""},{"$f":"IF(Swales!B128<>\"\",Swales!B128,\"\")","v":""},{"$f":"IF(Swales!C128<>\"\",Swales!C128,\"\")","v":""},{"$f":"IF(Swales!D128<>\"\",Swales!D128,\"\")","v":""},{"$f":"IF(Swales!E128<>\"\",Swales!E128,\"\")","v":""},{"$f":"IF(Swales!F128<>\"\",Swales!F128,\"\")","v":""},null,null,null,null,null,"","","","","","",""]
[{"$f":"IF(Swales!A129<>\"\",Swales!A129,\"\")","v":""},{"$f":"IF(A81<>\"\",Swales!$I$21,\"\")","v":""},{"$f":"IF(Swales!B129<>\"\",Swales!B129,\"\")","v":""},{"$f":"IF(Swales!C129<>\"\",Swales!C129,\"\")","v":""},{"$f":"IF(Swales!D129<>\"\",Swales!D129,\"\")","v":""},{"$f":"IF(Swales!E129<>\"\",Swales!E129,\"\")","v":""},{"$f":"IF(Swales!F129<>\"\",Swales!F129,\"\")","v":""},null,null,null,null,null,"","","","","","",""]
[{"$f":"IF(Swales!A130<>\"\",Swales!A130,\"\")","v":""},{"$f":"IF(A82<>\"\",Swales!$I$21,\"\")","v":""},{"$f":"IF(Swales!B130<>\"\",Swales!B130,\"\")","v":""},{"$f":"IF(Swales!C130<>\"\",Swales!C130,\"\")","v":""},{"$f":"IF(Swales!D130<>\"\",Swales!D130,\"\")","v":""},{"$f":"IF(Swales!E130<>\"\",Swales!E130,\"\")","v":""},{"$f":"IF(Swales!F130<>\"\",Swales!F130,\"\")","v":""},null,null,null,null,null,"","","","","","",""]
[{"$f":"IF(Swales!A131<>\"\",Swales!A131,\"\")","v":""},{"$f":"IF(A83<>\"\",Swales!$I$21,\"\")","v":""},{"$f":"IF(Swales!B131<>\"\",Swales!B131,\"\")","v":""},{"$f":"IF(Swales!C131<>\"\",Swales!C131,\"\")","v":""},{"$f":"IF(Swales!D131<>\"\",Swales!D131,\"\")","v":""},{"$f":"IF(Swales!E131<>\"\",Swales!E131,\"\")","v":""},{"$f":"IF(Swales!F131<>\"\",Swales!F131,\"\")","v":""},null,null,null,null,null,"","","","","","",""]
[{"$f":"IF(Swales!A132<>\"\",Swales!A132,\"\")","v":""},{"$f":"IF(A84<>\"\",Swales!$I$21,\"\")","v":""},{"$f":"IF(Swales!B132<>\"\",Swales!B132,\"\")","v":""},{"$f":"IF(Swales!C132<>\"\",Swales!C132,\"\")","v":""},{"$f":"IF(Swales!D132<>\"\",Swales!D132,\"\")","v":""},{"$f":"IF(Swales!E132<>\"\",Swales!E132,\"\")","v":""},{"$f":"IF(Swales!F132<>\"\",Swales!F132,\"\")","v":""},null,null,null,null,null,"","","","","","",""]
[{"$f":"IF(Swales!A133<>\"\",Swales!A133,\"\")","v":""},{"$f":"IF(A85<>\"\",Swales!$I$21,\"\")","v":""},{"$f":"IF(Swales!B133<>\"\",Swales!B133,\"\")","v":""},{"$f":"IF(Swales!C133<>\"\",Swales!C133,\"\")","v":""},{"$f":"IF(Swales!D133<>\"\",Swales!D133,\"\")","v":""},{"$f":"IF(Swales!E133<>\"\",Swales!E133,\"\")","v":""},{"$f":"IF(Swales!F133<>\"\",Swales!F133,\"\")","v":""},null,null,null,null,null,"","","","","","",""]
[{"$f":"IF(Swales!A134<>\"\",Swales!A134,\"\")","v":""},{"$f":"IF(A86<>\"\",Swales!$I$21,\"\")","v":""},{"$f":"IF(Swales!B134<>\"\",Swales!B134,\"\")","v":""},{"$f":"IF(Swales!C134<>\"\",Swales!C134,\"\")","v":""},{"$f":"IF(Swales!D134<>\"\",Swales!D134,\"\")","v":""},{"$f":"IF(Swales!E134<>\"\",Swales!E134,\"\")","v":""},{"$f":"IF(Swales!F134<>\"\",Swales!F134,\"\")","v":""},null,null,null,null,null,"","","","","","",""]
[{"$f":"IF(Swales!A135<>\"\",Swales!A135,\"\")","v":""},{"$f":"IF(A87<>\"\",Swales!$I$21,\"\")","v":""},{"$f":"IF(Swales!B135<>\"\",Swales!B135,\"\")","v":""},{"$f":"IF(Swales!C135<>\"\",Swales!C135,\"\")","v":""},{"$f":"IF(Swales!D135<>\"\",Swales!D135,\"\")","v":""},{"$f":"IF(Swales!E135<>\"\",Swales!E135,\"\")","v":""},{"$f":"IF(Swales!F135<>\"\",Swales!F135,\"\")","v":""},null,null,null,null,null,"","","","","","",""]
[{"$f":"IF(Swales!A136<>\"\",Swales!A136,\"\")","v":""},{"$f":"IF(A88<>\"\",Swales!$I$21,\"\")","v":""},{"$f":"IF(Swales!B136<>\"\",Swales!B136,\"\")","v":""},{"$f":"IF(Swales!C136<>\"\",Swales!C136,\"\")","v":""},{"$f":"IF(Swales!D136<>\"\",Swales!D136,\"\")","v":""},{"$f":"IF(Swales!E136<>\"\",Swales!E136,\"\")","v":""},{"$f":"IF(Swales!F136<>\"\",Swales!F136,\"\")","v":""},null,null,null,null,null,"","","","","","",""]
[{"$f":"IF(Swales!A137<>\"\",Swales!A137,\"\")","v":""},{"$f":"IF(A89<>\"\",Swales!$I$21,\"\")","v":""},{"$f":"IF(Swales!B137<>\"\",Swales!B137,\"\")","v":""},{"$f":"IF(Swales!C137<>\"\",Swales!C137,\"\")","v":""},{"$f":"IF(Swales!D137<>\"\",Swales!D137,\"\")","v":""},{"$f":"IF(Swales!E137<>\"\",Swales!E137,\"\")","v":""},{"$f":"IF(Swales!F137<>\"\",Swales!F137,\"\")","v":""},null,null,null,null,null,"","","","","","",""]
[{"$f":"IF(Swales!A138<>\"\",Swales!A138,\"\")","v":""},{"$f":"IF(A90<>\"\",Swales!$I$21,\"\")","v":""},{"$f":"IF(Swales!B138<>\"\",Swales!B138,\"\")","v":""},{"$f":"IF(Swales!C138<>\"\",Swales!C138,\"\")","v":""},{"$f":"IF(Swales!D138<>\"\",Swales!D138,\"\")","v":""},{"$f":"IF(Swales!E138<>\"\",Swales!E138,\"\")","v":""},{"$f":"IF(Swales!F138<>\"\",Swales!F138,\"\")","v":""},null,null,null,null,null,"","","","","","",""]
[{"$f":"IF(Swales!A139<>\"\",Swales!A139,\"\")","v":""},{"$f":"IF(A91<>\"\",Swales!$I$21,\"\")","v":""},{"$f":"IF(Swales!B139<>\"\",Swales!B139,\"\")","v":""},{"$f":"IF(Swales!C139<>\"\",Swales!C139,\"\")","v":""},{"$f":"IF(Swales!D139<>\"\",Swales!D139,\"\")","v":""},{"$f":"IF(Swales!E139<>\"\",Swales!E139,\"\")","v":""},{"$f":"IF(Swales!F139<>\"\",Swales!F139,\"\")","v":""},null,null,null,null,null,"","","","","","",""]
[{"$f":"IF(Swales!A140<>\"\",Swales!A140,\"\")","v":""},{"$f":"IF(A92<>\"\",Swales!$I$21,\"\")","v":""},{"$f":"IF(Swales!B140<>\"\",Swales!B140,\"\")","v":""},{"$f":"IF(Swales!C140<>\"\",Swales!C140,\"\")","v":""},{"$f":"IF(Swales!D140<>\"\",Swales!D140,\"\")","v":""},{"$f":"IF(Swales!E140<>\"\",Swales!E140,\"\")","v":""},{"$f":"IF(Swales!F140<>\"\",Swales!F140,\"\")","v":""},null,null,null,null,null,"","","","","","",""]
[{"$f":"IF(Swales!A141<>\"\",Swales!A141,\"\")","v":""},{"$f":"IF(A93<>\"\",Swales!$I$21,\"\")","v":""},{"$f":"IF(Swales!B141<>\"\",Swales!B141,\"\")","v":""},{"$f":"IF(Swales!C141<>\"\",Swales!C141,\"\")","v":""},{"$f":"IF(Swales!D141<>\"\",Swales!D141,\"\")","v":""},{"$f":"IF(Swales!E141<>\"\",Swales!E141,\"\")","v":""},{"$f":"IF(Swales!F141<>\"\",Swales!F141,\"\")","v":""},null,null,null,null,null,"","","","","","",""]
[{"$f":"IF(Swales!A142<>\"\",Swales!A142,\"\")","v":""},{"$f":"IF(A94<>\"\",Swales!$I$21,\"\")","v":""},{"$f":"IF(Swales!B142<>\"\",Swales!B142,\"\")","v":""},{"$f":"IF(Swales!C142<>\"\",Swales!C142,\"\")","v":""},{"$f":"IF(Swales!D142<>\"\",Swales!D142,\"\")","v":""},{"$f":"IF(Swales!E142<>\"\",Swales!E142,\"\")","v":""},{"$f":"IF(Swales!F142<>\"\",Swales!F142,\"\")","v":""},null,null,null,null,null,"","","","","","",""]
[{"$f":"IF(Swales!A143<>\"\",Swales!A143,\"\")","v":""},{"$f":"IF(A95<>\"\",Swales!$I$21,\"\")","v":""},{"$f":"IF(Swales!B143<>\"\",Swales!B143,\"\")","v":""},{"$f":"IF(Swales!C143<>\"\",Swales!C143,\"\")","v":""},{"$f":"IF(Swales!D143<>\"\",Swales!D143,\"\")","v":""},{"$f":"IF(Swales!E143<>\"\",Swales!E143,\"\")","v":""},{"$f":"IF(Swales!F143<>\"\",Swales!F143,\"\")","v":""},null,null,null,null,null,"","","","","","",""]
[{"$f":"IF(Swales!A144<>\"\",Swales!A144,\"\")","v":""},{"$f":"IF(A96<>\"\",Swales!$I$21,\"\")","v":""},{"$f":"IF(Swales!B144<>\"\",Swales!B144,\"\")","v":""},{"$f":"IF(Swales!C144<>\"\",Swales!C144,\"\")","v":""},{"$f":"IF(Swales!D144<>\"\",Swales!D144,\"\")","v":""},{"$f":"IF(Swales!E144<>\"\",Swales!E144,\"\")","v":""},{"$f":"IF(Swales!F144<>\"\",Swales!F144,\"\")","v":""},null,null,null,null,null,"","","","","","",""]
[{"$f":"IF(Swales!A145<>\"\",Swales!A145,\"\")","v":""},{"$f":"IF(A97<>\"\",Swales!$I$21,\"\")","v":""},{"$f":"IF(Swales!B145<>\"\",Swales!B145,\"\")","v":""},{"$f":"IF(Swales!C145<>\"\",Swales!C145,\"\")","v":""},{"$f":"IF(Swales!D145<>\"\",Swales!D145,\"\")","v":""},{"$f":"IF(Swales!E145<>\"\",Swales!E145,\"\")","v":""},{"$f":"IF(Swales!F145<>\"\",Swales!F145,\"\")","v":""},null,null,null,null,null,"","","","","","",""]
[{"$f":"IF(Swales!A146<>\"\",Swales!A146,\"\")","v":""},{"$f":"IF(A98<>\"\",Swales!$I$21,\"\")","v":""},{"$f":"IF(Swales!B146<>\"\",Swales!B146,\"\")","v":""},{"$f":"IF(Swales!C146<>\"\",Swales!C146,\"\")","v":""},{"$f":"IF(Swales!D146<>\"\",Swales!D146,\"\")","v":""},{"$f":"IF(Swales!E146<>\"\",Swales!E146,\"\")","v":""},{"$f":"IF(Swales!F146<>\"\",Swales!F146,\"\")","v":""},null,null,null,null,null,"","","","","","",""]
[{"$f":"IF(Swales!A147<>\"\",Swales!A147,\"\")","v":""},{"$f":"IF(A99<>\"\",Swales!$I$21,\"\")","v":""},{"$f":"IF(Swales!B147<>\"\",Swales!B147,\"\")","v":""},{"$f":"IF(Swales!C147<>\"\",Swales!C147,\"\")","v":""},{"$f":"IF(Swales!D147<>\"\",Swales!D147,\"\")","v":""},{"$f":"IF(Swales!E147<>\"\",Swales!E147,\"\")","v":""},{"$f":"IF(Swales!F147<>\"\",Swales!F147,\"\")","v":""},null,null,null,null,null,"","","","","","",""]
[{"$f":"IF(Swales!A148<>\"\",Swales!A148,\"\")","v":""},{"$f":"IF(A100<>\"\",Swales!$I$21,\"\")","v":""},{"$f":"IF(Swales!B148<>\"\",Swales!B148,\"\")","v":""},{"$f":"IF(Swales!C148<>\"\",Swales!C148,\"\")","v":""},{"$f":"IF(Swales!D148<>\"\",Swales!D148,\"\")","v":""},{"$f":"IF(Swales!E148<>\"\",Swales!E148,\"\")","v":""},{"$f":"IF(Swales!F148<>\"\",Swales!F148,\"\")","v":""},null,null,null,null,null,"","","","","","",""]
[{"$f":"IF(Swales!A149<>\"\",Swales!A149,\"\")","v":""},{"$f":"IF(A101<>\"\",Swales!$I$21,\"\")","v":""},{"$f":"IF(Swales!B149<>\"\",Swales!B149,\"\")","v":""},{"$f":"IF(Swales!C149<>\"\",Swales!C149,\"\")","v":""},{"$f":"IF(Swales!D149<>\"\",Swales!D149,\"\")","v":""},{"$f":"IF(Swales!E149<>\"\",Swales!E149,\"\")","v":""},{"$f":"IF(Swales!F149<>\"\",Swales!F149,\"\")","v":""},null,null,null,null,null,"","","","","","",""]
[{"$f":"IF(Swales!A150<>\"\",Swales!A150,\"\")","v":""},{"$f":"IF(A102<>\"\",Swales!$I$21,\"\")","v":""},{"$f":"IF(Swales!B150<>\"\",Swales!B150,\"\")","v":""},{"$f":"IF(Swales!C150<>\"\",Swales!C150,\"\")","v":""},{"$f":"IF(Swales!D150<>\"\",Swales!D150,\"\")","v":""},{"$f":"IF(Swales!E150<>\"\",Swales!E150,\"\")","v":""},{"$f":"IF(Swales!F150<>\"\",Swales!F150,\"\")","v":""},null,null,null,null,null,"","","","","","",""]
[{"$f":"IF(Swales!A151<>\"\",Swales!A151,\"\")","v":""},{"$f":"IF(A103<>\"\",Swales!$I$21,\"\")","v":""},{"$f":"IF(Swales!B151<>\"\",Swales!B151,\"\")","v":""},{"$f":"IF(Swales!C151<>\"\",Swales!C151,\"\")","v":""},{"$f":"IF(Swales!D151<>\"\",Swales!D151,\"\")","v":""},{"$f":"IF(Swales!E151<>\"\",Swales!E151,\"\")","v":""},{"$f":"IF(Swales!F151<>\"\",Swales!F151,\"\")","v":""},null,null,null,null,null,"","","","","","",""]
[{"$f":"IF(Swales!A152<>\"\",Swales!A152,\"\")","v":""},{"$f":"IF(A104<>\"\",Swales!$I$21,\"\")","v":""},{"$f":"IF(Swales!B152<>\"\",Swales!B152,\"\")","v":""},{"$f":"IF(Swales!C152<>\"\",Swales!C152,\"\")","v":""},{"$f":"IF(Swales!D152<>\"\",Swales!D152,\"\")","v":""},{"$f":"IF(Swales!E152<>\"\",Swales!E152,\"\")","v":""},{"$f":"IF(Swales!F152<>\"\",Swales!F152,\"\")","v":""},null,null,null,null,null,"","","","","","",""]
[{"$f":"IF(Swales!A153<>\"\",Swales!A153,\"\")","v":""},{"$f":"IF(A105<>\"\",Swales!$I$21,\"\")","v":""},{"$f":"IF(Swales!B153<>\"\",Swales!B153,\"\")","v":""},{"$f":"IF(Swales!C153<>\"\",Swales!C153,\"\")","v":""},{"$f":"IF(Swales!D153<>\"\",Swales!D153,\"\")","v":""},{"$f":"IF(Swales!E153<>\"\",Swales!E153,\"\")","v":""},{"$f":"IF(Swales!F153<>\"\",Swales!F153,\"\")","v":""},null,null,null,null,null,"","","","","","",""]
[{"$f":"IF(Swales!A154<>\"\",Swales!A154,\"\")","v":""},{"$f":"IF(A106<>\"\",Swales!$I$21,\"\")","v":""},{"$f":"IF(Swales!B154<>\"\",Swales!B154,\"\")","v":""},{"$f":"IF(Swales!C154<>\"\",Swales!C154,\"\")","v":""},{"$f":"IF(Swales!D154<>\"\",Swales!D154,\"\")","v":""},{"$f":"IF(Swales!E154<>\"\",Swales!E154,\"\")","v":""},{"$f":"IF(Swales!F154<>\"\",Swales!F154,\"\")","v":""},null,null,null,null,null,"","","","","","",""]
[{"$f":"IF(Swales!A155<>\"\",Swales!A155,\"\")","v":""},{"$f":"IF(A107<>\"\",Swales!$I$21,\"\")","v":""},{"$f":"IF(Swales!B155<>\"\",Swales!B155,\"\")","v":""},{"$f":"IF(Swales!C155<>\"\",Swales!C155,\"\")","v":""},{"$f":"IF(Swales!D155<>\"\",Swales!D155,\"\")","v":""},{"$f":"IF(Swales!E155<>\"\",Swales!E155,\"\")","v":""},{"$f":"IF(Swales!F155<>\"\",Swales!F155,\"\")","v":""},null,null,null,null,null,"","","","","","",""]
[{"$f":"IF(Swales!A156<>\"\",Swales!A156,\"\")","v":""},{"$f":"IF(A108<>\"\",Swales!$I$21,\"\")","v":""},{"$f":"IF(Swales!B156<>\"\",Swales!B156,\"\")","v":""},{"$f":"IF(Swales!C156<>\"\",Swales!C156,\"\")","v":""},{"$f":"IF(Swales!D156<>\"\",Swales!D156,\"\")","v":""},{"$f":"IF(Swales!E156<>\"\",Swales!E156,\"\")","v":""},{"$f":"IF(Swales!F156<>\"\",Swales!F156,\"\")","v":""},null,null,null,null,null,"","","","","","",""]
[{"$f":"IF(Swales!A157<>\"\",Swales!A157,\"\")","v":""},{"$f":"IF(A109<>\"\",Swales!$I$21,\"\")","v":""},{"$f":"IF(Swales!B157<>\"\",Swales!B157,\"\")","v":""},{"$f":"IF(Swales!C157<>\"\",Swales!C157,\"\")","v":""},{"$f":"IF(Swales!D157<>\"\",Swales!D157,\"\")","v":""},{"$f":"IF(Swales!E157<>\"\",Swales!E157,\"\")","v":""},{"$f":"IF(Swales!F157<>\"\",Swales!F157,\"\")","v":""},null,null,null,null,null,"","","","","","",""]
[{"$f":"IF(Swales!A158<>\"\",Swales!A158,\"\")","v":""},{"$f":"IF(A110<>\"\",Swales!$I$21,\"\")","v":""},{"$f":"IF(Swales!B158<>\"\",Swales!B158,\"\")","v":""},{"$f":"IF(Swales!C158<>\"\",Swales!C158,\"\")","v":""},{"$f":"IF(Swales!D158<>\"\",Swales!D158,\"\")","v":""},{"$f":"IF(Swales!E158<>\"\",Swales!E158,\"\")","v":""},{"$f":"IF(Swales!F158<>\"\",Swales!F158,\"\")","v":""},null,null,null,null,null,"","","","","","",""]
[{"$f":"IF(Swales!A159<>\"\",Swales!A159,\"\")","v":""},{"$f":"IF(A111<>\"\",Swales!$I$21,\"\")","v":""},{"$f":"IF(Swales!B159<>\"\",Swales!B159,\"\")","v":""},{"$f":"IF(Swales!C159<>\"\",Swales!C159,\"\")","v":""},{"$f":"IF(Swales!D159<>\"\",Swales!D159,\"\")","v":""},{"$f":"IF(Swales!E159<>\"\",Swales!E159,\"\")","v":""},{"$f":"IF(Swales!F159<>\"\",Swales!F159,\"\")","v":""},null,null,null,null,null,"","","","","","",""]
[{"$f":"IF(Swales!A160<>\"\",Swales!A160,\"\")","v":""},{"$f":"IF(A112<>\"\",Swales!$I$21,\"\")","v":""},{"$f":"IF(Swales!B160<>\"\",Swales!B160,\"\")","v":""},{"$f":"IF(Swales!C160<>\"\",Swales!C160,\"\")","v":""},{"$f":"IF(Swales!D160<>\"\",Swales!D160,\"\")","v":""},{"$f":"IF(Swales!E160<>\"\",Swales!E160,\"\")","v":""},{"$f":"IF(Swales!F160<>\"\",Swales!F160,\"\")","v":""},null,null,null,null,null,"","","","","","",""]
[{"$f":"IF(Swales!A161<>\"\",Swales!A161,\"\")","v":""},{"$f":"IF(A113<>\"\",Swales!$I$21,\"\")","v":""},{"$f":"IF(Swales!B161<>\"\",Swales!B161,\"\")","v":""},{"$f":"IF(Swales!C161<>\"\",Swales!C161,\"\")","v":""},{"$f":"IF(Swales!D161<>\"\",Swales!D161,\"\")","v":""},{"$f":"IF(Swales!E161<>\"\",Swales!E161,\"\")","v":""},{"$f":"IF(Swales!F161<>\"\",Swales!F161,\"\")","v":""},null,null,null,null,null,"","","","","","",""]
[{"$f":"IF(Swales!A162<>\"\",Swales!A162,\"\")","v":""},{"$f":"IF(A114<>\"\",Swales!$I$21,\"\")","v":""},{"$f":"IF(Swales!B162<>\"\",Swales!B162,\"\")","v":""},{"$f":"IF(Swales!C162<>\"\",Swales!C162,\"\")","v":""},{"$f":"IF(Swales!D162<>\"\",Swales!D162,\"\")","v":""},{"$f":"IF(Swales!E162<>\"\",Swales!E162,\"\")","v":""},{"$f":"IF(Swales!F162<>\"\",Swales!F162,\"\")","v":""},null,null,null,null,null,"","","","","","",""]
[{"$f":"IF(Swales!A176<>\"\",Swales!A176,\"\")","v":""},{"$f":"IF(A115<>\"\",Swales!$I$21,\"\")","v":""},{"$f":"IF(Swales!B176<>\"\",Swales!B176,\"\")","v":""},{"$f":"IF(Swales!C176<>\"\",Swales!C176,\"\")","v":""},{"$f":"IF(Swales!D176<>\"\",Swales!D176,\"\")","v":""},{"$f":"IF(Swales!E176<>\"\",Swales!E176,\"\")","v":""},{"$f":"IF(Swales!F176<>\"\",Swales!F176,\"\")","v":""},null,null,null,null,null,"","","","","","",""]
[{"$f":"IF(Swales!A177<>\"\",Swales!A177,\"\")","v":""},{"$f":"IF(A116<>\"\",Swales!$I$21,\"\")","v":""},{"$f":"IF(Swales!B177<>\"\",Swales!B177,\"\")","v":""},{"$f":"IF(Swales!C177<>\"\",Swales!C177,\"\")","v":""},{"$f":"IF(Swales!D177<>\"\",Swales!D177,\"\")","v":""},{"$f":"IF(Swales!E177<>\"\",Swales!E177,\"\")","v":""},{"$f":"IF(Swales!F177<>\"\",Swales!F177,\"\")","v":""},null,null,null,null,null,"","","","","","",""]
[{"$f":"IF(Swales!A178<>\"\",Swales!A178,\"\")","v":""},{"$f":"IF(A117<>\"\",Swales!$I$21,\"\")","v":""},{"$f":"IF(Swales!B178<>\"\",Swales!B178,\"\")","v":""},{"$f":"IF(Swales!C178<>\"\",Swales!C178,\"\")","v":""},{"$f":"IF(Swales!D178<>\"\",Swales!D178,\"\")","v":""},{"$f":"IF(Swales!E178<>\"\",Swales!E178,\"\")","v":""},{"$f":"IF(Swales!F178<>\"\",Swales!F178,\"\")","v":""},null,null,null,null,null,"","","","","","",""]
[{"$f":"IF(Swales!A179<>\"\",Swales!A179,\"\")","v":""},{"$f":"IF(A118<>\"\",Swales!$I$21,\"\")","v":""},{"$f":"IF(Swales!B179<>\"\",Swales!B179,\"\")","v":""},{"$f":"IF(Swales!C179<>\"\",Swales!C179,\"\")","v":""},{"$f":"IF(Swales!D179<>\"\",Swales!D179,\"\")","v":""},{"$f":"IF(Swales!E179<>\"\",Swales!E179,\"\")","v":""},{"$f":"IF(Swales!F179<>\"\",Swales!F179,\"\")","v":""},null,null,null,null,null,"","","","","","",""]
[{"$f":"IF(Swales!A180<>\"\",Swales!A180,\"\")","v":""},{"$f":"IF(A119<>\"\",Swales!$I$21,\"\")","v":""},{"$f":"IF(Swales!B180<>\"\",Swales!B180,\"\")","v":""},{"$f":"IF(Swales!C180<>\"\",Swales!C180,\"\")","v":""},{"$f":"IF(Swales!D180<>\"\",Swales!D180,\"\")","v":""},{"$f":"IF(Swales!E180<>\"\",Swales!E180,\"\")","v":""},{"$f":"IF(Swales!F180<>\"\",Swales!F180,\"\")","v":""},null,null,null,null,null,"","","","","","",""]
[{"$f":"IF(Swales!A181<>\"\",Swales!A181,\"\")","v":""},{"$f":"IF(A120<>\"\",Swales!$I$21,\"\")","v":""},{"$f":"IF(Swales!B181<>\"\",Swales!B181,\"\")","v":""},{"$f":"IF(Swales!C181<>\"\",Swales!C181,\"\")","v":""},{"$f":"IF(Swales!D181<>\"\",Swales!D181,\"\")","v":""},{"$f":"IF(Swales!E181<>\"\",Swales!E181,\"\")","v":""},{"$f":"IF(Swales!F181<>\"\",Swales!F181,\"\")","v":""},null,null,null,null,null,"","","","","","",""]
[{"$f":"IF(Swales!A182<>\"\",Swales!A182,\"\")","v":""},{"$f":"IF(A121<>\"\",Swales!$I$21,\"\")","v":""},{"$f":"IF(Swales!B182<>\"\",Swales!B182,\"\")","v":""},{"$f":"IF(Swales!C182<>\"\",Swales!C182,\"\")","v":""},{"$f":"IF(Swales!D182<>\"\",Swales!D182,\"\")","v":""},{"$f":"IF(Swales!E182<>\"\",Swales!E182,\"\")","v":""},{"$f":"IF(Swales!F182<>\"\",Swales!F182,\"\")","v":""},null,null,null,null,null,"","","","","","",""]
[{"$f":"IF(Swales!A183<>\"\",Swales!A183,\"\")","v":""},{"$f":"IF(A122<>\"\",Swales!$I$21,\"\")","v":""},{"$f":"IF(Swales!B183<>\"\",Swales!B183,\"\")","v":""},{"$f":"IF(Swales!C183<>\"\",Swales!C183,\"\")","v":""},{"$f":"IF(Swales!D183<>\"\",Swales!D183,\"\")","v":""},{"$f":"IF(Swales!E183<>\"\",Swales!E183,\"\")","v":""},{"$f":"IF(Swales!F183<>\"\",Swales!F183,\"\")","v":""},null,null,null,null,null,"","","","","","",""]
[{"$f":"IF(Swales!A184<>\"\",Swales!A184,\"\")","v":""},{"$f":"IF(A123<>\"\",Swales!$I$21,\"\")","v":""},{"$f":"IF(Swales!B184<>\"\",Swales!B184,\"\")","v":""},{"$f":"IF(Swales!C184<>\"\",Swales!C184,\"\")","v":""},{"$f":"IF(Swales!D184<>\"\",Swales!D184,\"\")","v":""},{"$f":"IF(Swales!E184<>\"\",Swales!E184,\"\")","v":""},{"$f":"IF(Swales!F184<>\"\",Swales!F184,\"\")","v":""},null,null,null,null,null,"","","","","","",""]
[{"$f":"IF(Swales!A185<>\"\",Swales!A185,\"\")","v":""},{"$f":"IF(A124<>\"\",Swales!$I$21,\"\")","v":""},{"$f":"IF(Swales!B185<>\"\",Swales!B185,\"\")","v":""},{"$f":"IF(Swales!C185<>\"\",Swales!C185,\"\")","v":""},{"$f":"IF(Swales!D185<>\"\",Swales!D185,\"\")","v":""},{"$f":"IF(Swales!E185<>\"\",Swales!E185,\"\")","v":""},{"$f":"IF(Swales!F185<>\"\",Swales!F185,\"\")","v":""},null,null,null,null,null,"","","","","","",""]
[{"$f":"IF(Swales!A186<>\"\",Swales!A186,\"\")","v":""},{"$f":"IF(A125<>\"\",Swales!$I$21,\"\")","v":""},{"$f":"IF(Swales!B186<>\"\",Swales!B186,\"\")","v":""},{"$f":"IF(Swales!C186<>\"\",Swales!C186,\"\")","v":""},{"$f":"IF(Swales!D186<>\"\",Swales!D186,\"\")","v":""},{"$f":"IF(Swales!E186<>\"\",Swales!E186,\"\")","v":""},{"$f":"IF(Swales!F186<>\"\",Swales!F186,\"\")","v":""},null,null,null,null,null,"","","","","","",""]
[{"$f":"IF(Swales!A187<>\"\",Swales!A187,\"\")","v":""},{"$f":"IF(A126<>\"\",Swales!$I$21,\"\")","v":""},{"$f":"IF(Swales!B187<>\"\",Swales!B187,\"\")","v":""},{"$f":"IF(Swales!C187<>\"\",Swales!C187,\"\")","v":""},{"$f":"IF(Swales!D187<>\"\",Swales!D187,\"\")","v":""},{"$f":"IF(Swales!E187<>\"\",Swales!E187,\"\")","v":""},{"$f":"IF(Swales!F187<>\"\",Swales!F187,\"\")","v":""},null,null,null,null,null,"","","","","","",""]
[{"$f":"IF(Swales!A188<>\"\",Swales!A188,\"\")","v":""},{"$f":"IF(A127<>\"\",Swales!$I$21,\"\")","v":""},{"$f":"IF(Swales!B188<>\"\",Swales!B188,\"\")","v":""},{"$f":"IF(Swales!C188<>\"\",Swales!C188,\"\")","v":""},{"$f":"IF(Swales!D188<>\"\",Swales!D188,\"\")","v":""},{"$f":"IF(Swales!E188<>\"\",Swales!E188,\"\")","v":""},{"$f":"IF(Swales!F188<>\"\",Swales!F188,\"\")","v":""},null,null,null,null,null,"","","","","","",""]
[{"$f":"IF(Swales!A189<>\"\",Swales!A189,\"\")","v":""},{"$f":"IF(A128<>\"\",Swales!$I$21,\"\")","v":""},{"$f":"IF(Swales!B189<>\"\",Swales!B189,\"\")","v":""},{"$f":"IF(Swales!C189<>\"\",Swales!C189,\"\")","v":""},{"$f":"IF(Swales!D189<>\"\",Swales!D189,\"\")","v":""},{"$f":"IF(Swales!E189<>\"\",Swales!E189,\"\")","v":""},{"$f":"IF(Swales!F189<>\"\",Swales!F189,\"\")","v":""},null,null,null,null,null,"","","","","","",""]
[{"$f":"IF(Swales!A190<>\"\",Swales!A190,\"\")","v":""},{"$f":"IF(A129<>\"\",Swales!$I$21,\"\")","v":""},{"$f":"IF(Swales!B190<>\"\",Swales!B190,\"\")","v":""},{"$f":"IF(Swales!C190<>\"\",Swales!C190,\"\")","v":""},{"$f":"IF(Swales!D190<>\"\",Swales!D190,\"\")","v":""},{"$f":"IF(Swales!E190<>\"\",Swales!E190,\"\")","v":""},{"$f":"IF(Swales!F190<>\"\",Swales!F190,\"\")","v":""},null,null,null,null,null,"","","","","","",""]
[{"$f":"IF(Swales!A191<>\"\",Swales!A191,\"\")","v":""},{"$f":"IF(A130<>\"\",Swales!$I$21,\"\")","v":""},{"$f":"IF(Swales!B191<>\"\",Swales!B191,\"\")","v":""},{"$f":"IF(Swales!C191<>\"\",Swales!C191,\"\")","v":""},{"$f":"IF(Swales!D191<>\"\",Swales!D191,\"\")","v":""},{"$f":"IF(Swales!E191<>\"\",Swales!E191,\"\")","v":""},{"$f":"IF(Swales!F191<>\"\",Swales!F191,\"\")","v":""},null,null,null,null,null,"","","","","","",""]
[{"$f":"IF(Swales!A192<>\"\",Swales!A192,\"\")","v":""},{"$f":"IF(A131<>\"\",Swales!$I$21,\"\")","v":""},{"$f":"IF(Swales!B192<>\"\",Swales!B192,\"\")","v":""},{"$f":"IF(Swales!C192<>\"\",Swales!C192,\"\")","v":""},{"$f":"IF(Swales!D192<>\"\",Swales!D192,\"\")","v":""},{"$f":"IF(Swales!E192<>\"\",Swales!E192,\"\")","v":""},{"$f":"IF(Swales!F192<>\"\",Swales!F192,\"\")","v":""},null,null,null,null,null,"","","","","","",""]
[{"$f":"IF(Swales!A193<>\"\",Swales!A193,\"\")","v":""},{"$f":"IF(A132<>\"\",Swales!$I$21,\"\")","v":""},{"$f":"IF(Swales!B193<>\"\",Swales!B193,\"\")","v":""},{"$f":"IF(Swales!C193<>\"\",Swales!C193,\"\")","v":""},{"$f":"IF(Swales!D193<>\"\",Swales!D193,\"\")","v":""},{"$f":"IF(Swales!E193<>\"\",Swales!E193,\"\")","v":""},{"$f":"IF(Swales!F193<>\"\",Swales!F193,\"\")","v":""},null,null,null,null,null,"","","","","","",""]
[{"$f":"IF(Swales!A194<>\"\",Swales!A194,\"\")","v":""},{"$f":"IF(A133<>\"\",Swales!$I$21,\"\")","v":""},{"$f":"IF(Swales!B194<>\"\",Swales!B194,\"\")","v":""},{"$f":"IF(Swales!C194<>\"\",Swales!C194,\"\")","v":""},{"$f":"IF(Swales!D194<>\"\",Swales!D194,\"\")","v":""},{"$f":"IF(Swales!E194<>\"\",Swales!E194,\"\")","v":""},{"$f":"IF(Swales!F194<>\"\",Swales!F194,\"\")","v":""},null,null,null,null,null,"","","","","","",""]
[{"$f":"IF(Swales!A195<>\"\",Swales!A195,\"\")","v":""},{"$f":"IF(A134<>\"\",Swales!$I$21,\"\")","v":""},{"$f":"IF(Swales!B195<>\"\",Swales!B195,\"\")","v":""},{"$f":"IF(Swales!C195<>\"\",Swales!C195,\"\")","v":""},{"$f":"IF(Swales!D195<>\"\",Swales!D195,\"\")","v":""},{"$f":"IF(Swales!E195<>\"\",Swales!E195,\"\")","v":""},{"$f":"IF(Swales!F195<>\"\",Swales!F195,\"\")","v":""},null,null,null,null,null,"","","","","","",""]
[{"$f":"IF(Swales!A196<>\"\",Swales!A196,\"\")","v":""},{"$f":"IF(A135<>\"\",Swales!$I$21,\"\")","v":""},{"$f":"IF(Swales!B196<>\"\",Swales!B196,\"\")","v":""},{"$f":"IF(Swales!C196<>\"\",Swales!C196,\"\")","v":""},{"$f":"IF(Swales!D196<>\"\",Swales!D196,\"\")","v":""},{"$f":"IF(Swales!E196<>\"\",Swales!E196,\"\")","v":""},{"$f":"IF(Swales!F196<>\"\",Swales!F196,\"\")","v":""},null,null,null,null,null,"","","","","","",""]
[{"$f":"IF(Swales!A197<>\"\",Swales!A197,\"\")","v":""},{"$f":"IF(A136<>\"\",Swales!$I$21,\"\")","v":""},{"$f":"IF(Swales!B197<>\"\",Swales!B197,\"\")","v":""},{"$f":"IF(Swales!C197<>\"\",Swales!C197,\"\")","v":""},{"$f":"IF(Swales!D197<>\"\",Swales!D197,\"\")","v":""},{"$f":"IF(Swales!E197<>\"\",Swales!E197,\"\")","v":""},{"$f":"IF(Swales!F197<>\"\",Swales!F197,\"\")","v":""},null,null,null,null,null,"","","","","","",""]
[{"$f":"IF(Swales!A198<>\"\",Swales!A198,\"\")","v":""},{"$f":"IF(A137<>\"\",Swales!$I$21,\"\")","v":""},{"$f":"IF(Swales!B198<>\"\",Swales!B198,\"\")","v":""},{"$f":"IF(Swales!C198<>\"\",Swales!C198,\"\")","v":""},{"$f":"IF(Swales!D198<>\"\",Swales!D198,\"\")","v":""},{"$f":"IF(Swales!E198<>\"\",Swales!E198,\"\")","v":""},{"$f":"IF(Swales!F198<>\"\",Swales!F198,\"\")","v":""},null,null,null,null,null,"","","","","","",""]
[{"$f":"IF(Swales!A199<>\"\",Swales!A199,\"\")","v":""},{"$f":"IF(A138<>\"\",Swales!$I$21,\"\")","v":""},{"$f":"IF(Swales!B199<>\"\",Swales!B199,\"\")","v":""},{"$f":"IF(Swales!C199<>\"\",Swales!C199,\"\")","v":""},{"$f":"IF(Swales!D199<>\"\",Swales!D199,\"\")","v":""},{"$f":"IF(Swales!E199<>\"\",Swales!E199,\"\")","v":""},{"$f":"IF(Swales!F199<>\"\",Swales!F199,\"\")","v":""},null,null,null,null,null,"","","","","","",""]
[{"$f":"IF(Swales!A200<>\"\",Swales!A200,\"\")","v":""},{"$f":"IF(A139<>\"\",Swales!$I$21,\"\")","v":""},{"$f":"IF(Swales!B200<>\"\",Swales!B200,\"\")","v":""},{"$f":"IF(Swales!C200<>\"\",Swales!C200,\"\")","v":""},{"$f":"IF(Swales!D200<>\"\",Swales!D200,\"\")","v":""},{"$f":"IF(Swales!E200<>\"\",Swales!E200,\"\")","v":""},{"$f":"IF(Swales!F200<>\"\",Swales!F200,\"\")","v":""},null,null,null,null,null,"","","","","","",""]
[{"$f":"IF(Swales!A201<>\"\",Swales!A201,\"\")","v":""},{"$f":"IF(A140<>\"\",Swales!$I$21,\"\")","v":""},{"$f":"IF(Swales!B201<>\"\",Swales!B201,\"\")","v":""},{"$f":"IF(Swales!C201<>\"\",Swales!C201,\"\")","v":""},{"$f":"IF(Swales!D201<>\"\",Swales!D201,\"\")","v":""},{"$f":"IF(Swales!E201<>\"\",Swales!E201,\"\")","v":""},{"$f":"IF(Swales!F201<>\"\",Swales!F201,\"\")","v":""},null,null,null,null,null,"","","","","","",""]
[{"$f":"IF(Swales!A202<>\"\",Swales!A202,\"\")","v":""},{"$f":"IF(A141<>\"\",Swales!$I$21,\"\")","v":""},{"$f":"IF(Swales!B202<>\"\",Swales!B202,\"\")","v":""},{"$f":"IF(Swales!C202<>\"\",Swales!C202,\"\")","v":""},{"$f":"IF(Swales!D202<>\"\",Swales!D202,\"\")","v":""},{"$f":"IF(Swales!E202<>\"\",Swales!E202,\"\")","v":""},{"$f":"IF(Swales!F202<>\"\",Swales!F202,\"\")","v":""},null,null,null,null,null,"","","","","","",""]
[{"$f":"IF(Swales!A203<>\"\",Swales!A203,\"\")","v":""},{"$f":"IF(A142<>\"\",Swales!$I$21,\"\")","v":""},{"$f":"IF(Swales!B203<>\"\",Swales!B203,\"\")","v":""},{"$f":"IF(Swales!C203<>\"\",Swales!C203,\"\")","v":""},{"$f":"IF(Swales!D203<>\"\",Swales!D203,\"\")","v":""},{"$f":"IF(Swales!E203<>\"\",Swales!E203,\"\")","v":""},{"$f":"IF(Swales!F203<>\"\",Swales!F203,\"\")","v":""},null,null,null,null,null,"","","","","","",""]
[{"$f":"IF(Swales!A204<>\"\",Swales!A204,\"\")","v":""},{"$f":"IF(A143<>\"\",Swales!$I$21,\"\")","v":""},{"$f":"IF(Swales!B204<>\"\",Swales!B204,\"\")","v":""},{"$f":"IF(Swales!C204<>\"\",Swales!C204,\"\")","v":""},{"$f":"IF(Swales!D204<>\"\",Swales!D204,\"\")","v":""},{"$f":"IF(Swales!E204<>\"\",Swales!E204,\"\")","v":""},{"$f":"IF(Swales!F204<>\"\",Swales!F204,\"\")","v":""},null,null,null,null,null,"","","","","","",""]
[{"$f":"IF(Swales!A205<>\"\",Swales!A205,\"\")","v":""},{"$f":"IF(A144<>\"\",Swales!$I$21,\"\")","v":""},{"$f":"IF(Swales!B205<>\"\",Swales!B205,\"\")","v":""},{"$f":"IF(Swales!C205<>\"\",Swales!C205,\"\")","v":""},{"$f":"IF(Swales!D205<>\"\",Swales!D205,\"\")","v":""},{"$f":"IF(Swales!E205<>\"\",Swales!E205,\"\")","v":""},{"$f":"IF(Swales!F205<>\"\",Swales!F205,\"\")","v":""},null,null,null,null,null,"","","","","","",""]
[{"$f":"IF(Swales!A206<>\"\",Swales!A206,\"\")","v":""},{"$f":"IF(A145<>\"\",Swales!$I$21,\"\")","v":""},{"$f":"IF(Swales!B206<>\"\",Swales!B206,\"\")","v":""},{"$f":"IF(Swales!C206<>\"\",Swales!C206,\"\")","v":""},{"$f":"IF(Swales!D206<>\"\",Swales!D206,\"\")","v":""},{"$f":"IF(Swales!E206<>\"\",Swales!E206,\"\")","v":""},{"$f":"IF(Swales!F206<>\"\",Swales!F206,\"\")","v":""},null,null,null,null,null,"","","","","","",""]
[{"$f":"IF(Swales!A207<>\"\",Swales!A207,\"\")","v":""},{"$f":"IF(A146<>\"\",Swales!$I$21,\"\")","v":""},{"$f":"IF(Swales!B207<>\"\",Swales!B207,\"\")","v":""},{"$f":"IF(Swales!C207<>\"\",Swales!C207,\"\")","v":""},{"$f":"IF(Swales!D207<>\"\",Swales!D207,\"\")","v":""},{"$f":"IF(Swales!E207<>\"\",Swales!E207,\"\")","v":""},{"$f":"IF(Swales!F207<>\"\",Swales!F207,\"\")","v":""},null,null,null,null,null,"","","","","","",""]
[{"$f":"IF(Swales!A208<>\"\",Swales!A208,\"\")","v":""},{"$f":"IF(A147<>\"\",Swales!$I$21,\"\")","v":""},{"$f":"IF(Swales!B208<>\"\",Swales!B208,\"\")","v":""},{"$f":"IF(Swales!C208<>\"\",Swales!C208,\"\")","v":""},{"$f":"IF(Swales!D208<>\"\",Swales!D208,\"\")","v":""},{"$f":"IF(Swales!E208<>\"\",Swales!E208,\"\")","v":""},{"$f":"IF(Swales!F208<>\"\",Swales!F208,\"\")","v":""},null,null,null,null,null,"","","","","","",""]
[{"$f":"IF(Swales!A209<>\"\",Swales!A209,\"\")","v":""},{"$f":"IF(A148<>\"\",Swales!$I$21,\"\")","v":""},{"$f":"IF(Swales!B209<>\"\",Swales!B209,\"\")","v":""},{"$f":"IF(Swales!C209<>\"\",Swales!C209,\"\")","v":""},{"$f":"IF(Swales!D209<>\"\",Swales!D209,\"\")","v":""},{"$f":"IF(Swales!E209<>\"\",Swales!E209,\"\")","v":""},{"$f":"IF(Swales!F209<>\"\",Swales!F209,\"\")","v":""},null,null,null,null,null,"","","","","","",""]
[{"$f":"IF(Swales!A210<>\"\",Swales!A210,\"\")","v":""},{"$f":"IF(A149<>\"\",Swales!$I$21,\"\")","v":""},{"$f":"IF(Swales!B210<>\"\",Swales!B210,\"\")","v":""},{"$f":"IF(Swales!C210<>\"\",Swales!C210,\"\")","v":""},{"$f":"IF(Swales!D210<>\"\",Swales!D210,\"\")","v":""},{"$f":"IF(Swales!E210<>\"\",Swales!E210,\"\")","v":""},{"$f":"IF(Swales!F210<>\"\",Swales!F210,\"\")","v":""},null,null,null,null,null,"","","","","","",""]
[{"$f":"IF(Swales!A211<>\"\",Swales!A211,\"\")","v":""},{"$f":"IF(A150<>\"\",Swales!$I$21,\"\")","v":""},{"$f":"IF(Swales!B211<>\"\",Swales!B211,\"\")","v":""},{"$f":"IF(Swales!C211<>\"\",Swales!C211,\"\")","v":""},{"$f":"IF(Swales!D211<>\"\",Swales!D211,\"\")","v":""},{"$f":"IF(Swales!E211<>\"\",Swales!E211,\"\")","v":""},{"$f":"IF(Swales!F211<>\"\",Swales!F211,\"\")","v":""},null,null,null,null,null,"","","","","","",""]
[{"$f":"IF(Swales!A212<>\"\",Swales!A212,\"\")","v":""},{"$f":"IF(A151<>\"\",Swales!$I$21,\"\")","v":""},{"$f":"IF(Swales!B212<>\"\",Swales!B212,\"\")","v":""},{"$f":"IF(Swales!C212<>\"\",Swales!C212,\"\")","v":""},{"$f":"IF(Swales!D212<>\"\",Swales!D212,\"\")","v":""},{"$f":"IF(Swales!E212<>\"\",Swales!E212,\"\")","v":""},{"$f":"IF(Swales!F212<>\"\",Swales!F212,\"\")","v":""},null,null,null,null,null,"","","","","","",""]
[{"$f":"IF(Swales!A213<>\"\",Swales!A213,\"\")","v":""},{"$f":"IF(A152<>\"\",Swales!$I$21,\"\")","v":""},{"$f":"IF(Swales!B213<>\"\",Swales!B213,\"\")","v":""},{"$f":"IF(Swales!C213<>\"\",Swales!C213,\"\")","v":""},{"$f":"IF(Swales!D213<>\"\",Swales!D213,\"\")","v":""},{"$f":"IF(Swales!E213<>\"\",Swales!E213,\"\")","v":""},{"$f":"IF(Swales!F213<>\"\",Swales!F213,\"\")","v":""},null,null,null,null,null,"","","","","","",""]
[{"$f":"IF(Swales!A227<>\"\",Swales!A227,\"\")","v":""},{"$f":"IF(A153<>\"\",Swales!$I$21,\"\")","v":""},{"$f":"IF(Swales!B227<>\"\",Swales!B227,\"\")","v":""},{"$f":"IF(Swales!C227<>\"\",Swales!C227,\"\")","v":""},{"$f":"IF(Swales!D227<>\"\",Swales!D227,\"\")","v":""},{"$f":"IF(Swales!E227<>\"\",Swales!E227,\"\")","v":""},{"$f":"IF(Swales!F227<>\"\",Swales!F227,\"\")","v":""},null,null,null,null,null,"","","","","","",""]
[{"$f":"IF(Swales!A228<>\"\",Swales!A228,\"\")","v":""},{"$f":"IF(A154<>\"\",Swales!$I$21,\"\")","v":""},{"$f":"IF(Swales!B228<>\"\",Swales!B228,\"\")","v":""},{"$f":"IF(Swales!C228<>\"\",Swales!C228,\"\")","v":""},{"$f":"IF(Swales!D228<>\"\",Swales!D228,\"\")","v":""},{"$f":"IF(Swales!E228<>\"\",Swales!E228,\"\")","v":""},{"$f":"IF(Swales!F228<>\"\",Swales!F228,\"\")","v":""},null,null,null,null,null,"","","","","","",""]
[{"$f":"IF(Swales!A229<>\"\",Swales!A229,\"\")","v":""},{"$f":"IF(A155<>\"\",Swales!$I$21,\"\")","v":""},{"$f":"IF(Swales!B229<>\"\",Swales!B229,\"\")","v":""},{"$f":"IF(Swales!C229<>\"\",Swales!C229,\"\")","v":""},{"$f":"IF(Swales!D229<>\"\",Swales!D229,\"\")","v":""},{"$f":"IF(Swales!E229<>\"\",Swales!E229,\"\")","v":""},{"$f":"IF(Swales!F229<>\"\",Swales!F229,\"\")","v":""},null,null,null,null,null,"","","","","","",""]
[{"$f":"IF(Swales!A230<>\"\",Swales!A230,\"\")","v":""},{"$f":"IF(A156<>\"\",Swales!$I$21,\"\")","v":""},{"$f":"IF(Swales!B230<>\"\",Swales!B230,\"\")","v":""},{"$f":"IF(Swales!C230<>\"\",Swales!C230,\"\")","v":""},{"$f":"IF(Swales!D230<>\"\",Swales!D230,\"\")","v":""},{"$f":"IF(Swales!E230<>\"\",Swales!E230,\"\")","v":""},{"$f":"IF(Swales!F230<>\"\",Swales!F230,\"\")","v":""},null,null,null,null,null,"","","","","","",""]
[{"$f":"IF(Swales!A231<>\"\",Swales!A231,\"\")","v":""},{"$f":"IF(A157<>\"\",Swales!$I$21,\"\")","v":""},{"$f":"IF(Swales!B231<>\"\",Swales!B231,\"\")","v":""},{"$f":"IF(Swales!C231<>\"\",Swales!C231,\"\")","v":""},{"$f":"IF(Swales!D231<>\"\",Swales!D231,\"\")","v":""},{"$f":"IF(Swales!E231<>\"\",Swales!E231,\"\")","v":""},{"$f":"IF(Swales!F231<>\"\",Swales!F231,\"\")","v":""},null,null,null,null,null,"","","","","","",""]
[{"$f":"IF(Swales!A232<>\"\",Swales!A232,\"\")","v":""},{"$f":"IF(A158<>\"\",Swales!$I$21,\"\")","v":""},{"$f":"IF(Swales!B232<>\"\",Swales!B232,\"\")","v":""},{"$f":"IF(Swales!C232<>\"\",Swales!C232,\"\")","v":""},{"$f":"IF(Swales!D232<>\"\",Swales!D232,\"\")","v":""},{"$f":"IF(Swales!E232<>\"\",Swales!E232,\"\")","v":""},{"$f":"IF(Swales!F232<>\"\",Swales!F232,\"\")","v":""},null,null,null,null,null,"","","","","","",""]
[{"$f":"IF(Swales!A233<>\"\",Swales!A233,\"\")","v":""},{"$f":"IF(A159<>\"\",Swales!$I$21,\"\")","v":""},{"$f":"IF(Swales!B233<>\"\",Swales!B233,\"\")","v":""},{"$f":"IF(Swales!C233<>\"\",Swales!C233,\"\")","v":""},{"$f":"IF(Swales!D233<>\"\",Swales!D233,\"\")","v":""},{"$f":"IF(Swales!E233<>\"\",Swales!E233,\"\")","v":""},{"$f":"IF(Swales!F233<>\"\",Swales!F233,\"\")","v":""},null,null,null,null,null,"","","","","","",""]
[{"$f":"IF(Swales!A234<>\"\",Swales!A234,\"\")","v":""},{"$f":"IF(A160<>\"\",Swales!$I$21,\"\")","v":""},{"$f":"IF(Swales!B234<>\"\",Swales!B234,\"\")","v":""},{"$f":"IF(Swales!C234<>\"\",Swales!C234,\"\")","v":""},{"$f":"IF(Swales!D234<>\"\",Swales!D234,\"\")","v":""},{"$f":"IF(Swales!E234<>\"\",Swales!E234,\"\")","v":""},{"$f":"IF(Swales!F234<>\"\",Swales!F234,\"\")","v":""},null,null,null,null,null,"","","","","","",""]
[{"$f":"IF(Swales!A235<>\"\",Swales!A235,\"\")","v":""},{"$f":"IF(A161<>\"\",Swales!$I$21,\"\")","v":""},{"$f":"IF(Swales!B235<>\"\",Swales!B235,\"\")","v":""},{"$f":"IF(Swales!C235<>\"\",Swales!C235,\"\")","v":""},{"$f":"IF(Swales!D235<>\"\",Swales!D235,\"\")","v":""},{"$f":"IF(Swales!E235<>\"\",Swales!E235,\"\")","v":""},{"$f":"IF(Swales!F235<>\"\",Swales!F235,\"\")","v":""},null,null,null,null,null,"","","","","","",""]
[{"$f":"IF(Swales!A236<>\"\",Swales!A236,\"\")","v":""},{"$f":"IF(A162<>\"\",Swales!$I$21,\"\")","v":""},{"$f":"IF(Swales!B236<>\"\",Swales!B236,\"\")","v":""},{"$f":"IF(Swales!C236<>\"\",Swales!C236,\"\")","v":""},{"$f":"IF(Swales!D236<>\"\",Swales!D236,\"\")","v":""},{"$f":"IF(Swales!E236<>\"\",Swales!E236,\"\")","v":""},{"$f":"IF(Swales!F236<>\"\",Swales!F236,\"\")","v":""},null,null,null,null,null,"","","","","","",""]
[{"$f":"IF(Swales!A237<>\"\",Swales!A237,\"\")","v":""},{"$f":"IF(A163<>\"\",Swales!$I$21,\"\")","v":""},{"$f":"IF(Swales!B237<>\"\",Swales!B237,\"\")","v":""},{"$f":"IF(Swales!C237<>\"\",Swales!C237,\"\")","v":""},{"$f":"IF(Swales!D237<>\"\",Swales!D237,\"\")","v":""},{"$f":"IF(Swales!E237<>\"\",Swales!E237,\"\")","v":""},{"$f":"IF(Swales!F237<>\"\",Swales!F237,\"\")","v":""},null,null,null,null,null,"","","","","","",""]
[{"$f":"IF(Swales!A238<>\"\",Swales!A238,\"\")","v":""},{"$f":"IF(A164<>\"\",Swales!$I$21,\"\")","v":""},{"$f":"IF(Swales!B238<>\"\",Swales!B238,\"\")","v":""},{"$f":"IF(Swales!C238<>\"\",Swales!C238,\"\")","v":""},{"$f":"IF(Swales!D238<>\"\",Swales!D238,\"\")","v":""},{"$f":"IF(Swales!E238<>\"\",Swales!E238,\"\")","v":""},{"$f":"IF(Swales!F238<>\"\",Swales!F238,\"\")","v":""},null,null,null,null,null,"","","","","","",""]
[{"$f":"IF(Swales!A239<>\"\",Swales!A239,\"\")","v":""},{"$f":"IF(A165<>\"\",Swales!$I$21,\"\")","v":""},{"$f":"IF(Swales!B239<>\"\",Swales!B239,\"\")","v":""},{"$f":"IF(Swales!C239<>\"\",Swales!C239,\"\")","v":""},{"$f":"IF(Swales!D239<>\"\",Swales!D239,\"\")","v":""},{"$f":"IF(Swales!E239<>\"\",Swales!E239,\"\")","v":""},{"$f":"IF(Swales!F239<>\"\",Swales!F239,\"\")","v":""},null,null,null,null,null,"","","","","","",""]
[{"$f":"IF(Swales!A240<>\"\",Swales!A240,\"\")","v":""},{"$f":"IF(A166<>\"\",Swales!$I$21,\"\")","v":""},{"$f":"IF(Swales!B240<>\"\",Swales!B240,\"\")","v":""},{"$f":"IF(Swales!C240<>\"\",Swales!C240,\"\")","v":""},{"$f":"IF(Swales!D240<>\"\",Swales!D240,\"\")","v":""},{"$f":"IF(Swales!E240<>\"\",Swales!E240,\"\")","v":""},{"$f":"IF(Swales!F240<>\"\",Swales!F240,\"\")","v":""},null,null,null,null,null,"","","","","","",""]
[{"$f":"IF(Swales!A241<>\"\",Swales!A241,\"\")","v":""},{"$f":"IF(A167<>\"\",Swales!$I$21,\"\")","v":""},{"$f":"IF(Swales!B241<>\"\",Swales!B241,\"\")","v":""},{"$f":"IF(Swales!C241<>\"\",Swales!C241,\"\")","v":""},{"$f":"IF(Swales!D241<>\"\",Swales!D241,\"\")","v":""},{"$f":"IF(Swales!E241<>\"\",Swales!E241,\"\")","v":""},{"$f":"IF(Swales!F241<>\"\",Swales!F241,\"\")","v":""},null,null,null,null,null,"","","","","","",""]
[{"$f":"IF(Swales!A242<>\"\",Swales!A242,\"\")","v":""},{"$f":"IF(A168<>\"\",Swales!$I$21,\"\")","v":""},{"$f":"IF(Swales!B242<>\"\",Swales!B242,\"\")","v":""},{"$f":"IF(Swales!C242<>\"\",Swales!C242,\"\")","v":""},{"$f":"IF(Swales!D242<>\"\",Swales!D242,\"\")","v":""},{"$f":"IF(Swales!E242<>\"\",Swales!E242,\"\")","v":""},{"$f":"IF(Swales!F242<>\"\",Swales!F242,\"\")","v":""},null,null,null,null,null,"","","","","","",""]
[{"$f":"IF(Swales!A243<>\"\",Swales!A243,\"\")","v":""},{"$f":"IF(A169<>\"\",Swales!$I$21,\"\")","v":""},{"$f":"IF(Swales!B243<>\"\",Swales!B243,\"\")","v":""},{"$f":"IF(Swales!C243<>\"\",Swales!C243,\"\")","v":""},{"$f":"IF(Swales!D243<>\"\",Swales!D243,\"\")","v":""},{"$f":"IF(Swales!E243<>\"\",Swales!E243,\"\")","v":""},{"$f":"IF(Swales!F243<>\"\",Swales!F243,\"\")","v":""},null,null,null,null,null,"","","","","","",""]
[{"$f":"IF(Swales!A244<>\"\",Swales!A244,\"\")","v":""},{"$f":"IF(A170<>\"\",Swales!$I$21,\"\")","v":""},{"$f":"IF(Swales!B244<>\"\",Swales!B244,\"\")","v":""},{"$f":"IF(Swales!C244<>\"\",Swales!C244,\"\")","v":""},{"$f":"IF(Swales!D244<>\"\",Swales!D244,\"\")","v":""},{"$f":"IF(Swales!E244<>\"\",Swales!E244,\"\")","v":""},{"$f":"IF(Swales!F244<>\"\",Swales!F244,\"\")","v":""},null,null,null,null,null,"","","","","","",""]
[{"$f":"IF(Swales!A245<>\"\",Swales!A245,\"\")","v":""},{"$f":"IF(A171<>\"\",Swales!$I$21,\"\")","v":""},{"$f":"IF(Swales!B245<>\"\",Swales!B245,\"\")","v":""},{"$f":"IF(Swales!C245<>\"\",Swales!C245,\"\")","v":""},{"$f":"IF(Swales!D245<>\"\",Swales!D245,\"\")","v":""},{"$f":"IF(Swales!E245<>\"\",Swales!E245,\"\")","v":""},{"$f":"IF(Swales!F245<>\"\",Swales!F245,\"\")","v":""},null,null,null,null,null,"","","","","","",""]
[{"$f":"IF(Swales!A246<>\"\",Swales!A246,\"\")","v":""},{"$f":"IF(A172<>\"\",Swales!$I$21,\"\")","v":""},{"$f":"IF(Swales!B246<>\"\",Swales!B246,\"\")","v":""},{"$f":"IF(Swales!C246<>\"\",Swales!C246,\"\")","v":""},{"$f":"IF(Swales!D246<>\"\",Swales!D246,\"\")","v":""},{"$f":"IF(Swales!E246<>\"\",Swales!E246,\"\")","v":""},{"$f":"IF(Swales!F246<>\"\",Swales!F246,\"\")","v":""},null,null,null,null,null,"","","","","","",""]
[{"$f":"IF(Swales!A247<>\"\",Swales!A247,\"\")","v":""},{"$f":"IF(A173<>\"\",Swales!$I$21,\"\")","v":""},{"$f":"IF(Swales!B247<>\"\",Swales!B247,\"\")","v":""},{"$f":"IF(Swales!C247<>\"\",Swales!C247,\"\")","v":""},{"$f":"IF(Swales!D247<>\"\",Swales!D247,\"\")","v":""},{"$f":"IF(Swales!E247<>\"\",Swales!E247,\"\")","v":""},{"$f":"IF(Swales!F247<>\"\",Swales!F247,\"\")","v":""},null,null,null,null,null,"","","","","","",""]
[{"$f":"IF(Swales!A248<>\"\",Swales!A248,\"\")","v":""},{"$f":"IF(A174<>\"\",Swales!$I$21,\"\")","v":""},{"$f":"IF(Swales!B248<>\"\",Swales!B248,\"\")","v":""},{"$f":"IF(Swales!C248<>\"\",Swales!C248,\"\")","v":""},{"$f":"IF(Swales!D248<>\"\",Swales!D248,\"\")","v":""},{"$f":"IF(Swales!E248<>\"\",Swales!E248,\"\")","v":""},{"$f":"IF(Swales!F248<>\"\",Swales!F248,\"\")","v":""},null,null,null,null,null,"","","","","","",""]
[{"$f":"IF(Swales!A249<>\"\",Swales!A249,\"\")","v":""},{"$f":"IF(A175<>\"\",Swales!$I$21,\"\")","v":""},{"$f":"IF(Swales!B249<>\"\",Swales!B249,\"\")","v":""},{"$f":"IF(Swales!C249<>\"\",Swales!C249,\"\")","v":""},{"$f":"IF(Swales!D249<>\"\",Swales!D249,\"\")","v":""},{"$f":"IF(Swales!E249<>\"\",Swales!E249,\"\")","v":""},{"$f":"IF(Swales!F249<>\"\",Swales!F249,\"\")","v":""},null,null,null,null,null,"","","","","","",""]
[{"$f":"IF(Swales!A250<>\"\",Swales!A250,\"\")","v":""},{"$f":"IF(A176<>\"\",Swales!$I$21,\"\")","v":""},{"$f":"IF(Swales!B250<>\"\",Swales!B250,\"\")","v":""},{"$f":"IF(Swales!C250<>\"\",Swales!C250,\"\")","v":""},{"$f":"IF(Swales!D250<>\"\",Swales!D250,\"\")","v":""},{"$f":"IF(Swales!E250<>\"\",Swales!E250,\"\")","v":""},{"$f":"IF(Swales!F250<>\"\",Swales!F250,\"\")","v":""},null,null,null,null,null,"","","","","","",""]
[{"$f":"IF(Swales!A251<>\"\",Swales!A251,\"\")","v":""},{"$f":"IF(A177<>\"\",Swales!$I$21,\"\")","v":""},{"$f":"IF(Swales!B251<>\"\",Swales!B251,\"\")","v":""},{"$f":"IF(Swales!C251<>\"\",Swales!C251,\"\")","v":""},{"$f":"IF(Swales!D251<>\"\",Swales!D251,\"\")","v":""},{"$f":"IF(Swales!E251<>\"\",Swales!E251,\"\")","v":""},{"$f":"IF(Swales!F251<>\"\",Swales!F251,\"\")","v":""},null,null,null,null,null,"","","","","","",""]
[{"$f":"IF(Swales!A252<>\"\",Swales!A252,\"\")","v":""},{"$f":"IF(A178<>\"\",Swales!$I$21,\"\")","v":""},{"$f":"IF(Swales!B252<>\"\",Swales!B252,\"\")","v":""},{"$f":"IF(Swales!C252<>\"\",Swales!C252,\"\")","v":""},{"$f":"IF(Swales!D252<>\"\",Swales!D252,\"\")","v":""},{"$f":"IF(Swales!E252<>\"\",Swales!E252,\"\")","v":""},{"$f":"IF(Swales!F252<>\"\",Swales!F252,\"\")","v":""},null,null,null,null,null,"","","","","","",""]
[{"$f":"IF(Swales!A253<>\"\",Swales!A253,\"\")","v":""},{"$f":"IF(A179<>\"\",Swales!$I$21,\"\")","v":""},{"$f":"IF(Swales!B253<>\"\",Swales!B253,\"\")","v":""},{"$f":"IF(Swales!C253<>\"\",Swales!C253,\"\")","v":""},{"$f":"IF(Swales!D253<>\"\",Swales!D253,\"\")","v":""},{"$f":"IF(Swales!E253<>\"\",Swales!E253,\"\")","v":""},{"$f":"IF(Swales!F253<>\"\",Swales!F253,\"\")","v":""},null,null,null,null,null,"","","","","","",""]
[{"$f":"IF(Swales!A254<>\"\",Swales!A254,\"\")","v":""},{"$f":"IF(A180<>\"\",Swales!$I$21,\"\")","v":""},{"$f":"IF(Swales!B254<>\"\",Swales!B254,\"\")","v":""},{"$f":"IF(Swales!C254<>\"\",Swales!C254,\"\")","v":""},{"$f":"IF(Swales!D254<>\"\",Swales!D254,\"\")","v":""},{"$f":"IF(Swales!E254<>\"\",Swales!E254,\"\")","v":""},{"$f":"IF(Swales!F254<>\"\",Swales!F254,\"\")","v":""},null,null,null,null,null,"","","","","","",""]
[{"$f":"IF(Swales!A255<>\"\",Swales!A255,\"\")","v":""},{"$f":"IF(A181<>\"\",Swales!$I$21,\"\")","v":""},{"$f":"IF(Swales!B255<>\"\",Swales!B255,\"\")","v":""},{"$f":"IF(Swales!C255<>\"\",Swales!C255,\"\")","v":""},{"$f":"IF(Swales!D255<>\"\",Swales!D255,\"\")","v":""},{"$f":"IF(Swales!E255<>\"\",Swales!E255,\"\")","v":""},{"$f":"IF(Swales!F255<>\"\",Swales!F255,\"\")","v":""},null,null,null,null,null,"","","","","","",""]
[{"$f":"IF(Swales!A256<>\"\",Swales!A256,\"\")","v":""},{"$f":"IF(A182<>\"\",Swales!$I$21,\"\")","v":""},{"$f":"IF(Swales!B256<>\"\",Swales!B256,\"\")","v":""},{"$f":"IF(Swales!C256<>\"\",Swales!C256,\"\")","v":""},{"$f":"IF(Swales!D256<>\"\",Swales!D256,\"\")","v":""},{"$f":"IF(Swales!E256<>\"\",Swales!E256,\"\")","v":""},{"$f":"IF(Swales!F256<>\"\",Swales!F256,\"\")","v":""},null,null,null,null,null,"","","","","","",""]
[{"$f":"IF(Swales!A257<>\"\",Swales!A257,\"\")","v":""},{"$f":"IF(A183<>\"\",Swales!$I$21,\"\")","v":""},{"$f":"IF(Swales!B257<>\"\",Swales!B257,\"\")","v":""},{"$f":"IF(Swales!C257<>\"\",Swales!C257,\"\")","v":""},{"$f":"IF(Swales!D257<>\"\",Swales!D257,\"\")","v":""},{"$f":"IF(Swales!E257<>\"\",Swales!E257,\"\")","v":""},{"$f":"IF(Swales!F257<>\"\",Swales!F257,\"\")","v":""},null,null,null,null,null,"","","","","","",""]
[{"$f":"IF(Swales!A258<>\"\",Swales!A258,\"\")","v":""},{"$f":"IF(A184<>\"\",Swales!$I$21,\"\")","v":""},{"$f":"IF(Swales!B258<>\"\",Swales!B258,\"\")","v":""},{"$f":"IF(Swales!C258<>\"\",Swales!C258,\"\")","v":""},{"$f":"IF(Swales!D258<>\"\",Swales!D258,\"\")","v":""},{"$f":"IF(Swales!E258<>\"\",Swales!E258,\"\")","v":""},{"$f":"IF(Swales!F258<>\"\",Swales!F258,\"\")","v":""},null,null,null,null,null,"","","","","","",""]
[{"$f":"IF(Swales!A259<>\"\",Swales!A259,\"\")","v":""},{"$f":"IF(A185<>\"\",Swales!$I$21,\"\")","v":""},{"$f":"IF(Swales!B259<>\"\",Swales!B259,\"\")","v":""},{"$f":"IF(Swales!C259<>\"\",Swales!C259,\"\")","v":""},{"$f":"IF(Swales!D259<>\"\",Swales!D259,\"\")","v":""},{"$f":"IF(Swales!E259<>\"\",Swales!E259,\"\")","v":""},{"$f":"IF(Swales!F259<>\"\",Swales!F259,\"\")","v":""},null,null,null,null,null,"","","","","","",""]
[{"$f":"IF(Swales!A260<>\"\",Swales!A260,\"\")","v":""},{"$f":"IF(A186<>\"\",Swales!$I$21,\"\")","v":""},{"$f":"IF(Swales!B260<>\"\",Swales!B260,\"\")","v":""},{"$f":"IF(Swales!C260<>\"\",Swales!C260,\"\")","v":""},{"$f":"IF(Swales!D260<>\"\",Swales!D260,\"\")","v":""},{"$f":"IF(Swales!E260<>\"\",Swales!E260,\"\")","v":""},{"$f":"IF(Swales!F260<>\"\",Swales!F260,\"\")","v":""},null,null,null,null,null,"","","","","","",""]
[{"$f":"IF(Swales!A261<>\"\",Swales!A261,\"\")","v":""},{"$f":"IF(A187<>\"\",Swales!$I$21,\"\")","v":""},{"$f":"IF(Swales!B261<>\"\",Swales!B261,\"\")","v":""},{"$f":"IF(Swales!C261<>\"\",Swales!C261,\"\")","v":""},{"$f":"IF(Swales!D261<>\"\",Swales!D261,\"\")","v":""},{"$f":"IF(Swales!E261<>\"\",Swales!E261,\"\")","v":""},{"$f":"IF(Swales!F261<>\"\",Swales!F261,\"\")","v":""},null,null,null,null,null,"","","","","","",""]
[{"$f":"IF(Swales!A262<>\"\",Swales!A262,\"\")","v":""},{"$f":"IF(A188<>\"\",Swales!$I$21,\"\")","v":""},{"$f":"IF(Swales!B262<>\"\",Swales!B262,\"\")","v":""},{"$f":"IF(Swales!C262<>\"\",Swales!C262,\"\")","v":""},{"$f":"IF(Swales!D262<>\"\",Swales!D262,\"\")","v":""},{"$f":"IF(Swales!E262<>\"\",Swales!E262,\"\")","v":""},{"$f":"IF(Swales!F262<>\"\",Swales!F262,\"\")","v":""},null,null,null,null,null,"","","","","","",""]
[{"$f":"IF(Swales!A263<>\"\",Swales!A263,\"\")","v":""},{"$f":"IF(A189<>\"\",Swales!$I$21,\"\")","v":""},{"$f":"IF(Swales!B263<>\"\",Swales!B263,\"\")","v":""},{"$f":"IF(Swales!C263<>\"\",Swales!C263,\"\")","v":""},{"$f":"IF(Swales!D263<>\"\",Swales!D263,\"\")","v":""},{"$f":"IF(Swales!E263<>\"\",Swales!E263,\"\")","v":""},{"$f":"IF(Swales!F263<>\"\",Swales!F263,\"\")","v":""},null,null,null,null,null,"","","","","","",""]
[{"$f":"IF(Swales!A264<>\"\",Swales!A264,\"\")","v":""},{"$f":"IF(A190<>\"\",Swales!$I$21,\"\")","v":""},{"$f":"IF(Swales!B264<>\"\",Swales!B264,\"\")","v":""},{"$f":"IF(Swales!C264<>\"\",Swales!C264,\"\")","v":""},{"$f":"IF(Swales!D264<>\"\",Swales!D264,\"\")","v":""},{"$f":"IF(Swales!E264<>\"\",Swales!E264,\"\")","v":""},{"$f":"IF(Swales!F264<>\"\",Swales!F264,\"\")","v":""},null,null,null,null,null,"","","","","","",""]
[{"$f":"IF(Swales!A278<>\"\",Swales!A278,\"\")","v":""},{"$f":"IF(A191<>\"\",Swales!$I$21,\"\")","v":""},{"$f":"IF(Swales!B278<>\"\",Swales!B278,\"\")","v":""},{"$f":"IF(Swales!C278<>\"\",Swales!C278,\"\")","v":""},{"$f":"IF(Swales!D278<>\"\",Swales!D278,\"\")","v":""},{"$f":"IF(Swales!E278<>\"\",Swales!E278,\"\")","v":""},{"$f":"IF(Swales!F278<>\"\",Swales!F278,\"\")","v":""},null,null,null,null,null,"","","","","","",""]
[{"$f":"IF(Swales!A279<>\"\",Swales!A279,\"\")","v":""},{"$f":"IF(A192<>\"\",Swales!$I$21,\"\")","v":""},{"$f":"IF(Swales!B279<>\"\",Swales!B279,\"\")","v":""},{"$f":"IF(Swales!C279<>\"\",Swales!C279,\"\")","v":""},{"$f":"IF(Swales!D279<>\"\",Swales!D279,\"\")","v":""},{"$f":"IF(Swales!E279<>\"\",Swales!E279,\"\")","v":""},{"$f":"IF(Swales!F279<>\"\",Swales!F279,\"\")","v":""},null,null,null,null,null,"","","","","","",""]
[{"$f":"IF(Swales!A280<>\"\",Swales!A280,\"\")","v":""},{"$f":"IF(A193<>\"\",Swales!$I$21,\"\")","v":""},{"$f":"IF(Swales!B280<>\"\",Swales!B280,\"\")","v":""},{"$f":"IF(Swales!C280<>\"\",Swales!C280,\"\")","v":""},{"$f":"IF(Swales!D280<>\"\",Swales!D280,\"\")","v":""},{"$f":"IF(Swales!E280<>\"\",Swales!E280,\"\")","v":""},{"$f":"IF(Swales!F280<>\"\",Swales!F280,\"\")","v":""},null,null,null,null,null,"","","","","","",""]
[{"$f":"IF(Swales!A281<>\"\",Swales!A281,\"\")","v":""},{"$f":"IF(A194<>\"\",Swales!$I$21,\"\")","v":""},{"$f":"IF(Swales!B281<>\"\",Swales!B281,\"\")","v":""},{"$f":"IF(Swales!C281<>\"\",Swales!C281,\"\")","v":""},{"$f":"IF(Swales!D281<>\"\",Swales!D281,\"\")","v":""},{"$f":"IF(Swales!E281<>\"\",Swales!E281,\"\")","v":""},{"$f":"IF(Swales!F281<>\"\",Swales!F281,\"\")","v":""},null,null,null,null,null,"","","","","","",""]
[{"$f":"IF(Swales!A282<>\"\",Swales!A282,\"\")","v":""},{"$f":"IF(A195<>\"\",Swales!$I$21,\"\")","v":""},{"$f":"IF(Swales!B282<>\"\",Swales!B282,\"\")","v":""},{"$f":"IF(Swales!C282<>\"\",Swales!C282,\"\")","v":""},{"$f":"IF(Swales!D282<>\"\",Swales!D282,\"\")","v":""},{"$f":"IF(Swales!E282<>\"\",Swales!E282,\"\")","v":""},{"$f":"IF(Swales!F282<>\"\",Swales!F282,\"\")","v":""},null,null,null,null,null,"","","","","","",""]
[{"$f":"IF(Swales!A283<>\"\",Swales!A283,\"\")","v":""},{"$f":"IF(A196<>\"\",Swales!$I$21,\"\")","v":""},{"$f":"IF(Swales!B283<>\"\",Swales!B283,\"\")","v":""},{"$f":"IF(Swales!C283<>\"\",Swales!C283,\"\")","v":""},{"$f":"IF(Swales!D283<>\"\",Swales!D283,\"\")","v":""},{"$f":"IF(Swales!E283<>\"\",Swales!E283,\"\")","v":""},{"$f":"IF(Swales!F283<>\"\",Swales!F283,\"\")","v":""},null,null,null,null,null,"","","","","","",""]
[{"$f":"IF(Swales!A284<>\"\",Swales!A284,\"\")","v":""},{"$f":"IF(A197<>\"\",Swales!$I$21,\"\")","v":""},{"$f":"IF(Swales!B284<>\"\",Swales!B284,\"\")","v":""},{"$f":"IF(Swales!C284<>\"\",Swales!C284,\"\")","v":""},{"$f":"IF(Swales!D284<>\"\",Swales!D284,\"\")","v":""},{"$f":"IF(Swales!E284<>\"\",Swales!E284,\"\")","v":""},{"$f":"IF(Swales!F284<>\"\",Swales!F284,\"\")","v":""},null,null,null,null,null,"","","","","","",""]
[{"$f":"IF(Swales!A285<>\"\",Swales!A285,\"\")","v":""},{"$f":"IF(A198<>\"\",Swales!$I$21,\"\")","v":""},{"$f":"IF(Swales!B285<>\"\",Swales!B285,\"\")","v":""},{"$f":"IF(Swales!C285<>\"\",Swales!C285,\"\")","v":""},{"$f":"IF(Swales!D285<>\"\",Swales!D285,\"\")","v":""},{"$f":"IF(Swales!E285<>\"\",Swales!E285,\"\")","v":""},{"$f":"IF(Swales!F285<>\"\",Swales!F285,\"\")","v":""},null,null,null,null,null,"","","","","","",""]
[{"$f":"IF(Swales!A286<>\"\",Swales!A286,\"\")","v":""},{"$f":"IF(A199<>\"\",Swales!$I$21,\"\")","v":""},{"$f":"IF(Swales!B286<>\"\",Swales!B286,\"\")","v":""},{"$f":"IF(Swales!C286<>\"\",Swales!C286,\"\")","v":""},{"$f":"IF(Swales!D286<>\"\",Swales!D286,\"\")","v":""},{"$f":"IF(Swales!E286<>\"\",Swales!E286,\"\")","v":""},{"$f":"IF(Swales!F286<>\"\",Swales!F286,\"\")","v":""},null,null,null,null,null,"","","","","","",""]
[{"$f":"IF(Swales!A287<>\"\",Swales!A287,\"\")","v":""},{"$f":"IF(A200<>\"\",Swales!$I$21,\"\")","v":""},{"$f":"IF(Swales!B287<>\"\",Swales!B287,\"\")","v":""},{"$f":"IF(Swales!C287<>\"\",Swales!C287,\"\")","v":""},{"$f":"IF(Swales!D287<>\"\",Swales!D287,\"\")","v":""},{"$f":"IF(Swales!E287<>\"\",Swales!E287,\"\")","v":""},{"$f":"IF(Swales!F287<>\"\",Swales!F287,\"\")","v":""},null,null,null,null,null,"","","","","","",""]
[{"$f":"IF(Swales!A288<>\"\",Swales!A288,\"\")","v":""},{"$f":"IF(A201<>\"\",Swales!$I$21,\"\")","v":""},{"$f":"IF(Swales!B288<>\"\",Swales!B288,\"\")","v":""},{"$f":"IF(Swales!C288<>\"\",Swales!C288,\"\")","v":""},{"$f":"IF(Swales!D288<>\"\",Swales!D288,\"\")","v":""},{"$f":"IF(Swales!E288<>\"\",Swales!E288,\"\")","v":""},{"$f":"IF(Swales!F288<>\"\",Swales!F288,\"\")","v":""},null,null,null,null,null,"","","","","","",""]
[{"$f":"IF(Swales!A289<>\"\",Swales!A289,\"\")","v":""},{"$f":"IF(A202<>\"\",Swales!$I$21,\"\")","v":""},{"$f":"IF(Swales!B289<>\"\",Swales!B289,\"\")","v":""},{"$f":"IF(Swales!C289<>\"\",Swales!C289,\"\")","v":""},{"$f":"IF(Swales!D289<>\"\",Swales!D289,\"\")","v":""},{"$f":"IF(Swales!E289<>\"\",Swales!E289,\"\")","v":""},{"$f":"IF(Swales!F289<>\"\",Swales!F289,\"\")","v":""},null,null,null,null,null,"","","","","","",""]
[{"$f":"IF(Swales!A290<>\"\",Swales!A290,\"\")","v":""},{"$f":"IF(A203<>\"\",Swales!$I$21,\"\")","v":""},{"$f":"IF(Swales!B290<>\"\",Swales!B290,\"\")","v":""},{"$f":"IF(Swales!C290<>\"\",Swales!C290,\"\")","v":""},{"$f":"IF(Swales!D290<>\"\",Swales!D290,\"\")","v":""},{"$f":"IF(Swales!E290<>\"\",Swales!E290,\"\")","v":""},{"$f":"IF(Swales!F290<>\"\",Swales!F290,\"\")","v":""},null,null,null,null,null,"","","","","","",""]
[{"$f":"IF(Swales!A291<>\"\",Swales!A291,\"\")","v":""},{"$f":"IF(A204<>\"\",Swales!$I$21,\"\")","v":""},{"$f":"IF(Swales!B291<>\"\",Swales!B291,\"\")","v":""},{"$f":"IF(Swales!C291<>\"\",Swales!C291,\"\")","v":""},{"$f":"IF(Swales!D291<>\"\",Swales!D291,\"\")","v":""},{"$f":"IF(Swales!E291<>\"\",Swales!E291,\"\")","v":""},{"$f":"IF(Swales!F291<>\"\",Swales!F291,\"\")","v":""},null,null,null,null,null,"","","","","","",""]
[{"$f":"IF(Swales!A292<>\"\",Swales!A292,\"\")","v":""},{"$f":"IF(A205<>\"\",Swales!$I$21,\"\")","v":""},{"$f":"IF(Swales!B292<>\"\",Swales!B292,\"\")","v":""},{"$f":"IF(Swales!C292<>\"\",Swales!C292,\"\")","v":""},{"$f":"IF(Swales!D292<>\"\",Swales!D292,\"\")","v":""},{"$f":"IF(Swales!E292<>\"\",Swales!E292,\"\")","v":""},{"$f":"IF(Swales!F292<>\"\",Swales!F292,\"\")","v":""},null,null,null,null,null,"","","","","","",""]
[{"$f":"IF(Swales!A293<>\"\",Swales!A293,\"\")","v":""},{"$f":"IF(A206<>\"\",Swales!$I$21,\"\")","v":""},{"$f":"IF(Swales!B293<>\"\",Swales!B293,\"\")","v":""},{"$f":"IF(Swales!C293<>\"\",Swales!C293,\"\")","v":""},{"$f":"IF(Swales!D293<>\"\",Swales!D293,\"\")","v":""},{"$f":"IF(Swales!E293<>\"\",Swales!E293,\"\")","v":""},{"$f":"IF(Swales!F293<>\"\",Swales!F293,\"\")","v":""},null,null,null,null,null,"","","","","","",""]
[{"$f":"IF(Swales!A294<>\"\",Swales!A294,\"\")","v":""},{"$f":"IF(A207<>\"\",Swales!$I$21,\"\")","v":""},{"$f":"IF(Swales!B294<>\"\",Swales!B294,\"\")","v":""},{"$f":"IF(Swales!C294<>\"\",Swales!C294,\"\")","v":""},{"$f":"IF(Swales!D294<>\"\",Swales!D294,\"\")","v":""},{"$f":"IF(Swales!E294<>\"\",Swales!E294,\"\")","v":""},{"$f":"IF(Swales!F294<>\"\",Swales!F294,\"\")","v":""},null,null,null,null,null,"","","","","","",""]
[{"$f":"IF(Swales!A295<>\"\",Swales!A295,\"\")","v":""},{"$f":"IF(A208<>\"\",Swales!$I$21,\"\")","v":""},{"$f":"IF(Swales!B295<>\"\",Swales!B295,\"\")","v":""},{"$f":"IF(Swales!C295<>\"\",Swales!C295,\"\")","v":""},{"$f":"IF(Swales!D295<>\"\",Swales!D295,\"\")","v":""},{"$f":"IF(Swales!E295<>\"\",Swales!E295,\"\")","v":""},{"$f":"IF(Swales!F295<>\"\",Swales!F295,\"\")","v":""},null,null,null,null,null,"","","","","","",""]
[{"$f":"IF(Swales!A296<>\"\",Swales!A296,\"\")","v":""},{"$f":"IF(A209<>\"\",Swales!$I$21,\"\")","v":""},{"$f":"IF(Swales!B296<>\"\",Swales!B296,\"\")","v":""},{"$f":"IF(Swales!C296<>\"\",Swales!C296,\"\")","v":""},{"$f":"IF(Swales!D296<>\"\",Swales!D296,\"\")","v":""},{"$f":"IF(Swales!E296<>\"\",Swales!E296,\"\")","v":""},{"$f":"IF(Swales!F296<>\"\",Swales!F296,\"\")","v":""},null,null,null,null,null,"","","","","","",""]
[{"$f":"IF(Swales!A297<>\"\",Swales!A297,\"\")","v":""},{"$f":"IF(A210<>\"\",Swales!$I$21,\"\")","v":""},{"$f":"IF(Swales!B297<>\"\",Swales!B297,\"\")","v":""},{"$f":"IF(Swales!C297<>\"\",Swales!C297,\"\")","v":""},{"$f":"IF(Swales!D297<>\"\",Swales!D297,\"\")","v":""},{"$f":"IF(Swales!E297<>\"\",Swales!E297,\"\")","v":""},{"$f":"IF(Swales!F297<>\"\",Swales!F297,\"\")","v":""},null,null,null,null,null,"","","","","","",""]
[{"$f":"IF(Swales!A298<>\"\",Swales!A298,\"\")","v":""},{"$f":"IF(A211<>\"\",Swales!$I$21,\"\")","v":""},{"$f":"IF(Swales!B298<>\"\",Swales!B298,\"\")","v":""},{"$f":"IF(Swales!C298<>\"\",Swales!C298,\"\")","v":""},{"$f":"IF(Swales!D298<>\"\",Swales!D298,\"\")","v":""},{"$f":"IF(Swales!E298<>\"\",Swales!E298,\"\")","v":""},{"$f":"IF(Swales!F298<>\"\",Swales!F298,\"\")","v":""},null,null,null,null,null,"","","","","","",""]
[{"$f":"IF(Swales!A299<>\"\",Swales!A299,\"\")","v":""},{"$f":"IF(A212<>\"\",Swales!$I$21,\"\")","v":""},{"$f":"IF(Swales!B299<>\"\",Swales!B299,\"\")","v":""},{"$f":"IF(Swales!C299<>\"\",Swales!C299,\"\")","v":""},{"$f":"IF(Swales!D299<>\"\",Swales!D299,\"\")","v":""},{"$f":"IF(Swales!E299<>\"\",Swales!E299,\"\")","v":""},{"$f":"IF(Swales!F299<>\"\",Swales!F299,\"\")","v":""},null,null,null,null,null,"","","","","","",""]
[{"$f":"IF(Swales!A300<>\"\",Swales!A300,\"\")","v":""},{"$f":"IF(A213<>\"\",Swales!$I$21,\"\")","v":""},{"$f":"IF(Swales!B300<>\"\",Swales!B300,\"\")","v":""},{"$f":"IF(Swales!C300<>\"\",Swales!C300,\"\")","v":""},{"$f":"IF(Swales!D300<>\"\",Swales!D300,\"\")","v":""},{"$f":"IF(Swales!E300<>\"\",Swales!E300,\"\")","v":""},{"$f":"IF(Swales!F300<>\"\",Swales!F300,\"\")","v":""},null,null,null,null,null,"","","","","","",""]
[{"$f":"IF(Swales!A301<>\"\",Swales!A301,\"\")","v":""},{"$f":"IF(A214<>\"\",Swales!$I$21,\"\")","v":""},{"$f":"IF(Swales!B301<>\"\",Swales!B301,\"\")","v":""},{"$f":"IF(Swales!C301<>\"\",Swales!C301,\"\")","v":""},{"$f":"IF(Swales!D301<>\"\",Swales!D301,\"\")","v":""},{"$f":"IF(Swales!E301<>\"\",Swales!E301,\"\")","v":""},{"$f":"IF(Swales!F301<>\"\",Swales!F301,\"\")","v":""},null,null,null,null,null,"","","","","","",""]
[{"$f":"IF(Swales!A302<>\"\",Swales!A302,\"\")","v":""},{"$f":"IF(A215<>\"\",Swales!$I$21,\"\")","v":""},{"$f":"IF(Swales!B302<>\"\",Swales!B302,\"\")","v":""},{"$f":"IF(Swales!C302<>\"\",Swales!C302,\"\")","v":""},{"$f":"IF(Swales!D302<>\"\",Swales!D302,\"\")","v":""},{"$f":"IF(Swales!E302<>\"\",Swales!E302,\"\")","v":""},{"$f":"IF(Swales!F302<>\"\",Swales!F302,\"\")","v":""},null,null,null,null,null,"","","","","","",""]
[{"$f":"IF(Swales!A303<>\"\",Swales!A303,\"\")","v":""},{"$f":"IF(A216<>\"\",Swales!$I$21,\"\")","v":""},{"$f":"IF(Swales!B303<>\"\",Swales!B303,\"\")","v":""},{"$f":"IF(Swales!C303<>\"\",Swales!C303,\"\")","v":""},{"$f":"IF(Swales!D303<>\"\",Swales!D303,\"\")","v":""},{"$f":"IF(Swales!E303<>\"\",Swales!E303,\"\")","v":""},{"$f":"IF(Swales!F303<>\"\",Swales!F303,\"\")","v":""},null,null,null,null,null,"","","","","","",""]
[{"$f":"IF(Swales!A304<>\"\",Swales!A304,\"\")","v":""},{"$f":"IF(A217<>\"\",Swales!$I$21,\"\")","v":""},{"$f":"IF(Swales!B304<>\"\",Swales!B304,\"\")","v":""},{"$f":"IF(Swales!C304<>\"\",Swales!C304,\"\")","v":""},{"$f":"IF(Swales!D304<>\"\",Swales!D304,\"\")","v":""},{"$f":"IF(Swales!E304<>\"\",Swales!E304,\"\")","v":""},{"$f":"IF(Swales!F304<>\"\",Swales!F304,\"\")","v":""},null,null,null,null,null,"","","","","","",""]
[{"$f":"IF(Swales!A305<>\"\",Swales!A305,\"\")","v":""},{"$f":"IF(A218<>\"\",Swales!$I$21,\"\")","v":""},{"$f":"IF(Swales!B305<>\"\",Swales!B305,\"\")","v":""},{"$f":"IF(Swales!C305<>\"\",Swales!C305,\"\")","v":""},{"$f":"IF(Swales!D305<>\"\",Swales!D305,\"\")","v":""},{"$f":"IF(Swales!E305<>\"\",Swales!E305,\"\")","v":""},{"$f":"IF(Swales!F305<>\"\",Swales!F305,\"\")","v":""},null,null,null,null,null,"","","","","","",""]
[{"$f":"IF(Swales!A306<>\"\",Swales!A306,\"\")","v":""},{"$f":"IF(A219<>\"\",Swales!$I$21,\"\")","v":""},{"$f":"IF(Swales!B306<>\"\",Swales!B306,\"\")","v":""},{"$f":"IF(Swales!C306<>\"\",Swales!C306,\"\")","v":""},{"$f":"IF(Swales!D306<>\"\",Swales!D306,\"\")","v":""},{"$f":"IF(Swales!E306<>\"\",Swales!E306,\"\")","v":""},{"$f":"IF(Swales!F306<>\"\",Swales!F306,\"\")","v":""},null,null,null,null,null,"","","","","","",""]
[{"$f":"IF(Swales!A307<>\"\",Swales!A307,\"\")","v":""},{"$f":"IF(A220<>\"\",Swales!$I$21,\"\")","v":""},{"$f":"IF(Swales!B307<>\"\",Swales!B307,\"\")","v":""},{"$f":"IF(Swales!C307<>\"\",Swales!C307,\"\")","v":""},{"$f":"IF(Swales!D307<>\"\",Swales!D307,\"\")","v":""},{"$f":"IF(Swales!E307<>\"\",Swales!E307,\"\")","v":""},{"$f":"IF(Swales!F307<>\"\",Swales!F307,\"\")","v":""},null,null,null,null,null,"","","","","","",""]
[{"$f":"IF(Swales!A308<>\"\",Swales!A308,\"\")","v":""},{"$f":"IF(A221<>\"\",Swales!$I$21,\"\")","v":""},{"$f":"IF(Swales!B308<>\"\",Swales!B308,\"\")","v":""},{"$f":"IF(Swales!C308<>\"\",Swales!C308,\"\")","v":""},{"$f":"IF(Swales!D308<>\"\",Swales!D308,\"\")","v":""},{"$f":"IF(Swales!E308<>\"\",Swales!E308,\"\")","v":""},{"$f":"IF(Swales!F308<>\"\",Swales!F308,\"\")","v":""},null,null,null,null,null,"","","","","","",""]
[{"$f":"IF(Swales!A309<>\"\",Swales!A309,\"\")","v":""},{"$f":"IF(A222<>\"\",Swales!$I$21,\"\")","v":""},{"$f":"IF(Swales!B309<>\"\",Swales!B309,\"\")","v":""},{"$f":"IF(Swales!C309<>\"\",Swales!C309,\"\")","v":""},{"$f":"IF(Swales!D309<>\"\",Swales!D309,\"\")","v":""},{"$f":"IF(Swales!E309<>\"\",Swales!E309,\"\")","v":""},{"$f":"IF(Swales!F309<>\"\",Swales!F309,\"\")","v":""},null,null,null,null,null,"","","","","","",""]
[{"$f":"IF(Swales!A310<>\"\",Swales!A310,\"\")","v":""},{"$f":"IF(A223<>\"\",Swales!$I$21,\"\")","v":""},{"$f":"IF(Swales!B310<>\"\",Swales!B310,\"\")","v":""},{"$f":"IF(Swales!C310<>\"\",Swales!C310,\"\")","v":""},{"$f":"IF(Swales!D310<>\"\",Swales!D310,\"\")","v":""},{"$f":"IF(Swales!E310<>\"\",Swales!E310,\"\")","v":""},{"$f":"IF(Swales!F310<>\"\",Swales!F310,\"\")","v":""},null,null,null,null,null,"","","","","","",""]
[{"$f":"IF(Swales!A311<>\"\",Swales!A311,\"\")","v":""},{"$f":"IF(A224<>\"\",Swales!$I$21,\"\")","v":""},{"$f":"IF(Swales!B311<>\"\",Swales!B311,\"\")","v":""},{"$f":"IF(Swales!C311<>\"\",Swales!C311,\"\")","v":""},{"$f":"IF(Swales!D311<>\"\",Swales!D311,\"\")","v":""},{"$f":"IF(Swales!E311<>\"\",Swales!E311,\"\")","v":""},{"$f":"IF(Swales!F311<>\"\",Swales!F311,\"\")","v":""},null,null,null,null,null,"","","","","","",""]
[{"$f":"IF(Swales!A312<>\"\",Swales!A312,\"\")","v":""},{"$f":"IF(A225<>\"\",Swales!$I$21,\"\")","v":""},{"$f":"IF(Swales!B312<>\"\",Swales!B312,\"\")","v":""},{"$f":"IF(Swales!C312<>\"\",Swales!C312,\"\")","v":""},{"$f":"IF(Swales!D312<>\"\",Swales!D312,\"\")","v":""},{"$f":"IF(Swales!E312<>\"\",Swales!E312,\"\")","v":""},{"$f":"IF(Swales!F312<>\"\",Swales!F312,\"\")","v":""},null,null,null,null,null,"","","","","","",""]
[{"$f":"IF(Swales!A313<>\"\",Swales!A313,\"\")","v":""},{"$f":"IF(A226<>\"\",Swales!$I$21,\"\")","v":""},{"$f":"IF(Swales!B313<>\"\",Swales!B313,\"\")","v":""},{"$f":"IF(Swales!C313<>\"\",Swales!C313,\"\")","v":""},{"$f":"IF(Swales!D313<>\"\",Swales!D313,\"\")","v":""},{"$f":"IF(Swales!E313<>\"\",Swales!E313,\"\")","v":""},{"$f":"IF(Swales!F313<>\"\",Swales!F313,\"\")","v":""},null,null,null,null,null,"","","","","","",""]
[{"$f":"IF(Swales!A314<>\"\",Swales!A314,\"\")","v":""},{"$f":"IF(A227<>\"\",Swales!$I$21,\"\")","v":""},{"$f":"IF(Swales!B314<>\"\",Swales!B314,\"\")","v":""},{"$f":"IF(Swales!C314<>\"\",Swales!C314,\"\")","v":""},{"$f":"IF(Swales!D314<>\"\",Swales!D314,\"\")","v":""},{"$f":"IF(Swales!E314<>\"\",Swales!E314,\"\")","v":""},{"$f":"IF(Swales!F314<>\"\",Swales!F314,\"\")","v":""},null,null,null,null,null,"","","","","","",""]
[{"$f":"IF(Swales!A315<>\"\",Swales!A315,\"\")","v":""},{"$f":"IF(A228<>\"\",Swales!$I$21,\"\")","v":""},{"$f":"IF(Swales!B315<>\"\",Swales!B315,\"\")","v":""},{"$f":"IF(Swales!C315<>\"\",Swales!C315,\"\")","v":""},{"$f":"IF(Swales!D315<>\"\",Swales!D315,\"\")","v":""},{"$f":"IF(Swales!E315<>\"\",Swales!E315,\"\")","v":""},{"$f":"IF(Swales!F315<>\"\",Swales!F315,\"\")","v":""},null,null,null,null,null,"","","","","","",""]
[{"$f":"IF('Filter Strip'!A19<>\"\",'Filter Strip'!A19,\"\")","v":""},{"$f":"IF(A229<>\"\",'Filter Strip'!$A$17,\"\")","v":""},{"$f":"IF('Filter Strip'!B19<>\"\",'Filter Strip'!B19,\"\")","v":""},{"$f":"IF('Filter Strip'!C19<>\"\",'Filter Strip'!C19,\"\")","v":""},{"$f":"IF('Filter Strip'!D19<>\"\",'Filter Strip'!D19,\"\")","v":""},{"$f":"IF('Filter Strip'!E19<>\"\",'Filter Strip'!E19,\"\")","v":""},{"$f":"IF('Filter Strip'!F19<>\"\",'Filter Strip'!F19,\"\")","v":""},null,null,null,null,null,"","","","","","",""]
[{"$f":"IF('Filter Strip'!A20<>\"\",'Filter Strip'!A20,\"\")","v":""},{"$f":"IF(A230<>\"\",'Filter Strip'!$A$17,\"\")","v":""},{"$f":"IF('Filter Strip'!B20<>\"\",'Filter Strip'!B20,\"\")","v":""},{"$f":"IF('Filter Strip'!C20<>\"\",'Filter Strip'!C20,\"\")","v":""},{"$f":"IF('Filter Strip'!D20<>\"\",'Filter Strip'!D20,\"\")","v":""},{"$f":"IF('Filter Strip'!E20<>\"\",'Filter Strip'!E20,\"\")","v":""},{"$f":"IF('Filter Strip'!F20<>\"\",'Filter Strip'!F20,\"\")","v":""},null,null,null,null,null,"","","","","","",""]
[{"$f":"IF('Filter Strip'!A21<>\"\",'Filter Strip'!A21,\"\")","v":""},{"$f":"IF(A231<>\"\",'Filter Strip'!$A$17,\"\")","v":""},{"$f":"IF('Filter Strip'!B21<>\"\",'Filter Strip'!B21,\"\")","v":""},{"$f":"IF('Filter Strip'!C21<>\"\",'Filter Strip'!C21,\"\")","v":""},{"$f":"IF('Filter Strip'!D21<>\"\",'Filter Strip'!D21,\"\")","v":""},{"$f":"IF('Filter Strip'!E21<>\"\",'Filter Strip'!E21,\"\")","v":""},{"$f":"IF('Filter Strip'!F21<>\"\",'Filter Strip'!F21,\"\")","v":""},null,null,null,null,null,"","","","","","",""]
[{"$f":"IF('Filter Strip'!A22<>\"\",'Filter Strip'!A22,\"\")","v":""},{"$f":"IF(A232<>\"\",'Filter Strip'!$A$17,\"\")","v":""},{"$f":"IF('Filter Strip'!B22<>\"\",'Filter Strip'!B22,\"\")","v":""},{"$f":"IF('Filter Strip'!C22<>\"\",'Filter Strip'!C22,\"\")","v":""},{"$f":"IF('Filter Strip'!D22<>\"\",'Filter Strip'!D22,\"\")","v":""},{"$f":"IF('Filter Strip'!E22<>\"\",'Filter Strip'!E22,\"\")","v":""},{"$f":"IF('Filter Strip'!F22<>\"\",'Filter Strip'!F22,\"\")","v":""},null,null,null,null,null,"","","","","","",""]
[{"$f":"IF('Filter Strip'!A23<>\"\",'Filter Strip'!A23,\"\")","v":""},{"$f":"IF(A233<>\"\",'Filter Strip'!$A$17,\"\")","v":""},{"$f":"IF('Filter Strip'!B23<>\"\",'Filter Strip'!B23,\"\")","v":""},{"$f":"IF('Filter Strip'!C23<>\"\",'Filter Strip'!C23,\"\")","v":""},{"$f":"IF('Filter Strip'!D23<>\"\",'Filter Strip'!D23,\"\")","v":""},{"$f":"IF('Filter Strip'!E23<>\"\",'Filter Strip'!E23,\"\")","v":""},{"$f":"IF('Filter Strip'!F23<>\"\",'Filter Strip'!F23,\"\")","v":""},null,null,null,null,null,"","","","","","",""]
[{"$f":"IF('Filter Strip'!A24<>\"\",'Filter Strip'!A24,\"\")","v":""},{"$f":"IF(A234<>\"\",'Filter Strip'!$A$17,\"\")","v":""},{"$f":"IF('Filter Strip'!B24<>\"\",'Filter Strip'!B24,\"\")","v":""},{"$f":"IF('Filter Strip'!C24<>\"\",'Filter Strip'!C24,\"\")","v":""},{"$f":"IF('Filter Strip'!D24<>\"\",'Filter Strip'!D24,\"\")","v":""},{"$f":"IF('Filter Strip'!E24<>\"\",'Filter Strip'!E24,\"\")","v":""},{"$f":"IF('Filter Strip'!F24<>\"\",'Filter Strip'!F24,\"\")","v":""},null,null,null,null,null,"","","","","","",""]
[{"$f":"IF('Filter Strip'!A25<>\"\",'Filter Strip'!A25,\"\")","v":""},{"$f":"IF(A235<>\"\",'Filter Strip'!$A$17,\"\")","v":""},{"$f":"IF('Filter Strip'!B25<>\"\",'Filter Strip'!B25,\"\")","v":""},{"$f":"IF('Filter Strip'!C25<>\"\",'Filter Strip'!C25,\"\")","v":""},{"$f":"IF('Filter Strip'!D25<>\"\",'Filter Strip'!D25,\"\")","v":""},{"$f":"IF('Filter Strip'!E25<>\"\",'Filter Strip'!E25,\"\")","v":""},{"$f":"IF('Filter Strip'!F25<>\"\",'Filter Strip'!F25,\"\")","v":""},null,null,null,null,null,"","","","","","",""]
[{"$f":"IF('Filter Strip'!A26<>\"\",'Filter Strip'!A26,\"\")","v":""},{"$f":"IF(A236<>\"\",'Filter Strip'!$A$17,\"\")","v":""},{"$f":"IF('Filter Strip'!B26<>\"\",'Filter Strip'!B26,\"\")","v":""},{"$f":"IF('Filter Strip'!C26<>\"\",'Filter Strip'!C26,\"\")","v":""},{"$f":"IF('Filter Strip'!D26<>\"\",'Filter Strip'!D26,\"\")","v":""},{"$f":"IF('Filter Strip'!E26<>\"\",'Filter Strip'!E26,\"\")","v":""},{"$f":"IF('Filter Strip'!F26<>\"\",'Filter Strip'!F26,\"\")","v":""},null,null,null,null,null,"","","","","","",""]
[{"$f":"IF('Filter Strip'!A27<>\"\",'Filter Strip'!A27,\"\")","v":""},{"$f":"IF(A237<>\"\",'Filter Strip'!$A$17,\"\")","v":""},{"$f":"IF('Filter Strip'!B27<>\"\",'Filter Strip'!B27,\"\")","v":""},{"$f":"IF('Filter Strip'!C27<>\"\",'Filter Strip'!C27,\"\")","v":""},{"$f":"IF('Filter Strip'!D27<>\"\",'Filter Strip'!D27,\"\")","v":""},{"$f":"IF('Filter Strip'!E27<>\"\",'Filter Strip'!E27,\"\")","v":""},{"$f":"IF('Filter Strip'!F27<>\"\",'Filter Strip'!F27,\"\")","v":""},null,null,null,null,null,"","","","","","",""]
[{"$f":"IF('Filter Strip'!A28<>\"\",'Filter Strip'!A28,\"\")","v":""},{"$f":"IF(A238<>\"\",'Filter Strip'!$A$17,\"\")","v":""},{"$f":"IF('Filter Strip'!B28<>\"\",'Filter Strip'!B28,\"\")","v":""},{"$f":"IF('Filter Strip'!C28<>\"\",'Filter Strip'!C28,\"\")","v":""},{"$f":"IF('Filter Strip'!D28<>\"\",'Filter Strip'!D28,\"\")","v":""},{"$f":"IF('Filter Strip'!E28<>\"\",'Filter Strip'!E28,\"\")","v":""},{"$f":"IF('Filter Strip'!F28<>\"\",'Filter Strip'!F28,\"\")","v":""},null,null,null,null,null,"","","","","","",""]
[{"$f":"IF('Filter Strip'!A29<>\"\",'Filter Strip'!A29,\"\")","v":""},{"$f":"IF(A239<>\"\",'Filter Strip'!$A$17,\"\")","v":""},{"$f":"IF('Filter Strip'!B29<>\"\",'Filter Strip'!B29,\"\")","v":""},{"$f":"IF('Filter Strip'!C29<>\"\",'Filter Strip'!C29,\"\")","v":""},{"$f":"IF('Filter Strip'!D29<>\"\",'Filter Strip'!D29,\"\")","v":""},{"$f":"IF('Filter Strip'!E29<>\"\",'Filter Strip'!E29,\"\")","v":""},{"$f":"IF('Filter Strip'!F29<>\"\",'Filter Strip'!F29,\"\")","v":""},null,null,null,null,null,"","","","","","",""]
[{"$f":"IF('Filter Strip'!A30<>\"\",'Filter Strip'!A30,\"\")","v":""},{"$f":"IF(A240<>\"\",'Filter Strip'!$A$17,\"\")","v":""},{"$f":"IF('Filter Strip'!B30<>\"\",'Filter Strip'!B30,\"\")","v":""},{"$f":"IF('Filter Strip'!C30<>\"\",'Filter Strip'!C30,\"\")","v":""},{"$f":"IF('Filter Strip'!D30<>\"\",'Filter Strip'!D30,\"\")","v":""},{"$f":"IF('Filter Strip'!E30<>\"\",'Filter Strip'!E30,\"\")","v":""},{"$f":"IF('Filter Strip'!F30<>\"\",'Filter Strip'!F30,\"\")","v":""},null,null,null,null,null,"","","","","","",""]
[{"$f":"IF('Filter Strip'!A31<>\"\",'Filter Strip'!A31,\"\")","v":""},{"$f":"IF(A241<>\"\",'Filter Strip'!$A$17,\"\")","v":""},{"$f":"IF('Filter Strip'!B31<>\"\",'Filter Strip'!B31,\"\")","v":""},{"$f":"IF('Filter Strip'!C31<>\"\",'Filter Strip'!C31,\"\")","v":""},{"$f":"IF('Filter Strip'!D31<>\"\",'Filter Strip'!D31,\"\")","v":""},{"$f":"IF('Filter Strip'!E31<>\"\",'Filter Strip'!E31,\"\")","v":""},{"$f":"IF('Filter Strip'!F31<>\"\",'Filter Strip'!F31,\"\")","v":""},null,null,null,null,null,"","","","","","",""]
[{"$f":"IF('Filter Strip'!A32<>\"\",'Filter Strip'!A32,\"\")","v":""},{"$f":"IF(A242<>\"\",'Filter Strip'!$A$17,\"\")","v":""},{"$f":"IF('Filter Strip'!B32<>\"\",'Filter Strip'!B32,\"\")","v":""},{"$f":"IF('Filter Strip'!C32<>\"\",'Filter Strip'!C32,\"\")","v":""},{"$f":"IF('Filter Strip'!D32<>\"\",'Filter Strip'!D32,\"\")","v":""},{"$f":"IF('Filter Strip'!E32<>\"\",'Filter Strip'!E32,\"\")","v":""},{"$f":"IF('Filter Strip'!F32<>\"\",'Filter Strip'!F32,\"\")","v":""},null,null,null,null,null,"","","","","","",""]
[{"$f":"IF('Filter Strip'!A33<>\"\",'Filter Strip'!A33,\"\")","v":""},{"$f":"IF(A243<>\"\",'Filter Strip'!$A$17,\"\")","v":""},{"$f":"IF('Filter Strip'!B33<>\"\",'Filter Strip'!B33,\"\")","v":""},{"$f":"IF('Filter Strip'!C33<>\"\",'Filter Strip'!C33,\"\")","v":""},{"$f":"IF('Filter Strip'!D33<>\"\",'Filter Strip'!D33,\"\")","v":""},{"$f":"IF('Filter Strip'!E33<>\"\",'Filter Strip'!E33,\"\")","v":""},{"$f":"IF('Filter Strip'!F33<>\"\",'Filter Strip'!F33,\"\")","v":""},null,null,null,null,null,"","","","","","",""]
[{"$f":"IF('Filter Strip'!A34<>\"\",'Filter Strip'!A34,\"\")","v":""},{"$f":"IF(A244<>\"\",'Filter Strip'!$A$17,\"\")","v":""},{"$f":"IF('Filter Strip'!B34<>\"\",'Filter Strip'!B34,\"\")","v":""},{"$f":"IF('Filter Strip'!C34<>\"\",'Filter Strip'!C34,\"\")","v":""},{"$f":"IF('Filter Strip'!D34<>\"\",'Filter Strip'!D34,\"\")","v":""},{"$f":"IF('Filter Strip'!E34<>\"\",'Filter Strip'!E34,\"\")","v":""},{"$f":"IF('Filter Strip'!F34<>\"\",'Filter Strip'!F34,\"\")","v":""},null,null,null,null,null,"","","","","","",""]
[{"$f":"IF('Filter Strip'!A35<>\"\",'Filter Strip'!A35,\"\")","v":""},{"$f":"IF(A245<>\"\",'Filter Strip'!$A$17,\"\")","v":""},{"$f":"IF('Filter Strip'!B35<>\"\",'Filter Strip'!B35,\"\")","v":""},{"$f":"IF('Filter Strip'!C35<>\"\",'Filter Strip'!C35,\"\")","v":""},{"$f":"IF('Filter Strip'!D35<>\"\",'Filter Strip'!D35,\"\")","v":""},{"$f":"IF('Filter Strip'!E35<>\"\",'Filter Strip'!E35,\"\")","v":""},{"$f":"IF('Filter Strip'!F35<>\"\",'Filter Strip'!F35,\"\")","v":""},null,null,null,null,null,"","","","","","",""]
[{"$f":"IF('Filter Strip'!A36<>\"\",'Filter Strip'!A36,\"\")","v":""},{"$f":"IF(A246<>\"\",'Filter Strip'!$A$17,\"\")","v":""},{"$f":"IF('Filter Strip'!B36<>\"\",'Filter Strip'!B36,\"\")","v":""},{"$f":"IF('Filter Strip'!C36<>\"\",'Filter Strip'!C36,\"\")","v":""},{"$f":"IF('Filter Strip'!D36<>\"\",'Filter Strip'!D36,\"\")","v":""},{"$f":"IF('Filter Strip'!E36<>\"\",'Filter Strip'!E36,\"\")","v":""},{"$f":"IF('Filter Strip'!F36<>\"\",'Filter Strip'!F36,\"\")","v":""},null,null,null,null,null,"","","","","","",""]
[{"$f":"IF('Filter Strip'!A37<>\"\",'Filter Strip'!A37,\"\")","v":""},{"$f":"IF(A247<>\"\",'Filter Strip'!$A$17,\"\")","v":""},{"$f":"IF('Filter Strip'!B37<>\"\",'Filter Strip'!B37,\"\")","v":""},{"$f":"IF('Filter Strip'!C37<>\"\",'Filter Strip'!C37,\"\")","v":""},{"$f":"IF('Filter Strip'!D37<>\"\",'Filter Strip'!D37,\"\")","v":""},{"$f":"IF('Filter Strip'!E37<>\"\",'Filter Strip'!E37,\"\")","v":""},{"$f":"IF('Filter Strip'!F37<>\"\",'Filter Strip'!F37,\"\")","v":""},null,null,null,null,null,"","","","","","",""]
[{"$f":"IF('Filter Strip'!A38<>\"\",'Filter Strip'!A38,\"\")","v":""},{"$f":"IF(A248<>\"\",'Filter Strip'!$A$17,\"\")","v":""},{"$f":"IF('Filter Strip'!B38<>\"\",'Filter Strip'!B38,\"\")","v":""},{"$f":"IF('Filter Strip'!C38<>\"\",'Filter Strip'!C38,\"\")","v":""},{"$f":"IF('Filter Strip'!D38<>\"\",'Filter Strip'!D38,\"\")","v":""},{"$f":"IF('Filter Strip'!E38<>\"\",'Filter Strip'!E38,\"\")","v":""},{"$f":"IF('Filter Strip'!F38<>\"\",'Filter Strip'!F38,\"\")","v":""},null,null,null,null,null,"","","","","","",""]
[{"$f":"IF('Filter Strip'!A39<>\"\",'Filter Strip'!A39,\"\")","v":""},{"$f":"IF(A249<>\"\",'Filter Strip'!$A$17,\"\")","v":""},{"$f":"IF('Filter Strip'!B39<>\"\",'Filter Strip'!B39,\"\")","v":""},{"$f":"IF('Filter Strip'!C39<>\"\",'Filter Strip'!C39,\"\")","v":""},{"$f":"IF('Filter Strip'!D39<>\"\",'Filter Strip'!D39,\"\")","v":""},{"$f":"IF('Filter Strip'!E39<>\"\",'Filter Strip'!E39,\"\")","v":""},{"$f":"IF('Filter Strip'!F39<>\"\",'Filter Strip'!F39,\"\")","v":""},null,null,null,null,null,"","","","","","",""]
[{"$f":"IF('Filter Strip'!A40<>\"\",'Filter Strip'!A40,\"\")","v":""},{"$f":"IF(A250<>\"\",'Filter Strip'!$A$17,\"\")","v":""},{"$f":"IF('Filter Strip'!B40<>\"\",'Filter Strip'!B40,\"\")","v":""},{"$f":"IF('Filter Strip'!C40<>\"\",'Filter Strip'!C40,\"\")","v":""},{"$f":"IF('Filter Strip'!D40<>\"\",'Filter Strip'!D40,\"\")","v":""},{"$f":"IF('Filter Strip'!E40<>\"\",'Filter Strip'!E40,\"\")","v":""},{"$f":"IF('Filter Strip'!F40<>\"\",'Filter Strip'!F40,\"\")","v":""},null,null,null,null,null,"","","","","","",""]
[{"$f":"IF('Filter Strip'!A41<>\"\",'Filter Strip'!A41,\"\")","v":""},{"$f":"IF(A251<>\"\",'Filter Strip'!$A$17,\"\")","v":""},{"$f":"IF('Filter Strip'!B41<>\"\",'Filter Strip'!B41,\"\")","v":""},{"$f":"IF('Filter Strip'!C41<>\"\",'Filter Strip'!C41,\"\")","v":""},{"$f":"IF('Filter Strip'!D41<>\"\",'Filter Strip'!D41,\"\")","v":""},{"$f":"IF('Filter Strip'!E41<>\"\",'Filter Strip'!E41,\"\")","v":""},{"$f":"IF('Filter Strip'!F41<>\"\",'Filter Strip'!F41,\"\")","v":""},null,null,null,null,null,"","","","","","",""]
[{"$f":"IF('Filter Strip'!A42<>\"\",'Filter Strip'!A42,\"\")","v":""},{"$f":"IF(A252<>\"\",'Filter Strip'!$A$17,\"\")","v":""},{"$f":"IF('Filter Strip'!B42<>\"\",'Filter Strip'!B42,\"\")","v":""},{"$f":"IF('Filter Strip'!C42<>\"\",'Filter Strip'!C42,\"\")","v":""},{"$f":"IF('Filter Strip'!D42<>\"\",'Filter Strip'!D42,\"\")","v":""},{"$f":"IF('Filter Strip'!E42<>\"\",'Filter Strip'!E42,\"\")","v":""},{"$f":"IF('Filter Strip'!F42<>\"\",'Filter Strip'!F42,\"\")","v":""},null,null,null,null,null,"","","","","","",""]
[{"$f":"IF('Filter Strip'!A43<>\"\",'Filter Strip'!A43,\"\")","v":""},{"$f":"IF(A253<>\"\",'Filter Strip'!$A$17,\"\")","v":""},{"$f":"IF('Filter Strip'!B43<>\"\",'Filter Strip'!B43,\"\")","v":""},{"$f":"IF('Filter Strip'!C43<>\"\",'Filter Strip'!C43,\"\")","v":""},{"$f":"IF('Filter Strip'!D43<>\"\",'Filter Strip'!D43,\"\")","v":""},{"$f":"IF('Filter Strip'!E43<>\"\",'Filter Strip'!E43,\"\")","v":""},{"$f":"IF('Filter Strip'!F43<>\"\",'Filter Strip'!F43,\"\")","v":""},null,null,null,null,null,"","","","","","",""]
[{"$f":"IF('Filter Strip'!A44<>\"\",'Filter Strip'!A44,\"\")","v":""},{"$f":"IF(A254<>\"\",'Filter Strip'!$A$17,\"\")","v":""},{"$f":"IF('Filter Strip'!B44<>\"\",'Filter Strip'!B44,\"\")","v":""},{"$f":"IF('Filter Strip'!C44<>\"\",'Filter Strip'!C44,\"\")","v":""},{"$f":"IF('Filter Strip'!D44<>\"\",'Filter Strip'!D44,\"\")","v":""},{"$f":"IF('Filter Strip'!E44<>\"\",'Filter Strip'!E44,\"\")","v":""},{"$f":"IF('Filter Strip'!F44<>\"\",'Filter Strip'!F44,\"\")","v":""},null,null,null,null,null,"","","","","","",""]
[{"$f":"IF('Filter Strip'!A45<>\"\",'Filter Strip'!A45,\"\")","v":""},{"$f":"IF(A255<>\"\",'Filter Strip'!$A$17,\"\")","v":""},{"$f":"IF('Filter Strip'!B45<>\"\",'Filter Strip'!B45,\"\")","v":""},{"$f":"IF('Filter Strip'!C45<>\"\",'Filter Strip'!C45,\"\")","v":""},{"$f":"IF('Filter Strip'!D45<>\"\",'Filter Strip'!D45,\"\")","v":""},{"$f":"IF('Filter Strip'!E45<>\"\",'Filter Strip'!E45,\"\")","v":""},{"$f":"IF('Filter Strip'!F45<>\"\",'Filter Strip'!F45,\"\")","v":""},null,null,null,null,null,"","","","","","",""]
[{"$f":"IF('Filter Strip'!A46<>\"\",'Filter Strip'!A46,\"\")","v":""},{"$f":"IF(A256<>\"\",'Filter Strip'!$A$17,\"\")","v":""},{"$f":"IF('Filter Strip'!B46<>\"\",'Filter Strip'!B46,\"\")","v":""},{"$f":"IF('Filter Strip'!C46<>\"\",'Filter Strip'!C46,\"\")","v":""},{"$f":"IF('Filter Strip'!D46<>\"\",'Filter Strip'!D46,\"\")","v":""},{"$f":"IF('Filter Strip'!E46<>\"\",'Filter Strip'!E46,\"\")","v":""},{"$f":"IF('Filter Strip'!F46<>\"\",'Filter Strip'!F46,\"\")","v":""},null,null,null,null,null,"","","","","","",""]
[{"$f":"IF('Filter Strip'!A47<>\"\",'Filter Strip'!A47,\"\")","v":""},{"$f":"IF(A257<>\"\",'Filter Strip'!$A$17,\"\")","v":""},{"$f":"IF('Filter Strip'!B47<>\"\",'Filter Strip'!B47,\"\")","v":""},{"$f":"IF('Filter Strip'!C47<>\"\",'Filter Strip'!C47,\"\")","v":""},{"$f":"IF('Filter Strip'!D47<>\"\",'Filter Strip'!D47,\"\")","v":""},{"$f":"IF('Filter Strip'!E47<>\"\",'Filter Strip'!E47,\"\")","v":""},{"$f":"IF('Filter Strip'!F47<>\"\",'Filter Strip'!F47,\"\")","v":""},null,null,null,null,null,"","","","","","",""]
[{"$f":"IF('Filter Strip'!A48<>\"\",'Filter Strip'!A48,\"\")","v":""},{"$f":"IF(A258<>\"\",'Filter Strip'!$A$17,\"\")","v":""},{"$f":"IF('Filter Strip'!B48<>\"\",'Filter Strip'!B48,\"\")","v":""},{"$f":"IF('Filter Strip'!C48<>\"\",'Filter Strip'!C48,\"\")","v":""},{"$f":"IF('Filter Strip'!D48<>\"\",'Filter Strip'!D48,\"\")","v":""},{"$f":"IF('Filter Strip'!E48<>\"\",'Filter Strip'!E48,\"\")","v":""},{"$f":"IF('Filter Strip'!F48<>\"\",'Filter Strip'!F48,\"\")","v":""},null,null,null,null,null,"","","","","","",""]
[{"$f":"IF('Filter Strip'!A49<>\"\",'Filter Strip'!A49,\"\")","v":""},{"$f":"IF(A259<>\"\",'Filter Strip'!$A$17,\"\")","v":""},{"$f":"IF('Filter Strip'!B49<>\"\",'Filter Strip'!B49,\"\")","v":""},{"$f":"IF('Filter Strip'!C49<>\"\",'Filter Strip'!C49,\"\")","v":""},{"$f":"IF('Filter Strip'!D49<>\"\",'Filter Strip'!D49,\"\")","v":""},{"$f":"IF('Filter Strip'!E49<>\"\",'Filter Strip'!E49,\"\")","v":""},{"$f":"IF('Filter Strip'!F49<>\"\",'Filter Strip'!F49,\"\")","v":""},null,null,null,null,null,"","","","","","",""]
[{"$f":"IF('Filter Strip'!A50<>\"\",'Filter Strip'!A50,\"\")","v":""},{"$f":"IF(A260<>\"\",'Filter Strip'!$A$17,\"\")","v":""},{"$f":"IF('Filter Strip'!B50<>\"\",'Filter Strip'!B50,\"\")","v":""},{"$f":"IF('Filter Strip'!C50<>\"\",'Filter Strip'!C50,\"\")","v":""},{"$f":"IF('Filter Strip'!D50<>\"\",'Filter Strip'!D50,\"\")","v":""},{"$f":"IF('Filter Strip'!E50<>\"\",'Filter Strip'!E50,\"\")","v":""},{"$f":"IF('Filter Strip'!F50<>\"\",'Filter Strip'!F50,\"\")","v":""},null,null,null,null,null,"","","","","","",""]
[{"$f":"IF('Filter Strip'!A51<>\"\",'Filter Strip'!A51,\"\")","v":""},{"$f":"IF(A261<>\"\",'Filter Strip'!$A$17,\"\")","v":""},{"$f":"IF('Filter Strip'!B51<>\"\",'Filter Strip'!B51,\"\")","v":""},{"$f":"IF('Filter Strip'!C51<>\"\",'Filter Strip'!C51,\"\")","v":""},{"$f":"IF('Filter Strip'!D51<>\"\",'Filter Strip'!D51,\"\")","v":""},{"$f":"IF('Filter Strip'!E51<>\"\",'Filter Strip'!E51,\"\")","v":""},{"$f":"IF('Filter Strip'!F51<>\"\",'Filter Strip'!F51,\"\")","v":""},null,null,null,null,null,"","","","","","",""]
[{"$f":"IF('Filter Strip'!A52<>\"\",'Filter Strip'!A52,\"\")","v":""},{"$f":"IF(A262<>\"\",'Filter Strip'!$A$17,\"\")","v":""},{"$f":"IF('Filter Strip'!B52<>\"\",'Filter Strip'!B52,\"\")","v":""},{"$f":"IF('Filter Strip'!C52<>\"\",'Filter Strip'!C52,\"\")","v":""},{"$f":"IF('Filter Strip'!D52<>\"\",'Filter Strip'!D52,\"\")","v":""},{"$f":"IF('Filter Strip'!E52<>\"\",'Filter Strip'!E52,\"\")","v":""},{"$f":"IF('Filter Strip'!F52<>\"\",'Filter Strip'!F52,\"\")","v":""},null,null,null,null,null,"","","","","","",""]
[{"$f":"IF('Filter Strip'!A53<>\"\",'Filter Strip'!A53,\"\")","v":""},{"$f":"IF(A263<>\"\",'Filter Strip'!$A$17,\"\")","v":""},{"$f":"IF('Filter Strip'!B53<>\"\",'Filter Strip'!B53,\"\")","v":""},{"$f":"IF('Filter Strip'!C53<>\"\",'Filter Strip'!C53,\"\")","v":""},{"$f":"IF('Filter Strip'!D53<>\"\",'Filter Strip'!D53,\"\")","v":""},{"$f":"IF('Filter Strip'!E53<>\"\",'Filter Strip'!E53,\"\")","v":""},{"$f":"IF('Filter Strip'!F53<>\"\",'Filter Strip'!F53,\"\")","v":""},null,null,null,null,null,"","","","","","",""]
[{"$f":"IF('Filter Strip'!A54<>\"\",'Filter Strip'!A54,\"\")","v":""},{"$f":"IF(A264<>\"\",'Filter Strip'!$A$17,\"\")","v":""},{"$f":"IF('Filter Strip'!B54<>\"\",'Filter Strip'!B54,\"\")","v":""},{"$f":"IF('Filter Strip'!C54<>\"\",'Filter Strip'!C54,\"\")","v":""},{"$f":"IF('Filter Strip'!D54<>\"\",'Filter Strip'!D54,\"\")","v":""},{"$f":"IF('Filter Strip'!E54<>\"\",'Filter Strip'!E54,\"\")","v":""},{"$f":"IF('Filter Strip'!F54<>\"\",'Filter Strip'!F54,\"\")","v":""},null,null,null,null,null,"","","","","","",""]
[{"$f":"IF('Filter Strip'!A55<>\"\",'Filter Strip'!A55,\"\")","v":""},{"$f":"IF(A265<>\"\",'Filter Strip'!$A$17,\"\")","v":""},{"$f":"IF('Filter Strip'!B55<>\"\",'Filter Strip'!B55,\"\")","v":""},{"$f":"IF('Filter Strip'!C55<>\"\",'Filter Strip'!C55,\"\")","v":""},{"$f":"IF('Filter Strip'!D55<>\"\",'Filter Strip'!D55,\"\")","v":""},{"$f":"IF('Filter Strip'!E55<>\"\",'Filter Strip'!E55,\"\")","v":""},{"$f":"IF('Filter Strip'!F55<>\"\",'Filter Strip'!F55,\"\")","v":""},null,null,null,null,null,"","","","","","",""]
[{"$f":"IF('Filter Strip'!A56<>\"\",'Filter Strip'!A56,\"\")","v":""},{"$f":"IF(A266<>\"\",'Filter Strip'!$A$17,\"\")","v":""},{"$f":"IF('Filter Strip'!B56<>\"\",'Filter Strip'!B56,\"\")","v":""},{"$f":"IF('Filter Strip'!C56<>\"\",'Filter Strip'!C56,\"\")","v":""},{"$f":"IF('Filter Strip'!D56<>\"\",'Filter Strip'!D56,\"\")","v":""},{"$f":"IF('Filter Strip'!E56<>\"\",'Filter Strip'!E56,\"\")","v":""},{"$f":"IF('Filter Strip'!F56<>\"\",'Filter Strip'!F56,\"\")","v":""},null,null,null,null,null,"","","","","","",""]
[{"$f":"IF('Filter Strip'!A70<>\"\",'Filter Strip'!A70,\"\")","v":""},{"$f":"IF(A267<>\"\",'Filter Strip'!$A$17,\"\")","v":""},{"$f":"IF('Filter Strip'!B70<>\"\",'Filter Strip'!B70,\"\")","v":""},{"$f":"IF('Filter Strip'!C70<>\"\",'Filter Strip'!C70,\"\")","v":""},{"$f":"IF('Filter Strip'!D70<>\"\",'Filter Strip'!D70,\"\")","v":""},{"$f":"IF('Filter Strip'!E70<>\"\",'Filter Strip'!E70,\"\")","v":""},{"$f":"IF('Filter Strip'!F70<>\"\",'Filter Strip'!F70,\"\")","v":""},null,null,null,null,null,"","","","","","",""]
[{"$f":"IF('Filter Strip'!A71<>\"\",'Filter Strip'!A71,\"\")","v":""},{"$f":"IF(A268<>\"\",'Filter Strip'!$A$17,\"\")","v":""},{"$f":"IF('Filter Strip'!B71<>\"\",'Filter Strip'!B71,\"\")","v":""},{"$f":"IF('Filter Strip'!C71<>\"\",'Filter Strip'!C71,\"\")","v":""},{"$f":"IF('Filter Strip'!D71<>\"\",'Filter Strip'!D71,\"\")","v":""},{"$f":"IF('Filter Strip'!E71<>\"\",'Filter Strip'!E71,\"\")","v":""},{"$f":"IF('Filter Strip'!F71<>\"\",'Filter Strip'!F71,\"\")","v":""},null,null,null,null,null,"","","","","","",""]
[{"$f":"IF('Filter Strip'!A72<>\"\",'Filter Strip'!A72,\"\")","v":""},{"$f":"IF(A269<>\"\",'Filter Strip'!$A$17,\"\")","v":""},{"$f":"IF('Filter Strip'!B72<>\"\",'Filter Strip'!B72,\"\")","v":""},{"$f":"IF('Filter Strip'!C72<>\"\",'Filter Strip'!C72,\"\")","v":""},{"$f":"IF('Filter Strip'!D72<>\"\",'Filter Strip'!D72,\"\")","v":""},{"$f":"IF('Filter Strip'!E72<>\"\",'Filter Strip'!E72,\"\")","v":""},{"$f":"IF('Filter Strip'!F72<>\"\",'Filter Strip'!F72,\"\")","v":""},null,null,null,null,null,"","","","","","",""]
[{"$f":"IF('Filter Strip'!A73<>\"\",'Filter Strip'!A73,\"\")","v":""},{"$f":"IF(A270<>\"\",'Filter Strip'!$A$17,\"\")","v":""},{"$f":"IF('Filter Strip'!B73<>\"\",'Filter Strip'!B73,\"\")","v":""},{"$f":"IF('Filter Strip'!C73<>\"\",'Filter Strip'!C73,\"\")","v":""},{"$f":"IF('Filter Strip'!D73<>\"\",'Filter Strip'!D73,\"\")","v":""},{"$f":"IF('Filter Strip'!E73<>\"\",'Filter Strip'!E73,\"\")","v":""},{"$f":"IF('Filter Strip'!F73<>\"\",'Filter Strip'!F73,\"\")","v":""},null,null,null,null,null,"","","","","","",""]
[{"$f":"IF('Filter Strip'!A74<>\"\",'Filter Strip'!A74,\"\")","v":""},{"$f":"IF(A271<>\"\",'Filter Strip'!$A$17,\"\")","v":""},{"$f":"IF('Filter Strip'!B74<>\"\",'Filter Strip'!B74,\"\")","v":""},{"$f":"IF('Filter Strip'!C74<>\"\",'Filter Strip'!C74,\"\")","v":""},{"$f":"IF('Filter Strip'!D74<>\"\",'Filter Strip'!D74,\"\")","v":""},{"$f":"IF('Filter Strip'!E74<>\"\",'Filter Strip'!E74,\"\")","v":""},{"$f":"IF('Filter Strip'!F74<>\"\",'Filter Strip'!F74,\"\")","v":""},null,null,null,null,null,"","","","","","",""]
[{"$f":"IF('Filter Strip'!A75<>\"\",'Filter Strip'!A75,\"\")","v":""},{"$f":"IF(A272<>\"\",'Filter Strip'!$A$17,\"\")","v":""},{"$f":"IF('Filter Strip'!B75<>\"\",'Filter Strip'!B75,\"\")","v":""},{"$f":"IF('Filter Strip'!C75<>\"\",'Filter Strip'!C75,\"\")","v":""},{"$f":"IF('Filter Strip'!D75<>\"\",'Filter Strip'!D75,\"\")","v":""},{"$f":"IF('Filter Strip'!E75<>\"\",'Filter Strip'!E75,\"\")","v":""},{"$f":"IF('Filter Strip'!F75<>\"\",'Filter Strip'!F75,\"\")","v":""},null,null,null,null,null,"","","","","","",""]
[{"$f":"IF('Filter Strip'!A76<>\"\",'Filter Strip'!A76,\"\")","v":""},{"$f":"IF(A273<>\"\",'Filter Strip'!$A$17,\"\")","v":""},{"$f":"IF('Filter Strip'!B76<>\"\",'Filter Strip'!B76,\"\")","v":""},{"$f":"IF('Filter Strip'!C76<>\"\",'Filter Strip'!C76,\"\")","v":""},{"$f":"IF('Filter Strip'!D76<>\"\",'Filter Strip'!D76,\"\")","v":""},{"$f":"IF('Filter Strip'!E76<>\"\",'Filter Strip'!E76,\"\")","v":""},{"$f":"IF('Filter Strip'!F76<>\"\",'Filter Strip'!F76,\"\")","v":""},null,null,null,null,null,"","","","","","",""]
[{"$f":"IF('Filter Strip'!A77<>\"\",'Filter Strip'!A77,\"\")","v":""},{"$f":"IF(A274<>\"\",'Filter Strip'!$A$17,\"\")","v":""},{"$f":"IF('Filter Strip'!B77<>\"\",'Filter Strip'!B77,\"\")","v":""},{"$f":"IF('Filter Strip'!C77<>\"\",'Filter Strip'!C77,\"\")","v":""},{"$f":"IF('Filter Strip'!D77<>\"\",'Filter Strip'!D77,\"\")","v":""},{"$f":"IF('Filter Strip'!E77<>\"\",'Filter Strip'!E77,\"\")","v":""},{"$f":"IF('Filter Strip'!F77<>\"\",'Filter Strip'!F77,\"\")","v":""},null,null,null,null,null,"","","","","","",""]
[{"$f":"IF('Filter Strip'!A78<>\"\",'Filter Strip'!A78,\"\")","v":""},{"$f":"IF(A275<>\"\",'Filter Strip'!$A$17,\"\")","v":""},{"$f":"IF('Filter Strip'!B78<>\"\",'Filter Strip'!B78,\"\")","v":""},{"$f":"IF('Filter Strip'!C78<>\"\",'Filter Strip'!C78,\"\")","v":""},{"$f":"IF('Filter Strip'!D78<>\"\",'Filter Strip'!D78,\"\")","v":""},{"$f":"IF('Filter Strip'!E78<>\"\",'Filter Strip'!E78,\"\")","v":""},{"$f":"IF('Filter Strip'!F78<>\"\",'Filter Strip'!F78,\"\")","v":""},null,null,null,null,null,"","","","","","",""]
[{"$f":"IF('Filter Strip'!A79<>\"\",'Filter Strip'!A79,\"\")","v":""},{"$f":"IF(A276<>\"\",'Filter Strip'!$A$17,\"\")","v":""},{"$f":"IF('Filter Strip'!B79<>\"\",'Filter Strip'!B79,\"\")","v":""},{"$f":"IF('Filter Strip'!C79<>\"\",'Filter Strip'!C79,\"\")","v":""},{"$f":"IF('Filter Strip'!D79<>\"\",'Filter Strip'!D79,\"\")","v":""},{"$f":"IF('Filter Strip'!E79<>\"\",'Filter Strip'!E79,\"\")","v":""},{"$f":"IF('Filter Strip'!F79<>\"\",'Filter Strip'!F79,\"\")","v":""},null,null,null,null,null,"","","","","","",""]
[{"$f":"IF('Filter Strip'!A80<>\"\",'Filter Strip'!A80,\"\")","v":""},{"$f":"IF(A277<>\"\",'Filter Strip'!$A$17,\"\")","v":""},{"$f":"IF('Filter Strip'!B80<>\"\",'Filter Strip'!B80,\"\")","v":""},{"$f":"IF('Filter Strip'!C80<>\"\",'Filter Strip'!C80,\"\")","v":""},{"$f":"IF('Filter Strip'!D80<>\"\",'Filter Strip'!D80,\"\")","v":""},{"$f":"IF('Filter Strip'!E80<>\"\",'Filter Strip'!E80,\"\")","v":""},{"$f":"IF('Filter Strip'!F80<>\"\",'Filter Strip'!F80,\"\")","v":""},null,null,null,null,null,"","","","","","",""]
[{"$f":"IF('Filter Strip'!A81<>\"\",'Filter Strip'!A81,\"\")","v":""},{"$f":"IF(A278<>\"\",'Filter Strip'!$A$17,\"\")","v":""},{"$f":"IF('Filter Strip'!B81<>\"\",'Filter Strip'!B81,\"\")","v":""},{"$f":"IF('Filter Strip'!C81<>\"\",'Filter Strip'!C81,\"\")","v":""},{"$f":"IF('Filter Strip'!D81<>\"\",'Filter Strip'!D81,\"\")","v":""},{"$f":"IF('Filter Strip'!E81<>\"\",'Filter Strip'!E81,\"\")","v":""},{"$f":"IF('Filter Strip'!F81<>\"\",'Filter Strip'!F81,\"\")","v":""},null,null,null,null,null,"","","","","","",""]
[{"$f":"IF('Filter Strip'!A82<>\"\",'Filter Strip'!A82,\"\")","v":""},{"$f":"IF(A279<>\"\",'Filter Strip'!$A$17,\"\")","v":""},{"$f":"IF('Filter Strip'!B82<>\"\",'Filter Strip'!B82,\"\")","v":""},{"$f":"IF('Filter Strip'!C82<>\"\",'Filter Strip'!C82,\"\")","v":""},{"$f":"IF('Filter Strip'!D82<>\"\",'Filter Strip'!D82,\"\")","v":""},{"$f":"IF('Filter Strip'!E82<>\"\",'Filter Strip'!E82,\"\")","v":""},{"$f":"IF('Filter Strip'!F82<>\"\",'Filter Strip'!F82,\"\")","v":""},null,null,null,null,null,"","","","","","",""]
[{"$f":"IF('Filter Strip'!A83<>\"\",'Filter Strip'!A83,\"\")","v":""},{"$f":"IF(A280<>\"\",'Filter Strip'!$A$17,\"\")","v":""},{"$f":"IF('Filter Strip'!B83<>\"\",'Filter Strip'!B83,\"\")","v":""},{"$f":"IF('Filter Strip'!C83<>\"\",'Filter Strip'!C83,\"\")","v":""},{"$f":"IF('Filter Strip'!D83<>\"\",'Filter Strip'!D83,\"\")","v":""},{"$f":"IF('Filter Strip'!E83<>\"\",'Filter Strip'!E83,\"\")","v":""},{"$f":"IF('Filter Strip'!F83<>\"\",'Filter Strip'!F83,\"\")","v":""},null,null,null,null,null,"","","","","","",""]
[{"$f":"IF('Filter Strip'!A84<>\"\",'Filter Strip'!A84,\"\")","v":""},{"$f":"IF(A281<>\"\",'Filter Strip'!$A$17,\"\")","v":""},{"$f":"IF('Filter Strip'!B84<>\"\",'Filter Strip'!B84,\"\")","v":""},{"$f":"IF('Filter Strip'!C84<>\"\",'Filter Strip'!C84,\"\")","v":""},{"$f":"IF('Filter Strip'!D84<>\"\",'Filter Strip'!D84,\"\")","v":""},{"$f":"IF('Filter Strip'!E84<>\"\",'Filter Strip'!E84,\"\")","v":""},{"$f":"IF('Filter Strip'!F84<>\"\",'Filter Strip'!F84,\"\")","v":""},null,null,null,null,null,"","","","","","",""]
[{"$f":"IF('Filter Strip'!A85<>\"\",'Filter Strip'!A85,\"\")","v":""},{"$f":"IF(A282<>\"\",'Filter Strip'!$A$17,\"\")","v":""},{"$f":"IF('Filter Strip'!B85<>\"\",'Filter Strip'!B85,\"\")","v":""},{"$f":"IF('Filter Strip'!C85<>\"\",'Filter Strip'!C85,\"\")","v":""},{"$f":"IF('Filter Strip'!D85<>\"\",'Filter Strip'!D85,\"\")","v":""},{"$f":"IF('Filter Strip'!E85<>\"\",'Filter Strip'!E85,\"\")","v":""},{"$f":"IF('Filter Strip'!F85<>\"\",'Filter Strip'!F85,\"\")","v":""},null,null,null,null,null,"","","","","","",""]
[{"$f":"IF('Filter Strip'!A86<>\"\",'Filter Strip'!A86,\"\")","v":""},{"$f":"IF(A283<>\"\",'Filter Strip'!$A$17,\"\")","v":""},{"$f":"IF('Filter Strip'!B86<>\"\",'Filter Strip'!B86,\"\")","v":""},{"$f":"IF('Filter Strip'!C86<>\"\",'Filter Strip'!C86,\"\")","v":""},{"$f":"IF('Filter Strip'!D86<>\"\",'Filter Strip'!D86,\"\")","v":""},{"$f":"IF('Filter Strip'!E86<>\"\",'Filter Strip'!E86,\"\")","v":""},{"$f":"IF('Filter Strip'!F86<>\"\",'Filter Strip'!F86,\"\")","v":""},null,null,null,null,null,"","","","","","",""]
[{"$f":"IF('Filter Strip'!A87<>\"\",'Filter Strip'!A87,\"\")","v":""},{"$f":"IF(A284<>\"\",'Filter Strip'!$A$17,\"\")","v":""},{"$f":"IF('Filter Strip'!B87<>\"\",'Filter Strip'!B87,\"\")","v":""},{"$f":"IF('Filter Strip'!C87<>\"\",'Filter Strip'!C87,\"\")","v":""},{"$f":"IF('Filter Strip'!D87<>\"\",'Filter Strip'!D87,\"\")","v":""},{"$f":"IF('Filter Strip'!E87<>\"\",'Filter Strip'!E87,\"\")","v":""},{"$f":"IF('Filter Strip'!F87<>\"\",'Filter Strip'!F87,\"\")","v":""},null,null,null,null,null,"","","","","","",""]
[{"$f":"IF('Filter Strip'!A88<>\"\",'Filter Strip'!A88,\"\")","v":""},{"$f":"IF(A285<>\"\",'Filter Strip'!$A$17,\"\")","v":""},{"$f":"IF('Filter Strip'!B88<>\"\",'Filter Strip'!B88,\"\")","v":""},{"$f":"IF('Filter Strip'!C88<>\"\",'Filter Strip'!C88,\"\")","v":""},{"$f":"IF('Filter Strip'!D88<>\"\",'Filter Strip'!D88,\"\")","v":""},{"$f":"IF('Filter Strip'!E88<>\"\",'Filter Strip'!E88,\"\")","v":""},{"$f":"IF('Filter Strip'!F88<>\"\",'Filter Strip'!F88,\"\")","v":""},null,null,null,null,null,"","","","","","",""]
[{"$f":"IF('Filter Strip'!A89<>\"\",'Filter Strip'!A89,\"\")","v":""},{"$f":"IF(A286<>\"\",'Filter Strip'!$A$17,\"\")","v":""},{"$f":"IF('Filter Strip'!B89<>\"\",'Filter Strip'!B89,\"\")","v":""},{"$f":"IF('Filter Strip'!C89<>\"\",'Filter Strip'!C89,\"\")","v":""},{"$f":"IF('Filter Strip'!D89<>\"\",'Filter Strip'!D89,\"\")","v":""},{"$f":"IF('Filter Strip'!E89<>\"\",'Filter Strip'!E89,\"\")","v":""},{"$f":"IF('Filter Strip'!F89<>\"\",'Filter Strip'!F89,\"\")","v":""},null,null,null,null,null,"","","","","","",""]
[{"$f":"IF('Filter Strip'!A90<>\"\",'Filter Strip'!A90,\"\")","v":""},{"$f":"IF(A287<>\"\",'Filter Strip'!$A$17,\"\")","v":""},{"$f":"IF('Filter Strip'!B90<>\"\",'Filter Strip'!B90,\"\")","v":""},{"$f":"IF('Filter Strip'!C90<>\"\",'Filter Strip'!C90,\"\")","v":""},{"$f":"IF('Filter Strip'!D90<>\"\",'Filter Strip'!D90,\"\")","v":""},{"$f":"IF('Filter Strip'!E90<>\"\",'Filter Strip'!E90,\"\")","v":""},{"$f":"IF('Filter Strip'!F90<>\"\",'Filter Strip'!F90,\"\")","v":""},null,null,null,null,null,"","","","","","",""]
[{"$f":"IF('Filter Strip'!A91<>\"\",'Filter Strip'!A91,\"\")","v":""},{"$f":"IF(A288<>\"\",'Filter Strip'!$A$17,\"\")","v":""},{"$f":"IF('Filter Strip'!B91<>\"\",'Filter Strip'!B91,\"\")","v":""},{"$f":"IF('Filter Strip'!C91<>\"\",'Filter Strip'!C91,\"\")","v":""},{"$f":"IF('Filter Strip'!D91<>\"\",'Filter Strip'!D91,\"\")","v":""},{"$f":"IF('Filter Strip'!E91<>\"\",'Filter Strip'!E91,\"\")","v":""},{"$f":"IF('Filter Strip'!F91<>\"\",'Filter Strip'!F91,\"\")","v":""},null,null,null,null,null,"","","","","","",""]
[{"$f":"IF('Filter Strip'!A92<>\"\",'Filter Strip'!A92,\"\")","v":""},{"$f":"IF(A289<>\"\",'Filter Strip'!$A$17,\"\")","v":""},{"$f":"IF('Filter Strip'!B92<>\"\",'Filter Strip'!B92,\"\")","v":""},{"$f":"IF('Filter Strip'!C92<>\"\",'Filter Strip'!C92,\"\")","v":""},{"$f":"IF('Filter Strip'!D92<>\"\",'Filter Strip'!D92,\"\")","v":""},{"$f":"IF('Filter Strip'!E92<>\"\",'Filter Strip'!E92,\"\")","v":""},{"$f":"IF('Filter Strip'!F92<>\"\",'Filter Strip'!F92,\"\")","v":""},null,null,null,null,null,"","","","","","",""]
[{"$f":"IF('Filter Strip'!A93<>\"\",'Filter Strip'!A93,\"\")","v":""},{"$f":"IF(A290<>\"\",'Filter Strip'!$A$17,\"\")","v":""},{"$f":"IF('Filter Strip'!B93<>\"\",'Filter Strip'!B93,\"\")","v":""},{"$f":"IF('Filter Strip'!C93<>\"\",'Filter Strip'!C93,\"\")","v":""},{"$f":"IF('Filter Strip'!D93<>\"\",'Filter Strip'!D93,\"\")","v":""},{"$f":"IF('Filter Strip'!E93<>\"\",'Filter Strip'!E93,\"\")","v":""},{"$f":"IF('Filter Strip'!F93<>\"\",'Filter Strip'!F93,\"\")","v":""},null,null,null,null,null,"","","","","","",""]
[{"$f":"IF('Filter Strip'!A94<>\"\",'Filter Strip'!A94,\"\")","v":""},{"$f":"IF(A291<>\"\",'Filter Strip'!$A$17,\"\")","v":""},{"$f":"IF('Filter Strip'!B94<>\"\",'Filter Strip'!B94,\"\")","v":""},{"$f":"IF('Filter Strip'!C94<>\"\",'Filter Strip'!C94,\"\")","v":""},{"$f":"IF('Filter Strip'!D94<>\"\",'Filter Strip'!D94,\"\")","v":""},{"$f":"IF('Filter Strip'!E94<>\"\",'Filter Strip'!E94,\"\")","v":""},{"$f":"IF('Filter Strip'!F94<>\"\",'Filter Strip'!F94,\"\")","v":""},null,null,null,null,null,"","","","","","",""]
[{"$f":"IF('Filter Strip'!A95<>\"\",'Filter Strip'!A95,\"\")","v":""},{"$f":"IF(A292<>\"\",'Filter Strip'!$A$17,\"\")","v":""},{"$f":"IF('Filter Strip'!B95<>\"\",'Filter Strip'!B95,\"\")","v":""},{"$f":"IF('Filter Strip'!C95<>\"\",'Filter Strip'!C95,\"\")","v":""},{"$f":"IF('Filter Strip'!D95<>\"\",'Filter Strip'!D95,\"\")","v":""},{"$f":"IF('Filter Strip'!E95<>\"\",'Filter Strip'!E95,\"\")","v":""},{"$f":"IF('Filter Strip'!F95<>\"\",'Filter Strip'!F95,\"\")","v":""},null,null,null,null,null,"","","","","","",""]
[{"$f":"IF('Filter Strip'!A96<>\"\",'Filter Strip'!A96,\"\")","v":""},{"$f":"IF(A293<>\"\",'Filter Strip'!$A$17,\"\")","v":""},{"$f":"IF('Filter Strip'!B96<>\"\",'Filter Strip'!B96,\"\")","v":""},{"$f":"IF('Filter Strip'!C96<>\"\",'Filter Strip'!C96,\"\")","v":""},{"$f":"IF('Filter Strip'!D96<>\"\",'Filter Strip'!D96,\"\")","v":""},{"$f":"IF('Filter Strip'!E96<>\"\",'Filter Strip'!E96,\"\")","v":""},{"$f":"IF('Filter Strip'!F96<>\"\",'Filter Strip'!F96,\"\")","v":""},null,null,null,null,null,"","","","","","",""]
[{"$f":"IF('Filter Strip'!A97<>\"\",'Filter Strip'!A97,\"\")","v":""},{"$f":"IF(A294<>\"\",'Filter Strip'!$A$17,\"\")","v":""},{"$f":"IF('Filter Strip'!B97<>\"\",'Filter Strip'!B97,\"\")","v":""},{"$f":"IF('Filter Strip'!C97<>\"\",'Filter Strip'!C97,\"\")","v":""},{"$f":"IF('Filter Strip'!D97<>\"\",'Filter Strip'!D97,\"\")","v":""},{"$f":"IF('Filter Strip'!E97<>\"\",'Filter Strip'!E97,\"\")","v":""},{"$f":"IF('Filter Strip'!F97<>\"\",'Filter Strip'!F97,\"\")","v":""},null,null,null,null,null,"","","","","","",""]
[{"$f":"IF('Filter Strip'!A98<>\"\",'Filter Strip'!A98,\"\")","v":""},{"$f":"IF(A295<>\"\",'Filter Strip'!$A$17,\"\")","v":""},{"$f":"IF('Filter Strip'!B98<>\"\",'Filter Strip'!B98,\"\")","v":""},{"$f":"IF('Filter Strip'!C98<>\"\",'Filter Strip'!C98,\"\")","v":""},{"$f":"IF('Filter Strip'!D98<>\"\",'Filter Strip'!D98,\"\")","v":""},{"$f":"IF('Filter Strip'!E98<>\"\",'Filter Strip'!E98,\"\")","v":""},{"$f":"IF('Filter Strip'!F98<>\"\",'Filter Strip'!F98,\"\")","v":""},null,null,null,null,null,"","","","","","",""]
[{"$f":"IF('Filter Strip'!A99<>\"\",'Filter Strip'!A99,\"\")","v":""},{"$f":"IF(A296<>\"\",'Filter Strip'!$A$17,\"\")","v":""},{"$f":"IF('Filter Strip'!B99<>\"\",'Filter Strip'!B99,\"\")","v":""},{"$f":"IF('Filter Strip'!C99<>\"\",'Filter Strip'!C99,\"\")","v":""},{"$f":"IF('Filter Strip'!D99<>\"\",'Filter Strip'!D99,\"\")","v":""},{"$f":"IF('Filter Strip'!E99<>\"\",'Filter Strip'!E99,\"\")","v":""},{"$f":"IF('Filter Strip'!F99<>\"\",'Filter Strip'!F99,\"\")","v":""},null,null,null,null,null,"","","","","","",""]
[{"$f":"IF('Filter Strip'!A100<>\"\",'Filter Strip'!A100,\"\")","v":""},{"$f":"IF(A297<>\"\",'Filter Strip'!$A$17,\"\")","v":""},{"$f":"IF('Filter Strip'!B100<>\"\",'Filter Strip'!B100,\"\")","v":""},{"$f":"IF('Filter Strip'!C100<>\"\",'Filter Strip'!C100,\"\")","v":""},{"$f":"IF('Filter Strip'!D100<>\"\",'Filter Strip'!D100,\"\")","v":""},{"$f":"IF('Filter Strip'!E100<>\"\",'Filter Strip'!E100,\"\")","v":""},{"$f":"IF('Filter Strip'!F100<>\"\",'Filter Strip'!F100,\"\")","v":""},null,null,null,null,null,"","","","","","",""]
[{"$f":"IF('Filter Strip'!A101<>\"\",'Filter Strip'!A101,\"\")","v":""},{"$f":"IF(A298<>\"\",'Filter Strip'!$A$17,\"\")","v":""},{"$f":"IF('Filter Strip'!B101<>\"\",'Filter Strip'!B101,\"\")","v":""},{"$f":"IF('Filter Strip'!C101<>\"\",'Filter Strip'!C101,\"\")","v":""},{"$f":"IF('Filter Strip'!D101<>\"\",'Filter Strip'!D101,\"\")","v":""},{"$f":"IF('Filter Strip'!E101<>\"\",'Filter Strip'!E101,\"\")","v":""},{"$f":"IF('Filter Strip'!F101<>\"\",'Filter Strip'!F101,\"\")","v":""},null,null,null,null,null,"","","","","","",""]
[{"$f":"IF('Filter Strip'!A102<>\"\",'Filter Strip'!A102,\"\")","v":""},{"$f":"IF(A299<>\"\",'Filter Strip'!$A$17,\"\")","v":""},{"$f":"IF('Filter Strip'!B102<>\"\",'Filter Strip'!B102,\"\")","v":""},{"$f":"IF('Filter Strip'!C102<>\"\",'Filter Strip'!C102,\"\")","v":""},{"$f":"IF('Filter Strip'!D102<>\"\",'Filter Strip'!D102,\"\")","v":""},{"$f":"IF('Filter Strip'!E102<>\"\",'Filter Strip'!E102,\"\")","v":""},{"$f":"IF('Filter Strip'!F102<>\"\",'Filter Strip'!F102,\"\")","v":""},null,null,null,null,null,"","","","","","",""]
[{"$f":"IF('Filter Strip'!A103<>\"\",'Filter Strip'!A103,\"\")","v":""},{"$f":"IF(A300<>\"\",'Filter Strip'!$A$17,\"\")","v":""},{"$f":"IF('Filter Strip'!B103<>\"\",'Filter Strip'!B103,\"\")","v":""},{"$f":"IF('Filter Strip'!C103<>\"\",'Filter Strip'!C103,\"\")","v":""},{"$f":"IF('Filter Strip'!D103<>\"\",'Filter Strip'!D103,\"\")","v":""},{"$f":"IF('Filter Strip'!E103<>\"\",'Filter Strip'!E103,\"\")","v":""},{"$f":"IF('Filter Strip'!F103<>\"\",'Filter Strip'!F103,\"\")","v":""},null,null,null,null,null,"","","","","","",""]
[{"$f":"IF('Filter Strip'!A104<>\"\",'Filter Strip'!A104,\"\")","v":""},{"$f":"IF(A301<>\"\",'Filter Strip'!$A$17,\"\")","v":""},{"$f":"IF('Filter Strip'!B104<>\"\",'Filter Strip'!B104,\"\")","v":""},{"$f":"IF('Filter Strip'!C104<>\"\",'Filter Strip'!C104,\"\")","v":""},{"$f":"IF('Filter Strip'!D104<>\"\",'Filter Strip'!D104,\"\")","v":""},{"$f":"IF('Filter Strip'!E104<>\"\",'Filter Strip'!E104,\"\")","v":""},{"$f":"IF('Filter Strip'!F104<>\"\",'Filter Strip'!F104,\"\")","v":""},null,null,null,null,null,"","","","","","",""]
[{"$f":"IF('Filter Strip'!A105<>\"\",'Filter Strip'!A105,\"\")","v":""},{"$f":"IF(A302<>\"\",'Filter Strip'!$A$17,\"\")","v":""},{"$f":"IF('Filter Strip'!B105<>\"\",'Filter Strip'!B105,\"\")","v":""},{"$f":"IF('Filter Strip'!C105<>\"\",'Filter Strip'!C105,\"\")","v":""},{"$f":"IF('Filter Strip'!D105<>\"\",'Filter Strip'!D105,\"\")","v":""},{"$f":"IF('Filter Strip'!E105<>\"\",'Filter Strip'!E105,\"\")","v":""},{"$f":"IF('Filter Strip'!F105<>\"\",'Filter Strip'!F105,\"\")","v":""},null,null,null,null,null,"","","","","","",""]
[{"$f":"IF('Filter Strip'!A106<>\"\",'Filter Strip'!A106,\"\")","v":""},{"$f":"IF(A303<>\"\",'Filter Strip'!$A$17,\"\")","v":""},{"$f":"IF('Filter Strip'!B106<>\"\",'Filter Strip'!B106,\"\")","v":""},{"$f":"IF('Filter Strip'!C106<>\"\",'Filter Strip'!C106,\"\")","v":""},{"$f":"IF('Filter Strip'!D106<>\"\",'Filter Strip'!D106,\"\")","v":""},{"$f":"IF('Filter Strip'!E106<>\"\",'Filter Strip'!E106,\"\")","v":""},{"$f":"IF('Filter Strip'!F106<>\"\",'Filter Strip'!F106,\"\")","v":""},null,null,null,null,null,"","","","","","",""]
[{"$f":"IF('Filter Strip'!A107<>\"\",'Filter Strip'!A107,\"\")","v":""},{"$f":"IF(A304<>\"\",'Filter Strip'!$A$17,\"\")","v":""},{"$f":"IF('Filter Strip'!B107<>\"\",'Filter Strip'!B107,\"\")","v":""},{"$f":"IF('Filter Strip'!C107<>\"\",'Filter Strip'!C107,\"\")","v":""},{"$f":"IF('Filter Strip'!D107<>\"\",'Filter Strip'!D107,\"\")","v":""},{"$f":"IF('Filter Strip'!E107<>\"\",'Filter Strip'!E107,\"\")","v":""},{"$f":"IF('Filter Strip'!F107<>\"\",'Filter Strip'!F107,\"\")","v":""},null,null,null,null,null,"","","","","","",""]
[{"$f":"IF('PSHs & Energy Diss.'!A22<>\"\",'PSHs & Energy Diss.'!A22,\"\")","v":""},{"$f":"IF('PSHs & Energy Diss.'!H22<>\"\",'PSHs & Energy Diss.'!H22,\"\")","v":""},{"$f":"IF('PSHs & Energy Diss.'!B22<>\"\",'PSHs & Energy Diss.'!B22,\"\")","v":""},{"$f":"IF('PSHs & Energy Diss.'!C22<>\"\",'PSHs & Energy Diss.'!C22,\"\")","v":""},{"$f":"IF('PSHs & Energy Diss.'!D22<>\"\",'PSHs & Energy Diss.'!D22,\"\")","v":""},{"$f":"IF('PSHs & Energy Diss.'!E22<>\"\",'PSHs & Energy Diss.'!E22,\"\")","v":""},{"$f":"IF('PSHs & Energy Diss.'!F22<>\"\",'PSHs & Energy Diss.'!F22,\"\")","v":""},null,null,null,null,null,"","","","","","",""]
[{"$f":"IF('PSHs & Energy Diss.'!A23<>\"\",'PSHs & Energy Diss.'!A23,\"\")","v":""},{"$f":"IF('PSHs & Energy Diss.'!H23<>\"\",'PSHs & Energy Diss.'!H23,\"\")","v":""},{"$f":"IF('PSHs & Energy Diss.'!B23<>\"\",'PSHs & Energy Diss.'!B23,\"\")","v":""},{"$f":"IF('PSHs & Energy Diss.'!C23<>\"\",'PSHs & Energy Diss.'!C23,\"\")","v":""},{"$f":"IF('PSHs & Energy Diss.'!D23<>\"\",'PSHs & Energy Diss.'!D23,\"\")","v":""},{"$f":"IF('PSHs & Energy Diss.'!E23<>\"\",'PSHs & Energy Diss.'!E23,\"\")","v":""},{"$f":"IF('PSHs & Energy Diss.'!F23<>\"\",'PSHs & Energy Diss.'!F23,\"\")","v":""},null,null,null,null,null,"","","","","","",""]
[{"$f":"IF('PSHs & Energy Diss.'!A24<>\"\",'PSHs & Energy Diss.'!A24,\"\")","v":""},{"$f":"IF('PSHs & Energy Diss.'!H24<>\"\",'PSHs & Energy Diss.'!H24,\"\")","v":""},{"$f":"IF('PSHs & Energy Diss.'!B24<>\"\",'PSHs & Energy Diss.'!B24,\"\")","v":""},{"$f":"IF('PSHs & Energy Diss.'!C24<>\"\",'PSHs & Energy Diss.'!C24,\"\")","v":""},{"$f":"IF('PSHs & Energy Diss.'!D24<>\"\",'PSHs & Energy Diss.'!D24,\"\")","v":""},{"$f":"IF('PSHs & Energy Diss.'!E24<>\"\",'PSHs & Energy Diss.'!E24,\"\")","v":""},{"$f":"IF('PSHs & Energy Diss.'!F24<>\"\",'PSHs & Energy Diss.'!F24,\"\")","v":""},null,null,null,null,null,"","","","","","",""]
[{"$f":"IF('PSHs & Energy Diss.'!A25<>\"\",'PSHs & Energy Diss.'!A25,\"\")","v":""},{"$f":"IF('PSHs & Energy Diss.'!H25<>\"\",'PSHs & Energy Diss.'!H25,\"\")","v":""},{"$f":"IF('PSHs & Energy Diss.'!B25<>\"\",'PSHs & Energy Diss.'!B25,\"\")","v":""},{"$f":"IF('PSHs & Energy Diss.'!C25<>\"\",'PSHs & Energy Diss.'!C25,\"\")","v":""},{"$f":"IF('PSHs & Energy Diss.'!D25<>\"\",'PSHs & Energy Diss.'!D25,\"\")","v":""},{"$f":"IF('PSHs & Energy Diss.'!E25<>\"\",'PSHs & Energy Diss.'!E25,\"\")","v":""},{"$f":"IF('PSHs & Energy Diss.'!F25<>\"\",'PSHs & Energy Diss.'!F25,\"\")","v":""},null,null,null,null,null,"","","","","","",""]
[{"$f":"IF('PSHs & Energy Diss.'!A26<>\"\",'PSHs & Energy Diss.'!A26,\"\")","v":""},{"$f":"IF('PSHs & Energy Diss.'!H26<>\"\",'PSHs & Energy Diss.'!H26,\"\")","v":""},{"$f":"IF('PSHs & Energy Diss.'!B26<>\"\",'PSHs & Energy Diss.'!B26,\"\")","v":""},{"$f":"IF('PSHs & Energy Diss.'!C26<>\"\",'PSHs & Energy Diss.'!C26,\"\")","v":""},{"$f":"IF('PSHs & Energy Diss.'!D26<>\"\",'PSHs & Energy Diss.'!D26,\"\")","v":""},{"$f":"IF('PSHs & Energy Diss.'!E26<>\"\",'PSHs & Energy Diss.'!E26,\"\")","v":""},{"$f":"IF('PSHs & Energy Diss.'!F26<>\"\",'PSHs & Energy Diss.'!F26,\"\")","v":""},null,null,null,null,null,"","","","","","",""]
[{"$f":"IF('PSHs & Energy Diss.'!A27<>\"\",'PSHs & Energy Diss.'!A27,\"\")","v":""},{"$f":"IF('PSHs & Energy Diss.'!H27<>\"\",'PSHs & Energy Diss.'!H27,\"\")","v":""},{"$f":"IF('PSHs & Energy Diss.'!B27<>\"\",'PSHs & Energy Diss.'!B27,\"\")","v":""},{"$f":"IF('PSHs & Energy Diss.'!C27<>\"\",'PSHs & Energy Diss.'!C27,\"\")","v":""},{"$f":"IF('PSHs & Energy Diss.'!D27<>\"\",'PSHs & Energy Diss.'!D27,\"\")","v":""},{"$f":"IF('PSHs & Energy Diss.'!E27<>\"\",'PSHs & Energy Diss.'!E27,\"\")","v":""},{"$f":"IF('PSHs & Energy Diss.'!F27<>\"\",'PSHs & Energy Diss.'!F27,\"\")","v":""},null,null,null,null,null,"","","","","","",""]
[{"$f":"IF('PSHs & Energy Diss.'!A28<>\"\",'PSHs & Energy Diss.'!A28,\"\")","v":""},{"$f":"IF('PSHs & Energy Diss.'!H28<>\"\",'PSHs & Energy Diss.'!H28,\"\")","v":""},{"$f":"IF('PSHs & Energy Diss.'!B28<>\"\",'PSHs & Energy Diss.'!B28,\"\")","v":""},{"$f":"IF('PSHs & Energy Diss.'!C28<>\"\",'PSHs & Energy Diss.'!C28,\"\")","v":""},{"$f":"IF('PSHs & Energy Diss.'!D28<>\"\",'PSHs & Energy Diss.'!D28,\"\")","v":""},{"$f":"IF('PSHs & Energy Diss.'!E28<>\"\",'PSHs & Energy Diss.'!E28,\"\")","v":""},{"$f":"IF('PSHs & Energy Diss.'!F28<>\"\",'PSHs & Energy Diss.'!F28,\"\")","v":""},null,null,null,null,null,"","","","","","",""]
[{"$f":"IF('PSHs & Energy Diss.'!A29<>\"\",'PSHs & Energy Diss.'!A29,\"\")","v":""},{"$f":"IF('PSHs & Energy Diss.'!H29<>\"\",'PSHs & Energy Diss.'!H29,\"\")","v":""},{"$f":"IF('PSHs & Energy Diss.'!B29<>\"\",'PSHs & Energy Diss.'!B29,\"\")","v":""},{"$f":"IF('PSHs & Energy Diss.'!C29<>\"\",'PSHs & Energy Diss.'!C29,\"\")","v":""},{"$f":"IF('PSHs & Energy Diss.'!D29<>\"\",'PSHs & Energy Diss.'!D29,\"\")","v":""},{"$f":"IF('PSHs & Energy Diss.'!E29<>\"\",'PSHs & Energy Diss.'!E29,\"\")","v":""},{"$f":"IF('PSHs & Energy Diss.'!F29<>\"\",'PSHs & Energy Diss.'!F29,\"\")","v":""},null,null,null,null,null,"","","","","","",""]
[{"$f":"IF('PSHs & Energy Diss.'!A30<>\"\",'PSHs & Energy Diss.'!A30,\"\")","v":""},{"$f":"IF('PSHs & Energy Diss.'!H30<>\"\",'PSHs & Energy Diss.'!H30,\"\")","v":""},{"$f":"IF('PSHs & Energy Diss.'!B30<>\"\",'PSHs & Energy Diss.'!B30,\"\")","v":""},{"$f":"IF('PSHs & Energy Diss.'!C30<>\"\",'PSHs & Energy Diss.'!C30,\"\")","v":""},{"$f":"IF('PSHs & Energy Diss.'!D30<>\"\",'PSHs & Energy Diss.'!D30,\"\")","v":""},{"$f":"IF('PSHs & Energy Diss.'!E30<>\"\",'PSHs & Energy Diss.'!E30,\"\")","v":""},{"$f":"IF('PSHs & Energy Diss.'!F30<>\"\",'PSHs & Energy Diss.'!F30,\"\")","v":""},null,null,null,null,null,"","","","","","",""]
[{"$f":"IF('PSHs & Energy Diss.'!A31<>\"\",'PSHs & Energy Diss.'!A31,\"\")","v":""},{"$f":"IF('PSHs & Energy Diss.'!H31<>\"\",'PSHs & Energy Diss.'!H31,\"\")","v":""},{"$f":"IF('PSHs & Energy Diss.'!B31<>\"\",'PSHs & Energy Diss.'!B31,\"\")","v":""},{"$f":"IF('PSHs & Energy Diss.'!C31<>\"\",'PSHs & Energy Diss.'!C31,\"\")","v":""},{"$f":"IF('PSHs & Energy Diss.'!D31<>\"\",'PSHs & Energy Diss.'!D31,\"\")","v":""},{"$f":"IF('PSHs & Energy Diss.'!E31<>\"\",'PSHs & Energy Diss.'!E31,\"\")","v":""},{"$f":"IF('PSHs & Energy Diss.'!F31<>\"\",'PSHs & Energy Diss.'!F31,\"\")","v":""},null,null,null,null,null,"","","","","","",""]
[{"$f":"IF('PSHs & Energy Diss.'!A32<>\"\",'PSHs & Energy Diss.'!A32,\"\")","v":""},{"$f":"IF('PSHs & Energy Diss.'!H32<>\"\",'PSHs & Energy Diss.'!H32,\"\")","v":""},{"$f":"IF('PSHs & Energy Diss.'!B32<>\"\",'PSHs & Energy Diss.'!B32,\"\")","v":""},{"$f":"IF('PSHs & Energy Diss.'!C32<>\"\",'PSHs & Energy Diss.'!C32,\"\")","v":""},{"$f":"IF('PSHs & Energy Diss.'!D32<>\"\",'PSHs & Energy Diss.'!D32,\"\")","v":""},{"$f":"IF('PSHs & Energy Diss.'!E32<>\"\",'PSHs & Energy Diss.'!E32,\"\")","v":""},{"$f":"IF('PSHs & Energy Diss.'!F32<>\"\",'PSHs & Energy Diss.'!F32,\"\")","v":""},null,null,null,null,null,"","","","","","",""]
[{"$f":"IF('PSHs & Energy Diss.'!A33<>\"\",'PSHs & Energy Diss.'!A33,\"\")","v":""},{"$f":"IF('PSHs & Energy Diss.'!H33<>\"\",'PSHs & Energy Diss.'!H33,\"\")","v":""},{"$f":"IF('PSHs & Energy Diss.'!B33<>\"\",'PSHs & Energy Diss.'!B33,\"\")","v":""},{"$f":"IF('PSHs & Energy Diss.'!C33<>\"\",'PSHs & Energy Diss.'!C33,\"\")","v":""},{"$f":"IF('PSHs & Energy Diss.'!D33<>\"\",'PSHs & Energy Diss.'!D33,\"\")","v":""},{"$f":"IF('PSHs & Energy Diss.'!E33<>\"\",'PSHs & Energy Diss.'!E33,\"\")","v":""},{"$f":"IF('PSHs & Energy Diss.'!F33<>\"\",'PSHs & Energy Diss.'!F33,\"\")","v":""},null,null,null,null,null,"","","","","","",""]
[{"$f":"IF('PSHs & Energy Diss.'!A34<>\"\",'PSHs & Energy Diss.'!A34,\"\")","v":""},{"$f":"IF('PSHs & Energy Diss.'!H34<>\"\",'PSHs & Energy Diss.'!H34,\"\")","v":""},{"$f":"IF('PSHs & Energy Diss.'!B34<>\"\",'PSHs & Energy Diss.'!B34,\"\")","v":""},{"$f":"IF('PSHs & Energy Diss.'!C34<>\"\",'PSHs & Energy Diss.'!C34,\"\")","v":""},{"$f":"IF('PSHs & Energy Diss.'!D34<>\"\",'PSHs & Energy Diss.'!D34,\"\")","v":""},{"$f":"IF('PSHs & Energy Diss.'!E34<>\"\",'PSHs & Energy Diss.'!E34,\"\")","v":""},{"$f":"IF('PSHs & Energy Diss.'!F34<>\"\",'PSHs & Energy Diss.'!F34,\"\")","v":""},null,null,null,null,null,"","","","","","",""]
[{"$f":"IF('PSHs & Energy Diss.'!A35<>\"\",'PSHs & Energy Diss.'!A35,\"\")","v":""},{"$f":"IF('PSHs & Energy Diss.'!H35<>\"\",'PSHs & Energy Diss.'!H35,\"\")","v":""},{"$f":"IF('PSHs & Energy Diss.'!B35<>\"\",'PSHs & Energy Diss.'!B35,\"\")","v":""},{"$f":"IF('PSHs & Energy Diss.'!C35<>\"\",'PSHs & Energy Diss.'!C35,\"\")","v":""},{"$f":"IF('PSHs & Energy Diss.'!D35<>\"\",'PSHs & Energy Diss.'!D35,\"\")","v":""},{"$f":"IF('PSHs & Energy Diss.'!E35<>\"\",'PSHs & Energy Diss.'!E35,\"\")","v":""},{"$f":"IF('PSHs & Energy Diss.'!F35<>\"\",'PSHs & Energy Diss.'!F35,\"\")","v":""},null,null,null,null,null,"","","","","","",""]
[{"$f":"IF('PSHs & Energy Diss.'!A36<>\"\",'PSHs & Energy Diss.'!A36,\"\")","v":""},{"$f":"IF('PSHs & Energy Diss.'!H36<>\"\",'PSHs & Energy Diss.'!H36,\"\")","v":""},{"$f":"IF('PSHs & Energy Diss.'!B36<>\"\",'PSHs & Energy Diss.'!B36,\"\")","v":""},{"$f":"IF('PSHs & Energy Diss.'!C36<>\"\",'PSHs & Energy Diss.'!C36,\"\")","v":""},{"$f":"IF('PSHs & Energy Diss.'!D36<>\"\",'PSHs & Energy Diss.'!D36,\"\")","v":""},{"$f":"IF('PSHs & Energy Diss.'!E36<>\"\",'PSHs & Energy Diss.'!E36,\"\")","v":""},{"$f":"IF('PSHs & Energy Diss.'!F36<>\"\",'PSHs & Energy Diss.'!F36,\"\")","v":""},null,null,null,null,null,"","","","","","",""]
[{"$f":"IF('PSHs & Energy Diss.'!A37<>\"\",'PSHs & Energy Diss.'!A37,\"\")","v":""},{"$f":"IF('PSHs & Energy Diss.'!H37<>\"\",'PSHs & Energy Diss.'!H37,\"\")","v":""},{"$f":"IF('PSHs & Energy Diss.'!B37<>\"\",'PSHs & Energy Diss.'!B37,\"\")","v":""},{"$f":"IF('PSHs & Energy Diss.'!C37<>\"\",'PSHs & Energy Diss.'!C37,\"\")","v":""},{"$f":"IF('PSHs & Energy Diss.'!D37<>\"\",'PSHs & Energy Diss.'!D37,\"\")","v":""},{"$f":"IF('PSHs & Energy Diss.'!E37<>\"\",'PSHs & Energy Diss.'!E37,\"\")","v":""},{"$f":"IF('PSHs & Energy Diss.'!F37<>\"\",'PSHs & Energy Diss.'!F37,\"\")","v":""},null,null,null,null,null,"","","","","","",""]
[{"$f":"IF('PSHs & Energy Diss.'!A38<>\"\",'PSHs & Energy Diss.'!A38,\"\")","v":""},{"$f":"IF('PSHs & Energy Diss.'!H38<>\"\",'PSHs & Energy Diss.'!H38,\"\")","v":""},{"$f":"IF('PSHs & Energy Diss.'!B38<>\"\",'PSHs & Energy Diss.'!B38,\"\")","v":""},{"$f":"IF('PSHs & Energy Diss.'!C38<>\"\",'PSHs & Energy Diss.'!C38,\"\")","v":""},{"$f":"IF('PSHs & Energy Diss.'!D38<>\"\",'PSHs & Energy Diss.'!D38,\"\")","v":""},{"$f":"IF('PSHs & Energy Diss.'!E38<>\"\",'PSHs & Energy Diss.'!E38,\"\")","v":""},{"$f":"IF('PSHs & Energy Diss.'!F38<>\"\",'PSHs & Energy Diss.'!F38,\"\")","v":""},null,null,null,null,null,"","","","","","",""]
[{"$f":"IF('PSHs & Energy Diss.'!A39<>\"\",'PSHs & Energy Diss.'!A39,\"\")","v":""},{"$f":"IF('PSHs & Energy Diss.'!H39<>\"\",'PSHs & Energy Diss.'!H39,\"\")","v":""},{"$f":"IF('PSHs & Energy Diss.'!B39<>\"\",'PSHs & Energy Diss.'!B39,\"\")","v":""},{"$f":"IF('PSHs & Energy Diss.'!C39<>\"\",'PSHs & Energy Diss.'!C39,\"\")","v":""},{"$f":"IF('PSHs & Energy Diss.'!D39<>\"\",'PSHs & Energy Diss.'!D39,\"\")","v":""},{"$f":"IF('PSHs & Energy Diss.'!E39<>\"\",'PSHs & Energy Diss.'!E39,\"\")","v":""},{"$f":"IF('PSHs & Energy Diss.'!F39<>\"\",'PSHs & Energy Diss.'!F39,\"\")","v":""},null,null,null,null,null,"","","","","","",""]
[{"$f":"IF('PSHs & Energy Diss.'!A40<>\"\",'PSHs & Energy Diss.'!A40,\"\")","v":""},{"$f":"IF('PSHs & Energy Diss.'!H40<>\"\",'PSHs & Energy Diss.'!H40,\"\")","v":""},{"$f":"IF('PSHs & Energy Diss.'!B40<>\"\",'PSHs & Energy Diss.'!B40,\"\")","v":""},{"$f":"IF('PSHs & Energy Diss.'!C40<>\"\",'PSHs & Energy Diss.'!C40,\"\")","v":""},{"$f":"IF('PSHs & Energy Diss.'!D40<>\"\",'PSHs & Energy Diss.'!D40,\"\")","v":""},{"$f":"IF('PSHs & Energy Diss.'!E40<>\"\",'PSHs & Energy Diss.'!E40,\"\")","v":""},{"$f":"IF('PSHs & Energy Diss.'!F40<>\"\",'PSHs & Energy Diss.'!F40,\"\")","v":""},null,null,null,null,null,"","","","","","",""]
[{"$f":"IF('PSHs & Energy Diss.'!A41<>\"\",'PSHs & Energy Diss.'!A41,\"\")","v":""},{"$f":"IF('PSHs & Energy Diss.'!H41<>\"\",'PSHs & Energy Diss.'!H41,\"\")","v":""},{"$f":"IF('PSHs & Energy Diss.'!B41<>\"\",'PSHs & Energy Diss.'!B41,\"\")","v":""},{"$f":"IF('PSHs & Energy Diss.'!C41<>\"\",'PSHs & Energy Diss.'!C41,\"\")","v":""},{"$f":"IF('PSHs & Energy Diss.'!D41<>\"\",'PSHs & Energy Diss.'!D41,\"\")","v":""},{"$f":"IF('PSHs & Energy Diss.'!E41<>\"\",'PSHs & Energy Diss.'!E41,\"\")","v":""},{"$f":"IF('PSHs & Energy Diss.'!F41<>\"\",'PSHs & Energy Diss.'!F41,\"\")","v":""},null,null,null,null,null,"","","","","","",""]
[{"$f":"IF('PSHs & Energy Diss.'!A42<>\"\",'PSHs & Energy Diss.'!A42,\"\")","v":""},{"$f":"IF('PSHs & Energy Diss.'!H42<>\"\",'PSHs & Energy Diss.'!H42,\"\")","v":""},{"$f":"IF('PSHs & Energy Diss.'!B42<>\"\",'PSHs & Energy Diss.'!B42,\"\")","v":""},{"$f":"IF('PSHs & Energy Diss.'!C42<>\"\",'PSHs & Energy Diss.'!C42,\"\")","v":""},{"$f":"IF('PSHs & Energy Diss.'!D42<>\"\",'PSHs & Energy Diss.'!D42,\"\")","v":""},{"$f":"IF('PSHs & Energy Diss.'!E42<>\"\",'PSHs & Energy Diss.'!E42,\"\")","v":""},{"$f":"IF('PSHs & Energy Diss.'!F42<>\"\",'PSHs & Energy Diss.'!F42,\"\")","v":""},null,null,null,null,null,"","","","","","",""]
[{"$f":"IF('PSHs & Energy Diss.'!A43<>\"\",'PSHs & Energy Diss.'!A43,\"\")","v":""},{"$f":"IF('PSHs & Energy Diss.'!H43<>\"\",'PSHs & Energy Diss.'!H43,\"\")","v":""},{"$f":"IF('PSHs & Energy Diss.'!B43<>\"\",'PSHs & Energy Diss.'!B43,\"\")","v":""},{"$f":"IF('PSHs & Energy Diss.'!C43<>\"\",'PSHs & Energy Diss.'!C43,\"\")","v":""},{"$f":"IF('PSHs & Energy Diss.'!D43<>\"\",'PSHs & Energy Diss.'!D43,\"\")","v":""},{"$f":"IF('PSHs & Energy Diss.'!E43<>\"\",'PSHs & Energy Diss.'!E43,\"\")","v":""},{"$f":"IF('PSHs & Energy Diss.'!F43<>\"\",'PSHs & Energy Diss.'!F43,\"\")","v":""},null,null,null,null,null,"","","","","","",""]
[{"$f":"IF('PSHs & Energy Diss.'!A44<>\"\",'PSHs & Energy Diss.'!A44,\"\")","v":""},{"$f":"IF('PSHs & Energy Diss.'!H44<>\"\",'PSHs & Energy Diss.'!H44,\"\")","v":""},{"$f":"IF('PSHs & Energy Diss.'!B44<>\"\",'PSHs & Energy Diss.'!B44,\"\")","v":""},{"$f":"IF('PSHs & Energy Diss.'!C44<>\"\",'PSHs & Energy Diss.'!C44,\"\")","v":""},{"$f":"IF('PSHs & Energy Diss.'!D44<>\"\",'PSHs & Energy Diss.'!D44,\"\")","v":""},{"$f":"IF('PSHs & Energy Diss.'!E44<>\"\",'PSHs & Energy Diss.'!E44,\"\")","v":""},{"$f":"IF('PSHs & Energy Diss.'!F44<>\"\",'PSHs & Energy Diss.'!F44,\"\")","v":""},null,null,null,null,null,"","","","","","",""]
[{"$f":"IF('PSHs & Energy Diss.'!A45<>\"\",'PSHs & Energy Diss.'!A45,\"\")","v":""},{"$f":"IF('PSHs & Energy Diss.'!H45<>\"\",'PSHs & Energy Diss.'!H45,\"\")","v":""},{"$f":"IF('PSHs & Energy Diss.'!B45<>\"\",'PSHs & Energy Diss.'!B45,\"\")","v":""},{"$f":"IF('PSHs & Energy Diss.'!C45<>\"\",'PSHs & Energy Diss.'!C45,\"\")","v":""},{"$f":"IF('PSHs & Energy Diss.'!D45<>\"\",'PSHs & Energy Diss.'!D45,\"\")","v":""},{"$f":"IF('PSHs & Energy Diss.'!E45<>\"\",'PSHs & Energy Diss.'!E45,\"\")","v":""},{"$f":"IF('PSHs & Energy Diss.'!F45<>\"\",'PSHs & Energy Diss.'!F45,\"\")","v":""},null,null,null,null,null,"","","","","","",""]
[{"$f":"IF('PSHs & Energy Diss.'!A46<>\"\",'PSHs & Energy Diss.'!A46,\"\")","v":""},{"$f":"IF('PSHs & Energy Diss.'!H46<>\"\",'PSHs & Energy Diss.'!H46,\"\")","v":""},{"$f":"IF('PSHs & Energy Diss.'!B46<>\"\",'PSHs & Energy Diss.'!B46,\"\")","v":""},{"$f":"IF('PSHs & Energy Diss.'!C46<>\"\",'PSHs & Energy Diss.'!C46,\"\")","v":""},{"$f":"IF('PSHs & Energy Diss.'!D46<>\"\",'PSHs & Energy Diss.'!D46,\"\")","v":""},{"$f":"IF('PSHs & Energy Diss.'!E46<>\"\",'PSHs & Energy Diss.'!E46,\"\")","v":""},{"$f":"IF('PSHs & Energy Diss.'!F46<>\"\",'PSHs & Energy Diss.'!F46,\"\")","v":""},null,null,null,null,null,"","","","","","",""]
[{"$f":"IF('PSHs & Energy Diss.'!A47<>\"\",'PSHs & Energy Diss.'!A47,\"\")","v":""},{"$f":"IF('PSHs & Energy Diss.'!H47<>\"\",'PSHs & Energy Diss.'!H47,\"\")","v":""},{"$f":"IF('PSHs & Energy Diss.'!B47<>\"\",'PSHs & Energy Diss.'!B47,\"\")","v":""},{"$f":"IF('PSHs & Energy Diss.'!C47<>\"\",'PSHs & Energy Diss.'!C47,\"\")","v":""},{"$f":"IF('PSHs & Energy Diss.'!D47<>\"\",'PSHs & Energy Diss.'!D47,\"\")","v":""},{"$f":"IF('PSHs & Energy Diss.'!E47<>\"\",'PSHs & Energy Diss.'!E47,\"\")","v":""},{"$f":"IF('PSHs & Energy Diss.'!F47<>\"\",'PSHs & Energy Diss.'!F47,\"\")","v":""},null,null,null,null,null,"","","","","","",""]
[{"$f":"IF('PSHs & Energy Diss.'!A48<>\"\",'PSHs & Energy Diss.'!A48,\"\")","v":""},{"$f":"IF('PSHs & Energy Diss.'!H48<>\"\",'PSHs & Energy Diss.'!H48,\"\")","v":""},{"$f":"IF('PSHs & Energy Diss.'!B48<>\"\",'PSHs & Energy Diss.'!B48,\"\")","v":""},{"$f":"IF('PSHs & Energy Diss.'!C48<>\"\",'PSHs & Energy Diss.'!C48,\"\")","v":""},{"$f":"IF('PSHs & Energy Diss.'!D48<>\"\",'PSHs & Energy Diss.'!D48,\"\")","v":""},{"$f":"IF('PSHs & Energy Diss.'!E48<>\"\",'PSHs & Energy Diss.'!E48,\"\")","v":""},{"$f":"IF('PSHs & Energy Diss.'!F48<>\"\",'PSHs & Energy Diss.'!F48,\"\")","v":""},null,null,null,null,null,"","","","","","",""]
[{"$f":"IF('PSHs & Energy Diss.'!A49<>\"\",'PSHs & Energy Diss.'!A49,\"\")","v":""},{"$f":"IF('PSHs & Energy Diss.'!H49<>\"\",'PSHs & Energy Diss.'!H49,\"\")","v":""},{"$f":"IF('PSHs & Energy Diss.'!B49<>\"\",'PSHs & Energy Diss.'!B49,\"\")","v":""},{"$f":"IF('PSHs & Energy Diss.'!C49<>\"\",'PSHs & Energy Diss.'!C49,\"\")","v":""},{"$f":"IF('PSHs & Energy Diss.'!D49<>\"\",'PSHs & Energy Diss.'!D49,\"\")","v":""},{"$f":"IF('PSHs & Energy Diss.'!E49<>\"\",'PSHs & Energy Diss.'!E49,\"\")","v":""},{"$f":"IF('PSHs & Energy Diss.'!F49<>\"\",'PSHs & Energy Diss.'!F49,\"\")","v":""},null,null,null,null,null,"","","","","","",""]
[{"$f":"IF('PSHs & Energy Diss.'!A50<>\"\",'PSHs & Energy Diss.'!A50,\"\")","v":""},{"$f":"IF('PSHs & Energy Diss.'!H50<>\"\",'PSHs & Energy Diss.'!H50,\"\")","v":""},{"$f":"IF('PSHs & Energy Diss.'!B50<>\"\",'PSHs & Energy Diss.'!B50,\"\")","v":""},{"$f":"IF('PSHs & Energy Diss.'!C50<>\"\",'PSHs & Energy Diss.'!C50,\"\")","v":""},{"$f":"IF('PSHs & Energy Diss.'!D50<>\"\",'PSHs & Energy Diss.'!D50,\"\")","v":""},{"$f":"IF('PSHs & Energy Diss.'!E50<>\"\",'PSHs & Energy Diss.'!E50,\"\")","v":""},{"$f":"IF('PSHs & Energy Diss.'!F50<>\"\",'PSHs & Energy Diss.'!F50,\"\")","v":""},null,null,null,null,null,"","","","","","",""]
[{"$f":"IF('PSHs & Energy Diss.'!A51<>\"\",'PSHs & Energy Diss.'!A51,\"\")","v":""},{"$f":"IF('PSHs & Energy Diss.'!H51<>\"\",'PSHs & Energy Diss.'!H51,\"\")","v":""},{"$f":"IF('PSHs & Energy Diss.'!B51<>\"\",'PSHs & Energy Diss.'!B51,\"\")","v":""},{"$f":"IF('PSHs & Energy Diss.'!C51<>\"\",'PSHs & Energy Diss.'!C51,\"\")","v":""},{"$f":"IF('PSHs & Energy Diss.'!D51<>\"\",'PSHs & Energy Diss.'!D51,\"\")","v":""},{"$f":"IF('PSHs & Energy Diss.'!E51<>\"\",'PSHs & Energy Diss.'!E51,\"\")","v":""},{"$f":"IF('PSHs & Energy Diss.'!F51<>\"\",'PSHs & Energy Diss.'!F51,\"\")","v":""},null,null,null,null,null,"","","","","","",""]
[{"$f":"IF('PSHs & Energy Diss.'!A52<>\"\",'PSHs & Energy Diss.'!A52,\"\")","v":""},{"$f":"IF('PSHs & Energy Diss.'!H52<>\"\",'PSHs & Energy Diss.'!H52,\"\")","v":""},{"$f":"IF('PSHs & Energy Diss.'!B52<>\"\",'PSHs & Energy Diss.'!B52,\"\")","v":""},{"$f":"IF('PSHs & Energy Diss.'!C52<>\"\",'PSHs & Energy Diss.'!C52,\"\")","v":""},{"$f":"IF('PSHs & Energy Diss.'!D52<>\"\",'PSHs & Energy Diss.'!D52,\"\")","v":""},{"$f":"IF('PSHs & Energy Diss.'!E52<>\"\",'PSHs & Energy Diss.'!E52,\"\")","v":""},{"$f":"IF('PSHs & Energy Diss.'!F52<>\"\",'PSHs & Energy Diss.'!F52,\"\")","v":""},null,null,null,null,null,"","","","","","",""]
[{"$f":"IF('PSHs & Energy Diss.'!A53<>\"\",'PSHs & Energy Diss.'!A53,\"\")","v":""},{"$f":"IF('PSHs & Energy Diss.'!H53<>\"\",'PSHs & Energy Diss.'!H53,\"\")","v":""},{"$f":"IF('PSHs & Energy Diss.'!B53<>\"\",'PSHs & Energy Diss.'!B53,\"\")","v":""},{"$f":"IF('PSHs & Energy Diss.'!C53<>\"\",'PSHs & Energy Diss.'!C53,\"\")","v":""},{"$f":"IF('PSHs & Energy Diss.'!D53<>\"\",'PSHs & Energy Diss.'!D53,\"\")","v":""},{"$f":"IF('PSHs & Energy Diss.'!E53<>\"\",'PSHs & Energy Diss.'!E53,\"\")","v":""},{"$f":"IF('PSHs & Energy Diss.'!F53<>\"\",'PSHs & Energy Diss.'!F53,\"\")","v":""},null,null,null,null,null,"","","","","","",""]
[{"$f":"IF('PSHs & Energy Diss.'!A72<>\"\",'PSHs & Energy Diss.'!A72,\"\")","v":""},{"$f":"IF('PSHs & Energy Diss.'!H72<>\"\",'PSHs & Energy Diss.'!H72,\"\")","v":""},{"$f":"IF('PSHs & Energy Diss.'!B72<>\"\",'PSHs & Energy Diss.'!B72,\"\")","v":""},{"$f":"IF('PSHs & Energy Diss.'!C72<>\"\",'PSHs & Energy Diss.'!C72,\"\")","v":""},{"$f":"IF('PSHs & Energy Diss.'!D72<>\"\",'PSHs & Energy Diss.'!D72,\"\")","v":""},{"$f":"IF('PSHs & Energy Diss.'!E72<>\"\",'PSHs & Energy Diss.'!E72,\"\")","v":""},{"$f":"IF('PSHs & Energy Diss.'!F72<>\"\",'PSHs & Energy Diss.'!F72,\"\")","v":""},null,null,null,null,null,"","","","","","",""]
[{"$f":"IF('PSHs & Energy Diss.'!A73<>\"\",'PSHs & Energy Diss.'!A73,\"\")","v":""},{"$f":"IF('PSHs & Energy Diss.'!H73<>\"\",'PSHs & Energy Diss.'!H73,\"\")","v":""},{"$f":"IF('PSHs & Energy Diss.'!B73<>\"\",'PSHs & Energy Diss.'!B73,\"\")","v":""},{"$f":"IF('PSHs & Energy Diss.'!C73<>\"\",'PSHs & Energy Diss.'!C73,\"\")","v":""},{"$f":"IF('PSHs & Energy Diss.'!D73<>\"\",'PSHs & Energy Diss.'!D73,\"\")","v":""},{"$f":"IF('PSHs & Energy Diss.'!E73<>\"\",'PSHs & Energy Diss.'!E73,\"\")","v":""},{"$f":"IF('PSHs & Energy Diss.'!F73<>\"\",'PSHs & Energy Diss.'!F73,\"\")","v":""},null,null,null,null,null,"","","","","","",""]
[{"$f":"IF('PSHs & Energy Diss.'!A74<>\"\",'PSHs & Energy Diss.'!A74,\"\")","v":""},{"$f":"IF('PSHs & Energy Diss.'!H74<>\"\",'PSHs & Energy Diss.'!H74,\"\")","v":""},{"$f":"IF('PSHs & Energy Diss.'!B74<>\"\",'PSHs & Energy Diss.'!B74,\"\")","v":""},{"$f":"IF('PSHs & Energy Diss.'!C74<>\"\",'PSHs & Energy Diss.'!C74,\"\")","v":""},{"$f":"IF('PSHs & Energy Diss.'!D74<>\"\",'PSHs & Energy Diss.'!D74,\"\")","v":""},{"$f":"IF('PSHs & Energy Diss.'!E74<>\"\",'PSHs & Energy Diss.'!E74,\"\")","v":""},{"$f":"IF('PSHs & Energy Diss.'!F74<>\"\",'PSHs & Energy Diss.'!F74,\"\")","v":""},null,null,null,null,null,"","","","","","",""]
[{"$f":"IF('PSHs & Energy Diss.'!A75<>\"\",'PSHs & Energy Diss.'!A75,\"\")","v":""},{"$f":"IF('PSHs & Energy Diss.'!H75<>\"\",'PSHs & Energy Diss.'!H75,\"\")","v":""},{"$f":"IF('PSHs & Energy Diss.'!B75<>\"\",'PSHs & Energy Diss.'!B75,\"\")","v":""},{"$f":"IF('PSHs & Energy Diss.'!C75<>\"\",'PSHs & Energy Diss.'!C75,\"\")","v":""},{"$f":"IF('PSHs & Energy Diss.'!D75<>\"\",'PSHs & Energy Diss.'!D75,\"\")","v":""},{"$f":"IF('PSHs & Energy Diss.'!E75<>\"\",'PSHs & Energy Diss.'!E75,\"\")","v":""},{"$f":"IF('PSHs & Energy Diss.'!F75<>\"\",'PSHs & Energy Diss.'!F75,\"\")","v":""},null,null,null,null,null,"","","","","","",""]
[{"$f":"IF('PSHs & Energy Diss.'!A76<>\"\",'PSHs & Energy Diss.'!A76,\"\")","v":""},{"$f":"IF('PSHs & Energy Diss.'!H76<>\"\",'PSHs & Energy Diss.'!H76,\"\")","v":""},{"$f":"IF('PSHs & Energy Diss.'!B76<>\"\",'PSHs & Energy Diss.'!B76,\"\")","v":""},{"$f":"IF('PSHs & Energy Diss.'!C76<>\"\",'PSHs & Energy Diss.'!C76,\"\")","v":""},{"$f":"IF('PSHs & Energy Diss.'!D76<>\"\",'PSHs & Energy Diss.'!D76,\"\")","v":""},{"$f":"IF('PSHs & Energy Diss.'!E76<>\"\",'PSHs & Energy Diss.'!E76,\"\")","v":""},{"$f":"IF('PSHs & Energy Diss.'!F76<>\"\",'PSHs & Energy Diss.'!F76,\"\")","v":""},null,null,null,null,null,"","","","","","",""]
[{"$f":"IF('PSHs & Energy Diss.'!A77<>\"\",'PSHs & Energy Diss.'!A77,\"\")","v":""},{"$f":"IF('PSHs & Energy Diss.'!H77<>\"\",'PSHs & Energy Diss.'!H77,\"\")","v":""},{"$f":"IF('PSHs & Energy Diss.'!B77<>\"\",'PSHs & Energy Diss.'!B77,\"\")","v":""},{"$f":"IF('PSHs & Energy Diss.'!C77<>\"\",'PSHs & Energy Diss.'!C77,\"\")","v":""},{"$f":"IF('PSHs & Energy Diss.'!D77<>\"\",'PSHs & Energy Diss.'!D77,\"\")","v":""},{"$f":"IF('PSHs & Energy Diss.'!E77<>\"\",'PSHs & Energy Diss.'!E77,\"\")","v":""},{"$f":"IF('PSHs & Energy Diss.'!F77<>\"\",'PSHs & Energy Diss.'!F77,\"\")","v":""},null,null,null,null,null,"","","","","","",""]
[{"$f":"IF('PSHs & Energy Diss.'!A78<>\"\",'PSHs & Energy Diss.'!A78,\"\")","v":""},{"$f":"IF('PSHs & Energy Diss.'!H78<>\"\",'PSHs & Energy Diss.'!H78,\"\")","v":""},{"$f":"IF('PSHs & Energy Diss.'!B78<>\"\",'PSHs & Energy Diss.'!B78,\"\")","v":""},{"$f":"IF('PSHs & Energy Diss.'!C78<>\"\",'PSHs & Energy Diss.'!C78,\"\")","v":""},{"$f":"IF('PSHs & Energy Diss.'!D78<>\"\",'PSHs & Energy Diss.'!D78,\"\")","v":""},{"$f":"IF('PSHs & Energy Diss.'!E78<>\"\",'PSHs & Energy Diss.'!E78,\"\")","v":""},{"$f":"IF('PSHs & Energy Diss.'!F78<>\"\",'PSHs & Energy Diss.'!F78,\"\")","v":""},null,null,null,null,null,"","","","","","",""]
[{"$f":"IF('PSHs & Energy Diss.'!A79<>\"\",'PSHs & Energy Diss.'!A79,\"\")","v":""},{"$f":"IF('PSHs & Energy Diss.'!H79<>\"\",'PSHs & Energy Diss.'!H79,\"\")","v":""},{"$f":"IF('PSHs & Energy Diss.'!B79<>\"\",'PSHs & Energy Diss.'!B79,\"\")","v":""},{"$f":"IF('PSHs & Energy Diss.'!C79<>\"\",'PSHs & Energy Diss.'!C79,\"\")","v":""},{"$f":"IF('PSHs & Energy Diss.'!D79<>\"\",'PSHs & Energy Diss.'!D79,\"\")","v":""},{"$f":"IF('PSHs & Energy Diss.'!E79<>\"\",'PSHs & Energy Diss.'!E79,\"\")","v":""},{"$f":"IF('PSHs & Energy Diss.'!F79<>\"\",'PSHs & Energy Diss.'!F79,\"\")","v":""},null,null,null,null,null,"","","","","","",""]
[{"$f":"IF('PSHs & Energy Diss.'!A80<>\"\",'PSHs & Energy Diss.'!A80,\"\")","v":""},{"$f":"IF('PSHs & Energy Diss.'!H80<>\"\",'PSHs & Energy Diss.'!H80,\"\")","v":""},{"$f":"IF('PSHs & Energy Diss.'!B80<>\"\",'PSHs & Energy Diss.'!B80,\"\")","v":""},{"$f":"IF('PSHs & Energy Diss.'!C80<>\"\",'PSHs & Energy Diss.'!C80,\"\")","v":""},{"$f":"IF('PSHs & Energy Diss.'!D80<>\"\",'PSHs & Energy Diss.'!D80,\"\")","v":""},{"$f":"IF('PSHs & Energy Diss.'!E80<>\"\",'PSHs & Energy Diss.'!E80,\"\")","v":""},{"$f":"IF('PSHs & Energy Diss.'!F80<>\"\",'PSHs & Energy Diss.'!F80,\"\")","v":""},null,null,null,null,null,"","","","","","",""]
[{"$f":"IF('PSHs & Energy Diss.'!A81<>\"\",'PSHs & Energy Diss.'!A81,\"\")","v":""},{"$f":"IF('PSHs & Energy Diss.'!H81<>\"\",'PSHs & Energy Diss.'!H81,\"\")","v":""},{"$f":"IF('PSHs & Energy Diss.'!B81<>\"\",'PSHs & Energy Diss.'!B81,\"\")","v":""},{"$f":"IF('PSHs & Energy Diss.'!C81<>\"\",'PSHs & Energy Diss.'!C81,\"\")","v":""},{"$f":"IF('PSHs & Energy Diss.'!D81<>\"\",'PSHs & Energy Diss.'!D81,\"\")","v":""},{"$f":"IF('PSHs & Energy Diss.'!E81<>\"\",'PSHs & Energy Diss.'!E81,\"\")","v":""},{"$f":"IF('PSHs & Energy Diss.'!F81<>\"\",'PSHs & Energy Diss.'!F81,\"\")","v":""},null,null,null,null,null,"","","","","","",""]
[{"$f":"IF('PSHs & Energy Diss.'!A82<>\"\",'PSHs & Energy Diss.'!A82,\"\")","v":""},{"$f":"IF('PSHs & Energy Diss.'!H82<>\"\",'PSHs & Energy Diss.'!H82,\"\")","v":""},{"$f":"IF('PSHs & Energy Diss.'!B82<>\"\",'PSHs & Energy Diss.'!B82,\"\")","v":""},{"$f":"IF('PSHs & Energy Diss.'!C82<>\"\",'PSHs & Energy Diss.'!C82,\"\")","v":""},{"$f":"IF('PSHs & Energy Diss.'!D82<>\"\",'PSHs & Energy Diss.'!D82,\"\")","v":""},{"$f":"IF('PSHs & Energy Diss.'!E82<>\"\",'PSHs & Energy Diss.'!E82,\"\")","v":""},{"$f":"IF('PSHs & Energy Diss.'!F82<>\"\",'PSHs & Energy Diss.'!F82,\"\")","v":""},null,null,null,null,null,"","","","","","",""]
[{"$f":"IF('PSHs & Energy Diss.'!A83<>\"\",'PSHs & Energy Diss.'!A83,\"\")","v":""},{"$f":"IF('PSHs & Energy Diss.'!H83<>\"\",'PSHs & Energy Diss.'!H83,\"\")","v":""},{"$f":"IF('PSHs & Energy Diss.'!B83<>\"\",'PSHs & Energy Diss.'!B83,\"\")","v":""},{"$f":"IF('PSHs & Energy Diss.'!C83<>\"\",'PSHs & Energy Diss.'!C83,\"\")","v":""},{"$f":"IF('PSHs & Energy Diss.'!D83<>\"\",'PSHs & Energy Diss.'!D83,\"\")","v":""},{"$f":"IF('PSHs & Energy Diss.'!E83<>\"\",'PSHs & Energy Diss.'!E83,\"\")","v":""},{"$f":"IF('PSHs & Energy Diss.'!F83<>\"\",'PSHs & Energy Diss.'!F83,\"\")","v":""},null,null,null,null,null,"","","","","","",""]
[{"$f":"IF('PSHs & Energy Diss.'!A84<>\"\",'PSHs & Energy Diss.'!A84,\"\")","v":""},{"$f":"IF('PSHs & Energy Diss.'!H84<>\"\",'PSHs & Energy Diss.'!H84,\"\")","v":""},{"$f":"IF('PSHs & Energy Diss.'!B84<>\"\",'PSHs & Energy Diss.'!B84,\"\")","v":""},{"$f":"IF('PSHs & Energy Diss.'!C84<>\"\",'PSHs & Energy Diss.'!C84,\"\")","v":""},{"$f":"IF('PSHs & Energy Diss.'!D84<>\"\",'PSHs & Energy Diss.'!D84,\"\")","v":""},{"$f":"IF('PSHs & Energy Diss.'!E84<>\"\",'PSHs & Energy Diss.'!E84,\"\")","v":""},{"$f":"IF('PSHs & Energy Diss.'!F84<>\"\",'PSHs & Energy Diss.'!F84,\"\")","v":""},null,null,null,null,null,"","","","","","",""]
[{"$f":"IF('PSHs & Energy Diss.'!A85<>\"\",'PSHs & Energy Diss.'!A85,\"\")","v":""},{"$f":"IF('PSHs & Energy Diss.'!H85<>\"\",'PSHs & Energy Diss.'!H85,\"\")","v":""},{"$f":"IF('PSHs & Energy Diss.'!B85<>\"\",'PSHs & Energy Diss.'!B85,\"\")","v":""},{"$f":"IF('PSHs & Energy Diss.'!C85<>\"\",'PSHs & Energy Diss.'!C85,\"\")","v":""},{"$f":"IF('PSHs & Energy Diss.'!D85<>\"\",'PSHs & Energy Diss.'!D85,\"\")","v":""},{"$f":"IF('PSHs & Energy Diss.'!E85<>\"\",'PSHs & Energy Diss.'!E85,\"\")","v":""},{"$f":"IF('PSHs & Energy Diss.'!F85<>\"\",'PSHs & Energy Diss.'!F85,\"\")","v":""},null,null,null,null,null,"","","","","","",""]
[{"$f":"IF('PSHs & Energy Diss.'!A86<>\"\",'PSHs & Energy Diss.'!A86,\"\")","v":""},{"$f":"IF('PSHs & Energy Diss.'!H86<>\"\",'PSHs & Energy Diss.'!H86,\"\")","v":""},{"$f":"IF('PSHs & Energy Diss.'!B86<>\"\",'PSHs & Energy Diss.'!B86,\"\")","v":""},{"$f":"IF('PSHs & Energy Diss.'!C86<>\"\",'PSHs & Energy Diss.'!C86,\"\")","v":""},{"$f":"IF('PSHs & Energy Diss.'!D86<>\"\",'PSHs & Energy Diss.'!D86,\"\")","v":""},{"$f":"IF('PSHs & Energy Diss.'!E86<>\"\",'PSHs & Energy Diss.'!E86,\"\")","v":""},{"$f":"IF('PSHs & Energy Diss.'!F86<>\"\",'PSHs & Energy Diss.'!F86,\"\")","v":""},null,null,null,null,null,"","","","","","",""]
[{"$f":"IF('PSHs & Energy Diss.'!A87<>\"\",'PSHs & Energy Diss.'!A87,\"\")","v":""},{"$f":"IF('PSHs & Energy Diss.'!H87<>\"\",'PSHs & Energy Diss.'!H87,\"\")","v":""},{"$f":"IF('PSHs & Energy Diss.'!B87<>\"\",'PSHs & Energy Diss.'!B87,\"\")","v":""},{"$f":"IF('PSHs & Energy Diss.'!C87<>\"\",'PSHs & Energy Diss.'!C87,\"\")","v":""},{"$f":"IF('PSHs & Energy Diss.'!D87<>\"\",'PSHs & Energy Diss.'!D87,\"\")","v":""},{"$f":"IF('PSHs & Energy Diss.'!E87<>\"\",'PSHs & Energy Diss.'!E87,\"\")","v":""},{"$f":"IF('PSHs & Energy Diss.'!F87<>\"\",'PSHs & Energy Diss.'!F87,\"\")","v":""},null,null,null,null,null,"","","","","","",""]
[{"$f":"IF('PSHs & Energy Diss.'!A88<>\"\",'PSHs & Energy Diss.'!A88,\"\")","v":""},{"$f":"IF('PSHs & Energy Diss.'!H88<>\"\",'PSHs & Energy Diss.'!H88,\"\")","v":""},{"$f":"IF('PSHs & Energy Diss.'!B88<>\"\",'PSHs & Energy Diss.'!B88,\"\")","v":""},{"$f":"IF('PSHs & Energy Diss.'!C88<>\"\",'PSHs & Energy Diss.'!C88,\"\")","v":""},{"$f":"IF('PSHs & Energy Diss.'!D88<>\"\",'PSHs & Energy Diss.'!D88,\"\")","v":""},{"$f":"IF('PSHs & Energy Diss.'!E88<>\"\",'PSHs & Energy Diss.'!E88,\"\")","v":""},{"$f":"IF('PSHs & Energy Diss.'!F88<>\"\",'PSHs & Energy Diss.'!F88,\"\")","v":""},null,null,null,null,null,"","","","","","",""]
[{"$f":"IF('PSHs & Energy Diss.'!A89<>\"\",'PSHs & Energy Diss.'!A89,\"\")","v":""},{"$f":"IF('PSHs & Energy Diss.'!H89<>\"\",'PSHs & Energy Diss.'!H89,\"\")","v":""},{"$f":"IF('PSHs & Energy Diss.'!B89<>\"\",'PSHs & Energy Diss.'!B89,\"\")","v":""},{"$f":"IF('PSHs & Energy Diss.'!C89<>\"\",'PSHs & Energy Diss.'!C89,\"\")","v":""},{"$f":"IF('PSHs & Energy Diss.'!D89<>\"\",'PSHs & Energy Diss.'!D89,\"\")","v":""},{"$f":"IF('PSHs & Energy Diss.'!E89<>\"\",'PSHs & Energy Diss.'!E89,\"\")","v":""},{"$f":"IF('PSHs & Energy Diss.'!F89<>\"\",'PSHs & Energy Diss.'!F89,\"\")","v":""},null,null,null,null,null,"","","","","","",""]
[{"$f":"IF('PSHs & Energy Diss.'!A90<>\"\",'PSHs & Energy Diss.'!A90,\"\")","v":""},{"$f":"IF('PSHs & Energy Diss.'!H90<>\"\",'PSHs & Energy Diss.'!H90,\"\")","v":""},{"$f":"IF('PSHs & Energy Diss.'!B90<>\"\",'PSHs & Energy Diss.'!B90,\"\")","v":""},{"$f":"IF('PSHs & Energy Diss.'!C90<>\"\",'PSHs & Energy Diss.'!C90,\"\")","v":""},{"$f":"IF('PSHs & Energy Diss.'!D90<>\"\",'PSHs & Energy Diss.'!D90,\"\")","v":""},{"$f":"IF('PSHs & Energy Diss.'!E90<>\"\",'PSHs & Energy Diss.'!E90,\"\")","v":""},{"$f":"IF('PSHs & Energy Diss.'!F90<>\"\",'PSHs & Energy Diss.'!F90,\"\")","v":""},null,null,null,null,null,"","","","","","",""]
[{"$f":"IF('PSHs & Energy Diss.'!A91<>\"\",'PSHs & Energy Diss.'!A91,\"\")","v":""},{"$f":"IF('PSHs & Energy Diss.'!H91<>\"\",'PSHs & Energy Diss.'!H91,\"\")","v":""},{"$f":"IF('PSHs & Energy Diss.'!B91<>\"\",'PSHs & Energy Diss.'!B91,\"\")","v":""},{"$f":"IF('PSHs & Energy Diss.'!C91<>\"\",'PSHs & Energy Diss.'!C91,\"\")","v":""},{"$f":"IF('PSHs & Energy Diss.'!D91<>\"\",'PSHs & Energy Diss.'!D91,\"\")","v":""},{"$f":"IF('PSHs & Energy Diss.'!E91<>\"\",'PSHs & Energy Diss.'!E91,\"\")","v":""},{"$f":"IF('PSHs & Energy Diss.'!F91<>\"\",'PSHs & Energy Diss.'!F91,\"\")","v":""},null,null,null,null,null,"","","","","","",""]
[{"$f":"IF('PSHs & Energy Diss.'!A92<>\"\",'PSHs & Energy Diss.'!A92,\"\")","v":""},{"$f":"IF('PSHs & Energy Diss.'!H92<>\"\",'PSHs & Energy Diss.'!H92,\"\")","v":""},{"$f":"IF('PSHs & Energy Diss.'!B92<>\"\",'PSHs & Energy Diss.'!B92,\"\")","v":""},{"$f":"IF('PSHs & Energy Diss.'!C92<>\"\",'PSHs & Energy Diss.'!C92,\"\")","v":""},{"$f":"IF('PSHs & Energy Diss.'!D92<>\"\",'PSHs & Energy Diss.'!D92,\"\")","v":""},{"$f":"IF('PSHs & Energy Diss.'!E92<>\"\",'PSHs & Energy Diss.'!E92,\"\")","v":""},{"$f":"IF('PSHs & Energy Diss.'!F92<>\"\",'PSHs & Energy Diss.'!F92,\"\")","v":""},null,null,null,null,null,"","","","","","",""]
[{"$f":"IF('PSHs & Energy Diss.'!A93<>\"\",'PSHs & Energy Diss.'!A93,\"\")","v":""},{"$f":"IF('PSHs & Energy Diss.'!H93<>\"\",'PSHs & Energy Diss.'!H93,\"\")","v":""},{"$f":"IF('PSHs & Energy Diss.'!B93<>\"\",'PSHs & Energy Diss.'!B93,\"\")","v":""},{"$f":"IF('PSHs & Energy Diss.'!C93<>\"\",'PSHs & Energy Diss.'!C93,\"\")","v":""},{"$f":"IF('PSHs & Energy Diss.'!D93<>\"\",'PSHs & Energy Diss.'!D93,\"\")","v":""},{"$f":"IF('PSHs & Energy Diss.'!E93<>\"\",'PSHs & Energy Diss.'!E93,\"\")","v":""},{"$f":"IF('PSHs & Energy Diss.'!F93<>\"\",'PSHs & Energy Diss.'!F93,\"\")","v":""},null,null,null,null,null,"","","","","","",""]
[{"$f":"IF('PSHs & Energy Diss.'!A94<>\"\",'PSHs & Energy Diss.'!A94,\"\")","v":""},{"$f":"IF('PSHs & Energy Diss.'!H94<>\"\",'PSHs & Energy Diss.'!H94,\"\")","v":""},{"$f":"IF('PSHs & Energy Diss.'!B94<>\"\",'PSHs & Energy Diss.'!B94,\"\")","v":""},{"$f":"IF('PSHs & Energy Diss.'!C94<>\"\",'PSHs & Energy Diss.'!C94,\"\")","v":""},{"$f":"IF('PSHs & Energy Diss.'!D94<>\"\",'PSHs & Energy Diss.'!D94,\"\")","v":""},{"$f":"IF('PSHs & Energy Diss.'!E94<>\"\",'PSHs & Energy Diss.'!E94,\"\")","v":""},{"$f":"IF('PSHs & Energy Diss.'!F94<>\"\",'PSHs & Energy Diss.'!F94,\"\")","v":""},null,null,null,null,null,"","","","","","",""]
[{"$f":"IF('PSHs & Energy Diss.'!A95<>\"\",'PSHs & Energy Diss.'!A95,\"\")","v":""},{"$f":"IF('PSHs & Energy Diss.'!H95<>\"\",'PSHs & Energy Diss.'!H95,\"\")","v":""},{"$f":"IF('PSHs & Energy Diss.'!B95<>\"\",'PSHs & Energy Diss.'!B95,\"\")","v":""},{"$f":"IF('PSHs & Energy Diss.'!C95<>\"\",'PSHs & Energy Diss.'!C95,\"\")","v":""},{"$f":"IF('PSHs & Energy Diss.'!D95<>\"\",'PSHs & Energy Diss.'!D95,\"\")","v":""},{"$f":"IF('PSHs & Energy Diss.'!E95<>\"\",'PSHs & Energy Diss.'!E95,\"\")","v":""},{"$f":"IF('PSHs & Energy Diss.'!F95<>\"\",'PSHs & Energy Diss.'!F95,\"\")","v":""},null,null,null,null,null,"","","","","","",""]
[{"$f":"IF('PSHs & Energy Diss.'!A96<>\"\",'PSHs & Energy Diss.'!A96,\"\")","v":""},{"$f":"IF('PSHs & Energy Diss.'!H96<>\"\",'PSHs & Energy Diss.'!H96,\"\")","v":""},{"$f":"IF('PSHs & Energy Diss.'!B96<>\"\",'PSHs & Energy Diss.'!B96,\"\")","v":""},{"$f":"IF('PSHs & Energy Diss.'!C96<>\"\",'PSHs & Energy Diss.'!C96,\"\")","v":""},{"$f":"IF('PSHs & Energy Diss.'!D96<>\"\",'PSHs & Energy Diss.'!D96,\"\")","v":""},{"$f":"IF('PSHs & Energy Diss.'!E96<>\"\",'PSHs & Energy Diss.'!E96,\"\")","v":""},{"$f":"IF('PSHs & Energy Diss.'!F96<>\"\",'PSHs & Energy Diss.'!F96,\"\")","v":""},null,null,null,null,null,"","","","","","",""]
[{"$f":"IF('PSHs & Energy Diss.'!A97<>\"\",'PSHs & Energy Diss.'!A97,\"\")","v":""},{"$f":"IF('PSHs & Energy Diss.'!H97<>\"\",'PSHs & Energy Diss.'!H97,\"\")","v":""},{"$f":"IF('PSHs & Energy Diss.'!B97<>\"\",'PSHs & Energy Diss.'!B97,\"\")","v":""},{"$f":"IF('PSHs & Energy Diss.'!C97<>\"\",'PSHs & Energy Diss.'!C97,\"\")","v":""},{"$f":"IF('PSHs & Energy Diss.'!D97<>\"\",'PSHs & Energy Diss.'!D97,\"\")","v":""},{"$f":"IF('PSHs & Energy Diss.'!E97<>\"\",'PSHs & Energy Diss.'!E97,\"\")","v":""},{"$f":"IF('PSHs & Energy Diss.'!F97<>\"\",'PSHs & Energy Diss.'!F97,\"\")","v":""},null,null,null,null,null,"","","","","","",""]
[{"$f":"IF('PSHs & Energy Diss.'!A98<>\"\",'PSHs & Energy Diss.'!A98,\"\")","v":""},{"$f":"IF('PSHs & Energy Diss.'!H98<>\"\",'PSHs & Energy Diss.'!H98,\"\")","v":""},{"$f":"IF('PSHs & Energy Diss.'!B98<>\"\",'PSHs & Energy Diss.'!B98,\"\")","v":""},{"$f":"IF('PSHs & Energy Diss.'!C98<>\"\",'PSHs & Energy Diss.'!C98,\"\")","v":""},{"$f":"IF('PSHs & Energy Diss.'!D98<>\"\",'PSHs & Energy Diss.'!D98,\"\")","v":""},{"$f":"IF('PSHs & Energy Diss.'!E98<>\"\",'PSHs & Energy Diss.'!E98,\"\")","v":""},{"$f":"IF('PSHs & Energy Diss.'!F98<>\"\",'PSHs & Energy Diss.'!F98,\"\")","v":""},null,null,null,null,null,"","","","","","",""]
[{"$f":"IF('PSHs & Energy Diss.'!A99<>\"\",'PSHs & Energy Diss.'!A99,\"\")","v":""},{"$f":"IF('PSHs & Energy Diss.'!H99<>\"\",'PSHs & Energy Diss.'!H99,\"\")","v":""},{"$f":"IF('PSHs & Energy Diss.'!B99<>\"\",'PSHs & Energy Diss.'!B99,\"\")","v":""},{"$f":"IF('PSHs & Energy Diss.'!C99<>\"\",'PSHs & Energy Diss.'!C99,\"\")","v":""},{"$f":"IF('PSHs & Energy Diss.'!D99<>\"\",'PSHs & Energy Diss.'!D99,\"\")","v":""},{"$f":"IF('PSHs & Energy Diss.'!E99<>\"\",'PSHs & Energy Diss.'!E99,\"\")","v":""},{"$f":"IF('PSHs & Energy Diss.'!F99<>\"\",'PSHs & Energy Diss.'!F99,\"\")","v":""},null,null,null,null,null,"","","","","","",""]
[{"$f":"IF('PSHs & Energy Diss.'!A100<>\"\",'PSHs & Energy Diss.'!A100,\"\")","v":""},{"$f":"IF('PSHs & Energy Diss.'!H100<>\"\",'PSHs & Energy Diss.'!H100,\"\")","v":""},{"$f":"IF('PSHs & Energy Diss.'!B100<>\"\",'PSHs & Energy Diss.'!B100,\"\")","v":""},{"$f":"IF('PSHs & Energy Diss.'!C100<>\"\",'PSHs & Energy Diss.'!C100,\"\")","v":""},{"$f":"IF('PSHs & Energy Diss.'!D100<>\"\",'PSHs & Energy Diss.'!D100,\"\")","v":""},{"$f":"IF('PSHs & Energy Diss.'!E100<>\"\",'PSHs & Energy Diss.'!E100,\"\")","v":""},{"$f":"IF('PSHs & Energy Diss.'!F100<>\"\",'PSHs & Energy Diss.'!F100,\"\")","v":""},null,null,null,null,null,"","","","","","",""]
[{"$f":"IF('PSHs & Energy Diss.'!A101<>\"\",'PSHs & Energy Diss.'!A101,\"\")","v":""},{"$f":"IF('PSHs & Energy Diss.'!H101<>\"\",'PSHs & Energy Diss.'!H101,\"\")","v":""},{"$f":"IF('PSHs & Energy Diss.'!B101<>\"\",'PSHs & Energy Diss.'!B101,\"\")","v":""},{"$f":"IF('PSHs & Energy Diss.'!C101<>\"\",'PSHs & Energy Diss.'!C101,\"\")","v":""},{"$f":"IF('PSHs & Energy Diss.'!D101<>\"\",'PSHs & Energy Diss.'!D101,\"\")","v":""},{"$f":"IF('PSHs & Energy Diss.'!E101<>\"\",'PSHs & Energy Diss.'!E101,\"\")","v":""},{"$f":"IF('PSHs & Energy Diss.'!F101<>\"\",'PSHs & Energy Diss.'!F101,\"\")","v":""},null,null,null,null,null,"","","","","","",""]
[{"$f":"IF('PSHs & Energy Diss.'!A102<>\"\",'PSHs & Energy Diss.'!A102,\"\")","v":""},{"$f":"IF('PSHs & Energy Diss.'!H102<>\"\",'PSHs & Energy Diss.'!H102,\"\")","v":""},{"$f":"IF('PSHs & Energy Diss.'!B102<>\"\",'PSHs & Energy Diss.'!B102,\"\")","v":""},{"$f":"IF('PSHs & Energy Diss.'!C102<>\"\",'PSHs & Energy Diss.'!C102,\"\")","v":""},{"$f":"IF('PSHs & Energy Diss.'!D102<>\"\",'PSHs & Energy Diss.'!D102,\"\")","v":""},{"$f":"IF('PSHs & Energy Diss.'!E102<>\"\",'PSHs & Energy Diss.'!E102,\"\")","v":""},{"$f":"IF('PSHs & Energy Diss.'!F102<>\"\",'PSHs & Energy Diss.'!F102,\"\")","v":""},null,null,null,null,null,"","","","","","",""]
[{"$f":"IF('PSHs & Energy Diss.'!A103<>\"\",'PSHs & Energy Diss.'!A103,\"\")","v":""},{"$f":"IF('PSHs & Energy Diss.'!H103<>\"\",'PSHs & Energy Diss.'!H103,\"\")","v":""},{"$f":"IF('PSHs & Energy Diss.'!B103<>\"\",'PSHs & Energy Diss.'!B103,\"\")","v":""},{"$f":"IF('PSHs & Energy Diss.'!C103<>\"\",'PSHs & Energy Diss.'!C103,\"\")","v":""},{"$f":"IF('PSHs & Energy Diss.'!D103<>\"\",'PSHs & Energy Diss.'!D103,\"\")","v":""},{"$f":"IF('PSHs & Energy Diss.'!E103<>\"\",'PSHs & Energy Diss.'!E103,\"\")","v":""},{"$f":"IF('PSHs & Energy Diss.'!F103<>\"\",'PSHs & Energy Diss.'!F103,\"\")","v":""},null,null,null,null,null,"","","","","","",""]
[{"$f":"IF('PSHs & Energy Diss.'!A122<>\"\",'PSHs & Energy Diss.'!A122,\"\")","v":""},{"$f":"IF('PSHs & Energy Diss.'!H122<>\"\",'PSHs & Energy Diss.'!H122,\"\")","v":""},{"$f":"IF('PSHs & Energy Diss.'!B122<>\"\",'PSHs & Energy Diss.'!B122,\"\")","v":""},{"$f":"IF('PSHs & Energy Diss.'!C122<>\"\",'PSHs & Energy Diss.'!C122,\"\")","v":""},{"$f":"IF('PSHs & Energy Diss.'!D122<>\"\",'PSHs & Energy Diss.'!D122,\"\")","v":""},{"$f":"IF('PSHs & Energy Diss.'!E122<>\"\",'PSHs & Energy Diss.'!E122,\"\")","v":""},{"$f":"IF('PSHs & Energy Diss.'!F122<>\"\",'PSHs & Energy Diss.'!F122,\"\")","v":""},null,null,null,null,null,"","","","","","",""]
[{"$f":"IF('PSHs & Energy Diss.'!A123<>\"\",'PSHs & Energy Diss.'!A123,\"\")","v":""},{"$f":"IF('PSHs & Energy Diss.'!H123<>\"\",'PSHs & Energy Diss.'!H123,\"\")","v":""},{"$f":"IF('PSHs & Energy Diss.'!B123<>\"\",'PSHs & Energy Diss.'!B123,\"\")","v":""},{"$f":"IF('PSHs & Energy Diss.'!C123<>\"\",'PSHs & Energy Diss.'!C123,\"\")","v":""},{"$f":"IF('PSHs & Energy Diss.'!D123<>\"\",'PSHs & Energy Diss.'!D123,\"\")","v":""},{"$f":"IF('PSHs & Energy Diss.'!E123<>\"\",'PSHs & Energy Diss.'!E123,\"\")","v":""},{"$f":"IF('PSHs & Energy Diss.'!F123<>\"\",'PSHs & Energy Diss.'!F123,\"\")","v":""},null,null,null,null,null,"","","","","","",""]
[{"$f":"IF('PSHs & Energy Diss.'!A124<>\"\",'PSHs & Energy Diss.'!A124,\"\")","v":""},{"$f":"IF('PSHs & Energy Diss.'!H124<>\"\",'PSHs & Energy Diss.'!H124,\"\")","v":""},{"$f":"IF('PSHs & Energy Diss.'!B124<>\"\",'PSHs & Energy Diss.'!B124,\"\")","v":""},{"$f":"IF('PSHs & Energy Diss.'!C124<>\"\",'PSHs & Energy Diss.'!C124,\"\")","v":""},{"$f":"IF('PSHs & Energy Diss.'!D124<>\"\",'PSHs & Energy Diss.'!D124,\"\")","v":""},{"$f":"IF('PSHs & Energy Diss.'!E124<>\"\",'PSHs & Energy Diss.'!E124,\"\")","v":""},{"$f":"IF('PSHs & Energy Diss.'!F124<>\"\",'PSHs & Energy Diss.'!F124,\"\")","v":""},null,null,null,null,null,"","","","","","",""]
[{"$f":"IF('PSHs & Energy Diss.'!A125<>\"\",'PSHs & Energy Diss.'!A125,\"\")","v":""},{"$f":"IF('PSHs & Energy Diss.'!H125<>\"\",'PSHs & Energy Diss.'!H125,\"\")","v":""},{"$f":"IF('PSHs & Energy Diss.'!B125<>\"\",'PSHs & Energy Diss.'!B125,\"\")","v":""},{"$f":"IF('PSHs & Energy Diss.'!C125<>\"\",'PSHs & Energy Diss.'!C125,\"\")","v":""},{"$f":"IF('PSHs & Energy Diss.'!D125<>\"\",'PSHs & Energy Diss.'!D125,\"\")","v":""},{"$f":"IF('PSHs & Energy Diss.'!E125<>\"\",'PSHs & Energy Diss.'!E125,\"\")","v":""},{"$f":"IF('PSHs & Energy Diss.'!F125<>\"\",'PSHs & Energy Diss.'!F125,\"\")","v":""},null,null,null,null,null,"","","","","","",""]
[{"$f":"IF('PSHs & Energy Diss.'!A126<>\"\",'PSHs & Energy Diss.'!A126,\"\")","v":""},{"$f":"IF('PSHs & Energy Diss.'!H126<>\"\",'PSHs & Energy Diss.'!H126,\"\")","v":""},{"$f":"IF('PSHs & Energy Diss.'!B126<>\"\",'PSHs & Energy Diss.'!B126,\"\")","v":""},{"$f":"IF('PSHs & Energy Diss.'!C126<>\"\",'PSHs & Energy Diss.'!C126,\"\")","v":""},{"$f":"IF('PSHs & Energy Diss.'!D126<>\"\",'PSHs & Energy Diss.'!D126,\"\")","v":""},{"$f":"IF('PSHs & Energy Diss.'!E126<>\"\",'PSHs & Energy Diss.'!E126,\"\")","v":""},{"$f":"IF('PSHs & Energy Diss.'!F126<>\"\",'PSHs & Energy Diss.'!F126,\"\")","v":""},null,null,null,null,null,"","","","","","",""]
[{"$f":"IF('PSHs & Energy Diss.'!A127<>\"\",'PSHs & Energy Diss.'!A127,\"\")","v":""},{"$f":"IF('PSHs & Energy Diss.'!H127<>\"\",'PSHs & Energy Diss.'!H127,\"\")","v":""},{"$f":"IF('PSHs & Energy Diss.'!B127<>\"\",'PSHs & Energy Diss.'!B127,\"\")","v":""},{"$f":"IF('PSHs & Energy Diss.'!C127<>\"\",'PSHs & Energy Diss.'!C127,\"\")","v":""},{"$f":"IF('PSHs & Energy Diss.'!D127<>\"\",'PSHs & Energy Diss.'!D127,\"\")","v":""},{"$f":"IF('PSHs & Energy Diss.'!E127<>\"\",'PSHs & Energy Diss.'!E127,\"\")","v":""},{"$f":"IF('PSHs & Energy Diss.'!F127<>\"\",'PSHs & Energy Diss.'!F127,\"\")","v":""},null,null,null,null,null,"","","","","","",""]
[{"$f":"IF('PSHs & Energy Diss.'!A128<>\"\",'PSHs & Energy Diss.'!A128,\"\")","v":""},{"$f":"IF('PSHs & Energy Diss.'!H128<>\"\",'PSHs & Energy Diss.'!H128,\"\")","v":""},{"$f":"IF('PSHs & Energy Diss.'!B128<>\"\",'PSHs & Energy Diss.'!B128,\"\")","v":""},{"$f":"IF('PSHs & Energy Diss.'!C128<>\"\",'PSHs & Energy Diss.'!C128,\"\")","v":""},{"$f":"IF('PSHs & Energy Diss.'!D128<>\"\",'PSHs & Energy Diss.'!D128,\"\")","v":""},{"$f":"IF('PSHs & Energy Diss.'!E128<>\"\",'PSHs & Energy Diss.'!E128,\"\")","v":""},{"$f":"IF('PSHs & Energy Diss.'!F128<>\"\",'PSHs & Energy Diss.'!F128,\"\")","v":""},null,null,null,null,null,"","","","","","",""]
[{"$f":"IF('PSHs & Energy Diss.'!A129<>\"\",'PSHs & Energy Diss.'!A129,\"\")","v":""},{"$f":"IF('PSHs & Energy Diss.'!H129<>\"\",'PSHs & Energy Diss.'!H129,\"\")","v":""},{"$f":"IF('PSHs & Energy Diss.'!B129<>\"\",'PSHs & Energy Diss.'!B129,\"\")","v":""},{"$f":"IF('PSHs & Energy Diss.'!C129<>\"\",'PSHs & Energy Diss.'!C129,\"\")","v":""},{"$f":"IF('PSHs & Energy Diss.'!D129<>\"\",'PSHs & Energy Diss.'!D129,\"\")","v":""},{"$f":"IF('PSHs & Energy Diss.'!E129<>\"\",'PSHs & Energy Diss.'!E129,\"\")","v":""},{"$f":"IF('PSHs & Energy Diss.'!F129<>\"\",'PSHs & Energy Diss.'!F129,\"\")","v":""},null,null,null,null,null,"","","","","","",""]
[{"$f":"IF('PSHs & Energy Diss.'!A130<>\"\",'PSHs & Energy Diss.'!A130,\"\")","v":""},{"$f":"IF('PSHs & Energy Diss.'!H130<>\"\",'PSHs & Energy Diss.'!H130,\"\")","v":""},{"$f":"IF('PSHs & Energy Diss.'!B130<>\"\",'PSHs & Energy Diss.'!B130,\"\")","v":""},{"$f":"IF('PSHs & Energy Diss.'!C130<>\"\",'PSHs & Energy Diss.'!C130,\"\")","v":""},{"$f":"IF('PSHs & Energy Diss.'!D130<>\"\",'PSHs & Energy Diss.'!D130,\"\")","v":""},{"$f":"IF('PSHs & Energy Diss.'!E130<>\"\",'PSHs & Energy Diss.'!E130,\"\")","v":""},{"$f":"IF('PSHs & Energy Diss.'!F130<>\"\",'PSHs & Energy Diss.'!F130,\"\")","v":""},null,null,null,null,null,"","","","","","",""]
[{"$f":"IF('PSHs & Energy Diss.'!A131<>\"\",'PSHs & Energy Diss.'!A131,\"\")","v":""},{"$f":"IF('PSHs & Energy Diss.'!H131<>\"\",'PSHs & Energy Diss.'!H131,\"\")","v":""},{"$f":"IF('PSHs & Energy Diss.'!B131<>\"\",'PSHs & Energy Diss.'!B131,\"\")","v":""},{"$f":"IF('PSHs & Energy Diss.'!C131<>\"\",'PSHs & Energy Diss.'!C131,\"\")","v":""},{"$f":"IF('PSHs & Energy Diss.'!D131<>\"\",'PSHs & Energy Diss.'!D131,\"\")","v":""},{"$f":"IF('PSHs & Energy Diss.'!E131<>\"\",'PSHs & Energy Diss.'!E131,\"\")","v":""},{"$f":"IF('PSHs & Energy Diss.'!F131<>\"\",'PSHs & Energy Diss.'!F131,\"\")","v":""},null,null,null,null,null,"","","","","","",""]
[{"$f":"IF('PSHs & Energy Diss.'!A132<>\"\",'PSHs & Energy Diss.'!A132,\"\")","v":""},{"$f":"IF('PSHs & Energy Diss.'!H132<>\"\",'PSHs & Energy Diss.'!H132,\"\")","v":""},{"$f":"IF('PSHs & Energy Diss.'!B132<>\"\",'PSHs & Energy Diss.'!B132,\"\")","v":""},{"$f":"IF('PSHs & Energy Diss.'!C132<>\"\",'PSHs & Energy Diss.'!C132,\"\")","v":""},{"$f":"IF('PSHs & Energy Diss.'!D132<>\"\",'PSHs & Energy Diss.'!D132,\"\")","v":""},{"$f":"IF('PSHs & Energy Diss.'!E132<>\"\",'PSHs & Energy Diss.'!E132,\"\")","v":""},{"$f":"IF('PSHs & Energy Diss.'!F132<>\"\",'PSHs & Energy Diss.'!F132,\"\")","v":""},null,null,null,null,null,"","","","","","",""]
[{"$f":"IF('PSHs & Energy Diss.'!A133<>\"\",'PSHs & Energy Diss.'!A133,\"\")","v":""},{"$f":"IF('PSHs & Energy Diss.'!H133<>\"\",'PSHs & Energy Diss.'!H133,\"\")","v":""},{"$f":"IF('PSHs & Energy Diss.'!B133<>\"\",'PSHs & Energy Diss.'!B133,\"\")","v":""},{"$f":"IF('PSHs & Energy Diss.'!C133<>\"\",'PSHs & Energy Diss.'!C133,\"\")","v":""},{"$f":"IF('PSHs & Energy Diss.'!D133<>\"\",'PSHs & Energy Diss.'!D133,\"\")","v":""},{"$f":"IF('PSHs & Energy Diss.'!E133<>\"\",'PSHs & Energy Diss.'!E133,\"\")","v":""},{"$f":"IF('PSHs & Energy Diss.'!F133<>\"\",'PSHs & Energy Diss.'!F133,\"\")","v":""},null,null,null,null,null,"","","","","","",""]
[{"$f":"IF('PSHs & Energy Diss.'!A134<>\"\",'PSHs & Energy Diss.'!A134,\"\")","v":""},{"$f":"IF('PSHs & Energy Diss.'!H134<>\"\",'PSHs & Energy Diss.'!H134,\"\")","v":""},{"$f":"IF('PSHs & Energy Diss.'!B134<>\"\",'PSHs & Energy Diss.'!B134,\"\")","v":""},{"$f":"IF('PSHs & Energy Diss.'!C134<>\"\",'PSHs & Energy Diss.'!C134,\"\")","v":""},{"$f":"IF('PSHs & Energy Diss.'!D134<>\"\",'PSHs & Energy Diss.'!D134,\"\")","v":""},{"$f":"IF('PSHs & Energy Diss.'!E134<>\"\",'PSHs & Energy Diss.'!E134,\"\")","v":""},{"$f":"IF('PSHs & Energy Diss.'!F134<>\"\",'PSHs & Energy Diss.'!F134,\"\")","v":""},null,null,null,null,null,"","","","","","",""]
[{"$f":"IF('PSHs & Energy Diss.'!A135<>\"\",'PSHs & Energy Diss.'!A135,\"\")","v":""},{"$f":"IF('PSHs & Energy Diss.'!H135<>\"\",'PSHs & Energy Diss.'!H135,\"\")","v":""},{"$f":"IF('PSHs & Energy Diss.'!B135<>\"\",'PSHs & Energy Diss.'!B135,\"\")","v":""},{"$f":"IF('PSHs & Energy Diss.'!C135<>\"\",'PSHs & Energy Diss.'!C135,\"\")","v":""},{"$f":"IF('PSHs & Energy Diss.'!D135<>\"\",'PSHs & Energy Diss.'!D135,\"\")","v":""},{"$f":"IF('PSHs & Energy Diss.'!E135<>\"\",'PSHs & Energy Diss.'!E135,\"\")","v":""},{"$f":"IF('PSHs & Energy Diss.'!F135<>\"\",'PSHs & Energy Diss.'!F135,\"\")","v":""},null,null,null,null,null,"","","","","","",""]
[{"$f":"IF('PSHs & Energy Diss.'!A136<>\"\",'PSHs & Energy Diss.'!A136,\"\")","v":""},{"$f":"IF('PSHs & Energy Diss.'!H136<>\"\",'PSHs & Energy Diss.'!H136,\"\")","v":""},{"$f":"IF('PSHs & Energy Diss.'!B136<>\"\",'PSHs & Energy Diss.'!B136,\"\")","v":""},{"$f":"IF('PSHs & Energy Diss.'!C136<>\"\",'PSHs & Energy Diss.'!C136,\"\")","v":""},{"$f":"IF('PSHs & Energy Diss.'!D136<>\"\",'PSHs & Energy Diss.'!D136,\"\")","v":""},{"$f":"IF('PSHs & Energy Diss.'!E136<>\"\",'PSHs & Energy Diss.'!E136,\"\")","v":""},{"$f":"IF('PSHs & Energy Diss.'!F136<>\"\",'PSHs & Energy Diss.'!F136,\"\")","v":""},null,null,null,null,null,"","","","","","",""]
[{"$f":"IF('PSHs & Energy Diss.'!A137<>\"\",'PSHs & Energy Diss.'!A137,\"\")","v":""},{"$f":"IF('PSHs & Energy Diss.'!H137<>\"\",'PSHs & Energy Diss.'!H137,\"\")","v":""},{"$f":"IF('PSHs & Energy Diss.'!B137<>\"\",'PSHs & Energy Diss.'!B137,\"\")","v":""},{"$f":"IF('PSHs & Energy Diss.'!C137<>\"\",'PSHs & Energy Diss.'!C137,\"\")","v":""},{"$f":"IF('PSHs & Energy Diss.'!D137<>\"\",'PSHs & Energy Diss.'!D137,\"\")","v":""},{"$f":"IF('PSHs & Energy Diss.'!E137<>\"\",'PSHs & Energy Diss.'!E137,\"\")","v":""},{"$f":"IF('PSHs & Energy Diss.'!F137<>\"\",'PSHs & Energy Diss.'!F137,\"\")","v":""},null,null,null,null,null,"","","","","","",""]
[{"$f":"IF('PSHs & Energy Diss.'!A138<>\"\",'PSHs & Energy Diss.'!A138,\"\")","v":""},{"$f":"IF('PSHs & Energy Diss.'!H138<>\"\",'PSHs & Energy Diss.'!H138,\"\")","v":""},{"$f":"IF('PSHs & Energy Diss.'!B138<>\"\",'PSHs & Energy Diss.'!B138,\"\")","v":""},{"$f":"IF('PSHs & Energy Diss.'!C138<>\"\",'PSHs & Energy Diss.'!C138,\"\")","v":""},{"$f":"IF('PSHs & Energy Diss.'!D138<>\"\",'PSHs & Energy Diss.'!D138,\"\")","v":""},{"$f":"IF('PSHs & Energy Diss.'!E138<>\"\",'PSHs & Energy Diss.'!E138,\"\")","v":""},{"$f":"IF('PSHs & Energy Diss.'!F138<>\"\",'PSHs & Energy Diss.'!F138,\"\")","v":""},null,null,null,null,null,"","","","","","",""]
[{"$f":"IF('PSHs & Energy Diss.'!A139<>\"\",'PSHs & Energy Diss.'!A139,\"\")","v":""},{"$f":"IF('PSHs & Energy Diss.'!H139<>\"\",'PSHs & Energy Diss.'!H139,\"\")","v":""},{"$f":"IF('PSHs & Energy Diss.'!B139<>\"\",'PSHs & Energy Diss.'!B139,\"\")","v":""},{"$f":"IF('PSHs & Energy Diss.'!C139<>\"\",'PSHs & Energy Diss.'!C139,\"\")","v":""},{"$f":"IF('PSHs & Energy Diss.'!D139<>\"\",'PSHs & Energy Diss.'!D139,\"\")","v":""},{"$f":"IF('PSHs & Energy Diss.'!E139<>\"\",'PSHs & Energy Diss.'!E139,\"\")","v":""},{"$f":"IF('PSHs & Energy Diss.'!F139<>\"\",'PSHs & Energy Diss.'!F139,\"\")","v":""},null,null,null,null,null,"","","","","","",""]
[{"$f":"IF('PSHs & Energy Diss.'!A140<>\"\",'PSHs & Energy Diss.'!A140,\"\")","v":""},{"$f":"IF('PSHs & Energy Diss.'!H140<>\"\",'PSHs & Energy Diss.'!H140,\"\")","v":""},{"$f":"IF('PSHs & Energy Diss.'!B140<>\"\",'PSHs & Energy Diss.'!B140,\"\")","v":""},{"$f":"IF('PSHs & Energy Diss.'!C140<>\"\",'PSHs & Energy Diss.'!C140,\"\")","v":""},{"$f":"IF('PSHs & Energy Diss.'!D140<>\"\",'PSHs & Energy Diss.'!D140,\"\")","v":""},{"$f":"IF('PSHs & Energy Diss.'!E140<>\"\",'PSHs & Energy Diss.'!E140,\"\")","v":""},{"$f":"IF('PSHs & Energy Diss.'!F140<>\"\",'PSHs & Energy Diss.'!F140,\"\")","v":""},null,null,null,null,null,"","","","","","",""]
[{"$f":"IF('PSHs & Energy Diss.'!A141<>\"\",'PSHs & Energy Diss.'!A141,\"\")","v":""},{"$f":"IF('PSHs & Energy Diss.'!H141<>\"\",'PSHs & Energy Diss.'!H141,\"\")","v":""},{"$f":"IF('PSHs & Energy Diss.'!B141<>\"\",'PSHs & Energy Diss.'!B141,\"\")","v":""},{"$f":"IF('PSHs & Energy Diss.'!C141<>\"\",'PSHs & Energy Diss.'!C141,\"\")","v":""},{"$f":"IF('PSHs & Energy Diss.'!D141<>\"\",'PSHs & Energy Diss.'!D141,\"\")","v":""},{"$f":"IF('PSHs & Energy Diss.'!E141<>\"\",'PSHs & Energy Diss.'!E141,\"\")","v":""},{"$f":"IF('PSHs & Energy Diss.'!F141<>\"\",'PSHs & Energy Diss.'!F141,\"\")","v":""},null,null,null,null,null,"","","","","","",""]
[{"$f":"IF('PSHs & Energy Diss.'!A142<>\"\",'PSHs & Energy Diss.'!A142,\"\")","v":""},{"$f":"IF('PSHs & Energy Diss.'!H142<>\"\",'PSHs & Energy Diss.'!H142,\"\")","v":""},{"$f":"IF('PSHs & Energy Diss.'!B142<>\"\",'PSHs & Energy Diss.'!B142,\"\")","v":""},{"$f":"IF('PSHs & Energy Diss.'!C142<>\"\",'PSHs & Energy Diss.'!C142,\"\")","v":""},{"$f":"IF('PSHs & Energy Diss.'!D142<>\"\",'PSHs & Energy Diss.'!D142,\"\")","v":""},{"$f":"IF('PSHs & Energy Diss.'!E142<>\"\",'PSHs & Energy Diss.'!E142,\"\")","v":""},{"$f":"IF('PSHs & Energy Diss.'!F142<>\"\",'PSHs & Energy Diss.'!F142,\"\")","v":""},null,null,null,null,null,"","","","","","",""]
[{"$f":"IF('PSHs & Energy Diss.'!A143<>\"\",'PSHs & Energy Diss.'!A143,\"\")","v":""},{"$f":"IF('PSHs & Energy Diss.'!H143<>\"\",'PSHs & Energy Diss.'!H143,\"\")","v":""},{"$f":"IF('PSHs & Energy Diss.'!B143<>\"\",'PSHs & Energy Diss.'!B143,\"\")","v":""},{"$f":"IF('PSHs & Energy Diss.'!C143<>\"\",'PSHs & Energy Diss.'!C143,\"\")","v":""},{"$f":"IF('PSHs & Energy Diss.'!D143<>\"\",'PSHs & Energy Diss.'!D143,\"\")","v":""},{"$f":"IF('PSHs & Energy Diss.'!E143<>\"\",'PSHs & Energy Diss.'!E143,\"\")","v":""},{"$f":"IF('PSHs & Energy Diss.'!F143<>\"\",'PSHs & Energy Diss.'!F143,\"\")","v":""},null,null,null,null,null,"","","","","","",""]
[{"$f":"IF('PSHs & Energy Diss.'!A144<>\"\",'PSHs & Energy Diss.'!A144,\"\")","v":""},{"$f":"IF('PSHs & Energy Diss.'!H144<>\"\",'PSHs & Energy Diss.'!H144,\"\")","v":""},{"$f":"IF('PSHs & Energy Diss.'!B144<>\"\",'PSHs & Energy Diss.'!B144,\"\")","v":""},{"$f":"IF('PSHs & Energy Diss.'!C144<>\"\",'PSHs & Energy Diss.'!C144,\"\")","v":""},{"$f":"IF('PSHs & Energy Diss.'!D144<>\"\",'PSHs & Energy Diss.'!D144,\"\")","v":""},{"$f":"IF('PSHs & Energy Diss.'!E144<>\"\",'PSHs & Energy Diss.'!E144,\"\")","v":""},{"$f":"IF('PSHs & Energy Diss.'!F144<>\"\",'PSHs & Energy Diss.'!F144,\"\")","v":""},null,null,null,null,null,"","","","","","",""]
[{"$f":"IF('PSHs & Energy Diss.'!A145<>\"\",'PSHs & Energy Diss.'!A145,\"\")","v":""},{"$f":"IF('PSHs & Energy Diss.'!H145<>\"\",'PSHs & Energy Diss.'!H145,\"\")","v":""},{"$f":"IF('PSHs & Energy Diss.'!B145<>\"\",'PSHs & Energy Diss.'!B145,\"\")","v":""},{"$f":"IF('PSHs & Energy Diss.'!C145<>\"\",'PSHs & Energy Diss.'!C145,\"\")","v":""},{"$f":"IF('PSHs & Energy Diss.'!D145<>\"\",'PSHs & Energy Diss.'!D145,\"\")","v":""},{"$f":"IF('PSHs & Energy Diss.'!E145<>\"\",'PSHs & Energy Diss.'!E145,\"\")","v":""},{"$f":"IF('PSHs & Energy Diss.'!F145<>\"\",'PSHs & Energy Diss.'!F145,\"\")","v":""},null,null,null,null,null,"","","","","","",""]
[{"$f":"IF('PSHs & Energy Diss.'!A146<>\"\",'PSHs & Energy Diss.'!A146,\"\")","v":""},{"$f":"IF('PSHs & Energy Diss.'!H146<>\"\",'PSHs & Energy Diss.'!H146,\"\")","v":""},{"$f":"IF('PSHs & Energy Diss.'!B146<>\"\",'PSHs & Energy Diss.'!B146,\"\")","v":""},{"$f":"IF('PSHs & Energy Diss.'!C146<>\"\",'PSHs & Energy Diss.'!C146,\"\")","v":""},{"$f":"IF('PSHs & Energy Diss.'!D146<>\"\",'PSHs & Energy Diss.'!D146,\"\")","v":""},{"$f":"IF('PSHs & Energy Diss.'!E146<>\"\",'PSHs & Energy Diss.'!E146,\"\")","v":""},{"$f":"IF('PSHs & Energy Diss.'!F146<>\"\",'PSHs & Energy Diss.'!F146,\"\")","v":""},null,null,null,null,null,"","","","","","",""]
[{"$f":"IF('PSHs & Energy Diss.'!A147<>\"\",'PSHs & Energy Diss.'!A147,\"\")","v":""},{"$f":"IF('PSHs & Energy Diss.'!H147<>\"\",'PSHs & Energy Diss.'!H147,\"\")","v":""},{"$f":"IF('PSHs & Energy Diss.'!B147<>\"\",'PSHs & Energy Diss.'!B147,\"\")","v":""},{"$f":"IF('PSHs & Energy Diss.'!C147<>\"\",'PSHs & Energy Diss.'!C147,\"\")","v":""},{"$f":"IF('PSHs & Energy Diss.'!D147<>\"\",'PSHs & Energy Diss.'!D147,\"\")","v":""},{"$f":"IF('PSHs & Energy Diss.'!E147<>\"\",'PSHs & Energy Diss.'!E147,\"\")","v":""},{"$f":"IF('PSHs & Energy Diss.'!F147<>\"\",'PSHs & Energy Diss.'!F147,\"\")","v":""},null,null,null,null,null,"","","","","","",""]
[{"$f":"IF('PSHs & Energy Diss.'!A148<>\"\",'PSHs & Energy Diss.'!A148,\"\")","v":""},{"$f":"IF('PSHs & Energy Diss.'!H148<>\"\",'PSHs & Energy Diss.'!H148,\"\")","v":""},{"$f":"IF('PSHs & Energy Diss.'!B148<>\"\",'PSHs & Energy Diss.'!B148,\"\")","v":""},{"$f":"IF('PSHs & Energy Diss.'!C148<>\"\",'PSHs & Energy Diss.'!C148,\"\")","v":""},{"$f":"IF('PSHs & Energy Diss.'!D148<>\"\",'PSHs & Energy Diss.'!D148,\"\")","v":""},{"$f":"IF('PSHs & Energy Diss.'!E148<>\"\",'PSHs & Energy Diss.'!E148,\"\")","v":""},{"$f":"IF('PSHs & Energy Diss.'!F148<>\"\",'PSHs & Energy Diss.'!F148,\"\")","v":""},null,null,null,null,null,"","","","","","",""]
[{"$f":"IF('PSHs & Energy Diss.'!A149<>\"\",'PSHs & Energy Diss.'!A149,\"\")","v":""},{"$f":"IF('PSHs & Energy Diss.'!H149<>\"\",'PSHs & Energy Diss.'!H149,\"\")","v":""},{"$f":"IF('PSHs & Energy Diss.'!B149<>\"\",'PSHs & Energy Diss.'!B149,\"\")","v":""},{"$f":"IF('PSHs & Energy Diss.'!C149<>\"\",'PSHs & Energy Diss.'!C149,\"\")","v":""},{"$f":"IF('PSHs & Energy Diss.'!D149<>\"\",'PSHs & Energy Diss.'!D149,\"\")","v":""},{"$f":"IF('PSHs & Energy Diss.'!E149<>\"\",'PSHs & Energy Diss.'!E149,\"\")","v":""},{"$f":"IF('PSHs & Energy Diss.'!F149<>\"\",'PSHs & Energy Diss.'!F149,\"\")","v":""},null,null,null,null,null,"","","","","","",""]
[{"$f":"IF('PSHs & Energy Diss.'!A150<>\"\",'PSHs & Energy Diss.'!A150,\"\")","v":""},{"$f":"IF('PSHs & Energy Diss.'!H150<>\"\",'PSHs & Energy Diss.'!H150,\"\")","v":""},{"$f":"IF('PSHs & Energy Diss.'!B150<>\"\",'PSHs & Energy Diss.'!B150,\"\")","v":""},{"$f":"IF('PSHs & Energy Diss.'!C150<>\"\",'PSHs & Energy Diss.'!C150,\"\")","v":""},{"$f":"IF('PSHs & Energy Diss.'!D150<>\"\",'PSHs & Energy Diss.'!D150,\"\")","v":""},{"$f":"IF('PSHs & Energy Diss.'!E150<>\"\",'PSHs & Energy Diss.'!E150,\"\")","v":""},{"$f":"IF('PSHs & Energy Diss.'!F150<>\"\",'PSHs & Energy Diss.'!F150,\"\")","v":""},null,null,null,null,null,"","","","","","",""]
[{"$f":"IF('PSHs & Energy Diss.'!A151<>\"\",'PSHs & Energy Diss.'!A151,\"\")","v":""},{"$f":"IF('PSHs & Energy Diss.'!H151<>\"\",'PSHs & Energy Diss.'!H151,\"\")","v":""},{"$f":"IF('PSHs & Energy Diss.'!B151<>\"\",'PSHs & Energy Diss.'!B151,\"\")","v":""},{"$f":"IF('PSHs & Energy Diss.'!C151<>\"\",'PSHs & Energy Diss.'!C151,\"\")","v":""},{"$f":"IF('PSHs & Energy Diss.'!D151<>\"\",'PSHs & Energy Diss.'!D151,\"\")","v":""},{"$f":"IF('PSHs & Energy Diss.'!E151<>\"\",'PSHs & Energy Diss.'!E151,\"\")","v":""},{"$f":"IF('PSHs & Energy Diss.'!F151<>\"\",'PSHs & Energy Diss.'!F151,\"\")","v":""},null,null,null,null,null,"","","","","","",""]
[{"$f":"IF('PSHs & Energy Diss.'!A152<>\"\",'PSHs & Energy Diss.'!A152,\"\")","v":""},{"$f":"IF('PSHs & Energy Diss.'!H152<>\"\",'PSHs & Energy Diss.'!H152,\"\")","v":""},{"$f":"IF('PSHs & Energy Diss.'!B152<>\"\",'PSHs & Energy Diss.'!B152,\"\")","v":""},{"$f":"IF('PSHs & Energy Diss.'!C152<>\"\",'PSHs & Energy Diss.'!C152,\"\")","v":""},{"$f":"IF('PSHs & Energy Diss.'!D152<>\"\",'PSHs & Energy Diss.'!D152,\"\")","v":""},{"$f":"IF('PSHs & Energy Diss.'!E152<>\"\",'PSHs & Energy Diss.'!E152,\"\")","v":""},{"$f":"IF('PSHs & Energy Diss.'!F152<>\"\",'PSHs & Energy Diss.'!F152,\"\")","v":""},null,null,null,null,null,"","","","","","",""]
[{"$f":"IF('PSHs & Energy Diss.'!A153<>\"\",'PSHs & Energy Diss.'!A153,\"\")","v":""},{"$f":"IF('PSHs & Energy Diss.'!H153<>\"\",'PSHs & Energy Diss.'!H153,\"\")","v":""},{"$f":"IF('PSHs & Energy Diss.'!B153<>\"\",'PSHs & Energy Diss.'!B153,\"\")","v":""},{"$f":"IF('PSHs & Energy Diss.'!C153<>\"\",'PSHs & Energy Diss.'!C153,\"\")","v":""},{"$f":"IF('PSHs & Energy Diss.'!D153<>\"\",'PSHs & Energy Diss.'!D153,\"\")","v":""},{"$f":"IF('PSHs & Energy Diss.'!E153<>\"\",'PSHs & Energy Diss.'!E153,\"\")","v":""},{"$f":"IF('PSHs & Energy Diss.'!F153<>\"\",'PSHs & Energy Diss.'!F153,\"\")","v":""},null,null,null,null,null,"","","","","","",""]
[{"$f":"IF('PSHs & Energy Diss.'!A172<>\"\",'PSHs & Energy Diss.'!A172,\"\")","v":""},{"$f":"IF('PSHs & Energy Diss.'!H172<>\"\",'PSHs & Energy Diss.'!H172,\"\")","v":""},{"$f":"IF('PSHs & Energy Diss.'!B172<>\"\",'PSHs & Energy Diss.'!B172,\"\")","v":""},{"$f":"IF('PSHs & Energy Diss.'!C172<>\"\",'PSHs & Energy Diss.'!C172,\"\")","v":""},{"$f":"IF('PSHs & Energy Diss.'!D172<>\"\",'PSHs & Energy Diss.'!D172,\"\")","v":""},{"$f":"IF('PSHs & Energy Diss.'!E172<>\"\",'PSHs & Energy Diss.'!E172,\"\")","v":""},{"$f":"IF('PSHs & Energy Diss.'!F172<>\"\",'PSHs & Energy Diss.'!F172,\"\")","v":""},null,null,null,null,null,"","","","","","",""]
[{"$f":"IF('PSHs & Energy Diss.'!A173<>\"\",'PSHs & Energy Diss.'!A173,\"\")","v":""},{"$f":"IF('PSHs & Energy Diss.'!H173<>\"\",'PSHs & Energy Diss.'!H173,\"\")","v":""},{"$f":"IF('PSHs & Energy Diss.'!B173<>\"\",'PSHs & Energy Diss.'!B173,\"\")","v":""},{"$f":"IF('PSHs & Energy Diss.'!C173<>\"\",'PSHs & Energy Diss.'!C173,\"\")","v":""},{"$f":"IF('PSHs & Energy Diss.'!D173<>\"\",'PSHs & Energy Diss.'!D173,\"\")","v":""},{"$f":"IF('PSHs & Energy Diss.'!E173<>\"\",'PSHs & Energy Diss.'!E173,\"\")","v":""},{"$f":"IF('PSHs & Energy Diss.'!F173<>\"\",'PSHs & Energy Diss.'!F173,\"\")","v":""},null,null,null,null,null,"","","","","","",""]
[{"$f":"IF('PSHs & Energy Diss.'!A174<>\"\",'PSHs & Energy Diss.'!A174,\"\")","v":""},{"$f":"IF('PSHs & Energy Diss.'!H174<>\"\",'PSHs & Energy Diss.'!H174,\"\")","v":""},{"$f":"IF('PSHs & Energy Diss.'!B174<>\"\",'PSHs & Energy Diss.'!B174,\"\")","v":""},{"$f":"IF('PSHs & Energy Diss.'!C174<>\"\",'PSHs & Energy Diss.'!C174,\"\")","v":""},{"$f":"IF('PSHs & Energy Diss.'!D174<>\"\",'PSHs & Energy Diss.'!D174,\"\")","v":""},{"$f":"IF('PSHs & Energy Diss.'!E174<>\"\",'PSHs & Energy Diss.'!E174,\"\")","v":""},{"$f":"IF('PSHs & Energy Diss.'!F174<>\"\",'PSHs & Energy Diss.'!F174,\"\")","v":""},null,null,null,null,null,"","","","","","",""]
[{"$f":"IF('PSHs & Energy Diss.'!A175<>\"\",'PSHs & Energy Diss.'!A175,\"\")","v":""},{"$f":"IF('PSHs & Energy Diss.'!H175<>\"\",'PSHs & Energy Diss.'!H175,\"\")","v":""},{"$f":"IF('PSHs & Energy Diss.'!B175<>\"\",'PSHs & Energy Diss.'!B175,\"\")","v":""},{"$f":"IF('PSHs & Energy Diss.'!C175<>\"\",'PSHs & Energy Diss.'!C175,\"\")","v":""},{"$f":"IF('PSHs & Energy Diss.'!D175<>\"\",'PSHs & Energy Diss.'!D175,\"\")","v":""},{"$f":"IF('PSHs & Energy Diss.'!E175<>\"\",'PSHs & Energy Diss.'!E175,\"\")","v":""},{"$f":"IF('PSHs & Energy Diss.'!F175<>\"\",'PSHs & Energy Diss.'!F175,\"\")","v":""},null,null,null,null,null,"","","","","","",""]
[{"$f":"IF('PSHs & Energy Diss.'!A176<>\"\",'PSHs & Energy Diss.'!A176,\"\")","v":""},{"$f":"IF('PSHs & Energy Diss.'!H176<>\"\",'PSHs & Energy Diss.'!H176,\"\")","v":""},{"$f":"IF('PSHs & Energy Diss.'!B176<>\"\",'PSHs & Energy Diss.'!B176,\"\")","v":""},{"$f":"IF('PSHs & Energy Diss.'!C176<>\"\",'PSHs & Energy Diss.'!C176,\"\")","v":""},{"$f":"IF('PSHs & Energy Diss.'!D176<>\"\",'PSHs & Energy Diss.'!D176,\"\")","v":""},{"$f":"IF('PSHs & Energy Diss.'!E176<>\"\",'PSHs & Energy Diss.'!E176,\"\")","v":""},{"$f":"IF('PSHs & Energy Diss.'!F176<>\"\",'PSHs & Energy Diss.'!F176,\"\")","v":""},null,null,null,null,null,"","","","","","",""]
[{"$f":"IF('PSHs & Energy Diss.'!A177<>\"\",'PSHs & Energy Diss.'!A177,\"\")","v":""},{"$f":"IF('PSHs & Energy Diss.'!H177<>\"\",'PSHs & Energy Diss.'!H177,\"\")","v":""},{"$f":"IF('PSHs & Energy Diss.'!B177<>\"\",'PSHs & Energy Diss.'!B177,\"\")","v":""},{"$f":"IF('PSHs & Energy Diss.'!C177<>\"\",'PSHs & Energy Diss.'!C177,\"\")","v":""},{"$f":"IF('PSHs & Energy Diss.'!D177<>\"\",'PSHs & Energy Diss.'!D177,\"\")","v":""},{"$f":"IF('PSHs & Energy Diss.'!E177<>\"\",'PSHs & Energy Diss.'!E177,\"\")","v":""},{"$f":"IF('PSHs & Energy Diss.'!F177<>\"\",'PSHs & Energy Diss.'!F177,\"\")","v":""},null,null,null,null,null,"","","","","","",""]
[{"$f":"IF('PSHs & Energy Diss.'!A178<>\"\",'PSHs & Energy Diss.'!A178,\"\")","v":""},{"$f":"IF('PSHs & Energy Diss.'!H178<>\"\",'PSHs & Energy Diss.'!H178,\"\")","v":""},{"$f":"IF('PSHs & Energy Diss.'!B178<>\"\",'PSHs & Energy Diss.'!B178,\"\")","v":""},{"$f":"IF('PSHs & Energy Diss.'!C178<>\"\",'PSHs & Energy Diss.'!C178,\"\")","v":""},{"$f":"IF('PSHs & Energy Diss.'!D178<>\"\",'PSHs & Energy Diss.'!D178,\"\")","v":""},{"$f":"IF('PSHs & Energy Diss.'!E178<>\"\",'PSHs & Energy Diss.'!E178,\"\")","v":""},{"$f":"IF('PSHs & Energy Diss.'!F178<>\"\",'PSHs & Energy Diss.'!F178,\"\")","v":""},null,null,null,null,null,"","","","","","",""]
[{"$f":"IF('PSHs & Energy Diss.'!A179<>\"\",'PSHs & Energy Diss.'!A179,\"\")","v":""},{"$f":"IF('PSHs & Energy Diss.'!H179<>\"\",'PSHs & Energy Diss.'!H179,\"\")","v":""},{"$f":"IF('PSHs & Energy Diss.'!B179<>\"\",'PSHs & Energy Diss.'!B179,\"\")","v":""},{"$f":"IF('PSHs & Energy Diss.'!C179<>\"\",'PSHs & Energy Diss.'!C179,\"\")","v":""},{"$f":"IF('PSHs & Energy Diss.'!D179<>\"\",'PSHs & Energy Diss.'!D179,\"\")","v":""},{"$f":"IF('PSHs & Energy Diss.'!E179<>\"\",'PSHs & Energy Diss.'!E179,\"\")","v":""},{"$f":"IF('PSHs & Energy Diss.'!F179<>\"\",'PSHs & Energy Diss.'!F179,\"\")","v":""},null,null,null,null,null,"","","","","","",""]
[{"$f":"IF('PSHs & Energy Diss.'!A180<>\"\",'PSHs & Energy Diss.'!A180,\"\")","v":""},{"$f":"IF('PSHs & Energy Diss.'!H180<>\"\",'PSHs & Energy Diss.'!H180,\"\")","v":""},{"$f":"IF('PSHs & Energy Diss.'!B180<>\"\",'PSHs & Energy Diss.'!B180,\"\")","v":""},{"$f":"IF('PSHs & Energy Diss.'!C180<>\"\",'PSHs & Energy Diss.'!C180,\"\")","v":""},{"$f":"IF('PSHs & Energy Diss.'!D180<>\"\",'PSHs & Energy Diss.'!D180,\"\")","v":""},{"$f":"IF('PSHs & Energy Diss.'!E180<>\"\",'PSHs & Energy Diss.'!E180,\"\")","v":""},{"$f":"IF('PSHs & Energy Diss.'!F180<>\"\",'PSHs & Energy Diss.'!F180,\"\")","v":""},null,null,null,null,null,"","","","","","",""]
[{"$f":"IF('PSHs & Energy Diss.'!A181<>\"\",'PSHs & Energy Diss.'!A181,\"\")","v":""},{"$f":"IF('PSHs & Energy Diss.'!H181<>\"\",'PSHs & Energy Diss.'!H181,\"\")","v":""},{"$f":"IF('PSHs & Energy Diss.'!B181<>\"\",'PSHs & Energy Diss.'!B181,\"\")","v":""},{"$f":"IF('PSHs & Energy Diss.'!C181<>\"\",'PSHs & Energy Diss.'!C181,\"\")","v":""},{"$f":"IF('PSHs & Energy Diss.'!D181<>\"\",'PSHs & Energy Diss.'!D181,\"\")","v":""},{"$f":"IF('PSHs & Energy Diss.'!E181<>\"\",'PSHs & Energy Diss.'!E181,\"\")","v":""},{"$f":"IF('PSHs & Energy Diss.'!F181<>\"\",'PSHs & Energy Diss.'!F181,\"\")","v":""},null,null,null,null,null,"","","","","","",""]
[{"$f":"IF('PSHs & Energy Diss.'!A182<>\"\",'PSHs & Energy Diss.'!A182,\"\")","v":""},{"$f":"IF('PSHs & Energy Diss.'!H182<>\"\",'PSHs & Energy Diss.'!H182,\"\")","v":""},{"$f":"IF('PSHs & Energy Diss.'!B182<>\"\",'PSHs & Energy Diss.'!B182,\"\")","v":""},{"$f":"IF('PSHs & Energy Diss.'!C182<>\"\",'PSHs & Energy Diss.'!C182,\"\")","v":""},{"$f":"IF('PSHs & Energy Diss.'!D182<>\"\",'PSHs & Energy Diss.'!D182,\"\")","v":""},{"$f":"IF('PSHs & Energy Diss.'!E182<>\"\",'PSHs & Energy Diss.'!E182,\"\")","v":""},{"$f":"IF('PSHs & Energy Diss.'!F182<>\"\",'PSHs & Energy Diss.'!F182,\"\")","v":""},null,null,null,null,null,"","","","","","",""]
[{"$f":"IF('PSHs & Energy Diss.'!A183<>\"\",'PSHs & Energy Diss.'!A183,\"\")","v":""},{"$f":"IF('PSHs & Energy Diss.'!H183<>\"\",'PSHs & Energy Diss.'!H183,\"\")","v":""},{"$f":"IF('PSHs & Energy Diss.'!B183<>\"\",'PSHs & Energy Diss.'!B183,\"\")","v":""},{"$f":"IF('PSHs & Energy Diss.'!C183<>\"\",'PSHs & Energy Diss.'!C183,\"\")","v":""},{"$f":"IF('PSHs & Energy Diss.'!D183<>\"\",'PSHs & Energy Diss.'!D183,\"\")","v":""},{"$f":"IF('PSHs & Energy Diss.'!E183<>\"\",'PSHs & Energy Diss.'!E183,\"\")","v":""},{"$f":"IF('PSHs & Energy Diss.'!F183<>\"\",'PSHs & Energy Diss.'!F183,\"\")","v":""},null,null,null,null,null,"","","","","","",""]
[{"$f":"IF('PSHs & Energy Diss.'!A184<>\"\",'PSHs & Energy Diss.'!A184,\"\")","v":""},{"$f":"IF('PSHs & Energy Diss.'!H184<>\"\",'PSHs & Energy Diss.'!H184,\"\")","v":""},{"$f":"IF('PSHs & Energy Diss.'!B184<>\"\",'PSHs & Energy Diss.'!B184,\"\")","v":""},{"$f":"IF('PSHs & Energy Diss.'!C184<>\"\",'PSHs & Energy Diss.'!C184,\"\")","v":""},{"$f":"IF('PSHs & Energy Diss.'!D184<>\"\",'PSHs & Energy Diss.'!D184,\"\")","v":""},{"$f":"IF('PSHs & Energy Diss.'!E184<>\"\",'PSHs & Energy Diss.'!E184,\"\")","v":""},{"$f":"IF('PSHs & Energy Diss.'!F184<>\"\",'PSHs & Energy Diss.'!F184,\"\")","v":""},null,null,null,null,null,"","","","","","",""]
[{"$f":"IF('PSHs & Energy Diss.'!A185<>\"\",'PSHs & Energy Diss.'!A185,\"\")","v":""},{"$f":"IF('PSHs & Energy Diss.'!H185<>\"\",'PSHs & Energy Diss.'!H185,\"\")","v":""},{"$f":"IF('PSHs & Energy Diss.'!B185<>\"\",'PSHs & Energy Diss.'!B185,\"\")","v":""},{"$f":"IF('PSHs & Energy Diss.'!C185<>\"\",'PSHs & Energy Diss.'!C185,\"\")","v":""},{"$f":"IF('PSHs & Energy Diss.'!D185<>\"\",'PSHs & Energy Diss.'!D185,\"\")","v":""},{"$f":"IF('PSHs & Energy Diss.'!E185<>\"\",'PSHs & Energy Diss.'!E185,\"\")","v":""},{"$f":"IF('PSHs & Energy Diss.'!F185<>\"\",'PSHs & Energy Diss.'!F185,\"\")","v":""},null,null,null,null,null,"","","","","","",""]
[{"$f":"IF('PSHs & Energy Diss.'!A186<>\"\",'PSHs & Energy Diss.'!A186,\"\")","v":""},{"$f":"IF('PSHs & Energy Diss.'!H186<>\"\",'PSHs & Energy Diss.'!H186,\"\")","v":""},{"$f":"IF('PSHs & Energy Diss.'!B186<>\"\",'PSHs & Energy Diss.'!B186,\"\")","v":""},{"$f":"IF('PSHs & Energy Diss.'!C186<>\"\",'PSHs & Energy Diss.'!C186,\"\")","v":""},{"$f":"IF('PSHs & Energy Diss.'!D186<>\"\",'PSHs & Energy Diss.'!D186,\"\")","v":""},{"$f":"IF('PSHs & Energy Diss.'!E186<>\"\",'PSHs & Energy Diss.'!E186,\"\")","v":""},{"$f":"IF('PSHs & Energy Diss.'!F186<>\"\",'PSHs & Energy Diss.'!F186,\"\")","v":""},null,null,null,null,null,"","","","","","",""]
[{"$f":"IF('PSHs & Energy Diss.'!A187<>\"\",'PSHs & Energy Diss.'!A187,\"\")","v":""},{"$f":"IF('PSHs & Energy Diss.'!H187<>\"\",'PSHs & Energy Diss.'!H187,\"\")","v":""},{"$f":"IF('PSHs & Energy Diss.'!B187<>\"\",'PSHs & Energy Diss.'!B187,\"\")","v":""},{"$f":"IF('PSHs & Energy Diss.'!C187<>\"\",'PSHs & Energy Diss.'!C187,\"\")","v":""},{"$f":"IF('PSHs & Energy Diss.'!D187<>\"\",'PSHs & Energy Diss.'!D187,\"\")","v":""},{"$f":"IF('PSHs & Energy Diss.'!E187<>\"\",'PSHs & Energy Diss.'!E187,\"\")","v":""},{"$f":"IF('PSHs & Energy Diss.'!F187<>\"\",'PSHs & Energy Diss.'!F187,\"\")","v":""},null,null,null,null,null,"","","","","","",""]
[{"$f":"IF('PSHs & Energy Diss.'!A188<>\"\",'PSHs & Energy Diss.'!A188,\"\")","v":""},{"$f":"IF('PSHs & Energy Diss.'!H188<>\"\",'PSHs & Energy Diss.'!H188,\"\")","v":""},{"$f":"IF('PSHs & Energy Diss.'!B188<>\"\",'PSHs & Energy Diss.'!B188,\"\")","v":""},{"$f":"IF('PSHs & Energy Diss.'!C188<>\"\",'PSHs & Energy Diss.'!C188,\"\")","v":""},{"$f":"IF('PSHs & Energy Diss.'!D188<>\"\",'PSHs & Energy Diss.'!D188,\"\")","v":""},{"$f":"IF('PSHs & Energy Diss.'!E188<>\"\",'PSHs & Energy Diss.'!E188,\"\")","v":""},{"$f":"IF('PSHs & Energy Diss.'!F188<>\"\",'PSHs & Energy Diss.'!F188,\"\")","v":""},null,null,null,null,null,"","","","","","",""]
[{"$f":"IF('PSHs & Energy Diss.'!A189<>\"\",'PSHs & Energy Diss.'!A189,\"\")","v":""},{"$f":"IF('PSHs & Energy Diss.'!H189<>\"\",'PSHs & Energy Diss.'!H189,\"\")","v":""},{"$f":"IF('PSHs & Energy Diss.'!B189<>\"\",'PSHs & Energy Diss.'!B189,\"\")","v":""},{"$f":"IF('PSHs & Energy Diss.'!C189<>\"\",'PSHs & Energy Diss.'!C189,\"\")","v":""},{"$f":"IF('PSHs & Energy Diss.'!D189<>\"\",'PSHs & Energy Diss.'!D189,\"\")","v":""},{"$f":"IF('PSHs & Energy Diss.'!E189<>\"\",'PSHs & Energy Diss.'!E189,\"\")","v":""},{"$f":"IF('PSHs & Energy Diss.'!F189<>\"\",'PSHs & Energy Diss.'!F189,\"\")","v":""},null,null,null,null,null,"","","","","","",""]
[{"$f":"IF('PSHs & Energy Diss.'!A190<>\"\",'PSHs & Energy Diss.'!A190,\"\")","v":""},{"$f":"IF('PSHs & Energy Diss.'!H190<>\"\",'PSHs & Energy Diss.'!H190,\"\")","v":""},{"$f":"IF('PSHs & Energy Diss.'!B190<>\"\",'PSHs & Energy Diss.'!B190,\"\")","v":""},{"$f":"IF('PSHs & Energy Diss.'!C190<>\"\",'PSHs & Energy Diss.'!C190,\"\")","v":""},{"$f":"IF('PSHs & Energy Diss.'!D190<>\"\",'PSHs & Energy Diss.'!D190,\"\")","v":""},{"$f":"IF('PSHs & Energy Diss.'!E190<>\"\",'PSHs & Energy Diss.'!E190,\"\")","v":""},{"$f":"IF('PSHs & Energy Diss.'!F190<>\"\",'PSHs & Energy Diss.'!F190,\"\")","v":""},null,null,null,null,null,"","","","","","",""]
[{"$f":"IF('PSHs & Energy Diss.'!A191<>\"\",'PSHs & Energy Diss.'!A191,\"\")","v":""},{"$f":"IF('PSHs & Energy Diss.'!H191<>\"\",'PSHs & Energy Diss.'!H191,\"\")","v":""},{"$f":"IF('PSHs & Energy Diss.'!B191<>\"\",'PSHs & Energy Diss.'!B191,\"\")","v":""},{"$f":"IF('PSHs & Energy Diss.'!C191<>\"\",'PSHs & Energy Diss.'!C191,\"\")","v":""},{"$f":"IF('PSHs & Energy Diss.'!D191<>\"\",'PSHs & Energy Diss.'!D191,\"\")","v":""},{"$f":"IF('PSHs & Energy Diss.'!E191<>\"\",'PSHs & Energy Diss.'!E191,\"\")","v":""},{"$f":"IF('PSHs & Energy Diss.'!F191<>\"\",'PSHs & Energy Diss.'!F191,\"\")","v":""},null,null,null,null,null,"","","","","","",""]
[{"$f":"IF('PSHs & Energy Diss.'!A192<>\"\",'PSHs & Energy Diss.'!A192,\"\")","v":""},{"$f":"IF('PSHs & Energy Diss.'!H192<>\"\",'PSHs & Energy Diss.'!H192,\"\")","v":""},{"$f":"IF('PSHs & Energy Diss.'!B192<>\"\",'PSHs & Energy Diss.'!B192,\"\")","v":""},{"$f":"IF('PSHs & Energy Diss.'!C192<>\"\",'PSHs & Energy Diss.'!C192,\"\")","v":""},{"$f":"IF('PSHs & Energy Diss.'!D192<>\"\",'PSHs & Energy Diss.'!D192,\"\")","v":""},{"$f":"IF('PSHs & Energy Diss.'!E192<>\"\",'PSHs & Energy Diss.'!E192,\"\")","v":""},{"$f":"IF('PSHs & Energy Diss.'!F192<>\"\",'PSHs & Energy Diss.'!F192,\"\")","v":""},null,null,null,null,null,"","","","","","",""]
[{"$f":"IF('PSHs & Energy Diss.'!A193<>\"\",'PSHs & Energy Diss.'!A193,\"\")","v":""},{"$f":"IF('PSHs & Energy Diss.'!H193<>\"\",'PSHs & Energy Diss.'!H193,\"\")","v":""},{"$f":"IF('PSHs & Energy Diss.'!B193<>\"\",'PSHs & Energy Diss.'!B193,\"\")","v":""},{"$f":"IF('PSHs & Energy Diss.'!C193<>\"\",'PSHs & Energy Diss.'!C193,\"\")","v":""},{"$f":"IF('PSHs & Energy Diss.'!D193<>\"\",'PSHs & Energy Diss.'!D193,\"\")","v":""},{"$f":"IF('PSHs & Energy Diss.'!E193<>\"\",'PSHs & Energy Diss.'!E193,\"\")","v":""},{"$f":"IF('PSHs & Energy Diss.'!F193<>\"\",'PSHs & Energy Diss.'!F193,\"\")","v":""},null,null,null,null,null,"","","","","","",""]
[{"$f":"IF('PSHs & Energy Diss.'!A194<>\"\",'PSHs & Energy Diss.'!A194,\"\")","v":""},{"$f":"IF('PSHs & Energy Diss.'!H194<>\"\",'PSHs & Energy Diss.'!H194,\"\")","v":""},{"$f":"IF('PSHs & Energy Diss.'!B194<>\"\",'PSHs & Energy Diss.'!B194,\"\")","v":""},{"$f":"IF('PSHs & Energy Diss.'!C194<>\"\",'PSHs & Energy Diss.'!C194,\"\")","v":""},{"$f":"IF('PSHs & Energy Diss.'!D194<>\"\",'PSHs & Energy Diss.'!D194,\"\")","v":""},{"$f":"IF('PSHs & Energy Diss.'!E194<>\"\",'PSHs & Energy Diss.'!E194,\"\")","v":""},{"$f":"IF('PSHs & Energy Diss.'!F194<>\"\",'PSHs & Energy Diss.'!F194,\"\")","v":""},null,null,null,null,null,"","","","","","",""]
[{"$f":"IF('PSHs & Energy Diss.'!A195<>\"\",'PSHs & Energy Diss.'!A195,\"\")","v":""},{"$f":"IF('PSHs & Energy Diss.'!H195<>\"\",'PSHs & Energy Diss.'!H195,\"\")","v":""},{"$f":"IF('PSHs & Energy Diss.'!B195<>\"\",'PSHs & Energy Diss.'!B195,\"\")","v":""},{"$f":"IF('PSHs & Energy Diss.'!C195<>\"\",'PSHs & Energy Diss.'!C195,\"\")","v":""},{"$f":"IF('PSHs & Energy Diss.'!D195<>\"\",'PSHs & Energy Diss.'!D195,\"\")","v":""},{"$f":"IF('PSHs & Energy Diss.'!E195<>\"\",'PSHs & Energy Diss.'!E195,\"\")","v":""},{"$f":"IF('PSHs & Energy Diss.'!F195<>\"\",'PSHs & Energy Diss.'!F195,\"\")","v":""},null,null,null,null,null,"","","","","","",""]
[{"$f":"IF('PSHs & Energy Diss.'!A196<>\"\",'PSHs & Energy Diss.'!A196,\"\")","v":""},{"$f":"IF('PSHs & Energy Diss.'!H196<>\"\",'PSHs & Energy Diss.'!H196,\"\")","v":""},{"$f":"IF('PSHs & Energy Diss.'!B196<>\"\",'PSHs & Energy Diss.'!B196,\"\")","v":""},{"$f":"IF('PSHs & Energy Diss.'!C196<>\"\",'PSHs & Energy Diss.'!C196,\"\")","v":""},{"$f":"IF('PSHs & Energy Diss.'!D196<>\"\",'PSHs & Energy Diss.'!D196,\"\")","v":""},{"$f":"IF('PSHs & Energy Diss.'!E196<>\"\",'PSHs & Energy Diss.'!E196,\"\")","v":""},{"$f":"IF('PSHs & Energy Diss.'!F196<>\"\",'PSHs & Energy Diss.'!F196,\"\")","v":""},null,null,null,null,null,"","","","","","",""]
[{"$f":"IF('PSHs & Energy Diss.'!A197<>\"\",'PSHs & Energy Diss.'!A197,\"\")","v":""},{"$f":"IF('PSHs & Energy Diss.'!H197<>\"\",'PSHs & Energy Diss.'!H197,\"\")","v":""},{"$f":"IF('PSHs & Energy Diss.'!B197<>\"\",'PSHs & Energy Diss.'!B197,\"\")","v":""},{"$f":"IF('PSHs & Energy Diss.'!C197<>\"\",'PSHs & Energy Diss.'!C197,\"\")","v":""},{"$f":"IF('PSHs & Energy Diss.'!D197<>\"\",'PSHs & Energy Diss.'!D197,\"\")","v":""},{"$f":"IF('PSHs & Energy Diss.'!E197<>\"\",'PSHs & Energy Diss.'!E197,\"\")","v":""},{"$f":"IF('PSHs & Energy Diss.'!F197<>\"\",'PSHs & Energy Diss.'!F197,\"\")","v":""},null,null,null,null,null,"","","","","","",""]
[{"$f":"IF('PSHs & Energy Diss.'!A198<>\"\",'PSHs & Energy Diss.'!A198,\"\")","v":""},{"$f":"IF('PSHs & Energy Diss.'!H198<>\"\",'PSHs & Energy Diss.'!H198,\"\")","v":""},{"$f":"IF('PSHs & Energy Diss.'!B198<>\"\",'PSHs & Energy Diss.'!B198,\"\")","v":""},{"$f":"IF('PSHs & Energy Diss.'!C198<>\"\",'PSHs & Energy Diss.'!C198,\"\")","v":""},{"$f":"IF('PSHs & Energy Diss.'!D198<>\"\",'PSHs & Energy Diss.'!D198,\"\")","v":""},{"$f":"IF('PSHs & Energy Diss.'!E198<>\"\",'PSHs & Energy Diss.'!E198,\"\")","v":""},{"$f":"IF('PSHs & Energy Diss.'!F198<>\"\",'PSHs & Energy Diss.'!F198,\"\")","v":""},null,null,null,null,null,"","","","","","",""]
[{"$f":"IF('PSHs & Energy Diss.'!A199<>\"\",'PSHs & Energy Diss.'!A199,\"\")","v":""},{"$f":"IF('PSHs & Energy Diss.'!H199<>\"\",'PSHs & Energy Diss.'!H199,\"\")","v":""},{"$f":"IF('PSHs & Energy Diss.'!B199<>\"\",'PSHs & Energy Diss.'!B199,\"\")","v":""},{"$f":"IF('PSHs & Energy Diss.'!C199<>\"\",'PSHs & Energy Diss.'!C199,\"\")","v":""},{"$f":"IF('PSHs & Energy Diss.'!D199<>\"\",'PSHs & Energy Diss.'!D199,\"\")","v":""},{"$f":"IF('PSHs & Energy Diss.'!E199<>\"\",'PSHs & Energy Diss.'!E199,\"\")","v":""},{"$f":"IF('PSHs & Energy Diss.'!F199<>\"\",'PSHs & Energy Diss.'!F199,\"\")","v":""},null,null,null,null,null,"","","","","","",""]
[{"$f":"IF('PSHs & Energy Diss.'!A200<>\"\",'PSHs & Energy Diss.'!A200,\"\")","v":""},{"$f":"IF('PSHs & Energy Diss.'!H200<>\"\",'PSHs & Energy Diss.'!H200,\"\")","v":""},{"$f":"IF('PSHs & Energy Diss.'!B200<>\"\",'PSHs & Energy Diss.'!B200,\"\")","v":""},{"$f":"IF('PSHs & Energy Diss.'!C200<>\"\",'PSHs & Energy Diss.'!C200,\"\")","v":""},{"$f":"IF('PSHs & Energy Diss.'!D200<>\"\",'PSHs & Energy Diss.'!D200,\"\")","v":""},{"$f":"IF('PSHs & Energy Diss.'!E200<>\"\",'PSHs & Energy Diss.'!E200,\"\")","v":""},{"$f":"IF('PSHs & Energy Diss.'!F200<>\"\",'PSHs & Energy Diss.'!F200,\"\")","v":""},null,null,null,null,null,"","","","","","",""]
[{"$f":"IF('PSHs & Energy Diss.'!A201<>\"\",'PSHs & Energy Diss.'!A201,\"\")","v":""},{"$f":"IF('PSHs & Energy Diss.'!H201<>\"\",'PSHs & Energy Diss.'!H201,\"\")","v":""},{"$f":"IF('PSHs & Energy Diss.'!B201<>\"\",'PSHs & Energy Diss.'!B201,\"\")","v":""},{"$f":"IF('PSHs & Energy Diss.'!C201<>\"\",'PSHs & Energy Diss.'!C201,\"\")","v":""},{"$f":"IF('PSHs & Energy Diss.'!D201<>\"\",'PSHs & Energy Diss.'!D201,\"\")","v":""},{"$f":"IF('PSHs & Energy Diss.'!E201<>\"\",'PSHs & Energy Diss.'!E201,\"\")","v":""},{"$f":"IF('PSHs & Energy Diss.'!F201<>\"\",'PSHs & Energy Diss.'!F201,\"\")","v":""},null,null,null,null,null,"","","","","","",""]
[{"$f":"IF('PSHs & Energy Diss.'!A202<>\"\",'PSHs & Energy Diss.'!A202,\"\")","v":""},{"$f":"IF('PSHs & Energy Diss.'!H202<>\"\",'PSHs & Energy Diss.'!H202,\"\")","v":""},{"$f":"IF('PSHs & Energy Diss.'!B202<>\"\",'PSHs & Energy Diss.'!B202,\"\")","v":""},{"$f":"IF('PSHs & Energy Diss.'!C202<>\"\",'PSHs & Energy Diss.'!C202,\"\")","v":""},{"$f":"IF('PSHs & Energy Diss.'!D202<>\"\",'PSHs & Energy Diss.'!D202,\"\")","v":""},{"$f":"IF('PSHs & Energy Diss.'!E202<>\"\",'PSHs & Energy Diss.'!E202,\"\")","v":""},{"$f":"IF('PSHs & Energy Diss.'!F202<>\"\",'PSHs & Energy Diss.'!F202,\"\")","v":""},null,null,null,null,null,"","","","","","",""]
[{"$f":"IF('PSHs & Energy Diss.'!A203<>\"\",'PSHs & Energy Diss.'!A203,\"\")","v":""},{"$f":"IF('PSHs & Energy Diss.'!H203<>\"\",'PSHs & Energy Diss.'!H203,\"\")","v":""},{"$f":"IF('PSHs & Energy Diss.'!B203<>\"\",'PSHs & Energy Diss.'!B203,\"\")","v":""},{"$f":"IF('PSHs & Energy Diss.'!C203<>\"\",'PSHs & Energy Diss.'!C203,\"\")","v":""},{"$f":"IF('PSHs & Energy Diss.'!D203<>\"\",'PSHs & Energy Diss.'!D203,\"\")","v":""},{"$f":"IF('PSHs & Energy Diss.'!E203<>\"\",'PSHs & Energy Diss.'!E203,\"\")","v":""},{"$f":"IF('PSHs & Energy Diss.'!F203<>\"\",'PSHs & Energy Diss.'!F203,\"\")","v":""},null,null,null,null,null,"","","","","","",""]
[{"$f":"IF('Level Spreader & HSB'!A36<>\"\",'Level Spreader & HSB'!A36,\"\")","v":""},{"$f":"IF('Level Spreader & HSB'!H36<>\"\",'Level Spreader & HSB'!H36,\"\")","v":""},{"$f":"IF('Level Spreader & HSB'!B36<>\"\",'Level Spreader & HSB'!B36,\"\")","v":""},{"$f":"IF('Level Spreader & HSB'!C36<>\"\",'Level Spreader & HSB'!C36,\"\")","v":""},{"$f":"IF('Level Spreader & HSB'!D36<>\"\",'Level Spreader & HSB'!D36,\"\")","v":""},{"$f":"IF('Level Spreader & HSB'!E36<>\"\",'Level Spreader & HSB'!E36,\"\")","v":""},{"$f":"IF('Level Spreader & HSB'!F36<>\"\",'Level Spreader & HSB'!F36,\"\")","v":""},null,null,null,null,null,"","","","","","",""]
[{"$f":"IF('Level Spreader & HSB'!A37<>\"\",'Level Spreader & HSB'!A37,\"\")","v":""},{"$f":"IF('Level Spreader & HSB'!H37<>\"\",'Level Spreader & HSB'!H37,\"\")","v":""},{"$f":"IF('Level Spreader & HSB'!B37<>\"\",'Level Spreader & HSB'!B37,\"\")","v":""},{"$f":"IF('Level Spreader & HSB'!C37<>\"\",'Level Spreader & HSB'!C37,\"\")","v":""},{"$f":"IF('Level Spreader & HSB'!D37<>\"\",'Level Spreader & HSB'!D37,\"\")","v":""},{"$f":"IF('Level Spreader & HSB'!E37<>\"\",'Level Spreader & HSB'!E37,\"\")","v":""},{"$f":"IF('Level Spreader & HSB'!F37<>\"\",'Level Spreader & HSB'!F37,\"\")","v":""},null,null,null,null,null,"","","","","","",""]
[{"$f":"IF('Level Spreader & HSB'!A38<>\"\",'Level Spreader & HSB'!A38,\"\")","v":""},{"$f":"IF('Level Spreader & HSB'!H38<>\"\",'Level Spreader & HSB'!H38,\"\")","v":""},{"$f":"IF('Level Spreader & HSB'!B38<>\"\",'Level Spreader & HSB'!B38,\"\")","v":""},{"$f":"IF('Level Spreader & HSB'!C38<>\"\",'Level Spreader & HSB'!C38,\"\")","v":""},{"$f":"IF('Level Spreader & HSB'!D38<>\"\",'Level Spreader & HSB'!D38,\"\")","v":""},{"$f":"IF('Level Spreader & HSB'!E38<>\"\",'Level Spreader & HSB'!E38,\"\")","v":""},{"$f":"IF('Level Spreader & HSB'!F38<>\"\",'Level Spreader & HSB'!F38,\"\")","v":""},null,null,null,null,null,"","","","","","",""]
[{"$f":"IF('Level Spreader & HSB'!A39<>\"\",'Level Spreader & HSB'!A39,\"\")","v":""},{"$f":"IF('Level Spreader & HSB'!H39<>\"\",'Level Spreader & HSB'!H39,\"\")","v":""},{"$f":"IF('Level Spreader & HSB'!B39<>\"\",'Level Spreader & HSB'!B39,\"\")","v":""},{"$f":"IF('Level Spreader & HSB'!C39<>\"\",'Level Spreader & HSB'!C39,\"\")","v":""},{"$f":"IF('Level Spreader & HSB'!D39<>\"\",'Level Spreader & HSB'!D39,\"\")","v":""},{"$f":"IF('Level Spreader & HSB'!E39<>\"\",'Level Spreader & HSB'!E39,\"\")","v":""},{"$f":"IF('Level Spreader & HSB'!F39<>\"\",'Level Spreader & HSB'!F39,\"\")","v":""},null,null,null,null,null,"","","","","","",""]
[{"$f":"IF('Level Spreader & HSB'!A40<>\"\",'Level Spreader & HSB'!A40,\"\")","v":""},{"$f":"IF('Level Spreader & HSB'!H40<>\"\",'Level Spreader & HSB'!H40,\"\")","v":""},{"$f":"IF('Level Spreader & HSB'!B40<>\"\",'Level Spreader & HSB'!B40,\"\")","v":""},{"$f":"IF('Level Spreader & HSB'!C40<>\"\",'Level Spreader & HSB'!C40,\"\")","v":""},{"$f":"IF('Level Spreader & HSB'!D40<>\"\",'Level Spreader & HSB'!D40,\"\")","v":""},{"$f":"IF('Level Spreader & HSB'!E40<>\"\",'Level Spreader & HSB'!E40,\"\")","v":""},{"$f":"IF('Level Spreader & HSB'!F40<>\"\",'Level Spreader & HSB'!F40,\"\")","v":""},null,null,null,null,null,"","","","","","",""]
[{"$f":"IF('Level Spreader & HSB'!A41<>\"\",'Level Spreader & HSB'!A41,\"\")","v":""},{"$f":"IF('Level Spreader & HSB'!H41<>\"\",'Level Spreader & HSB'!H41,\"\")","v":""},{"$f":"IF('Level Spreader & HSB'!B41<>\"\",'Level Spreader & HSB'!B41,\"\")","v":""},{"$f":"IF('Level Spreader & HSB'!C41<>\"\",'Level Spreader & HSB'!C41,\"\")","v":""},{"$f":"IF('Level Spreader & HSB'!D41<>\"\",'Level Spreader & HSB'!D41,\"\")","v":""},{"$f":"IF('Level Spreader & HSB'!E41<>\"\",'Level Spreader & HSB'!E41,\"\")","v":""},{"$f":"IF('Level Spreader & HSB'!F41<>\"\",'Level Spreader & HSB'!F41,\"\")","v":""},null,null,null,null,null,"","","","","","",""]
[{"$f":"IF('Level Spreader & HSB'!A42<>\"\",'Level Spreader & HSB'!A42,\"\")","v":""},{"$f":"IF('Level Spreader & HSB'!H42<>\"\",'Level Spreader & HSB'!H42,\"\")","v":""},{"$f":"IF('Level Spreader & HSB'!B42<>\"\",'Level Spreader & HSB'!B42,\"\")","v":""},{"$f":"IF('Level Spreader & HSB'!C42<>\"\",'Level Spreader & HSB'!C42,\"\")","v":""},{"$f":"IF('Level Spreader & HSB'!D42<>\"\",'Level Spreader & HSB'!D42,\"\")","v":""},{"$f":"IF('Level Spreader & HSB'!E42<>\"\",'Level Spreader & HSB'!E42,\"\")","v":""},{"$f":"IF('Level Spreader & HSB'!F42<>\"\",'Level Spreader & HSB'!F42,\"\")","v":""},null,null,null,null,null,"","","","","","",""]
[{"$f":"IF('Level Spreader & HSB'!A43<>\"\",'Level Spreader & HSB'!A43,\"\")","v":""},{"$f":"IF('Level Spreader & HSB'!H43<>\"\",'Level Spreader & HSB'!H43,\"\")","v":""},{"$f":"IF('Level Spreader & HSB'!B43<>\"\",'Level Spreader & HSB'!B43,\"\")","v":""},{"$f":"IF('Level Spreader & HSB'!C43<>\"\",'Level Spreader & HSB'!C43,\"\")","v":""},{"$f":"IF('Level Spreader & HSB'!D43<>\"\",'Level Spreader & HSB'!D43,\"\")","v":""},{"$f":"IF('Level Spreader & HSB'!E43<>\"\",'Level Spreader & HSB'!E43,\"\")","v":""},{"$f":"IF('Level Spreader & HSB'!F43<>\"\",'Level Spreader & HSB'!F43,\"\")","v":""},null,null,null,null,null,"","","","","","",""]
[{"$f":"IF('Level Spreader & HSB'!A44<>\"\",'Level Spreader & HSB'!A44,\"\")","v":""},{"$f":"IF('Level Spreader & HSB'!H44<>\"\",'Level Spreader & HSB'!H44,\"\")","v":""},{"$f":"IF('Level Spreader & HSB'!B44<>\"\",'Level Spreader & HSB'!B44,\"\")","v":""},{"$f":"IF('Level Spreader & HSB'!C44<>\"\",'Level Spreader & HSB'!C44,\"\")","v":""},{"$f":"IF('Level Spreader & HSB'!D44<>\"\",'Level Spreader & HSB'!D44,\"\")","v":""},{"$f":"IF('Level Spreader & HSB'!E44<>\"\",'Level Spreader & HSB'!E44,\"\")","v":""},{"$f":"IF('Level Spreader & HSB'!F44<>\"\",'Level Spreader & HSB'!F44,\"\")","v":""},null,null,null,null,null,"","","","","","",""]
[{"$f":"IF('Level Spreader & HSB'!A45<>\"\",'Level Spreader & HSB'!A45,\"\")","v":""},{"$f":"IF('Level Spreader & HSB'!H45<>\"\",'Level Spreader & HSB'!H45,\"\")","v":""},{"$f":"IF('Level Spreader & HSB'!B45<>\"\",'Level Spreader & HSB'!B45,\"\")","v":""},{"$f":"IF('Level Spreader & HSB'!C45<>\"\",'Level Spreader & HSB'!C45,\"\")","v":""},{"$f":"IF('Level Spreader & HSB'!D45<>\"\",'Level Spreader & HSB'!D45,\"\")","v":""},{"$f":"IF('Level Spreader & HSB'!E45<>\"\",'Level Spreader & HSB'!E45,\"\")","v":""},{"$f":"IF('Level Spreader & HSB'!F45<>\"\",'Level Spreader & HSB'!F45,\"\")","v":""},null,null,null,null,null,"","","","","","",""]
[{"$f":"IF('Level Spreader & HSB'!A46<>\"\",'Level Spreader & HSB'!A46,\"\")","v":""},{"$f":"IF('Level Spreader & HSB'!H46<>\"\",'Level Spreader & HSB'!H46,\"\")","v":""},{"$f":"IF('Level Spreader & HSB'!B46<>\"\",'Level Spreader & HSB'!B46,\"\")","v":""},{"$f":"IF('Level Spreader & HSB'!C46<>\"\",'Level Spreader & HSB'!C46,\"\")","v":""},{"$f":"IF('Level Spreader & HSB'!D46<>\"\",'Level Spreader & HSB'!D46,\"\")","v":""},{"$f":"IF('Level Spreader & HSB'!E46<>\"\",'Level Spreader & HSB'!E46,\"\")","v":""},{"$f":"IF('Level Spreader & HSB'!F46<>\"\",'Level Spreader & HSB'!F46,\"\")","v":""},null,null,null,null,null,"","","","","","",""]
[{"$f":"IF('Level Spreader & HSB'!A47<>\"\",'Level Spreader & HSB'!A47,\"\")","v":""},{"$f":"IF('Level Spreader & HSB'!H47<>\"\",'Level Spreader & HSB'!H47,\"\")","v":""},{"$f":"IF('Level Spreader & HSB'!B47<>\"\",'Level Spreader & HSB'!B47,\"\")","v":""},{"$f":"IF('Level Spreader & HSB'!C47<>\"\",'Level Spreader & HSB'!C47,\"\")","v":""},{"$f":"IF('Level Spreader & HSB'!D47<>\"\",'Level Spreader & HSB'!D47,\"\")","v":""},{"$f":"IF('Level Spreader & HSB'!E47<>\"\",'Level Spreader & HSB'!E47,\"\")","v":""},{"$f":"IF('Level Spreader & HSB'!F47<>\"\",'Level Spreader & HSB'!F47,\"\")","v":""},null,null,null,null,null,"","","","","","",""]
[{"$f":"IF('Level Spreader & HSB'!A48<>\"\",'Level Spreader & HSB'!A48,\"\")","v":""},{"$f":"IF('Level Spreader & HSB'!H48<>\"\",'Level Spreader & HSB'!H48,\"\")","v":""},{"$f":"IF('Level Spreader & HSB'!B48<>\"\",'Level Spreader & HSB'!B48,\"\")","v":""},{"$f":"IF('Level Spreader & HSB'!C48<>\"\",'Level Spreader & HSB'!C48,\"\")","v":""},{"$f":"IF('Level Spreader & HSB'!D48<>\"\",'Level Spreader & HSB'!D48,\"\")","v":""},{"$f":"IF('Level Spreader & HSB'!E48<>\"\",'Level Spreader & HSB'!E48,\"\")","v":""},{"$f":"IF('Level Spreader & HSB'!F48<>\"\",'Level Spreader & HSB'!F48,\"\")","v":""},null,null,null,null,null,"","","","","","",""]
[{"$f":"IF('Level Spreader & HSB'!A49<>\"\",'Level Spreader & HSB'!A49,\"\")","v":""},{"$f":"IF('Level Spreader & HSB'!H49<>\"\",'Level Spreader & HSB'!H49,\"\")","v":""},{"$f":"IF('Level Spreader & HSB'!B49<>\"\",'Level Spreader & HSB'!B49,\"\")","v":""},{"$f":"IF('Level Spreader & HSB'!C49<>\"\",'Level Spreader & HSB'!C49,\"\")","v":""},{"$f":"IF('Level Spreader & HSB'!D49<>\"\",'Level Spreader & HSB'!D49,\"\")","v":""},{"$f":"IF('Level Spreader & HSB'!E49<>\"\",'Level Spreader & HSB'!E49,\"\")","v":""},{"$f":"IF('Level Spreader & HSB'!F49<>\"\",'Level Spreader & HSB'!F49,\"\")","v":""},null,null,null,null,null,"","","","","","",""]
[{"$f":"IF('Level Spreader & HSB'!A50<>\"\",'Level Spreader & HSB'!A50,\"\")","v":""},{"$f":"IF('Level Spreader & HSB'!H50<>\"\",'Level Spreader & HSB'!H50,\"\")","v":""},{"$f":"IF('Level Spreader & HSB'!B50<>\"\",'Level Spreader & HSB'!B50,\"\")","v":""},{"$f":"IF('Level Spreader & HSB'!C50<>\"\",'Level Spreader & HSB'!C50,\"\")","v":""},{"$f":"IF('Level Spreader & HSB'!D50<>\"\",'Level Spreader & HSB'!D50,\"\")","v":""},{"$f":"IF('Level Spreader & HSB'!E50<>\"\",'Level Spreader & HSB'!E50,\"\")","v":""},{"$f":"IF('Level Spreader & HSB'!F50<>\"\",'Level Spreader & HSB'!F50,\"\")","v":""},null,null,null,null,null,"","","","","","",""]
[{"$f":"IF('Level Spreader & HSB'!A51<>\"\",'Level Spreader & HSB'!A51,\"\")","v":""},{"$f":"IF('Level Spreader & HSB'!H51<>\"\",'Level Spreader & HSB'!H51,\"\")","v":""},{"$f":"IF('Level Spreader & HSB'!B51<>\"\",'Level Spreader & HSB'!B51,\"\")","v":""},{"$f":"IF('Level Spreader & HSB'!C51<>\"\",'Level Spreader & HSB'!C51,\"\")","v":""},{"$f":"IF('Level Spreader & HSB'!D51<>\"\",'Level Spreader & HSB'!D51,\"\")","v":""},{"$f":"IF('Level Spreader & HSB'!E51<>\"\",'Level Spreader & HSB'!E51,\"\")","v":""},{"$f":"IF('Level Spreader & HSB'!F51<>\"\",'Level Spreader & HSB'!F51,\"\")","v":""},null,null,null,null,null,"","","","","","",""]
[{"$f":"IF('Level Spreader & HSB'!A52<>\"\",'Level Spreader & HSB'!A52,\"\")","v":""},{"$f":"IF('Level Spreader & HSB'!H52<>\"\",'Level Spreader & HSB'!H52,\"\")","v":""},{"$f":"IF('Level Spreader & HSB'!B52<>\"\",'Level Spreader & HSB'!B52,\"\")","v":""},{"$f":"IF('Level Spreader & HSB'!C52<>\"\",'Level Spreader & HSB'!C52,\"\")","v":""},{"$f":"IF('Level Spreader & HSB'!D52<>\"\",'Level Spreader & HSB'!D52,\"\")","v":""},{"$f":"IF('Level Spreader & HSB'!E52<>\"\",'Level Spreader & HSB'!E52,\"\")","v":""},{"$f":"IF('Level Spreader & HSB'!F52<>\"\",'Level Spreader & HSB'!F52,\"\")","v":""},null,null,null,null,null,"","","","","","",""]
[{"$f":"IF('Level Spreader & HSB'!A53<>\"\",'Level Spreader & HSB'!A53,\"\")","v":""},{"$f":"IF('Level Spreader & HSB'!H53<>\"\",'Level Spreader & HSB'!H53,\"\")","v":""},{"$f":"IF('Level Spreader & HSB'!B53<>\"\",'Level Spreader & HSB'!B53,\"\")","v":""},{"$f":"IF('Level Spreader & HSB'!C53<>\"\",'Level Spreader & HSB'!C53,\"\")","v":""},{"$f":"IF('Level Spreader & HSB'!D53<>\"\",'Level Spreader & HSB'!D53,\"\")","v":""},{"$f":"IF('Level Spreader & HSB'!E53<>\"\",'Level Spreader & HSB'!E53,\"\")","v":""},{"$f":"IF('Level Spreader & HSB'!F53<>\"\",'Level Spreader & HSB'!F53,\"\")","v":""},null,null,null,null,null,"","","","","","",""]
[{"$f":"IF('Level Spreader & HSB'!A54<>\"\",'Level Spreader & HSB'!A54,\"\")","v":""},{"$f":"IF('Level Spreader & HSB'!H54<>\"\",'Level Spreader & HSB'!H54,\"\")","v":""},{"$f":"IF('Level Spreader & HSB'!B54<>\"\",'Level Spreader & HSB'!B54,\"\")","v":""},{"$f":"IF('Level Spreader & HSB'!C54<>\"\",'Level Spreader & HSB'!C54,\"\")","v":""},{"$f":"IF('Level Spreader & HSB'!D54<>\"\",'Level Spreader & HSB'!D54,\"\")","v":""},{"$f":"IF('Level Spreader & HSB'!E54<>\"\",'Level Spreader & HSB'!E54,\"\")","v":""},{"$f":"IF('Level Spreader & HSB'!F54<>\"\",'Level Spreader & HSB'!F54,\"\")","v":""},null,null,null,null,null,"","","","","","",""]
[{"$f":"IF('Level Spreader & HSB'!A55<>\"\",'Level Spreader & HSB'!A55,\"\")","v":""},{"$f":"IF('Level Spreader & HSB'!H55<>\"\",'Level Spreader & HSB'!H55,\"\")","v":""},{"$f":"IF('Level Spreader & HSB'!B55<>\"\",'Level Spreader & HSB'!B55,\"\")","v":""},{"$f":"IF('Level Spreader & HSB'!C55<>\"\",'Level Spreader & HSB'!C55,\"\")","v":""},{"$f":"IF('Level Spreader & HSB'!D55<>\"\",'Level Spreader & HSB'!D55,\"\")","v":""},{"$f":"IF('Level Spreader & HSB'!E55<>\"\",'Level Spreader & HSB'!E55,\"\")","v":""},{"$f":"IF('Level Spreader & HSB'!F55<>\"\",'Level Spreader & HSB'!F55,\"\")","v":""},null,null,null,null,null,"","","","","","",""]
[{"$f":"IF('Level Spreader & HSB'!A56<>\"\",'Level Spreader & HSB'!A56,\"\")","v":""},{"$f":"IF('Level Spreader & HSB'!H56<>\"\",'Level Spreader & HSB'!H56,\"\")","v":""},{"$f":"IF('Level Spreader & HSB'!B56<>\"\",'Level Spreader & HSB'!B56,\"\")","v":""},{"$f":"IF('Level Spreader & HSB'!C56<>\"\",'Level Spreader & HSB'!C56,\"\")","v":""},{"$f":"IF('Level Spreader & HSB'!D56<>\"\",'Level Spreader & HSB'!D56,\"\")","v":""},{"$f":"IF('Level Spreader & HSB'!E56<>\"\",'Level Spreader & HSB'!E56,\"\")","v":""},{"$f":"IF('Level Spreader & HSB'!F56<>\"\",'Level Spreader & HSB'!F56,\"\")","v":""},null,null,null,null,null,"","","","","","",""]
[{"$f":"IF('Level Spreader & HSB'!A57<>\"\",'Level Spreader & HSB'!A57,\"\")","v":""},{"$f":"IF('Level Spreader & HSB'!H57<>\"\",'Level Spreader & HSB'!H57,\"\")","v":""},{"$f":"IF('Level Spreader & HSB'!B57<>\"\",'Level Spreader & HSB'!B57,\"\")","v":""},{"$f":"IF('Level Spreader & HSB'!C57<>\"\",'Level Spreader & HSB'!C57,\"\")","v":""},{"$f":"IF('Level Spreader & HSB'!D57<>\"\",'Level Spreader & HSB'!D57,\"\")","v":""},{"$f":"IF('Level Spreader & HSB'!E57<>\"\",'Level Spreader & HSB'!E57,\"\")","v":""},{"$f":"IF('Level Spreader & HSB'!F57<>\"\",'Level Spreader & HSB'!F57,\"\")","v":""},null,null,null,null,null,"","","","","","",""]
[{"$f":"IF('Level Spreader & HSB'!A58<>\"\",'Level Spreader & HSB'!A58,\"\")","v":""},{"$f":"IF('Level Spreader & HSB'!H58<>\"\",'Level Spreader & HSB'!H58,\"\")","v":""},{"$f":"IF('Level Spreader & HSB'!B58<>\"\",'Level Spreader & HSB'!B58,\"\")","v":""},{"$f":"IF('Level Spreader & HSB'!C58<>\"\",'Level Spreader & HSB'!C58,\"\")","v":""},{"$f":"IF('Level Spreader & HSB'!D58<>\"\",'Level Spreader & HSB'!D58,\"\")","v":""},{"$f":"IF('Level Spreader & HSB'!E58<>\"\",'Level Spreader & HSB'!E58,\"\")","v":""},{"$f":"IF('Level Spreader & HSB'!F58<>\"\",'Level Spreader & HSB'!F58,\"\")","v":""},null,null,null,null,null,"","","","","","",""]
[{"$f":"IF('Level Spreader & HSB'!A59<>\"\",'Level Spreader & HSB'!A59,\"\")","v":""},{"$f":"IF('Level Spreader & HSB'!H59<>\"\",'Level Spreader & HSB'!H59,\"\")","v":""},{"$f":"IF('Level Spreader & HSB'!B59<>\"\",'Level Spreader & HSB'!B59,\"\")","v":""},{"$f":"IF('Level Spreader & HSB'!C59<>\"\",'Level Spreader & HSB'!C59,\"\")","v":""},{"$f":"IF('Level Spreader & HSB'!D59<>\"\",'Level Spreader & HSB'!D59,\"\")","v":""},{"$f":"IF('Level Spreader & HSB'!E59<>\"\",'Level Spreader & HSB'!E59,\"\")","v":""},{"$f":"IF('Level Spreader & HSB'!F59<>\"\",'Level Spreader & HSB'!F59,\"\")","v":""},null,null,null,null,null,"","","","","","",""]
[{"$f":"IF('Level Spreader & HSB'!A60<>\"\",'Level Spreader & HSB'!A60,\"\")","v":""},{"$f":"IF('Level Spreader & HSB'!H60<>\"\",'Level Spreader & HSB'!H60,\"\")","v":""},{"$f":"IF('Level Spreader & HSB'!B60<>\"\",'Level Spreader & HSB'!B60,\"\")","v":""},{"$f":"IF('Level Spreader & HSB'!C60<>\"\",'Level Spreader & HSB'!C60,\"\")","v":""},{"$f":"IF('Level Spreader & HSB'!D60<>\"\",'Level Spreader & HSB'!D60,\"\")","v":""},{"$f":"IF('Level Spreader & HSB'!E60<>\"\",'Level Spreader & HSB'!E60,\"\")","v":""},{"$f":"IF('Level Spreader & HSB'!F60<>\"\",'Level Spreader & HSB'!F60,\"\")","v":""},null,null,null,null,null,"","","","","","",""]
[{"$f":"IF('Level Spreader & HSB'!A61<>\"\",'Level Spreader & HSB'!A61,\"\")","v":""},{"$f":"IF('Level Spreader & HSB'!H61<>\"\",'Level Spreader & HSB'!H61,\"\")","v":""},{"$f":"IF('Level Spreader & HSB'!B61<>\"\",'Level Spreader & HSB'!B61,\"\")","v":""},{"$f":"IF('Level Spreader & HSB'!C61<>\"\",'Level Spreader & HSB'!C61,\"\")","v":""},{"$f":"IF('Level Spreader & HSB'!D61<>\"\",'Level Spreader & HSB'!D61,\"\")","v":""},{"$f":"IF('Level Spreader & HSB'!E61<>\"\",'Level Spreader & HSB'!E61,\"\")","v":""},{"$f":"IF('Level Spreader & HSB'!F61<>\"\",'Level Spreader & HSB'!F61,\"\")","v":""},null,null,null,null,null,"","","","","","",""]
[{"$f":"IF('Level Spreader & HSB'!A62<>\"\",'Level Spreader & HSB'!A62,\"\")","v":""},{"$f":"IF('Level Spreader & HSB'!H62<>\"\",'Level Spreader & HSB'!H62,\"\")","v":""},{"$f":"IF('Level Spreader & HSB'!B62<>\"\",'Level Spreader & HSB'!B62,\"\")","v":""},{"$f":"IF('Level Spreader & HSB'!C62<>\"\",'Level Spreader & HSB'!C62,\"\")","v":""},{"$f":"IF('Level Spreader & HSB'!D62<>\"\",'Level Spreader & HSB'!D62,\"\")","v":""},{"$f":"IF('Level Spreader & HSB'!E62<>\"\",'Level Spreader & HSB'!E62,\"\")","v":""},{"$f":"IF('Level Spreader & HSB'!F62<>\"\",'Level Spreader & HSB'!F62,\"\")","v":""},null,null,null,null,null,"","","","","","",""]
[{"$f":"IF('Level Spreader & HSB'!A63<>\"\",'Level Spreader & HSB'!A63,\"\")","v":""},{"$f":"IF('Level Spreader & HSB'!H63<>\"\",'Level Spreader & HSB'!H63,\"\")","v":""},{"$f":"IF('Level Spreader & HSB'!B63<>\"\",'Level Spreader & HSB'!B63,\"\")","v":""},{"$f":"IF('Level Spreader & HSB'!C63<>\"\",'Level Spreader & HSB'!C63,\"\")","v":""},{"$f":"IF('Level Spreader & HSB'!D63<>\"\",'Level Spreader & HSB'!D63,\"\")","v":""},{"$f":"IF('Level Spreader & HSB'!E63<>\"\",'Level Spreader & HSB'!E63,\"\")","v":""},{"$f":"IF('Level Spreader & HSB'!F63<>\"\",'Level Spreader & HSB'!F63,\"\")","v":""},null,null,null,null,null,"","","","","","",""]
[{"$f":"IF('Level Spreader & HSB'!A64<>\"\",'Level Spreader & HSB'!A64,\"\")","v":""},{"$f":"IF('Level Spreader & HSB'!H64<>\"\",'Level Spreader & HSB'!H64,\"\")","v":""},{"$f":"IF('Level Spreader & HSB'!B64<>\"\",'Level Spreader & HSB'!B64,\"\")","v":""},{"$f":"IF('Level Spreader & HSB'!C64<>\"\",'Level Spreader & HSB'!C64,\"\")","v":""},{"$f":"IF('Level Spreader & HSB'!D64<>\"\",'Level Spreader & HSB'!D64,\"\")","v":""},{"$f":"IF('Level Spreader & HSB'!E64<>\"\",'Level Spreader & HSB'!E64,\"\")","v":""},{"$f":"IF('Level Spreader & HSB'!F64<>\"\",'Level Spreader & HSB'!F64,\"\")","v":""},null,null,null,null,null,"","","","","","",""]
[{"$f":"IF('Level Spreader & HSB'!A65<>\"\",'Level Spreader & HSB'!A65,\"\")","v":""},{"$f":"IF('Level Spreader & HSB'!H65<>\"\",'Level Spreader & HSB'!H65,\"\")","v":""},{"$f":"IF('Level Spreader & HSB'!B65<>\"\",'Level Spreader & HSB'!B65,\"\")","v":""},{"$f":"IF('Level Spreader & HSB'!C65<>\"\",'Level Spreader & HSB'!C65,\"\")","v":""},{"$f":"IF('Level Spreader & HSB'!D65<>\"\",'Level Spreader & HSB'!D65,\"\")","v":""},{"$f":"IF('Level Spreader & HSB'!E65<>\"\",'Level Spreader & HSB'!E65,\"\")","v":""},{"$f":"IF('Level Spreader & HSB'!F65<>\"\",'Level Spreader & HSB'!F65,\"\")","v":""},null,null,null,null,null,"","","","","","",""]
[{"$f":"IF('Level Spreader & HSB'!A66<>\"\",'Level Spreader & HSB'!A66,\"\")","v":""},{"$f":"IF('Level Spreader & HSB'!H66<>\"\",'Level Spreader & HSB'!H66,\"\")","v":""},{"$f":"IF('Level Spreader & HSB'!B66<>\"\",'Level Spreader & HSB'!B66,\"\")","v":""},{"$f":"IF('Level Spreader & HSB'!C66<>\"\",'Level Spreader & HSB'!C66,\"\")","v":""},{"$f":"IF('Level Spreader & HSB'!D66<>\"\",'Level Spreader & HSB'!D66,\"\")","v":""},{"$f":"IF('Level Spreader & HSB'!E66<>\"\",'Level Spreader & HSB'!E66,\"\")","v":""},{"$f":"IF('Level Spreader & HSB'!F66<>\"\",'Level Spreader & HSB'!F66,\"\")","v":""},null,null,null,null,null,"","","","","","",""]
[{"$f":"IF('Level Spreader & HSB'!A67<>\"\",'Level Spreader & HSB'!A67,\"\")","v":""},{"$f":"IF('Level Spreader & HSB'!H67<>\"\",'Level Spreader & HSB'!H67,\"\")","v":""},{"$f":"IF('Level Spreader & HSB'!B67<>\"\",'Level Spreader & HSB'!B67,\"\")","v":""},{"$f":"IF('Level Spreader & HSB'!C67<>\"\",'Level Spreader & HSB'!C67,\"\")","v":""},{"$f":"IF('Level Spreader & HSB'!D67<>\"\",'Level Spreader & HSB'!D67,\"\")","v":""},{"$f":"IF('Level Spreader & HSB'!E67<>\"\",'Level Spreader & HSB'!E67,\"\")","v":""},{"$f":"IF('Level Spreader & HSB'!F67<>\"\",'Level Spreader & HSB'!F67,\"\")","v":""},null,null,null,null,null,"","","","","","",""]
[{"$f":"IF('Level Spreader & HSB'!A68<>\"\",'Level Spreader & HSB'!A68,\"\")","v":""},{"$f":"IF('Level Spreader & HSB'!H68<>\"\",'Level Spreader & HSB'!H68,\"\")","v":""},{"$f":"IF('Level Spreader & HSB'!B68<>\"\",'Level Spreader & HSB'!B68,\"\")","v":""},{"$f":"IF('Level Spreader & HSB'!C68<>\"\",'Level Spreader & HSB'!C68,\"\")","v":""},{"$f":"IF('Level Spreader & HSB'!D68<>\"\",'Level Spreader & HSB'!D68,\"\")","v":""},{"$f":"IF('Level Spreader & HSB'!E68<>\"\",'Level Spreader & HSB'!E68,\"\")","v":""},{"$f":"IF('Level Spreader & HSB'!F68<>\"\",'Level Spreader & HSB'!F68,\"\")","v":""},null,null,null,null,null,"","","","","","",""]
[{"$f":"IF('Level Spreader & HSB'!A69<>\"\",'Level Spreader & HSB'!A69,\"\")","v":""},{"$f":"IF('Level Spreader & HSB'!H69<>\"\",'Level Spreader & HSB'!H69,\"\")","v":""},{"$f":"IF('Level Spreader & HSB'!B69<>\"\",'Level Spreader & HSB'!B69,\"\")","v":""},{"$f":"IF('Level Spreader & HSB'!C69<>\"\",'Level Spreader & HSB'!C69,\"\")","v":""},{"$f":"IF('Level Spreader & HSB'!D69<>\"\",'Level Spreader & HSB'!D69,\"\")","v":""},{"$f":"IF('Level Spreader & HSB'!E69<>\"\",'Level Spreader & HSB'!E69,\"\")","v":""},{"$f":"IF('Level Spreader & HSB'!F69<>\"\",'Level Spreader & HSB'!F69,\"\")","v":""},null,null,null,null,null,"","","","","","",""]
[{"$f":"IF('Level Spreader & HSB'!A70<>\"\",'Level Spreader & HSB'!A70,\"\")","v":""},{"$f":"IF('Level Spreader & HSB'!H70<>\"\",'Level Spreader & HSB'!H70,\"\")","v":""},{"$f":"IF('Level Spreader & HSB'!B70<>\"\",'Level Spreader & HSB'!B70,\"\")","v":""},{"$f":"IF('Level Spreader & HSB'!C70<>\"\",'Level Spreader & HSB'!C70,\"\")","v":""},{"$f":"IF('Level Spreader & HSB'!D70<>\"\",'Level Spreader & HSB'!D70,\"\")","v":""},{"$f":"IF('Level Spreader & HSB'!E70<>\"\",'Level Spreader & HSB'!E70,\"\")","v":""},{"$f":"IF('Level Spreader & HSB'!F70<>\"\",'Level Spreader & HSB'!F70,\"\")","v":""},null,null,null,null,null,"","","","","","",""]
[{"$f":"IF('Level Spreader & HSB'!A71<>\"\",'Level Spreader & HSB'!A71,\"\")","v":""},{"$f":"IF('Level Spreader & HSB'!H71<>\"\",'Level Spreader & HSB'!H71,\"\")","v":""},{"$f":"IF('Level Spreader & HSB'!B71<>\"\",'Level Spreader & HSB'!B71,\"\")","v":""},{"$f":"IF('Level Spreader & HSB'!C71<>\"\",'Level Spreader & HSB'!C71,\"\")","v":""},{"$f":"IF('Level Spreader & HSB'!D71<>\"\",'Level Spreader & HSB'!D71,\"\")","v":""},{"$f":"IF('Level Spreader & HSB'!E71<>\"\",'Level Spreader & HSB'!E71,\"\")","v":""},{"$f":"IF('Level Spreader & HSB'!F71<>\"\",'Level Spreader & HSB'!F71,\"\")","v":""},null,null,null,null,null,"","","","","","",""]
[{"$f":"IF('Level Spreader & HSB'!A87<>\"\",'Level Spreader & HSB'!A87,\"\")","v":""},{"$f":"IF('Level Spreader & HSB'!H87<>\"\",'Level Spreader & HSB'!H87,\"\")","v":""},{"$f":"IF('Level Spreader & HSB'!B87<>\"\",'Level Spreader & HSB'!B87,\"\")","v":""},{"$f":"IF('Level Spreader & HSB'!C87<>\"\",'Level Spreader & HSB'!C87,\"\")","v":""},{"$f":"IF('Level Spreader & HSB'!D87<>\"\",'Level Spreader & HSB'!D87,\"\")","v":""},{"$f":"IF('Level Spreader & HSB'!E87<>\"\",'Level Spreader & HSB'!E87,\"\")","v":""},{"$f":"IF('Level Spreader & HSB'!F87<>\"\",'Level Spreader & HSB'!F87,\"\")","v":""},null,null,null,null,null,"","","","","","",""]
[{"$f":"IF('Level Spreader & HSB'!A88<>\"\",'Level Spreader & HSB'!A88,\"\")","v":""},{"$f":"IF('Level Spreader & HSB'!H88<>\"\",'Level Spreader & HSB'!H88,\"\")","v":""},{"$f":"IF('Level Spreader & HSB'!B88<>\"\",'Level Spreader & HSB'!B88,\"\")","v":""},{"$f":"IF('Level Spreader & HSB'!C88<>\"\",'Level Spreader & HSB'!C88,\"\")","v":""},{"$f":"IF('Level Spreader & HSB'!D88<>\"\",'Level Spreader & HSB'!D88,\"\")","v":""},{"$f":"IF('Level Spreader & HSB'!E88<>\"\",'Level Spreader & HSB'!E88,\"\")","v":""},{"$f":"IF('Level Spreader & HSB'!F88<>\"\",'Level Spreader & HSB'!F88,\"\")","v":""},null,null,null,null,null,"","","","","","",""]
[{"$f":"IF('Level Spreader & HSB'!A89<>\"\",'Level Spreader & HSB'!A89,\"\")","v":""},{"$f":"IF('Level Spreader & HSB'!H89<>\"\",'Level Spreader & HSB'!H89,\"\")","v":""},{"$f":"IF('Level Spreader & HSB'!B89<>\"\",'Level Spreader & HSB'!B89,\"\")","v":""},{"$f":"IF('Level Spreader & HSB'!C89<>\"\",'Level Spreader & HSB'!C89,\"\")","v":""},{"$f":"IF('Level Spreader & HSB'!D89<>\"\",'Level Spreader & HSB'!D89,\"\")","v":""},{"$f":"IF('Level Spreader & HSB'!E89<>\"\",'Level Spreader & HSB'!E89,\"\")","v":""},{"$f":"IF('Level Spreader & HSB'!F89<>\"\",'Level Spreader & HSB'!F89,\"\")","v":""},null,null,null,null,null,"","","","","","",""]
[{"$f":"IF('Level Spreader & HSB'!A90<>\"\",'Level Spreader & HSB'!A90,\"\")","v":""},{"$f":"IF('Level Spreader & HSB'!H90<>\"\",'Level Spreader & HSB'!H90,\"\")","v":""},{"$f":"IF('Level Spreader & HSB'!B90<>\"\",'Level Spreader & HSB'!B90,\"\")","v":""},{"$f":"IF('Level Spreader & HSB'!C90<>\"\",'Level Spreader & HSB'!C90,\"\")","v":""},{"$f":"IF('Level Spreader & HSB'!D90<>\"\",'Level Spreader & HSB'!D90,\"\")","v":""},{"$f":"IF('Level Spreader & HSB'!E90<>\"\",'Level Spreader & HSB'!E90,\"\")","v":""},{"$f":"IF('Level Spreader & HSB'!F90<>\"\",'Level Spreader & HSB'!F90,\"\")","v":""},null,null,null,null,null,"","","","","","",""]
[{"$f":"IF('Level Spreader & HSB'!A91<>\"\",'Level Spreader & HSB'!A91,\"\")","v":""},{"$f":"IF('Level Spreader & HSB'!H91<>\"\",'Level Spreader & HSB'!H91,\"\")","v":""},{"$f":"IF('Level Spreader & HSB'!B91<>\"\",'Level Spreader & HSB'!B91,\"\")","v":""},{"$f":"IF('Level Spreader & HSB'!C91<>\"\",'Level Spreader & HSB'!C91,\"\")","v":""},{"$f":"IF('Level Spreader & HSB'!D91<>\"\",'Level Spreader & HSB'!D91,\"\")","v":""},{"$f":"IF('Level Spreader & HSB'!E91<>\"\",'Level Spreader & HSB'!E91,\"\")","v":""},{"$f":"IF('Level Spreader & HSB'!F91<>\"\",'Level Spreader & HSB'!F91,\"\")","v":""},null,null,null,null,null,"","","","","","",""]
[{"$f":"IF('Level Spreader & HSB'!A92<>\"\",'Level Spreader & HSB'!A92,\"\")","v":""},{"$f":"IF('Level Spreader & HSB'!H92<>\"\",'Level Spreader & HSB'!H92,\"\")","v":""},{"$f":"IF('Level Spreader & HSB'!B92<>\"\",'Level Spreader & HSB'!B92,\"\")","v":""},{"$f":"IF('Level Spreader & HSB'!C92<>\"\",'Level Spreader & HSB'!C92,\"\")","v":""},{"$f":"IF('Level Spreader & HSB'!D92<>\"\",'Level Spreader & HSB'!D92,\"\")","v":""},{"$f":"IF('Level Spreader & HSB'!E92<>\"\",'Level Spreader & HSB'!E92,\"\")","v":""},{"$f":"IF('Level Spreader & HSB'!F92<>\"\",'Level Spreader & HSB'!F92,\"\")","v":""},null,null,null,null,null,"","","","","","",""]
[{"$f":"IF('Level Spreader & HSB'!A93<>\"\",'Level Spreader & HSB'!A93,\"\")","v":""},{"$f":"IF('Level Spreader & HSB'!H93<>\"\",'Level Spreader & HSB'!H93,\"\")","v":""},{"$f":"IF('Level Spreader & HSB'!B93<>\"\",'Level Spreader & HSB'!B93,\"\")","v":""},{"$f":"IF('Level Spreader & HSB'!C93<>\"\",'Level Spreader & HSB'!C93,\"\")","v":""},{"$f":"IF('Level Spreader & HSB'!D93<>\"\",'Level Spreader & HSB'!D93,\"\")","v":""},{"$f":"IF('Level Spreader & HSB'!E93<>\"\",'Level Spreader & HSB'!E93,\"\")","v":""},{"$f":"IF('Level Spreader & HSB'!F93<>\"\",'Level Spreader & HSB'!F93,\"\")","v":""},null,null,null,null,null,"","","","","","",""]
[{"$f":"IF('Level Spreader & HSB'!A94<>\"\",'Level Spreader & HSB'!A94,\"\")","v":""},{"$f":"IF('Level Spreader & HSB'!H94<>\"\",'Level Spreader & HSB'!H94,\"\")","v":""},{"$f":"IF('Level Spreader & HSB'!B94<>\"\",'Level Spreader & HSB'!B94,\"\")","v":""},{"$f":"IF('Level Spreader & HSB'!C94<>\"\",'Level Spreader & HSB'!C94,\"\")","v":""},{"$f":"IF('Level Spreader & HSB'!D94<>\"\",'Level Spreader & HSB'!D94,\"\")","v":""},{"$f":"IF('Level Spreader & HSB'!E94<>\"\",'Level Spreader & HSB'!E94,\"\")","v":""},{"$f":"IF('Level Spreader & HSB'!F94<>\"\",'Level Spreader & HSB'!F94,\"\")","v":""},null,null,null,null,null,"","","","","","",""]
[{"$f":"IF('Level Spreader & HSB'!A95<>\"\",'Level Spreader & HSB'!A95,\"\")","v":""},{"$f":"IF('Level Spreader & HSB'!H95<>\"\",'Level Spreader & HSB'!H95,\"\")","v":""},{"$f":"IF('Level Spreader & HSB'!B95<>\"\",'Level Spreader & HSB'!B95,\"\")","v":""},{"$f":"IF('Level Spreader & HSB'!C95<>\"\",'Level Spreader & HSB'!C95,\"\")","v":""},{"$f":"IF('Level Spreader & HSB'!D95<>\"\",'Level Spreader & HSB'!D95,\"\")","v":""},{"$f":"IF('Level Spreader & HSB'!E95<>\"\",'Level Spreader & HSB'!E95,\"\")","v":""},{"$f":"IF('Level Spreader & HSB'!F95<>\"\",'Level Spreader & HSB'!F95,\"\")","v":""},null,null,null,null,null,"","","","","","",""]
[{"$f":"IF('Level Spreader & HSB'!A96<>\"\",'Level Spreader & HSB'!A96,\"\")","v":""},{"$f":"IF('Level Spreader & HSB'!H96<>\"\",'Level Spreader & HSB'!H96,\"\")","v":""},{"$f":"IF('Level Spreader & HSB'!B96<>\"\",'Level Spreader & HSB'!B96,\"\")","v":""},{"$f":"IF('Level Spreader & HSB'!C96<>\"\",'Level Spreader & HSB'!C96,\"\")","v":""},{"$f":"IF('Level Spreader & HSB'!D96<>\"\",'Level Spreader & HSB'!D96,\"\")","v":""},{"$f":"IF('Level Spreader & HSB'!E96<>\"\",'Level Spreader & HSB'!E96,\"\")","v":""},{"$f":"IF('Level Spreader & HSB'!F96<>\"\",'Level Spreader & HSB'!F96,\"\")","v":""},null,null,null,null,null,"","","","","","",""]
[{"$f":"IF('Level Spreader & HSB'!A97<>\"\",'Level Spreader & HSB'!A97,\"\")","v":""},{"$f":"IF('Level Spreader & HSB'!H97<>\"\",'Level Spreader & HSB'!H97,\"\")","v":""},{"$f":"IF('Level Spreader & HSB'!B97<>\"\",'Level Spreader & HSB'!B97,\"\")","v":""},{"$f":"IF('Level Spreader & HSB'!C97<>\"\",'Level Spreader & HSB'!C97,\"\")","v":""},{"$f":"IF('Level Spreader & HSB'!D97<>\"\",'Level Spreader & HSB'!D97,\"\")","v":""},{"$f":"IF('Level Spreader & HSB'!E97<>\"\",'Level Spreader & HSB'!E97,\"\")","v":""},{"$f":"IF('Level Spreader & HSB'!F97<>\"\",'Level Spreader & HSB'!F97,\"\")","v":""},null,null,null,null,null,"","","","","","",""]
[{"$f":"IF('Level Spreader & HSB'!A98<>\"\",'Level Spreader & HSB'!A98,\"\")","v":""},{"$f":"IF('Level Spreader & HSB'!H98<>\"\",'Level Spreader & HSB'!H98,\"\")","v":""},{"$f":"IF('Level Spreader & HSB'!B98<>\"\",'Level Spreader & HSB'!B98,\"\")","v":""},{"$f":"IF('Level Spreader & HSB'!C98<>\"\",'Level Spreader & HSB'!C98,\"\")","v":""},{"$f":"IF('Level Spreader & HSB'!D98<>\"\",'Level Spreader & HSB'!D98,\"\")","v":""},{"$f":"IF('Level Spreader & HSB'!E98<>\"\",'Level Spreader & HSB'!E98,\"\")","v":""},{"$f":"IF('Level Spreader & HSB'!F98<>\"\",'Level Spreader & HSB'!F98,\"\")","v":""},null,null,null,null,null,"","","","","","",""]
[{"$f":"IF('Level Spreader & HSB'!A99<>\"\",'Level Spreader & HSB'!A99,\"\")","v":""},{"$f":"IF('Level Spreader & HSB'!H99<>\"\",'Level Spreader & HSB'!H99,\"\")","v":""},{"$f":"IF('Level Spreader & HSB'!B99<>\"\",'Level Spreader & HSB'!B99,\"\")","v":""},{"$f":"IF('Level Spreader & HSB'!C99<>\"\",'Level Spreader & HSB'!C99,\"\")","v":""},{"$f":"IF('Level Spreader & HSB'!D99<>\"\",'Level Spreader & HSB'!D99,\"\")","v":""},{"$f":"IF('Level Spreader & HSB'!E99<>\"\",'Level Spreader & HSB'!E99,\"\")","v":""},{"$f":"IF('Level Spreader & HSB'!F99<>\"\",'Level Spreader & HSB'!F99,\"\")","v":""},null,null,null,null,null,"","","","","","",""]
[{"$f":"IF('Level Spreader & HSB'!A100<>\"\",'Level Spreader & HSB'!A100,\"\")","v":""},{"$f":"IF('Level Spreader & HSB'!H100<>\"\",'Level Spreader & HSB'!H100,\"\")","v":""},{"$f":"IF('Level Spreader & HSB'!B100<>\"\",'Level Spreader & HSB'!B100,\"\")","v":""},{"$f":"IF('Level Spreader & HSB'!C100<>\"\",'Level Spreader & HSB'!C100,\"\")","v":""},{"$f":"IF('Level Spreader & HSB'!D100<>\"\",'Level Spreader & HSB'!D100,\"\")","v":""},{"$f":"IF('Level Spreader & HSB'!E100<>\"\",'Level Spreader & HSB'!E100,\"\")","v":""},{"$f":"IF('Level Spreader & HSB'!F100<>\"\",'Level Spreader & HSB'!F100,\"\")","v":""},null,null,null,null,null,"","","","","","",""]
[{"$f":"IF('Level Spreader & HSB'!A101<>\"\",'Level Spreader & HSB'!A101,\"\")","v":""},{"$f":"IF('Level Spreader & HSB'!H101<>\"\",'Level Spreader & HSB'!H101,\"\")","v":""},{"$f":"IF('Level Spreader & HSB'!B101<>\"\",'Level Spreader & HSB'!B101,\"\")","v":""},{"$f":"IF('Level Spreader & HSB'!C101<>\"\",'Level Spreader & HSB'!C101,\"\")","v":""},{"$f":"IF('Level Spreader & HSB'!D101<>\"\",'Level Spreader & HSB'!D101,\"\")","v":""},{"$f":"IF('Level Spreader & HSB'!E101<>\"\",'Level Spreader & HSB'!E101,\"\")","v":""},{"$f":"IF('Level Spreader & HSB'!F101<>\"\",'Level Spreader & HSB'!F101,\"\")","v":""},null,null,null,null,null,"","","","","","",""]
[{"$f":"IF('Level Spreader & HSB'!A102<>\"\",'Level Spreader & HSB'!A102,\"\")","v":""},{"$f":"IF('Level Spreader & HSB'!H102<>\"\",'Level Spreader & HSB'!H102,\"\")","v":""},{"$f":"IF('Level Spreader & HSB'!B102<>\"\",'Level Spreader & HSB'!B102,\"\")","v":""},{"$f":"IF('Level Spreader & HSB'!C102<>\"\",'Level Spreader & HSB'!C102,\"\")","v":""},{"$f":"IF('Level Spreader & HSB'!D102<>\"\",'Level Spreader & HSB'!D102,\"\")","v":""},{"$f":"IF('Level Spreader & HSB'!E102<>\"\",'Level Spreader & HSB'!E102,\"\")","v":""},{"$f":"IF('Level Spreader & HSB'!F102<>\"\",'Level Spreader & HSB'!F102,\"\")","v":""},null,null,null,null,null,"","","","","","",""]
[{"$f":"IF('Level Spreader & HSB'!A103<>\"\",'Level Spreader & HSB'!A103,\"\")","v":""},{"$f":"IF('Level Spreader & HSB'!H103<>\"\",'Level Spreader & HSB'!H103,\"\")","v":""},{"$f":"IF('Level Spreader & HSB'!B103<>\"\",'Level Spreader & HSB'!B103,\"\")","v":""},{"$f":"IF('Level Spreader & HSB'!C103<>\"\",'Level Spreader & HSB'!C103,\"\")","v":""},{"$f":"IF('Level Spreader & HSB'!D103<>\"\",'Level Spreader & HSB'!D103,\"\")","v":""},{"$f":"IF('Level Spreader & HSB'!E103<>\"\",'Level Spreader & HSB'!E103,\"\")","v":""},{"$f":"IF('Level Spreader & HSB'!F103<>\"\",'Level Spreader & HSB'!F103,\"\")","v":""},null,null,null,null,null,"","","","","","",""]
[{"$f":"IF('Level Spreader & HSB'!A104<>\"\",'Level Spreader & HSB'!A104,\"\")","v":""},{"$f":"IF('Level Spreader & HSB'!H104<>\"\",'Level Spreader & HSB'!H104,\"\")","v":""},{"$f":"IF('Level Spreader & HSB'!B104<>\"\",'Level Spreader & HSB'!B104,\"\")","v":""},{"$f":"IF('Level Spreader & HSB'!C104<>\"\",'Level Spreader & HSB'!C104,\"\")","v":""},{"$f":"IF('Level Spreader & HSB'!D104<>\"\",'Level Spreader & HSB'!D104,\"\")","v":""},{"$f":"IF('Level Spreader & HSB'!E104<>\"\",'Level Spreader & HSB'!E104,\"\")","v":""},{"$f":"IF('Level Spreader & HSB'!F104<>\"\",'Level Spreader & HSB'!F104,\"\")","v":""},null,null,null,null,null,"","","","","","",""]
[{"$f":"IF('Level Spreader & HSB'!A105<>\"\",'Level Spreader & HSB'!A105,\"\")","v":""},{"$f":"IF('Level Spreader & HSB'!H105<>\"\",'Level Spreader & HSB'!H105,\"\")","v":""},{"$f":"IF('Level Spreader & HSB'!B105<>\"\",'Level Spreader & HSB'!B105,\"\")","v":""},{"$f":"IF('Level Spreader & HSB'!C105<>\"\",'Level Spreader & HSB'!C105,\"\")","v":""},{"$f":"IF('Level Spreader & HSB'!D105<>\"\",'Level Spreader & HSB'!D105,\"\")","v":""},{"$f":"IF('Level Spreader & HSB'!E105<>\"\",'Level Spreader & HSB'!E105,\"\")","v":""},{"$f":"IF('Level Spreader & HSB'!F105<>\"\",'Level Spreader & HSB'!F105,\"\")","v":""},null,null,null,null,null,"","","","","","",""]
[{"$f":"IF('Level Spreader & HSB'!A106<>\"\",'Level Spreader & HSB'!A106,\"\")","v":""},{"$f":"IF('Level Spreader & HSB'!H106<>\"\",'Level Spreader & HSB'!H106,\"\")","v":""},{"$f":"IF('Level Spreader & HSB'!B106<>\"\",'Level Spreader & HSB'!B106,\"\")","v":""},{"$f":"IF('Level Spreader & HSB'!C106<>\"\",'Level Spreader & HSB'!C106,\"\")","v":""},{"$f":"IF('Level Spreader & HSB'!D106<>\"\",'Level Spreader & HSB'!D106,\"\")","v":""},{"$f":"IF('Level Spreader & HSB'!E106<>\"\",'Level Spreader & HSB'!E106,\"\")","v":""},{"$f":"IF('Level Spreader & HSB'!F106<>\"\",'Level Spreader & HSB'!F106,\"\")","v":""},null,null,null,null,null,"","","","","","",""]
[{"$f":"IF('Level Spreader & HSB'!A107<>\"\",'Level Spreader & HSB'!A107,\"\")","v":""},{"$f":"IF('Level Spreader & HSB'!H107<>\"\",'Level Spreader & HSB'!H107,\"\")","v":""},{"$f":"IF('Level Spreader & HSB'!B107<>\"\",'Level Spreader & HSB'!B107,\"\")","v":""},{"$f":"IF('Level Spreader & HSB'!C107<>\"\",'Level Spreader & HSB'!C107,\"\")","v":""},{"$f":"IF('Level Spreader & HSB'!D107<>\"\",'Level Spreader & HSB'!D107,\"\")","v":""},{"$f":"IF('Level Spreader & HSB'!E107<>\"\",'Level Spreader & HSB'!E107,\"\")","v":""},{"$f":"IF('Level Spreader & HSB'!F107<>\"\",'Level Spreader & HSB'!F107,\"\")","v":""},null,null,null,null,null,"","","","","","",""]
[{"$f":"IF('Level Spreader & HSB'!A108<>\"\",'Level Spreader & HSB'!A108,\"\")","v":""},{"$f":"IF('Level Spreader & HSB'!H108<>\"\",'Level Spreader & HSB'!H108,\"\")","v":""},{"$f":"IF('Level Spreader & HSB'!B108<>\"\",'Level Spreader & HSB'!B108,\"\")","v":""},{"$f":"IF('Level Spreader & HSB'!C108<>\"\",'Level Spreader & HSB'!C108,\"\")","v":""},{"$f":"IF('Level Spreader & HSB'!D108<>\"\",'Level Spreader & HSB'!D108,\"\")","v":""},{"$f":"IF('Level Spreader & HSB'!E108<>\"\",'Level Spreader & HSB'!E108,\"\")","v":""},{"$f":"IF('Level Spreader & HSB'!F108<>\"\",'Level Spreader & HSB'!F108,\"\")","v":""},null,null,null,null,null,"","","","","","",""]
[{"$f":"IF('Level Spreader & HSB'!A109<>\"\",'Level Spreader & HSB'!A109,\"\")","v":""},{"$f":"IF('Level Spreader & HSB'!H109<>\"\",'Level Spreader & HSB'!H109,\"\")","v":""},{"$f":"IF('Level Spreader & HSB'!B109<>\"\",'Level Spreader & HSB'!B109,\"\")","v":""},{"$f":"IF('Level Spreader & HSB'!C109<>\"\",'Level Spreader & HSB'!C109,\"\")","v":""},{"$f":"IF('Level Spreader & HSB'!D109<>\"\",'Level Spreader & HSB'!D109,\"\")","v":""},{"$f":"IF('Level Spreader & HSB'!E109<>\"\",'Level Spreader & HSB'!E109,\"\")","v":""},{"$f":"IF('Level Spreader & HSB'!F109<>\"\",'Level Spreader & HSB'!F109,\"\")","v":""},null,null,null,null,null,"","","","","","",""]
[{"$f":"IF('Level Spreader & HSB'!A110<>\"\",'Level Spreader & HSB'!A110,\"\")","v":""},{"$f":"IF('Level Spreader & HSB'!H110<>\"\",'Level Spreader & HSB'!H110,\"\")","v":""},{"$f":"IF('Level Spreader & HSB'!B110<>\"\",'Level Spreader & HSB'!B110,\"\")","v":""},{"$f":"IF('Level Spreader & HSB'!C110<>\"\",'Level Spreader & HSB'!C110,\"\")","v":""},{"$f":"IF('Level Spreader & HSB'!D110<>\"\",'Level Spreader & HSB'!D110,\"\")","v":""},{"$f":"IF('Level Spreader & HSB'!E110<>\"\",'Level Spreader & HSB'!E110,\"\")","v":""},{"$f":"IF('Level Spreader & HSB'!F110<>\"\",'Level Spreader & HSB'!F110,\"\")","v":""},null,null,null,null,null,"","","","","","",""]
[{"$f":"IF('Level Spreader & HSB'!A111<>\"\",'Level Spreader & HSB'!A111,\"\")","v":""},{"$f":"IF('Level Spreader & HSB'!H111<>\"\",'Level Spreader & HSB'!H111,\"\")","v":""},{"$f":"IF('Level Spreader & HSB'!B111<>\"\",'Level Spreader & HSB'!B111,\"\")","v":""},{"$f":"IF('Level Spreader & HSB'!C111<>\"\",'Level Spreader & HSB'!C111,\"\")","v":""},{"$f":"IF('Level Spreader & HSB'!D111<>\"\",'Level Spreader & HSB'!D111,\"\")","v":""},{"$f":"IF('Level Spreader & HSB'!E111<>\"\",'Level Spreader & HSB'!E111,\"\")","v":""},{"$f":"IF('Level Spreader & HSB'!F111<>\"\",'Level Spreader & HSB'!F111,\"\")","v":""},null,null,null,null,null,"","","","","","",""]
[{"$f":"IF('Level Spreader & HSB'!A112<>\"\",'Level Spreader & HSB'!A112,\"\")","v":""},{"$f":"IF('Level Spreader & HSB'!H112<>\"\",'Level Spreader & HSB'!H112,\"\")","v":""},{"$f":"IF('Level Spreader & HSB'!B112<>\"\",'Level Spreader & HSB'!B112,\"\")","v":""},{"$f":"IF('Level Spreader & HSB'!C112<>\"\",'Level Spreader & HSB'!C112,\"\")","v":""},{"$f":"IF('Level Spreader & HSB'!D112<>\"\",'Level Spreader & HSB'!D112,\"\")","v":""},{"$f":"IF('Level Spreader & HSB'!E112<>\"\",'Level Spreader & HSB'!E112,\"\")","v":""},{"$f":"IF('Level Spreader & HSB'!F112<>\"\",'Level Spreader & HSB'!F112,\"\")","v":""},null,null,null,null,null,"","","","","","",""]
[{"$f":"IF('Level Spreader & HSB'!A113<>\"\",'Level Spreader & HSB'!A113,\"\")","v":""},{"$f":"IF('Level Spreader & HSB'!H113<>\"\",'Level Spreader & HSB'!H113,\"\")","v":""},{"$f":"IF('Level Spreader & HSB'!B113<>\"\",'Level Spreader & HSB'!B113,\"\")","v":""},{"$f":"IF('Level Spreader & HSB'!C113<>\"\",'Level Spreader & HSB'!C113,\"\")","v":""},{"$f":"IF('Level Spreader & HSB'!D113<>\"\",'Level Spreader & HSB'!D113,\"\")","v":""},{"$f":"IF('Level Spreader & HSB'!E113<>\"\",'Level Spreader & HSB'!E113,\"\")","v":""},{"$f":"IF('Level Spreader & HSB'!F113<>\"\",'Level Spreader & HSB'!F113,\"\")","v":""},null,null,null,null,null,"","","","","","",""]
[{"$f":"IF('Level Spreader & HSB'!A114<>\"\",'Level Spreader & HSB'!A114,\"\")","v":""},{"$f":"IF('Level Spreader & HSB'!H114<>\"\",'Level Spreader & HSB'!H114,\"\")","v":""},{"$f":"IF('Level Spreader & HSB'!B114<>\"\",'Level Spreader & HSB'!B114,\"\")","v":""},{"$f":"IF('Level Spreader & HSB'!C114<>\"\",'Level Spreader & HSB'!C114,\"\")","v":""},{"$f":"IF('Level Spreader & HSB'!D114<>\"\",'Level Spreader & HSB'!D114,\"\")","v":""},{"$f":"IF('Level Spreader & HSB'!E114<>\"\",'Level Spreader & HSB'!E114,\"\")","v":""},{"$f":"IF('Level Spreader & HSB'!F114<>\"\",'Level Spreader & HSB'!F114,\"\")","v":""},null,null,null,null,null,"","","","","","",""]
[{"$f":"IF('Level Spreader & HSB'!A115<>\"\",'Level Spreader & HSB'!A115,\"\")","v":""},{"$f":"IF('Level Spreader & HSB'!H115<>\"\",'Level Spreader & HSB'!H115,\"\")","v":""},{"$f":"IF('Level Spreader & HSB'!B115<>\"\",'Level Spreader & HSB'!B115,\"\")","v":""},{"$f":"IF('Level Spreader & HSB'!C115<>\"\",'Level Spreader & HSB'!C115,\"\")","v":""},{"$f":"IF('Level Spreader & HSB'!D115<>\"\",'Level Spreader & HSB'!D115,\"\")","v":""},{"$f":"IF('Level Spreader & HSB'!E115<>\"\",'Level Spreader & HSB'!E115,\"\")","v":""},{"$f":"IF('Level Spreader & HSB'!F115<>\"\",'Level Spreader & HSB'!F115,\"\")","v":""},null,null,null,null,null,"","","","","","",""]
[{"$f":"IF('Level Spreader & HSB'!A116<>\"\",'Level Spreader & HSB'!A116,\"\")","v":""},{"$f":"IF('Level Spreader & HSB'!H116<>\"\",'Level Spreader & HSB'!H116,\"\")","v":""},{"$f":"IF('Level Spreader & HSB'!B116<>\"\",'Level Spreader & HSB'!B116,\"\")","v":""},{"$f":"IF('Level Spreader & HSB'!C116<>\"\",'Level Spreader & HSB'!C116,\"\")","v":""},{"$f":"IF('Level Spreader & HSB'!D116<>\"\",'Level Spreader & HSB'!D116,\"\")","v":""},{"$f":"IF('Level Spreader & HSB'!E116<>\"\",'Level Spreader & HSB'!E116,\"\")","v":""},{"$f":"IF('Level Spreader & HSB'!F116<>\"\",'Level Spreader & HSB'!F116,\"\")","v":""},null,null,null,null,null,"","","","","","",""]
[{"$f":"IF('Level Spreader & HSB'!A117<>\"\",'Level Spreader & HSB'!A117,\"\")","v":""},{"$f":"IF('Level Spreader & HSB'!H117<>\"\",'Level Spreader & HSB'!H117,\"\")","v":""},{"$f":"IF('Level Spreader & HSB'!B117<>\"\",'Level Spreader & HSB'!B117,\"\")","v":""},{"$f":"IF('Level Spreader & HSB'!C117<>\"\",'Level Spreader & HSB'!C117,\"\")","v":""},{"$f":"IF('Level Spreader & HSB'!D117<>\"\",'Level Spreader & HSB'!D117,\"\")","v":""},{"$f":"IF('Level Spreader & HSB'!E117<>\"\",'Level Spreader & HSB'!E117,\"\")","v":""},{"$f":"IF('Level Spreader & HSB'!F117<>\"\",'Level Spreader & HSB'!F117,\"\")","v":""},null,null,null,null,null,"","","","","","",""]
[{"$f":"IF('Level Spreader & HSB'!A118<>\"\",'Level Spreader & HSB'!A118,\"\")","v":""},{"$f":"IF('Level Spreader & HSB'!H118<>\"\",'Level Spreader & HSB'!H118,\"\")","v":""},{"$f":"IF('Level Spreader & HSB'!B118<>\"\",'Level Spreader & HSB'!B118,\"\")","v":""},{"$f":"IF('Level Spreader & HSB'!C118<>\"\",'Level Spreader & HSB'!C118,\"\")","v":""},{"$f":"IF('Level Spreader & HSB'!D118<>\"\",'Level Spreader & HSB'!D118,\"\")","v":""},{"$f":"IF('Level Spreader & HSB'!E118<>\"\",'Level Spreader & HSB'!E118,\"\")","v":""},{"$f":"IF('Level Spreader & HSB'!F118<>\"\",'Level Spreader & HSB'!F118,\"\")","v":""},null,null,null,null,null,"","","","","","",""]
[{"$f":"IF('Level Spreader & HSB'!A119<>\"\",'Level Spreader & HSB'!A119,\"\")","v":""},{"$f":"IF('Level Spreader & HSB'!H119<>\"\",'Level Spreader & HSB'!H119,\"\")","v":""},{"$f":"IF('Level Spreader & HSB'!B119<>\"\",'Level Spreader & HSB'!B119,\"\")","v":""},{"$f":"IF('Level Spreader & HSB'!C119<>\"\",'Level Spreader & HSB'!C119,\"\")","v":""},{"$f":"IF('Level Spreader & HSB'!D119<>\"\",'Level Spreader & HSB'!D119,\"\")","v":""},{"$f":"IF('Level Spreader & HSB'!E119<>\"\",'Level Spreader & HSB'!E119,\"\")","v":""},{"$f":"IF('Level Spreader & HSB'!F119<>\"\",'Level Spreader & HSB'!F119,\"\")","v":""},null,null,null,null,null,"","","","","","",""]
[{"$f":"IF('Level Spreader & HSB'!A120<>\"\",'Level Spreader & HSB'!A120,\"\")","v":""},{"$f":"IF('Level Spreader & HSB'!H120<>\"\",'Level Spreader & HSB'!H120,\"\")","v":""},{"$f":"IF('Level Spreader & HSB'!B120<>\"\",'Level Spreader & HSB'!B120,\"\")","v":""},{"$f":"IF('Level Spreader & HSB'!C120<>\"\",'Level Spreader & HSB'!C120,\"\")","v":""},{"$f":"IF('Level Spreader & HSB'!D120<>\"\",'Level Spreader & HSB'!D120,\"\")","v":""},{"$f":"IF('Level Spreader & HSB'!E120<>\"\",'Level Spreader & HSB'!E120,\"\")","v":""},{"$f":"IF('Level Spreader & HSB'!F120<>\"\",'Level Spreader & HSB'!F120,\"\")","v":""},null,null,null,null,null,"","","","","","",""]
[{"$f":"IF('Level Spreader & HSB'!A121<>\"\",'Level Spreader & HSB'!A121,\"\")","v":""},{"$f":"IF('Level Spreader & HSB'!H121<>\"\",'Level Spreader & HSB'!H121,\"\")","v":""},{"$f":"IF('Level Spreader & HSB'!B121<>\"\",'Level Spreader & HSB'!B121,\"\")","v":""},{"$f":"IF('Level Spreader & HSB'!C121<>\"\",'Level Spreader & HSB'!C121,\"\")","v":""},{"$f":"IF('Level Spreader & HSB'!D121<>\"\",'Level Spreader & HSB'!D121,\"\")","v":""},{"$f":"IF('Level Spreader & HSB'!E121<>\"\",'Level Spreader & HSB'!E121,\"\")","v":""},{"$f":"IF('Level Spreader & HSB'!F121<>\"\",'Level Spreader & HSB'!F121,\"\")","v":""},null,null,null,null,null,"","","","","","",""]
[{"$f":"IF('Level Spreader & HSB'!A122<>\"\",'Level Spreader & HSB'!A122,\"\")","v":""},{"$f":"IF('Level Spreader & HSB'!H122<>\"\",'Level Spreader & HSB'!H122,\"\")","v":""},{"$f":"IF('Level Spreader & HSB'!B122<>\"\",'Level Spreader & HSB'!B122,\"\")","v":""},{"$f":"IF('Level Spreader & HSB'!C122<>\"\",'Level Spreader & HSB'!C122,\"\")","v":""},{"$f":"IF('Level Spreader & HSB'!D122<>\"\",'Level Spreader & HSB'!D122,\"\")","v":""},{"$f":"IF('Level Spreader & HSB'!E122<>\"\",'Level Spreader & HSB'!E122,\"\")","v":""},{"$f":"IF('Level Spreader & HSB'!F122<>\"\",'Level Spreader & HSB'!F122,\"\")","v":""},null,null,null,null,null,"","","","","","",""]
[{"$f":"IF('Level Spreader & HSB'!A138<>\"\",'Level Spreader & HSB'!A138,\"\")","v":""},{"$f":"IF('Level Spreader & HSB'!H138<>\"\",'Level Spreader & HSB'!H138,\"\")","v":""},{"$f":"IF('Level Spreader & HSB'!B138<>\"\",'Level Spreader & HSB'!B138,\"\")","v":""},{"$f":"IF('Level Spreader & HSB'!C138<>\"\",'Level Spreader & HSB'!C138,\"\")","v":""},{"$f":"IF('Level Spreader & HSB'!D138<>\"\",'Level Spreader & HSB'!D138,\"\")","v":""},{"$f":"IF('Level Spreader & HSB'!E138<>\"\",'Level Spreader & HSB'!E138,\"\")","v":""},{"$f":"IF('Level Spreader & HSB'!F138<>\"\",'Level Spreader & HSB'!F138,\"\")","v":""},null,null,null,null,null,"","","","","","",""]
[{"$f":"IF('Level Spreader & HSB'!A139<>\"\",'Level Spreader & HSB'!A139,\"\")","v":""},{"$f":"IF('Level Spreader & HSB'!H139<>\"\",'Level Spreader & HSB'!H139,\"\")","v":""},{"$f":"IF('Level Spreader & HSB'!B139<>\"\",'Level Spreader & HSB'!B139,\"\")","v":""},{"$f":"IF('Level Spreader & HSB'!C139<>\"\",'Level Spreader & HSB'!C139,\"\")","v":""},{"$f":"IF('Level Spreader & HSB'!D139<>\"\",'Level Spreader & HSB'!D139,\"\")","v":""},{"$f":"IF('Level Spreader & HSB'!E139<>\"\",'Level Spreader & HSB'!E139,\"\")","v":""},{"$f":"IF('Level Spreader & HSB'!F139<>\"\",'Level Spreader & HSB'!F139,\"\")","v":""},null,null,null,null,null,"","","","","","",""]
[{"$f":"IF('Level Spreader & HSB'!A140<>\"\",'Level Spreader & HSB'!A140,\"\")","v":""},{"$f":"IF('Level Spreader & HSB'!H140<>\"\",'Level Spreader & HSB'!H140,\"\")","v":""},{"$f":"IF('Level Spreader & HSB'!B140<>\"\",'Level Spreader & HSB'!B140,\"\")","v":""},{"$f":"IF('Level Spreader & HSB'!C140<>\"\",'Level Spreader & HSB'!C140,\"\")","v":""},{"$f":"IF('Level Spreader & HSB'!D140<>\"\",'Level Spreader & HSB'!D140,\"\")","v":""},{"$f":"IF('Level Spreader & HSB'!E140<>\"\",'Level Spreader & HSB'!E140,\"\")","v":""},{"$f":"IF('Level Spreader & HSB'!F140<>\"\",'Level Spreader & HSB'!F140,\"\")","v":""},null,null,null,null,null,"","","","","","",""]
[{"$f":"IF('Level Spreader & HSB'!A141<>\"\",'Level Spreader & HSB'!A141,\"\")","v":""},{"$f":"IF('Level Spreader & HSB'!H141<>\"\",'Level Spreader & HSB'!H141,\"\")","v":""},{"$f":"IF('Level Spreader & HSB'!B141<>\"\",'Level Spreader & HSB'!B141,\"\")","v":""},{"$f":"IF('Level Spreader & HSB'!C141<>\"\",'Level Spreader & HSB'!C141,\"\")","v":""},{"$f":"IF('Level Spreader & HSB'!D141<>\"\",'Level Spreader & HSB'!D141,\"\")","v":""},{"$f":"IF('Level Spreader & HSB'!E141<>\"\",'Level Spreader & HSB'!E141,\"\")","v":""},{"$f":"IF('Level Spreader & HSB'!F141<>\"\",'Level Spreader & HSB'!F141,\"\")","v":""},null,null,null,null,null,"","","","","","",""]
[{"$f":"IF('Level Spreader & HSB'!A142<>\"\",'Level Spreader & HSB'!A142,\"\")","v":""},{"$f":"IF('Level Spreader & HSB'!H142<>\"\",'Level Spreader & HSB'!H142,\"\")","v":""},{"$f":"IF('Level Spreader & HSB'!B142<>\"\",'Level Spreader & HSB'!B142,\"\")","v":""},{"$f":"IF('Level Spreader & HSB'!C142<>\"\",'Level Spreader & HSB'!C142,\"\")","v":""},{"$f":"IF('Level Spreader & HSB'!D142<>\"\",'Level Spreader & HSB'!D142,\"\")","v":""},{"$f":"IF('Level Spreader & HSB'!E142<>\"\",'Level Spreader & HSB'!E142,\"\")","v":""},{"$f":"IF('Level Spreader & HSB'!F142<>\"\",'Level Spreader & HSB'!F142,\"\")","v":""},null,null,null,null,null,"","","","","","",""]
[{"$f":"IF('Level Spreader & HSB'!A143<>\"\",'Level Spreader & HSB'!A143,\"\")","v":""},{"$f":"IF('Level Spreader & HSB'!H143<>\"\",'Level Spreader & HSB'!H143,\"\")","v":""},{"$f":"IF('Level Spreader & HSB'!B143<>\"\",'Level Spreader & HSB'!B143,\"\")","v":""},{"$f":"IF('Level Spreader & HSB'!C143<>\"\",'Level Spreader & HSB'!C143,\"\")","v":""},{"$f":"IF('Level Spreader & HSB'!D143<>\"\",'Level Spreader & HSB'!D143,\"\")","v":""},{"$f":"IF('Level Spreader & HSB'!E143<>\"\",'Level Spreader & HSB'!E143,\"\")","v":""},{"$f":"IF('Level Spreader & HSB'!F143<>\"\",'Level Spreader & HSB'!F143,\"\")","v":""},null,null,null,null,null,"","","","","","",""]
[{"$f":"IF('Level Spreader & HSB'!A144<>\"\",'Level Spreader & HSB'!A144,\"\")","v":""},{"$f":"IF('Level Spreader & HSB'!H144<>\"\",'Level Spreader & HSB'!H144,\"\")","v":""},{"$f":"IF('Level Spreader & HSB'!B144<>\"\",'Level Spreader & HSB'!B144,\"\")","v":""},{"$f":"IF('Level Spreader & HSB'!C144<>\"\",'Level Spreader & HSB'!C144,\"\")","v":""},{"$f":"IF('Level Spreader & HSB'!D144<>\"\",'Level Spreader & HSB'!D144,\"\")","v":""},{"$f":"IF('Level Spreader & HSB'!E144<>\"\",'Level Spreader & HSB'!E144,\"\")","v":""},{"$f":"IF('Level Spreader & HSB'!F144<>\"\",'Level Spreader & HSB'!F144,\"\")","v":""},null,null,null,null,null,"","","","","","",""]
[{"$f":"IF('Level Spreader & HSB'!A145<>\"\",'Level Spreader & HSB'!A145,\"\")","v":""},{"$f":"IF('Level Spreader & HSB'!H145<>\"\",'Level Spreader & HSB'!H145,\"\")","v":""},{"$f":"IF('Level Spreader & HSB'!B145<>\"\",'Level Spreader & HSB'!B145,\"\")","v":""},{"$f":"IF('Level Spreader & HSB'!C145<>\"\",'Level Spreader & HSB'!C145,\"\")","v":""},{"$f":"IF('Level Spreader & HSB'!D145<>\"\",'Level Spreader & HSB'!D145,\"\")","v":""},{"$f":"IF('Level Spreader & HSB'!E145<>\"\",'Level Spreader & HSB'!E145,\"\")","v":""},{"$f":"IF('Level Spreader & HSB'!F145<>\"\",'Level Spreader & HSB'!F145,\"\")","v":""},null,null,null,null,null,"","","","","","",""]
[{"$f":"IF('Level Spreader & HSB'!A146<>\"\",'Level Spreader & HSB'!A146,\"\")","v":""},{"$f":"IF('Level Spreader & HSB'!H146<>\"\",'Level Spreader & HSB'!H146,\"\")","v":""},{"$f":"IF('Level Spreader & HSB'!B146<>\"\",'Level Spreader & HSB'!B146,\"\")","v":""},{"$f":"IF('Level Spreader & HSB'!C146<>\"\",'Level Spreader & HSB'!C146,\"\")","v":""},{"$f":"IF('Level Spreader & HSB'!D146<>\"\",'Level Spreader & HSB'!D146,\"\")","v":""},{"$f":"IF('Level Spreader & HSB'!E146<>\"\",'Level Spreader & HSB'!E146,\"\")","v":""},{"$f":"IF('Level Spreader & HSB'!F146<>\"\",'Level Spreader & HSB'!F146,\"\")","v":""},null,null,null,null,null,"","","","","","",""]
[{"$f":"IF('Level Spreader & HSB'!A147<>\"\",'Level Spreader & HSB'!A147,\"\")","v":""},{"$f":"IF('Level Spreader & HSB'!H147<>\"\",'Level Spreader & HSB'!H147,\"\")","v":""},{"$f":"IF('Level Spreader & HSB'!B147<>\"\",'Level Spreader & HSB'!B147,\"\")","v":""},{"$f":"IF('Level Spreader & HSB'!C147<>\"\",'Level Spreader & HSB'!C147,\"\")","v":""},{"$f":"IF('Level Spreader & HSB'!D147<>\"\",'Level Spreader & HSB'!D147,\"\")","v":""},{"$f":"IF('Level Spreader & HSB'!E147<>\"\",'Level Spreader & HSB'!E147,\"\")","v":""},{"$f":"IF('Level Spreader & HSB'!F147<>\"\",'Level Spreader & HSB'!F147,\"\")","v":""},null,null,null,null,null,"","","","","","",""]
[{"$f":"IF('Level Spreader & HSB'!A148<>\"\",'Level Spreader & HSB'!A148,\"\")","v":""},{"$f":"IF('Level Spreader & HSB'!H148<>\"\",'Level Spreader & HSB'!H148,\"\")","v":""},{"$f":"IF('Level Spreader & HSB'!B148<>\"\",'Level Spreader & HSB'!B148,\"\")","v":""},{"$f":"IF('Level Spreader & HSB'!C148<>\"\",'Level Spreader & HSB'!C148,\"\")","v":""},{"$f":"IF('Level Spreader & HSB'!D148<>\"\",'Level Spreader & HSB'!D148,\"\")","v":""},{"$f":"IF('Level Spreader & HSB'!E148<>\"\",'Level Spreader & HSB'!E148,\"\")","v":""},{"$f":"IF('Level Spreader & HSB'!F148<>\"\",'Level Spreader & HSB'!F148,\"\")","v":""},null,null,null,null,null,"","","","","","",""]
[{"$f":"IF('Level Spreader & HSB'!A149<>\"\",'Level Spreader & HSB'!A149,\"\")","v":""},{"$f":"IF('Level Spreader & HSB'!H149<>\"\",'Level Spreader & HSB'!H149,\"\")","v":""},{"$f":"IF('Level Spreader & HSB'!B149<>\"\",'Level Spreader & HSB'!B149,\"\")","v":""},{"$f":"IF('Level Spreader & HSB'!C149<>\"\",'Level Spreader & HSB'!C149,\"\")","v":""},{"$f":"IF('Level Spreader & HSB'!D149<>\"\",'Level Spreader & HSB'!D149,\"\")","v":""},{"$f":"IF('Level Spreader & HSB'!E149<>\"\",'Level Spreader & HSB'!E149,\"\")","v":""},{"$f":"IF('Level Spreader & HSB'!F149<>\"\",'Level Spreader & HSB'!F149,\"\")","v":""},null,null,null,null,null,"","","","","","",""]
[{"$f":"IF('Level Spreader & HSB'!A150<>\"\",'Level Spreader & HSB'!A150,\"\")","v":""},{"$f":"IF('Level Spreader & HSB'!H150<>\"\",'Level Spreader & HSB'!H150,\"\")","v":""},{"$f":"IF('Level Spreader & HSB'!B150<>\"\",'Level Spreader & HSB'!B150,\"\")","v":""},{"$f":"IF('Level Spreader & HSB'!C150<>\"\",'Level Spreader & HSB'!C150,\"\")","v":""},{"$f":"IF('Level Spreader & HSB'!D150<>\"\",'Level Spreader & HSB'!D150,\"\")","v":""},{"$f":"IF('Level Spreader & HSB'!E150<>\"\",'Level Spreader & HSB'!E150,\"\")","v":""},{"$f":"IF('Level Spreader & HSB'!F150<>\"\",'Level Spreader & HSB'!F150,\"\")","v":""},null,null,null,null,null,"","","","","","",""]
[{"$f":"IF('Level Spreader & HSB'!A151<>\"\",'Level Spreader & HSB'!A151,\"\")","v":""},{"$f":"IF('Level Spreader & HSB'!H151<>\"\",'Level Spreader & HSB'!H151,\"\")","v":""},{"$f":"IF('Level Spreader & HSB'!B151<>\"\",'Level Spreader & HSB'!B151,\"\")","v":""},{"$f":"IF('Level Spreader & HSB'!C151<>\"\",'Level Spreader & HSB'!C151,\"\")","v":""},{"$f":"IF('Level Spreader & HSB'!D151<>\"\",'Level Spreader & HSB'!D151,\"\")","v":""},{"$f":"IF('Level Spreader & HSB'!E151<>\"\",'Level Spreader & HSB'!E151,\"\")","v":""},{"$f":"IF('Level Spreader & HSB'!F151<>\"\",'Level Spreader & HSB'!F151,\"\")","v":""},null,null,null,null,null,"","","","","","",""]
[{"$f":"IF('Level Spreader & HSB'!A152<>\"\",'Level Spreader & HSB'!A152,\"\")","v":""},{"$f":"IF('Level Spreader & HSB'!H152<>\"\",'Level Spreader & HSB'!H152,\"\")","v":""},{"$f":"IF('Level Spreader & HSB'!B152<>\"\",'Level Spreader & HSB'!B152,\"\")","v":""},{"$f":"IF('Level Spreader & HSB'!C152<>\"\",'Level Spreader & HSB'!C152,\"\")","v":""},{"$f":"IF('Level Spreader & HSB'!D152<>\"\",'Level Spreader & HSB'!D152,\"\")","v":""},{"$f":"IF('Level Spreader & HSB'!E152<>\"\",'Level Spreader & HSB'!E152,\"\")","v":""},{"$f":"IF('Level Spreader & HSB'!F152<>\"\",'Level Spreader & HSB'!F152,\"\")","v":""},null,null,null,null,null,"","","","","","",""]
[{"$f":"IF('Level Spreader & HSB'!A153<>\"\",'Level Spreader & HSB'!A153,\"\")","v":""},{"$f":"IF('Level Spreader & HSB'!H153<>\"\",'Level Spreader & HSB'!H153,\"\")","v":""},{"$f":"IF('Level Spreader & HSB'!B153<>\"\",'Level Spreader & HSB'!B153,\"\")","v":""},{"$f":"IF('Level Spreader & HSB'!C153<>\"\",'Level Spreader & HSB'!C153,\"\")","v":""},{"$f":"IF('Level Spreader & HSB'!D153<>\"\",'Level Spreader & HSB'!D153,\"\")","v":""},{"$f":"IF('Level Spreader & HSB'!E153<>\"\",'Level Spreader & HSB'!E153,\"\")","v":""},{"$f":"IF('Level Spreader & HSB'!F153<>\"\",'Level Spreader & HSB'!F153,\"\")","v":""},null,null,null,null,null,"","","","","","",""]
[{"$f":"IF('Level Spreader & HSB'!A154<>\"\",'Level Spreader & HSB'!A154,\"\")","v":""},{"$f":"IF('Level Spreader & HSB'!H154<>\"\",'Level Spreader & HSB'!H154,\"\")","v":""},{"$f":"IF('Level Spreader & HSB'!B154<>\"\",'Level Spreader & HSB'!B154,\"\")","v":""},{"$f":"IF('Level Spreader & HSB'!C154<>\"\",'Level Spreader & HSB'!C154,\"\")","v":""},{"$f":"IF('Level Spreader & HSB'!D154<>\"\",'Level Spreader & HSB'!D154,\"\")","v":""},{"$f":"IF('Level Spreader & HSB'!E154<>\"\",'Level Spreader & HSB'!E154,\"\")","v":""},{"$f":"IF('Level Spreader & HSB'!F154<>\"\",'Level Spreader & HSB'!F154,\"\")","v":""},null,null,null,null,null,"","","","","","",""]
[{"$f":"IF('Level Spreader & HSB'!A155<>\"\",'Level Spreader & HSB'!A155,\"\")","v":""},{"$f":"IF('Level Spreader & HSB'!H155<>\"\",'Level Spreader & HSB'!H155,\"\")","v":""},{"$f":"IF('Level Spreader & HSB'!B155<>\"\",'Level Spreader & HSB'!B155,\"\")","v":""},{"$f":"IF('Level Spreader & HSB'!C155<>\"\",'Level Spreader & HSB'!C155,\"\")","v":""},{"$f":"IF('Level Spreader & HSB'!D155<>\"\",'Level Spreader & HSB'!D155,\"\")","v":""},{"$f":"IF('Level Spreader & HSB'!E155<>\"\",'Level Spreader & HSB'!E155,\"\")","v":""},{"$f":"IF('Level Spreader & HSB'!F155<>\"\",'Level Spreader & HSB'!F155,\"\")","v":""},null,null,null,null,null,"","","","","","",""]
[{"$f":"IF('Level Spreader & HSB'!A156<>\"\",'Level Spreader & HSB'!A156,\"\")","v":""},{"$f":"IF('Level Spreader & HSB'!H156<>\"\",'Level Spreader & HSB'!H156,\"\")","v":""},{"$f":"IF('Level Spreader & HSB'!B156<>\"\",'Level Spreader & HSB'!B156,\"\")","v":""},{"$f":"IF('Level Spreader & HSB'!C156<>\"\",'Level Spreader & HSB'!C156,\"\")","v":""},{"$f":"IF('Level Spreader & HSB'!D156<>\"\",'Level Spreader & HSB'!D156,\"\")","v":""},{"$f":"IF('Level Spreader & HSB'!E156<>\"\",'Level Spreader & HSB'!E156,\"\")","v":""},{"$f":"IF('Level Spreader & HSB'!F156<>\"\",'Level Spreader & HSB'!F156,\"\")","v":""},null,null,null,null,null,"","","","","","",""]
[{"$f":"IF('Level Spreader & HSB'!A157<>\"\",'Level Spreader & HSB'!A157,\"\")","v":""},{"$f":"IF('Level Spreader & HSB'!H157<>\"\",'Level Spreader & HSB'!H157,\"\")","v":""},{"$f":"IF('Level Spreader & HSB'!B157<>\"\",'Level Spreader & HSB'!B157,\"\")","v":""},{"$f":"IF('Level Spreader & HSB'!C157<>\"\",'Level Spreader & HSB'!C157,\"\")","v":""},{"$f":"IF('Level Spreader & HSB'!D157<>\"\",'Level Spreader & HSB'!D157,\"\")","v":""},{"$f":"IF('Level Spreader & HSB'!E157<>\"\",'Level Spreader & HSB'!E157,\"\")","v":""},{"$f":"IF('Level Spreader & HSB'!F157<>\"\",'Level Spreader & HSB'!F157,\"\")","v":""},null,null,null,null,null,"","","","","","",""]
[{"$f":"IF('Level Spreader & HSB'!A158<>\"\",'Level Spreader & HSB'!A158,\"\")","v":""},{"$f":"IF('Level Spreader & HSB'!H158<>\"\",'Level Spreader & HSB'!H158,\"\")","v":""},{"$f":"IF('Level Spreader & HSB'!B158<>\"\",'Level Spreader & HSB'!B158,\"\")","v":""},{"$f":"IF('Level Spreader & HSB'!C158<>\"\",'Level Spreader & HSB'!C158,\"\")","v":""},{"$f":"IF('Level Spreader & HSB'!D158<>\"\",'Level Spreader & HSB'!D158,\"\")","v":""},{"$f":"IF('Level Spreader & HSB'!E158<>\"\",'Level Spreader & HSB'!E158,\"\")","v":""},{"$f":"IF('Level Spreader & HSB'!F158<>\"\",'Level Spreader & HSB'!F158,\"\")","v":""},null,null,null,null,null,"","","","","","",""]
[{"$f":"IF('Level Spreader & HSB'!A159<>\"\",'Level Spreader & HSB'!A159,\"\")","v":""},{"$f":"IF('Level Spreader & HSB'!H159<>\"\",'Level Spreader & HSB'!H159,\"\")","v":""},{"$f":"IF('Level Spreader & HSB'!B159<>\"\",'Level Spreader & HSB'!B159,\"\")","v":""},{"$f":"IF('Level Spreader & HSB'!C159<>\"\",'Level Spreader & HSB'!C159,\"\")","v":""},{"$f":"IF('Level Spreader & HSB'!D159<>\"\",'Level Spreader & HSB'!D159,\"\")","v":""},{"$f":"IF('Level Spreader & HSB'!E159<>\"\",'Level Spreader & HSB'!E159,\"\")","v":""},{"$f":"IF('Level Spreader & HSB'!F159<>\"\",'Level Spreader & HSB'!F159,\"\")","v":""},null,null,null,null,null,"","","","","","",""]
[{"$f":"IF('Level Spreader & HSB'!A160<>\"\",'Level Spreader & HSB'!A160,\"\")","v":""},{"$f":"IF('Level Spreader & HSB'!H160<>\"\",'Level Spreader & HSB'!H160,\"\")","v":""},{"$f":"IF('Level Spreader & HSB'!B160<>\"\",'Level Spreader & HSB'!B160,\"\")","v":""},{"$f":"IF('Level Spreader & HSB'!C160<>\"\",'Level Spreader & HSB'!C160,\"\")","v":""},{"$f":"IF('Level Spreader & HSB'!D160<>\"\",'Level Spreader & HSB'!D160,\"\")","v":""},{"$f":"IF('Level Spreader & HSB'!E160<>\"\",'Level Spreader & HSB'!E160,\"\")","v":""},{"$f":"IF('Level Spreader & HSB'!F160<>\"\",'Level Spreader & HSB'!F160,\"\")","v":""},null,null,null,null,null,"","","","","","",""]
[{"$f":"IF('Level Spreader & HSB'!A161<>\"\",'Level Spreader & HSB'!A161,\"\")","v":""},{"$f":"IF('Level Spreader & HSB'!H161<>\"\",'Level Spreader & HSB'!H161,\"\")","v":""},{"$f":"IF('Level Spreader & HSB'!B161<>\"\",'Level Spreader & HSB'!B161,\"\")","v":""},{"$f":"IF('Level Spreader & HSB'!C161<>\"\",'Level Spreader & HSB'!C161,\"\")","v":""},{"$f":"IF('Level Spreader & HSB'!D161<>\"\",'Level Spreader & HSB'!D161,\"\")","v":""},{"$f":"IF('Level Spreader & HSB'!E161<>\"\",'Level Spreader & HSB'!E161,\"\")","v":""},{"$f":"IF('Level Spreader & HSB'!F161<>\"\",'Level Spreader & HSB'!F161,\"\")","v":""},null,null,null,null,null,"","","","","","",""]
[{"$f":"IF('Level Spreader & HSB'!A162<>\"\",'Level Spreader & HSB'!A162,\"\")","v":""},{"$f":"IF('Level Spreader & HSB'!H162<>\"\",'Level Spreader & HSB'!H162,\"\")","v":""},{"$f":"IF('Level Spreader & HSB'!B162<>\"\",'Level Spreader & HSB'!B162,\"\")","v":""},{"$f":"IF('Level Spreader & HSB'!C162<>\"\",'Level Spreader & HSB'!C162,\"\")","v":""},{"$f":"IF('Level Spreader & HSB'!D162<>\"\",'Level Spreader & HSB'!D162,\"\")","v":""},{"$f":"IF('Level Spreader & HSB'!E162<>\"\",'Level Spreader & HSB'!E162,\"\")","v":""},{"$f":"IF('Level Spreader & HSB'!F162<>\"\",'Level Spreader & HSB'!F162,\"\")","v":""},null,null,null,null,null,"","","","","","",""]
[{"$f":"IF('Level Spreader & HSB'!A163<>\"\",'Level Spreader & HSB'!A163,\"\")","v":""},{"$f":"IF('Level Spreader & HSB'!H163<>\"\",'Level Spreader & HSB'!H163,\"\")","v":""},{"$f":"IF('Level Spreader & HSB'!B163<>\"\",'Level Spreader & HSB'!B163,\"\")","v":""},{"$f":"IF('Level Spreader & HSB'!C163<>\"\",'Level Spreader & HSB'!C163,\"\")","v":""},{"$f":"IF('Level Spreader & HSB'!D163<>\"\",'Level Spreader & HSB'!D163,\"\")","v":""},{"$f":"IF('Level Spreader & HSB'!E163<>\"\",'Level Spreader & HSB'!E163,\"\")","v":""},{"$f":"IF('Level Spreader & HSB'!F163<>\"\",'Level Spreader & HSB'!F163,\"\")","v":""},null,null,null,null,null,"","","","","","",""]
[{"$f":"IF('Level Spreader & HSB'!A164<>\"\",'Level Spreader & HSB'!A164,\"\")","v":""},{"$f":"IF('Level Spreader & HSB'!H164<>\"\",'Level Spreader & HSB'!H164,\"\")","v":""},{"$f":"IF('Level Spreader & HSB'!B164<>\"\",'Level Spreader & HSB'!B164,\"\")","v":""},{"$f":"IF('Level Spreader & HSB'!C164<>\"\",'Level Spreader & HSB'!C164,\"\")","v":""},{"$f":"IF('Level Spreader & HSB'!D164<>\"\",'Level Spreader & HSB'!D164,\"\")","v":""},{"$f":"IF('Level Spreader & HSB'!E164<>\"\",'Level Spreader & HSB'!E164,\"\")","v":""},{"$f":"IF('Level Spreader & HSB'!F164<>\"\",'Level Spreader & HSB'!F164,\"\")","v":""},null,null,null,null,null,"","","","","","",""]
[{"$f":"IF('Level Spreader & HSB'!A165<>\"\",'Level Spreader & HSB'!A165,\"\")","v":""},{"$f":"IF('Level Spreader & HSB'!H165<>\"\",'Level Spreader & HSB'!H165,\"\")","v":""},{"$f":"IF('Level Spreader & HSB'!B165<>\"\",'Level Spreader & HSB'!B165,\"\")","v":""},{"$f":"IF('Level Spreader & HSB'!C165<>\"\",'Level Spreader & HSB'!C165,\"\")","v":""},{"$f":"IF('Level Spreader & HSB'!D165<>\"\",'Level Spreader & HSB'!D165,\"\")","v":""},{"$f":"IF('Level Spreader & HSB'!E165<>\"\",'Level Spreader & HSB'!E165,\"\")","v":""},{"$f":"IF('Level Spreader & HSB'!F165<>\"\",'Level Spreader & HSB'!F165,\"\")","v":""},null,null,null,null,null,"","","","","","",""]
[{"$f":"IF('Level Spreader & HSB'!A166<>\"\",'Level Spreader & HSB'!A166,\"\")","v":""},{"$f":"IF('Level Spreader & HSB'!H166<>\"\",'Level Spreader & HSB'!H166,\"\")","v":""},{"$f":"IF('Level Spreader & HSB'!B166<>\"\",'Level Spreader & HSB'!B166,\"\")","v":""},{"$f":"IF('Level Spreader & HSB'!C166<>\"\",'Level Spreader & HSB'!C166,\"\")","v":""},{"$f":"IF('Level Spreader & HSB'!D166<>\"\",'Level Spreader & HSB'!D166,\"\")","v":""},{"$f":"IF('Level Spreader & HSB'!E166<>\"\",'Level Spreader & HSB'!E166,\"\")","v":""},{"$f":"IF('Level Spreader & HSB'!F166<>\"\",'Level Spreader & HSB'!F166,\"\")","v":""},null,null,null,null,null,"","","","","","",""]
[{"$f":"IF('Level Spreader & HSB'!A167<>\"\",'Level Spreader & HSB'!A167,\"\")","v":""},{"$f":"IF('Level Spreader & HSB'!H167<>\"\",'Level Spreader & HSB'!H167,\"\")","v":""},{"$f":"IF('Level Spreader & HSB'!B167<>\"\",'Level Spreader & HSB'!B167,\"\")","v":""},{"$f":"IF('Level Spreader & HSB'!C167<>\"\",'Level Spreader & HSB'!C167,\"\")","v":""},{"$f":"IF('Level Spreader & HSB'!D167<>\"\",'Level Spreader & HSB'!D167,\"\")","v":""},{"$f":"IF('Level Spreader & HSB'!E167<>\"\",'Level Spreader & HSB'!E167,\"\")","v":""},{"$f":"IF('Level Spreader & HSB'!F167<>\"\",'Level Spreader & HSB'!F167,\"\")","v":""},null,null,null,null,null,"","","","","","",""]
[{"$f":"IF('Level Spreader & HSB'!A168<>\"\",'Level Spreader & HSB'!A168,\"\")","v":""},{"$f":"IF('Level Spreader & HSB'!H168<>\"\",'Level Spreader & HSB'!H168,\"\")","v":""},{"$f":"IF('Level Spreader & HSB'!B168<>\"\",'Level Spreader & HSB'!B168,\"\")","v":""},{"$f":"IF('Level Spreader & HSB'!C168<>\"\",'Level Spreader & HSB'!C168,\"\")","v":""},{"$f":"IF('Level Spreader & HSB'!D168<>\"\",'Level Spreader & HSB'!D168,\"\")","v":""},{"$f":"IF('Level Spreader & HSB'!E168<>\"\",'Level Spreader & HSB'!E168,\"\")","v":""},{"$f":"IF('Level Spreader & HSB'!F168<>\"\",'Level Spreader & HSB'!F168,\"\")","v":""},null,null,null,null,null,"","","","","","",""]
[{"$f":"IF('Level Spreader & HSB'!A169<>\"\",'Level Spreader & HSB'!A169,\"\")","v":""},{"$f":"IF('Level Spreader & HSB'!H169<>\"\",'Level Spreader & HSB'!H169,\"\")","v":""},{"$f":"IF('Level Spreader & HSB'!B169<>\"\",'Level Spreader & HSB'!B169,\"\")","v":""},{"$f":"IF('Level Spreader & HSB'!C169<>\"\",'Level Spreader & HSB'!C169,\"\")","v":""},{"$f":"IF('Level Spreader & HSB'!D169<>\"\",'Level Spreader & HSB'!D169,\"\")","v":""},{"$f":"IF('Level Spreader & HSB'!E169<>\"\",'Level Spreader & HSB'!E169,\"\")","v":""},{"$f":"IF('Level Spreader & HSB'!F169<>\"\",'Level Spreader & HSB'!F169,\"\")","v":""},null,null,null,null,null,"","","","","","",""]
[{"$f":"IF('Level Spreader & HSB'!A170<>\"\",'Level Spreader & HSB'!A170,\"\")","v":""},{"$f":"IF('Level Spreader & HSB'!H170<>\"\",'Level Spreader & HSB'!H170,\"\")","v":""},{"$f":"IF('Level Spreader & HSB'!B170<>\"\",'Level Spreader & HSB'!B170,\"\")","v":""},{"$f":"IF('Level Spreader & HSB'!C170<>\"\",'Level Spreader & HSB'!C170,\"\")","v":""},{"$f":"IF('Level Spreader & HSB'!D170<>\"\",'Level Spreader & HSB'!D170,\"\")","v":""},{"$f":"IF('Level Spreader & HSB'!E170<>\"\",'Level Spreader & HSB'!E170,\"\")","v":""},{"$f":"IF('Level Spreader & HSB'!F170<>\"\",'Level Spreader & HSB'!F170,\"\")","v":""},null,null,null,null,null,"","","","","","",""]
[{"$f":"IF('Level Spreader & HSB'!A171<>\"\",'Level Spreader & HSB'!A171,\"\")","v":""},{"$f":"IF('Level Spreader & HSB'!H171<>\"\",'Level Spreader & HSB'!H171,\"\")","v":""},{"$f":"IF('Level Spreader & HSB'!B171<>\"\",'Level Spreader & HSB'!B171,\"\")","v":""},{"$f":"IF('Level Spreader & HSB'!C171<>\"\",'Level Spreader & HSB'!C171,\"\")","v":""},{"$f":"IF('Level Spreader & HSB'!D171<>\"\",'Level Spreader & HSB'!D171,\"\")","v":""},{"$f":"IF('Level Spreader & HSB'!E171<>\"\",'Level Spreader & HSB'!E171,\"\")","v":""},{"$f":"IF('Level Spreader & HSB'!F171<>\"\",'Level Spreader & HSB'!F171,\"\")","v":""},null,null,null,null,null,"","","","","","",""]
[{"$f":"IF('Level Spreader & HSB'!A172<>\"\",'Level Spreader & HSB'!A172,\"\")","v":""},{"$f":"IF('Level Spreader & HSB'!H172<>\"\",'Level Spreader & HSB'!H172,\"\")","v":""},{"$f":"IF('Level Spreader & HSB'!B172<>\"\",'Level Spreader & HSB'!B172,\"\")","v":""},{"$f":"IF('Level Spreader & HSB'!C172<>\"\",'Level Spreader & HSB'!C172,\"\")","v":""},{"$f":"IF('Level Spreader & HSB'!D172<>\"\",'Level Spreader & HSB'!D172,\"\")","v":""},{"$f":"IF('Level Spreader & HSB'!E172<>\"\",'Level Spreader & HSB'!E172,\"\")","v":""},{"$f":"IF('Level Spreader & HSB'!F172<>\"\",'Level Spreader & HSB'!F172,\"\")","v":""},null,null,null,null,null,"","","","","","",""]
[{"$f":"IF('Level Spreader & HSB'!A173<>\"\",'Level Spreader & HSB'!A173,\"\")","v":""},{"$f":"IF('Level Spreader & HSB'!H173<>\"\",'Level Spreader & HSB'!H173,\"\")","v":""},{"$f":"IF('Level Spreader & HSB'!B173<>\"\",'Level Spreader & HSB'!B173,\"\")","v":""},{"$f":"IF('Level Spreader & HSB'!C173<>\"\",'Level Spreader & HSB'!C173,\"\")","v":""},{"$f":"IF('Level Spreader & HSB'!D173<>\"\",'Level Spreader & HSB'!D173,\"\")","v":""},{"$f":"IF('Level Spreader & HSB'!E173<>\"\",'Level Spreader & HSB'!E173,\"\")","v":""},{"$f":"IF('Level Spreader & HSB'!F173<>\"\",'Level Spreader & HSB'!F173,\"\")","v":""},null,null,null,null,null,"","","","","","",""]
[{"$f":"IF('Other Toolbox BMPs'!A76<>\"\",'Other Toolbox BMPs'!A76,\"\")","v":""},{"$f":"IF('Other Toolbox BMPs'!H76<>\"\",'Other Toolbox BMPs'!H76,\"\")","v":""},{"$f":"IF('Other Toolbox BMPs'!B76<>\"\",'Other Toolbox BMPs'!B76,\"\")","v":""},{"$f":"IF('Other Toolbox BMPs'!C76<>\"\",'Other Toolbox BMPs'!C76,\"\")","v":""},{"$f":"IF('Other Toolbox BMPs'!D76<>\"\",'Other Toolbox BMPs'!D76,\"\")","v":""},{"$f":"IF('Other Toolbox BMPs'!E76<>\"\",'Other Toolbox BMPs'!E76,\"\")","v":""},{"$f":"IF('Other Toolbox BMPs'!F76<>\"\",'Other Toolbox BMPs'!F76,\"\")","v":""},null,null,null,null,null,"","","","","","",""]
[{"$f":"IF('Other Toolbox BMPs'!A77<>\"\",'Other Toolbox BMPs'!A77,\"\")","v":""},{"$f":"IF('Other Toolbox BMPs'!H77<>\"\",'Other Toolbox BMPs'!H77,\"\")","v":""},{"$f":"IF('Other Toolbox BMPs'!B77<>\"\",'Other Toolbox BMPs'!B77,\"\")","v":""},{"$f":"IF('Other Toolbox BMPs'!C77<>\"\",'Other Toolbox BMPs'!C77,\"\")","v":""},{"$f":"IF('Other Toolbox BMPs'!D77<>\"\",'Other Toolbox BMPs'!D77,\"\")","v":""},{"$f":"IF('Other Toolbox BMPs'!E77<>\"\",'Other Toolbox BMPs'!E77,\"\")","v":""},{"$f":"IF('Other Toolbox BMPs'!F77<>\"\",'Other Toolbox BMPs'!F77,\"\")","v":""},null,null,null,null,null,"","","","","","",""]
[{"$f":"IF('Other Toolbox BMPs'!A78<>\"\",'Other Toolbox BMPs'!A78,\"\")","v":""},{"$f":"IF('Other Toolbox BMPs'!H78<>\"\",'Other Toolbox BMPs'!H78,\"\")","v":""},{"$f":"IF('Other Toolbox BMPs'!B78<>\"\",'Other Toolbox BMPs'!B78,\"\")","v":""},{"$f":"IF('Other Toolbox BMPs'!C78<>\"\",'Other Toolbox BMPs'!C78,\"\")","v":""},{"$f":"IF('Other Toolbox BMPs'!D78<>\"\",'Other Toolbox BMPs'!D78,\"\")","v":""},{"$f":"IF('Other Toolbox BMPs'!E78<>\"\",'Other Toolbox BMPs'!E78,\"\")","v":""},{"$f":"IF('Other Toolbox BMPs'!F78<>\"\",'Other Toolbox BMPs'!F78,\"\")","v":""},null,null,null,null,null,"","","","","","",""]
[{"$f":"IF('Other Toolbox BMPs'!A79<>\"\",'Other Toolbox BMPs'!A79,\"\")","v":""},{"$f":"IF('Other Toolbox BMPs'!H79<>\"\",'Other Toolbox BMPs'!H79,\"\")","v":""},{"$f":"IF('Other Toolbox BMPs'!B79<>\"\",'Other Toolbox BMPs'!B79,\"\")","v":""},{"$f":"IF('Other Toolbox BMPs'!C79<>\"\",'Other Toolbox BMPs'!C79,\"\")","v":""},{"$f":"IF('Other Toolbox BMPs'!D79<>\"\",'Other Toolbox BMPs'!D79,\"\")","v":""},{"$f":"IF('Other Toolbox BMPs'!E79<>\"\",'Other Toolbox BMPs'!E79,\"\")","v":""},{"$f":"IF('Other Toolbox BMPs'!F79<>\"\",'Other Toolbox BMPs'!F79,\"\")","v":""},null,null,null,null,null,"","","","","","",""]
[{"$f":"IF('Other Toolbox BMPs'!A80<>\"\",'Other Toolbox BMPs'!A80,\"\")","v":""},{"$f":"IF('Other Toolbox BMPs'!H80<>\"\",'Other Toolbox BMPs'!H80,\"\")","v":""},{"$f":"IF('Other Toolbox BMPs'!B80<>\"\",'Other Toolbox BMPs'!B80,\"\")","v":""},{"$f":"IF('Other Toolbox BMPs'!C80<>\"\",'Other Toolbox BMPs'!C80,\"\")","v":""},{"$f":"IF('Other Toolbox BMPs'!D80<>\"\",'Other Toolbox BMPs'!D80,\"\")","v":""},{"$f":"IF('Other Toolbox BMPs'!E80<>\"\",'Other Toolbox BMPs'!E80,\"\")","v":""},{"$f":"IF('Other Toolbox BMPs'!F80<>\"\",'Other Toolbox BMPs'!F80,\"\")","v":""},null,null,null,null,null,"","","","","","",""]
[{"$f":"IF('Other Toolbox BMPs'!A81<>\"\",'Other Toolbox BMPs'!A81,\"\")","v":""},{"$f":"IF('Other Toolbox BMPs'!H81<>\"\",'Other Toolbox BMPs'!H81,\"\")","v":""},{"$f":"IF('Other Toolbox BMPs'!B81<>\"\",'Other Toolbox BMPs'!B81,\"\")","v":""},{"$f":"IF('Other Toolbox BMPs'!C81<>\"\",'Other Toolbox BMPs'!C81,\"\")","v":""},{"$f":"IF('Other Toolbox BMPs'!D81<>\"\",'Other Toolbox BMPs'!D81,\"\")","v":""},{"$f":"IF('Other Toolbox BMPs'!E81<>\"\",'Other Toolbox BMPs'!E81,\"\")","v":""},{"$f":"IF('Other Toolbox BMPs'!F81<>\"\",'Other Toolbox BMPs'!F81,\"\")","v":""},null,null,null,null,null,"","","","","","",""]
[{"$f":"IF('Other Toolbox BMPs'!A82<>\"\",'Other Toolbox BMPs'!A82,\"\")","v":""},{"$f":"IF('Other Toolbox BMPs'!H82<>\"\",'Other Toolbox BMPs'!H82,\"\")","v":""},{"$f":"IF('Other Toolbox BMPs'!B82<>\"\",'Other Toolbox BMPs'!B82,\"\")","v":""},{"$f":"IF('Other Toolbox BMPs'!C82<>\"\",'Other Toolbox BMPs'!C82,\"\")","v":""},{"$f":"IF('Other Toolbox BMPs'!D82<>\"\",'Other Toolbox BMPs'!D82,\"\")","v":""},{"$f":"IF('Other Toolbox BMPs'!E82<>\"\",'Other Toolbox BMPs'!E82,\"\")","v":""},{"$f":"IF('Other Toolbox BMPs'!F82<>\"\",'Other Toolbox BMPs'!F82,\"\")","v":""},null,null,null,null,null,"","","","","","",""]
[{"$f":"IF('Other Toolbox BMPs'!A83<>\"\",'Other Toolbox BMPs'!A83,\"\")","v":""},{"$f":"IF('Other Toolbox BMPs'!H83<>\"\",'Other Toolbox BMPs'!H83,\"\")","v":""},{"$f":"IF('Other Toolbox BMPs'!B83<>\"\",'Other Toolbox BMPs'!B83,\"\")","v":""},{"$f":"IF('Other Toolbox BMPs'!C83<>\"\",'Other Toolbox BMPs'!C83,\"\")","v":""},{"$f":"IF('Other Toolbox BMPs'!D83<>\"\",'Other Toolbox BMPs'!D83,\"\")","v":""},{"$f":"IF('Other Toolbox BMPs'!E83<>\"\",'Other Toolbox BMPs'!E83,\"\")","v":""},{"$f":"IF('Other Toolbox BMPs'!F83<>\"\",'Other Toolbox BMPs'!F83,\"\")","v":""},null,null,null,null,null,"","","","","","",""]
[{"$f":"IF('Other Toolbox BMPs'!A84<>\"\",'Other Toolbox BMPs'!A84,\"\")","v":""},{"$f":"IF('Other Toolbox BMPs'!H84<>\"\",'Other Toolbox BMPs'!H84,\"\")","v":""},{"$f":"IF('Other Toolbox BMPs'!B84<>\"\",'Other Toolbox BMPs'!B84,\"\")","v":""},{"$f":"IF('Other Toolbox BMPs'!C84<>\"\",'Other Toolbox BMPs'!C84,\"\")","v":""},{"$f":"IF('Other Toolbox BMPs'!D84<>\"\",'Other Toolbox BMPs'!D84,\"\")","v":""},{"$f":"IF('Other Toolbox BMPs'!E84<>\"\",'Other Toolbox BMPs'!E84,\"\")","v":""},{"$f":"IF('Other Toolbox BMPs'!F84<>\"\",'Other Toolbox BMPs'!F84,\"\")","v":""},null,null,null,null,null,"","","","","","",""]
[{"$f":"IF('Other Toolbox BMPs'!A85<>\"\",'Other Toolbox BMPs'!A85,\"\")","v":""},{"$f":"IF('Other Toolbox BMPs'!H85<>\"\",'Other Toolbox BMPs'!H85,\"\")","v":""},{"$f":"IF('Other Toolbox BMPs'!B85<>\"\",'Other Toolbox BMPs'!B85,\"\")","v":""},{"$f":"IF('Other Toolbox BMPs'!C85<>\"\",'Other Toolbox BMPs'!C85,\"\")","v":""},{"$f":"IF('Other Toolbox BMPs'!D85<>\"\",'Other Toolbox BMPs'!D85,\"\")","v":""},{"$f":"IF('Other Toolbox BMPs'!E85<>\"\",'Other Toolbox BMPs'!E85,\"\")","v":""},{"$f":"IF('Other Toolbox BMPs'!F85<>\"\",'Other Toolbox BMPs'!F85,\"\")","v":""},null,null,null,null,null,"","","","","","",""]
[{"$f":"IF('Other Toolbox BMPs'!A86<>\"\",'Other Toolbox BMPs'!A86,\"\")","v":""},{"$f":"IF('Other Toolbox BMPs'!H86<>\"\",'Other Toolbox BMPs'!H86,\"\")","v":""},{"$f":"IF('Other Toolbox BMPs'!B86<>\"\",'Other Toolbox BMPs'!B86,\"\")","v":""},{"$f":"IF('Other Toolbox BMPs'!C86<>\"\",'Other Toolbox BMPs'!C86,\"\")","v":""},{"$f":"IF('Other Toolbox BMPs'!D86<>\"\",'Other Toolbox BMPs'!D86,\"\")","v":""},{"$f":"IF('Other Toolbox BMPs'!E86<>\"\",'Other Toolbox BMPs'!E86,\"\")","v":""},{"$f":"IF('Other Toolbox BMPs'!F86<>\"\",'Other Toolbox BMPs'!F86,\"\")","v":""},null,null,null,null,null,"","","","","","",""]
[{"$f":"IF('Other Toolbox BMPs'!A87<>\"\",'Other Toolbox BMPs'!A87,\"\")","v":""},{"$f":"IF('Other Toolbox BMPs'!H87<>\"\",'Other Toolbox BMPs'!H87,\"\")","v":""},{"$f":"IF('Other Toolbox BMPs'!B87<>\"\",'Other Toolbox BMPs'!B87,\"\")","v":""},{"$f":"IF('Other Toolbox BMPs'!C87<>\"\",'Other Toolbox BMPs'!C87,\"\")","v":""},{"$f":"IF('Other Toolbox BMPs'!D87<>\"\",'Other Toolbox BMPs'!D87,\"\")","v":""},{"$f":"IF('Other Toolbox BMPs'!E87<>\"\",'Other Toolbox BMPs'!E87,\"\")","v":""},{"$f":"IF('Other Toolbox BMPs'!F87<>\"\",'Other Toolbox BMPs'!F87,\"\")","v":""},null,null,null,null,null,"","","","","","",""]
[{"$f":"IF('Other Toolbox BMPs'!A88<>\"\",'Other Toolbox BMPs'!A88,\"\")","v":""},{"$f":"IF('Other Toolbox BMPs'!H88<>\"\",'Other Toolbox BMPs'!H88,\"\")","v":""},{"$f":"IF('Other Toolbox BMPs'!B88<>\"\",'Other Toolbox BMPs'!B88,\"\")","v":""},{"$f":"IF('Other Toolbox BMPs'!C88<>\"\",'Other Toolbox BMPs'!C88,\"\")","v":""},{"$f":"IF('Other Toolbox BMPs'!D88<>\"\",'Other Toolbox BMPs'!D88,\"\")","v":""},{"$f":"IF('Other Toolbox BMPs'!E88<>\"\",'Other Toolbox BMPs'!E88,\"\")","v":""},{"$f":"IF('Other Toolbox BMPs'!F88<>\"\",'Other Toolbox BMPs'!F88,\"\")","v":""},null,null,null,null,null,"","","","","","",""]
[{"$f":"IF('Other Toolbox BMPs'!A89<>\"\",'Other Toolbox BMPs'!A89,\"\")","v":""},{"$f":"IF('Other Toolbox BMPs'!H89<>\"\",'Other Toolbox BMPs'!H89,\"\")","v":""},{"$f":"IF('Other Toolbox BMPs'!B89<>\"\",'Other Toolbox BMPs'!B89,\"\")","v":""},{"$f":"IF('Other Toolbox BMPs'!C89<>\"\",'Other Toolbox BMPs'!C89,\"\")","v":""},{"$f":"IF('Other Toolbox BMPs'!D89<>\"\",'Other Toolbox BMPs'!D89,\"\")","v":""},{"$f":"IF('Other Toolbox BMPs'!E89<>\"\",'Other Toolbox BMPs'!E89,\"\")","v":""},{"$f":"IF('Other Toolbox BMPs'!F89<>\"\",'Other Toolbox BMPs'!F89,\"\")","v":""},null,null,null,null,null,"","","","","","",""]
[{"$f":"IF('Other Toolbox BMPs'!A90<>\"\",'Other Toolbox BMPs'!A90,\"\")","v":""},{"$f":"IF('Other Toolbox BMPs'!H90<>\"\",'Other Toolbox BMPs'!H90,\"\")","v":""},{"$f":"IF('Other Toolbox BMPs'!B90<>\"\",'Other Toolbox BMPs'!B90,\"\")","v":""},{"$f":"IF('Other Toolbox BMPs'!C90<>\"\",'Other Toolbox BMPs'!C90,\"\")","v":""},{"$f":"IF('Other Toolbox BMPs'!D90<>\"\",'Other Toolbox BMPs'!D90,\"\")","v":""},{"$f":"IF('Other Toolbox BMPs'!E90<>\"\",'Other Toolbox BMPs'!E90,\"\")","v":""},{"$f":"IF('Other Toolbox BMPs'!F90<>\"\",'Other Toolbox BMPs'!F90,\"\")","v":""},null,null,null,null,null,"","","","","","",""]
[{"$f":"IF('Other Toolbox BMPs'!A91<>\"\",'Other Toolbox BMPs'!A91,\"\")","v":""},{"$f":"IF('Other Toolbox BMPs'!H91<>\"\",'Other Toolbox BMPs'!H91,\"\")","v":""},{"$f":"IF('Other Toolbox BMPs'!B91<>\"\",'Other Toolbox BMPs'!B91,\"\")","v":""},{"$f":"IF('Other Toolbox BMPs'!C91<>\"\",'Other Toolbox BMPs'!C91,\"\")","v":""},{"$f":"IF('Other Toolbox BMPs'!D91<>\"\",'Other Toolbox BMPs'!D91,\"\")","v":""},{"$f":"IF('Other Toolbox BMPs'!E91<>\"\",'Other Toolbox BMPs'!E91,\"\")","v":""},{"$f":"IF('Other Toolbox BMPs'!F91<>\"\",'Other Toolbox BMPs'!F91,\"\")","v":""},null,null,null,null,null,"","","","","","",""]
[{"$f":"IF('Other Toolbox BMPs'!A92<>\"\",'Other Toolbox BMPs'!A92,\"\")","v":""},{"$f":"IF('Other Toolbox BMPs'!H92<>\"\",'Other Toolbox BMPs'!H92,\"\")","v":""},{"$f":"IF('Other Toolbox BMPs'!B92<>\"\",'Other Toolbox BMPs'!B92,\"\")","v":""},{"$f":"IF('Other Toolbox BMPs'!C92<>\"\",'Other Toolbox BMPs'!C92,\"\")","v":""},{"$f":"IF('Other Toolbox BMPs'!D92<>\"\",'Other Toolbox BMPs'!D92,\"\")","v":""},{"$f":"IF('Other Toolbox BMPs'!E92<>\"\",'Other Toolbox BMPs'!E92,\"\")","v":""},{"$f":"IF('Other Toolbox BMPs'!F92<>\"\",'Other Toolbox BMPs'!F92,\"\")","v":""},null,null,null,null,null,"","","","","","",""]
[{"$f":"IF('Other Toolbox BMPs'!A93<>\"\",'Other Toolbox BMPs'!A93,\"\")","v":""},{"$f":"IF('Other Toolbox BMPs'!H93<>\"\",'Other Toolbox BMPs'!H93,\"\")","v":""},{"$f":"IF('Other Toolbox BMPs'!B93<>\"\",'Other Toolbox BMPs'!B93,\"\")","v":""},{"$f":"IF('Other Toolbox BMPs'!C93<>\"\",'Other Toolbox BMPs'!C93,\"\")","v":""},{"$f":"IF('Other Toolbox BMPs'!D93<>\"\",'Other Toolbox BMPs'!D93,\"\")","v":""},{"$f":"IF('Other Toolbox BMPs'!E93<>\"\",'Other Toolbox BMPs'!E93,\"\")","v":""},{"$f":"IF('Other Toolbox BMPs'!F93<>\"\",'Other Toolbox BMPs'!F93,\"\")","v":""},null,null,null,null,null,"","","","","","",""]
[{"$f":"IF('Other Toolbox BMPs'!A94<>\"\",'Other Toolbox BMPs'!A94,\"\")","v":""},{"$f":"IF('Other Toolbox BMPs'!H94<>\"\",'Other Toolbox BMPs'!H94,\"\")","v":""},{"$f":"IF('Other Toolbox BMPs'!B94<>\"\",'Other Toolbox BMPs'!B94,\"\")","v":""},{"$f":"IF('Other Toolbox BMPs'!C94<>\"\",'Other Toolbox BMPs'!C94,\"\")","v":""},{"$f":"IF('Other Toolbox BMPs'!D94<>\"\",'Other Toolbox BMPs'!D94,\"\")","v":""},{"$f":"IF('Other Toolbox BMPs'!E94<>\"\",'Other Toolbox BMPs'!E94,\"\")","v":""},{"$f":"IF('Other Toolbox BMPs'!F94<>\"\",'Other Toolbox BMPs'!F94,\"\")","v":""},null,null,null,null,null,"","","","","","",""]
[{"$f":"IF('Other Toolbox BMPs'!A95<>\"\",'Other Toolbox BMPs'!A95,\"\")","v":""},{"$f":"IF('Other Toolbox BMPs'!H95<>\"\",'Other Toolbox BMPs'!H95,\"\")","v":""},{"$f":"IF('Other Toolbox BMPs'!B95<>\"\",'Other Toolbox BMPs'!B95,\"\")","v":""},{"$f":"IF('Other Toolbox BMPs'!C95<>\"\",'Other Toolbox BMPs'!C95,\"\")","v":""},{"$f":"IF('Other Toolbox BMPs'!D95<>\"\",'Other Toolbox BMPs'!D95,\"\")","v":""},{"$f":"IF('Other Toolbox BMPs'!E95<>\"\",'Other Toolbox BMPs'!E95,\"\")","v":""},{"$f":"IF('Other Toolbox BMPs'!F95<>\"\",'Other Toolbox BMPs'!F95,\"\")","v":""},null,null,null,null,null,"","","","","","",""]
[{"$f":"IF('Other Toolbox BMPs'!A96<>\"\",'Other Toolbox BMPs'!A96,\"\")","v":""},{"$f":"IF('Other Toolbox BMPs'!H96<>\"\",'Other Toolbox BMPs'!H96,\"\")","v":""},{"$f":"IF('Other Toolbox BMPs'!B96<>\"\",'Other Toolbox BMPs'!B96,\"\")","v":""},{"$f":"IF('Other Toolbox BMPs'!C96<>\"\",'Other Toolbox BMPs'!C96,\"\")","v":""},{"$f":"IF('Other Toolbox BMPs'!D96<>\"\",'Other Toolbox BMPs'!D96,\"\")","v":""},{"$f":"IF('Other Toolbox BMPs'!E96<>\"\",'Other Toolbox BMPs'!E96,\"\")","v":""},{"$f":"IF('Other Toolbox BMPs'!F96<>\"\",'Other Toolbox BMPs'!F96,\"\")","v":""},null,null,null,null,null,"","","","","","",""]
[{"$f":"IF('Other Toolbox BMPs'!A97<>\"\",'Other Toolbox BMPs'!A97,\"\")","v":""},{"$f":"IF('Other Toolbox BMPs'!H97<>\"\",'Other Toolbox BMPs'!H97,\"\")","v":""},{"$f":"IF('Other Toolbox BMPs'!B97<>\"\",'Other Toolbox BMPs'!B97,\"\")","v":""},{"$f":"IF('Other Toolbox BMPs'!C97<>\"\",'Other Toolbox BMPs'!C97,\"\")","v":""},{"$f":"IF('Other Toolbox BMPs'!D97<>\"\",'Other Toolbox BMPs'!D97,\"\")","v":""},{"$f":"IF('Other Toolbox BMPs'!E97<>\"\",'Other Toolbox BMPs'!E97,\"\")","v":""},{"$f":"IF('Other Toolbox BMPs'!F97<>\"\",'Other Toolbox BMPs'!F97,\"\")","v":""},null,null,null,null,null,"","","","","","",""]
[{"$f":"IF('Other Toolbox BMPs'!A98<>\"\",'Other Toolbox BMPs'!A98,\"\")","v":""},{"$f":"IF('Other Toolbox BMPs'!H98<>\"\",'Other Toolbox BMPs'!H98,\"\")","v":""},{"$f":"IF('Other Toolbox BMPs'!B98<>\"\",'Other Toolbox BMPs'!B98,\"\")","v":""},{"$f":"IF('Other Toolbox BMPs'!C98<>\"\",'Other Toolbox BMPs'!C98,\"\")","v":""},{"$f":"IF('Other Toolbox BMPs'!D98<>\"\",'Other Toolbox BMPs'!D98,\"\")","v":""},{"$f":"IF('Other Toolbox BMPs'!E98<>\"\",'Other Toolbox BMPs'!E98,\"\")","v":""},{"$f":"IF('Other Toolbox BMPs'!F98<>\"\",'Other Toolbox BMPs'!F98,\"\")","v":""},null,null,null,null,null,"","","","","","",""]
[{"$f":"IF('Other Toolbox BMPs'!A99<>\"\",'Other Toolbox BMPs'!A99,\"\")","v":""},{"$f":"IF('Other Toolbox BMPs'!H99<>\"\",'Other Toolbox BMPs'!H99,\"\")","v":""},{"$f":"IF('Other Toolbox BMPs'!B99<>\"\",'Other Toolbox BMPs'!B99,\"\")","v":""},{"$f":"IF('Other Toolbox BMPs'!C99<>\"\",'Other Toolbox BMPs'!C99,\"\")","v":""},{"$f":"IF('Other Toolbox BMPs'!D99<>\"\",'Other Toolbox BMPs'!D99,\"\")","v":""},{"$f":"IF('Other Toolbox BMPs'!E99<>\"\",'Other Toolbox BMPs'!E99,\"\")","v":""},{"$f":"IF('Other Toolbox BMPs'!F99<>\"\",'Other Toolbox BMPs'!F99,\"\")","v":""},null,null,null,null,null,"","","","","","",""]
[{"$f":"IF('Other Toolbox BMPs'!A100<>\"\",'Other Toolbox BMPs'!A100,\"\")","v":""},{"$f":"IF('Other Toolbox BMPs'!H100<>\"\",'Other Toolbox BMPs'!H100,\"\")","v":""},{"$f":"IF('Other Toolbox BMPs'!B100<>\"\",'Other Toolbox BMPs'!B100,\"\")","v":""},{"$f":"IF('Other Toolbox BMPs'!C100<>\"\",'Other Toolbox BMPs'!C100,\"\")","v":""},{"$f":"IF('Other Toolbox BMPs'!D100<>\"\",'Other Toolbox BMPs'!D100,\"\")","v":""},{"$f":"IF('Other Toolbox BMPs'!E100<>\"\",'Other Toolbox BMPs'!E100,\"\")","v":""},{"$f":"IF('Other Toolbox BMPs'!F100<>\"\",'Other Toolbox BMPs'!F100,\"\")","v":""},null,null,null,null,null,"","","","","","",""]
[{"$f":"IF('Other Toolbox BMPs'!A101<>\"\",'Other Toolbox BMPs'!A101,\"\")","v":""},{"$f":"IF('Other Toolbox BMPs'!H101<>\"\",'Other Toolbox BMPs'!H101,\"\")","v":""},{"$f":"IF('Other Toolbox BMPs'!B101<>\"\",'Other Toolbox BMPs'!B101,\"\")","v":""},{"$f":"IF('Other Toolbox BMPs'!C101<>\"\",'Other Toolbox BMPs'!C101,\"\")","v":""},{"$f":"IF('Other Toolbox BMPs'!D101<>\"\",'Other Toolbox BMPs'!D101,\"\")","v":""},{"$f":"IF('Other Toolbox BMPs'!E101<>\"\",'Other Toolbox BMPs'!E101,\"\")","v":""},{"$f":"IF('Other Toolbox BMPs'!F101<>\"\",'Other Toolbox BMPs'!F101,\"\")","v":""},null,null,null,null,null,"","","","","","",""]
[{"$f":"IF('Other Toolbox BMPs'!A102<>\"\",'Other Toolbox BMPs'!A102,\"\")","v":""},{"$f":"IF('Other Toolbox BMPs'!H102<>\"\",'Other Toolbox BMPs'!H102,\"\")","v":""},{"$f":"IF('Other Toolbox BMPs'!B102<>\"\",'Other Toolbox BMPs'!B102,\"\")","v":""},{"$f":"IF('Other Toolbox BMPs'!C102<>\"\",'Other Toolbox BMPs'!C102,\"\")","v":""},{"$f":"IF('Other Toolbox BMPs'!D102<>\"\",'Other Toolbox BMPs'!D102,\"\")","v":""},{"$f":"IF('Other Toolbox BMPs'!E102<>\"\",'Other Toolbox BMPs'!E102,\"\")","v":""},{"$f":"IF('Other Toolbox BMPs'!F102<>\"\",'Other Toolbox BMPs'!F102,\"\")","v":""},null,null,null,null,null,"","","","","","",""]
[{"$f":"IF('Other Toolbox BMPs'!A103<>\"\",'Other Toolbox BMPs'!A103,\"\")","v":""},{"$f":"IF('Other Toolbox BMPs'!H103<>\"\",'Other Toolbox BMPs'!H103,\"\")","v":""},{"$f":"IF('Other Toolbox BMPs'!B103<>\"\",'Other Toolbox BMPs'!B103,\"\")","v":""},{"$f":"IF('Other Toolbox BMPs'!C103<>\"\",'Other Toolbox BMPs'!C103,\"\")","v":""},{"$f":"IF('Other Toolbox BMPs'!D103<>\"\",'Other Toolbox BMPs'!D103,\"\")","v":""},{"$f":"IF('Other Toolbox BMPs'!E103<>\"\",'Other Toolbox BMPs'!E103,\"\")","v":""},{"$f":"IF('Other Toolbox BMPs'!F103<>\"\",'Other Toolbox BMPs'!F103,\"\")","v":""},null,null,null,null,null,"","","","","","",""]
[{"$f":"IF('Other Toolbox BMPs'!A104<>\"\",'Other Toolbox BMPs'!A104,\"\")","v":""},{"$f":"IF('Other Toolbox BMPs'!H104<>\"\",'Other Toolbox BMPs'!H104,\"\")","v":""},{"$f":"IF('Other Toolbox BMPs'!B104<>\"\",'Other Toolbox BMPs'!B104,\"\")","v":""},{"$f":"IF('Other Toolbox BMPs'!C104<>\"\",'Other Toolbox BMPs'!C104,\"\")","v":""},{"$f":"IF('Other Toolbox BMPs'!D104<>\"\",'Other Toolbox BMPs'!D104,\"\")","v":""},{"$f":"IF('Other Toolbox BMPs'!E104<>\"\",'Other Toolbox BMPs'!E104,\"\")","v":""},{"$f":"IF('Other Toolbox BMPs'!F104<>\"\",'Other Toolbox BMPs'!F104,\"\")","v":""},null,null,null,null,null,"","","","","","",""]
[{"$f":"IF('Other Toolbox BMPs'!A105<>\"\",'Other Toolbox BMPs'!A105,\"\")","v":""},{"$f":"IF('Other Toolbox BMPs'!H105<>\"\",'Other Toolbox BMPs'!H105,\"\")","v":""},{"$f":"IF('Other Toolbox BMPs'!B105<>\"\",'Other Toolbox BMPs'!B105,\"\")","v":""},{"$f":"IF('Other Toolbox BMPs'!C105<>\"\",'Other Toolbox BMPs'!C105,\"\")","v":""},{"$f":"IF('Other Toolbox BMPs'!D105<>\"\",'Other Toolbox BMPs'!D105,\"\")","v":""},{"$f":"IF('Other Toolbox BMPs'!E105<>\"\",'Other Toolbox BMPs'!E105,\"\")","v":""},{"$f":"IF('Other Toolbox BMPs'!F105<>\"\",'Other Toolbox BMPs'!F105,\"\")","v":""},null,null,null,null,null,"","","","","","",""]
[{"$f":"IF('Other Toolbox BMPs'!A106<>\"\",'Other Toolbox BMPs'!A106,\"\")","v":""},{"$f":"IF('Other Toolbox BMPs'!H106<>\"\",'Other Toolbox BMPs'!H106,\"\")","v":""},{"$f":"IF('Other Toolbox BMPs'!B106<>\"\",'Other Toolbox BMPs'!B106,\"\")","v":""},{"$f":"IF('Other Toolbox BMPs'!C106<>\"\",'Other Toolbox BMPs'!C106,\"\")","v":""},{"$f":"IF('Other Toolbox BMPs'!D106<>\"\",'Other Toolbox BMPs'!D106,\"\")","v":""},{"$f":"IF('Other Toolbox BMPs'!E106<>\"\",'Other Toolbox BMPs'!E106,\"\")","v":""},{"$f":"IF('Other Toolbox BMPs'!F106<>\"\",'Other Toolbox BMPs'!F106,\"\")","v":""},null,null,null,null,null,"","","","","","",""]
[{"$f":"IF('Other Toolbox BMPs'!A107<>\"\",'Other Toolbox BMPs'!A107,\"\")","v":""},{"$f":"IF('Other Toolbox BMPs'!H107<>\"\",'Other Toolbox BMPs'!H107,\"\")","v":""},{"$f":"IF('Other Toolbox BMPs'!B107<>\"\",'Other Toolbox BMPs'!B107,\"\")","v":""},{"$f":"IF('Other Toolbox BMPs'!C107<>\"\",'Other Toolbox BMPs'!C107,\"\")","v":""},{"$f":"IF('Other Toolbox BMPs'!D107<>\"\",'Other Toolbox BMPs'!D107,\"\")","v":""},{"$f":"IF('Other Toolbox BMPs'!E107<>\"\",'Other Toolbox BMPs'!E107,\"\")","v":""},{"$f":"IF('Other Toolbox BMPs'!F107<>\"\",'Other Toolbox BMPs'!F107,\"\")","v":""},null,null,null,null,null,"","","","","","",""]
[{"$f":"IF('Other Toolbox BMPs'!A108<>\"\",'Other Toolbox BMPs'!A108,\"\")","v":""},{"$f":"IF('Other Toolbox BMPs'!H108<>\"\",'Other Toolbox BMPs'!H108,\"\")","v":""},{"$f":"IF('Other Toolbox BMPs'!B108<>\"\",'Other Toolbox BMPs'!B108,\"\")","v":""},{"$f":"IF('Other Toolbox BMPs'!C108<>\"\",'Other Toolbox BMPs'!C108,\"\")","v":""},{"$f":"IF('Other Toolbox BMPs'!D108<>\"\",'Other Toolbox BMPs'!D108,\"\")","v":""},{"$f":"IF('Other Toolbox BMPs'!E108<>\"\",'Other Toolbox BMPs'!E108,\"\")","v":""},{"$f":"IF('Other Toolbox BMPs'!F108<>\"\",'Other Toolbox BMPs'!F108,\"\")","v":""},null,null,null,null,null,"","","","","","",""]
[{"$f":"IF('Other Toolbox BMPs'!A109<>\"\",'Other Toolbox BMPs'!A109,\"\")","v":""},{"$f":"IF('Other Toolbox BMPs'!H109<>\"\",'Other Toolbox BMPs'!H109,\"\")","v":""},{"$f":"IF('Other Toolbox BMPs'!B109<>\"\",'Other Toolbox BMPs'!B109,\"\")","v":""},{"$f":"IF('Other Toolbox BMPs'!C109<>\"\",'Other Toolbox BMPs'!C109,\"\")","v":""},{"$f":"IF('Other Toolbox BMPs'!D109<>\"\",'Other Toolbox BMPs'!D109,\"\")","v":""},{"$f":"IF('Other Toolbox BMPs'!E109<>\"\",'Other Toolbox BMPs'!E109,\"\")","v":""},{"$f":"IF('Other Toolbox BMPs'!F109<>\"\",'Other Toolbox BMPs'!F109,\"\")","v":""},null,null,null,null,null,"","","","","","",""]
[{"$f":"IF('Other Toolbox BMPs'!A110<>\"\",'Other Toolbox BMPs'!A110,\"\")","v":""},{"$f":"IF('Other Toolbox BMPs'!H110<>\"\",'Other Toolbox BMPs'!H110,\"\")","v":""},{"$f":"IF('Other Toolbox BMPs'!B110<>\"\",'Other Toolbox BMPs'!B110,\"\")","v":""},{"$f":"IF('Other Toolbox BMPs'!C110<>\"\",'Other Toolbox BMPs'!C110,\"\")","v":""},{"$f":"IF('Other Toolbox BMPs'!D110<>\"\",'Other Toolbox BMPs'!D110,\"\")","v":""},{"$f":"IF('Other Toolbox BMPs'!E110<>\"\",'Other Toolbox BMPs'!E110,\"\")","v":""},{"$f":"IF('Other Toolbox BMPs'!F110<>\"\",'Other Toolbox BMPs'!F110,\"\")","v":""},null,null,null,null,null,"","","","","","",""]
[{"$f":"IF('Other Toolbox BMPs'!A111<>\"\",'Other Toolbox BMPs'!A111,\"\")","v":""},{"$f":"IF('Other Toolbox BMPs'!H111<>\"\",'Other Toolbox BMPs'!H111,\"\")","v":""},{"$f":"IF('Other Toolbox BMPs'!B111<>\"\",'Other Toolbox BMPs'!B111,\"\")","v":""},{"$f":"IF('Other Toolbox BMPs'!C111<>\"\",'Other Toolbox BMPs'!C111,\"\")","v":""},{"$f":"IF('Other Toolbox BMPs'!D111<>\"\",'Other Toolbox BMPs'!D111,\"\")","v":""},{"$f":"IF('Other Toolbox BMPs'!E111<>\"\",'Other Toolbox BMPs'!E111,\"\")","v":""},{"$f":"IF('Other Toolbox BMPs'!F111<>\"\",'Other Toolbox BMPs'!F111,\"\")","v":""},null,null,null,null,null,"","","","","","",""]
[{"$f":"IF('Other Toolbox BMPs'!A112<>\"\",'Other Toolbox BMPs'!A112,\"\")","v":""},{"$f":"IF('Other Toolbox BMPs'!H112<>\"\",'Other Toolbox BMPs'!H112,\"\")","v":""},{"$f":"IF('Other Toolbox BMPs'!B112<>\"\",'Other Toolbox BMPs'!B112,\"\")","v":""},{"$f":"IF('Other Toolbox BMPs'!C112<>\"\",'Other Toolbox BMPs'!C112,\"\")","v":""},{"$f":"IF('Other Toolbox BMPs'!D112<>\"\",'Other Toolbox BMPs'!D112,\"\")","v":""},{"$f":"IF('Other Toolbox BMPs'!E112<>\"\",'Other Toolbox BMPs'!E112,\"\")","v":""},{"$f":"IF('Other Toolbox BMPs'!F112<>\"\",'Other Toolbox BMPs'!F112,\"\")","v":""},null,null,null,null,null,"","","","","","",""]
[{"$f":"IF('Other Toolbox BMPs'!A113<>\"\",'Other Toolbox BMPs'!A113,\"\")","v":""},{"$f":"IF('Other Toolbox BMPs'!H113<>\"\",'Other Toolbox BMPs'!H113,\"\")","v":""},{"$f":"IF('Other Toolbox BMPs'!B113<>\"\",'Other Toolbox BMPs'!B113,\"\")","v":""},{"$f":"IF('Other Toolbox BMPs'!C113<>\"\",'Other Toolbox BMPs'!C113,\"\")","v":""},{"$f":"IF('Other Toolbox BMPs'!D113<>\"\",'Other Toolbox BMPs'!D113,\"\")","v":""},{"$f":"IF('Other Toolbox BMPs'!E113<>\"\",'Other Toolbox BMPs'!E113,\"\")","v":""},{"$f":"IF('Other Toolbox BMPs'!F113<>\"\",'Other Toolbox BMPs'!F113,\"\")","v":""},null,null,null,null,null,"","","","","","",""]
[{"$f":"IF('Other Toolbox BMPs'!A128<>\"\",'Other Toolbox BMPs'!A128,\"\")","v":""},{"$f":"IF('Other Toolbox BMPs'!H128<>\"\",'Other Toolbox BMPs'!H128,\"\")","v":""},{"$f":"IF('Other Toolbox BMPs'!B128<>\"\",'Other Toolbox BMPs'!B128,\"\")","v":""},{"$f":"IF('Other Toolbox BMPs'!C128<>\"\",'Other Toolbox BMPs'!C128,\"\")","v":""},{"$f":"IF('Other Toolbox BMPs'!D128<>\"\",'Other Toolbox BMPs'!D128,\"\")","v":""},{"$f":"IF('Other Toolbox BMPs'!E128<>\"\",'Other Toolbox BMPs'!E128,\"\")","v":""},{"$f":"IF('Other Toolbox BMPs'!F128<>\"\",'Other Toolbox BMPs'!F128,\"\")","v":""},null,null,null,null,null,"","","","","","",""]
[{"$f":"IF('Other Toolbox BMPs'!A129<>\"\",'Other Toolbox BMPs'!A129,\"\")","v":""},{"$f":"IF('Other Toolbox BMPs'!H129<>\"\",'Other Toolbox BMPs'!H129,\"\")","v":""},{"$f":"IF('Other Toolbox BMPs'!B129<>\"\",'Other Toolbox BMPs'!B129,\"\")","v":""},{"$f":"IF('Other Toolbox BMPs'!C129<>\"\",'Other Toolbox BMPs'!C129,\"\")","v":""},{"$f":"IF('Other Toolbox BMPs'!D129<>\"\",'Other Toolbox BMPs'!D129,\"\")","v":""},{"$f":"IF('Other Toolbox BMPs'!E129<>\"\",'Other Toolbox BMPs'!E129,\"\")","v":""},{"$f":"IF('Other Toolbox BMPs'!F129<>\"\",'Other Toolbox BMPs'!F129,\"\")","v":""},null,null,null,null,null,"","","","","","",""]
[{"$f":"IF('Other Toolbox BMPs'!A130<>\"\",'Other Toolbox BMPs'!A130,\"\")","v":""},{"$f":"IF('Other Toolbox BMPs'!H130<>\"\",'Other Toolbox BMPs'!H130,\"\")","v":""},{"$f":"IF('Other Toolbox BMPs'!B130<>\"\",'Other Toolbox BMPs'!B130,\"\")","v":""},{"$f":"IF('Other Toolbox BMPs'!C130<>\"\",'Other Toolbox BMPs'!C130,\"\")","v":""},{"$f":"IF('Other Toolbox BMPs'!D130<>\"\",'Other Toolbox BMPs'!D130,\"\")","v":""},{"$f":"IF('Other Toolbox BMPs'!E130<>\"\",'Other Toolbox BMPs'!E130,\"\")","v":""},{"$f":"IF('Other Toolbox BMPs'!F130<>\"\",'Other Toolbox BMPs'!F130,\"\")","v":""},null,null,null,null,null,"","","","","","",""]
[{"$f":"IF('Other Toolbox BMPs'!A131<>\"\",'Other Toolbox BMPs'!A131,\"\")","v":""},{"$f":"IF('Other Toolbox BMPs'!H131<>\"\",'Other Toolbox BMPs'!H131,\"\")","v":""},{"$f":"IF('Other Toolbox BMPs'!B131<>\"\",'Other Toolbox BMPs'!B131,\"\")","v":""},{"$f":"IF('Other Toolbox BMPs'!C131<>\"\",'Other Toolbox BMPs'!C131,\"\")","v":""},{"$f":"IF('Other Toolbox BMPs'!D131<>\"\",'Other Toolbox BMPs'!D131,\"\")","v":""},{"$f":"IF('Other Toolbox BMPs'!E131<>\"\",'Other Toolbox BMPs'!E131,\"\")","v":""},{"$f":"IF('Other Toolbox BMPs'!F131<>\"\",'Other Toolbox BMPs'!F131,\"\")","v":""},null,null,null,null,null,"","","","","","",""]
[{"$f":"IF('Other Toolbox BMPs'!A132<>\"\",'Other Toolbox BMPs'!A132,\"\")","v":""},{"$f":"IF('Other Toolbox BMPs'!H132<>\"\",'Other Toolbox BMPs'!H132,\"\")","v":""},{"$f":"IF('Other Toolbox BMPs'!B132<>\"\",'Other Toolbox BMPs'!B132,\"\")","v":""},{"$f":"IF('Other Toolbox BMPs'!C132<>\"\",'Other Toolbox BMPs'!C132,\"\")","v":""},{"$f":"IF('Other Toolbox BMPs'!D132<>\"\",'Other Toolbox BMPs'!D132,\"\")","v":""},{"$f":"IF('Other Toolbox BMPs'!E132<>\"\",'Other Toolbox BMPs'!E132,\"\")","v":""},{"$f":"IF('Other Toolbox BMPs'!F132<>\"\",'Other Toolbox BMPs'!F132,\"\")","v":""},null,null,null,null,null,"","","","","","",""]
[{"$f":"IF('Other Toolbox BMPs'!A133<>\"\",'Other Toolbox BMPs'!A133,\"\")","v":""},{"$f":"IF('Other Toolbox BMPs'!H133<>\"\",'Other Toolbox BMPs'!H133,\"\")","v":""},{"$f":"IF('Other Toolbox BMPs'!B133<>\"\",'Other Toolbox BMPs'!B133,\"\")","v":""},{"$f":"IF('Other Toolbox BMPs'!C133<>\"\",'Other Toolbox BMPs'!C133,\"\")","v":""},{"$f":"IF('Other Toolbox BMPs'!D133<>\"\",'Other Toolbox BMPs'!D133,\"\")","v":""},{"$f":"IF('Other Toolbox BMPs'!E133<>\"\",'Other Toolbox BMPs'!E133,\"\")","v":""},{"$f":"IF('Other Toolbox BMPs'!F133<>\"\",'Other Toolbox BMPs'!F133,\"\")","v":""},null,null,null,null,null,"","","","","","",""]
[{"$f":"IF('Other Toolbox BMPs'!A134<>\"\",'Other Toolbox BMPs'!A134,\"\")","v":""},{"$f":"IF('Other Toolbox BMPs'!H134<>\"\",'Other Toolbox BMPs'!H134,\"\")","v":""},{"$f":"IF('Other Toolbox BMPs'!B134<>\"\",'Other Toolbox BMPs'!B134,\"\")","v":""},{"$f":"IF('Other Toolbox BMPs'!C134<>\"\",'Other Toolbox BMPs'!C134,\"\")","v":""},{"$f":"IF('Other Toolbox BMPs'!D134<>\"\",'Other Toolbox BMPs'!D134,\"\")","v":""},{"$f":"IF('Other Toolbox BMPs'!E134<>\"\",'Other Toolbox BMPs'!E134,\"\")","v":""},{"$f":"IF('Other Toolbox BMPs'!F134<>\"\",'Other Toolbox BMPs'!F134,\"\")","v":""},null,null,null,null,null,"","","","","","",""]
[{"$f":"IF('Other Toolbox BMPs'!A135<>\"\",'Other Toolbox BMPs'!A135,\"\")","v":""},{"$f":"IF('Other Toolbox BMPs'!H135<>\"\",'Other Toolbox BMPs'!H135,\"\")","v":""},{"$f":"IF('Other Toolbox BMPs'!B135<>\"\",'Other Toolbox BMPs'!B135,\"\")","v":""},{"$f":"IF('Other Toolbox BMPs'!C135<>\"\",'Other Toolbox BMPs'!C135,\"\")","v":""},{"$f":"IF('Other Toolbox BMPs'!D135<>\"\",'Other Toolbox BMPs'!D135,\"\")","v":""},{"$f":"IF('Other Toolbox BMPs'!E135<>\"\",'Other Toolbox BMPs'!E135,\"\")","v":""},{"$f":"IF('Other Toolbox BMPs'!F135<>\"\",'Other Toolbox BMPs'!F135,\"\")","v":""},null,null,null,null,null,"","","","","","",""]
[{"$f":"IF('Other Toolbox BMPs'!A136<>\"\",'Other Toolbox BMPs'!A136,\"\")","v":""},{"$f":"IF('Other Toolbox BMPs'!H136<>\"\",'Other Toolbox BMPs'!H136,\"\")","v":""},{"$f":"IF('Other Toolbox BMPs'!B136<>\"\",'Other Toolbox BMPs'!B136,\"\")","v":""},{"$f":"IF('Other Toolbox BMPs'!C136<>\"\",'Other Toolbox BMPs'!C136,\"\")","v":""},{"$f":"IF('Other Toolbox BMPs'!D136<>\"\",'Other Toolbox BMPs'!D136,\"\")","v":""},{"$f":"IF('Other Toolbox BMPs'!E136<>\"\",'Other Toolbox BMPs'!E136,\"\")","v":""},{"$f":"IF('Other Toolbox BMPs'!F136<>\"\",'Other Toolbox BMPs'!F136,\"\")","v":""},null,null,null,null,null,"","","","","","",""]
[{"$f":"IF('Other Toolbox BMPs'!A137<>\"\",'Other Toolbox BMPs'!A137,\"\")","v":""},{"$f":"IF('Other Toolbox BMPs'!H137<>\"\",'Other Toolbox BMPs'!H137,\"\")","v":""},{"$f":"IF('Other Toolbox BMPs'!B137<>\"\",'Other Toolbox BMPs'!B137,\"\")","v":""},{"$f":"IF('Other Toolbox BMPs'!C137<>\"\",'Other Toolbox BMPs'!C137,\"\")","v":""},{"$f":"IF('Other Toolbox BMPs'!D137<>\"\",'Other Toolbox BMPs'!D137,\"\")","v":""},{"$f":"IF('Other Toolbox BMPs'!E137<>\"\",'Other Toolbox BMPs'!E137,\"\")","v":""},{"$f":"IF('Other Toolbox BMPs'!F137<>\"\",'Other Toolbox BMPs'!F137,\"\")","v":""},null,null,null,null,null,"","","","","","",""]
[{"$f":"IF('Other Toolbox BMPs'!A138<>\"\",'Other Toolbox BMPs'!A138,\"\")","v":""},{"$f":"IF('Other Toolbox BMPs'!H138<>\"\",'Other Toolbox BMPs'!H138,\"\")","v":""},{"$f":"IF('Other Toolbox BMPs'!B138<>\"\",'Other Toolbox BMPs'!B138,\"\")","v":""},{"$f":"IF('Other Toolbox BMPs'!C138<>\"\",'Other Toolbox BMPs'!C138,\"\")","v":""},{"$f":"IF('Other Toolbox BMPs'!D138<>\"\",'Other Toolbox BMPs'!D138,\"\")","v":""},{"$f":"IF('Other Toolbox BMPs'!E138<>\"\",'Other Toolbox BMPs'!E138,\"\")","v":""},{"$f":"IF('Other Toolbox BMPs'!F138<>\"\",'Other Toolbox BMPs'!F138,\"\")","v":""},null,null,null,null,null,"","","","","","",""]
[{"$f":"IF('Other Toolbox BMPs'!A139<>\"\",'Other Toolbox BMPs'!A139,\"\")","v":""},{"$f":"IF('Other Toolbox BMPs'!H139<>\"\",'Other Toolbox BMPs'!H139,\"\")","v":""},{"$f":"IF('Other Toolbox BMPs'!B139<>\"\",'Other Toolbox BMPs'!B139,\"\")","v":""},{"$f":"IF('Other Toolbox BMPs'!C139<>\"\",'Other Toolbox BMPs'!C139,\"\")","v":""},{"$f":"IF('Other Toolbox BMPs'!D139<>\"\",'Other Toolbox BMPs'!D139,\"\")","v":""},{"$f":"IF('Other Toolbox BMPs'!E139<>\"\",'Other Toolbox BMPs'!E139,\"\")","v":""},{"$f":"IF('Other Toolbox BMPs'!F139<>\"\",'Other Toolbox BMPs'!F139,\"\")","v":""},null,null,null,null,null,"","","","","","",""]
[{"$f":"IF('Other Toolbox BMPs'!A140<>\"\",'Other Toolbox BMPs'!A140,\"\")","v":""},{"$f":"IF('Other Toolbox BMPs'!H140<>\"\",'Other Toolbox BMPs'!H140,\"\")","v":""},{"$f":"IF('Other Toolbox BMPs'!B140<>\"\",'Other Toolbox BMPs'!B140,\"\")","v":""},{"$f":"IF('Other Toolbox BMPs'!C140<>\"\",'Other Toolbox BMPs'!C140,\"\")","v":""},{"$f":"IF('Other Toolbox BMPs'!D140<>\"\",'Other Toolbox BMPs'!D140,\"\")","v":""},{"$f":"IF('Other Toolbox BMPs'!E140<>\"\",'Other Toolbox BMPs'!E140,\"\")","v":""},{"$f":"IF('Other Toolbox BMPs'!F140<>\"\",'Other Toolbox BMPs'!F140,\"\")","v":""},null,null,null,null,null,"","","","","","",""]
[{"$f":"IF('Other Toolbox BMPs'!A141<>\"\",'Other Toolbox BMPs'!A141,\"\")","v":""},{"$f":"IF('Other Toolbox BMPs'!H141<>\"\",'Other Toolbox BMPs'!H141,\"\")","v":""},{"$f":"IF('Other Toolbox BMPs'!B141<>\"\",'Other Toolbox BMPs'!B141,\"\")","v":""},{"$f":"IF('Other Toolbox BMPs'!C141<>\"\",'Other Toolbox BMPs'!C141,\"\")","v":""},{"$f":"IF('Other Toolbox BMPs'!D141<>\"\",'Other Toolbox BMPs'!D141,\"\")","v":""},{"$f":"IF('Other Toolbox BMPs'!E141<>\"\",'Other Toolbox BMPs'!E141,\"\")","v":""},{"$f":"IF('Other Toolbox BMPs'!F141<>\"\",'Other Toolbox BMPs'!F141,\"\")","v":""},null,null,null,null,null,"","","","","","",""]
[{"$f":"IF('Other Toolbox BMPs'!A142<>\"\",'Other Toolbox BMPs'!A142,\"\")","v":""},{"$f":"IF('Other Toolbox BMPs'!H142<>\"\",'Other Toolbox BMPs'!H142,\"\")","v":""},{"$f":"IF('Other Toolbox BMPs'!B142<>\"\",'Other Toolbox BMPs'!B142,\"\")","v":""},{"$f":"IF('Other Toolbox BMPs'!C142<>\"\",'Other Toolbox BMPs'!C142,\"\")","v":""},{"$f":"IF('Other Toolbox BMPs'!D142<>\"\",'Other Toolbox BMPs'!D142,\"\")","v":""},{"$f":"IF('Other Toolbox BMPs'!E142<>\"\",'Other Toolbox BMPs'!E142,\"\")","v":""},{"$f":"IF('Other Toolbox BMPs'!F142<>\"\",'Other Toolbox BMPs'!F142,\"\")","v":""},null,null,null,null,null,"","","","","","",""]
[{"$f":"IF('Other Toolbox BMPs'!A143<>\"\",'Other Toolbox BMPs'!A143,\"\")","v":""},{"$f":"IF('Other Toolbox BMPs'!H143<>\"\",'Other Toolbox BMPs'!H143,\"\")","v":""},{"$f":"IF('Other Toolbox BMPs'!B143<>\"\",'Other Toolbox BMPs'!B143,\"\")","v":""},{"$f":"IF('Other Toolbox BMPs'!C143<>\"\",'Other Toolbox BMPs'!C143,\"\")","v":""},{"$f":"IF('Other Toolbox BMPs'!D143<>\"\",'Other Toolbox BMPs'!D143,\"\")","v":""},{"$f":"IF('Other Toolbox BMPs'!E143<>\"\",'Other Toolbox BMPs'!E143,\"\")","v":""},{"$f":"IF('Other Toolbox BMPs'!F143<>\"\",'Other Toolbox BMPs'!F143,\"\")","v":""},null,null,null,null,null,"","","","","","",""]
[{"$f":"IF('Other Toolbox BMPs'!A144<>\"\",'Other Toolbox BMPs'!A144,\"\")","v":""},{"$f":"IF('Other Toolbox BMPs'!H144<>\"\",'Other Toolbox BMPs'!H144,\"\")","v":""},{"$f":"IF('Other Toolbox BMPs'!B144<>\"\",'Other Toolbox BMPs'!B144,\"\")","v":""},{"$f":"IF('Other Toolbox BMPs'!C144<>\"\",'Other Toolbox BMPs'!C144,\"\")","v":""},{"$f":"IF('Other Toolbox BMPs'!D144<>\"\",'Other Toolbox BMPs'!D144,\"\")","v":""},{"$f":"IF('Other Toolbox BMPs'!E144<>\"\",'Other Toolbox BMPs'!E144,\"\")","v":""},{"$f":"IF('Other Toolbox BMPs'!F144<>\"\",'Other Toolbox BMPs'!F144,\"\")","v":""},null,null,null,null,null,"","","","","","",""]
[{"$f":"IF('Other Toolbox BMPs'!A145<>\"\",'Other Toolbox BMPs'!A145,\"\")","v":""},{"$f":"IF('Other Toolbox BMPs'!H145<>\"\",'Other Toolbox BMPs'!H145,\"\")","v":""},{"$f":"IF('Other Toolbox BMPs'!B145<>\"\",'Other Toolbox BMPs'!B145,\"\")","v":""},{"$f":"IF('Other Toolbox BMPs'!C145<>\"\",'Other Toolbox BMPs'!C145,\"\")","v":""},{"$f":"IF('Other Toolbox BMPs'!D145<>\"\",'Other Toolbox BMPs'!D145,\"\")","v":""},{"$f":"IF('Other Toolbox BMPs'!E145<>\"\",'Other Toolbox BMPs'!E145,\"\")","v":""},{"$f":"IF('Other Toolbox BMPs'!F145<>\"\",'Other Toolbox BMPs'!F145,\"\")","v":""},null,null,null,null,null,"","","","","","",""]
[{"$f":"IF('Other Toolbox BMPs'!A146<>\"\",'Other Toolbox BMPs'!A146,\"\")","v":""},{"$f":"IF('Other Toolbox BMPs'!H146<>\"\",'Other Toolbox BMPs'!H146,\"\")","v":""},{"$f":"IF('Other Toolbox BMPs'!B146<>\"\",'Other Toolbox BMPs'!B146,\"\")","v":""},{"$f":"IF('Other Toolbox BMPs'!C146<>\"\",'Other Toolbox BMPs'!C146,\"\")","v":""},{"$f":"IF('Other Toolbox BMPs'!D146<>\"\",'Other Toolbox BMPs'!D146,\"\")","v":""},{"$f":"IF('Other Toolbox BMPs'!E146<>\"\",'Other Toolbox BMPs'!E146,\"\")","v":""},{"$f":"IF('Other Toolbox BMPs'!F146<>\"\",'Other Toolbox BMPs'!F146,\"\")","v":""},null,null,null,null,null,"","","","","","",""]
[{"$f":"IF('Other Toolbox BMPs'!A147<>\"\",'Other Toolbox BMPs'!A147,\"\")","v":""},{"$f":"IF('Other Toolbox BMPs'!H147<>\"\",'Other Toolbox BMPs'!H147,\"\")","v":""},{"$f":"IF('Other Toolbox BMPs'!B147<>\"\",'Other Toolbox BMPs'!B147,\"\")","v":""},{"$f":"IF('Other Toolbox BMPs'!C147<>\"\",'Other Toolbox BMPs'!C147,\"\")","v":""},{"$f":"IF('Other Toolbox BMPs'!D147<>\"\",'Other Toolbox BMPs'!D147,\"\")","v":""},{"$f":"IF('Other Toolbox BMPs'!E147<>\"\",'Other Toolbox BMPs'!E147,\"\")","v":""},{"$f":"IF('Other Toolbox BMPs'!F147<>\"\",'Other Toolbox BMPs'!F147,\"\")","v":""},null,null,null,null,null,"","","","","","",""]
[{"$f":"IF('Other Toolbox BMPs'!A148<>\"\",'Other Toolbox BMPs'!A148,\"\")","v":""},{"$f":"IF('Other Toolbox BMPs'!H148<>\"\",'Other Toolbox BMPs'!H148,\"\")","v":""},{"$f":"IF('Other Toolbox BMPs'!B148<>\"\",'Other Toolbox BMPs'!B148,\"\")","v":""},{"$f":"IF('Other Toolbox BMPs'!C148<>\"\",'Other Toolbox BMPs'!C148,\"\")","v":""},{"$f":"IF('Other Toolbox BMPs'!D148<>\"\",'Other Toolbox BMPs'!D148,\"\")","v":""},{"$f":"IF('Other Toolbox BMPs'!E148<>\"\",'Other Toolbox BMPs'!E148,\"\")","v":""},{"$f":"IF('Other Toolbox BMPs'!F148<>\"\",'Other Toolbox BMPs'!F148,\"\")","v":""},null,null,null,null,null,"","","","","","",""]
[{"$f":"IF('Other Toolbox BMPs'!A149<>\"\",'Other Toolbox BMPs'!A149,\"\")","v":""},{"$f":"IF('Other Toolbox BMPs'!H149<>\"\",'Other Toolbox BMPs'!H149,\"\")","v":""},{"$f":"IF('Other Toolbox BMPs'!B149<>\"\",'Other Toolbox BMPs'!B149,\"\")","v":""},{"$f":"IF('Other Toolbox BMPs'!C149<>\"\",'Other Toolbox BMPs'!C149,\"\")","v":""},{"$f":"IF('Other Toolbox BMPs'!D149<>\"\",'Other Toolbox BMPs'!D149,\"\")","v":""},{"$f":"IF('Other Toolbox BMPs'!E149<>\"\",'Other Toolbox BMPs'!E149,\"\")","v":""},{"$f":"IF('Other Toolbox BMPs'!F149<>\"\",'Other Toolbox BMPs'!F149,\"\")","v":""},null,null,null,null,null,"","","","","","",""]
[{"$f":"IF('Other Toolbox BMPs'!A150<>\"\",'Other Toolbox BMPs'!A150,\"\")","v":""},{"$f":"IF('Other Toolbox BMPs'!H150<>\"\",'Other Toolbox BMPs'!H150,\"\")","v":""},{"$f":"IF('Other Toolbox BMPs'!B150<>\"\",'Other Toolbox BMPs'!B150,\"\")","v":""},{"$f":"IF('Other Toolbox BMPs'!C150<>\"\",'Other Toolbox BMPs'!C150,\"\")","v":""},{"$f":"IF('Other Toolbox BMPs'!D150<>\"\",'Other Toolbox BMPs'!D150,\"\")","v":""},{"$f":"IF('Other Toolbox BMPs'!E150<>\"\",'Other Toolbox BMPs'!E150,\"\")","v":""},{"$f":"IF('Other Toolbox BMPs'!F150<>\"\",'Other Toolbox BMPs'!F150,\"\")","v":""},null,null,null,null,null,"","","","","","",""]
[{"$f":"IF('Other Toolbox BMPs'!A151<>\"\",'Other Toolbox BMPs'!A151,\"\")","v":""},{"$f":"IF('Other Toolbox BMPs'!H151<>\"\",'Other Toolbox BMPs'!H151,\"\")","v":""},{"$f":"IF('Other Toolbox BMPs'!B151<>\"\",'Other Toolbox BMPs'!B151,\"\")","v":""},{"$f":"IF('Other Toolbox BMPs'!C151<>\"\",'Other Toolbox BMPs'!C151,\"\")","v":""},{"$f":"IF('Other Toolbox BMPs'!D151<>\"\",'Other Toolbox BMPs'!D151,\"\")","v":""},{"$f":"IF('Other Toolbox BMPs'!E151<>\"\",'Other Toolbox BMPs'!E151,\"\")","v":""},{"$f":"IF('Other Toolbox BMPs'!F151<>\"\",'Other Toolbox BMPs'!F151,\"\")","v":""},null,null,null,null,null,"","","","","","",""]
[{"$f":"IF('Other Toolbox BMPs'!A152<>\"\",'Other Toolbox BMPs'!A152,\"\")","v":""},{"$f":"IF('Other Toolbox BMPs'!H152<>\"\",'Other Toolbox BMPs'!H152,\"\")","v":""},{"$f":"IF('Other Toolbox BMPs'!B152<>\"\",'Other Toolbox BMPs'!B152,\"\")","v":""},{"$f":"IF('Other Toolbox BMPs'!C152<>\"\",'Other Toolbox BMPs'!C152,\"\")","v":""},{"$f":"IF('Other Toolbox BMPs'!D152<>\"\",'Other Toolbox BMPs'!D152,\"\")","v":""},{"$f":"IF('Other Toolbox BMPs'!E152<>\"\",'Other Toolbox BMPs'!E152,\"\")","v":""},{"$f":"IF('Other Toolbox BMPs'!F152<>\"\",'Other Toolbox BMPs'!F152,\"\")","v":""},null,null,null,null,null,"","","","","","",""]
[{"$f":"IF('Other Toolbox BMPs'!A153<>\"\",'Other Toolbox BMPs'!A153,\"\")","v":""},{"$f":"IF('Other Toolbox BMPs'!H153<>\"\",'Other Toolbox BMPs'!H153,\"\")","v":""},{"$f":"IF('Other Toolbox BMPs'!B153<>\"\",'Other Toolbox BMPs'!B153,\"\")","v":""},{"$f":"IF('Other Toolbox BMPs'!C153<>\"\",'Other Toolbox BMPs'!C153,\"\")","v":""},{"$f":"IF('Other Toolbox BMPs'!D153<>\"\",'Other Toolbox BMPs'!D153,\"\")","v":""},{"$f":"IF('Other Toolbox BMPs'!E153<>\"\",'Other Toolbox BMPs'!E153,\"\")","v":""},{"$f":"IF('Other Toolbox BMPs'!F153<>\"\",'Other Toolbox BMPs'!F153,\"\")","v":""},null,null,null,null,null,"","","","","","",""]
[{"$f":"IF('Other Toolbox BMPs'!A154<>\"\",'Other Toolbox BMPs'!A154,\"\")","v":""},{"$f":"IF('Other Toolbox BMPs'!H154<>\"\",'Other Toolbox BMPs'!H154,\"\")","v":""},{"$f":"IF('Other Toolbox BMPs'!B154<>\"\",'Other Toolbox BMPs'!B154,\"\")","v":""},{"$f":"IF('Other Toolbox BMPs'!C154<>\"\",'Other Toolbox BMPs'!C154,\"\")","v":""},{"$f":"IF('Other Toolbox BMPs'!D154<>\"\",'Other Toolbox BMPs'!D154,\"\")","v":""},{"$f":"IF('Other Toolbox BMPs'!E154<>\"\",'Other Toolbox BMPs'!E154,\"\")","v":""},{"$f":"IF('Other Toolbox BMPs'!F154<>\"\",'Other Toolbox BMPs'!F154,\"\")","v":""},null,null,null,null,null,"","","","","","",""]
[{"$f":"IF('Other Toolbox BMPs'!A155<>\"\",'Other Toolbox BMPs'!A155,\"\")","v":""},{"$f":"IF('Other Toolbox BMPs'!H155<>\"\",'Other Toolbox BMPs'!H155,\"\")","v":""},{"$f":"IF('Other Toolbox BMPs'!B155<>\"\",'Other Toolbox BMPs'!B155,\"\")","v":""},{"$f":"IF('Other Toolbox BMPs'!C155<>\"\",'Other Toolbox BMPs'!C155,\"\")","v":""},{"$f":"IF('Other Toolbox BMPs'!D155<>\"\",'Other Toolbox BMPs'!D155,\"\")","v":""},{"$f":"IF('Other Toolbox BMPs'!E155<>\"\",'Other Toolbox BMPs'!E155,\"\")","v":""},{"$f":"IF('Other Toolbox BMPs'!F155<>\"\",'Other Toolbox BMPs'!F155,\"\")","v":""},null,null,null,null,null,"","","","","","",""]
[{"$f":"IF('Other Toolbox BMPs'!A156<>\"\",'Other Toolbox BMPs'!A156,\"\")","v":""},{"$f":"IF('Other Toolbox BMPs'!H156<>\"\",'Other Toolbox BMPs'!H156,\"\")","v":""},{"$f":"IF('Other Toolbox BMPs'!B156<>\"\",'Other Toolbox BMPs'!B156,\"\")","v":""},{"$f":"IF('Other Toolbox BMPs'!C156<>\"\",'Other Toolbox BMPs'!C156,\"\")","v":""},{"$f":"IF('Other Toolbox BMPs'!D156<>\"\",'Other Toolbox BMPs'!D156,\"\")","v":""},{"$f":"IF('Other Toolbox BMPs'!E156<>\"\",'Other Toolbox BMPs'!E156,\"\")","v":""},{"$f":"IF('Other Toolbox BMPs'!F156<>\"\",'Other Toolbox BMPs'!F156,\"\")","v":""},null,null,null,null,null,"","","","","","",""]
[{"$f":"IF('Other Toolbox BMPs'!A157<>\"\",'Other Toolbox BMPs'!A157,\"\")","v":""},{"$f":"IF('Other Toolbox BMPs'!H157<>\"\",'Other Toolbox BMPs'!H157,\"\")","v":""},{"$f":"IF('Other Toolbox BMPs'!B157<>\"\",'Other Toolbox BMPs'!B157,\"\")","v":""},{"$f":"IF('Other Toolbox BMPs'!C157<>\"\",'Other Toolbox BMPs'!C157,\"\")","v":""},{"$f":"IF('Other Toolbox BMPs'!D157<>\"\",'Other Toolbox BMPs'!D157,\"\")","v":""},{"$f":"IF('Other Toolbox BMPs'!E157<>\"\",'Other Toolbox BMPs'!E157,\"\")","v":""},{"$f":"IF('Other Toolbox BMPs'!F157<>\"\",'Other Toolbox BMPs'!F157,\"\")","v":""},null,null,null,null,null,"","","","","","",""]
[{"$f":"IF('Other Toolbox BMPs'!A158<>\"\",'Other Toolbox BMPs'!A158,\"\")","v":""},{"$f":"IF('Other Toolbox BMPs'!H158<>\"\",'Other Toolbox BMPs'!H158,\"\")","v":""},{"$f":"IF('Other Toolbox BMPs'!B158<>\"\",'Other Toolbox BMPs'!B158,\"\")","v":""},{"$f":"IF('Other Toolbox BMPs'!C158<>\"\",'Other Toolbox BMPs'!C158,\"\")","v":""},{"$f":"IF('Other Toolbox BMPs'!D158<>\"\",'Other Toolbox BMPs'!D158,\"\")","v":""},{"$f":"IF('Other Toolbox BMPs'!E158<>\"\",'Other Toolbox BMPs'!E158,\"\")","v":""},{"$f":"IF('Other Toolbox BMPs'!F158<>\"\",'Other Toolbox BMPs'!F158,\"\")","v":""},null,null,null,null,null,"","","","","","",""]
[{"$f":"IF('Other Toolbox BMPs'!A159<>\"\",'Other Toolbox BMPs'!A159,\"\")","v":""},{"$f":"IF('Other Toolbox BMPs'!H159<>\"\",'Other Toolbox BMPs'!H159,\"\")","v":""},{"$f":"IF('Other Toolbox BMPs'!B159<>\"\",'Other Toolbox BMPs'!B159,\"\")","v":""},{"$f":"IF('Other Toolbox BMPs'!C159<>\"\",'Other Toolbox BMPs'!C159,\"\")","v":""},{"$f":"IF('Other Toolbox BMPs'!D159<>\"\",'Other Toolbox BMPs'!D159,\"\")","v":""},{"$f":"IF('Other Toolbox BMPs'!E159<>\"\",'Other Toolbox BMPs'!E159,\"\")","v":""},{"$f":"IF('Other Toolbox BMPs'!F159<>\"\",'Other Toolbox BMPs'!F159,\"\")","v":""},null,null,null,null,null,"","","","","","",""]
[{"$f":"IF('Other Toolbox BMPs'!A160<>\"\",'Other Toolbox BMPs'!A160,\"\")","v":""},{"$f":"IF('Other Toolbox BMPs'!H160<>\"\",'Other Toolbox BMPs'!H160,\"\")","v":""},{"$f":"IF('Other Toolbox BMPs'!B160<>\"\",'Other Toolbox BMPs'!B160,\"\")","v":""},{"$f":"IF('Other Toolbox BMPs'!C160<>\"\",'Other Toolbox BMPs'!C160,\"\")","v":""},{"$f":"IF('Other Toolbox BMPs'!D160<>\"\",'Other Toolbox BMPs'!D160,\"\")","v":""},{"$f":"IF('Other Toolbox BMPs'!E160<>\"\",'Other Toolbox BMPs'!E160,\"\")","v":""},{"$f":"IF('Other Toolbox BMPs'!F160<>\"\",'Other Toolbox BMPs'!F160,\"\")","v":""},null,null,null,null,null,"","","","","","",""]
[{"$f":"IF('Other Toolbox BMPs'!A161<>\"\",'Other Toolbox BMPs'!A161,\"\")","v":""},{"$f":"IF('Other Toolbox BMPs'!H161<>\"\",'Other Toolbox BMPs'!H161,\"\")","v":""},{"$f":"IF('Other Toolbox BMPs'!B161<>\"\",'Other Toolbox BMPs'!B161,\"\")","v":""},{"$f":"IF('Other Toolbox BMPs'!C161<>\"\",'Other Toolbox BMPs'!C161,\"\")","v":""},{"$f":"IF('Other Toolbox BMPs'!D161<>\"\",'Other Toolbox BMPs'!D161,\"\")","v":""},{"$f":"IF('Other Toolbox BMPs'!E161<>\"\",'Other Toolbox BMPs'!E161,\"\")","v":""},{"$f":"IF('Other Toolbox BMPs'!F161<>\"\",'Other Toolbox BMPs'!F161,\"\")","v":""},null,null,null,null,null,"","","","","","",""]
[{"$f":"IF('Other Toolbox BMPs'!A162<>\"\",'Other Toolbox BMPs'!A162,\"\")","v":""},{"$f":"IF('Other Toolbox BMPs'!H162<>\"\",'Other Toolbox BMPs'!H162,\"\")","v":""},{"$f":"IF('Other Toolbox BMPs'!B162<>\"\",'Other Toolbox BMPs'!B162,\"\")","v":""},{"$f":"IF('Other Toolbox BMPs'!C162<>\"\",'Other Toolbox BMPs'!C162,\"\")","v":""},{"$f":"IF('Other Toolbox BMPs'!D162<>\"\",'Other Toolbox BMPs'!D162,\"\")","v":""},{"$f":"IF('Other Toolbox BMPs'!E162<>\"\",'Other Toolbox BMPs'!E162,\"\")","v":""},{"$f":"IF('Other Toolbox BMPs'!F162<>\"\",'Other Toolbox BMPs'!F162,\"\")","v":""},null,null,null,null,null,"","","","","","",""]
[{"$f":"IF('Other Toolbox BMPs'!A163<>\"\",'Other Toolbox BMPs'!A163,\"\")","v":""},{"$f":"IF('Other Toolbox BMPs'!H163<>\"\",'Other Toolbox BMPs'!H163,\"\")","v":""},{"$f":"IF('Other Toolbox BMPs'!B163<>\"\",'Other Toolbox BMPs'!B163,\"\")","v":""},{"$f":"IF('Other Toolbox BMPs'!C163<>\"\",'Other Toolbox BMPs'!C163,\"\")","v":""},{"$f":"IF('Other Toolbox BMPs'!D163<>\"\",'Other Toolbox BMPs'!D163,\"\")","v":""},{"$f":"IF('Other Toolbox BMPs'!E163<>\"\",'Other Toolbox BMPs'!E163,\"\")","v":""},{"$f":"IF('Other Toolbox BMPs'!F163<>\"\",'Other Toolbox BMPs'!F163,\"\")","v":""},null,null,null,null,null,"","","","","","",""]
[{"$f":"IF('Other Toolbox BMPs'!A164<>\"\",'Other Toolbox BMPs'!A164,\"\")","v":""},{"$f":"IF('Other Toolbox BMPs'!H164<>\"\",'Other Toolbox BMPs'!H164,\"\")","v":""},{"$f":"IF('Other Toolbox BMPs'!B164<>\"\",'Other Toolbox BMPs'!B164,\"\")","v":""},{"$f":"IF('Other Toolbox BMPs'!C164<>\"\",'Other Toolbox BMPs'!C164,\"\")","v":""},{"$f":"IF('Other Toolbox BMPs'!D164<>\"\",'Other Toolbox BMPs'!D164,\"\")","v":""},{"$f":"IF('Other Toolbox BMPs'!E164<>\"\",'Other Toolbox BMPs'!E164,\"\")","v":""},{"$f":"IF('Other Toolbox BMPs'!F164<>\"\",'Other Toolbox BMPs'!F164,\"\")","v":""},null,null,null,null,null,"","","","","","",""]
[{"$f":"IF('Other Toolbox BMPs'!A165<>\"\",'Other Toolbox BMPs'!A165,\"\")","v":""},{"$f":"IF('Other Toolbox BMPs'!H165<>\"\",'Other Toolbox BMPs'!H165,\"\")","v":""},{"$f":"IF('Other Toolbox BMPs'!B165<>\"\",'Other Toolbox BMPs'!B165,\"\")","v":""},{"$f":"IF('Other Toolbox BMPs'!C165<>\"\",'Other Toolbox BMPs'!C165,\"\")","v":""},{"$f":"IF('Other Toolbox BMPs'!D165<>\"\",'Other Toolbox BMPs'!D165,\"\")","v":""},{"$f":"IF('Other Toolbox BMPs'!E165<>\"\",'Other Toolbox BMPs'!E165,\"\")","v":""},{"$f":"IF('Other Toolbox BMPs'!F165<>\"\",'Other Toolbox BMPs'!F165,\"\")","v":""},null,null,null,null,null,"","","","","","",""]
[{"$f":"IF('Other Toolbox BMPs'!A180<>\"\",'Other Toolbox BMPs'!A180,\"\")","v":""},{"$f":"IF('Other Toolbox BMPs'!H180<>\"\",'Other Toolbox BMPs'!H180,\"\")","v":""},{"$f":"IF('Other Toolbox BMPs'!B180<>\"\",'Other Toolbox BMPs'!B180,\"\")","v":""},{"$f":"IF('Other Toolbox BMPs'!C180<>\"\",'Other Toolbox BMPs'!C180,\"\")","v":""},{"$f":"IF('Other Toolbox BMPs'!D180<>\"\",'Other Toolbox BMPs'!D180,\"\")","v":""},{"$f":"IF('Other Toolbox BMPs'!E180<>\"\",'Other Toolbox BMPs'!E180,\"\")","v":""},{"$f":"IF('Other Toolbox BMPs'!F180<>\"\",'Other Toolbox BMPs'!F180,\"\")","v":""},null,null,null,null,null,"","","","","","",""]
[{"$f":"IF('Other Toolbox BMPs'!A181<>\"\",'Other Toolbox BMPs'!A181,\"\")","v":""},{"$f":"IF('Other Toolbox BMPs'!H181<>\"\",'Other Toolbox BMPs'!H181,\"\")","v":""},{"$f":"IF('Other Toolbox BMPs'!B181<>\"\",'Other Toolbox BMPs'!B181,\"\")","v":""},{"$f":"IF('Other Toolbox BMPs'!C181<>\"\",'Other Toolbox BMPs'!C181,\"\")","v":""},{"$f":"IF('Other Toolbox BMPs'!D181<>\"\",'Other Toolbox BMPs'!D181,\"\")","v":""},{"$f":"IF('Other Toolbox BMPs'!E181<>\"\",'Other Toolbox BMPs'!E181,\"\")","v":""},{"$f":"IF('Other Toolbox BMPs'!F181<>\"\",'Other Toolbox BMPs'!F181,\"\")","v":""},null,null,null,null,null,"","","","","","",""]
[{"$f":"IF('Other Toolbox BMPs'!A182<>\"\",'Other Toolbox BMPs'!A182,\"\")","v":""},{"$f":"IF('Other Toolbox BMPs'!H182<>\"\",'Other Toolbox BMPs'!H182,\"\")","v":""},{"$f":"IF('Other Toolbox BMPs'!B182<>\"\",'Other Toolbox BMPs'!B182,\"\")","v":""},{"$f":"IF('Other Toolbox BMPs'!C182<>\"\",'Other Toolbox BMPs'!C182,\"\")","v":""},{"$f":"IF('Other Toolbox BMPs'!D182<>\"\",'Other Toolbox BMPs'!D182,\"\")","v":""},{"$f":"IF('Other Toolbox BMPs'!E182<>\"\",'Other Toolbox BMPs'!E182,\"\")","v":""},{"$f":"IF('Other Toolbox BMPs'!F182<>\"\",'Other Toolbox BMPs'!F182,\"\")","v":""},null,null,null,null,null,"","","","","","",""]
[{"$f":"IF('Other Toolbox BMPs'!A183<>\"\",'Other Toolbox BMPs'!A183,\"\")","v":""},{"$f":"IF('Other Toolbox BMPs'!H183<>\"\",'Other Toolbox BMPs'!H183,\"\")","v":""},{"$f":"IF('Other Toolbox BMPs'!B183<>\"\",'Other Toolbox BMPs'!B183,\"\")","v":""},{"$f":"IF('Other Toolbox BMPs'!C183<>\"\",'Other Toolbox BMPs'!C183,\"\")","v":""},{"$f":"IF('Other Toolbox BMPs'!D183<>\"\",'Other Toolbox BMPs'!D183,\"\")","v":""},{"$f":"IF('Other Toolbox BMPs'!E183<>\"\",'Other Toolbox BMPs'!E183,\"\")","v":""},{"$f":"IF('Other Toolbox BMPs'!F183<>\"\",'Other Toolbox BMPs'!F183,\"\")","v":""},null,null,null,null,null,"","","","","","",""]
[{"$f":"IF('Other Toolbox BMPs'!A184<>\"\",'Other Toolbox BMPs'!A184,\"\")","v":""},{"$f":"IF('Other Toolbox BMPs'!H184<>\"\",'Other Toolbox BMPs'!H184,\"\")","v":""},{"$f":"IF('Other Toolbox BMPs'!B184<>\"\",'Other Toolbox BMPs'!B184,\"\")","v":""},{"$f":"IF('Other Toolbox BMPs'!C184<>\"\",'Other Toolbox BMPs'!C184,\"\")","v":""},{"$f":"IF('Other Toolbox BMPs'!D184<>\"\",'Other Toolbox BMPs'!D184,\"\")","v":""},{"$f":"IF('Other Toolbox BMPs'!E184<>\"\",'Other Toolbox BMPs'!E184,\"\")","v":""},{"$f":"IF('Other Toolbox BMPs'!F184<>\"\",'Other Toolbox BMPs'!F184,\"\")","v":""},null,null,null,null,null,"","","","","","",""]
[{"$f":"IF('Other Toolbox BMPs'!A185<>\"\",'Other Toolbox BMPs'!A185,\"\")","v":""},{"$f":"IF('Other Toolbox BMPs'!H185<>\"\",'Other Toolbox BMPs'!H185,\"\")","v":""},{"$f":"IF('Other Toolbox BMPs'!B185<>\"\",'Other Toolbox BMPs'!B185,\"\")","v":""},{"$f":"IF('Other Toolbox BMPs'!C185<>\"\",'Other Toolbox BMPs'!C185,\"\")","v":""},{"$f":"IF('Other Toolbox BMPs'!D185<>\"\",'Other Toolbox BMPs'!D185,\"\")","v":""},{"$f":"IF('Other Toolbox BMPs'!E185<>\"\",'Other Toolbox BMPs'!E185,\"\")","v":""},{"$f":"IF('Other Toolbox BMPs'!F185<>\"\",'Other Toolbox BMPs'!F185,\"\")","v":""},null,null,null,null,null,"","","","","","",""]
[{"$f":"IF('Other Toolbox BMPs'!A186<>\"\",'Other Toolbox BMPs'!A186,\"\")","v":""},{"$f":"IF('Other Toolbox BMPs'!H186<>\"\",'Other Toolbox BMPs'!H186,\"\")","v":""},{"$f":"IF('Other Toolbox BMPs'!B186<>\"\",'Other Toolbox BMPs'!B186,\"\")","v":""},{"$f":"IF('Other Toolbox BMPs'!C186<>\"\",'Other Toolbox BMPs'!C186,\"\")","v":""},{"$f":"IF('Other Toolbox BMPs'!D186<>\"\",'Other Toolbox BMPs'!D186,\"\")","v":""},{"$f":"IF('Other Toolbox BMPs'!E186<>\"\",'Other Toolbox BMPs'!E186,\"\")","v":""},{"$f":"IF('Other Toolbox BMPs'!F186<>\"\",'Other Toolbox BMPs'!F186,\"\")","v":""},null,null,null,null,null,"","","","","","",""]
[{"$f":"IF('Other Toolbox BMPs'!A187<>\"\",'Other Toolbox BMPs'!A187,\"\")","v":""},{"$f":"IF('Other Toolbox BMPs'!H187<>\"\",'Other Toolbox BMPs'!H187,\"\")","v":""},{"$f":"IF('Other Toolbox BMPs'!B187<>\"\",'Other Toolbox BMPs'!B187,\"\")","v":""},{"$f":"IF('Other Toolbox BMPs'!C187<>\"\",'Other Toolbox BMPs'!C187,\"\")","v":""},{"$f":"IF('Other Toolbox BMPs'!D187<>\"\",'Other Toolbox BMPs'!D187,\"\")","v":""},{"$f":"IF('Other Toolbox BMPs'!E187<>\"\",'Other Toolbox BMPs'!E187,\"\")","v":""},{"$f":"IF('Other Toolbox BMPs'!F187<>\"\",'Other Toolbox BMPs'!F187,\"\")","v":""},null,null,null,null,null,"","","","","","",""]
[{"$f":"IF('Other Toolbox BMPs'!A188<>\"\",'Other Toolbox BMPs'!A188,\"\")","v":""},{"$f":"IF('Other Toolbox BMPs'!H188<>\"\",'Other Toolbox BMPs'!H188,\"\")","v":""},{"$f":"IF('Other Toolbox BMPs'!B188<>\"\",'Other Toolbox BMPs'!B188,\"\")","v":""},{"$f":"IF('Other Toolbox BMPs'!C188<>\"\",'Other Toolbox BMPs'!C188,\"\")","v":""},{"$f":"IF('Other Toolbox BMPs'!D188<>\"\",'Other Toolbox BMPs'!D188,\"\")","v":""},{"$f":"IF('Other Toolbox BMPs'!E188<>\"\",'Other Toolbox BMPs'!E188,\"\")","v":""},{"$f":"IF('Other Toolbox BMPs'!F188<>\"\",'Other Toolbox BMPs'!F188,\"\")","v":""},null,null,null,null,null,"","","","","","",""]
[{"$f":"IF('Other Toolbox BMPs'!A189<>\"\",'Other Toolbox BMPs'!A189,\"\")","v":""},{"$f":"IF('Other Toolbox BMPs'!H189<>\"\",'Other Toolbox BMPs'!H189,\"\")","v":""},{"$f":"IF('Other Toolbox BMPs'!B189<>\"\",'Other Toolbox BMPs'!B189,\"\")","v":""},{"$f":"IF('Other Toolbox BMPs'!C189<>\"\",'Other Toolbox BMPs'!C189,\"\")","v":""},{"$f":"IF('Other Toolbox BMPs'!D189<>\"\",'Other Toolbox BMPs'!D189,\"\")","v":""},{"$f":"IF('Other Toolbox BMPs'!E189<>\"\",'Other Toolbox BMPs'!E189,\"\")","v":""},{"$f":"IF('Other Toolbox BMPs'!F189<>\"\",'Other Toolbox BMPs'!F189,\"\")","v":""},null,null,null,null,null,"","","","","","",""]
[{"$f":"IF('Other Toolbox BMPs'!A190<>\"\",'Other Toolbox BMPs'!A190,\"\")","v":""},{"$f":"IF('Other Toolbox BMPs'!H190<>\"\",'Other Toolbox BMPs'!H190,\"\")","v":""},{"$f":"IF('Other Toolbox BMPs'!B190<>\"\",'Other Toolbox BMPs'!B190,\"\")","v":""},{"$f":"IF('Other Toolbox BMPs'!C190<>\"\",'Other Toolbox BMPs'!C190,\"\")","v":""},{"$f":"IF('Other Toolbox BMPs'!D190<>\"\",'Other Toolbox BMPs'!D190,\"\")","v":""},{"$f":"IF('Other Toolbox BMPs'!E190<>\"\",'Other Toolbox BMPs'!E190,\"\")","v":""},{"$f":"IF('Other Toolbox BMPs'!F190<>\"\",'Other Toolbox BMPs'!F190,\"\")","v":""},null,null,null,null,null,"","","","","","",""]
[{"$f":"IF('Other Toolbox BMPs'!A191<>\"\",'Other Toolbox BMPs'!A191,\"\")","v":""},{"$f":"IF('Other Toolbox BMPs'!H191<>\"\",'Other Toolbox BMPs'!H191,\"\")","v":""},{"$f":"IF('Other Toolbox BMPs'!B191<>\"\",'Other Toolbox BMPs'!B191,\"\")","v":""},{"$f":"IF('Other Toolbox BMPs'!C191<>\"\",'Other Toolbox BMPs'!C191,\"\")","v":""},{"$f":"IF('Other Toolbox BMPs'!D191<>\"\",'Other Toolbox BMPs'!D191,\"\")","v":""},{"$f":"IF('Other Toolbox BMPs'!E191<>\"\",'Other Toolbox BMPs'!E191,\"\")","v":""},{"$f":"IF('Other Toolbox BMPs'!F191<>\"\",'Other Toolbox BMPs'!F191,\"\")","v":""},null,null,null,null,null,"","","","","","",""]
[{"$f":"IF('Other Toolbox BMPs'!A192<>\"\",'Other Toolbox BMPs'!A192,\"\")","v":""},{"$f":"IF('Other Toolbox BMPs'!H192<>\"\",'Other Toolbox BMPs'!H192,\"\")","v":""},{"$f":"IF('Other Toolbox BMPs'!B192<>\"\",'Other Toolbox BMPs'!B192,\"\")","v":""},{"$f":"IF('Other Toolbox BMPs'!C192<>\"\",'Other Toolbox BMPs'!C192,\"\")","v":""},{"$f":"IF('Other Toolbox BMPs'!D192<>\"\",'Other Toolbox BMPs'!D192,\"\")","v":""},{"$f":"IF('Other Toolbox BMPs'!E192<>\"\",'Other Toolbox BMPs'!E192,\"\")","v":""},{"$f":"IF('Other Toolbox BMPs'!F192<>\"\",'Other Toolbox BMPs'!F192,\"\")","v":""},null,null,null,null,null,"","","","","","",""]
[{"$f":"IF('Other Toolbox BMPs'!A193<>\"\",'Other Toolbox BMPs'!A193,\"\")","v":""},{"$f":"IF('Other Toolbox BMPs'!H193<>\"\",'Other Toolbox BMPs'!H193,\"\")","v":""},{"$f":"IF('Other Toolbox BMPs'!B193<>\"\",'Other Toolbox BMPs'!B193,\"\")","v":""},{"$f":"IF('Other Toolbox BMPs'!C193<>\"\",'Other Toolbox BMPs'!C193,\"\")","v":""},{"$f":"IF('Other Toolbox BMPs'!D193<>\"\",'Other Toolbox BMPs'!D193,\"\")","v":""},{"$f":"IF('Other Toolbox BMPs'!E193<>\"\",'Other Toolbox BMPs'!E193,\"\")","v":""},{"$f":"IF('Other Toolbox BMPs'!F193<>\"\",'Other Toolbox BMPs'!F193,\"\")","v":""},null,null,null,null,null,"","","","","","",""]
[{"$f":"IF('Other Toolbox BMPs'!A194<>\"\",'Other Toolbox BMPs'!A194,\"\")","v":""},{"$f":"IF('Other Toolbox BMPs'!H194<>\"\",'Other Toolbox BMPs'!H194,\"\")","v":""},{"$f":"IF('Other Toolbox BMPs'!B194<>\"\",'Other Toolbox BMPs'!B194,\"\")","v":""},{"$f":"IF('Other Toolbox BMPs'!C194<>\"\",'Other Toolbox BMPs'!C194,\"\")","v":""},{"$f":"IF('Other Toolbox BMPs'!D194<>\"\",'Other Toolbox BMPs'!D194,\"\")","v":""},{"$f":"IF('Other Toolbox BMPs'!E194<>\"\",'Other Toolbox BMPs'!E194,\"\")","v":""},{"$f":"IF('Other Toolbox BMPs'!F194<>\"\",'Other Toolbox BMPs'!F194,\"\")","v":""},null,null,null,null,null,"","","","","","",""]
[{"$f":"IF('Other Toolbox BMPs'!A195<>\"\",'Other Toolbox BMPs'!A195,\"\")","v":""},{"$f":"IF('Other Toolbox BMPs'!H195<>\"\",'Other Toolbox BMPs'!H195,\"\")","v":""},{"$f":"IF('Other Toolbox BMPs'!B195<>\"\",'Other Toolbox BMPs'!B195,\"\")","v":""},{"$f":"IF('Other Toolbox BMPs'!C195<>\"\",'Other Toolbox BMPs'!C195,\"\")","v":""},{"$f":"IF('Other Toolbox BMPs'!D195<>\"\",'Other Toolbox BMPs'!D195,\"\")","v":""},{"$f":"IF('Other Toolbox BMPs'!E195<>\"\",'Other Toolbox BMPs'!E195,\"\")","v":""},{"$f":"IF('Other Toolbox BMPs'!F195<>\"\",'Other Toolbox BMPs'!F195,\"\")","v":""},null,null,null,null,null,"","","","","","",""]
[{"$f":"IF('Other Toolbox BMPs'!A196<>\"\",'Other Toolbox BMPs'!A196,\"\")","v":""},{"$f":"IF('Other Toolbox BMPs'!H196<>\"\",'Other Toolbox BMPs'!H196,\"\")","v":""},{"$f":"IF('Other Toolbox BMPs'!B196<>\"\",'Other Toolbox BMPs'!B196,\"\")","v":""},{"$f":"IF('Other Toolbox BMPs'!C196<>\"\",'Other Toolbox BMPs'!C196,\"\")","v":""},{"$f":"IF('Other Toolbox BMPs'!D196<>\"\",'Other Toolbox BMPs'!D196,\"\")","v":""},{"$f":"IF('Other Toolbox BMPs'!E196<>\"\",'Other Toolbox BMPs'!E196,\"\")","v":""},{"$f":"IF('Other Toolbox BMPs'!F196<>\"\",'Other Toolbox BMPs'!F196,\"\")","v":""},null,null,null,null,null,"","","","","","",""]
[{"$f":"IF('Other Toolbox BMPs'!A197<>\"\",'Other Toolbox BMPs'!A197,\"\")","v":""},{"$f":"IF('Other Toolbox BMPs'!H197<>\"\",'Other Toolbox BMPs'!H197,\"\")","v":""},{"$f":"IF('Other Toolbox BMPs'!B197<>\"\",'Other Toolbox BMPs'!B197,\"\")","v":""},{"$f":"IF('Other Toolbox BMPs'!C197<>\"\",'Other Toolbox BMPs'!C197,\"\")","v":""},{"$f":"IF('Other Toolbox BMPs'!D197<>\"\",'Other Toolbox BMPs'!D197,\"\")","v":""},{"$f":"IF('Other Toolbox BMPs'!E197<>\"\",'Other Toolbox BMPs'!E197,\"\")","v":""},{"$f":"IF('Other Toolbox BMPs'!F197<>\"\",'Other Toolbox BMPs'!F197,\"\")","v":""},null,null,null,null,null,"","","","","","",""]
[{"$f":"IF('Other Toolbox BMPs'!A198<>\"\",'Other Toolbox BMPs'!A198,\"\")","v":""},{"$f":"IF('Other Toolbox BMPs'!H198<>\"\",'Other Toolbox BMPs'!H198,\"\")","v":""},{"$f":"IF('Other Toolbox BMPs'!B198<>\"\",'Other Toolbox BMPs'!B198,\"\")","v":""},{"$f":"IF('Other Toolbox BMPs'!C198<>\"\",'Other Toolbox BMPs'!C198,\"\")","v":""},{"$f":"IF('Other Toolbox BMPs'!D198<>\"\",'Other Toolbox BMPs'!D198,\"\")","v":""},{"$f":"IF('Other Toolbox BMPs'!E198<>\"\",'Other Toolbox BMPs'!E198,\"\")","v":""},{"$f":"IF('Other Toolbox BMPs'!F198<>\"\",'Other Toolbox BMPs'!F198,\"\")","v":""},null,null,null,null,null,"","","","","","",""]
[{"$f":"IF('Other Toolbox BMPs'!A199<>\"\",'Other Toolbox BMPs'!A199,\"\")","v":""},{"$f":"IF('Other Toolbox BMPs'!H199<>\"\",'Other Toolbox BMPs'!H199,\"\")","v":""},{"$f":"IF('Other Toolbox BMPs'!B199<>\"\",'Other Toolbox BMPs'!B199,\"\")","v":""},{"$f":"IF('Other Toolbox BMPs'!C199<>\"\",'Other Toolbox BMPs'!C199,\"\")","v":""},{"$f":"IF('Other Toolbox BMPs'!D199<>\"\",'Other Toolbox BMPs'!D199,\"\")","v":""},{"$f":"IF('Other Toolbox BMPs'!E199<>\"\",'Other Toolbox BMPs'!E199,\"\")","v":""},{"$f":"IF('Other Toolbox BMPs'!F199<>\"\",'Other Toolbox BMPs'!F199,\"\")","v":""},null,null,null,null,null,"","","","","","",""]
[{"$f":"IF('Other Toolbox BMPs'!A200<>\"\",'Other Toolbox BMPs'!A200,\"\")","v":""},{"$f":"IF('Other Toolbox BMPs'!H200<>\"\",'Other Toolbox BMPs'!H200,\"\")","v":""},{"$f":"IF('Other Toolbox BMPs'!B200<>\"\",'Other Toolbox BMPs'!B200,\"\")","v":""},{"$f":"IF('Other Toolbox BMPs'!C200<>\"\",'Other Toolbox BMPs'!C200,\"\")","v":""},{"$f":"IF('Other Toolbox BMPs'!D200<>\"\",'Other Toolbox BMPs'!D200,\"\")","v":""},{"$f":"IF('Other Toolbox BMPs'!E200<>\"\",'Other Toolbox BMPs'!E200,\"\")","v":""},{"$f":"IF('Other Toolbox BMPs'!F200<>\"\",'Other Toolbox BMPs'!F200,\"\")","v":""},null,null,null,null,null,"","","","","","",""]
[{"$f":"IF('Other Toolbox BMPs'!A201<>\"\",'Other Toolbox BMPs'!A201,\"\")","v":""},{"$f":"IF('Other Toolbox BMPs'!H201<>\"\",'Other Toolbox BMPs'!H201,\"\")","v":""},{"$f":"IF('Other Toolbox BMPs'!B201<>\"\",'Other Toolbox BMPs'!B201,\"\")","v":""},{"$f":"IF('Other Toolbox BMPs'!C201<>\"\",'Other Toolbox BMPs'!C201,\"\")","v":""},{"$f":"IF('Other Toolbox BMPs'!D201<>\"\",'Other Toolbox BMPs'!D201,\"\")","v":""},{"$f":"IF('Other Toolbox BMPs'!E201<>\"\",'Other Toolbox BMPs'!E201,\"\")","v":""},{"$f":"IF('Other Toolbox BMPs'!F201<>\"\",'Other Toolbox BMPs'!F201,\"\")","v":""},null,null,null,null,null,"","","","","","",""]
[{"$f":"IF('Other Toolbox BMPs'!A202<>\"\",'Other Toolbox BMPs'!A202,\"\")","v":""},{"$f":"IF('Other Toolbox BMPs'!H202<>\"\",'Other Toolbox BMPs'!H202,\"\")","v":""},{"$f":"IF('Other Toolbox BMPs'!B202<>\"\",'Other Toolbox BMPs'!B202,\"\")","v":""},{"$f":"IF('Other Toolbox BMPs'!C202<>\"\",'Other Toolbox BMPs'!C202,\"\")","v":""},{"$f":"IF('Other Toolbox BMPs'!D202<>\"\",'Other Toolbox BMPs'!D202,\"\")","v":""},{"$f":"IF('Other Toolbox BMPs'!E202<>\"\",'Other Toolbox BMPs'!E202,\"\")","v":""},{"$f":"IF('Other Toolbox BMPs'!F202<>\"\",'Other Toolbox BMPs'!F202,\"\")","v":""},null,null,null,null,null,"","","","","","",""]
[{"$f":"IF('Other Toolbox BMPs'!A203<>\"\",'Other Toolbox BMPs'!A203,\"\")","v":""},{"$f":"IF('Other Toolbox BMPs'!H203<>\"\",'Other Toolbox BMPs'!H203,\"\")","v":""},{"$f":"IF('Other Toolbox BMPs'!B203<>\"\",'Other Toolbox BMPs'!B203,\"\")","v":""},{"$f":"IF('Other Toolbox BMPs'!C203<>\"\",'Other Toolbox BMPs'!C203,\"\")","v":""},{"$f":"IF('Other Toolbox BMPs'!D203<>\"\",'Other Toolbox BMPs'!D203,\"\")","v":""},{"$f":"IF('Other Toolbox BMPs'!E203<>\"\",'Other Toolbox BMPs'!E203,\"\")","v":""},{"$f":"IF('Other Toolbox BMPs'!F203<>\"\",'Other Toolbox BMPs'!F203,\"\")","v":""},null,null,null,null,null,"","","","","","",""]
[{"$f":"IF('Other Toolbox BMPs'!A204<>\"\",'Other Toolbox BMPs'!A204,\"\")","v":""},{"$f":"IF('Other Toolbox BMPs'!H204<>\"\",'Other Toolbox BMPs'!H204,\"\")","v":""},{"$f":"IF('Other Toolbox BMPs'!B204<>\"\",'Other Toolbox BMPs'!B204,\"\")","v":""},{"$f":"IF('Other Toolbox BMPs'!C204<>\"\",'Other Toolbox BMPs'!C204,\"\")","v":""},{"$f":"IF('Other Toolbox BMPs'!D204<>\"\",'Other Toolbox BMPs'!D204,\"\")","v":""},{"$f":"IF('Other Toolbox BMPs'!E204<>\"\",'Other Toolbox BMPs'!E204,\"\")","v":""},{"$f":"IF('Other Toolbox BMPs'!F204<>\"\",'Other Toolbox BMPs'!F204,\"\")","v":""},null,null,null,null,null,"","","","","","",""]
[{"$f":"IF('Other Toolbox BMPs'!A205<>\"\",'Other Toolbox BMPs'!A205,\"\")","v":""},{"$f":"IF('Other Toolbox BMPs'!H205<>\"\",'Other Toolbox BMPs'!H205,\"\")","v":""},{"$f":"IF('Other Toolbox BMPs'!B205<>\"\",'Other Toolbox BMPs'!B205,\"\")","v":""},{"$f":"IF('Other Toolbox BMPs'!C205<>\"\",'Other Toolbox BMPs'!C205,\"\")","v":""},{"$f":"IF('Other Toolbox BMPs'!D205<>\"\",'Other Toolbox BMPs'!D205,\"\")","v":""},{"$f":"IF('Other Toolbox BMPs'!E205<>\"\",'Other Toolbox BMPs'!E205,\"\")","v":""},{"$f":"IF('Other Toolbox BMPs'!F205<>\"\",'Other Toolbox BMPs'!F205,\"\")","v":""},null,null,null,null,null,"","","","","","",""]
[{"$f":"IF('Other Toolbox BMPs'!A206<>\"\",'Other Toolbox BMPs'!A206,\"\")","v":""},{"$f":"IF('Other Toolbox BMPs'!H206<>\"\",'Other Toolbox BMPs'!H206,\"\")","v":""},{"$f":"IF('Other Toolbox BMPs'!B206<>\"\",'Other Toolbox BMPs'!B206,\"\")","v":""},{"$f":"IF('Other Toolbox BMPs'!C206<>\"\",'Other Toolbox BMPs'!C206,\"\")","v":""},{"$f":"IF('Other Toolbox BMPs'!D206<>\"\",'Other Toolbox BMPs'!D206,\"\")","v":""},{"$f":"IF('Other Toolbox BMPs'!E206<>\"\",'Other Toolbox BMPs'!E206,\"\")","v":""},{"$f":"IF('Other Toolbox BMPs'!F206<>\"\",'Other Toolbox BMPs'!F206,\"\")","v":""},null,null,null,null,null,"","","","","","",""]
[{"$f":"IF('Other Toolbox BMPs'!A207<>\"\",'Other Toolbox BMPs'!A207,\"\")","v":""},{"$f":"IF('Other Toolbox BMPs'!H207<>\"\",'Other Toolbox BMPs'!H207,\"\")","v":""},{"$f":"IF('Other Toolbox BMPs'!B207<>\"\",'Other Toolbox BMPs'!B207,\"\")","v":""},{"$f":"IF('Other Toolbox BMPs'!C207<>\"\",'Other Toolbox BMPs'!C207,\"\")","v":""},{"$f":"IF('Other Toolbox BMPs'!D207<>\"\",'Other Toolbox BMPs'!D207,\"\")","v":""},{"$f":"IF('Other Toolbox BMPs'!E207<>\"\",'Other Toolbox BMPs'!E207,\"\")","v":""},{"$f":"IF('Other Toolbox BMPs'!F207<>\"\",'Other Toolbox BMPs'!F207,\"\")","v":""},null,null,null,null,null,"","","","","","",""]
[{"$f":"IF('Other Toolbox BMPs'!A208<>\"\",'Other Toolbox BMPs'!A208,\"\")","v":""},{"$f":"IF('Other Toolbox BMPs'!H208<>\"\",'Other Toolbox BMPs'!H208,\"\")","v":""},{"$f":"IF('Other Toolbox BMPs'!B208<>\"\",'Other Toolbox BMPs'!B208,\"\")","v":""},{"$f":"IF('Other Toolbox BMPs'!C208<>\"\",'Other Toolbox BMPs'!C208,\"\")","v":""},{"$f":"IF('Other Toolbox BMPs'!D208<>\"\",'Other Toolbox BMPs'!D208,\"\")","v":""},{"$f":"IF('Other Toolbox BMPs'!E208<>\"\",'Other Toolbox BMPs'!E208,\"\")","v":""},{"$f":"IF('Other Toolbox BMPs'!F208<>\"\",'Other Toolbox BMPs'!F208,\"\")","v":""},null,null,null,null,null,"","","","","","",""]
[{"$f":"IF('Other Toolbox BMPs'!A209<>\"\",'Other Toolbox BMPs'!A209,\"\")","v":""},{"$f":"IF('Other Toolbox BMPs'!H209<>\"\",'Other Toolbox BMPs'!H209,\"\")","v":""},{"$f":"IF('Other Toolbox BMPs'!B209<>\"\",'Other Toolbox BMPs'!B209,\"\")","v":""},{"$f":"IF('Other Toolbox BMPs'!C209<>\"\",'Other Toolbox BMPs'!C209,\"\")","v":""},{"$f":"IF('Other Toolbox BMPs'!D209<>\"\",'Other Toolbox BMPs'!D209,\"\")","v":""},{"$f":"IF('Other Toolbox BMPs'!E209<>\"\",'Other Toolbox BMPs'!E209,\"\")","v":""},{"$f":"IF('Other Toolbox BMPs'!F209<>\"\",'Other Toolbox BMPs'!F209,\"\")","v":""},null,null,null,null,null,"","","","","","",""]
[{"$f":"IF('Other Toolbox BMPs'!A210<>\"\",'Other Toolbox BMPs'!A210,\"\")","v":""},{"$f":"IF('Other Toolbox BMPs'!H210<>\"\",'Other Toolbox BMPs'!H210,\"\")","v":""},{"$f":"IF('Other Toolbox BMPs'!B210<>\"\",'Other Toolbox BMPs'!B210,\"\")","v":""},{"$f":"IF('Other Toolbox BMPs'!C210<>\"\",'Other Toolbox BMPs'!C210,\"\")","v":""},{"$f":"IF('Other Toolbox BMPs'!D210<>\"\",'Other Toolbox BMPs'!D210,\"\")","v":""},{"$f":"IF('Other Toolbox BMPs'!E210<>\"\",'Other Toolbox BMPs'!E210,\"\")","v":""},{"$f":"IF('Other Toolbox BMPs'!F210<>\"\",'Other Toolbox BMPs'!F210,\"\")","v":""},null,null,null,null,null,"","","","","","",""]
[{"$f":"IF('Other Toolbox BMPs'!A211<>\"\",'Other Toolbox BMPs'!A211,\"\")","v":""},{"$f":"IF('Other Toolbox BMPs'!H211<>\"\",'Other Toolbox BMPs'!H211,\"\")","v":""},{"$f":"IF('Other Toolbox BMPs'!B211<>\"\",'Other Toolbox BMPs'!B211,\"\")","v":""},{"$f":"IF('Other Toolbox BMPs'!C211<>\"\",'Other Toolbox BMPs'!C211,\"\")","v":""},{"$f":"IF('Other Toolbox BMPs'!D211<>\"\",'Other Toolbox BMPs'!D211,\"\")","v":""},{"$f":"IF('Other Toolbox BMPs'!E211<>\"\",'Other Toolbox BMPs'!E211,\"\")","v":""},{"$f":"IF('Other Toolbox BMPs'!F211<>\"\",'Other Toolbox BMPs'!F211,\"\")","v":""},null,null,null,null,null,"","","","","","",""]
[{"$f":"IF('Other Toolbox BMPs'!A212<>\"\",'Other Toolbox BMPs'!A212,\"\")","v":""},{"$f":"IF('Other Toolbox BMPs'!H212<>\"\",'Other Toolbox BMPs'!H212,\"\")","v":""},{"$f":"IF('Other Toolbox BMPs'!B212<>\"\",'Other Toolbox BMPs'!B212,\"\")","v":""},{"$f":"IF('Other Toolbox BMPs'!C212<>\"\",'Other Toolbox BMPs'!C212,\"\")","v":""},{"$f":"IF('Other Toolbox BMPs'!D212<>\"\",'Other Toolbox BMPs'!D212,\"\")","v":""},{"$f":"IF('Other Toolbox BMPs'!E212<>\"\",'Other Toolbox BMPs'!E212,\"\")","v":""},{"$f":"IF('Other Toolbox BMPs'!F212<>\"\",'Other Toolbox BMPs'!F212,\"\")","v":""},null,null,null,null,null,"","","","","","",""]
[{"$f":"IF('Other Toolbox BMPs'!A213<>\"\",'Other Toolbox BMPs'!A213,\"\")","v":""},{"$f":"IF('Other Toolbox BMPs'!H213<>\"\",'Other Toolbox BMPs'!H213,\"\")","v":""},{"$f":"IF('Other Toolbox BMPs'!B213<>\"\",'Other Toolbox BMPs'!B213,\"\")","v":""},{"$f":"IF('Other Toolbox BMPs'!C213<>\"\",'Other Toolbox BMPs'!C213,\"\")","v":""},{"$f":"IF('Other Toolbox BMPs'!D213<>\"\",'Other Toolbox BMPs'!D213,\"\")","v":""},{"$f":"IF('Other Toolbox BMPs'!E213<>\"\",'Other Toolbox BMPs'!E213,\"\")","v":""},{"$f":"IF('Other Toolbox BMPs'!F213<>\"\",'Other Toolbox BMPs'!F213,\"\")","v":""},null,null,null,null,null,"","","","","","",""]
[{"$f":"IF('Other Toolbox BMPs'!A214<>\"\",'Other Toolbox BMPs'!A214,\"\")","v":""},{"$f":"IF('Other Toolbox BMPs'!H214<>\"\",'Other Toolbox BMPs'!H214,\"\")","v":""},{"$f":"IF('Other Toolbox BMPs'!B214<>\"\",'Other Toolbox BMPs'!B214,\"\")","v":""},{"$f":"IF('Other Toolbox BMPs'!C214<>\"\",'Other Toolbox BMPs'!C214,\"\")","v":""},{"$f":"IF('Other Toolbox BMPs'!D214<>\"\",'Other Toolbox BMPs'!D214,\"\")","v":""},{"$f":"IF('Other Toolbox BMPs'!E214<>\"\",'Other Toolbox BMPs'!E214,\"\")","v":""},{"$f":"IF('Other Toolbox BMPs'!F214<>\"\",'Other Toolbox BMPs'!F214,\"\")","v":""},null,null,null,null,null,"","","","","","",""]
[{"$f":"IF('Other Toolbox BMPs'!A215<>\"\",'Other Toolbox BMPs'!A215,\"\")","v":""},{"$f":"IF('Other Toolbox BMPs'!H215<>\"\",'Other Toolbox BMPs'!H215,\"\")","v":""},{"$f":"IF('Other Toolbox BMPs'!B215<>\"\",'Other Toolbox BMPs'!B215,\"\")","v":""},{"$f":"IF('Other Toolbox BMPs'!C215<>\"\",'Other Toolbox BMPs'!C215,\"\")","v":""},{"$f":"IF('Other Toolbox BMPs'!D215<>\"\",'Other Toolbox BMPs'!D215,\"\")","v":""},{"$f":"IF('Other Toolbox BMPs'!E215<>\"\",'Other Toolbox BMPs'!E215,\"\")","v":""},{"$f":"IF('Other Toolbox BMPs'!F215<>\"\",'Other Toolbox BMPs'!F215,\"\")","v":""},null,null,null,null,null,"","","","","","",""]
[{"$f":"IF('Other Toolbox BMPs'!A216<>\"\",'Other Toolbox BMPs'!A216,\"\")","v":""},{"$f":"IF('Other Toolbox BMPs'!H216<>\"\",'Other Toolbox BMPs'!H216,\"\")","v":""},{"$f":"IF('Other Toolbox BMPs'!B216<>\"\",'Other Toolbox BMPs'!B216,\"\")","v":""},{"$f":"IF('Other Toolbox BMPs'!C216<>\"\",'Other Toolbox BMPs'!C216,\"\")","v":""},{"$f":"IF('Other Toolbox BMPs'!D216<>\"\",'Other Toolbox BMPs'!D216,\"\")","v":""},{"$f":"IF('Other Toolbox BMPs'!E216<>\"\",'Other Toolbox BMPs'!E216,\"\")","v":""},{"$f":"IF('Other Toolbox BMPs'!F216<>\"\",'Other Toolbox BMPs'!F216,\"\")","v":""},null,null,null,null,null,"","","","","","",""]
[{"$f":"IF('Other Toolbox BMPs'!A217<>\"\",'Other Toolbox BMPs'!A217,\"\")","v":""},{"$f":"IF('Other Toolbox BMPs'!H217<>\"\",'Other Toolbox BMPs'!H217,\"\")","v":""},{"$f":"IF('Other Toolbox BMPs'!B217<>\"\",'Other Toolbox BMPs'!B217,\"\")","v":""},{"$f":"IF('Other Toolbox BMPs'!C217<>\"\",'Other Toolbox BMPs'!C217,\"\")","v":""},{"$f":"IF('Other Toolbox BMPs'!D217<>\"\",'Other Toolbox BMPs'!D217,\"\")","v":""},{"$f":"IF('Other Toolbox BMPs'!E217<>\"\",'Other Toolbox BMPs'!E217,\"\")","v":""},{"$f":"IF('Other Toolbox BMPs'!F217<>\"\",'Other Toolbox BMPs'!F217,\"\")","v":""},null,null,null,null,null,"","","","","","",""]
[{"$f":"IF('Other Non-Toolbox BMPs'!A85<>\"\",'Other Non-Toolbox BMPs'!A85,\"\")","v":""},{"$f":"IF('Other Non-Toolbox BMPs'!H85<>\"\",'Other Non-Toolbox BMPs'!H85,\"\")","v":""},{"$f":"IF('Other Non-Toolbox BMPs'!B85<>\"\",'Other Non-Toolbox BMPs'!B85,\"\")","v":""},{"$f":"IF('Other Non-Toolbox BMPs'!C85<>\"\",'Other Non-Toolbox BMPs'!C85,\"\")","v":""},{"$f":"IF('Other Non-Toolbox BMPs'!D85<>\"\",'Other Non-Toolbox BMPs'!D85,\"\")","v":""},{"$f":"IF('Other Non-Toolbox BMPs'!E85<>\"\",'Other Non-Toolbox BMPs'!E85,\"\")","v":""},{"$f":"IF('Other Non-Toolbox BMPs'!F85<>\"\",'Other Non-Toolbox BMPs'!F85,\"\")","v":""},null,null,null,null,null,"","","","","","",""]
[{"$f":"IF('Other Non-Toolbox BMPs'!A86<>\"\",'Other Non-Toolbox BMPs'!A86,\"\")","v":""},{"$f":"IF('Other Non-Toolbox BMPs'!H86<>\"\",'Other Non-Toolbox BMPs'!H86,\"\")","v":""},{"$f":"IF('Other Non-Toolbox BMPs'!B86<>\"\",'Other Non-Toolbox BMPs'!B86,\"\")","v":""},{"$f":"IF('Other Non-Toolbox BMPs'!C86<>\"\",'Other Non-Toolbox BMPs'!C86,\"\")","v":""},{"$f":"IF('Other Non-Toolbox BMPs'!D86<>\"\",'Other Non-Toolbox BMPs'!D86,\"\")","v":""},{"$f":"IF('Other Non-Toolbox BMPs'!E86<>\"\",'Other Non-Toolbox BMPs'!E86,\"\")","v":""},{"$f":"IF('Other Non-Toolbox BMPs'!F86<>\"\",'Other Non-Toolbox BMPs'!F86,\"\")","v":""},null,null,null,null,null,"","","","","","",""]
[{"$f":"IF('Other Non-Toolbox BMPs'!A87<>\"\",'Other Non-Toolbox BMPs'!A87,\"\")","v":""},{"$f":"IF('Other Non-Toolbox BMPs'!H87<>\"\",'Other Non-Toolbox BMPs'!H87,\"\")","v":""},{"$f":"IF('Other Non-Toolbox BMPs'!B87<>\"\",'Other Non-Toolbox BMPs'!B87,\"\")","v":""},{"$f":"IF('Other Non-Toolbox BMPs'!C87<>\"\",'Other Non-Toolbox BMPs'!C87,\"\")","v":""},{"$f":"IF('Other Non-Toolbox BMPs'!D87<>\"\",'Other Non-Toolbox BMPs'!D87,\"\")","v":""},{"$f":"IF('Other Non-Toolbox BMPs'!E87<>\"\",'Other Non-Toolbox BMPs'!E87,\"\")","v":""},{"$f":"IF('Other Non-Toolbox BMPs'!F87<>\"\",'Other Non-Toolbox BMPs'!F87,\"\")","v":""},null,null,null,null,null,"","","","","","",""]
[{"$f":"IF('Other Non-Toolbox BMPs'!A88<>\"\",'Other Non-Toolbox BMPs'!A88,\"\")","v":""},{"$f":"IF('Other Non-Toolbox BMPs'!H88<>\"\",'Other Non-Toolbox BMPs'!H88,\"\")","v":""},{"$f":"IF('Other Non-Toolbox BMPs'!B88<>\"\",'Other Non-Toolbox BMPs'!B88,\"\")","v":""},{"$f":"IF('Other Non-Toolbox BMPs'!C88<>\"\",'Other Non-Toolbox BMPs'!C88,\"\")","v":""},{"$f":"IF('Other Non-Toolbox BMPs'!D88<>\"\",'Other Non-Toolbox BMPs'!D88,\"\")","v":""},{"$f":"IF('Other Non-Toolbox BMPs'!E88<>\"\",'Other Non-Toolbox BMPs'!E88,\"\")","v":""},{"$f":"IF('Other Non-Toolbox BMPs'!F88<>\"\",'Other Non-Toolbox BMPs'!F88,\"\")","v":""},null,null,null,null,null,"","","","","","",""]
[{"$f":"IF('Other Non-Toolbox BMPs'!A89<>\"\",'Other Non-Toolbox BMPs'!A89,\"\")","v":""},{"$f":"IF('Other Non-Toolbox BMPs'!H89<>\"\",'Other Non-Toolbox BMPs'!H89,\"\")","v":""},{"$f":"IF('Other Non-Toolbox BMPs'!B89<>\"\",'Other Non-Toolbox BMPs'!B89,\"\")","v":""},{"$f":"IF('Other Non-Toolbox BMPs'!C89<>\"\",'Other Non-Toolbox BMPs'!C89,\"\")","v":""},{"$f":"IF('Other Non-Toolbox BMPs'!D89<>\"\",'Other Non-Toolbox BMPs'!D89,\"\")","v":""},{"$f":"IF('Other Non-Toolbox BMPs'!E89<>\"\",'Other Non-Toolbox BMPs'!E89,\"\")","v":""},{"$f":"IF('Other Non-Toolbox BMPs'!F89<>\"\",'Other Non-Toolbox BMPs'!F89,\"\")","v":""},null,null,null,null,null,"","","","","","",""]
[{"$f":"IF('Other Non-Toolbox BMPs'!A90<>\"\",'Other Non-Toolbox BMPs'!A90,\"\")","v":""},{"$f":"IF('Other Non-Toolbox BMPs'!H90<>\"\",'Other Non-Toolbox BMPs'!H90,\"\")","v":""},{"$f":"IF('Other Non-Toolbox BMPs'!B90<>\"\",'Other Non-Toolbox BMPs'!B90,\"\")","v":""},{"$f":"IF('Other Non-Toolbox BMPs'!C90<>\"\",'Other Non-Toolbox BMPs'!C90,\"\")","v":""},{"$f":"IF('Other Non-Toolbox BMPs'!D90<>\"\",'Other Non-Toolbox BMPs'!D90,\"\")","v":""},{"$f":"IF('Other Non-Toolbox BMPs'!E90<>\"\",'Other Non-Toolbox BMPs'!E90,\"\")","v":""},{"$f":"IF('Other Non-Toolbox BMPs'!F90<>\"\",'Other Non-Toolbox BMPs'!F90,\"\")","v":""},null,null,null,null,null,"","","","","","",""]
[{"$f":"IF('Other Non-Toolbox BMPs'!A91<>\"\",'Other Non-Toolbox BMPs'!A91,\"\")","v":""},{"$f":"IF('Other Non-Toolbox BMPs'!H91<>\"\",'Other Non-Toolbox BMPs'!H91,\"\")","v":""},{"$f":"IF('Other Non-Toolbox BMPs'!B91<>\"\",'Other Non-Toolbox BMPs'!B91,\"\")","v":""},{"$f":"IF('Other Non-Toolbox BMPs'!C91<>\"\",'Other Non-Toolbox BMPs'!C91,\"\")","v":""},{"$f":"IF('Other Non-Toolbox BMPs'!D91<>\"\",'Other Non-Toolbox BMPs'!D91,\"\")","v":""},{"$f":"IF('Other Non-Toolbox BMPs'!E91<>\"\",'Other Non-Toolbox BMPs'!E91,\"\")","v":""},{"$f":"IF('Other Non-Toolbox BMPs'!F91<>\"\",'Other Non-Toolbox BMPs'!F91,\"\")","v":""},null,null,null,null,null,"","","","","","",""]
[{"$f":"IF('Other Non-Toolbox BMPs'!A92<>\"\",'Other Non-Toolbox BMPs'!A92,\"\")","v":""},{"$f":"IF('Other Non-Toolbox BMPs'!H92<>\"\",'Other Non-Toolbox BMPs'!H92,\"\")","v":""},{"$f":"IF('Other Non-Toolbox BMPs'!B92<>\"\",'Other Non-Toolbox BMPs'!B92,\"\")","v":""},{"$f":"IF('Other Non-Toolbox BMPs'!C92<>\"\",'Other Non-Toolbox BMPs'!C92,\"\")","v":""},{"$f":"IF('Other Non-Toolbox BMPs'!D92<>\"\",'Other Non-Toolbox BMPs'!D92,\"\")","v":""},{"$f":"IF('Other Non-Toolbox BMPs'!E92<>\"\",'Other Non-Toolbox BMPs'!E92,\"\")","v":""},{"$f":"IF('Other Non-Toolbox BMPs'!F92<>\"\",'Other Non-Toolbox BMPs'!F92,\"\")","v":""},null,null,null,null,null,"","","","","","",""]
[{"$f":"IF('Other Non-Toolbox BMPs'!A93<>\"\",'Other Non-Toolbox BMPs'!A93,\"\")","v":""},{"$f":"IF('Other Non-Toolbox BMPs'!H93<>\"\",'Other Non-Toolbox BMPs'!H93,\"\")","v":""},{"$f":"IF('Other Non-Toolbox BMPs'!B93<>\"\",'Other Non-Toolbox BMPs'!B93,\"\")","v":""},{"$f":"IF('Other Non-Toolbox BMPs'!C93<>\"\",'Other Non-Toolbox BMPs'!C93,\"\")","v":""},{"$f":"IF('Other Non-Toolbox BMPs'!D93<>\"\",'Other Non-Toolbox BMPs'!D93,\"\")","v":""},{"$f":"IF('Other Non-Toolbox BMPs'!E93<>\"\",'Other Non-Toolbox BMPs'!E93,\"\")","v":""},{"$f":"IF('Other Non-Toolbox BMPs'!F93<>\"\",'Other Non-Toolbox BMPs'!F93,\"\")","v":""},null,null,null,null,null,"","","","","","",""]
[{"$f":"IF('Other Non-Toolbox BMPs'!A94<>\"\",'Other Non-Toolbox BMPs'!A94,\"\")","v":""},{"$f":"IF('Other Non-Toolbox BMPs'!H94<>\"\",'Other Non-Toolbox BMPs'!H94,\"\")","v":""},{"$f":"IF('Other Non-Toolbox BMPs'!B94<>\"\",'Other Non-Toolbox BMPs'!B94,\"\")","v":""},{"$f":"IF('Other Non-Toolbox BMPs'!C94<>\"\",'Other Non-Toolbox BMPs'!C94,\"\")","v":""},{"$f":"IF('Other Non-Toolbox BMPs'!D94<>\"\",'Other Non-Toolbox BMPs'!D94,\"\")","v":""},{"$f":"IF('Other Non-Toolbox BMPs'!E94<>\"\",'Other Non-Toolbox BMPs'!E94,\"\")","v":""},{"$f":"IF('Other Non-Toolbox BMPs'!F94<>\"\",'Other Non-Toolbox BMPs'!F94,\"\")","v":""},null,null,null,null,null,"","","","","","",""]
[{"$f":"IF('Other Non-Toolbox BMPs'!A95<>\"\",'Other Non-Toolbox BMPs'!A95,\"\")","v":""},{"$f":"IF('Other Non-Toolbox BMPs'!H95<>\"\",'Other Non-Toolbox BMPs'!H95,\"\")","v":""},{"$f":"IF('Other Non-Toolbox BMPs'!B95<>\"\",'Other Non-Toolbox BMPs'!B95,\"\")","v":""},{"$f":"IF('Other Non-Toolbox BMPs'!C95<>\"\",'Other Non-Toolbox BMPs'!C95,\"\")","v":""},{"$f":"IF('Other Non-Toolbox BMPs'!D95<>\"\",'Other Non-Toolbox BMPs'!D95,\"\")","v":""},{"$f":"IF('Other Non-Toolbox BMPs'!E95<>\"\",'Other Non-Toolbox BMPs'!E95,\"\")","v":""},{"$f":"IF('Other Non-Toolbox BMPs'!F95<>\"\",'Other Non-Toolbox BMPs'!F95,\"\")","v":""},null,null,null,null,null,"","","","","","",""]
[{"$f":"IF('Other Non-Toolbox BMPs'!A96<>\"\",'Other Non-Toolbox BMPs'!A96,\"\")","v":""},{"$f":"IF('Other Non-Toolbox BMPs'!H96<>\"\",'Other Non-Toolbox BMPs'!H96,\"\")","v":""},{"$f":"IF('Other Non-Toolbox BMPs'!B96<>\"\",'Other Non-Toolbox BMPs'!B96,\"\")","v":""},{"$f":"IF('Other Non-Toolbox BMPs'!C96<>\"\",'Other Non-Toolbox BMPs'!C96,\"\")","v":""},{"$f":"IF('Other Non-Toolbox BMPs'!D96<>\"\",'Other Non-Toolbox BMPs'!D96,\"\")","v":""},{"$f":"IF('Other Non-Toolbox BMPs'!E96<>\"\",'Other Non-Toolbox BMPs'!E96,\"\")","v":""},{"$f":"IF('Other Non-Toolbox BMPs'!F96<>\"\",'Other Non-Toolbox BMPs'!F96,\"\")","v":""},null,null,null,null,null,"","","","","","",""]
[{"$f":"IF('Other Non-Toolbox BMPs'!A97<>\"\",'Other Non-Toolbox BMPs'!A97,\"\")","v":""},{"$f":"IF('Other Non-Toolbox BMPs'!H97<>\"\",'Other Non-Toolbox BMPs'!H97,\"\")","v":""},{"$f":"IF('Other Non-Toolbox BMPs'!B97<>\"\",'Other Non-Toolbox BMPs'!B97,\"\")","v":""},{"$f":"IF('Other Non-Toolbox BMPs'!C97<>\"\",'Other Non-Toolbox BMPs'!C97,\"\")","v":""},{"$f":"IF('Other Non-Toolbox BMPs'!D97<>\"\",'Other Non-Toolbox BMPs'!D97,\"\")","v":""},{"$f":"IF('Other Non-Toolbox BMPs'!E97<>\"\",'Other Non-Toolbox BMPs'!E97,\"\")","v":""},{"$f":"IF('Other Non-Toolbox BMPs'!F97<>\"\",'Other Non-Toolbox BMPs'!F97,\"\")","v":""},null,null,null,null,null,"","","","","","",""]
[{"$f":"IF('Other Non-Toolbox BMPs'!A98<>\"\",'Other Non-Toolbox BMPs'!A98,\"\")","v":""},{"$f":"IF('Other Non-Toolbox BMPs'!H98<>\"\",'Other Non-Toolbox BMPs'!H98,\"\")","v":""},{"$f":"IF('Other Non-Toolbox BMPs'!B98<>\"\",'Other Non-Toolbox BMPs'!B98,\"\")","v":""},{"$f":"IF('Other Non-Toolbox BMPs'!C98<>\"\",'Other Non-Toolbox BMPs'!C98,\"\")","v":""},{"$f":"IF('Other Non-Toolbox BMPs'!D98<>\"\",'Other Non-Toolbox BMPs'!D98,\"\")","v":""},{"$f":"IF('Other Non-Toolbox BMPs'!E98<>\"\",'Other Non-Toolbox BMPs'!E98,\"\")","v":""},{"$f":"IF('Other Non-Toolbox BMPs'!F98<>\"\",'Other Non-Toolbox BMPs'!F98,\"\")","v":""},null,null,null,null,null,"","","","","","",""]
[{"$f":"IF('Other Non-Toolbox BMPs'!A99<>\"\",'Other Non-Toolbox BMPs'!A99,\"\")","v":""},{"$f":"IF('Other Non-Toolbox BMPs'!H99<>\"\",'Other Non-Toolbox BMPs'!H99,\"\")","v":""},{"$f":"IF('Other Non-Toolbox BMPs'!B99<>\"\",'Other Non-Toolbox BMPs'!B99,\"\")","v":""},{"$f":"IF('Other Non-Toolbox BMPs'!C99<>\"\",'Other Non-Toolbox BMPs'!C99,\"\")","v":""},{"$f":"IF('Other Non-Toolbox BMPs'!D99<>\"\",'Other Non-Toolbox BMPs'!D99,\"\")","v":""},{"$f":"IF('Other Non-Toolbox BMPs'!E99<>\"\",'Other Non-Toolbox BMPs'!E99,\"\")","v":""},{"$f":"IF('Other Non-Toolbox BMPs'!F99<>\"\",'Other Non-Toolbox BMPs'!F99,\"\")","v":""},null,null,null,null,null,"","","","","","",""]
[{"$f":"IF('Other Non-Toolbox BMPs'!A100<>\"\",'Other Non-Toolbox BMPs'!A100,\"\")","v":""},{"$f":"IF('Other Non-Toolbox BMPs'!H100<>\"\",'Other Non-Toolbox BMPs'!H100,\"\")","v":""},{"$f":"IF('Other Non-Toolbox BMPs'!B100<>\"\",'Other Non-Toolbox BMPs'!B100,\"\")","v":""},{"$f":"IF('Other Non-Toolbox BMPs'!C100<>\"\",'Other Non-Toolbox BMPs'!C100,\"\")","v":""},{"$f":"IF('Other Non-Toolbox BMPs'!D100<>\"\",'Other Non-Toolbox BMPs'!D100,\"\")","v":""},{"$f":"IF('Other Non-Toolbox BMPs'!E100<>\"\",'Other Non-Toolbox BMPs'!E100,\"\")","v":""},{"$f":"IF('Other Non-Toolbox BMPs'!F100<>\"\",'Other Non-Toolbox BMPs'!F100,\"\")","v":""},null,null,null,null,null,"","","","","","",""]
[{"$f":"IF('Other Non-Toolbox BMPs'!A101<>\"\",'Other Non-Toolbox BMPs'!A101,\"\")","v":""},{"$f":"IF('Other Non-Toolbox BMPs'!H101<>\"\",'Other Non-Toolbox BMPs'!H101,\"\")","v":""},{"$f":"IF('Other Non-Toolbox BMPs'!B101<>\"\",'Other Non-Toolbox BMPs'!B101,\"\")","v":""},{"$f":"IF('Other Non-Toolbox BMPs'!C101<>\"\",'Other Non-Toolbox BMPs'!C101,\"\")","v":""},{"$f":"IF('Other Non-Toolbox BMPs'!D101<>\"\",'Other Non-Toolbox BMPs'!D101,\"\")","v":""},{"$f":"IF('Other Non-Toolbox BMPs'!E101<>\"\",'Other Non-Toolbox BMPs'!E101,\"\")","v":""},{"$f":"IF('Other Non-Toolbox BMPs'!F101<>\"\",'Other Non-Toolbox BMPs'!F101,\"\")","v":""},null,null,null,null,null,"","","","","","",""]
[{"$f":"IF('Other Non-Toolbox BMPs'!A102<>\"\",'Other Non-Toolbox BMPs'!A102,\"\")","v":""},{"$f":"IF('Other Non-Toolbox BMPs'!H102<>\"\",'Other Non-Toolbox BMPs'!H102,\"\")","v":""},{"$f":"IF('Other Non-Toolbox BMPs'!B102<>\"\",'Other Non-Toolbox BMPs'!B102,\"\")","v":""},{"$f":"IF('Other Non-Toolbox BMPs'!C102<>\"\",'Other Non-Toolbox BMPs'!C102,\"\")","v":""},{"$f":"IF('Other Non-Toolbox BMPs'!D102<>\"\",'Other Non-Toolbox BMPs'!D102,\"\")","v":""},{"$f":"IF('Other Non-Toolbox BMPs'!E102<>\"\",'Other Non-Toolbox BMPs'!E102,\"\")","v":""},{"$f":"IF('Other Non-Toolbox BMPs'!F102<>\"\",'Other Non-Toolbox BMPs'!F102,\"\")","v":""},null,null,null,null,null,"","","","","","",""]
[{"$f":"IF('Other Non-Toolbox BMPs'!A103<>\"\",'Other Non-Toolbox BMPs'!A103,\"\")","v":""},{"$f":"IF('Other Non-Toolbox BMPs'!H103<>\"\",'Other Non-Toolbox BMPs'!H103,\"\")","v":""},{"$f":"IF('Other Non-Toolbox BMPs'!B103<>\"\",'Other Non-Toolbox BMPs'!B103,\"\")","v":""},{"$f":"IF('Other Non-Toolbox BMPs'!C103<>\"\",'Other Non-Toolbox BMPs'!C103,\"\")","v":""},{"$f":"IF('Other Non-Toolbox BMPs'!D103<>\"\",'Other Non-Toolbox BMPs'!D103,\"\")","v":""},{"$f":"IF('Other Non-Toolbox BMPs'!E103<>\"\",'Other Non-Toolbox BMPs'!E103,\"\")","v":""},{"$f":"IF('Other Non-Toolbox BMPs'!F103<>\"\",'Other Non-Toolbox BMPs'!F103,\"\")","v":""},null,null,null,null,null,"","","","","","",""]
[{"$f":"IF('Other Non-Toolbox BMPs'!A104<>\"\",'Other Non-Toolbox BMPs'!A104,\"\")","v":""},{"$f":"IF('Other Non-Toolbox BMPs'!H104<>\"\",'Other Non-Toolbox BMPs'!H104,\"\")","v":""},{"$f":"IF('Other Non-Toolbox BMPs'!B104<>\"\",'Other Non-Toolbox BMPs'!B104,\"\")","v":""},{"$f":"IF('Other Non-Toolbox BMPs'!C104<>\"\",'Other Non-Toolbox BMPs'!C104,\"\")","v":""},{"$f":"IF('Other Non-Toolbox BMPs'!D104<>\"\",'Other Non-Toolbox BMPs'!D104,\"\")","v":""},{"$f":"IF('Other Non-Toolbox BMPs'!E104<>\"\",'Other Non-Toolbox BMPs'!E104,\"\")","v":""},{"$f":"IF('Other Non-Toolbox BMPs'!F104<>\"\",'Other Non-Toolbox BMPs'!F104,\"\")","v":""},null,null,null,null,null,"","","","","","",""]
[{"$f":"IF('Other Non-Toolbox BMPs'!A105<>\"\",'Other Non-Toolbox BMPs'!A105,\"\")","v":""},{"$f":"IF('Other Non-Toolbox BMPs'!H105<>\"\",'Other Non-Toolbox BMPs'!H105,\"\")","v":""},{"$f":"IF('Other Non-Toolbox BMPs'!B105<>\"\",'Other Non-Toolbox BMPs'!B105,\"\")","v":""},{"$f":"IF('Other Non-Toolbox BMPs'!C105<>\"\",'Other Non-Toolbox BMPs'!C105,\"\")","v":""},{"$f":"IF('Other Non-Toolbox BMPs'!D105<>\"\",'Other Non-Toolbox BMPs'!D105,\"\")","v":""},{"$f":"IF('Other Non-Toolbox BMPs'!E105<>\"\",'Other Non-Toolbox BMPs'!E105,\"\")","v":""},{"$f":"IF('Other Non-Toolbox BMPs'!F105<>\"\",'Other Non-Toolbox BMPs'!F105,\"\")","v":""},null,null,null,null,null,"","","","","","",""]
[{"$f":"IF('Other Non-Toolbox BMPs'!A106<>\"\",'Other Non-Toolbox BMPs'!A106,\"\")","v":""},{"$f":"IF('Other Non-Toolbox BMPs'!H106<>\"\",'Other Non-Toolbox BMPs'!H106,\"\")","v":""},{"$f":"IF('Other Non-Toolbox BMPs'!B106<>\"\",'Other Non-Toolbox BMPs'!B106,\"\")","v":""},{"$f":"IF('Other Non-Toolbox BMPs'!C106<>\"\",'Other Non-Toolbox BMPs'!C106,\"\")","v":""},{"$f":"IF('Other Non-Toolbox BMPs'!D106<>\"\",'Other Non-Toolbox BMPs'!D106,\"\")","v":""},{"$f":"IF('Other Non-Toolbox BMPs'!E106<>\"\",'Other Non-Toolbox BMPs'!E106,\"\")","v":""},{"$f":"IF('Other Non-Toolbox BMPs'!F106<>\"\",'Other Non-Toolbox BMPs'!F106,\"\")","v":""},null,null,null,null,null,"","","","","","",""]
[{"$f":"IF('Other Non-Toolbox BMPs'!A107<>\"\",'Other Non-Toolbox BMPs'!A107,\"\")","v":""},{"$f":"IF('Other Non-Toolbox BMPs'!H107<>\"\",'Other Non-Toolbox BMPs'!H107,\"\")","v":""},{"$f":"IF('Other Non-Toolbox BMPs'!B107<>\"\",'Other Non-Toolbox BMPs'!B107,\"\")","v":""},{"$f":"IF('Other Non-Toolbox BMPs'!C107<>\"\",'Other Non-Toolbox BMPs'!C107,\"\")","v":""},{"$f":"IF('Other Non-Toolbox BMPs'!D107<>\"\",'Other Non-Toolbox BMPs'!D107,\"\")","v":""},{"$f":"IF('Other Non-Toolbox BMPs'!E107<>\"\",'Other Non-Toolbox BMPs'!E107,\"\")","v":""},{"$f":"IF('Other Non-Toolbox BMPs'!F107<>\"\",'Other Non-Toolbox BMPs'!F107,\"\")","v":""},null,null,null,null,null,"","","","","","",""]
[{"$f":"IF('Other Non-Toolbox BMPs'!A108<>\"\",'Other Non-Toolbox BMPs'!A108,\"\")","v":""},{"$f":"IF('Other Non-Toolbox BMPs'!H108<>\"\",'Other Non-Toolbox BMPs'!H108,\"\")","v":""},{"$f":"IF('Other Non-Toolbox BMPs'!B108<>\"\",'Other Non-Toolbox BMPs'!B108,\"\")","v":""},{"$f":"IF('Other Non-Toolbox BMPs'!C108<>\"\",'Other Non-Toolbox BMPs'!C108,\"\")","v":""},{"$f":"IF('Other Non-Toolbox BMPs'!D108<>\"\",'Other Non-Toolbox BMPs'!D108,\"\")","v":""},{"$f":"IF('Other Non-Toolbox BMPs'!E108<>\"\",'Other Non-Toolbox BMPs'!E108,\"\")","v":""},{"$f":"IF('Other Non-Toolbox BMPs'!F108<>\"\",'Other Non-Toolbox BMPs'!F108,\"\")","v":""},null,null,null,null,null,"","","","","","",""]
[{"$f":"IF('Other Non-Toolbox BMPs'!A109<>\"\",'Other Non-Toolbox BMPs'!A109,\"\")","v":""},{"$f":"IF('Other Non-Toolbox BMPs'!H109<>\"\",'Other Non-Toolbox BMPs'!H109,\"\")","v":""},{"$f":"IF('Other Non-Toolbox BMPs'!B109<>\"\",'Other Non-Toolbox BMPs'!B109,\"\")","v":""},{"$f":"IF('Other Non-Toolbox BMPs'!C109<>\"\",'Other Non-Toolbox BMPs'!C109,\"\")","v":""},{"$f":"IF('Other Non-Toolbox BMPs'!D109<>\"\",'Other Non-Toolbox BMPs'!D109,\"\")","v":""},{"$f":"IF('Other Non-Toolbox BMPs'!E109<>\"\",'Other Non-Toolbox BMPs'!E109,\"\")","v":""},{"$f":"IF('Other Non-Toolbox BMPs'!F109<>\"\",'Other Non-Toolbox BMPs'!F109,\"\")","v":""},null,null,null,null,null,"","","","","","",""]
[{"$f":"IF('Other Non-Toolbox BMPs'!A110<>\"\",'Other Non-Toolbox BMPs'!A110,\"\")","v":""},{"$f":"IF('Other Non-Toolbox BMPs'!H110<>\"\",'Other Non-Toolbox BMPs'!H110,\"\")","v":""},{"$f":"IF('Other Non-Toolbox BMPs'!B110<>\"\",'Other Non-Toolbox BMPs'!B110,\"\")","v":""},{"$f":"IF('Other Non-Toolbox BMPs'!C110<>\"\",'Other Non-Toolbox BMPs'!C110,\"\")","v":""},{"$f":"IF('Other Non-Toolbox BMPs'!D110<>\"\",'Other Non-Toolbox BMPs'!D110,\"\")","v":""},{"$f":"IF('Other Non-Toolbox BMPs'!E110<>\"\",'Other Non-Toolbox BMPs'!E110,\"\")","v":""},{"$f":"IF('Other Non-Toolbox BMPs'!F110<>\"\",'Other Non-Toolbox BMPs'!F110,\"\")","v":""},null,null,null,null,null,"","","","","","",""]
[{"$f":"IF('Other Non-Toolbox BMPs'!A111<>\"\",'Other Non-Toolbox BMPs'!A111,\"\")","v":""},{"$f":"IF('Other Non-Toolbox BMPs'!H111<>\"\",'Other Non-Toolbox BMPs'!H111,\"\")","v":""},{"$f":"IF('Other Non-Toolbox BMPs'!B111<>\"\",'Other Non-Toolbox BMPs'!B111,\"\")","v":""},{"$f":"IF('Other Non-Toolbox BMPs'!C111<>\"\",'Other Non-Toolbox BMPs'!C111,\"\")","v":""},{"$f":"IF('Other Non-Toolbox BMPs'!D111<>\"\",'Other Non-Toolbox BMPs'!D111,\"\")","v":""},{"$f":"IF('Other Non-Toolbox BMPs'!E111<>\"\",'Other Non-Toolbox BMPs'!E111,\"\")","v":""},{"$f":"IF('Other Non-Toolbox BMPs'!F111<>\"\",'Other Non-Toolbox BMPs'!F111,\"\")","v":""},null,null,null,null,null,"","","","","","",""]
[{"$f":"IF('Other Non-Toolbox BMPs'!A112<>\"\",'Other Non-Toolbox BMPs'!A112,\"\")","v":""},{"$f":"IF('Other Non-Toolbox BMPs'!H112<>\"\",'Other Non-Toolbox BMPs'!H112,\"\")","v":""},{"$f":"IF('Other Non-Toolbox BMPs'!B112<>\"\",'Other Non-Toolbox BMPs'!B112,\"\")","v":""},{"$f":"IF('Other Non-Toolbox BMPs'!C112<>\"\",'Other Non-Toolbox BMPs'!C112,\"\")","v":""},{"$f":"IF('Other Non-Toolbox BMPs'!D112<>\"\",'Other Non-Toolbox BMPs'!D112,\"\")","v":""},{"$f":"IF('Other Non-Toolbox BMPs'!E112<>\"\",'Other Non-Toolbox BMPs'!E112,\"\")","v":""},{"$f":"IF('Other Non-Toolbox BMPs'!F112<>\"\",'Other Non-Toolbox BMPs'!F112,\"\")","v":""},null,null,null,null,null,"","","","","","",""]
[{"$f":"IF('Other Non-Toolbox BMPs'!A113<>\"\",'Other Non-Toolbox BMPs'!A113,\"\")","v":""},{"$f":"IF('Other Non-Toolbox BMPs'!H113<>\"\",'Other Non-Toolbox BMPs'!H113,\"\")","v":""},{"$f":"IF('Other Non-Toolbox BMPs'!B113<>\"\",'Other Non-Toolbox BMPs'!B113,\"\")","v":""},{"$f":"IF('Other Non-Toolbox BMPs'!C113<>\"\",'Other Non-Toolbox BMPs'!C113,\"\")","v":""},{"$f":"IF('Other Non-Toolbox BMPs'!D113<>\"\",'Other Non-Toolbox BMPs'!D113,\"\")","v":""},{"$f":"IF('Other Non-Toolbox BMPs'!E113<>\"\",'Other Non-Toolbox BMPs'!E113,\"\")","v":""},{"$f":"IF('Other Non-Toolbox BMPs'!F113<>\"\",'Other Non-Toolbox BMPs'!F113,\"\")","v":""},null,null,null,null,null,"","","","","","",""]
[{"$f":"IF('Other Non-Toolbox BMPs'!A114<>\"\",'Other Non-Toolbox BMPs'!A114,\"\")","v":""},{"$f":"IF('Other Non-Toolbox BMPs'!H114<>\"\",'Other Non-Toolbox BMPs'!H114,\"\")","v":""},{"$f":"IF('Other Non-Toolbox BMPs'!B114<>\"\",'Other Non-Toolbox BMPs'!B114,\"\")","v":""},{"$f":"IF('Other Non-Toolbox BMPs'!C114<>\"\",'Other Non-Toolbox BMPs'!C114,\"\")","v":""},{"$f":"IF('Other Non-Toolbox BMPs'!D114<>\"\",'Other Non-Toolbox BMPs'!D114,\"\")","v":""},{"$f":"IF('Other Non-Toolbox BMPs'!E114<>\"\",'Other Non-Toolbox BMPs'!E114,\"\")","v":""},{"$f":"IF('Other Non-Toolbox BMPs'!F114<>\"\",'Other Non-Toolbox BMPs'!F114,\"\")","v":""},null,null,null,null,null,"","","","","","",""]
[{"$f":"IF('Other Non-Toolbox BMPs'!A115<>\"\",'Other Non-Toolbox BMPs'!A115,\"\")","v":""},{"$f":"IF('Other Non-Toolbox BMPs'!H115<>\"\",'Other Non-Toolbox BMPs'!H115,\"\")","v":""},{"$f":"IF('Other Non-Toolbox BMPs'!B115<>\"\",'Other Non-Toolbox BMPs'!B115,\"\")","v":""},{"$f":"IF('Other Non-Toolbox BMPs'!C115<>\"\",'Other Non-Toolbox BMPs'!C115,\"\")","v":""},{"$f":"IF('Other Non-Toolbox BMPs'!D115<>\"\",'Other Non-Toolbox BMPs'!D115,\"\")","v":""},{"$f":"IF('Other Non-Toolbox BMPs'!E115<>\"\",'Other Non-Toolbox BMPs'!E115,\"\")","v":""},{"$f":"IF('Other Non-Toolbox BMPs'!F115<>\"\",'Other Non-Toolbox BMPs'!F115,\"\")","v":""},null,null,null,null,null,"","","","","","",""]
[{"$f":"IF('Other Non-Toolbox BMPs'!A116<>\"\",'Other Non-Toolbox BMPs'!A116,\"\")","v":""},{"$f":"IF('Other Non-Toolbox BMPs'!H116<>\"\",'Other Non-Toolbox BMPs'!H116,\"\")","v":""},{"$f":"IF('Other Non-Toolbox BMPs'!B116<>\"\",'Other Non-Toolbox BMPs'!B116,\"\")","v":""},{"$f":"IF('Other Non-Toolbox BMPs'!C116<>\"\",'Other Non-Toolbox BMPs'!C116,\"\")","v":""},{"$f":"IF('Other Non-Toolbox BMPs'!D116<>\"\",'Other Non-Toolbox BMPs'!D116,\"\")","v":""},{"$f":"IF('Other Non-Toolbox BMPs'!E116<>\"\",'Other Non-Toolbox BMPs'!E116,\"\")","v":""},{"$f":"IF('Other Non-Toolbox BMPs'!F116<>\"\",'Other Non-Toolbox BMPs'!F116,\"\")","v":""},null,null,null,null,null,"","","","","","",""]
[{"$f":"IF('Other Non-Toolbox BMPs'!A117<>\"\",'Other Non-Toolbox BMPs'!A117,\"\")","v":""},{"$f":"IF('Other Non-Toolbox BMPs'!H117<>\"\",'Other Non-Toolbox BMPs'!H117,\"\")","v":""},{"$f":"IF('Other Non-Toolbox BMPs'!B117<>\"\",'Other Non-Toolbox BMPs'!B117,\"\")","v":""},{"$f":"IF('Other Non-Toolbox BMPs'!C117<>\"\",'Other Non-Toolbox BMPs'!C117,\"\")","v":""},{"$f":"IF('Other Non-Toolbox BMPs'!D117<>\"\",'Other Non-Toolbox BMPs'!D117,\"\")","v":""},{"$f":"IF('Other Non-Toolbox BMPs'!E117<>\"\",'Other Non-Toolbox BMPs'!E117,\"\")","v":""},{"$f":"IF('Other Non-Toolbox BMPs'!F117<>\"\",'Other Non-Toolbox BMPs'!F117,\"\")","v":""},null,null,null,null,null,"","","","","","",""]
[{"$f":"IF('Other Non-Toolbox BMPs'!A118<>\"\",'Other Non-Toolbox BMPs'!A118,\"\")","v":""},{"$f":"IF('Other Non-Toolbox BMPs'!H118<>\"\",'Other Non-Toolbox BMPs'!H118,\"\")","v":""},{"$f":"IF('Other Non-Toolbox BMPs'!B118<>\"\",'Other Non-Toolbox BMPs'!B118,\"\")","v":""},{"$f":"IF('Other Non-Toolbox BMPs'!C118<>\"\",'Other Non-Toolbox BMPs'!C118,\"\")","v":""},{"$f":"IF('Other Non-Toolbox BMPs'!D118<>\"\",'Other Non-Toolbox BMPs'!D118,\"\")","v":""},{"$f":"IF('Other Non-Toolbox BMPs'!E118<>\"\",'Other Non-Toolbox BMPs'!E118,\"\")","v":""},{"$f":"IF('Other Non-Toolbox BMPs'!F118<>\"\",'Other Non-Toolbox BMPs'!F118,\"\")","v":""},null,null,null,null,null,"","","","","","",""]
[{"$f":"IF('Other Non-Toolbox BMPs'!A119<>\"\",'Other Non-Toolbox BMPs'!A119,\"\")","v":""},{"$f":"IF('Other Non-Toolbox BMPs'!H119<>\"\",'Other Non-Toolbox BMPs'!H119,\"\")","v":""},{"$f":"IF('Other Non-Toolbox BMPs'!B119<>\"\",'Other Non-Toolbox BMPs'!B119,\"\")","v":""},{"$f":"IF('Other Non-Toolbox BMPs'!C119<>\"\",'Other Non-Toolbox BMPs'!C119,\"\")","v":""},{"$f":"IF('Other Non-Toolbox BMPs'!D119<>\"\",'Other Non-Toolbox BMPs'!D119,\"\")","v":""},{"$f":"IF('Other Non-Toolbox BMPs'!E119<>\"\",'Other Non-Toolbox BMPs'!E119,\"\")","v":""},{"$f":"IF('Other Non-Toolbox BMPs'!F119<>\"\",'Other Non-Toolbox BMPs'!F119,\"\")","v":""},null,null,null,null,null,"","","","","","",""]
[{"$f":"IF('Other Non-Toolbox BMPs'!A120<>\"\",'Other Non-Toolbox BMPs'!A120,\"\")","v":""},{"$f":"IF('Other Non-Toolbox BMPs'!H120<>\"\",'Other Non-Toolbox BMPs'!H120,\"\")","v":""},{"$f":"IF('Other Non-Toolbox BMPs'!B120<>\"\",'Other Non-Toolbox BMPs'!B120,\"\")","v":""},{"$f":"IF('Other Non-Toolbox BMPs'!C120<>\"\",'Other Non-Toolbox BMPs'!C120,\"\")","v":""},{"$f":"IF('Other Non-Toolbox BMPs'!D120<>\"\",'Other Non-Toolbox BMPs'!D120,\"\")","v":""},{"$f":"IF('Other Non-Toolbox BMPs'!E120<>\"\",'Other Non-Toolbox BMPs'!E120,\"\")","v":""},{"$f":"IF('Other Non-Toolbox BMPs'!F120<>\"\",'Other Non-Toolbox BMPs'!F120,\"\")","v":""},null,null,null,null,null,"","","","","","",""]
[{"$f":"IF('Other Non-Toolbox BMPs'!A121<>\"\",'Other Non-Toolbox BMPs'!A121,\"\")","v":""},{"$f":"IF('Other Non-Toolbox BMPs'!H121<>\"\",'Other Non-Toolbox BMPs'!H121,\"\")","v":""},{"$f":"IF('Other Non-Toolbox BMPs'!B121<>\"\",'Other Non-Toolbox BMPs'!B121,\"\")","v":""},{"$f":"IF('Other Non-Toolbox BMPs'!C121<>\"\",'Other Non-Toolbox BMPs'!C121,\"\")","v":""},{"$f":"IF('Other Non-Toolbox BMPs'!D121<>\"\",'Other Non-Toolbox BMPs'!D121,\"\")","v":""},{"$f":"IF('Other Non-Toolbox BMPs'!E121<>\"\",'Other Non-Toolbox BMPs'!E121,\"\")","v":""},{"$f":"IF('Other Non-Toolbox BMPs'!F121<>\"\",'Other Non-Toolbox BMPs'!F121,\"\")","v":""},null,null,null,null,null,"","","","","","",""]
[{"$f":"IF('Other Non-Toolbox BMPs'!A122<>\"\",'Other Non-Toolbox BMPs'!A122,\"\")","v":""},{"$f":"IF('Other Non-Toolbox BMPs'!H122<>\"\",'Other Non-Toolbox BMPs'!H122,\"\")","v":""},{"$f":"IF('Other Non-Toolbox BMPs'!B122<>\"\",'Other Non-Toolbox BMPs'!B122,\"\")","v":""},{"$f":"IF('Other Non-Toolbox BMPs'!C122<>\"\",'Other Non-Toolbox BMPs'!C122,\"\")","v":""},{"$f":"IF('Other Non-Toolbox BMPs'!D122<>\"\",'Other Non-Toolbox BMPs'!D122,\"\")","v":""},{"$f":"IF('Other Non-Toolbox BMPs'!E122<>\"\",'Other Non-Toolbox BMPs'!E122,\"\")","v":""},{"$f":"IF('Other Non-Toolbox BMPs'!F122<>\"\",'Other Non-Toolbox BMPs'!F122,\"\")","v":""},null,null,null,null,null,"","","","","","",""]
[{"$f":"IF('Other Non-Toolbox BMPs'!A137<>\"\",'Other Non-Toolbox BMPs'!A137,\"\")","v":""},{"$f":"IF('Other Non-Toolbox BMPs'!H137<>\"\",'Other Non-Toolbox BMPs'!H137,\"\")","v":""},{"$f":"IF('Other Non-Toolbox BMPs'!B137<>\"\",'Other Non-Toolbox BMPs'!B137,\"\")","v":""},{"$f":"IF('Other Non-Toolbox BMPs'!C137<>\"\",'Other Non-Toolbox BMPs'!C137,\"\")","v":""},{"$f":"IF('Other Non-Toolbox BMPs'!D137<>\"\",'Other Non-Toolbox BMPs'!D137,\"\")","v":""},{"$f":"IF('Other Non-Toolbox BMPs'!E137<>\"\",'Other Non-Toolbox BMPs'!E137,\"\")","v":""},{"$f":"IF('Other Non-Toolbox BMPs'!F137<>\"\",'Other Non-Toolbox BMPs'!F137,\"\")","v":""},null,null,null,null,null,"","","","","","",""]
[{"$f":"IF('Other Non-Toolbox BMPs'!A138<>\"\",'Other Non-Toolbox BMPs'!A138,\"\")","v":""},{"$f":"IF('Other Non-Toolbox BMPs'!H138<>\"\",'Other Non-Toolbox BMPs'!H138,\"\")","v":""},{"$f":"IF('Other Non-Toolbox BMPs'!B138<>\"\",'Other Non-Toolbox BMPs'!B138,\"\")","v":""},{"$f":"IF('Other Non-Toolbox BMPs'!C138<>\"\",'Other Non-Toolbox BMPs'!C138,\"\")","v":""},{"$f":"IF('Other Non-Toolbox BMPs'!D138<>\"\",'Other Non-Toolbox BMPs'!D138,\"\")","v":""},{"$f":"IF('Other Non-Toolbox BMPs'!E138<>\"\",'Other Non-Toolbox BMPs'!E138,\"\")","v":""},{"$f":"IF('Other Non-Toolbox BMPs'!F138<>\"\",'Other Non-Toolbox BMPs'!F138,\"\")","v":""},null,null,null,null,null,"","","","","","",""]
[{"$f":"IF('Other Non-Toolbox BMPs'!A139<>\"\",'Other Non-Toolbox BMPs'!A139,\"\")","v":""},{"$f":"IF('Other Non-Toolbox BMPs'!H139<>\"\",'Other Non-Toolbox BMPs'!H139,\"\")","v":""},{"$f":"IF('Other Non-Toolbox BMPs'!B139<>\"\",'Other Non-Toolbox BMPs'!B139,\"\")","v":""},{"$f":"IF('Other Non-Toolbox BMPs'!C139<>\"\",'Other Non-Toolbox BMPs'!C139,\"\")","v":""},{"$f":"IF('Other Non-Toolbox BMPs'!D139<>\"\",'Other Non-Toolbox BMPs'!D139,\"\")","v":""},{"$f":"IF('Other Non-Toolbox BMPs'!E139<>\"\",'Other Non-Toolbox BMPs'!E139,\"\")","v":""},{"$f":"IF('Other Non-Toolbox BMPs'!F139<>\"\",'Other Non-Toolbox BMPs'!F139,\"\")","v":""},null,null,null,null,null,"","","","","","",""]
[{"$f":"IF('Other Non-Toolbox BMPs'!A140<>\"\",'Other Non-Toolbox BMPs'!A140,\"\")","v":""},{"$f":"IF('Other Non-Toolbox BMPs'!H140<>\"\",'Other Non-Toolbox BMPs'!H140,\"\")","v":""},{"$f":"IF('Other Non-Toolbox BMPs'!B140<>\"\",'Other Non-Toolbox BMPs'!B140,\"\")","v":""},{"$f":"IF('Other Non-Toolbox BMPs'!C140<>\"\",'Other Non-Toolbox BMPs'!C140,\"\")","v":""},{"$f":"IF('Other Non-Toolbox BMPs'!D140<>\"\",'Other Non-Toolbox BMPs'!D140,\"\")","v":""},{"$f":"IF('Other Non-Toolbox BMPs'!E140<>\"\",'Other Non-Toolbox BMPs'!E140,\"\")","v":""},{"$f":"IF('Other Non-Toolbox BMPs'!F140<>\"\",'Other Non-Toolbox BMPs'!F140,\"\")","v":""},null,null,null,null,null,"","","","","","",""]
[{"$f":"IF('Other Non-Toolbox BMPs'!A141<>\"\",'Other Non-Toolbox BMPs'!A141,\"\")","v":""},{"$f":"IF('Other Non-Toolbox BMPs'!H141<>\"\",'Other Non-Toolbox BMPs'!H141,\"\")","v":""},{"$f":"IF('Other Non-Toolbox BMPs'!B141<>\"\",'Other Non-Toolbox BMPs'!B141,\"\")","v":""},{"$f":"IF('Other Non-Toolbox BMPs'!C141<>\"\",'Other Non-Toolbox BMPs'!C141,\"\")","v":""},{"$f":"IF('Other Non-Toolbox BMPs'!D141<>\"\",'Other Non-Toolbox BMPs'!D141,\"\")","v":""},{"$f":"IF('Other Non-Toolbox BMPs'!E141<>\"\",'Other Non-Toolbox BMPs'!E141,\"\")","v":""},{"$f":"IF('Other Non-Toolbox BMPs'!F141<>\"\",'Other Non-Toolbox BMPs'!F141,\"\")","v":""},null,null,null,null,null,"","","","","","",""]
[{"$f":"IF('Other Non-Toolbox BMPs'!A142<>\"\",'Other Non-Toolbox BMPs'!A142,\"\")","v":""},{"$f":"IF('Other Non-Toolbox BMPs'!H142<>\"\",'Other Non-Toolbox BMPs'!H142,\"\")","v":""},{"$f":"IF('Other Non-Toolbox BMPs'!B142<>\"\",'Other Non-Toolbox BMPs'!B142,\"\")","v":""},{"$f":"IF('Other Non-Toolbox BMPs'!C142<>\"\",'Other Non-Toolbox BMPs'!C142,\"\")","v":""},{"$f":"IF('Other Non-Toolbox BMPs'!D142<>\"\",'Other Non-Toolbox BMPs'!D142,\"\")","v":""},{"$f":"IF('Other Non-Toolbox BMPs'!E142<>\"\",'Other Non-Toolbox BMPs'!E142,\"\")","v":""},{"$f":"IF('Other Non-Toolbox BMPs'!F142<>\"\",'Other Non-Toolbox BMPs'!F142,\"\")","v":""},null,null,null,null,null,"","","","","","",""]
[{"$f":"IF('Other Non-Toolbox BMPs'!A143<>\"\",'Other Non-Toolbox BMPs'!A143,\"\")","v":""},{"$f":"IF('Other Non-Toolbox BMPs'!H143<>\"\",'Other Non-Toolbox BMPs'!H143,\"\")","v":""},{"$f":"IF('Other Non-Toolbox BMPs'!B143<>\"\",'Other Non-Toolbox BMPs'!B143,\"\")","v":""},{"$f":"IF('Other Non-Toolbox BMPs'!C143<>\"\",'Other Non-Toolbox BMPs'!C143,\"\")","v":""},{"$f":"IF('Other Non-Toolbox BMPs'!D143<>\"\",'Other Non-Toolbox BMPs'!D143,\"\")","v":""},{"$f":"IF('Other Non-Toolbox BMPs'!E143<>\"\",'Other Non-Toolbox BMPs'!E143,\"\")","v":""},{"$f":"IF('Other Non-Toolbox BMPs'!F143<>\"\",'Other Non-Toolbox BMPs'!F143,\"\")","v":""},null,null,null,null,null,"","","","","","",""]
[{"$f":"IF('Other Non-Toolbox BMPs'!A144<>\"\",'Other Non-Toolbox BMPs'!A144,\"\")","v":""},{"$f":"IF('Other Non-Toolbox BMPs'!H144<>\"\",'Other Non-Toolbox BMPs'!H144,\"\")","v":""},{"$f":"IF('Other Non-Toolbox BMPs'!B144<>\"\",'Other Non-Toolbox BMPs'!B144,\"\")","v":""},{"$f":"IF('Other Non-Toolbox BMPs'!C144<>\"\",'Other Non-Toolbox BMPs'!C144,\"\")","v":""},{"$f":"IF('Other Non-Toolbox BMPs'!D144<>\"\",'Other Non-Toolbox BMPs'!D144,\"\")","v":""},{"$f":"IF('Other Non-Toolbox BMPs'!E144<>\"\",'Other Non-Toolbox BMPs'!E144,\"\")","v":""},{"$f":"IF('Other Non-Toolbox BMPs'!F144<>\"\",'Other Non-Toolbox BMPs'!F144,\"\")","v":""},null,null,null,null,null,"","","","","","",""]
[{"$f":"IF('Other Non-Toolbox BMPs'!A145<>\"\",'Other Non-Toolbox BMPs'!A145,\"\")","v":""},{"$f":"IF('Other Non-Toolbox BMPs'!H145<>\"\",'Other Non-Toolbox BMPs'!H145,\"\")","v":""},{"$f":"IF('Other Non-Toolbox BMPs'!B145<>\"\",'Other Non-Toolbox BMPs'!B145,\"\")","v":""},{"$f":"IF('Other Non-Toolbox BMPs'!C145<>\"\",'Other Non-Toolbox BMPs'!C145,\"\")","v":""},{"$f":"IF('Other Non-Toolbox BMPs'!D145<>\"\",'Other Non-Toolbox BMPs'!D145,\"\")","v":""},{"$f":"IF('Other Non-Toolbox BMPs'!E145<>\"\",'Other Non-Toolbox BMPs'!E145,\"\")","v":""},{"$f":"IF('Other Non-Toolbox BMPs'!F145<>\"\",'Other Non-Toolbox BMPs'!F145,\"\")","v":""},null,null,null,null,null,"","","","","","",""]
[{"$f":"IF('Other Non-Toolbox BMPs'!A146<>\"\",'Other Non-Toolbox BMPs'!A146,\"\")","v":""},{"$f":"IF('Other Non-Toolbox BMPs'!H146<>\"\",'Other Non-Toolbox BMPs'!H146,\"\")","v":""},{"$f":"IF('Other Non-Toolbox BMPs'!B146<>\"\",'Other Non-Toolbox BMPs'!B146,\"\")","v":""},{"$f":"IF('Other Non-Toolbox BMPs'!C146<>\"\",'Other Non-Toolbox BMPs'!C146,\"\")","v":""},{"$f":"IF('Other Non-Toolbox BMPs'!D146<>\"\",'Other Non-Toolbox BMPs'!D146,\"\")","v":""},{"$f":"IF('Other Non-Toolbox BMPs'!E146<>\"\",'Other Non-Toolbox BMPs'!E146,\"\")","v":""},{"$f":"IF('Other Non-Toolbox BMPs'!F146<>\"\",'Other Non-Toolbox BMPs'!F146,\"\")","v":""},null,null,null,null,null,"","","","","","",""]
[{"$f":"IF('Other Non-Toolbox BMPs'!A147<>\"\",'Other Non-Toolbox BMPs'!A147,\"\")","v":""},{"$f":"IF('Other Non-Toolbox BMPs'!H147<>\"\",'Other Non-Toolbox BMPs'!H147,\"\")","v":""},{"$f":"IF('Other Non-Toolbox BMPs'!B147<>\"\",'Other Non-Toolbox BMPs'!B147,\"\")","v":""},{"$f":"IF('Other Non-Toolbox BMPs'!C147<>\"\",'Other Non-Toolbox BMPs'!C147,\"\")","v":""},{"$f":"IF('Other Non-Toolbox BMPs'!D147<>\"\",'Other Non-Toolbox BMPs'!D147,\"\")","v":""},{"$f":"IF('Other Non-Toolbox BMPs'!E147<>\"\",'Other Non-Toolbox BMPs'!E147,\"\")","v":""},{"$f":"IF('Other Non-Toolbox BMPs'!F147<>\"\",'Other Non-Toolbox BMPs'!F147,\"\")","v":""},null,null,null,null,null,"","","","","","",""]
[{"$f":"IF('Other Non-Toolbox BMPs'!A148<>\"\",'Other Non-Toolbox BMPs'!A148,\"\")","v":""},{"$f":"IF('Other Non-Toolbox BMPs'!H148<>\"\",'Other Non-Toolbox BMPs'!H148,\"\")","v":""},{"$f":"IF('Other Non-Toolbox BMPs'!B148<>\"\",'Other Non-Toolbox BMPs'!B148,\"\")","v":""},{"$f":"IF('Other Non-Toolbox BMPs'!C148<>\"\",'Other Non-Toolbox BMPs'!C148,\"\")","v":""},{"$f":"IF('Other Non-Toolbox BMPs'!D148<>\"\",'Other Non-Toolbox BMPs'!D148,\"\")","v":""},{"$f":"IF('Other Non-Toolbox BMPs'!E148<>\"\",'Other Non-Toolbox BMPs'!E148,\"\")","v":""},{"$f":"IF('Other Non-Toolbox BMPs'!F148<>\"\",'Other Non-Toolbox BMPs'!F148,\"\")","v":""},null,null,null,null,null,"","","","","","",""]
[{"$f":"IF('Other Non-Toolbox BMPs'!A149<>\"\",'Other Non-Toolbox BMPs'!A149,\"\")","v":""},{"$f":"IF('Other Non-Toolbox BMPs'!H149<>\"\",'Other Non-Toolbox BMPs'!H149,\"\")","v":""},{"$f":"IF('Other Non-Toolbox BMPs'!B149<>\"\",'Other Non-Toolbox BMPs'!B149,\"\")","v":""},{"$f":"IF('Other Non-Toolbox BMPs'!C149<>\"\",'Other Non-Toolbox BMPs'!C149,\"\")","v":""},{"$f":"IF('Other Non-Toolbox BMPs'!D149<>\"\",'Other Non-Toolbox BMPs'!D149,\"\")","v":""},{"$f":"IF('Other Non-Toolbox BMPs'!E149<>\"\",'Other Non-Toolbox BMPs'!E149,\"\")","v":""},{"$f":"IF('Other Non-Toolbox BMPs'!F149<>\"\",'Other Non-Toolbox BMPs'!F149,\"\")","v":""},null,null,null,null,null,"","","","","","",""]
[{"$f":"IF('Other Non-Toolbox BMPs'!A150<>\"\",'Other Non-Toolbox BMPs'!A150,\"\")","v":""},{"$f":"IF('Other Non-Toolbox BMPs'!H150<>\"\",'Other Non-Toolbox BMPs'!H150,\"\")","v":""},{"$f":"IF('Other Non-Toolbox BMPs'!B150<>\"\",'Other Non-Toolbox BMPs'!B150,\"\")","v":""},{"$f":"IF('Other Non-Toolbox BMPs'!C150<>\"\",'Other Non-Toolbox BMPs'!C150,\"\")","v":""},{"$f":"IF('Other Non-Toolbox BMPs'!D150<>\"\",'Other Non-Toolbox BMPs'!D150,\"\")","v":""},{"$f":"IF('Other Non-Toolbox BMPs'!E150<>\"\",'Other Non-Toolbox BMPs'!E150,\"\")","v":""},{"$f":"IF('Other Non-Toolbox BMPs'!F150<>\"\",'Other Non-Toolbox BMPs'!F150,\"\")","v":""},null,null,null,null,null,"","","","","","",""]
[{"$f":"IF('Other Non-Toolbox BMPs'!A151<>\"\",'Other Non-Toolbox BMPs'!A151,\"\")","v":""},{"$f":"IF('Other Non-Toolbox BMPs'!H151<>\"\",'Other Non-Toolbox BMPs'!H151,\"\")","v":""},{"$f":"IF('Other Non-Toolbox BMPs'!B151<>\"\",'Other Non-Toolbox BMPs'!B151,\"\")","v":""},{"$f":"IF('Other Non-Toolbox BMPs'!C151<>\"\",'Other Non-Toolbox BMPs'!C151,\"\")","v":""},{"$f":"IF('Other Non-Toolbox BMPs'!D151<>\"\",'Other Non-Toolbox BMPs'!D151,\"\")","v":""},{"$f":"IF('Other Non-Toolbox BMPs'!E151<>\"\",'Other Non-Toolbox BMPs'!E151,\"\")","v":""},{"$f":"IF('Other Non-Toolbox BMPs'!F151<>\"\",'Other Non-Toolbox BMPs'!F151,\"\")","v":""},null,null,null,null,null,"","","","","","",""]
[{"$f":"IF('Other Non-Toolbox BMPs'!A152<>\"\",'Other Non-Toolbox BMPs'!A152,\"\")","v":""},{"$f":"IF('Other Non-Toolbox BMPs'!H152<>\"\",'Other Non-Toolbox BMPs'!H152,\"\")","v":""},{"$f":"IF('Other Non-Toolbox BMPs'!B152<>\"\",'Other Non-Toolbox BMPs'!B152,\"\")","v":""},{"$f":"IF('Other Non-Toolbox BMPs'!C152<>\"\",'Other Non-Toolbox BMPs'!C152,\"\")","v":""},{"$f":"IF('Other Non-Toolbox BMPs'!D152<>\"\",'Other Non-Toolbox BMPs'!D152,\"\")","v":""},{"$f":"IF('Other Non-Toolbox BMPs'!E152<>\"\",'Other Non-Toolbox BMPs'!E152,\"\")","v":""},{"$f":"IF('Other Non-Toolbox BMPs'!F152<>\"\",'Other Non-Toolbox BMPs'!F152,\"\")","v":""},null,null,null,null,null,"","","","","","",""]
[{"$f":"IF('Other Non-Toolbox BMPs'!A153<>\"\",'Other Non-Toolbox BMPs'!A153,\"\")","v":""},{"$f":"IF('Other Non-Toolbox BMPs'!H153<>\"\",'Other Non-Toolbox BMPs'!H153,\"\")","v":""},{"$f":"IF('Other Non-Toolbox BMPs'!B153<>\"\",'Other Non-Toolbox BMPs'!B153,\"\")","v":""},{"$f":"IF('Other Non-Toolbox BMPs'!C153<>\"\",'Other Non-Toolbox BMPs'!C153,\"\")","v":""},{"$f":"IF('Other Non-Toolbox BMPs'!D153<>\"\",'Other Non-Toolbox BMPs'!D153,\"\")","v":""},{"$f":"IF('Other Non-Toolbox BMPs'!E153<>\"\",'Other Non-Toolbox BMPs'!E153,\"\")","v":""},{"$f":"IF('Other Non-Toolbox BMPs'!F153<>\"\",'Other Non-Toolbox BMPs'!F153,\"\")","v":""},null,null,null,null,null,"","","","","","",""]
[{"$f":"IF('Other Non-Toolbox BMPs'!A154<>\"\",'Other Non-Toolbox BMPs'!A154,\"\")","v":""},{"$f":"IF('Other Non-Toolbox BMPs'!H154<>\"\",'Other Non-Toolbox BMPs'!H154,\"\")","v":""},{"$f":"IF('Other Non-Toolbox BMPs'!B154<>\"\",'Other Non-Toolbox BMPs'!B154,\"\")","v":""},{"$f":"IF('Other Non-Toolbox BMPs'!C154<>\"\",'Other Non-Toolbox BMPs'!C154,\"\")","v":""},{"$f":"IF('Other Non-Toolbox BMPs'!D154<>\"\",'Other Non-Toolbox BMPs'!D154,\"\")","v":""},{"$f":"IF('Other Non-Toolbox BMPs'!E154<>\"\",'Other Non-Toolbox BMPs'!E154,\"\")","v":""},{"$f":"IF('Other Non-Toolbox BMPs'!F154<>\"\",'Other Non-Toolbox BMPs'!F154,\"\")","v":""},null,null,null,null,null,"","","","","","",""]
[{"$f":"IF('Other Non-Toolbox BMPs'!A155<>\"\",'Other Non-Toolbox BMPs'!A155,\"\")","v":""},{"$f":"IF('Other Non-Toolbox BMPs'!H155<>\"\",'Other Non-Toolbox BMPs'!H155,\"\")","v":""},{"$f":"IF('Other Non-Toolbox BMPs'!B155<>\"\",'Other Non-Toolbox BMPs'!B155,\"\")","v":""},{"$f":"IF('Other Non-Toolbox BMPs'!C155<>\"\",'Other Non-Toolbox BMPs'!C155,\"\")","v":""},{"$f":"IF('Other Non-Toolbox BMPs'!D155<>\"\",'Other Non-Toolbox BMPs'!D155,\"\")","v":""},{"$f":"IF('Other Non-Toolbox BMPs'!E155<>\"\",'Other Non-Toolbox BMPs'!E155,\"\")","v":""},{"$f":"IF('Other Non-Toolbox BMPs'!F155<>\"\",'Other Non-Toolbox BMPs'!F155,\"\")","v":""},null,null,null,null,null,"","","","","","",""]
[{"$f":"IF('Other Non-Toolbox BMPs'!A156<>\"\",'Other Non-Toolbox BMPs'!A156,\"\")","v":""},{"$f":"IF('Other Non-Toolbox BMPs'!H156<>\"\",'Other Non-Toolbox BMPs'!H156,\"\")","v":""},{"$f":"IF('Other Non-Toolbox BMPs'!B156<>\"\",'Other Non-Toolbox BMPs'!B156,\"\")","v":""},{"$f":"IF('Other Non-Toolbox BMPs'!C156<>\"\",'Other Non-Toolbox BMPs'!C156,\"\")","v":""},{"$f":"IF('Other Non-Toolbox BMPs'!D156<>\"\",'Other Non-Toolbox BMPs'!D156,\"\")","v":""},{"$f":"IF('Other Non-Toolbox BMPs'!E156<>\"\",'Other Non-Toolbox BMPs'!E156,\"\")","v":""},{"$f":"IF('Other Non-Toolbox BMPs'!F156<>\"\",'Other Non-Toolbox BMPs'!F156,\"\")","v":""},null,null,null,null,null,"","","","","","",""]
[{"$f":"IF('Other Non-Toolbox BMPs'!A157<>\"\",'Other Non-Toolbox BMPs'!A157,\"\")","v":""},{"$f":"IF('Other Non-Toolbox BMPs'!H157<>\"\",'Other Non-Toolbox BMPs'!H157,\"\")","v":""},{"$f":"IF('Other Non-Toolbox BMPs'!B157<>\"\",'Other Non-Toolbox BMPs'!B157,\"\")","v":""},{"$f":"IF('Other Non-Toolbox BMPs'!C157<>\"\",'Other Non-Toolbox BMPs'!C157,\"\")","v":""},{"$f":"IF('Other Non-Toolbox BMPs'!D157<>\"\",'Other Non-Toolbox BMPs'!D157,\"\")","v":""},{"$f":"IF('Other Non-Toolbox BMPs'!E157<>\"\",'Other Non-Toolbox BMPs'!E157,\"\")","v":""},{"$f":"IF('Other Non-Toolbox BMPs'!F157<>\"\",'Other Non-Toolbox BMPs'!F157,\"\")","v":""},null,null,null,null,null,"","","","","","",""]
[{"$f":"IF('Other Non-Toolbox BMPs'!A158<>\"\",'Other Non-Toolbox BMPs'!A158,\"\")","v":""},{"$f":"IF('Other Non-Toolbox BMPs'!H158<>\"\",'Other Non-Toolbox BMPs'!H158,\"\")","v":""},{"$f":"IF('Other Non-Toolbox BMPs'!B158<>\"\",'Other Non-Toolbox BMPs'!B158,\"\")","v":""},{"$f":"IF('Other Non-Toolbox BMPs'!C158<>\"\",'Other Non-Toolbox BMPs'!C158,\"\")","v":""},{"$f":"IF('Other Non-Toolbox BMPs'!D158<>\"\",'Other Non-Toolbox BMPs'!D158,\"\")","v":""},{"$f":"IF('Other Non-Toolbox BMPs'!E158<>\"\",'Other Non-Toolbox BMPs'!E158,\"\")","v":""},{"$f":"IF('Other Non-Toolbox BMPs'!F158<>\"\",'Other Non-Toolbox BMPs'!F158,\"\")","v":""},null,null,null,null,null,"","","","","","",""]
[{"$f":"IF('Other Non-Toolbox BMPs'!A159<>\"\",'Other Non-Toolbox BMPs'!A159,\"\")","v":""},{"$f":"IF('Other Non-Toolbox BMPs'!H159<>\"\",'Other Non-Toolbox BMPs'!H159,\"\")","v":""},{"$f":"IF('Other Non-Toolbox BMPs'!B159<>\"\",'Other Non-Toolbox BMPs'!B159,\"\")","v":""},{"$f":"IF('Other Non-Toolbox BMPs'!C159<>\"\",'Other Non-Toolbox BMPs'!C159,\"\")","v":""},{"$f":"IF('Other Non-Toolbox BMPs'!D159<>\"\",'Other Non-Toolbox BMPs'!D159,\"\")","v":""},{"$f":"IF('Other Non-Toolbox BMPs'!E159<>\"\",'Other Non-Toolbox BMPs'!E159,\"\")","v":""},{"$f":"IF('Other Non-Toolbox BMPs'!F159<>\"\",'Other Non-Toolbox BMPs'!F159,\"\")","v":""},null,null,null,null,null,"","","","","","",""]
[{"$f":"IF('Other Non-Toolbox BMPs'!A160<>\"\",'Other Non-Toolbox BMPs'!A160,\"\")","v":""},{"$f":"IF('Other Non-Toolbox BMPs'!H160<>\"\",'Other Non-Toolbox BMPs'!H160,\"\")","v":""},{"$f":"IF('Other Non-Toolbox BMPs'!B160<>\"\",'Other Non-Toolbox BMPs'!B160,\"\")","v":""},{"$f":"IF('Other Non-Toolbox BMPs'!C160<>\"\",'Other Non-Toolbox BMPs'!C160,\"\")","v":""},{"$f":"IF('Other Non-Toolbox BMPs'!D160<>\"\",'Other Non-Toolbox BMPs'!D160,\"\")","v":""},{"$f":"IF('Other Non-Toolbox BMPs'!E160<>\"\",'Other Non-Toolbox BMPs'!E160,\"\")","v":""},{"$f":"IF('Other Non-Toolbox BMPs'!F160<>\"\",'Other Non-Toolbox BMPs'!F160,\"\")","v":""},null,null,null,null,null,"","","","","","",""]
[{"$f":"IF('Other Non-Toolbox BMPs'!A161<>\"\",'Other Non-Toolbox BMPs'!A161,\"\")","v":""},{"$f":"IF('Other Non-Toolbox BMPs'!H161<>\"\",'Other Non-Toolbox BMPs'!H161,\"\")","v":""},{"$f":"IF('Other Non-Toolbox BMPs'!B161<>\"\",'Other Non-Toolbox BMPs'!B161,\"\")","v":""},{"$f":"IF('Other Non-Toolbox BMPs'!C161<>\"\",'Other Non-Toolbox BMPs'!C161,\"\")","v":""},{"$f":"IF('Other Non-Toolbox BMPs'!D161<>\"\",'Other Non-Toolbox BMPs'!D161,\"\")","v":""},{"$f":"IF('Other Non-Toolbox BMPs'!E161<>\"\",'Other Non-Toolbox BMPs'!E161,\"\")","v":""},{"$f":"IF('Other Non-Toolbox BMPs'!F161<>\"\",'Other Non-Toolbox BMPs'!F161,\"\")","v":""},null,null,null,null,null,"","","","","","",""]
[{"$f":"IF('Other Non-Toolbox BMPs'!A162<>\"\",'Other Non-Toolbox BMPs'!A162,\"\")","v":""},{"$f":"IF('Other Non-Toolbox BMPs'!H162<>\"\",'Other Non-Toolbox BMPs'!H162,\"\")","v":""},{"$f":"IF('Other Non-Toolbox BMPs'!B162<>\"\",'Other Non-Toolbox BMPs'!B162,\"\")","v":""},{"$f":"IF('Other Non-Toolbox BMPs'!C162<>\"\",'Other Non-Toolbox BMPs'!C162,\"\")","v":""},{"$f":"IF('Other Non-Toolbox BMPs'!D162<>\"\",'Other Non-Toolbox BMPs'!D162,\"\")","v":""},{"$f":"IF('Other Non-Toolbox BMPs'!E162<>\"\",'Other Non-Toolbox BMPs'!E162,\"\")","v":""},{"$f":"IF('Other Non-Toolbox BMPs'!F162<>\"\",'Other Non-Toolbox BMPs'!F162,\"\")","v":""},null,null,null,null,null,"","","","","","",""]
[{"$f":"IF('Other Non-Toolbox BMPs'!A163<>\"\",'Other Non-Toolbox BMPs'!A163,\"\")","v":""},{"$f":"IF('Other Non-Toolbox BMPs'!H163<>\"\",'Other Non-Toolbox BMPs'!H163,\"\")","v":""},{"$f":"IF('Other Non-Toolbox BMPs'!B163<>\"\",'Other Non-Toolbox BMPs'!B163,\"\")","v":""},{"$f":"IF('Other Non-Toolbox BMPs'!C163<>\"\",'Other Non-Toolbox BMPs'!C163,\"\")","v":""},{"$f":"IF('Other Non-Toolbox BMPs'!D163<>\"\",'Other Non-Toolbox BMPs'!D163,\"\")","v":""},{"$f":"IF('Other Non-Toolbox BMPs'!E163<>\"\",'Other Non-Toolbox BMPs'!E163,\"\")","v":""},{"$f":"IF('Other Non-Toolbox BMPs'!F163<>\"\",'Other Non-Toolbox BMPs'!F163,\"\")","v":""},null,null,null,null,null,"","","","","","",""]
[{"$f":"IF('Other Non-Toolbox BMPs'!A164<>\"\",'Other Non-Toolbox BMPs'!A164,\"\")","v":""},{"$f":"IF('Other Non-Toolbox BMPs'!H164<>\"\",'Other Non-Toolbox BMPs'!H164,\"\")","v":""},{"$f":"IF('Other Non-Toolbox BMPs'!B164<>\"\",'Other Non-Toolbox BMPs'!B164,\"\")","v":""},{"$f":"IF('Other Non-Toolbox BMPs'!C164<>\"\",'Other Non-Toolbox BMPs'!C164,\"\")","v":""},{"$f":"IF('Other Non-Toolbox BMPs'!D164<>\"\",'Other Non-Toolbox BMPs'!D164,\"\")","v":""},{"$f":"IF('Other Non-Toolbox BMPs'!E164<>\"\",'Other Non-Toolbox BMPs'!E164,\"\")","v":""},{"$f":"IF('Other Non-Toolbox BMPs'!F164<>\"\",'Other Non-Toolbox BMPs'!F164,\"\")","v":""},null,null,null,null,null,"","","","","","",""]
[{"$f":"IF('Other Non-Toolbox BMPs'!A165<>\"\",'Other Non-Toolbox BMPs'!A165,\"\")","v":""},{"$f":"IF('Other Non-Toolbox BMPs'!H165<>\"\",'Other Non-Toolbox BMPs'!H165,\"\")","v":""},{"$f":"IF('Other Non-Toolbox BMPs'!B165<>\"\",'Other Non-Toolbox BMPs'!B165,\"\")","v":""},{"$f":"IF('Other Non-Toolbox BMPs'!C165<>\"\",'Other Non-Toolbox BMPs'!C165,\"\")","v":""},{"$f":"IF('Other Non-Toolbox BMPs'!D165<>\"\",'Other Non-Toolbox BMPs'!D165,\"\")","v":""},{"$f":"IF('Other Non-Toolbox BMPs'!E165<>\"\",'Other Non-Toolbox BMPs'!E165,\"\")","v":""},{"$f":"IF('Other Non-Toolbox BMPs'!F165<>\"\",'Other Non-Toolbox BMPs'!F165,\"\")","v":""},null,null,null,null,null,"","","","","","",""]
[{"$f":"IF('Other Non-Toolbox BMPs'!A166<>\"\",'Other Non-Toolbox BMPs'!A166,\"\")","v":""},{"$f":"IF('Other Non-Toolbox BMPs'!H166<>\"\",'Other Non-Toolbox BMPs'!H166,\"\")","v":""},{"$f":"IF('Other Non-Toolbox BMPs'!B166<>\"\",'Other Non-Toolbox BMPs'!B166,\"\")","v":""},{"$f":"IF('Other Non-Toolbox BMPs'!C166<>\"\",'Other Non-Toolbox BMPs'!C166,\"\")","v":""},{"$f":"IF('Other Non-Toolbox BMPs'!D166<>\"\",'Other Non-Toolbox BMPs'!D166,\"\")","v":""},{"$f":"IF('Other Non-Toolbox BMPs'!E166<>\"\",'Other Non-Toolbox BMPs'!E166,\"\")","v":""},{"$f":"IF('Other Non-Toolbox BMPs'!F166<>\"\",'Other Non-Toolbox BMPs'!F166,\"\")","v":""},null,null,null,null,null,"","","","","","",""]
[{"$f":"IF('Other Non-Toolbox BMPs'!A167<>\"\",'Other Non-Toolbox BMPs'!A167,\"\")","v":""},{"$f":"IF('Other Non-Toolbox BMPs'!H167<>\"\",'Other Non-Toolbox BMPs'!H167,\"\")","v":""},{"$f":"IF('Other Non-Toolbox BMPs'!B167<>\"\",'Other Non-Toolbox BMPs'!B167,\"\")","v":""},{"$f":"IF('Other Non-Toolbox BMPs'!C167<>\"\",'Other Non-Toolbox BMPs'!C167,\"\")","v":""},{"$f":"IF('Other Non-Toolbox BMPs'!D167<>\"\",'Other Non-Toolbox BMPs'!D167,\"\")","v":""},{"$f":"IF('Other Non-Toolbox BMPs'!E167<>\"\",'Other Non-Toolbox BMPs'!E167,\"\")","v":""},{"$f":"IF('Other Non-Toolbox BMPs'!F167<>\"\",'Other Non-Toolbox BMPs'!F167,\"\")","v":""},null,null,null,null,null,"","","","","","",""]
[{"$f":"IF('Other Non-Toolbox BMPs'!A168<>\"\",'Other Non-Toolbox BMPs'!A168,\"\")","v":""},{"$f":"IF('Other Non-Toolbox BMPs'!H168<>\"\",'Other Non-Toolbox BMPs'!H168,\"\")","v":""},{"$f":"IF('Other Non-Toolbox BMPs'!B168<>\"\",'Other Non-Toolbox BMPs'!B168,\"\")","v":""},{"$f":"IF('Other Non-Toolbox BMPs'!C168<>\"\",'Other Non-Toolbox BMPs'!C168,\"\")","v":""},{"$f":"IF('Other Non-Toolbox BMPs'!D168<>\"\",'Other Non-Toolbox BMPs'!D168,\"\")","v":""},{"$f":"IF('Other Non-Toolbox BMPs'!E168<>\"\",'Other Non-Toolbox BMPs'!E168,\"\")","v":""},{"$f":"IF('Other Non-Toolbox BMPs'!F168<>\"\",'Other Non-Toolbox BMPs'!F168,\"\")","v":""},null,null,null,null,null,"","","","","","",""]
[{"$f":"IF('Other Non-Toolbox BMPs'!A169<>\"\",'Other Non-Toolbox BMPs'!A169,\"\")","v":""},{"$f":"IF('Other Non-Toolbox BMPs'!H169<>\"\",'Other Non-Toolbox BMPs'!H169,\"\")","v":""},{"$f":"IF('Other Non-Toolbox BMPs'!B169<>\"\",'Other Non-Toolbox BMPs'!B169,\"\")","v":""},{"$f":"IF('Other Non-Toolbox BMPs'!C169<>\"\",'Other Non-Toolbox BMPs'!C169,\"\")","v":""},{"$f":"IF('Other Non-Toolbox BMPs'!D169<>\"\",'Other Non-Toolbox BMPs'!D169,\"\")","v":""},{"$f":"IF('Other Non-Toolbox BMPs'!E169<>\"\",'Other Non-Toolbox BMPs'!E169,\"\")","v":""},{"$f":"IF('Other Non-Toolbox BMPs'!F169<>\"\",'Other Non-Toolbox BMPs'!F169,\"\")","v":""},null,null,null,null,null,"","","","","","",""]
[{"$f":"IF('Other Non-Toolbox BMPs'!A170<>\"\",'Other Non-Toolbox BMPs'!A170,\"\")","v":""},{"$f":"IF('Other Non-Toolbox BMPs'!H170<>\"\",'Other Non-Toolbox BMPs'!H170,\"\")","v":""},{"$f":"IF('Other Non-Toolbox BMPs'!B170<>\"\",'Other Non-Toolbox BMPs'!B170,\"\")","v":""},{"$f":"IF('Other Non-Toolbox BMPs'!C170<>\"\",'Other Non-Toolbox BMPs'!C170,\"\")","v":""},{"$f":"IF('Other Non-Toolbox BMPs'!D170<>\"\",'Other Non-Toolbox BMPs'!D170,\"\")","v":""},{"$f":"IF('Other Non-Toolbox BMPs'!E170<>\"\",'Other Non-Toolbox BMPs'!E170,\"\")","v":""},{"$f":"IF('Other Non-Toolbox BMPs'!F170<>\"\",'Other Non-Toolbox BMPs'!F170,\"\")","v":""},null,null,null,null,null,"","","","","","",""]
[{"$f":"IF('Other Non-Toolbox BMPs'!A171<>\"\",'Other Non-Toolbox BMPs'!A171,\"\")","v":""},{"$f":"IF('Other Non-Toolbox BMPs'!H171<>\"\",'Other Non-Toolbox BMPs'!H171,\"\")","v":""},{"$f":"IF('Other Non-Toolbox BMPs'!B171<>\"\",'Other Non-Toolbox BMPs'!B171,\"\")","v":""},{"$f":"IF('Other Non-Toolbox BMPs'!C171<>\"\",'Other Non-Toolbox BMPs'!C171,\"\")","v":""},{"$f":"IF('Other Non-Toolbox BMPs'!D171<>\"\",'Other Non-Toolbox BMPs'!D171,\"\")","v":""},{"$f":"IF('Other Non-Toolbox BMPs'!E171<>\"\",'Other Non-Toolbox BMPs'!E171,\"\")","v":""},{"$f":"IF('Other Non-Toolbox BMPs'!F171<>\"\",'Other Non-Toolbox BMPs'!F171,\"\")","v":""},null,null,null,null,null,"","","","","","",""]
[{"$f":"IF('Other Non-Toolbox BMPs'!A172<>\"\",'Other Non-Toolbox BMPs'!A172,\"\")","v":""},{"$f":"IF('Other Non-Toolbox BMPs'!H172<>\"\",'Other Non-Toolbox BMPs'!H172,\"\")","v":""},{"$f":"IF('Other Non-Toolbox BMPs'!B172<>\"\",'Other Non-Toolbox BMPs'!B172,\"\")","v":""},{"$f":"IF('Other Non-Toolbox BMPs'!C172<>\"\",'Other Non-Toolbox BMPs'!C172,\"\")","v":""},{"$f":"IF('Other Non-Toolbox BMPs'!D172<>\"\",'Other Non-Toolbox BMPs'!D172,\"\")","v":""},{"$f":"IF('Other Non-Toolbox BMPs'!E172<>\"\",'Other Non-Toolbox BMPs'!E172,\"\")","v":""},{"$f":"IF('Other Non-Toolbox BMPs'!F172<>\"\",'Other Non-Toolbox BMPs'!F172,\"\")","v":""},null,null,null,null,null,"","","","","","",""]
[{"$f":"IF('Other Non-Toolbox BMPs'!A173<>\"\",'Other Non-Toolbox BMPs'!A173,\"\")","v":""},{"$f":"IF('Other Non-Toolbox BMPs'!H173<>\"\",'Other Non-Toolbox BMPs'!H173,\"\")","v":""},{"$f":"IF('Other Non-Toolbox BMPs'!B173<>\"\",'Other Non-Toolbox BMPs'!B173,\"\")","v":""},{"$f":"IF('Other Non-Toolbox BMPs'!C173<>\"\",'Other Non-Toolbox BMPs'!C173,\"\")","v":""},{"$f":"IF('Other Non-Toolbox BMPs'!D173<>\"\",'Other Non-Toolbox BMPs'!D173,\"\")","v":""},{"$f":"IF('Other Non-Toolbox BMPs'!E173<>\"\",'Other Non-Toolbox BMPs'!E173,\"\")","v":""},{"$f":"IF('Other Non-Toolbox BMPs'!F173<>\"\",'Other Non-Toolbox BMPs'!F173,\"\")","v":""},null,null,null,null,null,"","","","","","",""]
[{"$f":"IF('Other Non-Toolbox BMPs'!A174<>\"\",'Other Non-Toolbox BMPs'!A174,\"\")","v":""},{"$f":"IF('Other Non-Toolbox BMPs'!H174<>\"\",'Other Non-Toolbox BMPs'!H174,\"\")","v":""},{"$f":"IF('Other Non-Toolbox BMPs'!B174<>\"\",'Other Non-Toolbox BMPs'!B174,\"\")","v":""},{"$f":"IF('Other Non-Toolbox BMPs'!C174<>\"\",'Other Non-Toolbox BMPs'!C174,\"\")","v":""},{"$f":"IF('Other Non-Toolbox BMPs'!D174<>\"\",'Other Non-Toolbox BMPs'!D174,\"\")","v":""},{"$f":"IF('Other Non-Toolbox BMPs'!E174<>\"\",'Other Non-Toolbox BMPs'!E174,\"\")","v":""},{"$f":"IF('Other Non-Toolbox BMPs'!F174<>\"\",'Other Non-Toolbox BMPs'!F174,\"\")","v":""},null,null,null,null,null,"","","","","","",""]
[{"$f":"IF('Other Non-Toolbox BMPs'!A189<>\"\",'Other Non-Toolbox BMPs'!A189,\"\")","v":""},{"$f":"IF('Other Non-Toolbox BMPs'!H189<>\"\",'Other Non-Toolbox BMPs'!H189,\"\")","v":""},{"$f":"IF('Other Non-Toolbox BMPs'!B189<>\"\",'Other Non-Toolbox BMPs'!B189,\"\")","v":""},{"$f":"IF('Other Non-Toolbox BMPs'!C189<>\"\",'Other Non-Toolbox BMPs'!C189,\"\")","v":""},{"$f":"IF('Other Non-Toolbox BMPs'!D189<>\"\",'Other Non-Toolbox BMPs'!D189,\"\")","v":""},{"$f":"IF('Other Non-Toolbox BMPs'!E189<>\"\",'Other Non-Toolbox BMPs'!E189,\"\")","v":""},{"$f":"IF('Other Non-Toolbox BMPs'!F189<>\"\",'Other Non-Toolbox BMPs'!F189,\"\")","v":""},null,null,null,null,null,"","","","","","",""]
[{"$f":"IF('Other Non-Toolbox BMPs'!A190<>\"\",'Other Non-Toolbox BMPs'!A190,\"\")","v":""},{"$f":"IF('Other Non-Toolbox BMPs'!H190<>\"\",'Other Non-Toolbox BMPs'!H190,\"\")","v":""},{"$f":"IF('Other Non-Toolbox BMPs'!B190<>\"\",'Other Non-Toolbox BMPs'!B190,\"\")","v":""},{"$f":"IF('Other Non-Toolbox BMPs'!C190<>\"\",'Other Non-Toolbox BMPs'!C190,\"\")","v":""},{"$f":"IF('Other Non-Toolbox BMPs'!D190<>\"\",'Other Non-Toolbox BMPs'!D190,\"\")","v":""},{"$f":"IF('Other Non-Toolbox BMPs'!E190<>\"\",'Other Non-Toolbox BMPs'!E190,\"\")","v":""},{"$f":"IF('Other Non-Toolbox BMPs'!F190<>\"\",'Other Non-Toolbox BMPs'!F190,\"\")","v":""},null,null,null,null,null,"","","","","","",""]
[{"$f":"IF('Other Non-Toolbox BMPs'!A191<>\"\",'Other Non-Toolbox BMPs'!A191,\"\")","v":""},{"$f":"IF('Other Non-Toolbox BMPs'!H191<>\"\",'Other Non-Toolbox BMPs'!H191,\"\")","v":""},{"$f":"IF('Other Non-Toolbox BMPs'!B191<>\"\",'Other Non-Toolbox BMPs'!B191,\"\")","v":""},{"$f":"IF('Other Non-Toolbox BMPs'!C191<>\"\",'Other Non-Toolbox BMPs'!C191,\"\")","v":""},{"$f":"IF('Other Non-Toolbox BMPs'!D191<>\"\",'Other Non-Toolbox BMPs'!D191,\"\")","v":""},{"$f":"IF('Other Non-Toolbox BMPs'!E191<>\"\",'Other Non-Toolbox BMPs'!E191,\"\")","v":""},{"$f":"IF('Other Non-Toolbox BMPs'!F191<>\"\",'Other Non-Toolbox BMPs'!F191,\"\")","v":""},null,null,null,null,null,"","","","","","",""]
[{"$f":"IF('Other Non-Toolbox BMPs'!A192<>\"\",'Other Non-Toolbox BMPs'!A192,\"\")","v":""},{"$f":"IF('Other Non-Toolbox BMPs'!H192<>\"\",'Other Non-Toolbox BMPs'!H192,\"\")","v":""},{"$f":"IF('Other Non-Toolbox BMPs'!B192<>\"\",'Other Non-Toolbox BMPs'!B192,\"\")","v":""},{"$f":"IF('Other Non-Toolbox BMPs'!C192<>\"\",'Other Non-Toolbox BMPs'!C192,\"\")","v":""},{"$f":"IF('Other Non-Toolbox BMPs'!D192<>\"\",'Other Non-Toolbox BMPs'!D192,\"\")","v":""},{"$f":"IF('Other Non-Toolbox BMPs'!E192<>\"\",'Other Non-Toolbox BMPs'!E192,\"\")","v":""},{"$f":"IF('Other Non-Toolbox BMPs'!F192<>\"\",'Other Non-Toolbox BMPs'!F192,\"\")","v":""},null,null,null,null,null,"","","","","","",""]
[{"$f":"IF('Other Non-Toolbox BMPs'!A193<>\"\",'Other Non-Toolbox BMPs'!A193,\"\")","v":""},{"$f":"IF('Other Non-Toolbox BMPs'!H193<>\"\",'Other Non-Toolbox BMPs'!H193,\"\")","v":""},{"$f":"IF('Other Non-Toolbox BMPs'!B193<>\"\",'Other Non-Toolbox BMPs'!B193,\"\")","v":""},{"$f":"IF('Other Non-Toolbox BMPs'!C193<>\"\",'Other Non-Toolbox BMPs'!C193,\"\")","v":""},{"$f":"IF('Other Non-Toolbox BMPs'!D193<>\"\",'Other Non-Toolbox BMPs'!D193,\"\")","v":""},{"$f":"IF('Other Non-Toolbox BMPs'!E193<>\"\",'Other Non-Toolbox BMPs'!E193,\"\")","v":""},{"$f":"IF('Other Non-Toolbox BMPs'!F193<>\"\",'Other Non-Toolbox BMPs'!F193,\"\")","v":""},null,null,null,null,null,"","","","","","",""]
[{"$f":"IF('Other Non-Toolbox BMPs'!A194<>\"\",'Other Non-Toolbox BMPs'!A194,\"\")","v":""},{"$f":"IF('Other Non-Toolbox BMPs'!H194<>\"\",'Other Non-Toolbox BMPs'!H194,\"\")","v":""},{"$f":"IF('Other Non-Toolbox BMPs'!B194<>\"\",'Other Non-Toolbox BMPs'!B194,\"\")","v":""},{"$f":"IF('Other Non-Toolbox BMPs'!C194<>\"\",'Other Non-Toolbox BMPs'!C194,\"\")","v":""},{"$f":"IF('Other Non-Toolbox BMPs'!D194<>\"\",'Other Non-Toolbox BMPs'!D194,\"\")","v":""},{"$f":"IF('Other Non-Toolbox BMPs'!E194<>\"\",'Other Non-Toolbox BMPs'!E194,\"\")","v":""},{"$f":"IF('Other Non-Toolbox BMPs'!F194<>\"\",'Other Non-Toolbox BMPs'!F194,\"\")","v":""},null,null,null,null,null,"","","","","","",""]
[{"$f":"IF('Other Non-Toolbox BMPs'!A195<>\"\",'Other Non-Toolbox BMPs'!A195,\"\")","v":""},{"$f":"IF('Other Non-Toolbox BMPs'!H195<>\"\",'Other Non-Toolbox BMPs'!H195,\"\")","v":""},{"$f":"IF('Other Non-Toolbox BMPs'!B195<>\"\",'Other Non-Toolbox BMPs'!B195,\"\")","v":""},{"$f":"IF('Other Non-Toolbox BMPs'!C195<>\"\",'Other Non-Toolbox BMPs'!C195,\"\")","v":""},{"$f":"IF('Other Non-Toolbox BMPs'!D195<>\"\",'Other Non-Toolbox BMPs'!D195,\"\")","v":""},{"$f":"IF('Other Non-Toolbox BMPs'!E195<>\"\",'Other Non-Toolbox BMPs'!E195,\"\")","v":""},{"$f":"IF('Other Non-Toolbox BMPs'!F195<>\"\",'Other Non-Toolbox BMPs'!F195,\"\")","v":""},null,null,null,null,null,"","","","","","",""]
[{"$f":"IF('Other Non-Toolbox BMPs'!A196<>\"\",'Other Non-Toolbox BMPs'!A196,\"\")","v":""},{"$f":"IF('Other Non-Toolbox BMPs'!H196<>\"\",'Other Non-Toolbox BMPs'!H196,\"\")","v":""},{"$f":"IF('Other Non-Toolbox BMPs'!B196<>\"\",'Other Non-Toolbox BMPs'!B196,\"\")","v":""},{"$f":"IF('Other Non-Toolbox BMPs'!C196<>\"\",'Other Non-Toolbox BMPs'!C196,\"\")","v":""},{"$f":"IF('Other Non-Toolbox BMPs'!D196<>\"\",'Other Non-Toolbox BMPs'!D196,\"\")","v":""},{"$f":"IF('Other Non-Toolbox BMPs'!E196<>\"\",'Other Non-Toolbox BMPs'!E196,\"\")","v":""},{"$f":"IF('Other Non-Toolbox BMPs'!F196<>\"\",'Other Non-Toolbox BMPs'!F196,\"\")","v":""},null,null,null,null,null,"","","","","","",""]
[{"$f":"IF('Other Non-Toolbox BMPs'!A197<>\"\",'Other Non-Toolbox BMPs'!A197,\"\")","v":""},{"$f":"IF('Other Non-Toolbox BMPs'!H197<>\"\",'Other Non-Toolbox BMPs'!H197,\"\")","v":""},{"$f":"IF('Other Non-Toolbox BMPs'!B197<>\"\",'Other Non-Toolbox BMPs'!B197,\"\")","v":""},{"$f":"IF('Other Non-Toolbox BMPs'!C197<>\"\",'Other Non-Toolbox BMPs'!C197,\"\")","v":""},{"$f":"IF('Other Non-Toolbox BMPs'!D197<>\"\",'Other Non-Toolbox BMPs'!D197,\"\")","v":""},{"$f":"IF('Other Non-Toolbox BMPs'!E197<>\"\",'Other Non-Toolbox BMPs'!E197,\"\")","v":""},{"$f":"IF('Other Non-Toolbox BMPs'!F197<>\"\",'Other Non-Toolbox BMPs'!F197,\"\")","v":""},null,null,null,null,null,"","","","","","",""]
[{"$f":"IF('Other Non-Toolbox BMPs'!A198<>\"\",'Other Non-Toolbox BMPs'!A198,\"\")","v":""},{"$f":"IF('Other Non-Toolbox BMPs'!H198<>\"\",'Other Non-Toolbox BMPs'!H198,\"\")","v":""},{"$f":"IF('Other Non-Toolbox BMPs'!B198<>\"\",'Other Non-Toolbox BMPs'!B198,\"\")","v":""},{"$f":"IF('Other Non-Toolbox BMPs'!C198<>\"\",'Other Non-Toolbox BMPs'!C198,\"\")","v":""},{"$f":"IF('Other Non-Toolbox BMPs'!D198<>\"\",'Other Non-Toolbox BMPs'!D198,\"\")","v":""},{"$f":"IF('Other Non-Toolbox BMPs'!E198<>\"\",'Other Non-Toolbox BMPs'!E198,\"\")","v":""},{"$f":"IF('Other Non-Toolbox BMPs'!F198<>\"\",'Other Non-Toolbox BMPs'!F198,\"\")","v":""},null,null,null,null,null,"","","","","","",""]
[{"$f":"IF('Other Non-Toolbox BMPs'!A199<>\"\",'Other Non-Toolbox BMPs'!A199,\"\")","v":""},{"$f":"IF('Other Non-Toolbox BMPs'!H199<>\"\",'Other Non-Toolbox BMPs'!H199,\"\")","v":""},{"$f":"IF('Other Non-Toolbox BMPs'!B199<>\"\",'Other Non-Toolbox BMPs'!B199,\"\")","v":""},{"$f":"IF('Other Non-Toolbox BMPs'!C199<>\"\",'Other Non-Toolbox BMPs'!C199,\"\")","v":""},{"$f":"IF('Other Non-Toolbox BMPs'!D199<>\"\",'Other Non-Toolbox BMPs'!D199,\"\")","v":""},{"$f":"IF('Other Non-Toolbox BMPs'!E199<>\"\",'Other Non-Toolbox BMPs'!E199,\"\")","v":""},{"$f":"IF('Other Non-Toolbox BMPs'!F199<>\"\",'Other Non-Toolbox BMPs'!F199,\"\")","v":""},null,null,null,null,null,"","","","","","",""]
[{"$f":"IF('Other Non-Toolbox BMPs'!A200<>\"\",'Other Non-Toolbox BMPs'!A200,\"\")","v":""},{"$f":"IF('Other Non-Toolbox BMPs'!H200<>\"\",'Other Non-Toolbox BMPs'!H200,\"\")","v":""},{"$f":"IF('Other Non-Toolbox BMPs'!B200<>\"\",'Other Non-Toolbox BMPs'!B200,\"\")","v":""},{"$f":"IF('Other Non-Toolbox BMPs'!C200<>\"\",'Other Non-Toolbox BMPs'!C200,\"\")","v":""},{"$f":"IF('Other Non-Toolbox BMPs'!D200<>\"\",'Other Non-Toolbox BMPs'!D200,\"\")","v":""},{"$f":"IF('Other Non-Toolbox BMPs'!E200<>\"\",'Other Non-Toolbox BMPs'!E200,\"\")","v":""},{"$f":"IF('Other Non-Toolbox BMPs'!F200<>\"\",'Other Non-Toolbox BMPs'!F200,\"\")","v":""},null,null,null,null,null,"","","","","","",""]
[{"$f":"IF('Other Non-Toolbox BMPs'!A201<>\"\",'Other Non-Toolbox BMPs'!A201,\"\")","v":""},{"$f":"IF('Other Non-Toolbox BMPs'!H201<>\"\",'Other Non-Toolbox BMPs'!H201,\"\")","v":""},{"$f":"IF('Other Non-Toolbox BMPs'!B201<>\"\",'Other Non-Toolbox BMPs'!B201,\"\")","v":""},{"$f":"IF('Other Non-Toolbox BMPs'!C201<>\"\",'Other Non-Toolbox BMPs'!C201,\"\")","v":""},{"$f":"IF('Other Non-Toolbox BMPs'!D201<>\"\",'Other Non-Toolbox BMPs'!D201,\"\")","v":""},{"$f":"IF('Other Non-Toolbox BMPs'!E201<>\"\",'Other Non-Toolbox BMPs'!E201,\"\")","v":""},{"$f":"IF('Other Non-Toolbox BMPs'!F201<>\"\",'Other Non-Toolbox BMPs'!F201,\"\")","v":""},null,null,null,null,null,"","","","","","",""]
[{"$f":"IF('Other Non-Toolbox BMPs'!A202<>\"\",'Other Non-Toolbox BMPs'!A202,\"\")","v":""},{"$f":"IF('Other Non-Toolbox BMPs'!H202<>\"\",'Other Non-Toolbox BMPs'!H202,\"\")","v":""},{"$f":"IF('Other Non-Toolbox BMPs'!B202<>\"\",'Other Non-Toolbox BMPs'!B202,\"\")","v":""},{"$f":"IF('Other Non-Toolbox BMPs'!C202<>\"\",'Other Non-Toolbox BMPs'!C202,\"\")","v":""},{"$f":"IF('Other Non-Toolbox BMPs'!D202<>\"\",'Other Non-Toolbox BMPs'!D202,\"\")","v":""},{"$f":"IF('Other Non-Toolbox BMPs'!E202<>\"\",'Other Non-Toolbox BMPs'!E202,\"\")","v":""},{"$f":"IF('Other Non-Toolbox BMPs'!F202<>\"\",'Other Non-Toolbox BMPs'!F202,\"\")","v":""},null,null,null,null,null,"","","","","","",""]
[{"$f":"IF('Other Non-Toolbox BMPs'!A203<>\"\",'Other Non-Toolbox BMPs'!A203,\"\")","v":""},{"$f":"IF('Other Non-Toolbox BMPs'!H203<>\"\",'Other Non-Toolbox BMPs'!H203,\"\")","v":""},{"$f":"IF('Other Non-Toolbox BMPs'!B203<>\"\",'Other Non-Toolbox BMPs'!B203,\"\")","v":""},{"$f":"IF('Other Non-Toolbox BMPs'!C203<>\"\",'Other Non-Toolbox BMPs'!C203,\"\")","v":""},{"$f":"IF('Other Non-Toolbox BMPs'!D203<>\"\",'Other Non-Toolbox BMPs'!D203,\"\")","v":""},{"$f":"IF('Other Non-Toolbox BMPs'!E203<>\"\",'Other Non-Toolbox BMPs'!E203,\"\")","v":""},{"$f":"IF('Other Non-Toolbox BMPs'!F203<>\"\",'Other Non-Toolbox BMPs'!F203,\"\")","v":""},null,null,null,null,null,"","","","","","",""]
[{"$f":"IF('Other Non-Toolbox BMPs'!A204<>\"\",'Other Non-Toolbox BMPs'!A204,\"\")","v":""},{"$f":"IF('Other Non-Toolbox BMPs'!H204<>\"\",'Other Non-Toolbox BMPs'!H204,\"\")","v":""},{"$f":"IF('Other Non-Toolbox BMPs'!B204<>\"\",'Other Non-Toolbox BMPs'!B204,\"\")","v":""},{"$f":"IF('Other Non-Toolbox BMPs'!C204<>\"\",'Other Non-Toolbox BMPs'!C204,\"\")","v":""},{"$f":"IF('Other Non-Toolbox BMPs'!D204<>\"\",'Other Non-Toolbox BMPs'!D204,\"\")","v":""},{"$f":"IF('Other Non-Toolbox BMPs'!E204<>\"\",'Other Non-Toolbox BMPs'!E204,\"\")","v":""},{"$f":"IF('Other Non-Toolbox BMPs'!F204<>\"\",'Other Non-Toolbox BMPs'!F204,\"\")","v":""},null,null,null,null,null,"","","","","","",""]
[{"$f":"IF('Other Non-Toolbox BMPs'!A205<>\"\",'Other Non-Toolbox BMPs'!A205,\"\")","v":""},{"$f":"IF('Other Non-Toolbox BMPs'!H205<>\"\",'Other Non-Toolbox BMPs'!H205,\"\")","v":""},{"$f":"IF('Other Non-Toolbox BMPs'!B205<>\"\",'Other Non-Toolbox BMPs'!B205,\"\")","v":""},{"$f":"IF('Other Non-Toolbox BMPs'!C205<>\"\",'Other Non-Toolbox BMPs'!C205,\"\")","v":""},{"$f":"IF('Other Non-Toolbox BMPs'!D205<>\"\",'Other Non-Toolbox BMPs'!D205,\"\")","v":""},{"$f":"IF('Other Non-Toolbox BMPs'!E205<>\"\",'Other Non-Toolbox BMPs'!E205,\"\")","v":""},{"$f":"IF('Other Non-Toolbox BMPs'!F205<>\"\",'Other Non-Toolbox BMPs'!F205,\"\")","v":""},null,null,null,null,null,"","","","","","",""]
[{"$f":"IF('Other Non-Toolbox BMPs'!A206<>\"\",'Other Non-Toolbox BMPs'!A206,\"\")","v":""},{"$f":"IF('Other Non-Toolbox BMPs'!H206<>\"\",'Other Non-Toolbox BMPs'!H206,\"\")","v":""},{"$f":"IF('Other Non-Toolbox BMPs'!B206<>\"\",'Other Non-Toolbox BMPs'!B206,\"\")","v":""},{"$f":"IF('Other Non-Toolbox BMPs'!C206<>\"\",'Other Non-Toolbox BMPs'!C206,\"\")","v":""},{"$f":"IF('Other Non-Toolbox BMPs'!D206<>\"\",'Other Non-Toolbox BMPs'!D206,\"\")","v":""},{"$f":"IF('Other Non-Toolbox BMPs'!E206<>\"\",'Other Non-Toolbox BMPs'!E206,\"\")","v":""},{"$f":"IF('Other Non-Toolbox BMPs'!F206<>\"\",'Other Non-Toolbox BMPs'!F206,\"\")","v":""},null,null,null,null,null,"","","","","","",""]
[{"$f":"IF('Other Non-Toolbox BMPs'!A207<>\"\",'Other Non-Toolbox BMPs'!A207,\"\")","v":""},{"$f":"IF('Other Non-Toolbox BMPs'!H207<>\"\",'Other Non-Toolbox BMPs'!H207,\"\")","v":""},{"$f":"IF('Other Non-Toolbox BMPs'!B207<>\"\",'Other Non-Toolbox BMPs'!B207,\"\")","v":""},{"$f":"IF('Other Non-Toolbox BMPs'!C207<>\"\",'Other Non-Toolbox BMPs'!C207,\"\")","v":""},{"$f":"IF('Other Non-Toolbox BMPs'!D207<>\"\",'Other Non-Toolbox BMPs'!D207,\"\")","v":""},{"$f":"IF('Other Non-Toolbox BMPs'!E207<>\"\",'Other Non-Toolbox BMPs'!E207,\"\")","v":""},{"$f":"IF('Other Non-Toolbox BMPs'!F207<>\"\",'Other Non-Toolbox BMPs'!F207,\"\")","v":""},null,null,null,null,null,"","","","","","",""]
[{"$f":"IF('Other Non-Toolbox BMPs'!A208<>\"\",'Other Non-Toolbox BMPs'!A208,\"\")","v":""},{"$f":"IF('Other Non-Toolbox BMPs'!H208<>\"\",'Other Non-Toolbox BMPs'!H208,\"\")","v":""},{"$f":"IF('Other Non-Toolbox BMPs'!B208<>\"\",'Other Non-Toolbox BMPs'!B208,\"\")","v":""},{"$f":"IF('Other Non-Toolbox BMPs'!C208<>\"\",'Other Non-Toolbox BMPs'!C208,\"\")","v":""},{"$f":"IF('Other Non-Toolbox BMPs'!D208<>\"\",'Other Non-Toolbox BMPs'!D208,\"\")","v":""},{"$f":"IF('Other Non-Toolbox BMPs'!E208<>\"\",'Other Non-Toolbox BMPs'!E208,\"\")","v":""},{"$f":"IF('Other Non-Toolbox BMPs'!F208<>\"\",'Other Non-Toolbox BMPs'!F208,\"\")","v":""},null,null,null,null,null,"","","","","","",""]
[{"$f":"IF('Other Non-Toolbox BMPs'!A209<>\"\",'Other Non-Toolbox BMPs'!A209,\"\")","v":""},{"$f":"IF('Other Non-Toolbox BMPs'!H209<>\"\",'Other Non-Toolbox BMPs'!H209,\"\")","v":""},{"$f":"IF('Other Non-Toolbox BMPs'!B209<>\"\",'Other Non-Toolbox BMPs'!B209,\"\")","v":""},{"$f":"IF('Other Non-Toolbox BMPs'!C209<>\"\",'Other Non-Toolbox BMPs'!C209,\"\")","v":""},{"$f":"IF('Other Non-Toolbox BMPs'!D209<>\"\",'Other Non-Toolbox BMPs'!D209,\"\")","v":""},{"$f":"IF('Other Non-Toolbox BMPs'!E209<>\"\",'Other Non-Toolbox BMPs'!E209,\"\")","v":""},{"$f":"IF('Other Non-Toolbox BMPs'!F209<>\"\",'Other Non-Toolbox BMPs'!F209,\"\")","v":""},null,null,null,null,null,"","","","","","",""]
[{"$f":"IF('Other Non-Toolbox BMPs'!A210<>\"\",'Other Non-Toolbox BMPs'!A210,\"\")","v":""},{"$f":"IF('Other Non-Toolbox BMPs'!H210<>\"\",'Other Non-Toolbox BMPs'!H210,\"\")","v":""},{"$f":"IF('Other Non-Toolbox BMPs'!B210<>\"\",'Other Non-Toolbox BMPs'!B210,\"\")","v":""},{"$f":"IF('Other Non-Toolbox BMPs'!C210<>\"\",'Other Non-Toolbox BMPs'!C210,\"\")","v":""},{"$f":"IF('Other Non-Toolbox BMPs'!D210<>\"\",'Other Non-Toolbox BMPs'!D210,\"\")","v":""},{"$f":"IF('Other Non-Toolbox BMPs'!E210<>\"\",'Other Non-Toolbox BMPs'!E210,\"\")","v":""},{"$f":"IF('Other Non-Toolbox BMPs'!F210<>\"\",'Other Non-Toolbox BMPs'!F210,\"\")","v":""},null,null,null,null,null,"","","","","","",""]
[{"$f":"IF('Other Non-Toolbox BMPs'!A211<>\"\",'Other Non-Toolbox BMPs'!A211,\"\")","v":""},{"$f":"IF('Other Non-Toolbox BMPs'!H211<>\"\",'Other Non-Toolbox BMPs'!H211,\"\")","v":""},{"$f":"IF('Other Non-Toolbox BMPs'!B211<>\"\",'Other Non-Toolbox BMPs'!B211,\"\")","v":""},{"$f":"IF('Other Non-Toolbox BMPs'!C211<>\"\",'Other Non-Toolbox BMPs'!C211,\"\")","v":""},{"$f":"IF('Other Non-Toolbox BMPs'!D211<>\"\",'Other Non-Toolbox BMPs'!D211,\"\")","v":""},{"$f":"IF('Other Non-Toolbox BMPs'!E211<>\"\",'Other Non-Toolbox BMPs'!E211,\"\")","v":""},{"$f":"IF('Other Non-Toolbox BMPs'!F211<>\"\",'Other Non-Toolbox BMPs'!F211,\"\")","v":""},null,null,null,null,null,"","","","","","",""]
[{"$f":"IF('Other Non-Toolbox BMPs'!A212<>\"\",'Other Non-Toolbox BMPs'!A212,\"\")","v":""},{"$f":"IF('Other Non-Toolbox BMPs'!H212<>\"\",'Other Non-Toolbox BMPs'!H212,\"\")","v":""},{"$f":"IF('Other Non-Toolbox BMPs'!B212<>\"\",'Other Non-Toolbox BMPs'!B212,\"\")","v":""},{"$f":"IF('Other Non-Toolbox BMPs'!C212<>\"\",'Other Non-Toolbox BMPs'!C212,\"\")","v":""},{"$f":"IF('Other Non-Toolbox BMPs'!D212<>\"\",'Other Non-Toolbox BMPs'!D212,\"\")","v":""},{"$f":"IF('Other Non-Toolbox BMPs'!E212<>\"\",'Other Non-Toolbox BMPs'!E212,\"\")","v":""},{"$f":"IF('Other Non-Toolbox BMPs'!F212<>\"\",'Other Non-Toolbox BMPs'!F212,\"\")","v":""},null,null,null,null,null,"","","","","","",""]
[{"$f":"IF('Other Non-Toolbox BMPs'!A213<>\"\",'Other Non-Toolbox BMPs'!A213,\"\")","v":""},{"$f":"IF('Other Non-Toolbox BMPs'!H213<>\"\",'Other Non-Toolbox BMPs'!H213,\"\")","v":""},{"$f":"IF('Other Non-Toolbox BMPs'!B213<>\"\",'Other Non-Toolbox BMPs'!B213,\"\")","v":""},{"$f":"IF('Other Non-Toolbox BMPs'!C213<>\"\",'Other Non-Toolbox BMPs'!C213,\"\")","v":""},{"$f":"IF('Other Non-Toolbox BMPs'!D213<>\"\",'Other Non-Toolbox BMPs'!D213,\"\")","v":""},{"$f":"IF('Other Non-Toolbox BMPs'!E213<>\"\",'Other Non-Toolbox BMPs'!E213,\"\")","v":""},{"$f":"IF('Other Non-Toolbox BMPs'!F213<>\"\",'Other Non-Toolbox BMPs'!F213,\"\")","v":""},null,null,null,null,null,"","","","","","",""]
[{"$f":"IF('Other Non-Toolbox BMPs'!A214<>\"\",'Other Non-Toolbox BMPs'!A214,\"\")","v":""},{"$f":"IF('Other Non-Toolbox BMPs'!H214<>\"\",'Other Non-Toolbox BMPs'!H214,\"\")","v":""},{"$f":"IF('Other Non-Toolbox BMPs'!B214<>\"\",'Other Non-Toolbox BMPs'!B214,\"\")","v":""},{"$f":"IF('Other Non-Toolbox BMPs'!C214<>\"\",'Other Non-Toolbox BMPs'!C214,\"\")","v":""},{"$f":"IF('Other Non-Toolbox BMPs'!D214<>\"\",'Other Non-Toolbox BMPs'!D214,\"\")","v":""},{"$f":"IF('Other Non-Toolbox BMPs'!E214<>\"\",'Other Non-Toolbox BMPs'!E214,\"\")","v":""},{"$f":"IF('Other Non-Toolbox BMPs'!F214<>\"\",'Other Non-Toolbox BMPs'!F214,\"\")","v":""},null,null,null,null,null,"","","","","","",""]
[{"$f":"IF('Other Non-Toolbox BMPs'!A215<>\"\",'Other Non-Toolbox BMPs'!A215,\"\")","v":""},{"$f":"IF('Other Non-Toolbox BMPs'!H215<>\"\",'Other Non-Toolbox BMPs'!H215,\"\")","v":""},{"$f":"IF('Other Non-Toolbox BMPs'!B215<>\"\",'Other Non-Toolbox BMPs'!B215,\"\")","v":""},{"$f":"IF('Other Non-Toolbox BMPs'!C215<>\"\",'Other Non-Toolbox BMPs'!C215,\"\")","v":""},{"$f":"IF('Other Non-Toolbox BMPs'!D215<>\"\",'Other Non-Toolbox BMPs'!D215,\"\")","v":""},{"$f":"IF('Other Non-Toolbox BMPs'!E215<>\"\",'Other Non-Toolbox BMPs'!E215,\"\")","v":""},{"$f":"IF('Other Non-Toolbox BMPs'!F215<>\"\",'Other Non-Toolbox BMPs'!F215,\"\")","v":""},null,null,null,null,null,"","","","","","",""]
[{"$f":"IF('Other Non-Toolbox BMPs'!A216<>\"\",'Other Non-Toolbox BMPs'!A216,\"\")","v":""},{"$f":"IF('Other Non-Toolbox BMPs'!H216<>\"\",'Other Non-Toolbox BMPs'!H216,\"\")","v":""},{"$f":"IF('Other Non-Toolbox BMPs'!B216<>\"\",'Other Non-Toolbox BMPs'!B216,\"\")","v":""},{"$f":"IF('Other Non-Toolbox BMPs'!C216<>\"\",'Other Non-Toolbox BMPs'!C216,\"\")","v":""},{"$f":"IF('Other Non-Toolbox BMPs'!D216<>\"\",'Other Non-Toolbox BMPs'!D216,\"\")","v":""},{"$f":"IF('Other Non-Toolbox BMPs'!E216<>\"\",'Other Non-Toolbox BMPs'!E216,\"\")","v":""},{"$f":"IF('Other Non-Toolbox BMPs'!F216<>\"\",'Other Non-Toolbox BMPs'!F216,\"\")","v":""},null,null,null,null,null,"","","","","","",""]
[{"$f":"IF('Other Non-Toolbox BMPs'!A217<>\"\",'Other Non-Toolbox BMPs'!A217,\"\")","v":""},{"$f":"IF('Other Non-Toolbox BMPs'!H217<>\"\",'Other Non-Toolbox BMPs'!H217,\"\")","v":""},{"$f":"IF('Other Non-Toolbox BMPs'!B217<>\"\",'Other Non-Toolbox BMPs'!B217,\"\")","v":""},{"$f":"IF('Other Non-Toolbox BMPs'!C217<>\"\",'Other Non-Toolbox BMPs'!C217,\"\")","v":""},{"$f":"IF('Other Non-Toolbox BMPs'!D217<>\"\",'Other Non-Toolbox BMPs'!D217,\"\")","v":""},{"$f":"IF('Other Non-Toolbox BMPs'!E217<>\"\",'Other Non-Toolbox BMPs'!E217,\"\")","v":""},{"$f":"IF('Other Non-Toolbox BMPs'!F217<>\"\",'Other Non-Toolbox BMPs'!F217,\"\")","v":""},null,null,null,null,null,"","","","","","",""]
[{"$f":"IF('Other Non-Toolbox BMPs'!A218<>\"\",'Other Non-Toolbox BMPs'!A218,\"\")","v":""},{"$f":"IF('Other Non-Toolbox BMPs'!H218<>\"\",'Other Non-Toolbox BMPs'!H218,\"\")","v":""},{"$f":"IF('Other Non-Toolbox BMPs'!B218<>\"\",'Other Non-Toolbox BMPs'!B218,\"\")","v":""},{"$f":"IF('Other Non-Toolbox BMPs'!C218<>\"\",'Other Non-Toolbox BMPs'!C218,\"\")","v":""},{"$f":"IF('Other Non-Toolbox BMPs'!D218<>\"\",'Other Non-Toolbox BMPs'!D218,\"\")","v":""},{"$f":"IF('Other Non-Toolbox BMPs'!E218<>\"\",'Other Non-Toolbox BMPs'!E218,\"\")","v":""},{"$f":"IF('Other Non-Toolbox BMPs'!F218<>\"\",'Other Non-Toolbox BMPs'!F218,\"\")","v":""},null,null,null,null,null,"","","","","","",""]
[{"$f":"IF('Other Non-Toolbox BMPs'!A219<>\"\",'Other Non-Toolbox BMPs'!A219,\"\")","v":""},{"$f":"IF('Other Non-Toolbox BMPs'!H219<>\"\",'Other Non-Toolbox BMPs'!H219,\"\")","v":""},{"$f":"IF('Other Non-Toolbox BMPs'!B219<>\"\",'Other Non-Toolbox BMPs'!B219,\"\")","v":""},{"$f":"IF('Other Non-Toolbox BMPs'!C219<>\"\",'Other Non-Toolbox BMPs'!C219,\"\")","v":""},{"$f":"IF('Other Non-Toolbox BMPs'!D219<>\"\",'Other Non-Toolbox BMPs'!D219,\"\")","v":""},{"$f":"IF('Other Non-Toolbox BMPs'!E219<>\"\",'Other Non-Toolbox BMPs'!E219,\"\")","v":""},{"$f":"IF('Other Non-Toolbox BMPs'!F219<>\"\",'Other Non-Toolbox BMPs'!F219,\"\")","v":""},null,null,null,null,null,"","","","","","",""]
[{"$f":"IF('Other Non-Toolbox BMPs'!A220<>\"\",'Other Non-Toolbox BMPs'!A220,\"\")","v":""},{"$f":"IF('Other Non-Toolbox BMPs'!H220<>\"\",'Other Non-Toolbox BMPs'!H220,\"\")","v":""},{"$f":"IF('Other Non-Toolbox BMPs'!B220<>\"\",'Other Non-Toolbox BMPs'!B220,\"\")","v":""},{"$f":"IF('Other Non-Toolbox BMPs'!C220<>\"\",'Other Non-Toolbox BMPs'!C220,\"\")","v":""},{"$f":"IF('Other Non-Toolbox BMPs'!D220<>\"\",'Other Non-Toolbox BMPs'!D220,\"\")","v":""},{"$f":"IF('Other Non-Toolbox BMPs'!E220<>\"\",'Other Non-Toolbox BMPs'!E220,\"\")","v":""},{"$f":"IF('Other Non-Toolbox BMPs'!F220<>\"\",'Other Non-Toolbox BMPs'!F220,\"\")","v":""},null,null,null,null,null,"","","","","","",""]
[{"$f":"IF('Other Non-Toolbox BMPs'!A221<>\"\",'Other Non-Toolbox BMPs'!A221,\"\")","v":""},{"$f":"IF('Other Non-Toolbox BMPs'!H221<>\"\",'Other Non-Toolbox BMPs'!H221,\"\")","v":""},{"$f":"IF('Other Non-Toolbox BMPs'!B221<>\"\",'Other Non-Toolbox BMPs'!B221,\"\")","v":""},{"$f":"IF('Other Non-Toolbox BMPs'!C221<>\"\",'Other Non-Toolbox BMPs'!C221,\"\")","v":""},{"$f":"IF('Other Non-Toolbox BMPs'!D221<>\"\",'Other Non-Toolbox BMPs'!D221,\"\")","v":""},{"$f":"IF('Other Non-Toolbox BMPs'!E221<>\"\",'Other Non-Toolbox BMPs'!E221,\"\")","v":""},{"$f":"IF('Other Non-Toolbox BMPs'!F221<>\"\",'Other Non-Toolbox BMPs'!F221,\"\")","v":""},null,null,null,null,null,"","","","","","",""]
[{"$f":"IF('Other Non-Toolbox BMPs'!A222<>\"\",'Other Non-Toolbox BMPs'!A222,\"\")","v":""},{"$f":"IF('Other Non-Toolbox BMPs'!H222<>\"\",'Other Non-Toolbox BMPs'!H222,\"\")","v":""},{"$f":"IF('Other Non-Toolbox BMPs'!B222<>\"\",'Other Non-Toolbox BMPs'!B222,\"\")","v":""},{"$f":"IF('Other Non-Toolbox BMPs'!C222<>\"\",'Other Non-Toolbox BMPs'!C222,\"\")","v":""},{"$f":"IF('Other Non-Toolbox BMPs'!D222<>\"\",'Other Non-Toolbox BMPs'!D222,\"\")","v":""},{"$f":"IF('Other Non-Toolbox BMPs'!E222<>\"\",'Other Non-Toolbox BMPs'!E222,\"\")","v":""},{"$f":"IF('Other Non-Toolbox BMPs'!F222<>\"\",'Other Non-Toolbox BMPs'!F222,\"\")","v":""},null,null,null,null,null,"","","","","","",""]
[{"$f":"IF('Other Non-Toolbox BMPs'!A223<>\"\",'Other Non-Toolbox BMPs'!A223,\"\")","v":""},{"$f":"IF('Other Non-Toolbox BMPs'!H223<>\"\",'Other Non-Toolbox BMPs'!H223,\"\")","v":""},{"$f":"IF('Other Non-Toolbox BMPs'!B223<>\"\",'Other Non-Toolbox BMPs'!B223,\"\")","v":""},{"$f":"IF('Other Non-Toolbox BMPs'!C223<>\"\",'Other Non-Toolbox BMPs'!C223,\"\")","v":""},{"$f":"IF('Other Non-Toolbox BMPs'!D223<>\"\",'Other Non-Toolbox BMPs'!D223,\"\")","v":""},{"$f":"IF('Other Non-Toolbox BMPs'!E223<>\"\",'Other Non-Toolbox BMPs'!E223,\"\")","v":""},{"$f":"IF('Other Non-Toolbox BMPs'!F223<>\"\",'Other Non-Toolbox BMPs'!F223,\"\")","v":""},null,null,null,null,null,"","","","","","",""]
[{"$f":"IF('Other Non-Toolbox BMPs'!A224<>\"\",'Other Non-Toolbox BMPs'!A224,\"\")","v":""},{"$f":"IF('Other Non-Toolbox BMPs'!H224<>\"\",'Other Non-Toolbox BMPs'!H224,\"\")","v":""},{"$f":"IF('Other Non-Toolbox BMPs'!B224<>\"\",'Other Non-Toolbox BMPs'!B224,\"\")","v":""},{"$f":"IF('Other Non-Toolbox BMPs'!C224<>\"\",'Other Non-Toolbox BMPs'!C224,\"\")","v":""},{"$f":"IF('Other Non-Toolbox BMPs'!D224<>\"\",'Other Non-Toolbox BMPs'!D224,\"\")","v":""},{"$f":"IF('Other Non-Toolbox BMPs'!E224<>\"\",'Other Non-Toolbox BMPs'!E224,\"\")","v":""},{"$f":"IF('Other Non-Toolbox BMPs'!F224<>\"\",'Other Non-Toolbox BMPs'!F224,\"\")","v":""},null,null,null,null,null,"","","","","","",""]
[{"$f":"IF('Other Non-Toolbox BMPs'!A225<>\"\",'Other Non-Toolbox BMPs'!A225,\"\")","v":""},{"$f":"IF('Other Non-Toolbox BMPs'!H225<>\"\",'Other Non-Toolbox BMPs'!H225,\"\")","v":""},{"$f":"IF('Other Non-Toolbox BMPs'!B225<>\"\",'Other Non-Toolbox BMPs'!B225,\"\")","v":""},{"$f":"IF('Other Non-Toolbox BMPs'!C225<>\"\",'Other Non-Toolbox BMPs'!C225,\"\")","v":""},{"$f":"IF('Other Non-Toolbox BMPs'!D225<>\"\",'Other Non-Toolbox BMPs'!D225,\"\")","v":""},{"$f":"IF('Other Non-Toolbox BMPs'!E225<>\"\",'Other Non-Toolbox BMPs'!E225,\"\")","v":""},{"$f":"IF('Other Non-Toolbox BMPs'!F225<>\"\",'Other Non-Toolbox BMPs'!F225,\"\")","v":""},null,null,null,null,null,"","","","","","",""]
[{"$f":"IF('Other Non-Toolbox BMPs'!A226<>\"\",'Other Non-Toolbox BMPs'!A226,\"\")","v":""},{"$f":"IF('Other Non-Toolbox BMPs'!H226<>\"\",'Other Non-Toolbox BMPs'!H226,\"\")","v":""},{"$f":"IF('Other Non-Toolbox BMPs'!B226<>\"\",'Other Non-Toolbox BMPs'!B226,\"\")","v":""},{"$f":"IF('Other Non-Toolbox BMPs'!C226<>\"\",'Other Non-Toolbox BMPs'!C226,\"\")","v":""},{"$f":"IF('Other Non-Toolbox BMPs'!D226<>\"\",'Other Non-Toolbox BMPs'!D226,\"\")","v":""},{"$f":"IF('Other Non-Toolbox BMPs'!E226<>\"\",'Other Non-Toolbox BMPs'!E226,\"\")","v":""},{"$f":"IF('Other Non-Toolbox BMPs'!F226<>\"\",'Other Non-Toolbox BMPs'!F226,\"\")","v":""},null,null,null,null,null,"","","","","","",""]

{"sheet":"SCM Summary","index":12,"n_rows":372,"n_cols":26,"rows_kept":372,"cut":false,"hidden":false,"merged":[[309,19,312,19],[309,20,312,20],[309,21,312,21],[302,1,302,2],[302,21,302,23],[302,24,302,25],[303,1,303,2],[303,21,303,23],[309,2,312,2],[309,3,312,3],[309,4,312,4],[309,5,312,5],[309,6,312,6],[309,7,312,7],[309,8,312,8],[309,10,312,10],[309,11,312,11],[309,22,312,22],[309,23,312,23],[309,24,312,24],[309,12,312,12],[309,13,312,13],[309,14,312,14],[309,15,312,15],[309,16,312,16],[309,18,312,18],[229,1,229,2],[229,21,229,23],[235,2,238,2],[235,3,238,3],[235,4,238,4],[235,5,238,5],[235,6,238,6],[235,7,238,7],[235,8,238,8],[235,10,238,10],[235,11,238,11],[235,12,238,12],[235,13,238,13],[235,14,238,14],[235,15,238,15],[235,16,238,16],[235,18,238,18],[235,19,238,19],[235,20,238,20],[235,21,238,21],[235,22,238,22],[235,23,238,23],[235,24,238,24],[161,23,164,23],[161,24,164,24],[228,1,228,2],[228,21,228,23],[228,24,228,25],[154,21,154,23],[154,24,154,25],[155,1,155,2],[155,21,155,23],[161,2,164,2],[161,3,164,3],[161,4,164,4],[161,5,164,5],[161,6,164,6],[161,7,164,7],[161,8,164,8],[161,10,164,10],[161,11,164,11],[161,12,164,12],[161,13,164,13],[161,14,164,14],[161,15,164,15],[161,16,164,16],[161,18,164,18],[161,19,164,19],[161,20,164,20],[161,21,164,21],[161,22,164,22],[154,1,154,2],[87,5,90,5],[87,6,90,6],[80,1,80,2],[80,21,80,23],[6,1,6,2],[7,1,7,2],[13,2,16,2],[13,3,16,3],[13,10,16,10],[13,4,16,4],[13,5,16,5],[13,6,16,6],[13,7,16,7],[13,8,16,8],[6,24,6,25],[6,21,6,23],[7,21,7,23],[13,21,16,21],[13,22,16,22],[13,23,16,23],[13,24,16,24],[13,11,16,11],[13,18,16,18],[13,14,16,14],[13,20,16,20],[13,19,16,19],[13,13,16,13],[13,15,16,15],[13,16,16,16],[13,12,16,12],[80,24,80,25],[81,1,81,2],[81,21,81,23],[87,24,90,24],[87,19,90,19],[87,20,90,20],[87,21,90,21],[87,22,90,22],[87,23,90,23],[87,13,90,13],[87,14,90,14],[87,15,90,15],[87,16,90,16],[87,18,90,18],[87,7,90,7],[87,8,90,8],[87,10,90,10],[87,11,90,11],[87,12,90,12],[87,2,90,2],[87,3,90,3],[87,4,90,4]]}
["SCM Summary sheet(s) to be included in Roadway plans as part of the Hydraulics Drainage Summary (3D series) sheets."]
["SCM Summary sheet(s) should follow Drainage Summary Sheets.  Thus page numbering should start with the next available consecutive number after drainage summary sheets."]
["Tables should be autopopulated with information from the SMP.  Only the Computed By, Checked By, Date, and 1st page Sheet Number Cells can be manipulated."]
["Expand print area to include any sheets that have populated cells (SCM information).  Print to PDF at size ANSI D (22\"x34\")."]
["Combine SCM Summary Sheets with Drainage Summary Sheets into one PDF package for inclusion in final Roadway Plans"]
[]
[null,"COMPUTED BY:",null,null,"DATE:",null,null,null,null,null,null,null,null,"(08-05-21)",null,null,null,null,null,null,null,"TIP/PROJECT NO.",null,null,"SHEET NO."]
[null,"CHECKED BY:",null,null,"DATE:",null,null,null,null,null,null,null,null,null,null,null,null,null,null,null,null,{"$f":"'General Project Information'!$E$7","v":""},null,null,"3D-",3]
[null,null,null,null,null,null,null,null,null,null,null,null,null,"STATE OF NORTH CAROLINA"]
[null,null,"Note: Not intended for use in determining bid quantities.  Only a stormwater control measure device summary list for easy reference and location.",null,null,null,null,null,null,null,null,null,null,"DIVISION OF HIGHWAYS"]
[]
[null,null,null,null,"SUMMARY OF STORMWATER CONTROL MEASURES",null,null,null,null,null,null,null,"SUMMARY OF STORMWATER CONTROL MEASURES",null,null,null,null,null,null,null,"SUMMARY OF STORMWATER CONTROL MEASURES"]
[]
[null,null,"CONST SHEET NO.","SCM TYPE","LINE","STATION","Location LT/RT/CL","Latitude","Longitude",null,"CONST SHEET NO.","SCM TYPE","LINE","STATION","Location LT/RT/CL","Latitude","Longitude",null,"CONST SHEET NO.","SCM TYPE","LINE","STATION","Location LT/RT/CL","Latitude","Longitude"]
[]
[]
[]
[null,null,{"$f":"IF('Summary List'!M1<>\"\",'Summary List'!M1,\"\")","v":""},{"$f":"IF('Summary List'!N1<>\"\",'Summary List'!N1,\"\")","v":""},{"$f":"IF('Summary List'!O1<>\"\",'Summary List'!O1,\"\")","v":""},{"$f":"IF('Summary List'!P1<>\"\",'Summary List'!P1,\"\")","v":""},{"$f":"IF('Summary List'!Q1<>\"\",'Summary List'!Q1,\"\")","v":""},{"$f":"IF('Summary List'!R1<>\"\",'Summary List'!R1,\"\")","v":""},{"$f":"IF('Summary List'!S1<>\"\",'Summary List'!S1,\"\")","v":""},null,{"$f":"IF('Summary List'!M60<>\"\",'Summary List'!M60,\"\")","v":""},{"$f":"IF('Summary List'!N60<>\"\",'Summary List'!N60,\"\")","v":""},{"$f":"IF('Summary List'!O60<>\"\",'Summary List'!O60,\"\")","v":""},{"$f":"IF('Summary List'!P60<>\"\",'Summary List'!P60,\"\")","v":""},{"$f":"IF('Summary List'!Q60<>\"\",'Summary List'!Q60,\"\")","v":""},{"$f":"IF('Summary List'!R60<>\"\",'Summary List'!R60,\"\")","v":""},{"$f":"IF('Summary List'!S60<>\"\",'Summary List'!S60,\"\")","v":""},null,{"$f":"IF('Summary List'!M119<>\"\",'Summary List'!M119,\"\")","v":""},{"$f":"IF('Summary List'!N119<>\"\",'Summary List'!N119,\"\")","v":""},{"$f":"IF('Summary List'!O119<>\"\",'Summary List'!O119,\"\")","v":""},{"$f":"IF('Summary List'!P119<>\"\",'Summary List'!P119,\"\")","v":""},{"$f":"IF('Summary List'!Q119<>\"\",'Summary List'!Q119,\"\")","v":""},{"$f":"IF('Summary List'!R119<>\"\",'Summary List'!R119,\"\")","v":""},{"$f":"IF('Summary List'!S119<>\"\",'Summary List'!S119,\"\")","v":""}]
[null,null,{"$f":"IF('Summary List'!M2<>\"\",'Summary List'!M2,\"\")","v":""},{"$f":"IF('Summary List'!N2<>\"\",'Summary List'!N2,\"\")","v":""},{"$f":"IF('Summary List'!O2<>\"\",'Summary List'!O2,\"\")","v":""},{"$f":"IF('Summary List'!P2<>\"\",'Summary List'!P2,\"\")","v":""},{"$f":"IF('Summary List'!Q2<>\"\",'Summary List'!Q2,\"\")","v":""},{"$f":"IF('Summary List'!R2<>\"\",'Summary List'!R2,\"\")","v":""},{"$f":"IF('Summary List'!S2<>\"\",'Summary List'!S2,\"\")","v":""},null,{"$f":"IF('Summary List'!M61<>\"\",'Summary List'!M61,\"\")","v":""},{"$f":"IF('Summary List'!N61<>\"\",'Summary List'!N61,\"\")","v":""},{"$f":"IF('Summary List'!O61<>\"\",'Summary List'!O61,\"\")","v":""},{"$f":"IF('Summary List'!P61<>\"\",'Summary List'!P61,\"\")","v":""},{"$f":"IF('Summary List'!Q61<>\"\",'Summary List'!Q61,\"\")","v":""},{"$f":"IF('Summary List'!R61<>\"\",'Summary List'!R61,\"\")","v":""},{"$f":"IF('Summary List'!S61<>\"\",'Summary List'!S61,\"\")","v":""},null,{"$f":"IF('Summary List'!M120<>\"\",'Summary List'!M120,\"\")","v":""},{"$f":"IF('Summary List'!N120<>\"\",'Summary List'!N120,\"\")","v":""},{"$f":"IF('Summary List'!O120<>\"\",'Summary List'!O120,\"\")","v":""},{"$f":"IF('Summary List'!P120<>\"\",'Summary List'!P120,\"\")","v":""},{"$f":"IF('Summary List'!Q120<>\"\",'Summary List'!Q120,\"\")","v":""},{"$f":"IF('Summary List'!R120<>\"\",'Summary List'!R120,\"\")","v":""},{"$f":"IF('Summary List'!S120<>\"\",'Summary List'!S120,\"\")","v":""}]
[null,null,{"$f":"IF('Summary List'!M3<>\"\",'Summary List'!M3,\"\")","v":""},{"$f":"IF('Summary List'!N3<>\"\",'Summary List'!N3,\"\")","v":""},{"$f":"IF('Summary List'!O3<>\"\",'Summary List'!O3,\"\")","v":""},{"$f":"IF('Summary List'!P3<>\"\",'Summary List'!P3,\"\")","v":""},{"$f":"IF('Summary List'!Q3<>\"\",'Summary List'!Q3,\"\")","v":""},{"$f":"IF('Summary List'!R3<>\"\",'Summary List'!R3,\"\")","v":""},{"$f":"IF('Summary List'!S3<>\"\",'Summary List'!S3,\"\")","v":""},null,{"$f":"IF('Summary List'!M62<>\"\",'Summary List'!M62,\"\")","v":""},{"$f":"IF('Summary List'!N62<>\"\",'Summary List'!N62,\"\")","v":""},{"$f":"IF('Summary List'!O62<>\"\",'Summary List'!O62,\"\")","v":""},{"$f":"IF('Summary List'!P62<>\"\",'Summary List'!P62,\"\")","v":""},{"$f":"IF('Summary List'!Q62<>\"\",'Summary List'!Q62,\"\")","v":""},{"$f":"IF('Summary List'!R62<>\"\",'Summary List'!R62,\"\")","v":""},{"$f":"IF('Summary List'!S62<>\"\",'Summary List'!S62,\"\")","v":""},null,{"$f":"IF('Summary List'!M121<>\"\",'Summary List'!M121,\"\")","v":""},{"$f":"IF('Summary List'!N121<>\"\",'Summary List'!N121,\"\")","v":""},{"$f":"IF('Summary List'!O121<>\"\",'Summary List'!O121,\"\")","v":""},{"$f":"IF('Summary List'!P121<>\"\",'Summary List'!P121,\"\")","v":""},{"$f":"IF('Summary List'!Q121<>\"\",'Summary List'!Q121,\"\")","v":""},{"$f":"IF('Summary List'!R121<>\"\",'Summary List'!R121,\"\")","v":""},{"$f":"IF('Summary List'!S121<>\"\",'Summary List'!S121,\"\")","v":""}]
[null,null,{"$f":"IF('Summary List'!M4<>\"\",'Summary List'!M4,\"\")","v":""},{"$f":"IF('Summary List'!N4<>\"\",'Summary List'!N4,\"\")","v":""},{"$f":"IF('Summary List'!O4<>\"\",'Summary List'!O4,\"\")","v":""},{"$f":"IF('Summary List'!P4<>\"\",'Summary List'!P4,\"\")","v":""},{"$f":"IF('Summary List'!Q4<>\"\",'Summary List'!Q4,\"\")","v":""},{"$f":"IF('Summary List'!R4<>\"\",'Summary List'!R4,\"\")","v":""},{"$f":"IF('Summary List'!S4<>\"\",'Summary List'!S4,\"\")","v":""},null,{"$f":"IF('Summary List'!M63<>\"\",'Summary List'!M63,\"\")","v":""},{"$f":"IF('Summary List'!N63<>\"\",'Summary List'!N63,\"\")","v":""},{"$f":"IF('Summary List'!O63<>\"\",'Summary List'!O63,\"\")","v":""},{"$f":"IF('Summary List'!P63<>\"\",'Summary List'!P63,\"\")","v":""},{"$f":"IF('Summary List'!Q63<>\"\",'Summary List'!Q63,\"\")","v":""},{"$f":"IF('Summary List'!R63<>\"\",'Summary List'!R63,\"\")","v":""},{"$f":"IF('Summary List'!S63<>\"\",'Summary List'!S63,\"\")","v":""},null,{"$f":"IF('Summary List'!M122<>\"\",'Summary List'!M122,\"\")","v":""},{"$f":"IF('Summary List'!N122<>\"\",'Summary List'!N122,\"\")","v":""},{"$f":"IF('Summary List'!O122<>\"\",'Summary List'!O122,\"\")","v":""},{"$f":"IF('Summary List'!P122<>\"\",'Summary List'!P122,\"\")","v":""},{"$f":"IF('Summary List'!Q122<>\"\",'Summary List'!Q122,\"\")","v":""},{"$f":"IF('Summary List'!R122<>\"\",'Summary List'!R122,\"\")","v":""},{"$f":"IF('Summary List'!S122<>\"\",'Summary List'!S122,\"\")","v":""}]
[null,null,{"$f":"IF('Summary List'!M5<>\"\",'Summary List'!M5,\"\")","v":""},{"$f":"IF('Summary List'!N5<>\"\",'Summary List'!N5,\"\")","v":""},{"$f":"IF('Summary List'!O5<>\"\",'Summary List'!O5,\"\")","v":""},{"$f":"IF('Summary List'!P5<>\"\",'Summary List'!P5,\"\")","v":""},{"$f":"IF('Summary List'!Q5<>\"\",'Summary List'!Q5,\"\")","v":""},{"$f":"IF('Summary List'!R5<>\"\",'Summary List'!R5,\"\")","v":""},{"$f":"IF('Summary List'!S5<>\"\",'Summary List'!S5,\"\")","v":""},null,{"$f":"IF('Summary List'!M64<>\"\",'Summary List'!M64,\"\")","v":""},{"$f":"IF('Summary List'!N64<>\"\",'Summary List'!N64,\"\")","v":""},{"$f":"IF('Summary List'!O64<>\"\",'Summary List'!O64,\"\")","v":""},{"$f":"IF('Summary List'!P64<>\"\",'Summary List'!P64,\"\")","v":""},{"$f":"IF('Summary List'!Q64<>\"\",'Summary List'!Q64,\"\")","v":""},{"$f":"IF('Summary List'!R64<>\"\",'Summary List'!R64,\"\")","v":""},{"$f":"IF('Summary List'!S64<>\"\",'Summary List'!S64,\"\")","v":""},null,{"$f":"IF('Summary List'!M123<>\"\",'Summary List'!M123,\"\")","v":""},{"$f":"IF('Summary List'!N123<>\"\",'Summary List'!N123,\"\")","v":""},{"$f":"IF('Summary List'!O123<>\"\",'Summary List'!O123,\"\")","v":""},{"$f":"IF('Summary List'!P123<>\"\",'Summary List'!P123,\"\")","v":""},{"$f":"IF('Summary List'!Q123<>\"\",'Summary List'!Q123,\"\")","v":""},{"$f":"IF('Summary List'!R123<>\"\",'Summary List'!R123,\"\")","v":""},{"$f":"IF('Summary List'!S123<>\"\",'Summary List'!S123,\"\")","v":""}]
[null,null,{"$f":"IF('Summary List'!M6<>\"\",'Summary List'!M6,\"\")","v":""},{"$f":"IF('Summary List'!N6<>\"\",'Summary List'!N6,\"\")","v":""},{"$f":"IF('Summary List'!O6<>\"\",'Summary List'!O6,\"\")","v":""},{"$f":"IF('Summary List'!P6<>\"\",'Summary List'!P6,\"\")","v":""},{"$f":"IF('Summary List'!Q6<>\"\",'Summary List'!Q6,\"\")","v":""},{"$f":"IF('Summary List'!R6<>\"\",'Summary List'!R6,\"\")","v":""},{"$f":"IF('Summary List'!S6<>\"\",'Summary List'!S6,\"\")","v":""},null,{"$f":"IF('Summary List'!M65<>\"\",'Summary List'!M65,\"\")","v":""},{"$f":"IF('Summary List'!N65<>\"\",'Summary List'!N65,\"\")","v":""},{"$f":"IF('Summary List'!O65<>\"\",'Summary List'!O65,\"\")","v":""},{"$f":"IF('Summary List'!P65<>\"\",'Summary List'!P65,\"\")","v":""},{"$f":"IF('Summary List'!Q65<>\"\",'Summary List'!Q65,\"\")","v":""},{"$f":"IF('Summary List'!R65<>\"\",'Summary List'!R65,\"\")","v":""},{"$f":"IF('Summary List'!S65<>\"\",'Summary List'!S65,\"\")","v":""},null,{"$f":"IF('Summary List'!M124<>\"\",'Summary List'!M124,\"\")","v":""},{"$f":"IF('Summary List'!N124<>\"\",'Summary List'!N124,\"\")","v":""},{"$f":"IF('Summary List'!O124<>\"\",'Summary List'!O124,\"\")","v":""},{"$f":"IF('Summary List'!P124<>\"\",'Summary List'!P124,\"\")","v":""},{"$f":"IF('Summary List'!Q124<>\"\",'Summary List'!Q124,\"\")","v":""},{"$f":"IF('Summary List'!R124<>\"\",'Summary List'!R124,\"\")","v":""},{"$f":"IF('Summary List'!S124<>\"\",'Summary List'!S124,\"\")","v":""}]
[null,null,{"$f":"IF('Summary List'!M7<>\"\",'Summary List'!M7,\"\")","v":""},{"$f":"IF('Summary List'!N7<>\"\",'Summary List'!N7,\"\")","v":""},{"$f":"IF('Summary List'!O7<>\"\",'Summary List'!O7,\"\")","v":""},{"$f":"IF('Summary List'!P7<>\"\",'Summary List'!P7,\"\")","v":""},{"$f":"IF('Summary List'!Q7<>\"\",'Summary List'!Q7,\"\")","v":""},{"$f":"IF('Summary List'!R7<>\"\",'Summary List'!R7,\"\")","v":""},{"$f":"IF('Summary List'!S7<>\"\",'Summary List'!S7,\"\")","v":""},null,{"$f":"IF('Summary List'!M66<>\"\",'Summary List'!M66,\"\")","v":""},{"$f":"IF('Summary List'!N66<>\"\",'Summary List'!N66,\"\")","v":""},{"$f":"IF('Summary List'!O66<>\"\",'Summary List'!O66,\"\")","v":""},{"$f":"IF('Summary List'!P66<>\"\",'Summary List'!P66,\"\")","v":""},{"$f":"IF('Summary List'!Q66<>\"\",'Summary List'!Q66,\"\")","v":""},{"$f":"IF('Summary List'!R66<>\"\",'Summary List'!R66,\"\")","v":""},{"$f":"IF('Summary List'!S66<>\"\",'Summary List'!S66,\"\")","v":""},null,{"$f":"IF('Summary List'!M125<>\"\",'Summary List'!M125,\"\")","v":""},{"$f":"IF('Summary List'!N125<>\"\",'Summary List'!N125,\"\")","v":""},{"$f":"IF('Summary List'!O125<>\"\",'Summary List'!O125,\"\")","v":""},{"$f":"IF('Summary List'!P125<>\"\",'Summary List'!P125,\"\")","v":""},{"$f":"IF('Summary List'!Q125<>\"\",'Summary List'!Q125,\"\")","v":""},{"$f":"IF('Summary List'!R125<>\"\",'Summary List'!R125,\"\")","v":""},{"$f":"IF('Summary List'!S125<>\"\",'Summary List'!S125,\"\")","v":""}]
[null,null,{"$f":"IF('Summary List'!M8<>\"\",'Summary List'!M8,\"\")","v":""},{"$f":"IF('Summary List'!N8<>\"\",'Summary List'!N8,\"\")","v":""},{"$f":"IF('Summary List'!O8<>\"\",'Summary List'!O8,\"\")","v":""},{"$f":"IF('Summary List'!P8<>\"\",'Summary List'!P8,\"\")","v":""},{"$f":"IF('Summary List'!Q8<>\"\",'Summary List'!Q8,\"\")","v":""},{"$f":"IF('Summary List'!R8<>\"\",'Summary List'!R8,\"\")","v":""},{"$f":"IF('Summary List'!S8<>\"\",'Summary List'!S8,\"\")","v":""},null,{"$f":"IF('Summary List'!M67<>\"\",'Summary List'!M67,\"\")","v":""},{"$f":"IF('Summary List'!N67<>\"\",'Summary List'!N67,\"\")","v":""},{"$f":"IF('Summary List'!O67<>\"\",'Summary List'!O67,\"\")","v":""},{"$f":"IF('Summary List'!P67<>\"\",'Summary List'!P67,\"\")","v":""},{"$f":"IF('Summary List'!Q67<>\"\",'Summary List'!Q67,\"\")","v":""},{"$f":"IF('Summary List'!R67<>\"\",'Summary List'!R67,\"\")","v":""},{"$f":"IF('Summary List'!S67<>\"\",'Summary List'!S67,\"\")","v":""},null,{"$f":"IF('Summary List'!M126<>\"\",'Summary List'!M126,\"\")","v":""},{"$f":"IF('Summary List'!N126<>\"\",'Summary List'!N126,\"\")","v":""},{"$f":"IF('Summary List'!O126<>\"\",'Summary List'!O126,\"\")","v":""},{"$f":"IF('Summary List'!P126<>\"\",'Summary List'!P126,\"\")","v":""},{"$f":"IF('Summary List'!Q126<>\"\",'Summary List'!Q126,\"\")","v":""},{"$f":"IF('Summary List'!R126<>\"\",'Summary List'!R126,\"\")","v":""},{"$f":"IF('Summary List'!S126<>\"\",'Summary List'!S126,\"\")","v":""}]
[null,null,{"$f":"IF('Summary List'!M9<>\"\",'Summary List'!M9,\"\")","v":""},{"$f":"IF('Summary List'!N9<>\"\",'Summary List'!N9,\"\")","v":""},{"$f":"IF('Summary List'!O9<>\"\",'Summary List'!O9,\"\")","v":""},{"$f":"IF('Summary List'!P9<>\"\",'Summary List'!P9,\"\")","v":""},{"$f":"IF('Summary List'!Q9<>\"\",'Summary List'!Q9,\"\")","v":""},{"$f":"IF('Summary List'!R9<>\"\",'Summary List'!R9,\"\")","v":""},{"$f":"IF('Summary List'!S9<>\"\",'Summary List'!S9,\"\")","v":""},null,{"$f":"IF('Summary List'!M68<>\"\",'Summary List'!M68,\"\")","v":""},{"$f":"IF('Summary List'!N68<>\"\",'Summary List'!N68,\"\")","v":""},{"$f":"IF('Summary List'!O68<>\"\",'Summary List'!O68,\"\")","v":""},{"$f":"IF('Summary List'!P68<>\"\",'Summary List'!P68,\"\")","v":""},{"$f":"IF('Summary List'!Q68<>\"\",'Summary List'!Q68,\"\")","v":""},{"$f":"IF('Summary List'!R68<>\"\",'Summary List'!R68,\"\")","v":""},{"$f":"IF('Summary List'!S68<>\"\",'Summary List'!S68,\"\")","v":""},null,{"$f":"IF('Summary List'!M127<>\"\",'Summary List'!M127,\"\")","v":""},{"$f":"IF('Summary List'!N127<>\"\",'Summary List'!N127,\"\")","v":""},{"$f":"IF('Summary List'!O127<>\"\",'Summary List'!O127,\"\")","v":""},{"$f":"IF('Summary List'!P127<>\"\",'Summary List'!P127,\"\")","v":""},{"$f":"IF('Summary List'!Q127<>\"\",'Summary List'!Q127,\"\")","v":""},{"$f":"IF('Summary List'!R127<>\"\",'Summary List'!R127,\"\")","v":""},{"$f":"IF('Summary List'!S127<>\"\",'Summary List'!S127,\"\")","v":""}]
[null,null,{"$f":"IF('Summary List'!M10<>\"\",'Summary List'!M10,\"\")","v":""},{"$f":"IF('Summary List'!N10<>\"\",'Summary List'!N10,\"\")","v":""},{"$f":"IF('Summary List'!O10<>\"\",'Summary List'!O10,\"\")","v":""},{"$f":"IF('Summary List'!P10<>\"\",'Summary List'!P10,\"\")","v":""},{"$f":"IF('Summary List'!Q10<>\"\",'Summary List'!Q10,\"\")","v":""},{"$f":"IF('Summary List'!R10<>\"\",'Summary List'!R10,\"\")","v":""},{"$f":"IF('Summary List'!S10<>\"\",'Summary List'!S10,\"\")","v":""},null,{"$f":"IF('Summary List'!M69<>\"\",'Summary List'!M69,\"\")","v":""},{"$f":"IF('Summary List'!N69<>\"\",'Summary List'!N69,\"\")","v":""},{"$f":"IF('Summary List'!O69<>\"\",'Summary List'!O69,\"\")","v":""},{"$f":"IF('Summary List'!P69<>\"\",'Summary List'!P69,\"\")","v":""},{"$f":"IF('Summary List'!Q69<>\"\",'Summary List'!Q69,\"\")","v":""},{"$f":"IF('Summary List'!R69<>\"\",'Summary List'!R69,\"\")","v":""},{"$f":"IF('Summary List'!S69<>\"\",'Summary List'!S69,\"\")","v":""},null,{"$f":"IF('Summary List'!M128<>\"\",'Summary List'!M128,\"\")","v":""},{"$f":"IF('Summary List'!N128<>\"\",'Summary List'!N128,\"\")","v":""},{"$f":"IF('Summary List'!O128<>\"\",'Summary List'!O128,\"\")","v":""},{"$f":"IF('Summary List'!P128<>\"\",'Summary List'!P128,\"\")","v":""},{"$f":"IF('Summary List'!Q128<>\"\",'Summary List'!Q128,\"\")","v":""},{"$f":"IF('Summary List'!R128<>\"\",'Summary List'!R128,\"\")","v":""},{"$f":"IF('Summary List'!S128<>\"\",'Summary List'!S128,\"\")","v":""}]
[null,null,{"$f":"IF('Summary List'!M11<>\"\",'Summary List'!M11,\"\")","v":""},{"$f":"IF('Summary List'!N11<>\"\",'Summary List'!N11,\"\")","v":""},{"$f":"IF('Summary List'!O11<>\"\",'Summary List'!O11,\"\")","v":""},{"$f":"IF('Summary List'!P11<>\"\",'Summary List'!P11,\"\")","v":""},{"$f":"IF('Summary List'!Q11<>\"\",'Summary List'!Q11,\"\")","v":""},{"$f":"IF('Summary List'!R11<>\"\",'Summary List'!R11,\"\")","v":""},{"$f":"IF('Summary List'!S11<>\"\",'Summary List'!S11,\"\")","v":""},null,{"$f":"IF('Summary List'!M70<>\"\",'Summary List'!M70,\"\")","v":""},{"$f":"IF('Summary List'!N70<>\"\",'Summary List'!N70,\"\")","v":""},{"$f":"IF('Summary List'!O70<>\"\",'Summary List'!O70,\"\")","v":""},{"$f":"IF('Summary List'!P70<>\"\",'Summary List'!P70,\"\")","v":""},{"$f":"IF('Summary List'!Q70<>\"\",'Summary List'!Q70,\"\")","v":""},{"$f":"IF('Summary List'!R70<>\"\",'Summary List'!R70,\"\")","v":""},{"$f":"IF('Summary List'!S70<>\"\",'Summary List'!S70,\"\")","v":""},null,{"$f":"IF('Summary List'!M129<>\"\",'Summary List'!M129,\"\")","v":""},{"$f":"IF('Summary List'!N129<>\"\",'Summary List'!N129,\"\")","v":""},{"$f":"IF('Summary List'!O129<>\"\",'Summary List'!O129,\"\")","v":""},{"$f":"IF('Summary List'!P129<>\"\",'Summary List'!P129,\"\")","v":""},{"$f":"IF('Summary List'!Q129<>\"\",'Summary List'!Q129,\"\")","v":""},{"$f":"IF('Summary List'!R129<>\"\",'Summary List'!R129,\"\")","v":""},{"$f":"IF('Summary List'!S129<>\"\",'Summary List'!S129,\"\")","v":""}]
[null,null,{"$f":"IF('Summary List'!M12<>\"\",'Summary List'!M12,\"\")","v":""},{"$f":"IF('Summary List'!N12<>\"\",'Summary List'!N12,\"\")","v":""},{"$f":"IF('Summary List'!O12<>\"\",'Summary List'!O12,\"\")","v":""},{"$f":"IF('Summary List'!P12<>\"\",'Summary List'!P12,\"\")","v":""},{"$f":"IF('Summary List'!Q12<>\"\",'Summary List'!Q12,\"\")","v":""},{"$f":"IF('Summary List'!R12<>\"\",'Summary List'!R12,\"\")","v":""},{"$f":"IF('Summary List'!S12<>\"\",'Summary List'!S12,\"\")","v":""},null,{"$f":"IF('Summary List'!M71<>\"\",'Summary List'!M71,\"\")","v":""},{"$f":"IF('Summary List'!N71<>\"\",'Summary List'!N71,\"\")","v":""},{"$f":"IF('Summary List'!O71<>\"\",'Summary List'!O71,\"\")","v":""},{"$f":"IF('Summary List'!P71<>\"\",'Summary List'!P71,\"\")","v":""},{"$f":"IF('Summary List'!Q71<>\"\",'Summary List'!Q71,\"\")","v":""},{"$f":"IF('Summary List'!R71<>\"\",'Summary List'!R71,\"\")","v":""},{"$f":"IF('Summary List'!S71<>\"\",'Summary List'!S71,\"\")","v":""},null,{"$f":"IF('Summary List'!M130<>\"\",'Summary List'!M130,\"\")","v":""},{"$f":"IF('Summary List'!N130<>\"\",'Summary List'!N130,\"\")","v":""},{"$f":"IF('Summary List'!O130<>\"\",'Summary List'!O130,\"\")","v":""},{"$f":"IF('Summary List'!P130<>\"\",'Summary List'!P130,\"\")","v":""},{"$f":"IF('Summary List'!Q130<>\"\",'Summary List'!Q130,\"\")","v":""},{"$f":"IF('Summary List'!R130<>\"\",'Summary List'!R130,\"\")","v":""},{"$f":"IF('Summary List'!S130<>\"\",'Summary List'!S130,\"\")","v":""}]
[null,null,{"$f":"IF('Summary List'!M13<>\"\",'Summary List'!M13,\"\")","v":""},{"$f":"IF('Summary List'!N13<>\"\",'Summary List'!N13,\"\")","v":""},{"$f":"IF('Summary List'!O13<>\"\",'Summary List'!O13,\"\")","v":""},{"$f":"IF('Summary List'!P13<>\"\",'Summary List'!P13,\"\")","v":""},{"$f":"IF('Summary List'!Q13<>\"\",'Summary List'!Q13,\"\")","v":""},{"$f":"IF('Summary List'!R13<>\"\",'Summary List'!R13,\"\")","v":""},{"$f":"IF('Summary List'!S13<>\"\",'Summary List'!S13,\"\")","v":""},null,{"$f":"IF('Summary List'!M72<>\"\",'Summary List'!M72,\"\")","v":""},{"$f":"IF('Summary List'!N72<>\"\",'Summary List'!N72,\"\")","v":""},{"$f":"IF('Summary List'!O72<>\"\",'Summary List'!O72,\"\")","v":""},{"$f":"IF('Summary List'!P72<>\"\",'Summary List'!P72,\"\")","v":""},{"$f":"IF('Summary List'!Q72<>\"\",'Summary List'!Q72,\"\")","v":""},{"$f":"IF('Summary List'!R72<>\"\",'Summary List'!R72,\"\")","v":""},{"$f":"IF('Summary List'!S72<>\"\",'Summary List'!S72,\"\")","v":""},null,{"$f":"IF('Summary List'!M131<>\"\",'Summary List'!M131,\"\")","v":""},{"$f":"IF('Summary List'!N131<>\"\",'Summary List'!N131,\"\")","v":""},{"$f":"IF('Summary List'!O131<>\"\",'Summary List'!O131,\"\")","v":""},{"$f":"IF('Summary List'!P131<>\"\",'Summary List'!P131,\"\")","v":""},{"$f":"IF('Summary List'!Q131<>\"\",'Summary List'!Q131,\"\")","v":""},{"$f":"IF('Summary List'!R131<>\"\",'Summary List'!R131,\"\")","v":""},{"$f":"IF('Summary List'!S131<>\"\",'Summary List'!S131,\"\")","v":""}]
[null,null,{"$f":"IF('Summary List'!M14<>\"\",'Summary List'!M14,\"\")","v":""},{"$f":"IF('Summary List'!N14<>\"\",'Summary List'!N14,\"\")","v":""},{"$f":"IF('Summary List'!O14<>\"\",'Summary List'!O14,\"\")","v":""},{"$f":"IF('Summary List'!P14<>\"\",'Summary List'!P14,\"\")","v":""},{"$f":"IF('Summary List'!Q14<>\"\",'Summary List'!Q14,\"\")","v":""},{"$f":"IF('Summary List'!R14<>\"\",'Summary List'!R14,\"\")","v":""},{"$f":"IF('Summary List'!S14<>\"\",'Summary List'!S14,\"\")","v":""},null,{"$f":"IF('Summary List'!M73<>\"\",'Summary List'!M73,\"\")","v":""},{"$f":"IF('Summary List'!N73<>\"\",'Summary List'!N73,\"\")","v":""},{"$f":"IF('Summary List'!O73<>\"\",'Summary List'!O73,\"\")","v":""},{"$f":"IF('Summary List'!P73<>\"\",'Summary List'!P73,\"\")","v":""},{"$f":"IF('Summary List'!Q73<>\"\",'Summary List'!Q73,\"\")","v":""},{"$f":"IF('Summary List'!R73<>\"\",'Summary List'!R73,\"\")","v":""},{"$f":"IF('Summary List'!S73<>\"\",'Summary List'!S73,\"\")","v":""},null,{"$f":"IF('Summary List'!M132<>\"\",'Summary List'!M132,\"\")","v":""},{"$f":"IF('Summary List'!N132<>\"\",'Summary List'!N132,\"\")","v":""},{"$f":"IF('Summary List'!O132<>\"\",'Summary List'!O132,\"\")","v":""},{"$f":"IF('Summary List'!P132<>\"\",'Summary List'!P132,\"\")","v":""},{"$f":"IF('Summary List'!Q132<>\"\",'Summary List'!Q132,\"\")","v":""},{"$f":"IF('Summary List'!R132<>\"\",'Summary List'!R132,\"\")","v":""},{"$f":"IF('Summary List'!S132<>\"\",'Summary List'!S132,\"\")","v":""}]
[null,null,{"$f":"IF('Summary List'!M15<>\"\",'Summary List'!M15,\"\")","v":""},{"$f":"IF('Summary List'!N15<>\"\",'Summary List'!N15,\"\")","v":""},{"$f":"IF('Summary List'!O15<>\"\",'Summary List'!O15,\"\")","v":""},{"$f":"IF('Summary List'!P15<>\"\",'Summary List'!P15,\"\")","v":""},{"$f":"IF('Summary List'!Q15<>\"\",'Summary List'!Q15,\"\")","v":""},{"$f":"IF('Summary List'!R15<>\"\",'Summary List'!R15,\"\")","v":""},{"$f":"IF('Summary List'!S15<>\"\",'Summary List'!S15,\"\")","v":""},null,{"$f":"IF('Summary List'!M74<>\"\",'Summary List'!M74,\"\")","v":""},{"$f":"IF('Summary List'!N74<>\"\",'Summary List'!N74,\"\")","v":""},{"$f":"IF('Summary List'!O74<>\"\",'Summary List'!O74,\"\")","v":""},{"$f":"IF('Summary List'!P74<>\"\",'Summary List'!P74,\"\")","v":""},{"$f":"IF('Summary List'!Q74<>\"\",'Summary List'!Q74,\"\")","v":""},{"$f":"IF('Summary List'!R74<>\"\",'Summary List'!R74,\"\")","v":""},{"$f":"IF('Summary List'!S74<>\"\",'Summary List'!S74,\"\")","v":""},null,{"$f":"IF('Summary List'!M133<>\"\",'Summary List'!M133,\"\")","v":""},{"$f":"IF('Summary List'!N133<>\"\",'Summary List'!N133,\"\")","v":""},{"$f":"IF('Summary List'!O133<>\"\",'Summary List'!O133,\"\")","v":""},{"$f":"IF('Summary List'!P133<>\"\",'Summary List'!P133,\"\")","v":""},{"$f":"IF('Summary List'!Q133<>\"\",'Summary List'!Q133,\"\")","v":""},{"$f":"IF('Summary List'!R133<>\"\",'Summary List'!R133,\"\")","v":""},{"$f":"IF('Summary List'!S133<>\"\",'Summary List'!S133,\"\")","v":""}]
[null,null,{"$f":"IF('Summary List'!M16<>\"\",'Summary List'!M16,\"\")","v":""},{"$f":"IF('Summary List'!N16<>\"\",'Summary List'!N16,\"\")","v":""},{"$f":"IF('Summary List'!O16<>\"\",'Summary List'!O16,\"\")","v":""},{"$f":"IF('Summary List'!P16<>\"\",'Summary List'!P16,\"\")","v":""},{"$f":"IF('Summary List'!Q16<>\"\",'Summary List'!Q16,\"\")","v":""},{"$f":"IF('Summary List'!R16<>\"\",'Summary List'!R16,\"\")","v":""},{"$f":"IF('Summary List'!S16<>\"\",'Summary List'!S16,\"\")","v":""},null,{"$f":"IF('Summary List'!M75<>\"\",'Summary List'!M75,\"\")","v":""},{"$f":"IF('Summary List'!N75<>\"\",'Summary List'!N75,\"\")","v":""},{"$f":"IF('Summary List'!O75<>\"\",'Summary List'!O75,\"\")","v":""},{"$f":"IF('Summary List'!P75<>\"\",'Summary List'!P75,\"\")","v":""},{"$f":"IF('Summary List'!Q75<>\"\",'Summary List'!Q75,\"\")","v":""},{"$f":"IF('Summary List'!R75<>\"\",'Summary List'!R75,\"\")","v":""},{"$f":"IF('Summary List'!S75<>\"\",'Summary List'!S75,\"\")","v":""},null,{"$f":"IF('Summary List'!M134<>\"\",'Summary List'!M134,\"\")","v":""},{"$f":"IF('Summary List'!N134<>\"\",'Summary List'!N134,\"\")","v":""},{"$f":"IF('Summary List'!O134<>\"\",'Summary List'!O134,\"\")","v":""},{"$f":"IF('Summary List'!P134<>\"\",'Summary List'!P134,\"\")","v":""},{"$f":"IF('Summary List'!Q134<>\"\",'Summary List'!Q134,\"\")","v":""},{"$f":"IF('Summary List'!R134<>\"\",'Summary List'!R134,\"\")","v":""},{"$f":"IF('Summary List'!S134<>\"\",'Summary List'!S134,\"\")","v":""}]
[null,null,{"$f":"IF('Summary List'!M17<>\"\",'Summary List'!M17,\"\")","v":""},{"$f":"IF('Summary List'!N17<>\"\",'Summary List'!N17,\"\")","v":""},{"$f":"IF('Summary List'!O17<>\"\",'Summary List'!O17,\"\")","v":""},{"$f":"IF('Summary List'!P17<>\"\",'Summary List'!P17,\"\")","v":""},{"$f":"IF('Summary List'!Q17<>\"\",'Summary List'!Q17,\"\")","v":""},{"$f":"IF('Summary List'!R17<>\"\",'Summary List'!R17,\"\")","v":""},{"$f":"IF('Summary List'!S17<>\"\",'Summary List'!S17,\"\")","v":""},null,{"$f":"IF('Summary List'!M76<>\"\",'Summary List'!M76,\"\")","v":""},{"$f":"IF('Summary List'!N76<>\"\",'Summary List'!N76,\"\")","v":""},{"$f":"IF('Summary List'!O76<>\"\",'Summary List'!O76,\"\")","v":""},{"$f":"IF('Summary List'!P76<>\"\",'Summary List'!P76,\"\")","v":""},{"$f":"IF('Summary List'!Q76<>\"\",'Summary List'!Q76,\"\")","v":""},{"$f":"IF('Summary List'!R76<>\"\",'Summary List'!R76,\"\")","v":""},{"$f":"IF('Summary List'!S76<>\"\",'Summary List'!S76,\"\")","v":""},null,{"$f":"IF('Summary List'!M135<>\"\",'Summary List'!M135,\"\")","v":""},{"$f":"IF('Summary List'!N135<>\"\",'Summary List'!N135,\"\")","v":""},{"$f":"IF('Summary List'!O135<>\"\",'Summary List'!O135,\"\")","v":""},{"$f":"IF('Summary List'!P135<>\"\",'Summary List'!P135,\"\")","v":""},{"$f":"IF('Summary List'!Q135<>\"\",'Summary List'!Q135,\"\")","v":""},{"$f":"IF('Summary List'!R135<>\"\",'Summary List'!R135,\"\")","v":""},{"$f":"IF('Summary List'!S135<>\"\",'Summary List'!S135,\"\")","v":""}]
[null,null,{"$f":"IF('Summary List'!M18<>\"\",'Summary List'!M18,\"\")","v":""},{"$f":"IF('Summary List'!N18<>\"\",'Summary List'!N18,\"\")","v":""},{"$f":"IF('Summary List'!O18<>\"\",'Summary List'!O18,\"\")","v":""},{"$f":"IF('Summary List'!P18<>\"\",'Summary List'!P18,\"\")","v":""},{"$f":"IF('Summary List'!Q18<>\"\",'Summary List'!Q18,\"\")","v":""},{"$f":"IF('Summary List'!R18<>\"\",'Summary List'!R18,\"\")","v":""},{"$f":"IF('Summary List'!S18<>\"\",'Summary List'!S18,\"\")","v":""},null,{"$f":"IF('Summary List'!M77<>\"\",'Summary List'!M77,\"\")","v":""},{"$f":"IF('Summary List'!N77<>\"\",'Summary List'!N77,\"\")","v":""},{"$f":"IF('Summary List'!O77<>\"\",'Summary List'!O77,\"\")","v":""},{"$f":"IF('Summary List'!P77<>\"\",'Summary List'!P77,\"\")","v":""},{"$f":"IF('Summary List'!Q77<>\"\",'Summary List'!Q77,\"\")","v":""},{"$f":"IF('Summary List'!R77<>\"\",'Summary List'!R77,\"\")","v":""},{"$f":"IF('Summary List'!S77<>\"\",'Summary List'!S77,\"\")","v":""},null,{"$f":"IF('Summary List'!M136<>\"\",'Summary List'!M136,\"\")","v":""},{"$f":"IF('Summary List'!N136<>\"\",'Summary List'!N136,\"\")","v":""},{"$f":"IF('Summary List'!O136<>\"\",'Summary List'!O136,\"\")","v":""},{"$f":"IF('Summary List'!P136<>\"\",'Summary List'!P136,\"\")","v":""},{"$f":"IF('Summary List'!Q136<>\"\",'Summary List'!Q136,\"\")","v":""},{"$f":"IF('Summary List'!R136<>\"\",'Summary List'!R136,\"\")","v":""},{"$f":"IF('Summary List'!S136<>\"\",'Summary List'!S136,\"\")","v":""}]
[null,null,{"$f":"IF('Summary List'!M19<>\"\",'Summary List'!M19,\"\")","v":""},{"$f":"IF('Summary List'!N19<>\"\",'Summary List'!N19,\"\")","v":""},{"$f":"IF('Summary List'!O19<>\"\",'Summary List'!O19,\"\")","v":""},{"$f":"IF('Summary List'!P19<>\"\",'Summary List'!P19,\"\")","v":""},{"$f":"IF('Summary List'!Q19<>\"\",'Summary List'!Q19,\"\")","v":""},{"$f":"IF('Summary List'!R19<>\"\",'Summary List'!R19,\"\")","v":""},{"$f":"IF('Summary List'!S19<>\"\",'Summary List'!S19,\"\")","v":""},null,{"$f":"IF('Summary List'!M78<>\"\",'Summary List'!M78,\"\")","v":""},{"$f":"IF('Summary List'!N78<>\"\",'Summary List'!N78,\"\")","v":""},{"$f":"IF('Summary List'!O78<>\"\",'Summary List'!O78,\"\")","v":""},{"$f":"IF('Summary List'!P78<>\"\",'Summary List'!P78,\"\")","v":""},{"$f":"IF('Summary List'!Q78<>\"\",'Summary List'!Q78,\"\")","v":""},{"$f":"IF('Summary List'!R78<>\"\",'Summary List'!R78,\"\")","v":""},{"$f":"IF('Summary List'!S78<>\"\",'Summary List'!S78,\"\")","v":""},null,{"$f":"IF('Summary List'!M137<>\"\",'Summary List'!M137,\"\")","v":""},{"$f":"IF('Summary List'!N137<>\"\",'Summary List'!N137,\"\")","v":""},{"$f":"IF('Summary List'!O137<>\"\",'Summary List'!O137,\"\")","v":""},{"$f":"IF('Summary List'!P137<>\"\",'Summary List'!P137,\"\")","v":""},{"$f":"IF('Summary List'!Q137<>\"\",'Summary List'!Q137,\"\")","v":""},{"$f":"IF('Summary List'!R137<>\"\",'Summary List'!R137,\"\")","v":""},{"$f":"IF('Summary List'!S137<>\"\",'Summary List'!S137,\"\")","v":""}]
[null,null,{"$f":"IF('Summary List'!M20<>\"\",'Summary List'!M20,\"\")","v":""},{"$f":"IF('Summary List'!N20<>\"\",'Summary List'!N20,\"\")","v":""},{"$f":"IF('Summary List'!O20<>\"\",'Summary List'!O20,\"\")","v":""},{"$f":"IF('Summary List'!P20<>\"\",'Summary List'!P20,\"\")","v":""},{"$f":"IF('Summary List'!Q20<>\"\",'Summary List'!Q20,\"\")","v":""},{"$f":"IF('Summary List'!R20<>\"\",'Summary List'!R20,\"\")","v":""},{"$f":"IF('Summary List'!S20<>\"\",'Summary List'!S20,\"\")","v":""},null,{"$f":"IF('Summary List'!M79<>\"\",'Summary List'!M79,\"\")","v":""},{"$f":"IF('Summary List'!N79<>\"\",'Summary List'!N79,\"\")","v":""},{"$f":"IF('Summary List'!O79<>\"\",'Summary List'!O79,\"\")","v":""},{"$f":"IF('Summary List'!P79<>\"\",'Summary List'!P79,\"\")","v":""},{"$f":"IF('Summary List'!Q79<>\"\",'Summary List'!Q79,\"\")","v":""},{"$f":"IF('Summary List'!R79<>\"\",'Summary List'!R79,\"\")","v":""},{"$f":"IF('Summary List'!S79<>\"\",'Summary List'!S79,\"\")","v":""},null,{"$f":"IF('Summary List'!M138<>\"\",'Summary List'!M138,\"\")","v":""},{"$f":"IF('Summary List'!N138<>\"\",'Summary List'!N138,\"\")","v":""},{"$f":"IF('Summary List'!O138<>\"\",'Summary List'!O138,\"\")","v":""},{"$f":"IF('Summary List'!P138<>\"\",'Summary List'!P138,\"\")","v":""},{"$f":"IF('Summary List'!Q138<>\"\",'Summary List'!Q138,\"\")","v":""},{"$f":"IF('Summary List'!R138<>\"\",'Summary List'!R138,\"\")","v":""},{"$f":"IF('Summary List'!S138<>\"\",'Summary List'!S138,\"\")","v":""}]
[null,null,{"$f":"IF('Summary List'!M21<>\"\",'Summary List'!M21,\"\")","v":""},{"$f":"IF('Summary List'!N21<>\"\",'Summary List'!N21,\"\")","v":""},{"$f":"IF('Summary List'!O21<>\"\",'Summary List'!O21,\"\")","v":""},{"$f":"IF('Summary List'!P21<>\"\",'Summary List'!P21,\"\")","v":""},{"$f":"IF('Summary List'!Q21<>\"\",'Summary List'!Q21,\"\")","v":""},{"$f":"IF('Summary List'!R21<>\"\",'Summary List'!R21,\"\")","v":""},{"$f":"IF('Summary List'!S21<>\"\",'Summary List'!S21,\"\")","v":""},null,{"$f":"IF('Summary List'!M80<>\"\",'Summary List'!M80,\"\")","v":""},{"$f":"IF('Summary List'!N80<>\"\",'Summary List'!N80,\"\")","v":""},{"$f":"IF('Summary List'!O80<>\"\",'Summary List'!O80,\"\")","v":""},{"$f":"IF('Summary List'!P80<>\"\",'Summary List'!P80,\"\")","v":""},{"$f":"IF('Summary List'!Q80<>\"\",'Summary List'!Q80,\"\")","v":""},{"$f":"IF('Summary List'!R80<>\"\",'Summary List'!R80,\"\")","v":""},{"$f":"IF('Summary List'!S80<>\"\",'Summary List'!S80,\"\")","v":""},null,{"$f":"IF('Summary List'!M139<>\"\",'Summary List'!M139,\"\")","v":""},{"$f":"IF('Summary List'!N139<>\"\",'Summary List'!N139,\"\")","v":""},{"$f":"IF('Summary List'!O139<>\"\",'Summary List'!O139,\"\")","v":""},{"$f":"IF('Summary List'!P139<>\"\",'Summary List'!P139,\"\")","v":""},{"$f":"IF('Summary List'!Q139<>\"\",'Summary List'!Q139,\"\")","v":""},{"$f":"IF('Summary List'!R139<>\"\",'Summary List'!R139,\"\")","v":""},{"$f":"IF('Summary List'!S139<>\"\",'Summary List'!S139,\"\")","v":""}]
[null,null,{"$f":"IF('Summary List'!M22<>\"\",'Summary List'!M22,\"\")","v":""},{"$f":"IF('Summary List'!N22<>\"\",'Summary List'!N22,\"\")","v":""},{"$f":"IF('Summary List'!O22<>\"\",'Summary List'!O22,\"\")","v":""},{"$f":"IF('Summary List'!P22<>\"\",'Summary List'!P22,\"\")","v":""},{"$f":"IF('Summary List'!Q22<>\"\",'Summary List'!Q22,\"\")","v":""},{"$f":"IF('Summary List'!R22<>\"\",'Summary List'!R22,\"\")","v":""},{"$f":"IF('Summary List'!S22<>\"\",'Summary List'!S22,\"\")","v":""},null,{"$f":"IF('Summary List'!M81<>\"\",'Summary List'!M81,\"\")","v":""},{"$f":"IF('Summary List'!N81<>\"\",'Summary List'!N81,\"\")","v":""},{"$f":"IF('Summary List'!O81<>\"\",'Summary List'!O81,\"\")","v":""},{"$f":"IF('Summary List'!P81<>\"\",'Summary List'!P81,\"\")","v":""},{"$f":"IF('Summary List'!Q81<>\"\",'Summary List'!Q81,\"\")","v":""},{"$f":"IF('Summary List'!R81<>\"\",'Summary List'!R81,\"\")","v":""},{"$f":"IF('Summary List'!S81<>\"\",'Summary List'!S81,\"\")","v":""},null,{"$f":"IF('Summary List'!M140<>\"\",'Summary List'!M140,\"\")","v":""},{"$f":"IF('Summary List'!N140<>\"\",'Summary List'!N140,\"\")","v":""},{"$f":"IF('Summary List'!O140<>\"\",'Summary List'!O140,\"\")","v":""},{"$f":"IF('Summary List'!P140<>\"\",'Summary List'!P140,\"\")","v":""},{"$f":"IF('Summary List'!Q140<>\"\",'Summary List'!Q140,\"\")","v":""},{"$f":"IF('Summary List'!R140<>\"\",'Summary List'!R140,\"\")","v":""},{"$f":"IF('Summary List'!S140<>\"\",'Summary List'!S140,\"\")","v":""}]
[null,null,{"$f":"IF('Summary List'!M23<>\"\",'Summary List'!M23,\"\")","v":""},{"$f":"IF('Summary List'!N23<>\"\",'Summary List'!N23,\"\")","v":""},{"$f":"IF('Summary List'!O23<>\"\",'Summary List'!O23,\"\")","v":""},{"$f":"IF('Summary List'!P23<>\"\",'Summary List'!P23,\"\")","v":""},{"$f":"IF('Summary List'!Q23<>\"\",'Summary List'!Q23,\"\")","v":""},{"$f":"IF('Summary List'!R23<>\"\",'Summary List'!R23,\"\")","v":""},{"$f":"IF('Summary List'!S23<>\"\",'Summary List'!S23,\"\")","v":""},null,{"$f":"IF('Summary List'!M82<>\"\",'Summary List'!M82,\"\")","v":""},{"$f":"IF('Summary List'!N82<>\"\",'Summary List'!N82,\"\")","v":""},{"$f":"IF('Summary List'!O82<>\"\",'Summary List'!O82,\"\")","v":""},{"$f":"IF('Summary List'!P82<>\"\",'Summary List'!P82,\"\")","v":""},{"$f":"IF('Summary List'!Q82<>\"\",'Summary List'!Q82,\"\")","v":""},{"$f":"IF('Summary List'!R82<>\"\",'Summary List'!R82,\"\")","v":""},{"$f":"IF('Summary List'!S82<>\"\",'Summary List'!S82,\"\")","v":""},null,{"$f":"IF('Summary List'!M141<>\"\",'Summary List'!M141,\"\")","v":""},{"$f":"IF('Summary List'!N141<>\"\",'Summary List'!N141,\"\")","v":""},{"$f":"IF('Summary List'!O141<>\"\",'Summary List'!O141,\"\")","v":""},{"$f":"IF('Summary List'!P141<>\"\",'Summary List'!P141,\"\")","v":""},{"$f":"IF('Summary List'!Q141<>\"\",'Summary List'!Q141,\"\")","v":""},{"$f":"IF('Summary List'!R141<>\"\",'Summary List'!R141,\"\")","v":""},{"$f":"IF('Summary List'!S141<>\"\",'Summary List'!S141,\"\")","v":""}]
[null,null,{"$f":"IF('Summary List'!M24<>\"\",'Summary List'!M24,\"\")","v":""},{"$f":"IF('Summary List'!N24<>\"\",'Summary List'!N24,\"\")","v":""},{"$f":"IF('Summary List'!O24<>\"\",'Summary List'!O24,\"\")","v":""},{"$f":"IF('Summary List'!P24<>\"\",'Summary List'!P24,\"\")","v":""},{"$f":"IF('Summary List'!Q24<>\"\",'Summary List'!Q24,\"\")","v":""},{"$f":"IF('Summary List'!R24<>\"\",'Summary List'!R24,\"\")","v":""},{"$f":"IF('Summary List'!S24<>\"\",'Summary List'!S24,\"\")","v":""},null,{"$f":"IF('Summary List'!M83<>\"\",'Summary List'!M83,\"\")","v":""},{"$f":"IF('Summary List'!N83<>\"\",'Summary List'!N83,\"\")","v":""},{"$f":"IF('Summary List'!O83<>\"\",'Summary List'!O83,\"\")","v":""},{"$f":"IF('Summary List'!P83<>\"\",'Summary List'!P83,\"\")","v":""},{"$f":"IF('Summary List'!Q83<>\"\",'Summary List'!Q83,\"\")","v":""},{"$f":"IF('Summary List'!R83<>\"\",'Summary List'!R83,\"\")","v":""},{"$f":"IF('Summary List'!S83<>\"\",'Summary List'!S83,\"\")","v":""},null,{"$f":"IF('Summary List'!M142<>\"\",'Summary List'!M142,\"\")","v":""},{"$f":"IF('Summary List'!N142<>\"\",'Summary List'!N142,\"\")","v":""},{"$f":"IF('Summary List'!O142<>\"\",'Summary List'!O142,\"\")","v":""},{"$f":"IF('Summary List'!P142<>\"\",'Summary List'!P142,\"\")","v":""},{"$f":"IF('Summary List'!Q142<>\"\",'Summary List'!Q142,\"\")","v":""},{"$f":"IF('Summary List'!R142<>\"\",'Summary List'!R142,\"\")","v":""},{"$f":"IF('Summary List'!S142<>\"\",'Summary List'!S142,\"\")","v":""}]
[null,null,{"$f":"IF('Summary List'!M25<>\"\",'Summary List'!M25,\"\")","v":""},{"$f":"IF('Summary List'!N25<>\"\",'Summary List'!N25,\"\")","v":""},{"$f":"IF('Summary List'!O25<>\"\",'Summary List'!O25,\"\")","v":""},{"$f":"IF('Summary List'!P25<>\"\",'Summary List'!P25,\"\")","v":""},{"$f":"IF('Summary List'!Q25<>\"\",'Summary List'!Q25,\"\")","v":""},{"$f":"IF('Summary List'!R25<>\"\",'Summary List'!R25,\"\")","v":""},{"$f":"IF('Summary List'!S25<>\"\",'Summary List'!S25,\"\")","v":""},null,{"$f":"IF('Summary List'!M84<>\"\",'Summary List'!M84,\"\")","v":""},{"$f":"IF('Summary List'!N84<>\"\",'Summary List'!N84,\"\")","v":""},{"$f":"IF('Summary List'!O84<>\"\",'Summary List'!O84,\"\")","v":""},{"$f":"IF('Summary List'!P84<>\"\",'Summary List'!P84,\"\")","v":""},{"$f":"IF('Summary List'!Q84<>\"\",'Summary List'!Q84,\"\")","v":""},{"$f":"IF('Summary List'!R84<>\"\",'Summary List'!R84,\"\")","v":""},{"$f":"IF('Summary List'!S84<>\"\",'Summary List'!S84,\"\")","v":""},null,{"$f":"IF('Summary List'!M143<>\"\",'Summary List'!M143,\"\")","v":""},{"$f":"IF('Summary List'!N143<>\"\",'Summary List'!N143,\"\")","v":""},{"$f":"IF('Summary List'!O143<>\"\",'Summary List'!O143,\"\")","v":""},{"$f":"IF('Summary List'!P143<>\"\",'Summary List'!P143,\"\")","v":""},{"$f":"IF('Summary List'!Q143<>\"\",'Summary List'!Q143,\"\")","v":""},{"$f":"IF('Summary List'!R143<>\"\",'Summary List'!R143,\"\")","v":""},{"$f":"IF('Summary List'!S143<>\"\",'Summary List'!S143,\"\")","v":""}]
[null,null,{"$f":"IF('Summary List'!M26<>\"\",'Summary List'!M26,\"\")","v":""},{"$f":"IF('Summary List'!N26<>\"\",'Summary List'!N26,\"\")","v":""},{"$f":"IF('Summary List'!O26<>\"\",'Summary List'!O26,\"\")","v":""},{"$f":"IF('Summary List'!P26<>\"\",'Summary List'!P26,\"\")","v":""},{"$f":"IF('Summary List'!Q26<>\"\",'Summary List'!Q26,\"\")","v":""},{"$f":"IF('Summary List'!R26<>\"\",'Summary List'!R26,\"\")","v":""},{"$f":"IF('Summary List'!S26<>\"\",'Summary List'!S26,\"\")","v":""},null,{"$f":"IF('Summary List'!M85<>\"\",'Summary List'!M85,\"\")","v":""},{"$f":"IF('Summary List'!N85<>\"\",'Summary List'!N85,\"\")","v":""},{"$f":"IF('Summary List'!O85<>\"\",'Summary List'!O85,\"\")","v":""},{"$f":"IF('Summary List'!P85<>\"\",'Summary List'!P85,\"\")","v":""},{"$f":"IF('Summary List'!Q85<>\"\",'Summary List'!Q85,\"\")","v":""},{"$f":"IF('Summary List'!R85<>\"\",'Summary List'!R85,\"\")","v":""},{"$f":"IF('Summary List'!S85<>\"\",'Summary List'!S85,\"\")","v":""},null,{"$f":"IF('Summary List'!M144<>\"\",'Summary List'!M144,\"\")","v":""},{"$f":"IF('Summary List'!N144<>\"\",'Summary List'!N144,\"\")","v":""},{"$f":"IF('Summary List'!O144<>\"\",'Summary List'!O144,\"\")","v":""},{"$f":"IF('Summary List'!P144<>\"\",'Summary List'!P144,\"\")","v":""},{"$f":"IF('Summary List'!Q144<>\"\",'Summary List'!Q144,\"\")","v":""},{"$f":"IF('Summary List'!R144<>\"\",'Summary List'!R144,\"\")","v":""},{"$f":"IF('Summary List'!S144<>\"\",'Summary List'!S144,\"\")","v":""}]
[null,null,{"$f":"IF('Summary List'!M27<>\"\",'Summary List'!M27,\"\")","v":""},{"$f":"IF('Summary List'!N27<>\"\",'Summary List'!N27,\"\")","v":""},{"$f":"IF('Summary List'!O27<>\"\",'Summary List'!O27,\"\")","v":""},{"$f":"IF('Summary List'!P27<>\"\",'Summary List'!P27,\"\")","v":""},{"$f":"IF('Summary List'!Q27<>\"\",'Summary List'!Q27,\"\")","v":""},{"$f":"IF('Summary List'!R27<>\"\",'Summary List'!R27,\"\")","v":""},{"$f":"IF('Summary List'!S27<>\"\",'Summary List'!S27,\"\")","v":""},null,{"$f":"IF('Summary List'!M86<>\"\",'Summary List'!M86,\"\")","v":""},{"$f":"IF('Summary List'!N86<>\"\",'Summary List'!N86,\"\")","v":""},{"$f":"IF('Summary List'!O86<>\"\",'Summary List'!O86,\"\")","v":""},{"$f":"IF('Summary List'!P86<>\"\",'Summary List'!P86,\"\")","v":""},{"$f":"IF('Summary List'!Q86<>\"\",'Summary List'!Q86,\"\")","v":""},{"$f":"IF('Summary List'!R86<>\"\",'Summary List'!R86,\"\")","v":""},{"$f":"IF('Summary List'!S86<>\"\",'Summary List'!S86,\"\")","v":""},null,{"$f":"IF('Summary List'!M145<>\"\",'Summary List'!M145,\"\")","v":""},{"$f":"IF('Summary List'!N145<>\"\",'Summary List'!N145,\"\")","v":""},{"$f":"IF('Summary List'!O145<>\"\",'Summary List'!O145,\"\")","v":""},{"$f":"IF('Summary List'!P145<>\"\",'Summary List'!P145,\"\")","v":""},{"$f":"IF('Summary List'!Q145<>\"\",'Summary List'!Q145,\"\")","v":""},{"$f":"IF('Summary List'!R145<>\"\",'Summary List'!R145,\"\")","v":""},{"$f":"IF('Summary List'!S145<>\"\",'Summary List'!S145,\"\")","v":""}]
[null,null,{"$f":"IF('Summary List'!M28<>\"\",'Summary List'!M28,\"\")","v":""},{"$f":"IF('Summary List'!N28<>\"\",'Summary List'!N28,\"\")","v":""},{"$f":"IF('Summary List'!O28<>\"\",'Summary List'!O28,\"\")","v":""},{"$f":"IF('Summary List'!P28<>\"\",'Summary List'!P28,\"\")","v":""},{"$f":"IF('Summary List'!Q28<>\"\",'Summary List'!Q28,\"\")","v":""},{"$f":"IF('Summary List'!R28<>\"\",'Summary List'!R28,\"\")","v":""},{"$f":"IF('Summary List'!S28<>\"\",'Summary List'!S28,\"\")","v":""},null,{"$f":"IF('Summary List'!M87<>\"\",'Summary List'!M87,\"\")","v":""},{"$f":"IF('Summary List'!N87<>\"\",'Summary List'!N87,\"\")","v":""},{"$f":"IF('Summary List'!O87<>\"\",'Summary List'!O87,\"\")","v":""},{"$f":"IF('Summary List'!P87<>\"\",'Summary List'!P87,\"\")","v":""},{"$f":"IF('Summary List'!Q87<>\"\",'Summary List'!Q87,\"\")","v":""},{"$f":"IF('Summary List'!R87<>\"\",'Summary List'!R87,\"\")","v":""},{"$f":"IF('Summary List'!S87<>\"\",'Summary List'!S87,\"\")","v":""},null,{"$f":"IF('Summary List'!M146<>\"\",'Summary List'!M146,\"\")","v":""},{"$f":"IF('Summary List'!N146<>\"\",'Summary List'!N146,\"\")","v":""},{"$f":"IF('Summary List'!O146<>\"\",'Summary List'!O146,\"\")","v":""},{"$f":"IF('Summary List'!P146<>\"\",'Summary List'!P146,\"\")","v":""},{"$f":"IF('Summary List'!Q146<>\"\",'Summary List'!Q146,\"\")","v":""},{"$f":"IF('Summary List'!R146<>\"\",'Summary List'!R146,\"\")","v":""},{"$f":"IF('Summary List'!S146<>\"\",'Summary List'!S146,\"\")","v":""}]
[null,null,{"$f":"IF('Summary List'!M29<>\"\",'Summary List'!M29,\"\")","v":""},{"$f":"IF('Summary List'!N29<>\"\",'Summary List'!N29,\"\")","v":""},{"$f":"IF('Summary List'!O29<>\"\",'Summary List'!O29,\"\")","v":""},{"$f":"IF('Summary List'!P29<>\"\",'Summary List'!P29,\"\")","v":""},{"$f":"IF('Summary List'!Q29<>\"\",'Summary List'!Q29,\"\")","v":""},{"$f":"IF('Summary List'!R29<>\"\",'Summary List'!R29,\"\")","v":""},{"$f":"IF('Summary List'!S29<>\"\",'Summary List'!S29,\"\")","v":""},null,{"$f":"IF('Summary List'!M88<>\"\",'Summary List'!M88,\"\")","v":""},{"$f":"IF('Summary List'!N88<>\"\",'Summary List'!N88,\"\")","v":""},{"$f":"IF('Summary List'!O88<>\"\",'Summary List'!O88,\"\")","v":""},{"$f":"IF('Summary List'!P88<>\"\",'Summary List'!P88,\"\")","v":""},{"$f":"IF('Summary List'!Q88<>\"\",'Summary List'!Q88,\"\")","v":""},{"$f":"IF('Summary List'!R88<>\"\",'Summary List'!R88,\"\")","v":""},{"$f":"IF('Summary List'!S88<>\"\",'Summary List'!S88,\"\")","v":""},null,{"$f":"IF('Summary List'!M147<>\"\",'Summary List'!M147,\"\")","v":""},{"$f":"IF('Summary List'!N147<>\"\",'Summary List'!N147,\"\")","v":""},{"$f":"IF('Summary List'!O147<>\"\",'Summary List'!O147,\"\")","v":""},{"$f":"IF('Summary List'!P147<>\"\",'Summary List'!P147,\"\")","v":""},{"$f":"IF('Summary List'!Q147<>\"\",'Summary List'!Q147,\"\")","v":""},{"$f":"IF('Summary List'!R147<>\"\",'Summary List'!R147,\"\")","v":""},{"$f":"IF('Summary List'!S147<>\"\",'Summary List'!S147,\"\")","v":""}]
[null,null,{"$f":"IF('Summary List'!M30<>\"\",'Summary List'!M30,\"\")","v":""},{"$f":"IF('Summary List'!N30<>\"\",'Summary List'!N30,\"\")","v":""},{"$f":"IF('Summary List'!O30<>\"\",'Summary List'!O30,\"\")","v":""},{"$f":"IF('Summary List'!P30<>\"\",'Summary List'!P30,\"\")","v":""},{"$f":"IF('Summary List'!Q30<>\"\",'Summary List'!Q30,\"\")","v":""},{"$f":"IF('Summary List'!R30<>\"\",'Summary List'!R30,\"\")","v":""},{"$f":"IF('Summary List'!S30<>\"\",'Summary List'!S30,\"\")","v":""},null,{"$f":"IF('Summary List'!M89<>\"\",'Summary List'!M89,\"\")","v":""},{"$f":"IF('Summary List'!N89<>\"\",'Summary List'!N89,\"\")","v":""},{"$f":"IF('Summary List'!O89<>\"\",'Summary List'!O89,\"\")","v":""},{"$f":"IF('Summary List'!P89<>\"\",'Summary List'!P89,\"\")","v":""},{"$f":"IF('Summary List'!Q89<>\"\",'Summary List'!Q89,\"\")","v":""},{"$f":"IF('Summary List'!R89<>\"\",'Summary List'!R89,\"\")","v":""},{"$f":"IF('Summary List'!S89<>\"\",'Summary List'!S89,\"\")","v":""},null,{"$f":"IF('Summary List'!M148<>\"\",'Summary List'!M148,\"\")","v":""},{"$f":"IF('Summary List'!N148<>\"\",'Summary List'!N148,\"\")","v":""},{"$f":"IF('Summary List'!O148<>\"\",'Summary List'!O148,\"\")","v":""},{"$f":"IF('Summary List'!P148<>\"\",'Summary List'!P148,\"\")","v":""},{"$f":"IF('Summary List'!Q148<>\"\",'Summary List'!Q148,\"\")","v":""},{"$f":"IF('Summary List'!R148<>\"\",'Summary List'!R148,\"\")","v":""},{"$f":"IF('Summary List'!S148<>\"\",'Summary List'!S148,\"\")","v":""}]
[null,null,{"$f":"IF('Summary List'!M31<>\"\",'Summary List'!M31,\"\")","v":""},{"$f":"IF('Summary List'!N31<>\"\",'Summary List'!N31,\"\")","v":""},{"$f":"IF('Summary List'!O31<>\"\",'Summary List'!O31,\"\")","v":""},{"$f":"IF('Summary List'!P31<>\"\",'Summary List'!P31,\"\")","v":""},{"$f":"IF('Summary List'!Q31<>\"\",'Summary List'!Q31,\"\")","v":""},{"$f":"IF('Summary List'!R31<>\"\",'Summary List'!R31,\"\")","v":""},{"$f":"IF('Summary List'!S31<>\"\",'Summary List'!S31,\"\")","v":""},null,{"$f":"IF('Summary List'!M90<>\"\",'Summary List'!M90,\"\")","v":""},{"$f":"IF('Summary List'!N90<>\"\",'Summary List'!N90,\"\")","v":""},{"$f":"IF('Summary List'!O90<>\"\",'Summary List'!O90,\"\")","v":""},{"$f":"IF('Summary List'!P90<>\"\",'Summary List'!P90,\"\")","v":""},{"$f":"IF('Summary List'!Q90<>\"\",'Summary List'!Q90,\"\")","v":""},{"$f":"IF('Summary List'!R90<>\"\",'Summary List'!R90,\"\")","v":""},{"$f":"IF('Summary List'!S90<>\"\",'Summary List'!S90,\"\")","v":""},null,{"$f":"IF('Summary List'!M149<>\"\",'Summary List'!M149,\"\")","v":""},{"$f":"IF('Summary List'!N149<>\"\",'Summary List'!N149,\"\")","v":""},{"$f":"IF('Summary List'!O149<>\"\",'Summary List'!O149,\"\")","v":""},{"$f":"IF('Summary List'!P149<>\"\",'Summary List'!P149,\"\")","v":""},{"$f":"IF('Summary List'!Q149<>\"\",'Summary List'!Q149,\"\")","v":""},{"$f":"IF('Summary List'!R149<>\"\",'Summary List'!R149,\"\")","v":""},{"$f":"IF('Summary List'!S149<>\"\",'Summary List'!S149,\"\")","v":""}]
[null,null,{"$f":"IF('Summary List'!M32<>\"\",'Summary List'!M32,\"\")","v":""},{"$f":"IF('Summary List'!N32<>\"\",'Summary List'!N32,\"\")","v":""},{"$f":"IF('Summary List'!O32<>\"\",'Summary List'!O32,\"\")","v":""},{"$f":"IF('Summary List'!P32<>\"\",'Summary List'!P32,\"\")","v":""},{"$f":"IF('Summary List'!Q32<>\"\",'Summary List'!Q32,\"\")","v":""},{"$f":"IF('Summary List'!R32<>\"\",'Summary List'!R32,\"\")","v":""},{"$f":"IF('Summary List'!S32<>\"\",'Summary List'!S32,\"\")","v":""},null,{"$f":"IF('Summary List'!M91<>\"\",'Summary List'!M91,\"\")","v":""},{"$f":"IF('Summary List'!N91<>\"\",'Summary List'!N91,\"\")","v":""},{"$f":"IF('Summary List'!O91<>\"\",'Summary List'!O91,\"\")","v":""},{"$f":"IF('Summary List'!P91<>\"\",'Summary List'!P91,\"\")","v":""},{"$f":"IF('Summary List'!Q91<>\"\",'Summary List'!Q91,\"\")","v":""},{"$f":"IF('Summary List'!R91<>\"\",'Summary List'!R91,\"\")","v":""},{"$f":"IF('Summary List'!S91<>\"\",'Summary List'!S91,\"\")","v":""},null,{"$f":"IF('Summary List'!M150<>\"\",'Summary List'!M150,\"\")","v":""},{"$f":"IF('Summary List'!N150<>\"\",'Summary List'!N150,\"\")","v":""},{"$f":"IF('Summary List'!O150<>\"\",'Summary List'!O150,\"\")","v":""},{"$f":"IF('Summary List'!P150<>\"\",'Summary List'!P150,\"\")","v":""},{"$f":"IF('Summary List'!Q150<>\"\",'Summary List'!Q150,\"\")","v":""},{"$f":"IF('Summary List'!R150<>\"\",'Summary List'!R150,\"\")","v":""},{"$f":"IF('Summary List'!S150<>\"\",'Summary List'!S150,\"\")","v":""}]
[null,null,{"$f":"IF('Summary List'!M33<>\"\",'Summary List'!M33,\"\")","v":""},{"$f":"IF('Summary List'!N33<>\"\",'Summary List'!N33,\"\")","v":""},{"$f":"IF('Summary List'!O33<>\"\",'Summary List'!O33,\"\")","v":""},{"$f":"IF('Summary List'!P33<>\"\",'Summary List'!P33,\"\")","v":""},{"$f":"IF('Summary List'!Q33<>\"\",'Summary List'!Q33,\"\")","v":""},{"$f":"IF('Summary List'!R33<>\"\",'Summary List'!R33,\"\")","v":""},{"$f":"IF('Summary List'!S33<>\"\",'Summary List'!S33,\"\")","v":""},null,{"$f":"IF('Summary List'!M92<>\"\",'Summary List'!M92,\"\")","v":""},{"$f":"IF('Summary List'!N92<>\"\",'Summary List'!N92,\"\")","v":""},{"$f":"IF('Summary List'!O92<>\"\",'Summary List'!O92,\"\")","v":""},{"$f":"IF('Summary List'!P92<>\"\",'Summary List'!P92,\"\")","v":""},{"$f":"IF('Summary List'!Q92<>\"\",'Summary List'!Q92,\"\")","v":""},{"$f":"IF('Summary List'!R92<>\"\",'Summary List'!R92,\"\")","v":""},{"$f":"IF('Summary List'!S92<>\"\",'Summary List'!S92,\"\")","v":""},null,{"$f":"IF('Summary List'!M151<>\"\",'Summary List'!M151,\"\")","v":""},{"$f":"IF('Summary List'!N151<>\"\",'Summary List'!N151,\"\")","v":""},{"$f":"IF('Summary List'!O151<>\"\",'Summary List'!O151,\"\")","v":""},{"$f":"IF('Summary List'!P151<>\"\",'Summary List'!P151,\"\")","v":""},{"$f":"IF('Summary List'!Q151<>\"\",'Summary List'!Q151,\"\")","v":""},{"$f":"IF('Summary List'!R151<>\"\",'Summary List'!R151,\"\")","v":""},{"$f":"IF('Summary List'!S151<>\"\",'Summary List'!S151,\"\")","v":""}]
[null,null,{"$f":"IF('Summary List'!M34<>\"\",'Summary List'!M34,\"\")","v":""},{"$f":"IF('Summary List'!N34<>\"\",'Summary List'!N34,\"\")","v":""},{"$f":"IF('Summary List'!O34<>\"\",'Summary List'!O34,\"\")","v":""},{"$f":"IF('Summary List'!P34<>\"\",'Summary List'!P34,\"\")","v":""},{"$f":"IF('Summary List'!Q34<>\"\",'Summary List'!Q34,\"\")","v":""},{"$f":"IF('Summary List'!R34<>\"\",'Summary List'!R34,\"\")","v":""},{"$f":"IF('Summary List'!S34<>\"\",'Summary List'!S34,\"\")","v":""},null,{"$f":"IF('Summary List'!M93<>\"\",'Summary List'!M93,\"\")","v":""},{"$f":"IF('Summary List'!N93<>\"\",'Summary List'!N93,\"\")","v":""},{"$f":"IF('Summary List'!O93<>\"\",'Summary List'!O93,\"\")","v":""},{"$f":"IF('Summary List'!P93<>\"\",'Summary List'!P93,\"\")","v":""},{"$f":"IF('Summary List'!Q93<>\"\",'Summary List'!Q93,\"\")","v":""},{"$f":"IF('Summary List'!R93<>\"\",'Summary List'!R93,\"\")","v":""},{"$f":"IF('Summary List'!S93<>\"\",'Summary List'!S93,\"\")","v":""},null,{"$f":"IF('Summary List'!M152<>\"\",'Summary List'!M152,\"\")","v":""},{"$f":"IF('Summary List'!N152<>\"\",'Summary List'!N152,\"\")","v":""},{"$f":"IF('Summary List'!O152<>\"\",'Summary List'!O152,\"\")","v":""},{"$f":"IF('Summary List'!P152<>\"\",'Summary List'!P152,\"\")","v":""},{"$f":"IF('Summary List'!Q152<>\"\",'Summary List'!Q152,\"\")","v":""},{"$f":"IF('Summary List'!R152<>\"\",'Summary List'!R152,\"\")","v":""},{"$f":"IF('Summary List'!S152<>\"\",'Summary List'!S152,\"\")","v":""}]
[null,null,{"$f":"IF('Summary List'!M35<>\"\",'Summary List'!M35,\"\")","v":""},{"$f":"IF('Summary List'!N35<>\"\",'Summary List'!N35,\"\")","v":""},{"$f":"IF('Summary List'!O35<>\"\",'Summary List'!O35,\"\")","v":""},{"$f":"IF('Summary List'!P35<>\"\",'Summary List'!P35,\"\")","v":""},{"$f":"IF('Summary List'!Q35<>\"\",'Summary List'!Q35,\"\")","v":""},{"$f":"IF('Summary List'!R35<>\"\",'Summary List'!R35,\"\")","v":""},{"$f":"IF('Summary List'!S35<>\"\",'Summary List'!S35,\"\")","v":""},null,{"$f":"IF('Summary List'!M94<>\"\",'Summary List'!M94,\"\")","v":""},{"$f":"IF('Summary List'!N94<>\"\",'Summary List'!N94,\"\")","v":""},{"$f":"IF('Summary List'!O94<>\"\",'Summary List'!O94,\"\")","v":""},{"$f":"IF('Summary List'!P94<>\"\",'Summary List'!P94,\"\")","v":""},{"$f":"IF('Summary List'!Q94<>\"\",'Summary List'!Q94,\"\")","v":""},{"$f":"IF('Summary List'!R94<>\"\",'Summary List'!R94,\"\")","v":""},{"$f":"IF('Summary List'!S94<>\"\",'Summary List'!S94,\"\")","v":""},null,{"$f":"IF('Summary List'!M153<>\"\",'Summary List'!M153,\"\")","v":""},{"$f":"IF('Summary List'!N153<>\"\",'Summary List'!N153,\"\")","v":""},{"$f":"IF('Summary List'!O153<>\"\",'Summary List'!O153,\"\")","v":""},{"$f":"IF('Summary List'!P153<>\"\",'Summary List'!P153,\"\")","v":""},{"$f":"IF('Summary List'!Q153<>\"\",'Summary List'!Q153,\"\")","v":""},{"$f":"IF('Summary List'!R153<>\"\",'Summary List'!R153,\"\")","v":""},{"$f":"IF('Summary List'!S153<>\"\",'Summary List'!S153,\"\")","v":""}]
[null,null,{"$f":"IF('Summary List'!M36<>\"\",'Summary List'!M36,\"\")","v":""},{"$f":"IF('Summary List'!N36<>\"\",'Summary List'!N36,\"\")","v":""},{"$f":"IF('Summary List'!O36<>\"\",'Summary List'!O36,\"\")","v":""},{"$f":"IF('Summary List'!P36<>\"\",'Summary List'!P36,\"\")","v":""},{"$f":"IF('Summary List'!Q36<>\"\",'Summary List'!Q36,\"\")","v":""},{"$f":"IF('Summary List'!R36<>\"\",'Summary List'!R36,\"\")","v":""},{"$f":"IF('Summary List'!S36<>\"\",'Summary List'!S36,\"\")","v":""},null,{"$f":"IF('Summary List'!M95<>\"\",'Summary List'!M95,\"\")","v":""},{"$f":"IF('Summary List'!N95<>\"\",'Summary List'!N95,\"\")","v":""},{"$f":"IF('Summary List'!O95<>\"\",'Summary List'!O95,\"\")","v":""},{"$f":"IF('Summary List'!P95<>\"\",'Summary List'!P95,\"\")","v":""},{"$f":"IF('Summary List'!Q95<>\"\",'Summary List'!Q95,\"\")","v":""},{"$f":"IF('Summary List'!R95<>\"\",'Summary List'!R95,\"\")","v":""},{"$f":"IF('Summary List'!S95<>\"\",'Summary List'!S95,\"\")","v":""},null,{"$f":"IF('Summary List'!M154<>\"\",'Summary List'!M154,\"\")","v":""},{"$f":"IF('Summary List'!N154<>\"\",'Summary List'!N154,\"\")","v":""},{"$f":"IF('Summary List'!O154<>\"\",'Summary List'!O154,\"\")","v":""},{"$f":"IF('Summary List'!P154<>\"\",'Summary List'!P154,\"\")","v":""},{"$f":"IF('Summary List'!Q154<>\"\",'Summary List'!Q154,\"\")","v":""},{"$f":"IF('Summary List'!R154<>\"\",'Summary List'!R154,\"\")","v":""},{"$f":"IF('Summary List'!S154<>\"\",'Summary List'!S154,\"\")","v":""}]
[null,null,{"$f":"IF('Summary List'!M37<>\"\",'Summary List'!M37,\"\")","v":""},{"$f":"IF('Summary List'!N37<>\"\",'Summary List'!N37,\"\")","v":""},{"$f":"IF('Summary List'!O37<>\"\",'Summary List'!O37,\"\")","v":""},{"$f":"IF('Summary List'!P37<>\"\",'Summary List'!P37,\"\")","v":""},{"$f":"IF('Summary List'!Q37<>\"\",'Summary List'!Q37,\"\")","v":""},{"$f":"IF('Summary List'!R37<>\"\",'Summary List'!R37,\"\")","v":""},{"$f":"IF('Summary List'!S37<>\"\",'Summary List'!S37,\"\")","v":""},null,{"$f":"IF('Summary List'!M96<>\"\",'Summary List'!M96,\"\")","v":""},{"$f":"IF('Summary List'!N96<>\"\",'Summary List'!N96,\"\")","v":""},{"$f":"IF('Summary List'!O96<>\"\",'Summary List'!O96,\"\")","v":""},{"$f":"IF('Summary List'!P96<>\"\",'Summary List'!P96,\"\")","v":""},{"$f":"IF('Summary List'!Q96<>\"\",'Summary List'!Q96,\"\")","v":""},{"$f":"IF('Summary List'!R96<>\"\",'Summary List'!R96,\"\")","v":""},{"$f":"IF('Summary List'!S96<>\"\",'Summary List'!S96,\"\")","v":""},null,{"$f":"IF('Summary List'!M155<>\"\",'Summary List'!M155,\"\")","v":""},{"$f":"IF('Summary List'!N155<>\"\",'Summary List'!N155,\"\")","v":""},{"$f":"IF('Summary List'!O155<>\"\",'Summary List'!O155,\"\")","v":""},{"$f":"IF('Summary List'!P155<>\"\",'Summary List'!P155,\"\")","v":""},{"$f":"IF('Summary List'!Q155<>\"\",'Summary List'!Q155,\"\")","v":""},{"$f":"IF('Summary List'!R155<>\"\",'Summary List'!R155,\"\")","v":""},{"$f":"IF('Summary List'!S155<>\"\",'Summary List'!S155,\"\")","v":""}]
[null,null,{"$f":"IF('Summary List'!M38<>\"\",'Summary List'!M38,\"\")","v":""},{"$f":"IF('Summary List'!N38<>\"\",'Summary List'!N38,\"\")","v":""},{"$f":"IF('Summary List'!O38<>\"\",'Summary List'!O38,\"\")","v":""},{"$f":"IF('Summary List'!P38<>\"\",'Summary List'!P38,\"\")","v":""},{"$f":"IF('Summary List'!Q38<>\"\",'Summary List'!Q38,\"\")","v":""},{"$f":"IF('Summary List'!R38<>\"\",'Summary List'!R38,\"\")","v":""},{"$f":"IF('Summary List'!S38<>\"\",'Summary List'!S38,\"\")","v":""},null,{"$f":"IF('Summary List'!M97<>\"\",'Summary List'!M97,\"\")","v":""},{"$f":"IF('Summary List'!N97<>\"\",'Summary List'!N97,\"\")","v":""},{"$f":"IF('Summary List'!O97<>\"\",'Summary List'!O97,\"\")","v":""},{"$f":"IF('Summary List'!P97<>\"\",'Summary List'!P97,\"\")","v":""},{"$f":"IF('Summary List'!Q97<>\"\",'Summary List'!Q97,\"\")","v":""},{"$f":"IF('Summary List'!R97<>\"\",'Summary List'!R97,\"\")","v":""},{"$f":"IF('Summary List'!S97<>\"\",'Summary List'!S97,\"\")","v":""},null,{"$f":"IF('Summary List'!M156<>\"\",'Summary List'!M156,\"\")","v":""},{"$f":"IF('Summary List'!N156<>\"\",'Summary List'!N156,\"\")","v":""},{"$f":"IF('Summary List'!O156<>\"\",'Summary List'!O156,\"\")","v":""},{"$f":"IF('Summary List'!P156<>\"\",'Summary List'!P156,\"\")","v":""},{"$f":"IF('Summary List'!Q156<>\"\",'Summary List'!Q156,\"\")","v":""},{"$f":"IF('Summary List'!R156<>\"\",'Summary List'!R156,\"\")","v":""},{"$f":"IF('Summary List'!S156<>\"\",'Summary List'!S156,\"\")","v":""}]
[null,null,{"$f":"IF('Summary List'!M39<>\"\",'Summary List'!M39,\"\")","v":""},{"$f":"IF('Summary List'!N39<>\"\",'Summary List'!N39,\"\")","v":""},{"$f":"IF('Summary List'!O39<>\"\",'Summary List'!O39,\"\")","v":""},{"$f":"IF('Summary List'!P39<>\"\",'Summary List'!P39,\"\")","v":""},{"$f":"IF('Summary List'!Q39<>\"\",'Summary List'!Q39,\"\")","v":""},{"$f":"IF('Summary List'!R39<>\"\",'Summary List'!R39,\"\")","v":""},{"$f":"IF('Summary List'!S39<>\"\",'Summary List'!S39,\"\")","v":""},null,{"$f":"IF('Summary List'!M98<>\"\",'Summary List'!M98,\"\")","v":""},{"$f":"IF('Summary List'!N98<>\"\",'Summary List'!N98,\"\")","v":""},{"$f":"IF('Summary List'!O98<>\"\",'Summary List'!O98,\"\")","v":""},{"$f":"IF('Summary List'!P98<>\"\",'Summary List'!P98,\"\")","v":""},{"$f":"IF('Summary List'!Q98<>\"\",'Summary List'!Q98,\"\")","v":""},{"$f":"IF('Summary List'!R98<>\"\",'Summary List'!R98,\"\")","v":""},{"$f":"IF('Summary List'!S98<>\"\",'Summary List'!S98,\"\")","v":""},null,{"$f":"IF('Summary List'!M157<>\"\",'Summary List'!M157,\"\")","v":""},{"$f":"IF('Summary List'!N157<>\"\",'Summary List'!N157,\"\")","v":""},{"$f":"IF('Summary List'!O157<>\"\",'Summary List'!O157,\"\")","v":""},{"$f":"IF('Summary List'!P157<>\"\",'Summary List'!P157,\"\")","v":""},{"$f":"IF('Summary List'!Q157<>\"\",'Summary List'!Q157,\"\")","v":""},{"$f":"IF('Summary List'!R157<>\"\",'Summary List'!R157,\"\")","v":""},{"$f":"IF('Summary List'!S157<>\"\",'Summary List'!S157,\"\")","v":""}]
[null,null,{"$f":"IF('Summary List'!M40<>\"\",'Summary List'!M40,\"\")","v":""},{"$f":"IF('Summary List'!N40<>\"\",'Summary List'!N40,\"\")","v":""},{"$f":"IF('Summary List'!O40<>\"\",'Summary List'!O40,\"\")","v":""},{"$f":"IF('Summary List'!P40<>\"\",'Summary List'!P40,\"\")","v":""},{"$f":"IF('Summary List'!Q40<>\"\",'Summary List'!Q40,\"\")","v":""},{"$f":"IF('Summary List'!R40<>\"\",'Summary List'!R40,\"\")","v":""},{"$f":"IF('Summary List'!S40<>\"\",'Summary List'!S40,\"\")","v":""},null,{"$f":"IF('Summary List'!M99<>\"\",'Summary List'!M99,\"\")","v":""},{"$f":"IF('Summary List'!N99<>\"\",'Summary List'!N99,\"\")","v":""},{"$f":"IF('Summary List'!O99<>\"\",'Summary List'!O99,\"\")","v":""},{"$f":"IF('Summary List'!P99<>\"\",'Summary List'!P99,\"\")","v":""},{"$f":"IF('Summary List'!Q99<>\"\",'Summary List'!Q99,\"\")","v":""},{"$f":"IF('Summary List'!R99<>\"\",'Summary List'!R99,\"\")","v":""},{"$f":"IF('Summary List'!S99<>\"\",'Summary List'!S99,\"\")","v":""},null,{"$f":"IF('Summary List'!M158<>\"\",'Summary List'!M158,\"\")","v":""},{"$f":"IF('Summary List'!N158<>\"\",'Summary List'!N158,\"\")","v":""},{"$f":"IF('Summary List'!O158<>\"\",'Summary List'!O158,\"\")","v":""},{"$f":"IF('Summary List'!P158<>\"\",'Summary List'!P158,\"\")","v":""},{"$f":"IF('Summary List'!Q158<>\"\",'Summary List'!Q158,\"\")","v":""},{"$f":"IF('Summary List'!R158<>\"\",'Summary List'!R158,\"\")","v":""},{"$f":"IF('Summary List'!S158<>\"\",'Summary List'!S158,\"\")","v":""}]
[null,null,{"$f":"IF('Summary List'!M41<>\"\",'Summary List'!M41,\"\")","v":""},{"$f":"IF('Summary List'!N41<>\"\",'Summary List'!N41,\"\")","v":""},{"$f":"IF('Summary List'!O41<>\"\",'Summary List'!O41,\"\")","v":""},{"$f":"IF('Summary List'!P41<>\"\",'Summary List'!P41,\"\")","v":""},{"$f":"IF('Summary List'!Q41<>\"\",'Summary List'!Q41,\"\")","v":""},{"$f":"IF('Summary List'!R41<>\"\",'Summary List'!R41,\"\")","v":""},{"$f":"IF('Summary List'!S41<>\"\",'Summary List'!S41,\"\")","v":""},null,{"$f":"IF('Summary List'!M100<>\"\",'Summary List'!M100,\"\")","v":""},{"$f":"IF('Summary List'!N100<>\"\",'Summary List'!N100,\"\")","v":""},{"$f":"IF('Summary List'!O100<>\"\",'Summary List'!O100,\"\")","v":""},{"$f":"IF('Summary List'!P100<>\"\",'Summary List'!P100,\"\")","v":""},{"$f":"IF('Summary List'!Q100<>\"\",'Summary List'!Q100,\"\")","v":""},{"$f":"IF('Summary List'!R100<>\"\",'Summary List'!R100,\"\")","v":""},{"$f":"IF('Summary List'!S100<>\"\",'Summary List'!S100,\"\")","v":""},null,{"$f":"IF('Summary List'!M159<>\"\",'Summary List'!M159,\"\")","v":""},{"$f":"IF('Summary List'!N159<>\"\",'Summary List'!N159,\"\")","v":""},{"$f":"IF('Summary List'!O159<>\"\",'Summary List'!O159,\"\")","v":""},{"$f":"IF('Summary List'!P159<>\"\",'Summary List'!P159,\"\")","v":""},{"$f":"IF('Summary List'!Q159<>\"\",'Summary List'!Q159,\"\")","v":""},{"$f":"IF('Summary List'!R159<>\"\",'Summary List'!R159,\"\")","v":""},{"$f":"IF('Summary List'!S159<>\"\",'Summary List'!S159,\"\")","v":""}]
[null,null,{"$f":"IF('Summary List'!M42<>\"\",'Summary List'!M42,\"\")","v":""},{"$f":"IF('Summary List'!N42<>\"\",'Summary List'!N42,\"\")","v":""},{"$f":"IF('Summary List'!O42<>\"\",'Summary List'!O42,\"\")","v":""},{"$f":"IF('Summary List'!P42<>\"\",'Summary List'!P42,\"\")","v":""},{"$f":"IF('Summary List'!Q42<>\"\",'Summary List'!Q42,\"\")","v":""},{"$f":"IF('Summary List'!R42<>\"\",'Summary List'!R42,\"\")","v":""},{"$f":"IF('Summary List'!S42<>\"\",'Summary List'!S42,\"\")","v":""},null,{"$f":"IF('Summary List'!M101<>\"\",'Summary List'!M101,\"\")","v":""},{"$f":"IF('Summary List'!N101<>\"\",'Summary List'!N101,\"\")","v":""},{"$f":"IF('Summary List'!O101<>\"\",'Summary List'!O101,\"\")","v":""},{"$f":"IF('Summary List'!P101<>\"\",'Summary List'!P101,\"\")","v":""},{"$f":"IF('Summary List'!Q101<>\"\",'Summary List'!Q101,\"\")","v":""},{"$f":"IF('Summary List'!R101<>\"\",'Summary List'!R101,\"\")","v":""},{"$f":"IF('Summary List'!S101<>\"\",'Summary List'!S101,\"\")","v":""},null,{"$f":"IF('Summary List'!M160<>\"\",'Summary List'!M160,\"\")","v":""},{"$f":"IF('Summary List'!N160<>\"\",'Summary List'!N160,\"\")","v":""},{"$f":"IF('Summary List'!O160<>\"\",'Summary List'!O160,\"\")","v":""},{"$f":"IF('Summary List'!P160<>\"\",'Summary List'!P160,\"\")","v":""},{"$f":"IF('Summary List'!Q160<>\"\",'Summary List'!Q160,\"\")","v":""},{"$f":"IF('Summary List'!R160<>\"\",'Summary List'!R160,\"\")","v":""},{"$f":"IF('Summary List'!S160<>\"\",'Summary List'!S160,\"\")","v":""}]
[null,null,{"$f":"IF('Summary List'!M43<>\"\",'Summary List'!M43,\"\")","v":""},{"$f":"IF('Summary List'!N43<>\"\",'Summary List'!N43,\"\")","v":""},{"$f":"IF('Summary List'!O43<>\"\",'Summary List'!O43,\"\")","v":""},{"$f":"IF('Summary List'!P43<>\"\",'Summary List'!P43,\"\")","v":""},{"$f":"IF('Summary List'!Q43<>\"\",'Summary List'!Q43,\"\")","v":""},{"$f":"IF('Summary List'!R43<>\"\",'Summary List'!R43,\"\")","v":""},{"$f":"IF('Summary List'!S43<>\"\",'Summary List'!S43,\"\")","v":""},null,{"$f":"IF('Summary List'!M102<>\"\",'Summary List'!M102,\"\")","v":""},{"$f":"IF('Summary List'!N102<>\"\",'Summary List'!N102,\"\")","v":""},{"$f":"IF('Summary List'!O102<>\"\",'Summary List'!O102,\"\")","v":""},{"$f":"IF('Summary List'!P102<>\"\",'Summary List'!P102,\"\")","v":""},{"$f":"IF('Summary List'!Q102<>\"\",'Summary List'!Q102,\"\")","v":""},{"$f":"IF('Summary List'!R102<>\"\",'Summary List'!R102,\"\")","v":""},{"$f":"IF('Summary List'!S102<>\"\",'Summary List'!S102,\"\")","v":""},null,{"$f":"IF('Summary List'!M161<>\"\",'Summary List'!M161,\"\")","v":""},{"$f":"IF('Summary List'!N161<>\"\",'Summary List'!N161,\"\")","v":""},{"$f":"IF('Summary List'!O161<>\"\",'Summary List'!O161,\"\")","v":""},{"$f":"IF('Summary List'!P161<>\"\",'Summary List'!P161,\"\")","v":""},{"$f":"IF('Summary List'!Q161<>\"\",'Summary List'!Q161,\"\")","v":""},{"$f":"IF('Summary List'!R161<>\"\",'Summary List'!R161,\"\")","v":""},{"$f":"IF('Summary List'!S161<>\"\",'Summary List'!S161,\"\")","v":""}]
[null,null,{"$f":"IF('Summary List'!M44<>\"\",'Summary List'!M44,\"\")","v":""},{"$f":"IF('Summary List'!N44<>\"\",'Summary List'!N44,\"\")","v":""},{"$f":"IF('Summary List'!O44<>\"\",'Summary List'!O44,\"\")","v":""},{"$f":"IF('Summary List'!P44<>\"\",'Summary List'!P44,\"\")","v":""},{"$f":"IF('Summary List'!Q44<>\"\",'Summary List'!Q44,\"\")","v":""},{"$f":"IF('Summary List'!R44<>\"\",'Summary List'!R44,\"\")","v":""},{"$f":"IF('Summary List'!S44<>\"\",'Summary List'!S44,\"\")","v":""},null,{"$f":"IF('Summary List'!M103<>\"\",'Summary List'!M103,\"\")","v":""},{"$f":"IF('Summary List'!N103<>\"\",'Summary List'!N103,\"\")","v":""},{"$f":"IF('Summary List'!O103<>\"\",'Summary List'!O103,\"\")","v":""},{"$f":"IF('Summary List'!P103<>\"\",'Summary List'!P103,\"\")","v":""},{"$f":"IF('Summary List'!Q103<>\"\",'Summary List'!Q103,\"\")","v":""},{"$f":"IF('Summary List'!R103<>\"\",'Summary List'!R103,\"\")","v":""},{"$f":"IF('Summary List'!S103<>\"\",'Summary List'!S103,\"\")","v":""},null,{"$f":"IF('Summary List'!M162<>\"\",'Summary List'!M162,\"\")","v":""},{"$f":"IF('Summary List'!N162<>\"\",'Summary List'!N162,\"\")","v":""},{"$f":"IF('Summary List'!O162<>\"\",'Summary List'!O162,\"\")","v":""},{"$f":"IF('Summary List'!P162<>\"\",'Summary List'!P162,\"\")","v":""},{"$f":"IF('Summary List'!Q162<>\"\",'Summary List'!Q162,\"\")","v":""},{"$f":"IF('Summary List'!R162<>\"\",'Summary List'!R162,\"\")","v":""},{"$f":"IF('Summary List'!S162<>\"\",'Summary List'!S162,\"\")","v":""}]
[null,null,{"$f":"IF('Summary List'!M45<>\"\",'Summary List'!M45,\"\")","v":""},{"$f":"IF('Summary List'!N45<>\"\",'Summary List'!N45,\"\")","v":""},{"$f":"IF('Summary List'!O45<>\"\",'Summary List'!O45,\"\")","v":""},{"$f":"IF('Summary List'!P45<>\"\",'Summary List'!P45,\"\")","v":""},{"$f":"IF('Summary List'!Q45<>\"\",'Summary List'!Q45,\"\")","v":""},{"$f":"IF('Summary List'!R45<>\"\",'Summary List'!R45,\"\")","v":""},{"$f":"IF('Summary List'!S45<>\"\",'Summary List'!S45,\"\")","v":""},null,{"$f":"IF('Summary List'!M104<>\"\",'Summary List'!M104,\"\")","v":""},{"$f":"IF('Summary List'!N104<>\"\",'Summary List'!N104,\"\")","v":""},{"$f":"IF('Summary List'!O104<>\"\",'Summary List'!O104,\"\")","v":""},{"$f":"IF('Summary List'!P104<>\"\",'Summary List'!P104,\"\")","v":""},{"$f":"IF('Summary List'!Q104<>\"\",'Summary List'!Q104,\"\")","v":""},{"$f":"IF('Summary List'!R104<>\"\",'Summary List'!R104,\"\")","v":""},{"$f":"IF('Summary List'!S104<>\"\",'Summary List'!S104,\"\")","v":""},null,{"$f":"IF('Summary List'!M163<>\"\",'Summary List'!M163,\"\")","v":""},{"$f":"IF('Summary List'!N163<>\"\",'Summary List'!N163,\"\")","v":""},{"$f":"IF('Summary List'!O163<>\"\",'Summary List'!O163,\"\")","v":""},{"$f":"IF('Summary List'!P163<>\"\",'Summary List'!P163,\"\")","v":""},{"$f":"IF('Summary List'!Q163<>\"\",'Summary List'!Q163,\"\")","v":""},{"$f":"IF('Summary List'!R163<>\"\",'Summary List'!R163,\"\")","v":""},{"$f":"IF('Summary List'!S163<>\"\",'Summary List'!S163,\"\")","v":""}]
[null,null,{"$f":"IF('Summary List'!M46<>\"\",'Summary List'!M46,\"\")","v":""},{"$f":"IF('Summary List'!N46<>\"\",'Summary List'!N46,\"\")","v":""},{"$f":"IF('Summary List'!O46<>\"\",'Summary List'!O46,\"\")","v":""},{"$f":"IF('Summary List'!P46<>\"\",'Summary List'!P46,\"\")","v":""},{"$f":"IF('Summary List'!Q46<>\"\",'Summary List'!Q46,\"\")","v":""},{"$f":"IF('Summary List'!R46<>\"\",'Summary List'!R46,\"\")","v":""},{"$f":"IF('Summary List'!S46<>\"\",'Summary List'!S46,\"\")","v":""},null,{"$f":"IF('Summary List'!M105<>\"\",'Summary List'!M105,\"\")","v":""},{"$f":"IF('Summary List'!N105<>\"\",'Summary List'!N105,\"\")","v":""},{"$f":"IF('Summary List'!O105<>\"\",'Summary List'!O105,\"\")","v":""},{"$f":"IF('Summary List'!P105<>\"\",'Summary List'!P105,\"\")","v":""},{"$f":"IF('Summary List'!Q105<>\"\",'Summary List'!Q105,\"\")","v":""},{"$f":"IF('Summary List'!R105<>\"\",'Summary List'!R105,\"\")","v":""},{"$f":"IF('Summary List'!S105<>\"\",'Summary List'!S105,\"\")","v":""},null,{"$f":"IF('Summary List'!M164<>\"\",'Summary List'!M164,\"\")","v":""},{"$f":"IF('Summary List'!N164<>\"\",'Summary List'!N164,\"\")","v":""},{"$f":"IF('Summary List'!O164<>\"\",'Summary List'!O164,\"\")","v":""},{"$f":"IF('Summary List'!P164<>\"\",'Summary List'!P164,\"\")","v":""},{"$f":"IF('Summary List'!Q164<>\"\",'Summary List'!Q164,\"\")","v":""},{"$f":"IF('Summary List'!R164<>\"\",'Summary List'!R164,\"\")","v":""},{"$f":"IF('Summary List'!S164<>\"\",'Summary List'!S164,\"\")","v":""}]
[null,null,{"$f":"IF('Summary List'!M47<>\"\",'Summary List'!M47,\"\")","v":""},{"$f":"IF('Summary List'!N47<>\"\",'Summary List'!N47,\"\")","v":""},{"$f":"IF('Summary List'!O47<>\"\",'Summary List'!O47,\"\")","v":""},{"$f":"IF('Summary List'!P47<>\"\",'Summary List'!P47,\"\")","v":""},{"$f":"IF('Summary List'!Q47<>\"\",'Summary List'!Q47,\"\")","v":""},{"$f":"IF('Summary List'!R47<>\"\",'Summary List'!R47,\"\")","v":""},{"$f":"IF('Summary List'!S47<>\"\",'Summary List'!S47,\"\")","v":""},null,{"$f":"IF('Summary List'!M106<>\"\",'Summary List'!M106,\"\")","v":""},{"$f":"IF('Summary List'!N106<>\"\",'Summary List'!N106,\"\")","v":""},{"$f":"IF('Summary List'!O106<>\"\",'Summary List'!O106,\"\")","v":""},{"$f":"IF('Summary List'!P106<>\"\",'Summary List'!P106,\"\")","v":""},{"$f":"IF('Summary List'!Q106<>\"\",'Summary List'!Q106,\"\")","v":""},{"$f":"IF('Summary List'!R106<>\"\",'Summary List'!R106,\"\")","v":""},{"$f":"IF('Summary List'!S106<>\"\",'Summary List'!S106,\"\")","v":""},null,{"$f":"IF('Summary List'!M165<>\"\",'Summary List'!M165,\"\")","v":""},{"$f":"IF('Summary List'!N165<>\"\",'Summary List'!N165,\"\")","v":""},{"$f":"IF('Summary List'!O165<>\"\",'Summary List'!O165,\"\")","v":""},{"$f":"IF('Summary List'!P165<>\"\",'Summary List'!P165,\"\")","v":""},{"$f":"IF('Summary List'!Q165<>\"\",'Summary List'!Q165,\"\")","v":""},{"$f":"IF('Summary List'!R165<>\"\",'Summary List'!R165,\"\")","v":""},{"$f":"IF('Summary List'!S165<>\"\",'Summary List'!S165,\"\")","v":""}]
[null,null,{"$f":"IF('Summary List'!M48<>\"\",'Summary List'!M48,\"\")","v":""},{"$f":"IF('Summary List'!N48<>\"\",'Summary List'!N48,\"\")","v":""},{"$f":"IF('Summary List'!O48<>\"\",'Summary List'!O48,\"\")","v":""},{"$f":"IF('Summary List'!P48<>\"\",'Summary List'!P48,\"\")","v":""},{"$f":"IF('Summary List'!Q48<>\"\",'Summary List'!Q48,\"\")","v":""},{"$f":"IF('Summary List'!R48<>\"\",'Summary List'!R48,\"\")","v":""},{"$f":"IF('Summary List'!S48<>\"\",'Summary List'!S48,\"\")","v":""},null,{"$f":"IF('Summary List'!M107<>\"\",'Summary List'!M107,\"\")","v":""},{"$f":"IF('Summary List'!N107<>\"\",'Summary List'!N107,\"\")","v":""},{"$f":"IF('Summary List'!O107<>\"\",'Summary List'!O107,\"\")","v":""},{"$f":"IF('Summary List'!P107<>\"\",'Summary List'!P107,\"\")","v":""},{"$f":"IF('Summary List'!Q107<>\"\",'Summary List'!Q107,\"\")","v":""},{"$f":"IF('Summary List'!R107<>\"\",'Summary List'!R107,\"\")","v":""},{"$f":"IF('Summary List'!S107<>\"\",'Summary List'!S107,\"\")","v":""},null,{"$f":"IF('Summary List'!M166<>\"\",'Summary List'!M166,\"\")","v":""},{"$f":"IF('Summary List'!N166<>\"\",'Summary List'!N166,\"\")","v":""},{"$f":"IF('Summary List'!O166<>\"\",'Summary List'!O166,\"\")","v":""},{"$f":"IF('Summary List'!P166<>\"\",'Summary List'!P166,\"\")","v":""},{"$f":"IF('Summary List'!Q166<>\"\",'Summary List'!Q166,\"\")","v":""},{"$f":"IF('Summary List'!R166<>\"\",'Summary List'!R166,\"\")","v":""},{"$f":"IF('Summary List'!S166<>\"\",'Summary List'!S166,\"\")","v":""}]
[null,null,{"$f":"IF('Summary List'!M49<>\"\",'Summary List'!M49,\"\")","v":""},{"$f":"IF('Summary List'!N49<>\"\",'Summary List'!N49,\"\")","v":""},{"$f":"IF('Summary List'!O49<>\"\",'Summary List'!O49,\"\")","v":""},{"$f":"IF('Summary List'!P49<>\"\",'Summary List'!P49,\"\")","v":""},{"$f":"IF('Summary List'!Q49<>\"\",'Summary List'!Q49,\"\")","v":""},{"$f":"IF('Summary List'!R49<>\"\",'Summary List'!R49,\"\")","v":""},{"$f":"IF('Summary List'!S49<>\"\",'Summary List'!S49,\"\")","v":""},null,{"$f":"IF('Summary List'!M108<>\"\",'Summary List'!M108,\"\")","v":""},{"$f":"IF('Summary List'!N108<>\"\",'Summary List'!N108,\"\")","v":""},{"$f":"IF('Summary List'!O108<>\"\",'Summary List'!O108,\"\")","v":""},{"$f":"IF('Summary List'!P108<>\"\",'Summary List'!P108,\"\")","v":""},{"$f":"IF('Summary List'!Q108<>\"\",'Summary List'!Q108,\"\")","v":""},{"$f":"IF('Summary List'!R108<>\"\",'Summary List'!R108,\"\")","v":""},{"$f":"IF('Summary List'!S108<>\"\",'Summary List'!S108,\"\")","v":""},null,{"$f":"IF('Summary List'!M167<>\"\",'Summary List'!M167,\"\")","v":""},{"$f":"IF('Summary List'!N167<>\"\",'Summary List'!N167,\"\")","v":""},{"$f":"IF('Summary List'!O167<>\"\",'Summary List'!O167,\"\")","v":""},{"$f":"IF('Summary List'!P167<>\"\",'Summary List'!P167,\"\")","v":""},{"$f":"IF('Summary List'!Q167<>\"\",'Summary List'!Q167,\"\")","v":""},{"$f":"IF('Summary List'!R167<>\"\",'Summary List'!R167,\"\")","v":""},{"$f":"IF('Summary List'!S167<>\"\",'Summary List'!S167,\"\")","v":""}]
[null,null,{"$f":"IF('Summary List'!M50<>\"\",'Summary List'!M50,\"\")","v":""},{"$f":"IF('Summary List'!N50<>\"\",'Summary List'!N50,\"\")","v":""},{"$f":"IF('Summary List'!O50<>\"\",'Summary List'!O50,\"\")","v":""},{"$f":"IF('Summary List'!P50<>\"\",'Summary List'!P50,\"\")","v":""},{"$f":"IF('Summary List'!Q50<>\"\",'Summary List'!Q50,\"\")","v":""},{"$f":"IF('Summary List'!R50<>\"\",'Summary List'!R50,\"\")","v":""},{"$f":"IF('Summary List'!S50<>\"\",'Summary List'!S50,\"\")","v":""},null,{"$f":"IF('Summary List'!M109<>\"\",'Summary List'!M109,\"\")","v":""},{"$f":"IF('Summary List'!N109<>\"\",'Summary List'!N109,\"\")","v":""},{"$f":"IF('Summary List'!O109<>\"\",'Summary List'!O109,\"\")","v":""},{"$f":"IF('Summary List'!P109<>\"\",'Summary List'!P109,\"\")","v":""},{"$f":"IF('Summary List'!Q109<>\"\",'Summary List'!Q109,\"\")","v":""},{"$f":"IF('Summary List'!R109<>\"\",'Summary List'!R109,\"\")","v":""},{"$f":"IF('Summary List'!S109<>\"\",'Summary List'!S109,\"\")","v":""},null,{"$f":"IF('Summary List'!M168<>\"\",'Summary List'!M168,\"\")","v":""},{"$f":"IF('Summary List'!N168<>\"\",'Summary List'!N168,\"\")","v":""},{"$f":"IF('Summary List'!O168<>\"\",'Summary List'!O168,\"\")","v":""},{"$f":"IF('Summary List'!P168<>\"\",'Summary List'!P168,\"\")","v":""},{"$f":"IF('Summary List'!Q168<>\"\",'Summary List'!Q168,\"\")","v":""},{"$f":"IF('Summary List'!R168<>\"\",'Summary List'!R168,\"\")","v":""},{"$f":"IF('Summary List'!S168<>\"\",'Summary List'!S168,\"\")","v":""}]
[null,null,{"$f":"IF('Summary List'!M51<>\"\",'Summary List'!M51,\"\")","v":""},{"$f":"IF('Summary List'!N51<>\"\",'Summary List'!N51,\"\")","v":""},{"$f":"IF('Summary List'!O51<>\"\",'Summary List'!O51,\"\")","v":""},{"$f":"IF('Summary List'!P51<>\"\",'Summary List'!P51,\"\")","v":""},{"$f":"IF('Summary List'!Q51<>\"\",'Summary List'!Q51,\"\")","v":""},{"$f":"IF('Summary List'!R51<>\"\",'Summary List'!R51,\"\")","v":""},{"$f":"IF('Summary List'!S51<>\"\",'Summary List'!S51,\"\")","v":""},null,{"$f":"IF('Summary List'!M110<>\"\",'Summary List'!M110,\"\")","v":""},{"$f":"IF('Summary List'!N110<>\"\",'Summary List'!N110,\"\")","v":""},{"$f":"IF('Summary List'!O110<>\"\",'Summary List'!O110,\"\")","v":""},{"$f":"IF('Summary List'!P110<>\"\",'Summary List'!P110,\"\")","v":""},{"$f":"IF('Summary List'!Q110<>\"\",'Summary List'!Q110,\"\")","v":""},{"$f":"IF('Summary List'!R110<>\"\",'Summary List'!R110,\"\")","v":""},{"$f":"IF('Summary List'!S110<>\"\",'Summary List'!S110,\"\")","v":""},null,{"$f":"IF('Summary List'!M169<>\"\",'Summary List'!M169,\"\")","v":""},{"$f":"IF('Summary List'!N169<>\"\",'Summary List'!N169,\"\")","v":""},{"$f":"IF('Summary List'!O169<>\"\",'Summary List'!O169,\"\")","v":""},{"$f":"IF('Summary List'!P169<>\"\",'Summary List'!P169,\"\")","v":""},{"$f":"IF('Summary List'!Q169<>\"\",'Summary List'!Q169,\"\")","v":""},{"$f":"IF('Summary List'!R169<>\"\",'Summary List'!R169,\"\")","v":""},{"$f":"IF('Summary List'!S169<>\"\",'Summary List'!S169,\"\")","v":""}]
[null,null,{"$f":"IF('Summary List'!M52<>\"\",'Summary List'!M52,\"\")","v":""},{"$f":"IF('Summary List'!N52<>\"\",'Summary List'!N52,\"\")","v":""},{"$f":"IF('Summary List'!O52<>\"\",'Summary List'!O52,\"\")","v":""},{"$f":"IF('Summary List'!P52<>\"\",'Summary List'!P52,\"\")","v":""},{"$f":"IF('Summary List'!Q52<>\"\",'Summary List'!Q52,\"\")","v":""},{"$f":"IF('Summary List'!R52<>\"\",'Summary List'!R52,\"\")","v":""},{"$f":"IF('Summary List'!S52<>\"\",'Summary List'!S52,\"\")","v":""},null,{"$f":"IF('Summary List'!M111<>\"\",'Summary List'!M111,\"\")","v":""},{"$f":"IF('Summary List'!N111<>\"\",'Summary List'!N111,\"\")","v":""},{"$f":"IF('Summary List'!O111<>\"\",'Summary List'!O111,\"\")","v":""},{"$f":"IF('Summary List'!P111<>\"\",'Summary List'!P111,\"\")","v":""},{"$f":"IF('Summary List'!Q111<>\"\",'Summary List'!Q111,\"\")","v":""},{"$f":"IF('Summary List'!R111<>\"\",'Summary List'!R111,\"\")","v":""},{"$f":"IF('Summary List'!S111<>\"\",'Summary List'!S111,\"\")","v":""},null,{"$f":"IF('Summary List'!M170<>\"\",'Summary List'!M170,\"\")","v":""},{"$f":"IF('Summary List'!N170<>\"\",'Summary List'!N170,\"\")","v":""},{"$f":"IF('Summary List'!O170<>\"\",'Summary List'!O170,\"\")","v":""},{"$f":"IF('Summary List'!P170<>\"\",'Summary List'!P170,\"\")","v":""},{"$f":"IF('Summary List'!Q170<>\"\",'Summary List'!Q170,\"\")","v":""},{"$f":"IF('Summary List'!R170<>\"\",'Summary List'!R170,\"\")","v":""},{"$f":"IF('Summary List'!S170<>\"\",'Summary List'!S170,\"\")","v":""}]
[null,null,{"$f":"IF('Summary List'!M53<>\"\",'Summary List'!M53,\"\")","v":""},{"$f":"IF('Summary List'!N53<>\"\",'Summary List'!N53,\"\")","v":""},{"$f":"IF('Summary List'!O53<>\"\",'Summary List'!O53,\"\")","v":""},{"$f":"IF('Summary List'!P53<>\"\",'Summary List'!P53,\"\")","v":""},{"$f":"IF('Summary List'!Q53<>\"\",'Summary List'!Q53,\"\")","v":""},{"$f":"IF('Summary List'!R53<>\"\",'Summary List'!R53,\"\")","v":""},{"$f":"IF('Summary List'!S53<>\"\",'Summary List'!S53,\"\")","v":""},null,{"$f":"IF('Summary List'!M112<>\"\",'Summary List'!M112,\"\")","v":""},{"$f":"IF('Summary List'!N112<>\"\",'Summary List'!N112,\"\")","v":""},{"$f":"IF('Summary List'!O112<>\"\",'Summary List'!O112,\"\")","v":""},{"$f":"IF('Summary List'!P112<>\"\",'Summary List'!P112,\"\")","v":""},{"$f":"IF('Summary List'!Q112<>\"\",'Summary List'!Q112,\"\")","v":""},{"$f":"IF('Summary List'!R112<>\"\",'Summary List'!R112,\"\")","v":""},{"$f":"IF('Summary List'!S112<>\"\",'Summary List'!S112,\"\")","v":""},null,{"$f":"IF('Summary List'!M171<>\"\",'Summary List'!M171,\"\")","v":""},{"$f":"IF('Summary List'!N171<>\"\",'Summary List'!N171,\"\")","v":""},{"$f":"IF('Summary List'!O171<>\"\",'Summary List'!O171,\"\")","v":""},{"$f":"IF('Summary List'!P171<>\"\",'Summary List'!P171,\"\")","v":""},{"$f":"IF('Summary List'!Q171<>\"\",'Summary List'!Q171,\"\")","v":""},{"$f":"IF('Summary List'!R171<>\"\",'Summary List'!R171,\"\")","v":""},{"$f":"IF('Summary List'!S171<>\"\",'Summary List'!S171,\"\")","v":""}]
[null,null,{"$f":"IF('Summary List'!M54<>\"\",'Summary List'!M54,\"\")","v":""},{"$f":"IF('Summary List'!N54<>\"\",'Summary List'!N54,\"\")","v":""},{"$f":"IF('Summary List'!O54<>\"\",'Summary List'!O54,\"\")","v":""},{"$f":"IF('Summary List'!P54<>\"\",'Summary List'!P54,\"\")","v":""},{"$f":"IF('Summary List'!Q54<>\"\",'Summary List'!Q54,\"\")","v":""},{"$f":"IF('Summary List'!R54<>\"\",'Summary List'!R54,\"\")","v":""},{"$f":"IF('Summary List'!S54<>\"\",'Summary List'!S54,\"\")","v":""},null,{"$f":"IF('Summary List'!M113<>\"\",'Summary List'!M113,\"\")","v":""},{"$f":"IF('Summary List'!N113<>\"\",'Summary List'!N113,\"\")","v":""},{"$f":"IF('Summary List'!O113<>\"\",'Summary List'!O113,\"\")","v":""},{"$f":"IF('Summary List'!P113<>\"\",'Summary List'!P113,\"\")","v":""},{"$f":"IF('Summary List'!Q113<>\"\",'Summary List'!Q113,\"\")","v":""},{"$f":"IF('Summary List'!R113<>\"\",'Summary List'!R113,\"\")","v":""},{"$f":"IF('Summary List'!S113<>\"\",'Summary List'!S113,\"\")","v":""},null,{"$f":"IF('Summary List'!M172<>\"\",'Summary List'!M172,\"\")","v":""},{"$f":"IF('Summary List'!N172<>\"\",'Summary List'!N172,\"\")","v":""},{"$f":"IF('Summary List'!O172<>\"\",'Summary List'!O172,\"\")","v":""},{"$f":"IF('Summary List'!P172<>\"\",'Summary List'!P172,\"\")","v":""},{"$f":"IF('Summary List'!Q172<>\"\",'Summary List'!Q172,\"\")","v":""},{"$f":"IF('Summary List'!R172<>\"\",'Summary List'!R172,\"\")","v":""},{"$f":"IF('Summary List'!S172<>\"\",'Summary List'!S172,\"\")","v":""}]
[null,null,{"$f":"IF('Summary List'!M55<>\"\",'Summary List'!M55,\"\")","v":""},{"$f":"IF('Summary List'!N55<>\"\",'Summary List'!N55,\"\")","v":""},{"$f":"IF('Summary List'!O55<>\"\",'Summary List'!O55,\"\")","v":""},{"$f":"IF('Summary List'!P55<>\"\",'Summary List'!P55,\"\")","v":""},{"$f":"IF('Summary List'!Q55<>\"\",'Summary List'!Q55,\"\")","v":""},{"$f":"IF('Summary List'!R55<>\"\",'Summary List'!R55,\"\")","v":""},{"$f":"IF('Summary List'!S55<>\"\",'Summary List'!S55,\"\")","v":""},null,{"$f":"IF('Summary List'!M114<>\"\",'Summary List'!M114,\"\")","v":""},{"$f":"IF('Summary List'!N114<>\"\",'Summary List'!N114,\"\")","v":""},{"$f":"IF('Summary List'!O114<>\"\",'Summary List'!O114,\"\")","v":""},{"$f":"IF('Summary List'!P114<>\"\",'Summary List'!P114,\"\")","v":""},{"$f":"IF('Summary List'!Q114<>\"\",'Summary List'!Q114,\"\")","v":""},{"$f":"IF('Summary List'!R114<>\"\",'Summary List'!R114,\"\")","v":""},{"$f":"IF('Summary List'!S114<>\"\",'Summary List'!S114,\"\")","v":""},null,{"$f":"IF('Summary List'!M173<>\"\",'Summary List'!M173,\"\")","v":""},{"$f":"IF('Summary List'!N173<>\"\",'Summary List'!N173,\"\")","v":""},{"$f":"IF('Summary List'!O173<>\"\",'Summary List'!O173,\"\")","v":""},{"$f":"IF('Summary List'!P173<>\"\",'Summary List'!P173,\"\")","v":""},{"$f":"IF('Summary List'!Q173<>\"\",'Summary List'!Q173,\"\")","v":""},{"$f":"IF('Summary List'!R173<>\"\",'Summary List'!R173,\"\")","v":""},{"$f":"IF('Summary List'!S173<>\"\",'Summary List'!S173,\"\")","v":""}]
[null,null,{"$f":"IF('Summary List'!M56<>\"\",'Summary List'!M56,\"\")","v":""},{"$f":"IF('Summary List'!N56<>\"\",'Summary List'!N56,\"\")","v":""},{"$f":"IF('Summary List'!O56<>\"\",'Summary List'!O56,\"\")","v":""},{"$f":"IF('Summary List'!P56<>\"\",'Summary List'!P56,\"\")","v":""},{"$f":"IF('Summary List'!Q56<>\"\",'Summary List'!Q56,\"\")","v":""},{"$f":"IF('Summary List'!R56<>\"\",'Summary List'!R56,\"\")","v":""},{"$f":"IF('Summary List'!S56<>\"\",'Summary List'!S56,\"\")","v":""},null,{"$f":"IF('Summary List'!M115<>\"\",'Summary List'!M115,\"\")","v":""},{"$f":"IF('Summary List'!N115<>\"\",'Summary List'!N115,\"\")","v":""},{"$f":"IF('Summary List'!O115<>\"\",'Summary List'!O115,\"\")","v":""},{"$f":"IF('Summary List'!P115<>\"\",'Summary List'!P115,\"\")","v":""},{"$f":"IF('Summary List'!Q115<>\"\",'Summary List'!Q115,\"\")","v":""},{"$f":"IF('Summary List'!R115<>\"\",'Summary List'!R115,\"\")","v":""},{"$f":"IF('Summary List'!S115<>\"\",'Summary List'!S115,\"\")","v":""},null,{"$f":"IF('Summary List'!M174<>\"\",'Summary List'!M174,\"\")","v":""},{"$f":"IF('Summary List'!N174<>\"\",'Summary List'!N174,\"\")","v":""},{"$f":"IF('Summary List'!O174<>\"\",'Summary List'!O174,\"\")","v":""},{"$f":"IF('Summary List'!P174<>\"\",'Summary List'!P174,\"\")","v":""},{"$f":"IF('Summary List'!Q174<>\"\",'Summary List'!Q174,\"\")","v":""},{"$f":"IF('Summary List'!R174<>\"\",'Summary List'!R174,\"\")","v":""},{"$f":"IF('Summary List'!S174<>\"\",'Summary List'!S174,\"\")","v":""}]
[null,null,{"$f":"IF('Summary List'!M57<>\"\",'Summary List'!M57,\"\")","v":""},{"$f":"IF('Summary List'!N57<>\"\",'Summary List'!N57,\"\")","v":""},{"$f":"IF('Summary List'!O57<>\"\",'Summary List'!O57,\"\")","v":""},{"$f":"IF('Summary List'!P57<>\"\",'Summary List'!P57,\"\")","v":""},{"$f":"IF('Summary List'!Q57<>\"\",'Summary List'!Q57,\"\")","v":""},{"$f":"IF('Summary List'!R57<>\"\",'Summary List'!R57,\"\")","v":""},{"$f":"IF('Summary List'!S57<>\"\",'Summary List'!S57,\"\")","v":""},null,{"$f":"IF('Summary List'!M116<>\"\",'Summary List'!M116,\"\")","v":""},{"$f":"IF('Summary List'!N116<>\"\",'Summary List'!N116,\"\")","v":""},{"$f":"IF('Summary List'!O116<>\"\",'Summary List'!O116,\"\")","v":""},{"$f":"IF('Summary List'!P116<>\"\",'Summary List'!P116,\"\")","v":""},{"$f":"IF('Summary List'!Q116<>\"\",'Summary List'!Q116,\"\")","v":""},{"$f":"IF('Summary List'!R116<>\"\",'Summary List'!R116,\"\")","v":""},{"$f":"IF('Summary List'!S116<>\"\",'Summary List'!S116,\"\")","v":""},null,{"$f":"IF('Summary List'!M175<>\"\",'Summary List'!M175,\"\")","v":""},{"$f":"IF('Summary List'!N175<>\"\",'Summary List'!N175,\"\")","v":""},{"$f":"IF('Summary List'!O175<>\"\",'Summary List'!O175,\"\")","v":""},{"$f":"IF('Summary List'!P175<>\"\",'Summary List'!P175,\"\")","v":""},{"$f":"IF('Summary List'!Q175<>\"\",'Summary List'!Q175,\"\")","v":""},{"$f":"IF('Summary List'!R175<>\"\",'Summary List'!R175,\"\")","v":""},{"$f":"IF('Summary List'!S175<>\"\",'Summary List'!S175,\"\")","v":""}]
[null,null,{"$f":"IF('Summary List'!M58<>\"\",'Summary List'!M58,\"\")","v":""},{"$f":"IF('Summary List'!N58<>\"\",'Summary List'!N58,\"\")","v":""},{"$f":"IF('Summary List'!O58<>\"\",'Summary List'!O58,\"\")","v":""},{"$f":"IF('Summary List'!P58<>\"\",'Summary List'!P58,\"\")","v":""},{"$f":"IF('Summary List'!Q58<>\"\",'Summary List'!Q58,\"\")","v":""},{"$f":"IF('Summary List'!R58<>\"\",'Summary List'!R58,\"\")","v":""},{"$f":"IF('Summary List'!S58<>\"\",'Summary List'!S58,\"\")","v":""},null,{"$f":"IF('Summary List'!M117<>\"\",'Summary List'!M117,\"\")","v":""},{"$f":"IF('Summary List'!N117<>\"\",'Summary List'!N117,\"\")","v":""},{"$f":"IF('Summary List'!O117<>\"\",'Summary List'!O117,\"\")","v":""},{"$f":"IF('Summary List'!P117<>\"\",'Summary List'!P117,\"\")","v":""},{"$f":"IF('Summary List'!Q117<>\"\",'Summary List'!Q117,\"\")","v":""},{"$f":"IF('Summary List'!R117<>\"\",'Summary List'!R117,\"\")","v":""},{"$f":"IF('Summary List'!S117<>\"\",'Summary List'!S117,\"\")","v":""},null,{"$f":"IF('Summary List'!M176<>\"\",'Summary List'!M176,\"\")","v":""},{"$f":"IF('Summary List'!N176<>\"\",'Summary List'!N176,\"\")","v":""},{"$f":"IF('Summary List'!O176<>\"\",'Summary List'!O176,\"\")","v":""},{"$f":"IF('Summary List'!P176<>\"\",'Summary List'!P176,\"\")","v":""},{"$f":"IF('Summary List'!Q176<>\"\",'Summary List'!Q176,\"\")","v":""},{"$f":"IF('Summary List'!R176<>\"\",'Summary List'!R176,\"\")","v":""},{"$f":"IF('Summary List'!S176<>\"\",'Summary List'!S176,\"\")","v":""}]
[null,null,{"$f":"IF('Summary List'!M59<>\"\",'Summary List'!M59,\"\")","v":""},{"$f":"IF('Summary List'!N59<>\"\",'Summary List'!N59,\"\")","v":""},{"$f":"IF('Summary List'!O59<>\"\",'Summary List'!O59,\"\")","v":""},{"$f":"IF('Summary List'!P59<>\"\",'Summary List'!P59,\"\")","v":""},{"$f":"IF('Summary List'!Q59<>\"\",'Summary List'!Q59,\"\")","v":""},{"$f":"IF('Summary List'!R59<>\"\",'Summary List'!R59,\"\")","v":""},{"$f":"IF('Summary List'!S59<>\"\",'Summary List'!S59,\"\")","v":""},null,{"$f":"IF('Summary List'!M118<>\"\",'Summary List'!M118,\"\")","v":""},{"$f":"IF('Summary List'!N118<>\"\",'Summary List'!N118,\"\")","v":""},{"$f":"IF('Summary List'!O118<>\"\",'Summary List'!O118,\"\")","v":""},{"$f":"IF('Summary List'!P118<>\"\",'Summary List'!P118,\"\")","v":""},{"$f":"IF('Summary List'!Q118<>\"\",'Summary List'!Q118,\"\")","v":""},{"$f":"IF('Summary List'!R118<>\"\",'Summary List'!R118,\"\")","v":""},{"$f":"IF('Summary List'!S118<>\"\",'Summary List'!S118,\"\")","v":""},null,{"$f":"IF('Summary List'!M177<>\"\",'Summary List'!M177,\"\")","v":""},{"$f":"IF('Summary List'!N177<>\"\",'Summary List'!N177,\"\")","v":""},{"$f":"IF('Summary List'!O177<>\"\",'Summary List'!O177,\"\")","v":""},{"$f":"IF('Summary List'!P177<>\"\",'Summary List'!P177,\"\")","v":""},{"$f":"IF('Summary List'!Q177<>\"\",'Summary List'!Q177,\"\")","v":""},{"$f":"IF('Summary List'!R177<>\"\",'Summary List'!R177,\"\")","v":""},{"$f":"IF('Summary List'!S177<>\"\",'Summary List'!S177,\"\")","v":""}]
[]
[]
[]
[]
[null,"COMPUTED BY:",null,null,"DATE:",null,null,null,null,null,null,null,null,"(08-05-21)",null,null,null,null,null,null,null,"PROJECT NO.",null,null,"SHEET NO."]
[null,"CHECKED BY:",null,null,"DATE:",null,null,null,null,null,null,null,null,null,null,null,null,null,null,null,null,{"$f":"'General Project Information'!$E$7","v":""},null,null,"3D-",{"$f":"1+Z8","v":4}]
[null,null,null,null,null,null,null,null,null,null,null,null,null,"STATE OF NORTH CAROLINA"]
[null,null,null,null,null,null,null,null,null,null,null,null,null,"DIVISION OF HIGHWAYS"]
[]
[null,null,null,null,"SUMMARY OF STORMWATER CONTROL MEASURES",null,null,null,null,null,null,null,"SUMMARY OF STORMWATER CONTROL MEASURES",null,null,null,null,null,null,null,"SUMMARY OF STORMWATER CONTROL MEASURES"]
[]
[null,null,"CONST SHEET NO.","SCM TYPE","LINE","STATION","Location LT/RT/CL","Latitude","Longitude",null,"CONST SHEET NO.","SCM TYPE","LINE","STATION","Location LT/RT/CL","Latitude","Longitude",null,"CONST SHEET NO.","SCM TYPE","LINE","STATION","Location LT/RT/CL","Latitude","Longitude"]
[]
[]
[]
[null,null,{"$f":"IF('Summary List'!M178<>\"\",'Summary List'!M178,\"\")","v":""},{"$f":"IF('Summary List'!N178<>\"\",'Summary List'!N178,\"\")","v":""},{"$f":"IF('Summary List'!O178<>\"\",'Summary List'!O178,\"\")","v":""},{"$f":"IF('Summary List'!P178<>\"\",'Summary List'!P178,\"\")","v":""},{"$f":"IF('Summary List'!Q178<>\"\",'Summary List'!Q178,\"\")","v":""},{"$f":"IF('Summary List'!R178<>\"\",'Summary List'!R178,\"\")","v":""},{"$f":"IF('Summary List'!S178<>\"\",'Summary List'!S178,\"\")","v":""},null,{"$f":"IF('Summary List'!M237<>\"\",'Summary List'!M237,\"\")","v":""},{"$f":"IF('Summary List'!N237<>\"\",'Summary List'!N237,\"\")","v":""},{"$f":"IF('Summary List'!O237<>\"\",'Summary List'!O237,\"\")","v":""},{"$f":"IF('Summary List'!P237<>\"\",'Summary List'!P237,\"\")","v":""},{"$f":"IF('Summary List'!Q237<>\"\",'Summary List'!Q237,\"\")","v":""},{"$f":"IF('Summary List'!R237<>\"\",'Summary List'!R237,\"\")","v":""},{"$f":"IF('Summary List'!S237<>\"\",'Summary List'!S237,\"\")","v":""},null,{"$f":"IF('Summary List'!M296<>\"\",'Summary List'!M296,\"\")","v":""},{"$f":"IF('Summary List'!N296<>\"\",'Summary List'!N296,\"\")","v":""},{"$f":"IF('Summary List'!O296<>\"\",'Summary List'!O296,\"\")","v":""},{"$f":"IF('Summary List'!P296<>\"\",'Summary List'!P296,\"\")","v":""},{"$f":"IF('Summary List'!Q296<>\"\",'Summary List'!Q296,\"\")","v":""},{"$f":"IF('Summary List'!R296<>\"\",'Summary List'!R296,\"\")","v":""},{"$f":"IF('Summary List'!S296<>\"\",'Summary List'!S296,\"\")","v":""}]
[null,null,{"$f":"IF('Summary List'!M179<>\"\",'Summary List'!M179,\"\")","v":""},{"$f":"IF('Summary List'!N179<>\"\",'Summary List'!N179,\"\")","v":""},{"$f":"IF('Summary List'!O179<>\"\",'Summary List'!O179,\"\")","v":""},{"$f":"IF('Summary List'!P179<>\"\",'Summary List'!P179,\"\")","v":""},{"$f":"IF('Summary List'!Q179<>\"\",'Summary List'!Q179,\"\")","v":""},{"$f":"IF('Summary List'!R179<>\"\",'Summary List'!R179,\"\")","v":""},{"$f":"IF('Summary List'!S179<>\"\",'Summary List'!S179,\"\")","v":""},null,{"$f":"IF('Summary List'!M238<>\"\",'Summary List'!M238,\"\")","v":""},{"$f":"IF('Summary List'!N238<>\"\",'Summary List'!N238,\"\")","v":""},{"$f":"IF('Summary List'!O238<>\"\",'Summary List'!O238,\"\")","v":""},{"$f":"IF('Summary List'!P238<>\"\",'Summary List'!P238,\"\")","v":""},{"$f":"IF('Summary List'!Q238<>\"\",'Summary List'!Q238,\"\")","v":""},{"$f":"IF('Summary List'!R238<>\"\",'Summary List'!R238,\"\")","v":""},{"$f":"IF('Summary List'!S238<>\"\",'Summary List'!S238,\"\")","v":""},null,{"$f":"IF('Summary List'!M297<>\"\",'Summary List'!M297,\"\")","v":""},{"$f":"IF('Summary List'!N297<>\"\",'Summary List'!N297,\"\")","v":""},{"$f":"IF('Summary List'!O297<>\"\",'Summary List'!O297,\"\")","v":""},{"$f":"IF('Summary List'!P297<>\"\",'Summary List'!P297,\"\")","v":""},{"$f":"IF('Summary List'!Q297<>\"\",'Summary List'!Q297,\"\")","v":""},{"$f":"IF('Summary List'!R297<>\"\",'Summary List'!R297,\"\")","v":""},{"$f":"IF('Summary List'!S297<>\"\",'Summary List'!S297,\"\")","v":""}]
[null,null,{"$f":"IF('Summary List'!M180<>\"\",'Summary List'!M180,\"\")","v":""},{"$f":"IF('Summary List'!N180<>\"\",'Summary List'!N180,\"\")","v":""},{"$f":"IF('Summary List'!O180<>\"\",'Summary List'!O180,\"\")","v":""},{"$f":"IF('Summary List'!P180<>\"\",'Summary List'!P180,\"\")","v":""},{"$f":"IF('Summary List'!Q180<>\"\",'Summary List'!Q180,\"\")","v":""},{"$f":"IF('Summary List'!R180<>\"\",'Summary List'!R180,\"\")","v":""},{"$f":"IF('Summary List'!S180<>\"\",'Summary List'!S180,\"\")","v":""},null,{"$f":"IF('Summary List'!M239<>\"\",'Summary List'!M239,\"\")","v":""},{"$f":"IF('Summary List'!N239<>\"\",'Summary List'!N239,\"\")","v":""},{"$f":"IF('Summary List'!O239<>\"\",'Summary List'!O239,\"\")","v":""},{"$f":"IF('Summary List'!P239<>\"\",'Summary List'!P239,\"\")","v":""},{"$f":"IF('Summary List'!Q239<>\"\",'Summary List'!Q239,\"\")","v":""},{"$f":"IF('Summary List'!R239<>\"\",'Summary List'!R239,\"\")","v":""},{"$f":"IF('Summary List'!S239<>\"\",'Summary List'!S239,\"\")","v":""},null,{"$f":"IF('Summary List'!M298<>\"\",'Summary List'!M298,\"\")","v":""},{"$f":"IF('Summary List'!N298<>\"\",'Summary List'!N298,\"\")","v":""},{"$f":"IF('Summary List'!O298<>\"\",'Summary List'!O298,\"\")","v":""},{"$f":"IF('Summary List'!P298<>\"\",'Summary List'!P298,\"\")","v":""},{"$f":"IF('Summary List'!Q298<>\"\",'Summary List'!Q298,\"\")","v":""},{"$f":"IF('Summary List'!R298<>\"\",'Summary List'!R298,\"\")","v":""},{"$f":"IF('Summary List'!S298<>\"\",'Summary List'!S298,\"\")","v":""}]
[null,null,{"$f":"IF('Summary List'!M181<>\"\",'Summary List'!M181,\"\")","v":""},{"$f":"IF('Summary List'!N181<>\"\",'Summary List'!N181,\"\")","v":""},{"$f":"IF('Summary List'!O181<>\"\",'Summary List'!O181,\"\")","v":""},{"$f":"IF('Summary List'!P181<>\"\",'Summary List'!P181,\"\")","v":""},{"$f":"IF('Summary List'!Q181<>\"\",'Summary List'!Q181,\"\")","v":""},{"$f":"IF('Summary List'!R181<>\"\",'Summary List'!R181,\"\")","v":""},{"$f":"IF('Summary List'!S181<>\"\",'Summary List'!S181,\"\")","v":""},null,{"$f":"IF('Summary List'!M240<>\"\",'Summary List'!M240,\"\")","v":""},{"$f":"IF('Summary List'!N240<>\"\",'Summary List'!N240,\"\")","v":""},{"$f":"IF('Summary List'!O240<>\"\",'Summary List'!O240,\"\")","v":""},{"$f":"IF('Summary List'!P240<>\"\",'Summary List'!P240,\"\")","v":""},{"$f":"IF('Summary List'!Q240<>\"\",'Summary List'!Q240,\"\")","v":""},{"$f":"IF('Summary List'!R240<>\"\",'Summary List'!R240,\"\")","v":""},{"$f":"IF('Summary List'!S240<>\"\",'Summary List'!S240,\"\")","v":""},null,{"$f":"IF('Summary List'!M299<>\"\",'Summary List'!M299,\"\")","v":""},{"$f":"IF('Summary List'!N299<>\"\",'Summary List'!N299,\"\")","v":""},{"$f":"IF('Summary List'!O299<>\"\",'Summary List'!O299,\"\")","v":""},{"$f":"IF('Summary List'!P299<>\"\",'Summary List'!P299,\"\")","v":""},{"$f":"IF('Summary List'!Q299<>\"\",'Summary List'!Q299,\"\")","v":""},{"$f":"IF('Summary List'!R299<>\"\",'Summary List'!R299,\"\")","v":""},{"$f":"IF('Summary List'!S299<>\"\",'Summary List'!S299,\"\")","v":""}]
[null,null,{"$f":"IF('Summary List'!M182<>\"\",'Summary List'!M182,\"\")","v":""},{"$f":"IF('Summary List'!N182<>\"\",'Summary List'!N182,\"\")","v":""},{"$f":"IF('Summary List'!O182<>\"\",'Summary List'!O182,\"\")","v":""},{"$f":"IF('Summary List'!P182<>\"\",'Summary List'!P182,\"\")","v":""},{"$f":"IF('Summary List'!Q182<>\"\",'Summary List'!Q182,\"\")","v":""},{"$f":"IF('Summary List'!R182<>\"\",'Summary List'!R182,\"\")","v":""},{"$f":"IF('Summary List'!S182<>\"\",'Summary List'!S182,\"\")","v":""},null,{"$f":"IF('Summary List'!M241<>\"\",'Summary List'!M241,\"\")","v":""},{"$f":"IF('Summary List'!N241<>\"\",'Summary List'!N241,\"\")","v":""},{"$f":"IF('Summary List'!O241<>\"\",'Summary List'!O241,\"\")","v":""},{"$f":"IF('Summary List'!P241<>\"\",'Summary List'!P241,\"\")","v":""},{"$f":"IF('Summary List'!Q241<>\"\",'Summary List'!Q241,\"\")","v":""},{"$f":"IF('Summary List'!R241<>\"\",'Summary List'!R241,\"\")","v":""},{"$f":"IF('Summary List'!S241<>\"\",'Summary List'!S241,\"\")","v":""},null,{"$f":"IF('Summary List'!M300<>\"\",'Summary List'!M300,\"\")","v":""},{"$f":"IF('Summary List'!N300<>\"\",'Summary List'!N300,\"\")","v":""},{"$f":"IF('Summary List'!O300<>\"\",'Summary List'!O300,\"\")","v":""},{"$f":"IF('Summary List'!P300<>\"\",'Summary List'!P300,\"\")","v":""},{"$f":"IF('Summary List'!Q300<>\"\",'Summary List'!Q300,\"\")","v":""},{"$f":"IF('Summary List'!R300<>\"\",'Summary List'!R300,\"\")","v":""},{"$f":"IF('Summary List'!S300<>\"\",'Summary List'!S300,\"\")","v":""}]
[null,null,{"$f":"IF('Summary List'!M183<>\"\",'Summary List'!M183,\"\")","v":""},{"$f":"IF('Summary List'!N183<>\"\",'Summary List'!N183,\"\")","v":""},{"$f":"IF('Summary List'!O183<>\"\",'Summary List'!O183,\"\")","v":""},{"$f":"IF('Summary List'!P183<>\"\",'Summary List'!P183,\"\")","v":""},{"$f":"IF('Summary List'!Q183<>\"\",'Summary List'!Q183,\"\")","v":""},{"$f":"IF('Summary List'!R183<>\"\",'Summary List'!R183,\"\")","v":""},{"$f":"IF('Summary List'!S183<>\"\",'Summary List'!S183,\"\")","v":""},null,{"$f":"IF('Summary List'!M242<>\"\",'Summary List'!M242,\"\")","v":""},{"$f":"IF('Summary List'!N242<>\"\",'Summary List'!N242,\"\")","v":""},{"$f":"IF('Summary List'!O242<>\"\",'Summary List'!O242,\"\")","v":""},{"$f":"IF('Summary List'!P242<>\"\",'Summary List'!P242,\"\")","v":""},{"$f":"IF('Summary List'!Q242<>\"\",'Summary List'!Q242,\"\")","v":""},{"$f":"IF('Summary List'!R242<>\"\",'Summary List'!R242,\"\")","v":""},{"$f":"IF('Summary List'!S242<>\"\",'Summary List'!S242,\"\")","v":""},null,{"$f":"IF('Summary List'!M301<>\"\",'Summary List'!M301,\"\")","v":""},{"$f":"IF('Summary List'!N301<>\"\",'Summary List'!N301,\"\")","v":""},{"$f":"IF('Summary List'!O301<>\"\",'Summary List'!O301,\"\")","v":""},{"$f":"IF('Summary List'!P301<>\"\",'Summary List'!P301,\"\")","v":""},{"$f":"IF('Summary List'!Q301<>\"\",'Summary List'!Q301,\"\")","v":""},{"$f":"IF('Summary List'!R301<>\"\",'Summary List'!R301,\"\")","v":""},{"$f":"IF('Summary List'!S301<>\"\",'Summary List'!S301,\"\")","v":""}]
[null,null,{"$f":"IF('Summary List'!M184<>\"\",'Summary List'!M184,\"\")","v":""},{"$f":"IF('Summary List'!N184<>\"\",'Summary List'!N184,\"\")","v":""},{"$f":"IF('Summary List'!O184<>\"\",'Summary List'!O184,\"\")","v":""},{"$f":"IF('Summary List'!P184<>\"\",'Summary List'!P184,\"\")","v":""},{"$f":"IF('Summary List'!Q184<>\"\",'Summary List'!Q184,\"\")","v":""},{"$f":"IF('Summary List'!R184<>\"\",'Summary List'!R184,\"\")","v":""},{"$f":"IF('Summary List'!S184<>\"\",'Summary List'!S184,\"\")","v":""},null,{"$f":"IF('Summary List'!M243<>\"\",'Summary List'!M243,\"\")","v":""},{"$f":"IF('Summary List'!N243<>\"\",'Summary List'!N243,\"\")","v":""},{"$f":"IF('Summary List'!O243<>\"\",'Summary List'!O243,\"\")","v":""},{"$f":"IF('Summary List'!P243<>\"\",'Summary List'!P243,\"\")","v":""},{"$f":"IF('Summary List'!Q243<>\"\",'Summary List'!Q243,\"\")","v":""},{"$f":"IF('Summary List'!R243<>\"\",'Summary List'!R243,\"\")","v":""},{"$f":"IF('Summary List'!S243<>\"\",'Summary List'!S243,\"\")","v":""},null,{"$f":"IF('Summary List'!M302<>\"\",'Summary List'!M302,\"\")","v":""},{"$f":"IF('Summary List'!N302<>\"\",'Summary List'!N302,\"\")","v":""},{"$f":"IF('Summary List'!O302<>\"\",'Summary List'!O302,\"\")","v":""},{"$f":"IF('Summary List'!P302<>\"\",'Summary List'!P302,\"\")","v":""},{"$f":"IF('Summary List'!Q302<>\"\",'Summary List'!Q302,\"\")","v":""},{"$f":"IF('Summary List'!R302<>\"\",'Summary List'!R302,\"\")","v":""},{"$f":"IF('Summary List'!S302<>\"\",'Summary List'!S302,\"\")","v":""}]
[null,null,{"$f":"IF('Summary List'!M185<>\"\",'Summary List'!M185,\"\")","v":""},{"$f":"IF('Summary List'!N185<>\"\",'Summary List'!N185,\"\")","v":""},{"$f":"IF('Summary List'!O185<>\"\",'Summary List'!O185,\"\")","v":""},{"$f":"IF('Summary List'!P185<>\"\",'Summary List'!P185,\"\")","v":""},{"$f":"IF('Summary List'!Q185<>\"\",'Summary List'!Q185,\"\")","v":""},{"$f":"IF('Summary List'!R185<>\"\",'Summary List'!R185,\"\")","v":""},{"$f":"IF('Summary List'!S185<>\"\",'Summary List'!S185,\"\")","v":""},null,{"$f":"IF('Summary List'!M244<>\"\",'Summary List'!M244,\"\")","v":""},{"$f":"IF('Summary List'!N244<>\"\",'Summary List'!N244,\"\")","v":""},{"$f":"IF('Summary List'!O244<>\"\",'Summary List'!O244,\"\")","v":""},{"$f":"IF('Summary List'!P244<>\"\",'Summary List'!P244,\"\")","v":""},{"$f":"IF('Summary List'!Q244<>\"\",'Summary List'!Q244,\"\")","v":""},{"$f":"IF('Summary List'!R244<>\"\",'Summary List'!R244,\"\")","v":""},{"$f":"IF('Summary List'!S244<>\"\",'Summary List'!S244,\"\")","v":""},null,{"$f":"IF('Summary List'!M303<>\"\",'Summary List'!M303,\"\")","v":""},{"$f":"IF('Summary List'!N303<>\"\",'Summary List'!N303,\"\")","v":""},{"$f":"IF('Summary List'!O303<>\"\",'Summary List'!O303,\"\")","v":""},{"$f":"IF('Summary List'!P303<>\"\",'Summary List'!P303,\"\")","v":""},{"$f":"IF('Summary List'!Q303<>\"\",'Summary List'!Q303,\"\")","v":""},{"$f":"IF('Summary List'!R303<>\"\",'Summary List'!R303,\"\")","v":""},{"$f":"IF('Summary List'!S303<>\"\",'Summary List'!S303,\"\")","v":""}]
[null,null,{"$f":"IF('Summary List'!M186<>\"\",'Summary List'!M186,\"\")","v":""},{"$f":"IF('Summary List'!N186<>\"\",'Summary List'!N186,\"\")","v":""},{"$f":"IF('Summary List'!O186<>\"\",'Summary List'!O186,\"\")","v":""},{"$f":"IF('Summary List'!P186<>\"\",'Summary List'!P186,\"\")","v":""},{"$f":"IF('Summary List'!Q186<>\"\",'Summary List'!Q186,\"\")","v":""},{"$f":"IF('Summary List'!R186<>\"\",'Summary List'!R186,\"\")","v":""},{"$f":"IF('Summary List'!S186<>\"\",'Summary List'!S186,\"\")","v":""},null,{"$f":"IF('Summary List'!M245<>\"\",'Summary List'!M245,\"\")","v":""},{"$f":"IF('Summary List'!N245<>\"\",'Summary List'!N245,\"\")","v":""},{"$f":"IF('Summary List'!O245<>\"\",'Summary List'!O245,\"\")","v":""},{"$f":"IF('Summary List'!P245<>\"\",'Summary List'!P245,\"\")","v":""},{"$f":"IF('Summary List'!Q245<>\"\",'Summary List'!Q245,\"\")","v":""},{"$f":"IF('Summary List'!R245<>\"\",'Summary List'!R245,\"\")","v":""},{"$f":"IF('Summary List'!S245<>\"\",'Summary List'!S245,\"\")","v":""},null,{"$f":"IF('Summary List'!M304<>\"\",'Summary List'!M304,\"\")","v":""},{"$f":"IF('Summary List'!N304<>\"\",'Summary List'!N304,\"\")","v":""},{"$f":"IF('Summary List'!O304<>\"\",'Summary List'!O304,\"\")","v":""},{"$f":"IF('Summary List'!P304<>\"\",'Summary List'!P304,\"\")","v":""},{"$f":"IF('Summary List'!Q304<>\"\",'Summary List'!Q304,\"\")","v":""},{"$f":"IF('Summary List'!R304<>\"\",'Summary List'!R304,\"\")","v":""},{"$f":"IF('Summary List'!S304<>\"\",'Summary List'!S304,\"\")","v":""}]
[null,null,{"$f":"IF('Summary List'!M187<>\"\",'Summary List'!M187,\"\")","v":""},{"$f":"IF('Summary List'!N187<>\"\",'Summary List'!N187,\"\")","v":""},{"$f":"IF('Summary List'!O187<>\"\",'Summary List'!O187,\"\")","v":""},{"$f":"IF('Summary List'!P187<>\"\",'Summary List'!P187,\"\")","v":""},{"$f":"IF('Summary List'!Q187<>\"\",'Summary List'!Q187,\"\")","v":""},{"$f":"IF('Summary List'!R187<>\"\",'Summary List'!R187,\"\")","v":""},{"$f":"IF('Summary List'!S187<>\"\",'Summary List'!S187,\"\")","v":""},null,{"$f":"IF('Summary List'!M246<>\"\",'Summary List'!M246,\"\")","v":""},{"$f":"IF('Summary List'!N246<>\"\",'Summary List'!N246,\"\")","v":""},{"$f":"IF('Summary List'!O246<>\"\",'Summary List'!O246,\"\")","v":""},{"$f":"IF('Summary List'!P246<>\"\",'Summary List'!P246,\"\")","v":""},{"$f":"IF('Summary List'!Q246<>\"\",'Summary List'!Q246,\"\")","v":""},{"$f":"IF('Summary List'!R246<>\"\",'Summary List'!R246,\"\")","v":""},{"$f":"IF('Summary List'!S246<>\"\",'Summary List'!S246,\"\")","v":""},null,{"$f":"IF('Summary List'!M305<>\"\",'Summary List'!M305,\"\")","v":""},{"$f":"IF('Summary List'!N305<>\"\",'Summary List'!N305,\"\")","v":""},{"$f":"IF('Summary List'!O305<>\"\",'Summary List'!O305,\"\")","v":""},{"$f":"IF('Summary List'!P305<>\"\",'Summary List'!P305,\"\")","v":""},{"$f":"IF('Summary List'!Q305<>\"\",'Summary List'!Q305,\"\")","v":""},{"$f":"IF('Summary List'!R305<>\"\",'Summary List'!R305,\"\")","v":""},{"$f":"IF('Summary List'!S305<>\"\",'Summary List'!S305,\"\")","v":""}]
[null,null,{"$f":"IF('Summary List'!M188<>\"\",'Summary List'!M188,\"\")","v":""},{"$f":"IF('Summary List'!N188<>\"\",'Summary List'!N188,\"\")","v":""},{"$f":"IF('Summary List'!O188<>\"\",'Summary List'!O188,\"\")","v":""},{"$f":"IF('Summary List'!P188<>\"\",'Summary List'!P188,\"\")","v":""},{"$f":"IF('Summary List'!Q188<>\"\",'Summary List'!Q188,\"\")","v":""},{"$f":"IF('Summary List'!R188<>\"\",'Summary List'!R188,\"\")","v":""},{"$f":"IF('Summary List'!S188<>\"\",'Summary List'!S188,\"\")","v":""},null,{"$f":"IF('Summary List'!M247<>\"\",'Summary List'!M247,\"\")","v":""},{"$f":"IF('Summary List'!N247<>\"\",'Summary List'!N247,\"\")","v":""},{"$f":"IF('Summary List'!O247<>\"\",'Summary List'!O247,\"\")","v":""},{"$f":"IF('Summary List'!P247<>\"\",'Summary List'!P247,\"\")","v":""},{"$f":"IF('Summary List'!Q247<>\"\",'Summary List'!Q247,\"\")","v":""},{"$f":"IF('Summary List'!R247<>\"\",'Summary List'!R247,\"\")","v":""},{"$f":"IF('Summary List'!S247<>\"\",'Summary List'!S247,\"\")","v":""},null,{"$f":"IF('Summary List'!M306<>\"\",'Summary List'!M306,\"\")","v":""},{"$f":"IF('Summary List'!N306<>\"\",'Summary List'!N306,\"\")","v":""},{"$f":"IF('Summary List'!O306<>\"\",'Summary List'!O306,\"\")","v":""},{"$f":"IF('Summary List'!P306<>\"\",'Summary List'!P306,\"\")","v":""},{"$f":"IF('Summary List'!Q306<>\"\",'Summary List'!Q306,\"\")","v":""},{"$f":"IF('Summary List'!R306<>\"\",'Summary List'!R306,\"\")","v":""},{"$f":"IF('Summary List'!S306<>\"\",'Summary List'!S306,\"\")","v":""}]
[null,null,{"$f":"IF('Summary List'!M189<>\"\",'Summary List'!M189,\"\")","v":""},{"$f":"IF('Summary List'!N189<>\"\",'Summary List'!N189,\"\")","v":""},{"$f":"IF('Summary List'!O189<>\"\",'Summary List'!O189,\"\")","v":""},{"$f":"IF('Summary List'!P189<>\"\",'Summary List'!P189,\"\")","v":""},{"$f":"IF('Summary List'!Q189<>\"\",'Summary List'!Q189,\"\")","v":""},{"$f":"IF('Summary List'!R189<>\"\",'Summary List'!R189,\"\")","v":""},{"$f":"IF('Summary List'!S189<>\"\",'Summary List'!S189,\"\")","v":""},null,{"$f":"IF('Summary List'!M248<>\"\",'Summary List'!M248,\"\")","v":""},{"$f":"IF('Summary List'!N248<>\"\",'Summary List'!N248,\"\")","v":""},{"$f":"IF('Summary List'!O248<>\"\",'Summary List'!O248,\"\")","v":""},{"$f":"IF('Summary List'!P248<>\"\",'Summary List'!P248,\"\")","v":""},{"$f":"IF('Summary List'!Q248<>\"\",'Summary List'!Q248,\"\")","v":""},{"$f":"IF('Summary List'!R248<>\"\",'Summary List'!R248,\"\")","v":""},{"$f":"IF('Summary List'!S248<>\"\",'Summary List'!S248,\"\")","v":""},null,{"$f":"IF('Summary List'!M307<>\"\",'Summary List'!M307,\"\")","v":""},{"$f":"IF('Summary List'!N307<>\"\",'Summary List'!N307,\"\")","v":""},{"$f":"IF('Summary List'!O307<>\"\",'Summary List'!O307,\"\")","v":""},{"$f":"IF('Summary List'!P307<>\"\",'Summary List'!P307,\"\")","v":""},{"$f":"IF('Summary List'!Q307<>\"\",'Summary List'!Q307,\"\")","v":""},{"$f":"IF('Summary List'!R307<>\"\",'Summary List'!R307,\"\")","v":""},{"$f":"IF('Summary List'!S307<>\"\",'Summary List'!S307,\"\")","v":""}]
[null,null,{"$f":"IF('Summary List'!M190<>\"\",'Summary List'!M190,\"\")","v":""},{"$f":"IF('Summary List'!N190<>\"\",'Summary List'!N190,\"\")","v":""},{"$f":"IF('Summary List'!O190<>\"\",'Summary List'!O190,\"\")","v":""},{"$f":"IF('Summary List'!P190<>\"\",'Summary List'!P190,\"\")","v":""},{"$f":"IF('Summary List'!Q190<>\"\",'Summary List'!Q190,\"\")","v":""},{"$f":"IF('Summary List'!R190<>\"\",'Summary List'!R190,\"\")","v":""},{"$f":"IF('Summary List'!S190<>\"\",'Summary List'!S190,\"\")","v":""},null,{"$f":"IF('Summary List'!M249<>\"\",'Summary List'!M249,\"\")","v":""},{"$f":"IF('Summary List'!N249<>\"\",'Summary List'!N249,\"\")","v":""},{"$f":"IF('Summary List'!O249<>\"\",'Summary List'!O249,\"\")","v":""},{"$f":"IF('Summary List'!P249<>\"\",'Summary List'!P249,\"\")","v":""},{"$f":"IF('Summary List'!Q249<>\"\",'Summary List'!Q249,\"\")","v":""},{"$f":"IF('Summary List'!R249<>\"\",'Summary List'!R249,\"\")","v":""},{"$f":"IF('Summary List'!S249<>\"\",'Summary List'!S249,\"\")","v":""},null,{"$f":"IF('Summary List'!M308<>\"\",'Summary List'!M308,\"\")","v":""},{"$f":"IF('Summary List'!N308<>\"\",'Summary List'!N308,\"\")","v":""},{"$f":"IF('Summary List'!O308<>\"\",'Summary List'!O308,\"\")","v":""},{"$f":"IF('Summary List'!P308<>\"\",'Summary List'!P308,\"\")","v":""},{"$f":"IF('Summary List'!Q308<>\"\",'Summary List'!Q308,\"\")","v":""},{"$f":"IF('Summary List'!R308<>\"\",'Summary List'!R308,\"\")","v":""},{"$f":"IF('Summary List'!S308<>\"\",'Summary List'!S308,\"\")","v":""}]
[null,null,{"$f":"IF('Summary List'!M191<>\"\",'Summary List'!M191,\"\")","v":""},{"$f":"IF('Summary List'!N191<>\"\",'Summary List'!N191,\"\")","v":""},{"$f":"IF('Summary List'!O191<>\"\",'Summary List'!O191,\"\")","v":""},{"$f":"IF('Summary List'!P191<>\"\",'Summary List'!P191,\"\")","v":""},{"$f":"IF('Summary List'!Q191<>\"\",'Summary List'!Q191,\"\")","v":""},{"$f":"IF('Summary List'!R191<>\"\",'Summary List'!R191,\"\")","v":""},{"$f":"IF('Summary List'!S191<>\"\",'Summary List'!S191,\"\")","v":""},null,{"$f":"IF('Summary List'!M250<>\"\",'Summary List'!M250,\"\")","v":""},{"$f":"IF('Summary List'!N250<>\"\",'Summary List'!N250,\"\")","v":""},{"$f":"IF('Summary List'!O250<>\"\",'Summary List'!O250,\"\")","v":""},{"$f":"IF('Summary List'!P250<>\"\",'Summary List'!P250,\"\")","v":""},{"$f":"IF('Summary List'!Q250<>\"\",'Summary List'!Q250,\"\")","v":""},{"$f":"IF('Summary List'!R250<>\"\",'Summary List'!R250,\"\")","v":""},{"$f":"IF('Summary List'!S250<>\"\",'Summary List'!S250,\"\")","v":""},null,{"$f":"IF('Summary List'!M309<>\"\",'Summary List'!M309,\"\")","v":""},{"$f":"IF('Summary List'!N309<>\"\",'Summary List'!N309,\"\")","v":""},{"$f":"IF('Summary List'!O309<>\"\",'Summary List'!O309,\"\")","v":""},{"$f":"IF('Summary List'!P309<>\"\",'Summary List'!P309,\"\")","v":""},{"$f":"IF('Summary List'!Q309<>\"\",'Summary List'!Q309,\"\")","v":""},{"$f":"IF('Summary List'!R309<>\"\",'Summary List'!R309,\"\")","v":""},{"$f":"IF('Summary List'!S309<>\"\",'Summary List'!S309,\"\")","v":""}]
[null,null,{"$f":"IF('Summary List'!M192<>\"\",'Summary List'!M192,\"\")","v":""},{"$f":"IF('Summary List'!N192<>\"\",'Summary List'!N192,\"\")","v":""},{"$f":"IF('Summary List'!O192<>\"\",'Summary List'!O192,\"\")","v":""},{"$f":"IF('Summary List'!P192<>\"\",'Summary List'!P192,\"\")","v":""},{"$f":"IF('Summary List'!Q192<>\"\",'Summary List'!Q192,\"\")","v":""},{"$f":"IF('Summary List'!R192<>\"\",'Summary List'!R192,\"\")","v":""},{"$f":"IF('Summary List'!S192<>\"\",'Summary List'!S192,\"\")","v":""},null,{"$f":"IF('Summary List'!M251<>\"\",'Summary List'!M251,\"\")","v":""},{"$f":"IF('Summary List'!N251<>\"\",'Summary List'!N251,\"\")","v":""},{"$f":"IF('Summary List'!O251<>\"\",'Summary List'!O251,\"\")","v":""},{"$f":"IF('Summary List'!P251<>\"\",'Summary List'!P251,\"\")","v":""},{"$f":"IF('Summary List'!Q251<>\"\",'Summary List'!Q251,\"\")","v":""},{"$f":"IF('Summary List'!R251<>\"\",'Summary List'!R251,\"\")","v":""},{"$f":"IF('Summary List'!S251<>\"\",'Summary List'!S251,\"\")","v":""},null,{"$f":"IF('Summary List'!M310<>\"\",'Summary List'!M310,\"\")","v":""},{"$f":"IF('Summary List'!N310<>\"\",'Summary List'!N310,\"\")","v":""},{"$f":"IF('Summary List'!O310<>\"\",'Summary List'!O310,\"\")","v":""},{"$f":"IF('Summary List'!P310<>\"\",'Summary List'!P310,\"\")","v":""},{"$f":"IF('Summary List'!Q310<>\"\",'Summary List'!Q310,\"\")","v":""},{"$f":"IF('Summary List'!R310<>\"\",'Summary List'!R310,\"\")","v":""},{"$f":"IF('Summary List'!S310<>\"\",'Summary List'!S310,\"\")","v":""}]
[null,null,{"$f":"IF('Summary List'!M193<>\"\",'Summary List'!M193,\"\")","v":""},{"$f":"IF('Summary List'!N193<>\"\",'Summary List'!N193,\"\")","v":""},{"$f":"IF('Summary List'!O193<>\"\",'Summary List'!O193,\"\")","v":""},{"$f":"IF('Summary List'!P193<>\"\",'Summary List'!P193,\"\")","v":""},{"$f":"IF('Summary List'!Q193<>\"\",'Summary List'!Q193,\"\")","v":""},{"$f":"IF('Summary List'!R193<>\"\",'Summary List'!R193,\"\")","v":""},{"$f":"IF('Summary List'!S193<>\"\",'Summary List'!S193,\"\")","v":""},null,{"$f":"IF('Summary List'!M252<>\"\",'Summary List'!M252,\"\")","v":""},{"$f":"IF('Summary List'!N252<>\"\",'Summary List'!N252,\"\")","v":""},{"$f":"IF('Summary List'!O252<>\"\",'Summary List'!O252,\"\")","v":""},{"$f":"IF('Summary List'!P252<>\"\",'Summary List'!P252,\"\")","v":""},{"$f":"IF('Summary List'!Q252<>\"\",'Summary List'!Q252,\"\")","v":""},{"$f":"IF('Summary List'!R252<>\"\",'Summary List'!R252,\"\")","v":""},{"$f":"IF('Summary List'!S252<>\"\",'Summary List'!S252,\"\")","v":""},null,{"$f":"IF('Summary List'!M311<>\"\",'Summary List'!M311,\"\")","v":""},{"$f":"IF('Summary List'!N311<>\"\",'Summary List'!N311,\"\")","v":""},{"$f":"IF('Summary List'!O311<>\"\",'Summary List'!O311,\"\")","v":""},{"$f":"IF('Summary List'!P311<>\"\",'Summary List'!P311,\"\")","v":""},{"$f":"IF('Summary List'!Q311<>\"\",'Summary List'!Q311,\"\")","v":""},{"$f":"IF('Summary List'!R311<>\"\",'Summary List'!R311,\"\")","v":""},{"$f":"IF('Summary List'!S311<>\"\",'Summary List'!S311,\"\")","v":""}]
[null,null,{"$f":"IF('Summary List'!M194<>\"\",'Summary List'!M194,\"\")","v":""},{"$f":"IF('Summary List'!N194<>\"\",'Summary List'!N194,\"\")","v":""},{"$f":"IF('Summary List'!O194<>\"\",'Summary List'!O194,\"\")","v":""},{"$f":"IF('Summary List'!P194<>\"\",'Summary List'!P194,\"\")","v":""},{"$f":"IF('Summary List'!Q194<>\"\",'Summary List'!Q194,\"\")","v":""},{"$f":"IF('Summary List'!R194<>\"\",'Summary List'!R194,\"\")","v":""},{"$f":"IF('Summary List'!S194<>\"\",'Summary List'!S194,\"\")","v":""},null,{"$f":"IF('Summary List'!M253<>\"\",'Summary List'!M253,\"\")","v":""},{"$f":"IF('Summary List'!N253<>\"\",'Summary List'!N253,\"\")","v":""},{"$f":"IF('Summary List'!O253<>\"\",'Summary List'!O253,\"\")","v":""},{"$f":"IF('Summary List'!P253<>\"\",'Summary List'!P253,\"\")","v":""},{"$f":"IF('Summary List'!Q253<>\"\",'Summary List'!Q253,\"\")","v":""},{"$f":"IF('Summary List'!R253<>\"\",'Summary List'!R253,\"\")","v":""},{"$f":"IF('Summary List'!S253<>\"\",'Summary List'!S253,\"\")","v":""},null,{"$f":"IF('Summary List'!M312<>\"\",'Summary List'!M312,\"\")","v":""},{"$f":"IF('Summary List'!N312<>\"\",'Summary List'!N312,\"\")","v":""},{"$f":"IF('Summary List'!O312<>\"\",'Summary List'!O312,\"\")","v":""},{"$f":"IF('Summary List'!P312<>\"\",'Summary List'!P312,\"\")","v":""},{"$f":"IF('Summary List'!Q312<>\"\",'Summary List'!Q312,\"\")","v":""},{"$f":"IF('Summary List'!R312<>\"\",'Summary List'!R312,\"\")","v":""},{"$f":"IF('Summary List'!S312<>\"\",'Summary List'!S312,\"\")","v":""}]
[null,null,{"$f":"IF('Summary List'!M195<>\"\",'Summary List'!M195,\"\")","v":""},{"$f":"IF('Summary List'!N195<>\"\",'Summary List'!N195,\"\")","v":""},{"$f":"IF('Summary List'!O195<>\"\",'Summary List'!O195,\"\")","v":""},{"$f":"IF('Summary List'!P195<>\"\",'Summary List'!P195,\"\")","v":""},{"$f":"IF('Summary List'!Q195<>\"\",'Summary List'!Q195,\"\")","v":""},{"$f":"IF('Summary List'!R195<>\"\",'Summary List'!R195,\"\")","v":""},{"$f":"IF('Summary List'!S195<>\"\",'Summary List'!S195,\"\")","v":""},null,{"$f":"IF('Summary List'!M254<>\"\",'Summary List'!M254,\"\")","v":""},{"$f":"IF('Summary List'!N254<>\"\",'Summary List'!N254,\"\")","v":""},{"$f":"IF('Summary List'!O254<>\"\",'Summary List'!O254,\"\")","v":""},{"$f":"IF('Summary List'!P254<>\"\",'Summary List'!P254,\"\")","v":""},{"$f":"IF('Summary List'!Q254<>\"\",'Summary List'!Q254,\"\")","v":""},{"$f":"IF('Summary List'!R254<>\"\",'Summary List'!R254,\"\")","v":""},{"$f":"IF('Summary List'!S254<>\"\",'Summary List'!S254,\"\")","v":""},null,{"$f":"IF('Summary List'!M313<>\"\",'Summary List'!M313,\"\")","v":""},{"$f":"IF('Summary List'!N313<>\"\",'Summary List'!N313,\"\")","v":""},{"$f":"IF('Summary List'!O313<>\"\",'Summary List'!O313,\"\")","v":""},{"$f":"IF('Summary List'!P313<>\"\",'Summary List'!P313,\"\")","v":""},{"$f":"IF('Summary List'!Q313<>\"\",'Summary List'!Q313,\"\")","v":""},{"$f":"IF('Summary List'!R313<>\"\",'Summary List'!R313,\"\")","v":""},{"$f":"IF('Summary List'!S313<>\"\",'Summary List'!S313,\"\")","v":""}]
[null,null,{"$f":"IF('Summary List'!M196<>\"\",'Summary List'!M196,\"\")","v":""},{"$f":"IF('Summary List'!N196<>\"\",'Summary List'!N196,\"\")","v":""},{"$f":"IF('Summary List'!O196<>\"\",'Summary List'!O196,\"\")","v":""},{"$f":"IF('Summary List'!P196<>\"\",'Summary List'!P196,\"\")","v":""},{"$f":"IF('Summary List'!Q196<>\"\",'Summary List'!Q196,\"\")","v":""},{"$f":"IF('Summary List'!R196<>\"\",'Summary List'!R196,\"\")","v":""},{"$f":"IF('Summary List'!S196<>\"\",'Summary List'!S196,\"\")","v":""},null,{"$f":"IF('Summary List'!M255<>\"\",'Summary List'!M255,\"\")","v":""},{"$f":"IF('Summary List'!N255<>\"\",'Summary List'!N255,\"\")","v":""},{"$f":"IF('Summary List'!O255<>\"\",'Summary List'!O255,\"\")","v":""},{"$f":"IF('Summary List'!P255<>\"\",'Summary List'!P255,\"\")","v":""},{"$f":"IF('Summary List'!Q255<>\"\",'Summary List'!Q255,\"\")","v":""},{"$f":"IF('Summary List'!R255<>\"\",'Summary List'!R255,\"\")","v":""},{"$f":"IF('Summary List'!S255<>\"\",'Summary List'!S255,\"\")","v":""},null,{"$f":"IF('Summary List'!M314<>\"\",'Summary List'!M314,\"\")","v":""},{"$f":"IF('Summary List'!N314<>\"\",'Summary List'!N314,\"\")","v":""},{"$f":"IF('Summary List'!O314<>\"\",'Summary List'!O314,\"\")","v":""},{"$f":"IF('Summary List'!P314<>\"\",'Summary List'!P314,\"\")","v":""},{"$f":"IF('Summary List'!Q314<>\"\",'Summary List'!Q314,\"\")","v":""},{"$f":"IF('Summary List'!R314<>\"\",'Summary List'!R314,\"\")","v":""},{"$f":"IF('Summary List'!S314<>\"\",'Summary List'!S314,\"\")","v":""}]
[null,null,{"$f":"IF('Summary List'!M197<>\"\",'Summary List'!M197,\"\")","v":""},{"$f":"IF('Summary List'!N197<>\"\",'Summary List'!N197,\"\")","v":""},{"$f":"IF('Summary List'!O197<>\"\",'Summary List'!O197,\"\")","v":""},{"$f":"IF('Summary List'!P197<>\"\",'Summary List'!P197,\"\")","v":""},{"$f":"IF('Summary List'!Q197<>\"\",'Summary List'!Q197,\"\")","v":""},{"$f":"IF('Summary List'!R197<>\"\",'Summary List'!R197,\"\")","v":""},{"$f":"IF('Summary List'!S197<>\"\",'Summary List'!S197,\"\")","v":""},null,{"$f":"IF('Summary List'!M256<>\"\",'Summary List'!M256,\"\")","v":""},{"$f":"IF('Summary List'!N256<>\"\",'Summary List'!N256,\"\")","v":""},{"$f":"IF('Summary List'!O256<>\"\",'Summary List'!O256,\"\")","v":""},{"$f":"IF('Summary List'!P256<>\"\",'Summary List'!P256,\"\")","v":""},{"$f":"IF('Summary List'!Q256<>\"\",'Summary List'!Q256,\"\")","v":""},{"$f":"IF('Summary List'!R256<>\"\",'Summary List'!R256,\"\")","v":""},{"$f":"IF('Summary List'!S256<>\"\",'Summary List'!S256,\"\")","v":""},null,{"$f":"IF('Summary List'!M315<>\"\",'Summary List'!M315,\"\")","v":""},{"$f":"IF('Summary List'!N315<>\"\",'Summary List'!N315,\"\")","v":""},{"$f":"IF('Summary List'!O315<>\"\",'Summary List'!O315,\"\")","v":""},{"$f":"IF('Summary List'!P315<>\"\",'Summary List'!P315,\"\")","v":""},{"$f":"IF('Summary List'!Q315<>\"\",'Summary List'!Q315,\"\")","v":""},{"$f":"IF('Summary List'!R315<>\"\",'Summary List'!R315,\"\")","v":""},{"$f":"IF('Summary List'!S315<>\"\",'Summary List'!S315,\"\")","v":""}]
[null,null,{"$f":"IF('Summary List'!M198<>\"\",'Summary List'!M198,\"\")","v":""},{"$f":"IF('Summary List'!N198<>\"\",'Summary List'!N198,\"\")","v":""},{"$f":"IF('Summary List'!O198<>\"\",'Summary List'!O198,\"\")","v":""},{"$f":"IF('Summary List'!P198<>\"\",'Summary List'!P198,\"\")","v":""},{"$f":"IF('Summary List'!Q198<>\"\",'Summary List'!Q198,\"\")","v":""},{"$f":"IF('Summary List'!R198<>\"\",'Summary List'!R198,\"\")","v":""},{"$f":"IF('Summary List'!S198<>\"\",'Summary List'!S198,\"\")","v":""},null,{"$f":"IF('Summary List'!M257<>\"\",'Summary List'!M257,\"\")","v":""},{"$f":"IF('Summary List'!N257<>\"\",'Summary List'!N257,\"\")","v":""},{"$f":"IF('Summary List'!O257<>\"\",'Summary List'!O257,\"\")","v":""},{"$f":"IF('Summary List'!P257<>\"\",'Summary List'!P257,\"\")","v":""},{"$f":"IF('Summary List'!Q257<>\"\",'Summary List'!Q257,\"\")","v":""},{"$f":"IF('Summary List'!R257<>\"\",'Summary List'!R257,\"\")","v":""},{"$f":"IF('Summary List'!S257<>\"\",'Summary List'!S257,\"\")","v":""},null,{"$f":"IF('Summary List'!M316<>\"\",'Summary List'!M316,\"\")","v":""},{"$f":"IF('Summary List'!N316<>\"\",'Summary List'!N316,\"\")","v":""},{"$f":"IF('Summary List'!O316<>\"\",'Summary List'!O316,\"\")","v":""},{"$f":"IF('Summary List'!P316<>\"\",'Summary List'!P316,\"\")","v":""},{"$f":"IF('Summary List'!Q316<>\"\",'Summary List'!Q316,\"\")","v":""},{"$f":"IF('Summary List'!R316<>\"\",'Summary List'!R316,\"\")","v":""},{"$f":"IF('Summary List'!S316<>\"\",'Summary List'!S316,\"\")","v":""}]
[null,null,{"$f":"IF('Summary List'!M199<>\"\",'Summary List'!M199,\"\")","v":""},{"$f":"IF('Summary List'!N199<>\"\",'Summary List'!N199,\"\")","v":""},{"$f":"IF('Summary List'!O199<>\"\",'Summary List'!O199,\"\")","v":""},{"$f":"IF('Summary List'!P199<>\"\",'Summary List'!P199,\"\")","v":""},{"$f":"IF('Summary List'!Q199<>\"\",'Summary List'!Q199,\"\")","v":""},{"$f":"IF('Summary List'!R199<>\"\",'Summary List'!R199,\"\")","v":""},{"$f":"IF('Summary List'!S199<>\"\",'Summary List'!S199,\"\")","v":""},null,{"$f":"IF('Summary List'!M258<>\"\",'Summary List'!M258,\"\")","v":""},{"$f":"IF('Summary List'!N258<>\"\",'Summary List'!N258,\"\")","v":""},{"$f":"IF('Summary List'!O258<>\"\",'Summary List'!O258,\"\")","v":""},{"$f":"IF('Summary List'!P258<>\"\",'Summary List'!P258,\"\")","v":""},{"$f":"IF('Summary List'!Q258<>\"\",'Summary List'!Q258,\"\")","v":""},{"$f":"IF('Summary List'!R258<>\"\",'Summary List'!R258,\"\")","v":""},{"$f":"IF('Summary List'!S258<>\"\",'Summary List'!S258,\"\")","v":""},null,{"$f":"IF('Summary List'!M317<>\"\",'Summary List'!M317,\"\")","v":""},{"$f":"IF('Summary List'!N317<>\"\",'Summary List'!N317,\"\")","v":""},{"$f":"IF('Summary List'!O317<>\"\",'Summary List'!O317,\"\")","v":""},{"$f":"IF('Summary List'!P317<>\"\",'Summary List'!P317,\"\")","v":""},{"$f":"IF('Summary List'!Q317<>\"\",'Summary List'!Q317,\"\")","v":""},{"$f":"IF('Summary List'!R317<>\"\",'Summary List'!R317,\"\")","v":""},{"$f":"IF('Summary List'!S317<>\"\",'Summary List'!S317,\"\")","v":""}]
[null,null,{"$f":"IF('Summary List'!M200<>\"\",'Summary List'!M200,\"\")","v":""},{"$f":"IF('Summary List'!N200<>\"\",'Summary List'!N200,\"\")","v":""},{"$f":"IF('Summary List'!O200<>\"\",'Summary List'!O200,\"\")","v":""},{"$f":"IF('Summary List'!P200<>\"\",'Summary List'!P200,\"\")","v":""},{"$f":"IF('Summary List'!Q200<>\"\",'Summary List'!Q200,\"\")","v":""},{"$f":"IF('Summary List'!R200<>\"\",'Summary List'!R200,\"\")","v":""},{"$f":"IF('Summary List'!S200<>\"\",'Summary List'!S200,\"\")","v":""},null,{"$f":"IF('Summary List'!M259<>\"\",'Summary List'!M259,\"\")","v":""},{"$f":"IF('Summary List'!N259<>\"\",'Summary List'!N259,\"\")","v":""},{"$f":"IF('Summary List'!O259<>\"\",'Summary List'!O259,\"\")","v":""},{"$f":"IF('Summary List'!P259<>\"\",'Summary List'!P259,\"\")","v":""},{"$f":"IF('Summary List'!Q259<>\"\",'Summary List'!Q259,\"\")","v":""},{"$f":"IF('Summary List'!R259<>\"\",'Summary List'!R259,\"\")","v":""},{"$f":"IF('Summary List'!S259<>\"\",'Summary List'!S259,\"\")","v":""},null,{"$f":"IF('Summary List'!M318<>\"\",'Summary List'!M318,\"\")","v":""},{"$f":"IF('Summary List'!N318<>\"\",'Summary List'!N318,\"\")","v":""},{"$f":"IF('Summary List'!O318<>\"\",'Summary List'!O318,\"\")","v":""},{"$f":"IF('Summary List'!P318<>\"\",'Summary List'!P318,\"\")","v":""},{"$f":"IF('Summary List'!Q318<>\"\",'Summary List'!Q318,\"\")","v":""},{"$f":"IF('Summary List'!R318<>\"\",'Summary List'!R318,\"\")","v":""},{"$f":"IF('Summary List'!S318<>\"\",'Summary List'!S318,\"\")","v":""}]
[null,null,{"$f":"IF('Summary List'!M201<>\"\",'Summary List'!M201,\"\")","v":""},{"$f":"IF('Summary List'!N201<>\"\",'Summary List'!N201,\"\")","v":""},{"$f":"IF('Summary List'!O201<>\"\",'Summary List'!O201,\"\")","v":""},{"$f":"IF('Summary List'!P201<>\"\",'Summary List'!P201,\"\")","v":""},{"$f":"IF('Summary List'!Q201<>\"\",'Summary List'!Q201,\"\")","v":""},{"$f":"IF('Summary List'!R201<>\"\",'Summary List'!R201,\"\")","v":""},{"$f":"IF('Summary List'!S201<>\"\",'Summary List'!S201,\"\")","v":""},null,{"$f":"IF('Summary List'!M260<>\"\",'Summary List'!M260,\"\")","v":""},{"$f":"IF('Summary List'!N260<>\"\",'Summary List'!N260,\"\")","v":""},{"$f":"IF('Summary List'!O260<>\"\",'Summary List'!O260,\"\")","v":""},{"$f":"IF('Summary List'!P260<>\"\",'Summary List'!P260,\"\")","v":""},{"$f":"IF('Summary List'!Q260<>\"\",'Summary List'!Q260,\"\")","v":""},{"$f":"IF('Summary List'!R260<>\"\",'Summary List'!R260,\"\")","v":""},{"$f":"IF('Summary List'!S260<>\"\",'Summary List'!S260,\"\")","v":""},null,{"$f":"IF('Summary List'!M319<>\"\",'Summary List'!M319,\"\")","v":""},{"$f":"IF('Summary List'!N319<>\"\",'Summary List'!N319,\"\")","v":""},{"$f":"IF('Summary List'!O319<>\"\",'Summary List'!O319,\"\")","v":""},{"$f":"IF('Summary List'!P319<>\"\",'Summary List'!P319,\"\")","v":""},{"$f":"IF('Summary List'!Q319<>\"\",'Summary List'!Q319,\"\")","v":""},{"$f":"IF('Summary List'!R319<>\"\",'Summary List'!R319,\"\")","v":""},{"$f":"IF('Summary List'!S319<>\"\",'Summary List'!S319,\"\")","v":""}]
[null,null,{"$f":"IF('Summary List'!M202<>\"\",'Summary List'!M202,\"\")","v":""},{"$f":"IF('Summary List'!N202<>\"\",'Summary List'!N202,\"\")","v":""},{"$f":"IF('Summary List'!O202<>\"\",'Summary List'!O202,\"\")","v":""},{"$f":"IF('Summary List'!P202<>\"\",'Summary List'!P202,\"\")","v":""},{"$f":"IF('Summary List'!Q202<>\"\",'Summary List'!Q202,\"\")","v":""},{"$f":"IF('Summary List'!R202<>\"\",'Summary List'!R202,\"\")","v":""},{"$f":"IF('Summary List'!S202<>\"\",'Summary List'!S202,\"\")","v":""},null,{"$f":"IF('Summary List'!M261<>\"\",'Summary List'!M261,\"\")","v":""},{"$f":"IF('Summary List'!N261<>\"\",'Summary List'!N261,\"\")","v":""},{"$f":"IF('Summary List'!O261<>\"\",'Summary List'!O261,\"\")","v":""},{"$f":"IF('Summary List'!P261<>\"\",'Summary List'!P261,\"\")","v":""},{"$f":"IF('Summary List'!Q261<>\"\",'Summary List'!Q261,\"\")","v":""},{"$f":"IF('Summary List'!R261<>\"\",'Summary List'!R261,\"\")","v":""},{"$f":"IF('Summary List'!S261<>\"\",'Summary List'!S261,\"\")","v":""},null,{"$f":"IF('Summary List'!M320<>\"\",'Summary List'!M320,\"\")","v":""},{"$f":"IF('Summary List'!N320<>\"\",'Summary List'!N320,\"\")","v":""},{"$f":"IF('Summary List'!O320<>\"\",'Summary List'!O320,\"\")","v":""},{"$f":"IF('Summary List'!P320<>\"\",'Summary List'!P320,\"\")","v":""},{"$f":"IF('Summary List'!Q320<>\"\",'Summary List'!Q320,\"\")","v":""},{"$f":"IF('Summary List'!R320<>\"\",'Summary List'!R320,\"\")","v":""},{"$f":"IF('Summary List'!S320<>\"\",'Summary List'!S320,\"\")","v":""}]
[null,null,{"$f":"IF('Summary List'!M203<>\"\",'Summary List'!M203,\"\")","v":""},{"$f":"IF('Summary List'!N203<>\"\",'Summary List'!N203,\"\")","v":""},{"$f":"IF('Summary List'!O203<>\"\",'Summary List'!O203,\"\")","v":""},{"$f":"IF('Summary List'!P203<>\"\",'Summary List'!P203,\"\")","v":""},{"$f":"IF('Summary List'!Q203<>\"\",'Summary List'!Q203,\"\")","v":""},{"$f":"IF('Summary List'!R203<>\"\",'Summary List'!R203,\"\")","v":""},{"$f":"IF('Summary List'!S203<>\"\",'Summary List'!S203,\"\")","v":""},null,{"$f":"IF('Summary List'!M262<>\"\",'Summary List'!M262,\"\")","v":""},{"$f":"IF('Summary List'!N262<>\"\",'Summary List'!N262,\"\")","v":""},{"$f":"IF('Summary List'!O262<>\"\",'Summary List'!O262,\"\")","v":""},{"$f":"IF('Summary List'!P262<>\"\",'Summary List'!P262,\"\")","v":""},{"$f":"IF('Summary List'!Q262<>\"\",'Summary List'!Q262,\"\")","v":""},{"$f":"IF('Summary List'!R262<>\"\",'Summary List'!R262,\"\")","v":""},{"$f":"IF('Summary List'!S262<>\"\",'Summary List'!S262,\"\")","v":""},null,{"$f":"IF('Summary List'!M321<>\"\",'Summary List'!M321,\"\")","v":""},{"$f":"IF('Summary List'!N321<>\"\",'Summary List'!N321,\"\")","v":""},{"$f":"IF('Summary List'!O321<>\"\",'Summary List'!O321,\"\")","v":""},{"$f":"IF('Summary List'!P321<>\"\",'Summary List'!P321,\"\")","v":""},{"$f":"IF('Summary List'!Q321<>\"\",'Summary List'!Q321,\"\")","v":""},{"$f":"IF('Summary List'!R321<>\"\",'Summary List'!R321,\"\")","v":""},{"$f":"IF('Summary List'!S321<>\"\",'Summary List'!S321,\"\")","v":""}]
[null,null,{"$f":"IF('Summary List'!M204<>\"\",'Summary List'!M204,\"\")","v":""},{"$f":"IF('Summary List'!N204<>\"\",'Summary List'!N204,\"\")","v":""},{"$f":"IF('Summary List'!O204<>\"\",'Summary List'!O204,\"\")","v":""},{"$f":"IF('Summary List'!P204<>\"\",'Summary List'!P204,\"\")","v":""},{"$f":"IF('Summary List'!Q204<>\"\",'Summary List'!Q204,\"\")","v":""},{"$f":"IF('Summary List'!R204<>\"\",'Summary List'!R204,\"\")","v":""},{"$f":"IF('Summary List'!S204<>\"\",'Summary List'!S204,\"\")","v":""},null,{"$f":"IF('Summary List'!M263<>\"\",'Summary List'!M263,\"\")","v":""},{"$f":"IF('Summary List'!N263<>\"\",'Summary List'!N263,\"\")","v":""},{"$f":"IF('Summary List'!O263<>\"\",'Summary List'!O263,\"\")","v":""},{"$f":"IF('Summary List'!P263<>\"\",'Summary List'!P263,\"\")","v":""},{"$f":"IF('Summary List'!Q263<>\"\",'Summary List'!Q263,\"\")","v":""},{"$f":"IF('Summary List'!R263<>\"\",'Summary List'!R263,\"\")","v":""},{"$f":"IF('Summary List'!S263<>\"\",'Summary List'!S263,\"\")","v":""},null,{"$f":"IF('Summary List'!M322<>\"\",'Summary List'!M322,\"\")","v":""},{"$f":"IF('Summary List'!N322<>\"\",'Summary List'!N322,\"\")","v":""},{"$f":"IF('Summary List'!O322<>\"\",'Summary List'!O322,\"\")","v":""},{"$f":"IF('Summary List'!P322<>\"\",'Summary List'!P322,\"\")","v":""},{"$f":"IF('Summary List'!Q322<>\"\",'Summary List'!Q322,\"\")","v":""},{"$f":"IF('Summary List'!R322<>\"\",'Summary List'!R322,\"\")","v":""},{"$f":"IF('Summary List'!S322<>\"\",'Summary List'!S322,\"\")","v":""}]
[null,null,{"$f":"IF('Summary List'!M205<>\"\",'Summary List'!M205,\"\")","v":""},{"$f":"IF('Summary List'!N205<>\"\",'Summary List'!N205,\"\")","v":""},{"$f":"IF('Summary List'!O205<>\"\",'Summary List'!O205,\"\")","v":""},{"$f":"IF('Summary List'!P205<>\"\",'Summary List'!P205,\"\")","v":""},{"$f":"IF('Summary List'!Q205<>\"\",'Summary List'!Q205,\"\")","v":""},{"$f":"IF('Summary List'!R205<>\"\",'Summary List'!R205,\"\")","v":""},{"$f":"IF('Summary List'!S205<>\"\",'Summary List'!S205,\"\")","v":""},null,{"$f":"IF('Summary List'!M264<>\"\",'Summary List'!M264,\"\")","v":""},{"$f":"IF('Summary List'!N264<>\"\",'Summary List'!N264,\"\")","v":""},{"$f":"IF('Summary List'!O264<>\"\",'Summary List'!O264,\"\")","v":""},{"$f":"IF('Summary List'!P264<>\"\",'Summary List'!P264,\"\")","v":""},{"$f":"IF('Summary List'!Q264<>\"\",'Summary List'!Q264,\"\")","v":""},{"$f":"IF('Summary List'!R264<>\"\",'Summary List'!R264,\"\")","v":""},{"$f":"IF('Summary List'!S264<>\"\",'Summary List'!S264,\"\")","v":""},null,{"$f":"IF('Summary List'!M323<>\"\",'Summary List'!M323,\"\")","v":""},{"$f":"IF('Summary List'!N323<>\"\",'Summary List'!N323,\"\")","v":""},{"$f":"IF('Summary List'!O323<>\"\",'Summary List'!O323,\"\")","v":""},{"$f":"IF('Summary List'!P323<>\"\",'Summary List'!P323,\"\")","v":""},{"$f":"IF('Summary List'!Q323<>\"\",'Summary List'!Q323,\"\")","v":""},{"$f":"IF('Summary List'!R323<>\"\",'Summary List'!R323,\"\")","v":""},{"$f":"IF('Summary List'!S323<>\"\",'Summary List'!S323,\"\")","v":""}]
[null,null,{"$f":"IF('Summary List'!M206<>\"\",'Summary List'!M206,\"\")","v":""},{"$f":"IF('Summary List'!N206<>\"\",'Summary List'!N206,\"\")","v":""},{"$f":"IF('Summary List'!O206<>\"\",'Summary List'!O206,\"\")","v":""},{"$f":"IF('Summary List'!P206<>\"\",'Summary List'!P206,\"\")","v":""},{"$f":"IF('Summary List'!Q206<>\"\",'Summary List'!Q206,\"\")","v":""},{"$f":"IF('Summary List'!R206<>\"\",'Summary List'!R206,\"\")","v":""},{"$f":"IF('Summary List'!S206<>\"\",'Summary List'!S206,\"\")","v":""},null,{"$f":"IF('Summary List'!M265<>\"\",'Summary List'!M265,\"\")","v":""},{"$f":"IF('Summary List'!N265<>\"\",'Summary List'!N265,\"\")","v":""},{"$f":"IF('Summary List'!O265<>\"\",'Summary List'!O265,\"\")","v":""},{"$f":"IF('Summary List'!P265<>\"\",'Summary List'!P265,\"\")","v":""},{"$f":"IF('Summary List'!Q265<>\"\",'Summary List'!Q265,\"\")","v":""},{"$f":"IF('Summary List'!R265<>\"\",'Summary List'!R265,\"\")","v":""},{"$f":"IF('Summary List'!S265<>\"\",'Summary List'!S265,\"\")","v":""},null,{"$f":"IF('Summary List'!M324<>\"\",'Summary List'!M324,\"\")","v":""},{"$f":"IF('Summary List'!N324<>\"\",'Summary List'!N324,\"\")","v":""},{"$f":"IF('Summary List'!O324<>\"\",'Summary List'!O324,\"\")","v":""},{"$f":"IF('Summary List'!P324<>\"\",'Summary List'!P324,\"\")","v":""},{"$f":"IF('Summary List'!Q324<>\"\",'Summary List'!Q324,\"\")","v":""},{"$f":"IF('Summary List'!R324<>\"\",'Summary List'!R324,\"\")","v":""},{"$f":"IF('Summary List'!S324<>\"\",'Summary List'!S324,\"\")","v":""}]
[null,null,{"$f":"IF('Summary List'!M207<>\"\",'Summary List'!M207,\"\")","v":""},{"$f":"IF('Summary List'!N207<>\"\",'Summary List'!N207,\"\")","v":""},{"$f":"IF('Summary List'!O207<>\"\",'Summary List'!O207,\"\")","v":""},{"$f":"IF('Summary List'!P207<>\"\",'Summary List'!P207,\"\")","v":""},{"$f":"IF('Summary List'!Q207<>\"\",'Summary List'!Q207,\"\")","v":""},{"$f":"IF('Summary List'!R207<>\"\",'Summary List'!R207,\"\")","v":""},{"$f":"IF('Summary List'!S207<>\"\",'Summary List'!S207,\"\")","v":""},null,{"$f":"IF('Summary List'!M266<>\"\",'Summary List'!M266,\"\")","v":""},{"$f":"IF('Summary List'!N266<>\"\",'Summary List'!N266,\"\")","v":""},{"$f":"IF('Summary List'!O266<>\"\",'Summary List'!O266,\"\")","v":""},{"$f":"IF('Summary List'!P266<>\"\",'Summary List'!P266,\"\")","v":""},{"$f":"IF('Summary List'!Q266<>\"\",'Summary List'!Q266,\"\")","v":""},{"$f":"IF('Summary List'!R266<>\"\",'Summary List'!R266,\"\")","v":""},{"$f":"IF('Summary List'!S266<>\"\",'Summary List'!S266,\"\")","v":""},null,{"$f":"IF('Summary List'!M325<>\"\",'Summary List'!M325,\"\")","v":""},{"$f":"IF('Summary List'!N325<>\"\",'Summary List'!N325,\"\")","v":""},{"$f":"IF('Summary List'!O325<>\"\",'Summary List'!O325,\"\")","v":""},{"$f":"IF('Summary List'!P325<>\"\",'Summary List'!P325,\"\")","v":""},{"$f":"IF('Summary List'!Q325<>\"\",'Summary List'!Q325,\"\")","v":""},{"$f":"IF('Summary List'!R325<>\"\",'Summary List'!R325,\"\")","v":""},{"$f":"IF('Summary List'!S325<>\"\",'Summary List'!S325,\"\")","v":""}]
[null,null,{"$f":"IF('Summary List'!M208<>\"\",'Summary List'!M208,\"\")","v":""},{"$f":"IF('Summary List'!N208<>\"\",'Summary List'!N208,\"\")","v":""},{"$f":"IF('Summary List'!O208<>\"\",'Summary List'!O208,\"\")","v":""},{"$f":"IF('Summary List'!P208<>\"\",'Summary List'!P208,\"\")","v":""},{"$f":"IF('Summary List'!Q208<>\"\",'Summary List'!Q208,\"\")","v":""},{"$f":"IF('Summary List'!R208<>\"\",'Summary List'!R208,\"\")","v":""},{"$f":"IF('Summary List'!S208<>\"\",'Summary List'!S208,\"\")","v":""},null,{"$f":"IF('Summary List'!M267<>\"\",'Summary List'!M267,\"\")","v":""},{"$f":"IF('Summary List'!N267<>\"\",'Summary List'!N267,\"\")","v":""},{"$f":"IF('Summary List'!O267<>\"\",'Summary List'!O267,\"\")","v":""},{"$f":"IF('Summary List'!P267<>\"\",'Summary List'!P267,\"\")","v":""},{"$f":"IF('Summary List'!Q267<>\"\",'Summary List'!Q267,\"\")","v":""},{"$f":"IF('Summary List'!R267<>\"\",'Summary List'!R267,\"\")","v":""},{"$f":"IF('Summary List'!S267<>\"\",'Summary List'!S267,\"\")","v":""},null,{"$f":"IF('Summary List'!M326<>\"\",'Summary List'!M326,\"\")","v":""},{"$f":"IF('Summary List'!N326<>\"\",'Summary List'!N326,\"\")","v":""},{"$f":"IF('Summary List'!O326<>\"\",'Summary List'!O326,\"\")","v":""},{"$f":"IF('Summary List'!P326<>\"\",'Summary List'!P326,\"\")","v":""},{"$f":"IF('Summary List'!Q326<>\"\",'Summary List'!Q326,\"\")","v":""},{"$f":"IF('Summary List'!R326<>\"\",'Summary List'!R326,\"\")","v":""},{"$f":"IF('Summary List'!S326<>\"\",'Summary List'!S326,\"\")","v":""}]
[null,null,{"$f":"IF('Summary List'!M209<>\"\",'Summary List'!M209,\"\")","v":""},{"$f":"IF('Summary List'!N209<>\"\",'Summary List'!N209,\"\")","v":""},{"$f":"IF('Summary List'!O209<>\"\",'Summary List'!O209,\"\")","v":""},{"$f":"IF('Summary List'!P209<>\"\",'Summary List'!P209,\"\")","v":""},{"$f":"IF('Summary List'!Q209<>\"\",'Summary List'!Q209,\"\")","v":""},{"$f":"IF('Summary List'!R209<>\"\",'Summary List'!R209,\"\")","v":""},{"$f":"IF('Summary List'!S209<>\"\",'Summary List'!S209,\"\")","v":""},null,{"$f":"IF('Summary List'!M268<>\"\",'Summary List'!M268,\"\")","v":""},{"$f":"IF('Summary List'!N268<>\"\",'Summary List'!N268,\"\")","v":""},{"$f":"IF('Summary List'!O268<>\"\",'Summary List'!O268,\"\")","v":""},{"$f":"IF('Summary List'!P268<>\"\",'Summary List'!P268,\"\")","v":""},{"$f":"IF('Summary List'!Q268<>\"\",'Summary List'!Q268,\"\")","v":""},{"$f":"IF('Summary List'!R268<>\"\",'Summary List'!R268,\"\")","v":""},{"$f":"IF('Summary List'!S268<>\"\",'Summary List'!S268,\"\")","v":""},null,{"$f":"IF('Summary List'!M327<>\"\",'Summary List'!M327,\"\")","v":""},{"$f":"IF('Summary List'!N327<>\"\",'Summary List'!N327,\"\")","v":""},{"$f":"IF('Summary List'!O327<>\"\",'Summary List'!O327,\"\")","v":""},{"$f":"IF('Summary List'!P327<>\"\",'Summary List'!P327,\"\")","v":""},{"$f":"IF('Summary List'!Q327<>\"\",'Summary List'!Q327,\"\")","v":""},{"$f":"IF('Summary List'!R327<>\"\",'Summary List'!R327,\"\")","v":""},{"$f":"IF('Summary List'!S327<>\"\",'Summary List'!S327,\"\")","v":""}]
[null,null,{"$f":"IF('Summary List'!M210<>\"\",'Summary List'!M210,\"\")","v":""},{"$f":"IF('Summary List'!N210<>\"\",'Summary List'!N210,\"\")","v":""},{"$f":"IF('Summary List'!O210<>\"\",'Summary List'!O210,\"\")","v":""},{"$f":"IF('Summary List'!P210<>\"\",'Summary List'!P210,\"\")","v":""},{"$f":"IF('Summary List'!Q210<>\"\",'Summary List'!Q210,\"\")","v":""},{"$f":"IF('Summary List'!R210<>\"\",'Summary List'!R210,\"\")","v":""},{"$f":"IF('Summary List'!S210<>\"\",'Summary List'!S210,\"\")","v":""},null,{"$f":"IF('Summary List'!M269<>\"\",'Summary List'!M269,\"\")","v":""},{"$f":"IF('Summary List'!N269<>\"\",'Summary List'!N269,\"\")","v":""},{"$f":"IF('Summary List'!O269<>\"\",'Summary List'!O269,\"\")","v":""},{"$f":"IF('Summary List'!P269<>\"\",'Summary List'!P269,\"\")","v":""},{"$f":"IF('Summary List'!Q269<>\"\",'Summary List'!Q269,\"\")","v":""},{"$f":"IF('Summary List'!R269<>\"\",'Summary List'!R269,\"\")","v":""},{"$f":"IF('Summary List'!S269<>\"\",'Summary List'!S269,\"\")","v":""},null,{"$f":"IF('Summary List'!M328<>\"\",'Summary List'!M328,\"\")","v":""},{"$f":"IF('Summary List'!N328<>\"\",'Summary List'!N328,\"\")","v":""},{"$f":"IF('Summary List'!O328<>\"\",'Summary List'!O328,\"\")","v":""},{"$f":"IF('Summary List'!P328<>\"\",'Summary List'!P328,\"\")","v":""},{"$f":"IF('Summary List'!Q328<>\"\",'Summary List'!Q328,\"\")","v":""},{"$f":"IF('Summary List'!R328<>\"\",'Summary List'!R328,\"\")","v":""},{"$f":"IF('Summary List'!S328<>\"\",'Summary List'!S328,\"\")","v":""}]
[null,null,{"$f":"IF('Summary List'!M211<>\"\",'Summary List'!M211,\"\")","v":""},{"$f":"IF('Summary List'!N211<>\"\",'Summary List'!N211,\"\")","v":""},{"$f":"IF('Summary List'!O211<>\"\",'Summary List'!O211,\"\")","v":""},{"$f":"IF('Summary List'!P211<>\"\",'Summary List'!P211,\"\")","v":""},{"$f":"IF('Summary List'!Q211<>\"\",'Summary List'!Q211,\"\")","v":""},{"$f":"IF('Summary List'!R211<>\"\",'Summary List'!R211,\"\")","v":""},{"$f":"IF('Summary List'!S211<>\"\",'Summary List'!S211,\"\")","v":""},null,{"$f":"IF('Summary List'!M270<>\"\",'Summary List'!M270,\"\")","v":""},{"$f":"IF('Summary List'!N270<>\"\",'Summary List'!N270,\"\")","v":""},{"$f":"IF('Summary List'!O270<>\"\",'Summary List'!O270,\"\")","v":""},{"$f":"IF('Summary List'!P270<>\"\",'Summary List'!P270,\"\")","v":""},{"$f":"IF('Summary List'!Q270<>\"\",'Summary List'!Q270,\"\")","v":""},{"$f":"IF('Summary List'!R270<>\"\",'Summary List'!R270,\"\")","v":""},{"$f":"IF('Summary List'!S270<>\"\",'Summary List'!S270,\"\")","v":""},null,{"$f":"IF('Summary List'!M329<>\"\",'Summary List'!M329,\"\")","v":""},{"$f":"IF('Summary List'!N329<>\"\",'Summary List'!N329,\"\")","v":""},{"$f":"IF('Summary List'!O329<>\"\",'Summary List'!O329,\"\")","v":""},{"$f":"IF('Summary List'!P329<>\"\",'Summary List'!P329,\"\")","v":""},{"$f":"IF('Summary List'!Q329<>\"\",'Summary List'!Q329,\"\")","v":""},{"$f":"IF('Summary List'!R329<>\"\",'Summary List'!R329,\"\")","v":""},{"$f":"IF('Summary List'!S329<>\"\",'Summary List'!S329,\"\")","v":""}]
[null,null,{"$f":"IF('Summary List'!M212<>\"\",'Summary List'!M212,\"\")","v":""},{"$f":"IF('Summary List'!N212<>\"\",'Summary List'!N212,\"\")","v":""},{"$f":"IF('Summary List'!O212<>\"\",'Summary List'!O212,\"\")","v":""},{"$f":"IF('Summary List'!P212<>\"\",'Summary List'!P212,\"\")","v":""},{"$f":"IF('Summary List'!Q212<>\"\",'Summary List'!Q212,\"\")","v":""},{"$f":"IF('Summary List'!R212<>\"\",'Summary List'!R212,\"\")","v":""},{"$f":"IF('Summary List'!S212<>\"\",'Summary List'!S212,\"\")","v":""},null,{"$f":"IF('Summary List'!M271<>\"\",'Summary List'!M271,\"\")","v":""},{"$f":"IF('Summary List'!N271<>\"\",'Summary List'!N271,\"\")","v":""},{"$f":"IF('Summary List'!O271<>\"\",'Summary List'!O271,\"\")","v":""},{"$f":"IF('Summary List'!P271<>\"\",'Summary List'!P271,\"\")","v":""},{"$f":"IF('Summary List'!Q271<>\"\",'Summary List'!Q271,\"\")","v":""},{"$f":"IF('Summary List'!R271<>\"\",'Summary List'!R271,\"\")","v":""},{"$f":"IF('Summary List'!S271<>\"\",'Summary List'!S271,\"\")","v":""},null,{"$f":"IF('Summary List'!M330<>\"\",'Summary List'!M330,\"\")","v":""},{"$f":"IF('Summary List'!N330<>\"\",'Summary List'!N330,\"\")","v":""},{"$f":"IF('Summary List'!O330<>\"\",'Summary List'!O330,\"\")","v":""},{"$f":"IF('Summary List'!P330<>\"\",'Summary List'!P330,\"\")","v":""},{"$f":"IF('Summary List'!Q330<>\"\",'Summary List'!Q330,\"\")","v":""},{"$f":"IF('Summary List'!R330<>\"\",'Summary List'!R330,\"\")","v":""},{"$f":"IF('Summary List'!S330<>\"\",'Summary List'!S330,\"\")","v":""}]
[null,null,{"$f":"IF('Summary List'!M213<>\"\",'Summary List'!M213,\"\")","v":""},{"$f":"IF('Summary List'!N213<>\"\",'Summary List'!N213,\"\")","v":""},{"$f":"IF('Summary List'!O213<>\"\",'Summary List'!O213,\"\")","v":""},{"$f":"IF('Summary List'!P213<>\"\",'Summary List'!P213,\"\")","v":""},{"$f":"IF('Summary List'!Q213<>\"\",'Summary List'!Q213,\"\")","v":""},{"$f":"IF('Summary List'!R213<>\"\",'Summary List'!R213,\"\")","v":""},{"$f":"IF('Summary List'!S213<>\"\",'Summary List'!S213,\"\")","v":""},null,{"$f":"IF('Summary List'!M272<>\"\",'Summary List'!M272,\"\")","v":""},{"$f":"IF('Summary List'!N272<>\"\",'Summary List'!N272,\"\")","v":""},{"$f":"IF('Summary List'!O272<>\"\",'Summary List'!O272,\"\")","v":""},{"$f":"IF('Summary List'!P272<>\"\",'Summary List'!P272,\"\")","v":""},{"$f":"IF('Summary List'!Q272<>\"\",'Summary List'!Q272,\"\")","v":""},{"$f":"IF('Summary List'!R272<>\"\",'Summary List'!R272,\"\")","v":""},{"$f":"IF('Summary List'!S272<>\"\",'Summary List'!S272,\"\")","v":""},null,{"$f":"IF('Summary List'!M331<>\"\",'Summary List'!M331,\"\")","v":""},{"$f":"IF('Summary List'!N331<>\"\",'Summary List'!N331,\"\")","v":""},{"$f":"IF('Summary List'!O331<>\"\",'Summary List'!O331,\"\")","v":""},{"$f":"IF('Summary List'!P331<>\"\",'Summary List'!P331,\"\")","v":""},{"$f":"IF('Summary List'!Q331<>\"\",'Summary List'!Q331,\"\")","v":""},{"$f":"IF('Summary List'!R331<>\"\",'Summary List'!R331,\"\")","v":""},{"$f":"IF('Summary List'!S331<>\"\",'Summary List'!S331,\"\")","v":""}]
[null,null,{"$f":"IF('Summary List'!M214<>\"\",'Summary List'!M214,\"\")","v":""},{"$f":"IF('Summary List'!N214<>\"\",'Summary List'!N214,\"\")","v":""},{"$f":"IF('Summary List'!O214<>\"\",'Summary List'!O214,\"\")","v":""},{"$f":"IF('Summary List'!P214<>\"\",'Summary List'!P214,\"\")","v":""},{"$f":"IF('Summary List'!Q214<>\"\",'Summary List'!Q214,\"\")","v":""},{"$f":"IF('Summary List'!R214<>\"\",'Summary List'!R214,\"\")","v":""},{"$f":"IF('Summary List'!S214<>\"\",'Summary List'!S214,\"\")","v":""},null,{"$f":"IF('Summary List'!M273<>\"\",'Summary List'!M273,\"\")","v":""},{"$f":"IF('Summary List'!N273<>\"\",'Summary List'!N273,\"\")","v":""},{"$f":"IF('Summary List'!O273<>\"\",'Summary List'!O273,\"\")","v":""},{"$f":"IF('Summary List'!P273<>\"\",'Summary List'!P273,\"\")","v":""},{"$f":"IF('Summary List'!Q273<>\"\",'Summary List'!Q273,\"\")","v":""},{"$f":"IF('Summary List'!R273<>\"\",'Summary List'!R273,\"\")","v":""},{"$f":"IF('Summary List'!S273<>\"\",'Summary List'!S273,\"\")","v":""},null,{"$f":"IF('Summary List'!M332<>\"\",'Summary List'!M332,\"\")","v":""},{"$f":"IF('Summary List'!N332<>\"\",'Summary List'!N332,\"\")","v":""},{"$f":"IF('Summary List'!O332<>\"\",'Summary List'!O332,\"\")","v":""},{"$f":"IF('Summary List'!P332<>\"\",'Summary List'!P332,\"\")","v":""},{"$f":"IF('Summary List'!Q332<>\"\",'Summary List'!Q332,\"\")","v":""},{"$f":"IF('Summary List'!R332<>\"\",'Summary List'!R332,\"\")","v":""},{"$f":"IF('Summary List'!S332<>\"\",'Summary List'!S332,\"\")","v":""}]
[null,null,{"$f":"IF('Summary List'!M215<>\"\",'Summary List'!M215,\"\")","v":""},{"$f":"IF('Summary List'!N215<>\"\",'Summary List'!N215,\"\")","v":""},{"$f":"IF('Summary List'!O215<>\"\",'Summary List'!O215,\"\")","v":""},{"$f":"IF('Summary List'!P215<>\"\",'Summary List'!P215,\"\")","v":""},{"$f":"IF('Summary List'!Q215<>\"\",'Summary List'!Q215,\"\")","v":""},{"$f":"IF('Summary List'!R215<>\"\",'Summary List'!R215,\"\")","v":""},{"$f":"IF('Summary List'!S215<>\"\",'Summary List'!S215,\"\")","v":""},null,{"$f":"IF('Summary List'!M274<>\"\",'Summary List'!M274,\"\")","v":""},{"$f":"IF('Summary List'!N274<>\"\",'Summary List'!N274,\"\")","v":""},{"$f":"IF('Summary List'!O274<>\"\",'Summary List'!O274,\"\")","v":""},{"$f":"IF('Summary List'!P274<>\"\",'Summary List'!P274,\"\")","v":""},{"$f":"IF('Summary List'!Q274<>\"\",'Summary List'!Q274,\"\")","v":""},{"$f":"IF('Summary List'!R274<>\"\",'Summary List'!R274,\"\")","v":""},{"$f":"IF('Summary List'!S274<>\"\",'Summary List'!S274,\"\")","v":""},null,{"$f":"IF('Summary List'!M333<>\"\",'Summary List'!M333,\"\")","v":""},{"$f":"IF('Summary List'!N333<>\"\",'Summary List'!N333,\"\")","v":""},{"$f":"IF('Summary List'!O333<>\"\",'Summary List'!O333,\"\")","v":""},{"$f":"IF('Summary List'!P333<>\"\",'Summary List'!P333,\"\")","v":""},{"$f":"IF('Summary List'!Q333<>\"\",'Summary List'!Q333,\"\")","v":""},{"$f":"IF('Summary List'!R333<>\"\",'Summary List'!R333,\"\")","v":""},{"$f":"IF('Summary List'!S333<>\"\",'Summary List'!S333,\"\")","v":""}]
[null,null,{"$f":"IF('Summary List'!M216<>\"\",'Summary List'!M216,\"\")","v":""},{"$f":"IF('Summary List'!N216<>\"\",'Summary List'!N216,\"\")","v":""},{"$f":"IF('Summary List'!O216<>\"\",'Summary List'!O216,\"\")","v":""},{"$f":"IF('Summary List'!P216<>\"\",'Summary List'!P216,\"\")","v":""},{"$f":"IF('Summary List'!Q216<>\"\",'Summary List'!Q216,\"\")","v":""},{"$f":"IF('Summary List'!R216<>\"\",'Summary List'!R216,\"\")","v":""},{"$f":"IF('Summary List'!S216<>\"\",'Summary List'!S216,\"\")","v":""},null,{"$f":"IF('Summary List'!M275<>\"\",'Summary List'!M275,\"\")","v":""},{"$f":"IF('Summary List'!N275<>\"\",'Summary List'!N275,\"\")","v":""},{"$f":"IF('Summary List'!O275<>\"\",'Summary List'!O275,\"\")","v":""},{"$f":"IF('Summary List'!P275<>\"\",'Summary List'!P275,\"\")","v":""},{"$f":"IF('Summary List'!Q275<>\"\",'Summary List'!Q275,\"\")","v":""},{"$f":"IF('Summary List'!R275<>\"\",'Summary List'!R275,\"\")","v":""},{"$f":"IF('Summary List'!S275<>\"\",'Summary List'!S275,\"\")","v":""},null,{"$f":"IF('Summary List'!M334<>\"\",'Summary List'!M334,\"\")","v":""},{"$f":"IF('Summary List'!N334<>\"\",'Summary List'!N334,\"\")","v":""},{"$f":"IF('Summary List'!O334<>\"\",'Summary List'!O334,\"\")","v":""},{"$f":"IF('Summary List'!P334<>\"\",'Summary List'!P334,\"\")","v":""},{"$f":"IF('Summary List'!Q334<>\"\",'Summary List'!Q334,\"\")","v":""},{"$f":"IF('Summary List'!R334<>\"\",'Summary List'!R334,\"\")","v":""},{"$f":"IF('Summary List'!S334<>\"\",'Summary List'!S334,\"\")","v":""}]
[null,null,{"$f":"IF('Summary List'!M217<>\"\",'Summary List'!M217,\"\")","v":""},{"$f":"IF('Summary List'!N217<>\"\",'Summary List'!N217,\"\")","v":""},{"$f":"IF('Summary List'!O217<>\"\",'Summary List'!O217,\"\")","v":""},{"$f":"IF('Summary List'!P217<>\"\",'Summary List'!P217,\"\")","v":""},{"$f":"IF('Summary List'!Q217<>\"\",'Summary List'!Q217,\"\")","v":""},{"$f":"IF('Summary List'!R217<>\"\",'Summary List'!R217,\"\")","v":""},{"$f":"IF('Summary List'!S217<>\"\",'Summary List'!S217,\"\")","v":""},null,{"$f":"IF('Summary List'!M276<>\"\",'Summary List'!M276,\"\")","v":""},{"$f":"IF('Summary List'!N276<>\"\",'Summary List'!N276,\"\")","v":""},{"$f":"IF('Summary List'!O276<>\"\",'Summary List'!O276,\"\")","v":""},{"$f":"IF('Summary List'!P276<>\"\",'Summary List'!P276,\"\")","v":""},{"$f":"IF('Summary List'!Q276<>\"\",'Summary List'!Q276,\"\")","v":""},{"$f":"IF('Summary List'!R276<>\"\",'Summary List'!R276,\"\")","v":""},{"$f":"IF('Summary List'!S276<>\"\",'Summary List'!S276,\"\")","v":""},null,{"$f":"IF('Summary List'!M335<>\"\",'Summary List'!M335,\"\")","v":""},{"$f":"IF('Summary List'!N335<>\"\",'Summary List'!N335,\"\")","v":""},{"$f":"IF('Summary List'!O335<>\"\",'Summary List'!O335,\"\")","v":""},{"$f":"IF('Summary List'!P335<>\"\",'Summary List'!P335,\"\")","v":""},{"$f":"IF('Summary List'!Q335<>\"\",'Summary List'!Q335,\"\")","v":""},{"$f":"IF('Summary List'!R335<>\"\",'Summary List'!R335,\"\")","v":""},{"$f":"IF('Summary List'!S335<>\"\",'Summary List'!S335,\"\")","v":""}]
[null,null,{"$f":"IF('Summary List'!M218<>\"\",'Summary List'!M218,\"\")","v":""},{"$f":"IF('Summary List'!N218<>\"\",'Summary List'!N218,\"\")","v":""},{"$f":"IF('Summary List'!O218<>\"\",'Summary List'!O218,\"\")","v":""},{"$f":"IF('Summary List'!P218<>\"\",'Summary List'!P218,\"\")","v":""},{"$f":"IF('Summary List'!Q218<>\"\",'Summary List'!Q218,\"\")","v":""},{"$f":"IF('Summary List'!R218<>\"\",'Summary List'!R218,\"\")","v":""},{"$f":"IF('Summary List'!S218<>\"\",'Summary List'!S218,\"\")","v":""},null,{"$f":"IF('Summary List'!M277<>\"\",'Summary List'!M277,\"\")","v":""},{"$f":"IF('Summary List'!N277<>\"\",'Summary List'!N277,\"\")","v":""},{"$f":"IF('Summary List'!O277<>\"\",'Summary List'!O277,\"\")","v":""},{"$f":"IF('Summary List'!P277<>\"\",'Summary List'!P277,\"\")","v":""},{"$f":"IF('Summary List'!Q277<>\"\",'Summary List'!Q277,\"\")","v":""},{"$f":"IF('Summary List'!R277<>\"\",'Summary List'!R277,\"\")","v":""},{"$f":"IF('Summary List'!S277<>\"\",'Summary List'!S277,\"\")","v":""},null,{"$f":"IF('Summary List'!M336<>\"\",'Summary List'!M336,\"\")","v":""},{"$f":"IF('Summary List'!N336<>\"\",'Summary List'!N336,\"\")","v":""},{"$f":"IF('Summary List'!O336<>\"\",'Summary List'!O336,\"\")","v":""},{"$f":"IF('Summary List'!P336<>\"\",'Summary List'!P336,\"\")","v":""},{"$f":"IF('Summary List'!Q336<>\"\",'Summary List'!Q336,\"\")","v":""},{"$f":"IF('Summary List'!R336<>\"\",'Summary List'!R336,\"\")","v":""},{"$f":"IF('Summary List'!S336<>\"\",'Summary List'!S336,\"\")","v":""}]
[null,null,{"$f":"IF('Summary List'!M219<>\"\",'Summary List'!M219,\"\")","v":""},{"$f":"IF('Summary List'!N219<>\"\",'Summary List'!N219,\"\")","v":""},{"$f":"IF('Summary List'!O219<>\"\",'Summary List'!O219,\"\")","v":""},{"$f":"IF('Summary List'!P219<>\"\",'Summary List'!P219,\"\")","v":""},{"$f":"IF('Summary List'!Q219<>\"\",'Summary List'!Q219,\"\")","v":""},{"$f":"IF('Summary List'!R219<>\"\",'Summary List'!R219,\"\")","v":""},{"$f":"IF('Summary List'!S219<>\"\",'Summary List'!S219,\"\")","v":""},null,{"$f":"IF('Summary List'!M278<>\"\",'Summary List'!M278,\"\")","v":""},{"$f":"IF('Summary List'!N278<>\"\",'Summary List'!N278,\"\")","v":""},{"$f":"IF('Summary List'!O278<>\"\",'Summary List'!O278,\"\")","v":""},{"$f":"IF('Summary List'!P278<>\"\",'Summary List'!P278,\"\")","v":""},{"$f":"IF('Summary List'!Q278<>\"\",'Summary List'!Q278,\"\")","v":""},{"$f":"IF('Summary List'!R278<>\"\",'Summary List'!R278,\"\")","v":""},{"$f":"IF('Summary List'!S278<>\"\",'Summary List'!S278,\"\")","v":""},null,{"$f":"IF('Summary List'!M337<>\"\",'Summary List'!M337,\"\")","v":""},{"$f":"IF('Summary List'!N337<>\"\",'Summary List'!N337,\"\")","v":""},{"$f":"IF('Summary List'!O337<>\"\",'Summary List'!O337,\"\")","v":""},{"$f":"IF('Summary List'!P337<>\"\",'Summary List'!P337,\"\")","v":""},{"$f":"IF('Summary List'!Q337<>\"\",'Summary List'!Q337,\"\")","v":""},{"$f":"IF('Summary List'!R337<>\"\",'Summary List'!R337,\"\")","v":""},{"$f":"IF('Summary List'!S337<>\"\",'Summary List'!S337,\"\")","v":""}]
[null,null,{"$f":"IF('Summary List'!M220<>\"\",'Summary List'!M220,\"\")","v":""},{"$f":"IF('Summary List'!N220<>\"\",'Summary List'!N220,\"\")","v":""},{"$f":"IF('Summary List'!O220<>\"\",'Summary List'!O220,\"\")","v":""},{"$f":"IF('Summary List'!P220<>\"\",'Summary List'!P220,\"\")","v":""},{"$f":"IF('Summary List'!Q220<>\"\",'Summary List'!Q220,\"\")","v":""},{"$f":"IF('Summary List'!R220<>\"\",'Summary List'!R220,\"\")","v":""},{"$f":"IF('Summary List'!S220<>\"\",'Summary List'!S220,\"\")","v":""},null,{"$f":"IF('Summary List'!M279<>\"\",'Summary List'!M279,\"\")","v":""},{"$f":"IF('Summary List'!N279<>\"\",'Summary List'!N279,\"\")","v":""},{"$f":"IF('Summary List'!O279<>\"\",'Summary List'!O279,\"\")","v":""},{"$f":"IF('Summary List'!P279<>\"\",'Summary List'!P279,\"\")","v":""},{"$f":"IF('Summary List'!Q279<>\"\",'Summary List'!Q279,\"\")","v":""},{"$f":"IF('Summary List'!R279<>\"\",'Summary List'!R279,\"\")","v":""},{"$f":"IF('Summary List'!S279<>\"\",'Summary List'!S279,\"\")","v":""},null,{"$f":"IF('Summary List'!M338<>\"\",'Summary List'!M338,\"\")","v":""},{"$f":"IF('Summary List'!N338<>\"\",'Summary List'!N338,\"\")","v":""},{"$f":"IF('Summary List'!O338<>\"\",'Summary List'!O338,\"\")","v":""},{"$f":"IF('Summary List'!P338<>\"\",'Summary List'!P338,\"\")","v":""},{"$f":"IF('Summary List'!Q338<>\"\",'Summary List'!Q338,\"\")","v":""},{"$f":"IF('Summary List'!R338<>\"\",'Summary List'!R338,\"\")","v":""},{"$f":"IF('Summary List'!S338<>\"\",'Summary List'!S338,\"\")","v":""}]
[null,null,{"$f":"IF('Summary List'!M221<>\"\",'Summary List'!M221,\"\")","v":""},{"$f":"IF('Summary List'!N221<>\"\",'Summary List'!N221,\"\")","v":""},{"$f":"IF('Summary List'!O221<>\"\",'Summary List'!O221,\"\")","v":""},{"$f":"IF('Summary List'!P221<>\"\",'Summary List'!P221,\"\")","v":""},{"$f":"IF('Summary List'!Q221<>\"\",'Summary List'!Q221,\"\")","v":""},{"$f":"IF('Summary List'!R221<>\"\",'Summary List'!R221,\"\")","v":""},{"$f":"IF('Summary List'!S221<>\"\",'Summary List'!S221,\"\")","v":""},null,{"$f":"IF('Summary List'!M280<>\"\",'Summary List'!M280,\"\")","v":""},{"$f":"IF('Summary List'!N280<>\"\",'Summary List'!N280,\"\")","v":""},{"$f":"IF('Summary List'!O280<>\"\",'Summary List'!O280,\"\")","v":""},{"$f":"IF('Summary List'!P280<>\"\",'Summary List'!P280,\"\")","v":""},{"$f":"IF('Summary List'!Q280<>\"\",'Summary List'!Q280,\"\")","v":""},{"$f":"IF('Summary List'!R280<>\"\",'Summary List'!R280,\"\")","v":""},{"$f":"IF('Summary List'!S280<>\"\",'Summary List'!S280,\"\")","v":""},null,{"$f":"IF('Summary List'!M339<>\"\",'Summary List'!M339,\"\")","v":""},{"$f":"IF('Summary List'!N339<>\"\",'Summary List'!N339,\"\")","v":""},{"$f":"IF('Summary List'!O339<>\"\",'Summary List'!O339,\"\")","v":""},{"$f":"IF('Summary List'!P339<>\"\",'Summary List'!P339,\"\")","v":""},{"$f":"IF('Summary List'!Q339<>\"\",'Summary List'!Q339,\"\")","v":""},{"$f":"IF('Summary List'!R339<>\"\",'Summary List'!R339,\"\")","v":""},{"$f":"IF('Summary List'!S339<>\"\",'Summary List'!S339,\"\")","v":""}]
[null,null,{"$f":"IF('Summary List'!M222<>\"\",'Summary List'!M222,\"\")","v":""},{"$f":"IF('Summary List'!N222<>\"\",'Summary List'!N222,\"\")","v":""},{"$f":"IF('Summary List'!O222<>\"\",'Summary List'!O222,\"\")","v":""},{"$f":"IF('Summary List'!P222<>\"\",'Summary List'!P222,\"\")","v":""},{"$f":"IF('Summary List'!Q222<>\"\",'Summary List'!Q222,\"\")","v":""},{"$f":"IF('Summary List'!R222<>\"\",'Summary List'!R222,\"\")","v":""},{"$f":"IF('Summary List'!S222<>\"\",'Summary List'!S222,\"\")","v":""},null,{"$f":"IF('Summary List'!M281<>\"\",'Summary List'!M281,\"\")","v":""},{"$f":"IF('Summary List'!N281<>\"\",'Summary List'!N281,\"\")","v":""},{"$f":"IF('Summary List'!O281<>\"\",'Summary List'!O281,\"\")","v":""},{"$f":"IF('Summary List'!P281<>\"\",'Summary List'!P281,\"\")","v":""},{"$f":"IF('Summary List'!Q281<>\"\",'Summary List'!Q281,\"\")","v":""},{"$f":"IF('Summary List'!R281<>\"\",'Summary List'!R281,\"\")","v":""},{"$f":"IF('Summary List'!S281<>\"\",'Summary List'!S281,\"\")","v":""},null,{"$f":"IF('Summary List'!M340<>\"\",'Summary List'!M340,\"\")","v":""},{"$f":"IF('Summary List'!N340<>\"\",'Summary List'!N340,\"\")","v":""},{"$f":"IF('Summary List'!O340<>\"\",'Summary List'!O340,\"\")","v":""},{"$f":"IF('Summary List'!P340<>\"\",'Summary List'!P340,\"\")","v":""},{"$f":"IF('Summary List'!Q340<>\"\",'Summary List'!Q340,\"\")","v":""},{"$f":"IF('Summary List'!R340<>\"\",'Summary List'!R340,\"\")","v":""},{"$f":"IF('Summary List'!S340<>\"\",'Summary List'!S340,\"\")","v":""}]
[null,null,{"$f":"IF('Summary List'!M223<>\"\",'Summary List'!M223,\"\")","v":""},{"$f":"IF('Summary List'!N223<>\"\",'Summary List'!N223,\"\")","v":""},{"$f":"IF('Summary List'!O223<>\"\",'Summary List'!O223,\"\")","v":""},{"$f":"IF('Summary List'!P223<>\"\",'Summary List'!P223,\"\")","v":""},{"$f":"IF('Summary List'!Q223<>\"\",'Summary List'!Q223,\"\")","v":""},{"$f":"IF('Summary List'!R223<>\"\",'Summary List'!R223,\"\")","v":""},{"$f":"IF('Summary List'!S223<>\"\",'Summary List'!S223,\"\")","v":""},null,{"$f":"IF('Summary List'!M282<>\"\",'Summary List'!M282,\"\")","v":""},{"$f":"IF('Summary List'!N282<>\"\",'Summary List'!N282,\"\")","v":""},{"$f":"IF('Summary List'!O282<>\"\",'Summary List'!O282,\"\")","v":""},{"$f":"IF('Summary List'!P282<>\"\",'Summary List'!P282,\"\")","v":""},{"$f":"IF('Summary List'!Q282<>\"\",'Summary List'!Q282,\"\")","v":""},{"$f":"IF('Summary List'!R282<>\"\",'Summary List'!R282,\"\")","v":""},{"$f":"IF('Summary List'!S282<>\"\",'Summary List'!S282,\"\")","v":""},null,{"$f":"IF('Summary List'!M341<>\"\",'Summary List'!M341,\"\")","v":""},{"$f":"IF('Summary List'!N341<>\"\",'Summary List'!N341,\"\")","v":""},{"$f":"IF('Summary List'!O341<>\"\",'Summary List'!O341,\"\")","v":""},{"$f":"IF('Summary List'!P341<>\"\",'Summary List'!P341,\"\")","v":""},{"$f":"IF('Summary List'!Q341<>\"\",'Summary List'!Q341,\"\")","v":""},{"$f":"IF('Summary List'!R341<>\"\",'Summary List'!R341,\"\")","v":""},{"$f":"IF('Summary List'!S341<>\"\",'Summary List'!S341,\"\")","v":""}]
[null,null,{"$f":"IF('Summary List'!M224<>\"\",'Summary List'!M224,\"\")","v":""},{"$f":"IF('Summary List'!N224<>\"\",'Summary List'!N224,\"\")","v":""},{"$f":"IF('Summary List'!O224<>\"\",'Summary List'!O224,\"\")","v":""},{"$f":"IF('Summary List'!P224<>\"\",'Summary List'!P224,\"\")","v":""},{"$f":"IF('Summary List'!Q224<>\"\",'Summary List'!Q224,\"\")","v":""},{"$f":"IF('Summary List'!R224<>\"\",'Summary List'!R224,\"\")","v":""},{"$f":"IF('Summary List'!S224<>\"\",'Summary List'!S224,\"\")","v":""},null,{"$f":"IF('Summary List'!M283<>\"\",'Summary List'!M283,\"\")","v":""},{"$f":"IF('Summary List'!N283<>\"\",'Summary List'!N283,\"\")","v":""},{"$f":"IF('Summary List'!O283<>\"\",'Summary List'!O283,\"\")","v":""},{"$f":"IF('Summary List'!P283<>\"\",'Summary List'!P283,\"\")","v":""},{"$f":"IF('Summary List'!Q283<>\"\",'Summary List'!Q283,\"\")","v":""},{"$f":"IF('Summary List'!R283<>\"\",'Summary List'!R283,\"\")","v":""},{"$f":"IF('Summary List'!S283<>\"\",'Summary List'!S283,\"\")","v":""},null,{"$f":"IF('Summary List'!M342<>\"\",'Summary List'!M342,\"\")","v":""},{"$f":"IF('Summary List'!N342<>\"\",'Summary List'!N342,\"\")","v":""},{"$f":"IF('Summary List'!O342<>\"\",'Summary List'!O342,\"\")","v":""},{"$f":"IF('Summary List'!P342<>\"\",'Summary List'!P342,\"\")","v":""},{"$f":"IF('Summary List'!Q342<>\"\",'Summary List'!Q342,\"\")","v":""},{"$f":"IF('Summary List'!R342<>\"\",'Summary List'!R342,\"\")","v":""},{"$f":"IF('Summary List'!S342<>\"\",'Summary List'!S342,\"\")","v":""}]
[null,null,{"$f":"IF('Summary List'!M225<>\"\",'Summary List'!M225,\"\")","v":""},{"$f":"IF('Summary List'!N225<>\"\",'Summary List'!N225,\"\")","v":""},{"$f":"IF('Summary List'!O225<>\"\",'Summary List'!O225,\"\")","v":""},{"$f":"IF('Summary List'!P225<>\"\",'Summary List'!P225,\"\")","v":""},{"$f":"IF('Summary List'!Q225<>\"\",'Summary List'!Q225,\"\")","v":""},{"$f":"IF('Summary List'!R225<>\"\",'Summary List'!R225,\"\")","v":""},{"$f":"IF('Summary List'!S225<>\"\",'Summary List'!S225,\"\")","v":""},null,{"$f":"IF('Summary List'!M284<>\"\",'Summary List'!M284,\"\")","v":""},{"$f":"IF('Summary List'!N284<>\"\",'Summary List'!N284,\"\")","v":""},{"$f":"IF('Summary List'!O284<>\"\",'Summary List'!O284,\"\")","v":""},{"$f":"IF('Summary List'!P284<>\"\",'Summary List'!P284,\"\")","v":""},{"$f":"IF('Summary List'!Q284<>\"\",'Summary List'!Q284,\"\")","v":""},{"$f":"IF('Summary List'!R284<>\"\",'Summary List'!R284,\"\")","v":""},{"$f":"IF('Summary List'!S284<>\"\",'Summary List'!S284,\"\")","v":""},null,{"$f":"IF('Summary List'!M343<>\"\",'Summary List'!M343,\"\")","v":""},{"$f":"IF('Summary List'!N343<>\"\",'Summary List'!N343,\"\")","v":""},{"$f":"IF('Summary List'!O343<>\"\",'Summary List'!O343,\"\")","v":""},{"$f":"IF('Summary List'!P343<>\"\",'Summary List'!P343,\"\")","v":""},{"$f":"IF('Summary List'!Q343<>\"\",'Summary List'!Q343,\"\")","v":""},{"$f":"IF('Summary List'!R343<>\"\",'Summary List'!R343,\"\")","v":""},{"$f":"IF('Summary List'!S343<>\"\",'Summary List'!S343,\"\")","v":""}]
[null,null,{"$f":"IF('Summary List'!M226<>\"\",'Summary List'!M226,\"\")","v":""},{"$f":"IF('Summary List'!N226<>\"\",'Summary List'!N226,\"\")","v":""},{"$f":"IF('Summary List'!O226<>\"\",'Summary List'!O226,\"\")","v":""},{"$f":"IF('Summary List'!P226<>\"\",'Summary List'!P226,\"\")","v":""},{"$f":"IF('Summary List'!Q226<>\"\",'Summary List'!Q226,\"\")","v":""},{"$f":"IF('Summary List'!R226<>\"\",'Summary List'!R226,\"\")","v":""},{"$f":"IF('Summary List'!S226<>\"\",'Summary List'!S226,\"\")","v":""},null,{"$f":"IF('Summary List'!M285<>\"\",'Summary List'!M285,\"\")","v":""},{"$f":"IF('Summary List'!N285<>\"\",'Summary List'!N285,\"\")","v":""},{"$f":"IF('Summary List'!O285<>\"\",'Summary List'!O285,\"\")","v":""},{"$f":"IF('Summary List'!P285<>\"\",'Summary List'!P285,\"\")","v":""},{"$f":"IF('Summary List'!Q285<>\"\",'Summary List'!Q285,\"\")","v":""},{"$f":"IF('Summary List'!R285<>\"\",'Summary List'!R285,\"\")","v":""},{"$f":"IF('Summary List'!S285<>\"\",'Summary List'!S285,\"\")","v":""},null,{"$f":"IF('Summary List'!M344<>\"\",'Summary List'!M344,\"\")","v":""},{"$f":"IF('Summary List'!N344<>\"\",'Summary List'!N344,\"\")","v":""},{"$f":"IF('Summary List'!O344<>\"\",'Summary List'!O344,\"\")","v":""},{"$f":"IF('Summary List'!P344<>\"\",'Summary List'!P344,\"\")","v":""},{"$f":"IF('Summary List'!Q344<>\"\",'Summary List'!Q344,\"\")","v":""},{"$f":"IF('Summary List'!R344<>\"\",'Summary List'!R344,\"\")","v":""},{"$f":"IF('Summary List'!S344<>\"\",'Summary List'!S344,\"\")","v":""}]
[null,null,{"$f":"IF('Summary List'!M227<>\"\",'Summary List'!M227,\"\")","v":""},{"$f":"IF('Summary List'!N227<>\"\",'Summary List'!N227,\"\")","v":""},{"$f":"IF('Summary List'!O227<>\"\",'Summary List'!O227,\"\")","v":""},{"$f":"IF('Summary List'!P227<>\"\",'Summary List'!P227,\"\")","v":""},{"$f":"IF('Summary List'!Q227<>\"\",'Summary List'!Q227,\"\")","v":""},{"$f":"IF('Summary List'!R227<>\"\",'Summary List'!R227,\"\")","v":""},{"$f":"IF('Summary List'!S227<>\"\",'Summary List'!S227,\"\")","v":""},null,{"$f":"IF('Summary List'!M286<>\"\",'Summary List'!M286,\"\")","v":""},{"$f":"IF('Summary List'!N286<>\"\",'Summary List'!N286,\"\")","v":""},{"$f":"IF('Summary List'!O286<>\"\",'Summary List'!O286,\"\")","v":""},{"$f":"IF('Summary List'!P286<>\"\",'Summary List'!P286,\"\")","v":""},{"$f":"IF('Summary List'!Q286<>\"\",'Summary List'!Q286,\"\")","v":""},{"$f":"IF('Summary List'!R286<>\"\",'Summary List'!R286,\"\")","v":""},{"$f":"IF('Summary List'!S286<>\"\",'Summary List'!S286,\"\")","v":""},null,{"$f":"IF('Summary List'!M345<>\"\",'Summary List'!M345,\"\")","v":""},{"$f":"IF('Summary List'!N345<>\"\",'Summary List'!N345,\"\")","v":""},{"$f":"IF('Summary List'!O345<>\"\",'Summary List'!O345,\"\")","v":""},{"$f":"IF('Summary List'!P345<>\"\",'Summary List'!P345,\"\")","v":""},{"$f":"IF('Summary List'!Q345<>\"\",'Summary List'!Q345,\"\")","v":""},{"$f":"IF('Summary List'!R345<>\"\",'Summary List'!R345,\"\")","v":""},{"$f":"IF('Summary List'!S345<>\"\",'Summary List'!S345,\"\")","v":""}]
[null,null,{"$f":"IF('Summary List'!M228<>\"\",'Summary List'!M228,\"\")","v":""},{"$f":"IF('Summary List'!N228<>\"\",'Summary List'!N228,\"\")","v":""},{"$f":"IF('Summary List'!O228<>\"\",'Summary List'!O228,\"\")","v":""},{"$f":"IF('Summary List'!P228<>\"\",'Summary List'!P228,\"\")","v":""},{"$f":"IF('Summary List'!Q228<>\"\",'Summary List'!Q228,\"\")","v":""},{"$f":"IF('Summary List'!R228<>\"\",'Summary List'!R228,\"\")","v":""},{"$f":"IF('Summary List'!S228<>\"\",'Summary List'!S228,\"\")","v":""},null,{"$f":"IF('Summary List'!M287<>\"\",'Summary List'!M287,\"\")","v":""},{"$f":"IF('Summary List'!N287<>\"\",'Summary List'!N287,\"\")","v":""},{"$f":"IF('Summary List'!O287<>\"\",'Summary List'!O287,\"\")","v":""},{"$f":"IF('Summary List'!P287<>\"\",'Summary List'!P287,\"\")","v":""},{"$f":"IF('Summary List'!Q287<>\"\",'Summary List'!Q287,\"\")","v":""},{"$f":"IF('Summary List'!R287<>\"\",'Summary List'!R287,\"\")","v":""},{"$f":"IF('Summary List'!S287<>\"\",'Summary List'!S287,\"\")","v":""},null,{"$f":"IF('Summary List'!M346<>\"\",'Summary List'!M346,\"\")","v":""},{"$f":"IF('Summary List'!N346<>\"\",'Summary List'!N346,\"\")","v":""},{"$f":"IF('Summary List'!O346<>\"\",'Summary List'!O346,\"\")","v":""},{"$f":"IF('Summary List'!P346<>\"\",'Summary List'!P346,\"\")","v":""},{"$f":"IF('Summary List'!Q346<>\"\",'Summary List'!Q346,\"\")","v":""},{"$f":"IF('Summary List'!R346<>\"\",'Summary List'!R346,\"\")","v":""},{"$f":"IF('Summary List'!S346<>\"\",'Summary List'!S346,\"\")","v":""}]
[null,null,{"$f":"IF('Summary List'!M229<>\"\",'Summary List'!M229,\"\")","v":""},{"$f":"IF('Summary List'!N229<>\"\",'Summary List'!N229,\"\")","v":""},{"$f":"IF('Summary List'!O229<>\"\",'Summary List'!O229,\"\")","v":""},{"$f":"IF('Summary List'!P229<>\"\",'Summary List'!P229,\"\")","v":""},{"$f":"IF('Summary List'!Q229<>\"\",'Summary List'!Q229,\"\")","v":""},{"$f":"IF('Summary List'!R229<>\"\",'Summary List'!R229,\"\")","v":""},{"$f":"IF('Summary List'!S229<>\"\",'Summary List'!S229,\"\")","v":""},null,{"$f":"IF('Summary List'!M288<>\"\",'Summary List'!M288,\"\")","v":""},{"$f":"IF('Summary List'!N288<>\"\",'Summary List'!N288,\"\")","v":""},{"$f":"IF('Summary List'!O288<>\"\",'Summary List'!O288,\"\")","v":""},{"$f":"IF('Summary List'!P288<>\"\",'Summary List'!P288,\"\")","v":""},{"$f":"IF('Summary List'!Q288<>\"\",'Summary List'!Q288,\"\")","v":""},{"$f":"IF('Summary List'!R288<>\"\",'Summary List'!R288,\"\")","v":""},{"$f":"IF('Summary List'!S288<>\"\",'Summary List'!S288,\"\")","v":""},null,{"$f":"IF('Summary List'!M347<>\"\",'Summary List'!M347,\"\")","v":""},{"$f":"IF('Summary List'!N347<>\"\",'Summary List'!N347,\"\")","v":""},{"$f":"IF('Summary List'!O347<>\"\",'Summary List'!O347,\"\")","v":""},{"$f":"IF('Summary List'!P347<>\"\",'Summary List'!P347,\"\")","v":""},{"$f":"IF('Summary List'!Q347<>\"\",'Summary List'!Q347,\"\")","v":""},{"$f":"IF('Summary List'!R347<>\"\",'Summary List'!R347,\"\")","v":""},{"$f":"IF('Summary List'!S347<>\"\",'Summary List'!S347,\"\")","v":""}]
[null,null,{"$f":"IF('Summary List'!M230<>\"\",'Summary List'!M230,\"\")","v":""},{"$f":"IF('Summary List'!N230<>\"\",'Summary List'!N230,\"\")","v":""},{"$f":"IF('Summary List'!O230<>\"\",'Summary List'!O230,\"\")","v":""},{"$f":"IF('Summary List'!P230<>\"\",'Summary List'!P230,\"\")","v":""},{"$f":"IF('Summary List'!Q230<>\"\",'Summary List'!Q230,\"\")","v":""},{"$f":"IF('Summary List'!R230<>\"\",'Summary List'!R230,\"\")","v":""},{"$f":"IF('Summary List'!S230<>\"\",'Summary List'!S230,\"\")","v":""},null,{"$f":"IF('Summary List'!M289<>\"\",'Summary List'!M289,\"\")","v":""},{"$f":"IF('Summary List'!N289<>\"\",'Summary List'!N289,\"\")","v":""},{"$f":"IF('Summary List'!O289<>\"\",'Summary List'!O289,\"\")","v":""},{"$f":"IF('Summary List'!P289<>\"\",'Summary List'!P289,\"\")","v":""},{"$f":"IF('Summary List'!Q289<>\"\",'Summary List'!Q289,\"\")","v":""},{"$f":"IF('Summary List'!R289<>\"\",'Summary List'!R289,\"\")","v":""},{"$f":"IF('Summary List'!S289<>\"\",'Summary List'!S289,\"\")","v":""},null,{"$f":"IF('Summary List'!M348<>\"\",'Summary List'!M348,\"\")","v":""},{"$f":"IF('Summary List'!N348<>\"\",'Summary List'!N348,\"\")","v":""},{"$f":"IF('Summary List'!O348<>\"\",'Summary List'!O348,\"\")","v":""},{"$f":"IF('Summary List'!P348<>\"\",'Summary List'!P348,\"\")","v":""},{"$f":"IF('Summary List'!Q348<>\"\",'Summary List'!Q348,\"\")","v":""},{"$f":"IF('Summary List'!R348<>\"\",'Summary List'!R348,\"\")","v":""},{"$f":"IF('Summary List'!S348<>\"\",'Summary List'!S348,\"\")","v":""}]
[null,null,{"$f":"IF('Summary List'!M231<>\"\",'Summary List'!M231,\"\")","v":""},{"$f":"IF('Summary List'!N231<>\"\",'Summary List'!N231,\"\")","v":""},{"$f":"IF('Summary List'!O231<>\"\",'Summary List'!O231,\"\")","v":""},{"$f":"IF('Summary List'!P231<>\"\",'Summary List'!P231,\"\")","v":""},{"$f":"IF('Summary List'!Q231<>\"\",'Summary List'!Q231,\"\")","v":""},{"$f":"IF('Summary List'!R231<>\"\",'Summary List'!R231,\"\")","v":""},{"$f":"IF('Summary List'!S231<>\"\",'Summary List'!S231,\"\")","v":""},null,{"$f":"IF('Summary List'!M290<>\"\",'Summary List'!M290,\"\")","v":""},{"$f":"IF('Summary List'!N290<>\"\",'Summary List'!N290,\"\")","v":""},{"$f":"IF('Summary List'!O290<>\"\",'Summary List'!O290,\"\")","v":""},{"$f":"IF('Summary List'!P290<>\"\",'Summary List'!P290,\"\")","v":""},{"$f":"IF('Summary List'!Q290<>\"\",'Summary List'!Q290,\"\")","v":""},{"$f":"IF('Summary List'!R290<>\"\",'Summary List'!R290,\"\")","v":""},{"$f":"IF('Summary List'!S290<>\"\",'Summary List'!S290,\"\")","v":""},null,{"$f":"IF('Summary List'!M349<>\"\",'Summary List'!M349,\"\")","v":""},{"$f":"IF('Summary List'!N349<>\"\",'Summary List'!N349,\"\")","v":""},{"$f":"IF('Summary List'!O349<>\"\",'Summary List'!O349,\"\")","v":""},{"$f":"IF('Summary List'!P349<>\"\",'Summary List'!P349,\"\")","v":""},{"$f":"IF('Summary List'!Q349<>\"\",'Summary List'!Q349,\"\")","v":""},{"$f":"IF('Summary List'!R349<>\"\",'Summary List'!R349,\"\")","v":""},{"$f":"IF('Summary List'!S349<>\"\",'Summary List'!S349,\"\")","v":""}]
[null,null,{"$f":"IF('Summary List'!M232<>\"\",'Summary List'!M232,\"\")","v":""},{"$f":"IF('Summary List'!N232<>\"\",'Summary List'!N232,\"\")","v":""},{"$f":"IF('Summary List'!O232<>\"\",'Summary List'!O232,\"\")","v":""},{"$f":"IF('Summary List'!P232<>\"\",'Summary List'!P232,\"\")","v":""},{"$f":"IF('Summary List'!Q232<>\"\",'Summary List'!Q232,\"\")","v":""},{"$f":"IF('Summary List'!R232<>\"\",'Summary List'!R232,\"\")","v":""},{"$f":"IF('Summary List'!S232<>\"\",'Summary List'!S232,\"\")","v":""},null,{"$f":"IF('Summary List'!M291<>\"\",'Summary List'!M291,\"\")","v":""},{"$f":"IF('Summary List'!N291<>\"\",'Summary List'!N291,\"\")","v":""},{"$f":"IF('Summary List'!O291<>\"\",'Summary List'!O291,\"\")","v":""},{"$f":"IF('Summary List'!P291<>\"\",'Summary List'!P291,\"\")","v":""},{"$f":"IF('Summary List'!Q291<>\"\",'Summary List'!Q291,\"\")","v":""},{"$f":"IF('Summary List'!R291<>\"\",'Summary List'!R291,\"\")","v":""},{"$f":"IF('Summary List'!S291<>\"\",'Summary List'!S291,\"\")","v":""},null,{"$f":"IF('Summary List'!M350<>\"\",'Summary List'!M350,\"\")","v":""},{"$f":"IF('Summary List'!N350<>\"\",'Summary List'!N350,\"\")","v":""},{"$f":"IF('Summary List'!O350<>\"\",'Summary List'!O350,\"\")","v":""},{"$f":"IF('Summary List'!P350<>\"\",'Summary List'!P350,\"\")","v":""},{"$f":"IF('Summary List'!Q350<>\"\",'Summary List'!Q350,\"\")","v":""},{"$f":"IF('Summary List'!R350<>\"\",'Summary List'!R350,\"\")","v":""},{"$f":"IF('Summary List'!S350<>\"\",'Summary List'!S350,\"\")","v":""}]
[null,null,{"$f":"IF('Summary List'!M233<>\"\",'Summary List'!M233,\"\")","v":""},{"$f":"IF('Summary List'!N233<>\"\",'Summary List'!N233,\"\")","v":""},{"$f":"IF('Summary List'!O233<>\"\",'Summary List'!O233,\"\")","v":""},{"$f":"IF('Summary List'!P233<>\"\",'Summary List'!P233,\"\")","v":""},{"$f":"IF('Summary List'!Q233<>\"\",'Summary List'!Q233,\"\")","v":""},{"$f":"IF('Summary List'!R233<>\"\",'Summary List'!R233,\"\")","v":""},{"$f":"IF('Summary List'!S233<>\"\",'Summary List'!S233,\"\")","v":""},null,{"$f":"IF('Summary List'!M292<>\"\",'Summary List'!M292,\"\")","v":""},{"$f":"IF('Summary List'!N292<>\"\",'Summary List'!N292,\"\")","v":""},{"$f":"IF('Summary List'!O292<>\"\",'Summary List'!O292,\"\")","v":""},{"$f":"IF('Summary List'!P292<>\"\",'Summary List'!P292,\"\")","v":""},{"$f":"IF('Summary List'!Q292<>\"\",'Summary List'!Q292,\"\")","v":""},{"$f":"IF('Summary List'!R292<>\"\",'Summary List'!R292,\"\")","v":""},{"$f":"IF('Summary List'!S292<>\"\",'Summary List'!S292,\"\")","v":""},null,{"$f":"IF('Summary List'!M351<>\"\",'Summary List'!M351,\"\")","v":""},{"$f":"IF('Summary List'!N351<>\"\",'Summary List'!N351,\"\")","v":""},{"$f":"IF('Summary List'!O351<>\"\",'Summary List'!O351,\"\")","v":""},{"$f":"IF('Summary List'!P351<>\"\",'Summary List'!P351,\"\")","v":""},{"$f":"IF('Summary List'!Q351<>\"\",'Summary List'!Q351,\"\")","v":""},{"$f":"IF('Summary List'!R351<>\"\",'Summary List'!R351,\"\")","v":""},{"$f":"IF('Summary List'!S351<>\"\",'Summary List'!S351,\"\")","v":""}]
[null,null,{"$f":"IF('Summary List'!M234<>\"\",'Summary List'!M234,\"\")","v":""},{"$f":"IF('Summary List'!N234<>\"\",'Summary List'!N234,\"\")","v":""},{"$f":"IF('Summary List'!O234<>\"\",'Summary List'!O234,\"\")","v":""},{"$f":"IF('Summary List'!P234<>\"\",'Summary List'!P234,\"\")","v":""},{"$f":"IF('Summary List'!Q234<>\"\",'Summary List'!Q234,\"\")","v":""},{"$f":"IF('Summary List'!R234<>\"\",'Summary List'!R234,\"\")","v":""},{"$f":"IF('Summary List'!S234<>\"\",'Summary List'!S234,\"\")","v":""},null,{"$f":"IF('Summary List'!M293<>\"\",'Summary List'!M293,\"\")","v":""},{"$f":"IF('Summary List'!N293<>\"\",'Summary List'!N293,\"\")","v":""},{"$f":"IF('Summary List'!O293<>\"\",'Summary List'!O293,\"\")","v":""},{"$f":"IF('Summary List'!P293<>\"\",'Summary List'!P293,\"\")","v":""},{"$f":"IF('Summary List'!Q293<>\"\",'Summary List'!Q293,\"\")","v":""},{"$f":"IF('Summary List'!R293<>\"\",'Summary List'!R293,\"\")","v":""},{"$f":"IF('Summary List'!S293<>\"\",'Summary List'!S293,\"\")","v":""},null,{"$f":"IF('Summary List'!M352<>\"\",'Summary List'!M352,\"\")","v":""},{"$f":"IF('Summary List'!N352<>\"\",'Summary List'!N352,\"\")","v":""},{"$f":"IF('Summary List'!O352<>\"\",'Summary List'!O352,\"\")","v":""},{"$f":"IF('Summary List'!P352<>\"\",'Summary List'!P352,\"\")","v":""},{"$f":"IF('Summary List'!Q352<>\"\",'Summary List'!Q352,\"\")","v":""},{"$f":"IF('Summary List'!R352<>\"\",'Summary List'!R352,\"\")","v":""},{"$f":"IF('Summary List'!S352<>\"\",'Summary List'!S352,\"\")","v":""}]
[null,null,{"$f":"IF('Summary List'!M235<>\"\",'Summary List'!M235,\"\")","v":""},{"$f":"IF('Summary List'!N235<>\"\",'Summary List'!N235,\"\")","v":""},{"$f":"IF('Summary List'!O235<>\"\",'Summary List'!O235,\"\")","v":""},{"$f":"IF('Summary List'!P235<>\"\",'Summary List'!P235,\"\")","v":""},{"$f":"IF('Summary List'!Q235<>\"\",'Summary List'!Q235,\"\")","v":""},{"$f":"IF('Summary List'!R235<>\"\",'Summary List'!R235,\"\")","v":""},{"$f":"IF('Summary List'!S235<>\"\",'Summary List'!S235,\"\")","v":""},null,{"$f":"IF('Summary List'!M294<>\"\",'Summary List'!M294,\"\")","v":""},{"$f":"IF('Summary List'!N294<>\"\",'Summary List'!N294,\"\")","v":""},{"$f":"IF('Summary List'!O294<>\"\",'Summary List'!O294,\"\")","v":""},{"$f":"IF('Summary List'!P294<>\"\",'Summary List'!P294,\"\")","v":""},{"$f":"IF('Summary List'!Q294<>\"\",'Summary List'!Q294,\"\")","v":""},{"$f":"IF('Summary List'!R294<>\"\",'Summary List'!R294,\"\")","v":""},{"$f":"IF('Summary List'!S294<>\"\",'Summary List'!S294,\"\")","v":""},null,{"$f":"IF('Summary List'!M353<>\"\",'Summary List'!M353,\"\")","v":""},{"$f":"IF('Summary List'!N353<>\"\",'Summary List'!N353,\"\")","v":""},{"$f":"IF('Summary List'!O353<>\"\",'Summary List'!O353,\"\")","v":""},{"$f":"IF('Summary List'!P353<>\"\",'Summary List'!P353,\"\")","v":""},{"$f":"IF('Summary List'!Q353<>\"\",'Summary List'!Q353,\"\")","v":""},{"$f":"IF('Summary List'!R353<>\"\",'Summary List'!R353,\"\")","v":""},{"$f":"IF('Summary List'!S353<>\"\",'Summary List'!S353,\"\")","v":""}]
[null,null,{"$f":"IF('Summary List'!M236<>\"\",'Summary List'!M236,\"\")","v":""},{"$f":"IF('Summary List'!N236<>\"\",'Summary List'!N236,\"\")","v":""},{"$f":"IF('Summary List'!O236<>\"\",'Summary List'!O236,\"\")","v":""},{"$f":"IF('Summary List'!P236<>\"\",'Summary List'!P236,\"\")","v":""},{"$f":"IF('Summary List'!Q236<>\"\",'Summary List'!Q236,\"\")","v":""},{"$f":"IF('Summary List'!R236<>\"\",'Summary List'!R236,\"\")","v":""},{"$f":"IF('Summary List'!S236<>\"\",'Summary List'!S236,\"\")","v":""},null,{"$f":"IF('Summary List'!M295<>\"\",'Summary List'!M295,\"\")","v":""},{"$f":"IF('Summary List'!N295<>\"\",'Summary List'!N295,\"\")","v":""},{"$f":"IF('Summary List'!O295<>\"\",'Summary List'!O295,\"\")","v":""},{"$f":"IF('Summary List'!P295<>\"\",'Summary List'!P295,\"\")","v":""},{"$f":"IF('Summary List'!Q295<>\"\",'Summary List'!Q295,\"\")","v":""},{"$f":"IF('Summary List'!R295<>\"\",'Summary List'!R295,\"\")","v":""},{"$f":"IF('Summary List'!S295<>\"\",'Summary List'!S295,\"\")","v":""},null,{"$f":"IF('Summary List'!M354<>\"\",'Summary List'!M354,\"\")","v":""},{"$f":"IF('Summary List'!N354<>\"\",'Summary List'!N354,\"\")","v":""},{"$f":"IF('Summary List'!O354<>\"\",'Summary List'!O354,\"\")","v":""},{"$f":"IF('Summary List'!P354<>\"\",'Summary List'!P354,\"\")","v":""},{"$f":"IF('Summary List'!Q354<>\"\",'Summary List'!Q354,\"\")","v":""},{"$f":"IF('Summary List'!R354<>\"\",'Summary List'!R354,\"\")","v":""},{"$f":"IF('Summary List'!S354<>\"\",'Summary List'!S354,\"\")","v":""}]
[]
[]
[]
[]
[null,"COMPUTED BY:",null,null,"DATE:",null,null,null,null,null,null,null,null,"(08-05-21)",null,null,null,null,null,null,null,"PROJECT NO.",null,null,"SHEET NO."]
[null,"CHECKED BY:",null,null,"DATE:",null,null,null,null,null,null,null,null,null,null,null,null,null,null,null,null,{"$f":"'General Project Information'!$E$7","v":""},null,null,"3D-",{"$f":"1+Z82","v":5}]
[null,null,null,null,null,null,null,null,null,null,null,null,null,"STATE OF NORTH CAROLINA"]
[null,null,null,null,null,null,null,null,null,null,null,null,null,"DIVISION OF HIGHWAYS"]
[]
[null,null,null,null,"SUMMARY OF STORMWATER CONTROL MEASURES",null,null,null,null,null,null,null,"SUMMARY OF STORMWATER CONTROL MEASURES",null,null,null,null,null,null,null,"SUMMARY OF STORMWATER CONTROL MEASURES"]
[]
[null,null,"CONST SHEET NO.","SCM TYPE","LINE","STATION","Location LT/RT/CL","Latitude","Longitude",null,"CONST SHEET NO.","SCM TYPE","LINE","STATION","Location LT/RT/CL","Latitude","Longitude",null,"CONST SHEET NO.","SCM TYPE","LINE","STATION","Location LT/RT/CL","Latitude","Longitude"]
[]
[]
[]
[null,null,{"$f":"IF('Summary List'!M355<>\"\",'Summary List'!M355,\"\")","v":""},{"$f":"IF('Summary List'!N355<>\"\",'Summary List'!N355,\"\")","v":""},{"$f":"IF('Summary List'!O355<>\"\",'Summary List'!O355,\"\")","v":""},{"$f":"IF('Summary List'!P355<>\"\",'Summary List'!P355,\"\")","v":""},{"$f":"IF('Summary List'!Q355<>\"\",'Summary List'!Q355,\"\")","v":""},{"$f":"IF('Summary List'!R355<>\"\",'Summary List'!R355,\"\")","v":""},{"$f":"IF('Summary List'!S355<>\"\",'Summary List'!S355,\"\")","v":""},null,{"$f":"IF('Summary List'!M414<>\"\",'Summary List'!M414,\"\")","v":""},{"$f":"IF('Summary List'!N414<>\"\",'Summary List'!N414,\"\")","v":""},{"$f":"IF('Summary List'!O414<>\"\",'Summary List'!O414,\"\")","v":""},{"$f":"IF('Summary List'!P414<>\"\",'Summary List'!P414,\"\")","v":""},{"$f":"IF('Summary List'!Q414<>\"\",'Summary List'!Q414,\"\")","v":""},{"$f":"IF('Summary List'!R414<>\"\",'Summary List'!R414,\"\")","v":""},{"$f":"IF('Summary List'!S414<>\"\",'Summary List'!S414,\"\")","v":""},null,{"$f":"IF('Summary List'!M473<>\"\",'Summary List'!M473,\"\")","v":""},{"$f":"IF('Summary List'!N473<>\"\",'Summary List'!N473,\"\")","v":""},{"$f":"IF('Summary List'!O473<>\"\",'Summary List'!O473,\"\")","v":""},{"$f":"IF('Summary List'!P473<>\"\",'Summary List'!P473,\"\")","v":""},{"$f":"IF('Summary List'!Q473<>\"\",'Summary List'!Q473,\"\")","v":""},{"$f":"IF('Summary List'!R473<>\"\",'Summary List'!R473,\"\")","v":""},{"$f":"IF('Summary List'!S473<>\"\",'Summary List'!S473,\"\")","v":""}]
[null,null,{"$f":"IF('Summary List'!M356<>\"\",'Summary List'!M356,\"\")","v":""},{"$f":"IF('Summary List'!N356<>\"\",'Summary List'!N356,\"\")","v":""},{"$f":"IF('Summary List'!O356<>\"\",'Summary List'!O356,\"\")","v":""},{"$f":"IF('Summary List'!P356<>\"\",'Summary List'!P356,\"\")","v":""},{"$f":"IF('Summary List'!Q356<>\"\",'Summary List'!Q356,\"\")","v":""},{"$f":"IF('Summary List'!R356<>\"\",'Summary List'!R356,\"\")","v":""},{"$f":"IF('Summary List'!S356<>\"\",'Summary List'!S356,\"\")","v":""},null,{"$f":"IF('Summary List'!M415<>\"\",'Summary List'!M415,\"\")","v":""},{"$f":"IF('Summary List'!N415<>\"\",'Summary List'!N415,\"\")","v":""},{"$f":"IF('Summary List'!O415<>\"\",'Summary List'!O415,\"\")","v":""},{"$f":"IF('Summary List'!P415<>\"\",'Summary List'!P415,\"\")","v":""},{"$f":"IF('Summary List'!Q415<>\"\",'Summary List'!Q415,\"\")","v":""},{"$f":"IF('Summary List'!R415<>\"\",'Summary List'!R415,\"\")","v":""},{"$f":"IF('Summary List'!S415<>\"\",'Summary List'!S415,\"\")","v":""},null,{"$f":"IF('Summary List'!M474<>\"\",'Summary List'!M474,\"\")","v":""},{"$f":"IF('Summary List'!N474<>\"\",'Summary List'!N474,\"\")","v":""},{"$f":"IF('Summary List'!O474<>\"\",'Summary List'!O474,\"\")","v":""},{"$f":"IF('Summary List'!P474<>\"\",'Summary List'!P474,\"\")","v":""},{"$f":"IF('Summary List'!Q474<>\"\",'Summary List'!Q474,\"\")","v":""},{"$f":"IF('Summary List'!R474<>\"\",'Summary List'!R474,\"\")","v":""},{"$f":"IF('Summary List'!S474<>\"\",'Summary List'!S474,\"\")","v":""}]
[null,null,{"$f":"IF('Summary List'!M357<>\"\",'Summary List'!M357,\"\")","v":""},{"$f":"IF('Summary List'!N357<>\"\",'Summary List'!N357,\"\")","v":""},{"$f":"IF('Summary List'!O357<>\"\",'Summary List'!O357,\"\")","v":""},{"$f":"IF('Summary List'!P357<>\"\",'Summary List'!P357,\"\")","v":""},{"$f":"IF('Summary List'!Q357<>\"\",'Summary List'!Q357,\"\")","v":""},{"$f":"IF('Summary List'!R357<>\"\",'Summary List'!R357,\"\")","v":""},{"$f":"IF('Summary List'!S357<>\"\",'Summary List'!S357,\"\")","v":""},null,{"$f":"IF('Summary List'!M416<>\"\",'Summary List'!M416,\"\")","v":""},{"$f":"IF('Summary List'!N416<>\"\",'Summary List'!N416,\"\")","v":""},{"$f":"IF('Summary List'!O416<>\"\",'Summary List'!O416,\"\")","v":""},{"$f":"IF('Summary List'!P416<>\"\",'Summary List'!P416,\"\")","v":""},{"$f":"IF('Summary List'!Q416<>\"\",'Summary List'!Q416,\"\")","v":""},{"$f":"IF('Summary List'!R416<>\"\",'Summary List'!R416,\"\")","v":""},{"$f":"IF('Summary List'!S416<>\"\",'Summary List'!S416,\"\")","v":""},null,{"$f":"IF('Summary List'!M475<>\"\",'Summary List'!M475,\"\")","v":""},{"$f":"IF('Summary List'!N475<>\"\",'Summary List'!N475,\"\")","v":""},{"$f":"IF('Summary List'!O475<>\"\",'Summary List'!O475,\"\")","v":""},{"$f":"IF('Summary List'!P475<>\"\",'Summary List'!P475,\"\")","v":""},{"$f":"IF('Summary List'!Q475<>\"\",'Summary List'!Q475,\"\")","v":""},{"$f":"IF('Summary List'!R475<>\"\",'Summary List'!R475,\"\")","v":""},{"$f":"IF('Summary List'!S475<>\"\",'Summary List'!S475,\"\")","v":""}]
[null,null,{"$f":"IF('Summary List'!M358<>\"\",'Summary List'!M358,\"\")","v":""},{"$f":"IF('Summary List'!N358<>\"\",'Summary List'!N358,\"\")","v":""},{"$f":"IF('Summary List'!O358<>\"\",'Summary List'!O358,\"\")","v":""},{"$f":"IF('Summary List'!P358<>\"\",'Summary List'!P358,\"\")","v":""},{"$f":"IF('Summary List'!Q358<>\"\",'Summary List'!Q358,\"\")","v":""},{"$f":"IF('Summary List'!R358<>\"\",'Summary List'!R358,\"\")","v":""},{"$f":"IF('Summary List'!S358<>\"\",'Summary List'!S358,\"\")","v":""},null,{"$f":"IF('Summary List'!M417<>\"\",'Summary List'!M417,\"\")","v":""},{"$f":"IF('Summary List'!N417<>\"\",'Summary List'!N417,\"\")","v":""},{"$f":"IF('Summary List'!O417<>\"\",'Summary List'!O417,\"\")","v":""},{"$f":"IF('Summary List'!P417<>\"\",'Summary List'!P417,\"\")","v":""},{"$f":"IF('Summary List'!Q417<>\"\",'Summary List'!Q417,\"\")","v":""},{"$f":"IF('Summary List'!R417<>\"\",'Summary List'!R417,\"\")","v":""},{"$f":"IF('Summary List'!S417<>\"\",'Summary List'!S417,\"\")","v":""},null,{"$f":"IF('Summary List'!M476<>\"\",'Summary List'!M476,\"\")","v":""},{"$f":"IF('Summary List'!N476<>\"\",'Summary List'!N476,\"\")","v":""},{"$f":"IF('Summary List'!O476<>\"\",'Summary List'!O476,\"\")","v":""},{"$f":"IF('Summary List'!P476<>\"\",'Summary List'!P476,\"\")","v":""},{"$f":"IF('Summary List'!Q476<>\"\",'Summary List'!Q476,\"\")","v":""},{"$f":"IF('Summary List'!R476<>\"\",'Summary List'!R476,\"\")","v":""},{"$f":"IF('Summary List'!S476<>\"\",'Summary List'!S476,\"\")","v":""}]
[null,null,{"$f":"IF('Summary List'!M359<>\"\",'Summary List'!M359,\"\")","v":""},{"$f":"IF('Summary List'!N359<>\"\",'Summary List'!N359,\"\")","v":""},{"$f":"IF('Summary List'!O359<>\"\",'Summary List'!O359,\"\")","v":""},{"$f":"IF('Summary List'!P359<>\"\",'Summary List'!P359,\"\")","v":""},{"$f":"IF('Summary List'!Q359<>\"\",'Summary List'!Q359,\"\")","v":""},{"$f":"IF('Summary List'!R359<>\"\",'Summary List'!R359,\"\")","v":""},{"$f":"IF('Summary List'!S359<>\"\",'Summary List'!S359,\"\")","v":""},null,{"$f":"IF('Summary List'!M418<>\"\",'Summary List'!M418,\"\")","v":""},{"$f":"IF('Summary List'!N418<>\"\",'Summary List'!N418,\"\")","v":""},{"$f":"IF('Summary List'!O418<>\"\",'Summary List'!O418,\"\")","v":""},{"$f":"IF('Summary List'!P418<>\"\",'Summary List'!P418,\"\")","v":""},{"$f":"IF('Summary List'!Q418<>\"\",'Summary List'!Q418,\"\")","v":""},{"$f":"IF('Summary List'!R418<>\"\",'Summary List'!R418,\"\")","v":""},{"$f":"IF('Summary List'!S418<>\"\",'Summary List'!S418,\"\")","v":""},null,{"$f":"IF('Summary List'!M477<>\"\",'Summary List'!M477,\"\")","v":""},{"$f":"IF('Summary List'!N477<>\"\",'Summary List'!N477,\"\")","v":""},{"$f":"IF('Summary List'!O477<>\"\",'Summary List'!O477,\"\")","v":""},{"$f":"IF('Summary List'!P477<>\"\",'Summary List'!P477,\"\")","v":""},{"$f":"IF('Summary List'!Q477<>\"\",'Summary List'!Q477,\"\")","v":""},{"$f":"IF('Summary List'!R477<>\"\",'Summary List'!R477,\"\")","v":""},{"$f":"IF('Summary List'!S477<>\"\",'Summary List'!S477,\"\")","v":""}]
[null,null,{"$f":"IF('Summary List'!M360<>\"\",'Summary List'!M360,\"\")","v":""},{"$f":"IF('Summary List'!N360<>\"\",'Summary List'!N360,\"\")","v":""},{"$f":"IF('Summary List'!O360<>\"\",'Summary List'!O360,\"\")","v":""},{"$f":"IF('Summary List'!P360<>\"\",'Summary List'!P360,\"\")","v":""},{"$f":"IF('Summary List'!Q360<>\"\",'Summary List'!Q360,\"\")","v":""},{"$f":"IF('Summary List'!R360<>\"\",'Summary List'!R360,\"\")","v":""},{"$f":"IF('Summary List'!S360<>\"\",'Summary List'!S360,\"\")","v":""},null,{"$f":"IF('Summary List'!M419<>\"\",'Summary List'!M419,\"\")","v":""},{"$f":"IF('Summary List'!N419<>\"\",'Summary List'!N419,\"\")","v":""},{"$f":"IF('Summary List'!O419<>\"\",'Summary List'!O419,\"\")","v":""},{"$f":"IF('Summary List'!P419<>\"\",'Summary List'!P419,\"\")","v":""},{"$f":"IF('Summary List'!Q419<>\"\",'Summary List'!Q419,\"\")","v":""},{"$f":"IF('Summary List'!R419<>\"\",'Summary List'!R419,\"\")","v":""},{"$f":"IF('Summary List'!S419<>\"\",'Summary List'!S419,\"\")","v":""},null,{"$f":"IF('Summary List'!M478<>\"\",'Summary List'!M478,\"\")","v":""},{"$f":"IF('Summary List'!N478<>\"\",'Summary List'!N478,\"\")","v":""},{"$f":"IF('Summary List'!O478<>\"\",'Summary List'!O478,\"\")","v":""},{"$f":"IF('Summary List'!P478<>\"\",'Summary List'!P478,\"\")","v":""},{"$f":"IF('Summary List'!Q478<>\"\",'Summary List'!Q478,\"\")","v":""},{"$f":"IF('Summary List'!R478<>\"\",'Summary List'!R478,\"\")","v":""},{"$f":"IF('Summary List'!S478<>\"\",'Summary List'!S478,\"\")","v":""}]
[null,null,{"$f":"IF('Summary List'!M361<>\"\",'Summary List'!M361,\"\")","v":""},{"$f":"IF('Summary List'!N361<>\"\",'Summary List'!N361,\"\")","v":""},{"$f":"IF('Summary List'!O361<>\"\",'Summary List'!O361,\"\")","v":""},{"$f":"IF('Summary List'!P361<>\"\",'Summary List'!P361,\"\")","v":""},{"$f":"IF('Summary List'!Q361<>\"\",'Summary List'!Q361,\"\")","v":""},{"$f":"IF('Summary List'!R361<>\"\",'Summary List'!R361,\"\")","v":""},{"$f":"IF('Summary List'!S361<>\"\",'Summary List'!S361,\"\")","v":""},null,{"$f":"IF('Summary List'!M420<>\"\",'Summary List'!M420,\"\")","v":""},{"$f":"IF('Summary List'!N420<>\"\",'Summary List'!N420,\"\")","v":""},{"$f":"IF('Summary List'!O420<>\"\",'Summary List'!O420,\"\")","v":""},{"$f":"IF('Summary List'!P420<>\"\",'Summary List'!P420,\"\")","v":""},{"$f":"IF('Summary List'!Q420<>\"\",'Summary List'!Q420,\"\")","v":""},{"$f":"IF('Summary List'!R420<>\"\",'Summary List'!R420,\"\")","v":""},{"$f":"IF('Summary List'!S420<>\"\",'Summary List'!S420,\"\")","v":""},null,{"$f":"IF('Summary List'!M479<>\"\",'Summary List'!M479,\"\")","v":""},{"$f":"IF('Summary List'!N479<>\"\",'Summary List'!N479,\"\")","v":""},{"$f":"IF('Summary List'!O479<>\"\",'Summary List'!O479,\"\")","v":""},{"$f":"IF('Summary List'!P479<>\"\",'Summary List'!P479,\"\")","v":""},{"$f":"IF('Summary List'!Q479<>\"\",'Summary List'!Q479,\"\")","v":""},{"$f":"IF('Summary List'!R479<>\"\",'Summary List'!R479,\"\")","v":""},{"$f":"IF('Summary List'!S479<>\"\",'Summary List'!S479,\"\")","v":""}]
[null,null,{"$f":"IF('Summary List'!M362<>\"\",'Summary List'!M362,\"\")","v":""},{"$f":"IF('Summary List'!N362<>\"\",'Summary List'!N362,\"\")","v":""},{"$f":"IF('Summary List'!O362<>\"\",'Summary List'!O362,\"\")","v":""},{"$f":"IF('Summary List'!P362<>\"\",'Summary List'!P362,\"\")","v":""},{"$f":"IF('Summary List'!Q362<>\"\",'Summary List'!Q362,\"\")","v":""},{"$f":"IF('Summary List'!R362<>\"\",'Summary List'!R362,\"\")","v":""},{"$f":"IF('Summary List'!S362<>\"\",'Summary List'!S362,\"\")","v":""},null,{"$f":"IF('Summary List'!M421<>\"\",'Summary List'!M421,\"\")","v":""},{"$f":"IF('Summary List'!N421<>\"\",'Summary List'!N421,\"\")","v":""},{"$f":"IF('Summary List'!O421<>\"\",'Summary List'!O421,\"\")","v":""},{"$f":"IF('Summary List'!P421<>\"\",'Summary List'!P421,\"\")","v":""},{"$f":"IF('Summary List'!Q421<>\"\",'Summary List'!Q421,\"\")","v":""},{"$f":"IF('Summary List'!R421<>\"\",'Summary List'!R421,\"\")","v":""},{"$f":"IF('Summary List'!S421<>\"\",'Summary List'!S421,\"\")","v":""},null,{"$f":"IF('Summary List'!M480<>\"\",'Summary List'!M480,\"\")","v":""},{"$f":"IF('Summary List'!N480<>\"\",'Summary List'!N480,\"\")","v":""},{"$f":"IF('Summary List'!O480<>\"\",'Summary List'!O480,\"\")","v":""},{"$f":"IF('Summary List'!P480<>\"\",'Summary List'!P480,\"\")","v":""},{"$f":"IF('Summary List'!Q480<>\"\",'Summary List'!Q480,\"\")","v":""},{"$f":"IF('Summary List'!R480<>\"\",'Summary List'!R480,\"\")","v":""},{"$f":"IF('Summary List'!S480<>\"\",'Summary List'!S480,\"\")","v":""}]
[null,null,{"$f":"IF('Summary List'!M363<>\"\",'Summary List'!M363,\"\")","v":""},{"$f":"IF('Summary List'!N363<>\"\",'Summary List'!N363,\"\")","v":""},{"$f":"IF('Summary List'!O363<>\"\",'Summary List'!O363,\"\")","v":""},{"$f":"IF('Summary List'!P363<>\"\",'Summary List'!P363,\"\")","v":""},{"$f":"IF('Summary List'!Q363<>\"\",'Summary List'!Q363,\"\")","v":""},{"$f":"IF('Summary List'!R363<>\"\",'Summary List'!R363,\"\")","v":""},{"$f":"IF('Summary List'!S363<>\"\",'Summary List'!S363,\"\")","v":""},null,{"$f":"IF('Summary List'!M422<>\"\",'Summary List'!M422,\"\")","v":""},{"$f":"IF('Summary List'!N422<>\"\",'Summary List'!N422,\"\")","v":""},{"$f":"IF('Summary List'!O422<>\"\",'Summary List'!O422,\"\")","v":""},{"$f":"IF('Summary List'!P422<>\"\",'Summary List'!P422,\"\")","v":""},{"$f":"IF('Summary List'!Q422<>\"\",'Summary List'!Q422,\"\")","v":""},{"$f":"IF('Summary List'!R422<>\"\",'Summary List'!R422,\"\")","v":""},{"$f":"IF('Summary List'!S422<>\"\",'Summary List'!S422,\"\")","v":""},null,{"$f":"IF('Summary List'!M481<>\"\",'Summary List'!M481,\"\")","v":""},{"$f":"IF('Summary List'!N481<>\"\",'Summary List'!N481,\"\")","v":""},{"$f":"IF('Summary List'!O481<>\"\",'Summary List'!O481,\"\")","v":""},{"$f":"IF('Summary List'!P481<>\"\",'Summary List'!P481,\"\")","v":""},{"$f":"IF('Summary List'!Q481<>\"\",'Summary List'!Q481,\"\")","v":""},{"$f":"IF('Summary List'!R481<>\"\",'Summary List'!R481,\"\")","v":""},{"$f":"IF('Summary List'!S481<>\"\",'Summary List'!S481,\"\")","v":""}]
[null,null,{"$f":"IF('Summary List'!M364<>\"\",'Summary List'!M364,\"\")","v":""},{"$f":"IF('Summary List'!N364<>\"\",'Summary List'!N364,\"\")","v":""},{"$f":"IF('Summary List'!O364<>\"\",'Summary List'!O364,\"\")","v":""},{"$f":"IF('Summary List'!P364<>\"\",'Summary List'!P364,\"\")","v":""},{"$f":"IF('Summary List'!Q364<>\"\",'Summary List'!Q364,\"\")","v":""},{"$f":"IF('Summary List'!R364<>\"\",'Summary List'!R364,\"\")","v":""},{"$f":"IF('Summary List'!S364<>\"\",'Summary List'!S364,\"\")","v":""},null,{"$f":"IF('Summary List'!M423<>\"\",'Summary List'!M423,\"\")","v":""},{"$f":"IF('Summary List'!N423<>\"\",'Summary List'!N423,\"\")","v":""},{"$f":"IF('Summary List'!O423<>\"\",'Summary List'!O423,\"\")","v":""},{"$f":"IF('Summary List'!P423<>\"\",'Summary List'!P423,\"\")","v":""},{"$f":"IF('Summary List'!Q423<>\"\",'Summary List'!Q423,\"\")","v":""},{"$f":"IF('Summary List'!R423<>\"\",'Summary List'!R423,\"\")","v":""},{"$f":"IF('Summary List'!S423<>\"\",'Summary List'!S423,\"\")","v":""},null,{"$f":"IF('Summary List'!M482<>\"\",'Summary List'!M482,\"\")","v":""},{"$f":"IF('Summary List'!N482<>\"\",'Summary List'!N482,\"\")","v":""},{"$f":"IF('Summary List'!O482<>\"\",'Summary List'!O482,\"\")","v":""},{"$f":"IF('Summary List'!P482<>\"\",'Summary List'!P482,\"\")","v":""},{"$f":"IF('Summary List'!Q482<>\"\",'Summary List'!Q482,\"\")","v":""},{"$f":"IF('Summary List'!R482<>\"\",'Summary List'!R482,\"\")","v":""},{"$f":"IF('Summary List'!S482<>\"\",'Summary List'!S482,\"\")","v":""}]
[null,null,{"$f":"IF('Summary List'!M365<>\"\",'Summary List'!M365,\"\")","v":""},{"$f":"IF('Summary List'!N365<>\"\",'Summary List'!N365,\"\")","v":""},{"$f":"IF('Summary List'!O365<>\"\",'Summary List'!O365,\"\")","v":""},{"$f":"IF('Summary List'!P365<>\"\",'Summary List'!P365,\"\")","v":""},{"$f":"IF('Summary List'!Q365<>\"\",'Summary List'!Q365,\"\")","v":""},{"$f":"IF('Summary List'!R365<>\"\",'Summary List'!R365,\"\")","v":""},{"$f":"IF('Summary List'!S365<>\"\",'Summary List'!S365,\"\")","v":""},null,{"$f":"IF('Summary List'!M424<>\"\",'Summary List'!M424,\"\")","v":""},{"$f":"IF('Summary List'!N424<>\"\",'Summary List'!N424,\"\")","v":""},{"$f":"IF('Summary List'!O424<>\"\",'Summary List'!O424,\"\")","v":""},{"$f":"IF('Summary List'!P424<>\"\",'Summary List'!P424,\"\")","v":""},{"$f":"IF('Summary List'!Q424<>\"\",'Summary List'!Q424,\"\")","v":""},{"$f":"IF('Summary List'!R424<>\"\",'Summary List'!R424,\"\")","v":""},{"$f":"IF('Summary List'!S424<>\"\",'Summary List'!S424,\"\")","v":""},null,{"$f":"IF('Summary List'!M483<>\"\",'Summary List'!M483,\"\")","v":""},{"$f":"IF('Summary List'!N483<>\"\",'Summary List'!N483,\"\")","v":""},{"$f":"IF('Summary List'!O483<>\"\",'Summary List'!O483,\"\")","v":""},{"$f":"IF('Summary List'!P483<>\"\",'Summary List'!P483,\"\")","v":""},{"$f":"IF('Summary List'!Q483<>\"\",'Summary List'!Q483,\"\")","v":""},{"$f":"IF('Summary List'!R483<>\"\",'Summary List'!R483,\"\")","v":""},{"$f":"IF('Summary List'!S483<>\"\",'Summary List'!S483,\"\")","v":""}]
[null,null,{"$f":"IF('Summary List'!M366<>\"\",'Summary List'!M366,\"\")","v":""},{"$f":"IF('Summary List'!N366<>\"\",'Summary List'!N366,\"\")","v":""},{"$f":"IF('Summary List'!O366<>\"\",'Summary List'!O366,\"\")","v":""},{"$f":"IF('Summary List'!P366<>\"\",'Summary List'!P366,\"\")","v":""},{"$f":"IF('Summary List'!Q366<>\"\",'Summary List'!Q366,\"\")","v":""},{"$f":"IF('Summary List'!R366<>\"\",'Summary List'!R366,\"\")","v":""},{"$f":"IF('Summary List'!S366<>\"\",'Summary List'!S366,\"\")","v":""},null,{"$f":"IF('Summary List'!M425<>\"\",'Summary List'!M425,\"\")","v":""},{"$f":"IF('Summary List'!N425<>\"\",'Summary List'!N425,\"\")","v":""},{"$f":"IF('Summary List'!O425<>\"\",'Summary List'!O425,\"\")","v":""},{"$f":"IF('Summary List'!P425<>\"\",'Summary List'!P425,\"\")","v":""},{"$f":"IF('Summary List'!Q425<>\"\",'Summary List'!Q425,\"\")","v":""},{"$f":"IF('Summary List'!R425<>\"\",'Summary List'!R425,\"\")","v":""},{"$f":"IF('Summary List'!S425<>\"\",'Summary List'!S425,\"\")","v":""},null,{"$f":"IF('Summary List'!M484<>\"\",'Summary List'!M484,\"\")","v":""},{"$f":"IF('Summary List'!N484<>\"\",'Summary List'!N484,\"\")","v":""},{"$f":"IF('Summary List'!O484<>\"\",'Summary List'!O484,\"\")","v":""},{"$f":"IF('Summary List'!P484<>\"\",'Summary List'!P484,\"\")","v":""},{"$f":"IF('Summary List'!Q484<>\"\",'Summary List'!Q484,\"\")","v":""},{"$f":"IF('Summary List'!R484<>\"\",'Summary List'!R484,\"\")","v":""},{"$f":"IF('Summary List'!S484<>\"\",'Summary List'!S484,\"\")","v":""}]
[null,null,{"$f":"IF('Summary List'!M367<>\"\",'Summary List'!M367,\"\")","v":""},{"$f":"IF('Summary List'!N367<>\"\",'Summary List'!N367,\"\")","v":""},{"$f":"IF('Summary List'!O367<>\"\",'Summary List'!O367,\"\")","v":""},{"$f":"IF('Summary List'!P367<>\"\",'Summary List'!P367,\"\")","v":""},{"$f":"IF('Summary List'!Q367<>\"\",'Summary List'!Q367,\"\")","v":""},{"$f":"IF('Summary List'!R367<>\"\",'Summary List'!R367,\"\")","v":""},{"$f":"IF('Summary List'!S367<>\"\",'Summary List'!S367,\"\")","v":""},null,{"$f":"IF('Summary List'!M426<>\"\",'Summary List'!M426,\"\")","v":""},{"$f":"IF('Summary List'!N426<>\"\",'Summary List'!N426,\"\")","v":""},{"$f":"IF('Summary List'!O426<>\"\",'Summary List'!O426,\"\")","v":""},{"$f":"IF('Summary List'!P426<>\"\",'Summary List'!P426,\"\")","v":""},{"$f":"IF('Summary List'!Q426<>\"\",'Summary List'!Q426,\"\")","v":""},{"$f":"IF('Summary List'!R426<>\"\",'Summary List'!R426,\"\")","v":""},{"$f":"IF('Summary List'!S426<>\"\",'Summary List'!S426,\"\")","v":""},null,{"$f":"IF('Summary List'!M485<>\"\",'Summary List'!M485,\"\")","v":""},{"$f":"IF('Summary List'!N485<>\"\",'Summary List'!N485,\"\")","v":""},{"$f":"IF('Summary List'!O485<>\"\",'Summary List'!O485,\"\")","v":""},{"$f":"IF('Summary List'!P485<>\"\",'Summary List'!P485,\"\")","v":""},{"$f":"IF('Summary List'!Q485<>\"\",'Summary List'!Q485,\"\")","v":""},{"$f":"IF('Summary List'!R485<>\"\",'Summary List'!R485,\"\")","v":""},{"$f":"IF('Summary List'!S485<>\"\",'Summary List'!S485,\"\")","v":""}]
[null,null,{"$f":"IF('Summary List'!M368<>\"\",'Summary List'!M368,\"\")","v":""},{"$f":"IF('Summary List'!N368<>\"\",'Summary List'!N368,\"\")","v":""},{"$f":"IF('Summary List'!O368<>\"\",'Summary List'!O368,\"\")","v":""},{"$f":"IF('Summary List'!P368<>\"\",'Summary List'!P368,\"\")","v":""},{"$f":"IF('Summary List'!Q368<>\"\",'Summary List'!Q368,\"\")","v":""},{"$f":"IF('Summary List'!R368<>\"\",'Summary List'!R368,\"\")","v":""},{"$f":"IF('Summary List'!S368<>\"\",'Summary List'!S368,\"\")","v":""},null,{"$f":"IF('Summary List'!M427<>\"\",'Summary List'!M427,\"\")","v":""},{"$f":"IF('Summary List'!N427<>\"\",'Summary List'!N427,\"\")","v":""},{"$f":"IF('Summary List'!O427<>\"\",'Summary List'!O427,\"\")","v":""},{"$f":"IF('Summary List'!P427<>\"\",'Summary List'!P427,\"\")","v":""},{"$f":"IF('Summary List'!Q427<>\"\",'Summary List'!Q427,\"\")","v":""},{"$f":"IF('Summary List'!R427<>\"\",'Summary List'!R427,\"\")","v":""},{"$f":"IF('Summary List'!S427<>\"\",'Summary List'!S427,\"\")","v":""},null,{"$f":"IF('Summary List'!M486<>\"\",'Summary List'!M486,\"\")","v":""},{"$f":"IF('Summary List'!N486<>\"\",'Summary List'!N486,\"\")","v":""},{"$f":"IF('Summary List'!O486<>\"\",'Summary List'!O486,\"\")","v":""},{"$f":"IF('Summary List'!P486<>\"\",'Summary List'!P486,\"\")","v":""},{"$f":"IF('Summary List'!Q486<>\"\",'Summary List'!Q486,\"\")","v":""},{"$f":"IF('Summary List'!R486<>\"\",'Summary List'!R486,\"\")","v":""},{"$f":"IF('Summary List'!S486<>\"\",'Summary List'!S486,\"\")","v":""}]
[null,null,{"$f":"IF('Summary List'!M369<>\"\",'Summary List'!M369,\"\")","v":""},{"$f":"IF('Summary List'!N369<>\"\",'Summary List'!N369,\"\")","v":""},{"$f":"IF('Summary List'!O369<>\"\",'Summary List'!O369,\"\")","v":""},{"$f":"IF('Summary List'!P369<>\"\",'Summary List'!P369,\"\")","v":""},{"$f":"IF('Summary List'!Q369<>\"\",'Summary List'!Q369,\"\")","v":""},{"$f":"IF('Summary List'!R369<>\"\",'Summary List'!R369,\"\")","v":""},{"$f":"IF('Summary List'!S369<>\"\",'Summary List'!S369,\"\")","v":""},null,{"$f":"IF('Summary List'!M428<>\"\",'Summary List'!M428,\"\")","v":""},{"$f":"IF('Summary List'!N428<>\"\",'Summary List'!N428,\"\")","v":""},{"$f":"IF('Summary List'!O428<>\"\",'Summary List'!O428,\"\")","v":""},{"$f":"IF('Summary List'!P428<>\"\",'Summary List'!P428,\"\")","v":""},{"$f":"IF('Summary List'!Q428<>\"\",'Summary List'!Q428,\"\")","v":""},{"$f":"IF('Summary List'!R428<>\"\",'Summary List'!R428,\"\")","v":""},{"$f":"IF('Summary List'!S428<>\"\",'Summary List'!S428,\"\")","v":""},null,{"$f":"IF('Summary List'!M487<>\"\",'Summary List'!M487,\"\")","v":""},{"$f":"IF('Summary List'!N487<>\"\",'Summary List'!N487,\"\")","v":""},{"$f":"IF('Summary List'!O487<>\"\",'Summary List'!O487,\"\")","v":""},{"$f":"IF('Summary List'!P487<>\"\",'Summary List'!P487,\"\")","v":""},{"$f":"IF('Summary List'!Q487<>\"\",'Summary List'!Q487,\"\")","v":""},{"$f":"IF('Summary List'!R487<>\"\",'Summary List'!R487,\"\")","v":""},{"$f":"IF('Summary List'!S487<>\"\",'Summary List'!S487,\"\")","v":""}]
[null,null,{"$f":"IF('Summary List'!M370<>\"\",'Summary List'!M370,\"\")","v":""},{"$f":"IF('Summary List'!N370<>\"\",'Summary List'!N370,\"\")","v":""},{"$f":"IF('Summary List'!O370<>\"\",'Summary List'!O370,\"\")","v":""},{"$f":"IF('Summary List'!P370<>\"\",'Summary List'!P370,\"\")","v":""},{"$f":"IF('Summary List'!Q370<>\"\",'Summary List'!Q370,\"\")","v":""},{"$f":"IF('Summary List'!R370<>\"\",'Summary List'!R370,\"\")","v":""},{"$f":"IF('Summary List'!S370<>\"\",'Summary List'!S370,\"\")","v":""},null,{"$f":"IF('Summary List'!M429<>\"\",'Summary List'!M429,\"\")","v":""},{"$f":"IF('Summary List'!N429<>\"\",'Summary List'!N429,\"\")","v":""},{"$f":"IF('Summary List'!O429<>\"\",'Summary List'!O429,\"\")","v":""},{"$f":"IF('Summary List'!P429<>\"\",'Summary List'!P429,\"\")","v":""},{"$f":"IF('Summary List'!Q429<>\"\",'Summary List'!Q429,\"\")","v":""},{"$f":"IF('Summary List'!R429<>\"\",'Summary List'!R429,\"\")","v":""},{"$f":"IF('Summary List'!S429<>\"\",'Summary List'!S429,\"\")","v":""},null,{"$f":"IF('Summary List'!M488<>\"\",'Summary List'!M488,\"\")","v":""},{"$f":"IF('Summary List'!N488<>\"\",'Summary List'!N488,\"\")","v":""},{"$f":"IF('Summary List'!O488<>\"\",'Summary List'!O488,\"\")","v":""},{"$f":"IF('Summary List'!P488<>\"\",'Summary List'!P488,\"\")","v":""},{"$f":"IF('Summary List'!Q488<>\"\",'Summary List'!Q488,\"\")","v":""},{"$f":"IF('Summary List'!R488<>\"\",'Summary List'!R488,\"\")","v":""},{"$f":"IF('Summary List'!S488<>\"\",'Summary List'!S488,\"\")","v":""}]
[null,null,{"$f":"IF('Summary List'!M371<>\"\",'Summary List'!M371,\"\")","v":""},{"$f":"IF('Summary List'!N371<>\"\",'Summary List'!N371,\"\")","v":""},{"$f":"IF('Summary List'!O371<>\"\",'Summary List'!O371,\"\")","v":""},{"$f":"IF('Summary List'!P371<>\"\",'Summary List'!P371,\"\")","v":""},{"$f":"IF('Summary List'!Q371<>\"\",'Summary List'!Q371,\"\")","v":""},{"$f":"IF('Summary List'!R371<>\"\",'Summary List'!R371,\"\")","v":""},{"$f":"IF('Summary List'!S371<>\"\",'Summary List'!S371,\"\")","v":""},null,{"$f":"IF('Summary List'!M430<>\"\",'Summary List'!M430,\"\")","v":""},{"$f":"IF('Summary List'!N430<>\"\",'Summary List'!N430,\"\")","v":""},{"$f":"IF('Summary List'!O430<>\"\",'Summary List'!O430,\"\")","v":""},{"$f":"IF('Summary List'!P430<>\"\",'Summary List'!P430,\"\")","v":""},{"$f":"IF('Summary List'!Q430<>\"\",'Summary List'!Q430,\"\")","v":""},{"$f":"IF('Summary List'!R430<>\"\",'Summary List'!R430,\"\")","v":""},{"$f":"IF('Summary List'!S430<>\"\",'Summary List'!S430,\"\")","v":""},null,{"$f":"IF('Summary List'!M489<>\"\",'Summary List'!M489,\"\")","v":""},{"$f":"IF('Summary List'!N489<>\"\",'Summary List'!N489,\"\")","v":""},{"$f":"IF('Summary List'!O489<>\"\",'Summary List'!O489,\"\")","v":""},{"$f":"IF('Summary List'!P489<>\"\",'Summary List'!P489,\"\")","v":""},{"$f":"IF('Summary List'!Q489<>\"\",'Summary List'!Q489,\"\")","v":""},{"$f":"IF('Summary List'!R489<>\"\",'Summary List'!R489,\"\")","v":""},{"$f":"IF('Summary List'!S489<>\"\",'Summary List'!S489,\"\")","v":""}]
[null,null,{"$f":"IF('Summary List'!M372<>\"\",'Summary List'!M372,\"\")","v":""},{"$f":"IF('Summary List'!N372<>\"\",'Summary List'!N372,\"\")","v":""},{"$f":"IF('Summary List'!O372<>\"\",'Summary List'!O372,\"\")","v":""},{"$f":"IF('Summary List'!P372<>\"\",'Summary List'!P372,\"\")","v":""},{"$f":"IF('Summary List'!Q372<>\"\",'Summary List'!Q372,\"\")","v":""},{"$f":"IF('Summary List'!R372<>\"\",'Summary List'!R372,\"\")","v":""},{"$f":"IF('Summary List'!S372<>\"\",'Summary List'!S372,\"\")","v":""},null,{"$f":"IF('Summary List'!M431<>\"\",'Summary List'!M431,\"\")","v":""},{"$f":"IF('Summary List'!N431<>\"\",'Summary List'!N431,\"\")","v":""},{"$f":"IF('Summary List'!O431<>\"\",'Summary List'!O431,\"\")","v":""},{"$f":"IF('Summary List'!P431<>\"\",'Summary List'!P431,\"\")","v":""},{"$f":"IF('Summary List'!Q431<>\"\",'Summary List'!Q431,\"\")","v":""},{"$f":"IF('Summary List'!R431<>\"\",'Summary List'!R431,\"\")","v":""},{"$f":"IF('Summary List'!S431<>\"\",'Summary List'!S431,\"\")","v":""},null,{"$f":"IF('Summary List'!M490<>\"\",'Summary List'!M490,\"\")","v":""},{"$f":"IF('Summary List'!N490<>\"\",'Summary List'!N490,\"\")","v":""},{"$f":"IF('Summary List'!O490<>\"\",'Summary List'!O490,\"\")","v":""},{"$f":"IF('Summary List'!P490<>\"\",'Summary List'!P490,\"\")","v":""},{"$f":"IF('Summary List'!Q490<>\"\",'Summary List'!Q490,\"\")","v":""},{"$f":"IF('Summary List'!R490<>\"\",'Summary List'!R490,\"\")","v":""},{"$f":"IF('Summary List'!S490<>\"\",'Summary List'!S490,\"\")","v":""}]
[null,null,{"$f":"IF('Summary List'!M373<>\"\",'Summary List'!M373,\"\")","v":""},{"$f":"IF('Summary List'!N373<>\"\",'Summary List'!N373,\"\")","v":""},{"$f":"IF('Summary List'!O373<>\"\",'Summary List'!O373,\"\")","v":""},{"$f":"IF('Summary List'!P373<>\"\",'Summary List'!P373,\"\")","v":""},{"$f":"IF('Summary List'!Q373<>\"\",'Summary List'!Q373,\"\")","v":""},{"$f":"IF('Summary List'!R373<>\"\",'Summary List'!R373,\"\")","v":""},{"$f":"IF('Summary List'!S373<>\"\",'Summary List'!S373,\"\")","v":""},null,{"$f":"IF('Summary List'!M432<>\"\",'Summary List'!M432,\"\")","v":""},{"$f":"IF('Summary List'!N432<>\"\",'Summary List'!N432,\"\")","v":""},{"$f":"IF('Summary List'!O432<>\"\",'Summary List'!O432,\"\")","v":""},{"$f":"IF('Summary List'!P432<>\"\",'Summary List'!P432,\"\")","v":""},{"$f":"IF('Summary List'!Q432<>\"\",'Summary List'!Q432,\"\")","v":""},{"$f":"IF('Summary List'!R432<>\"\",'Summary List'!R432,\"\")","v":""},{"$f":"IF('Summary List'!S432<>\"\",'Summary List'!S432,\"\")","v":""},null,{"$f":"IF('Summary List'!M491<>\"\",'Summary List'!M491,\"\")","v":""},{"$f":"IF('Summary List'!N491<>\"\",'Summary List'!N491,\"\")","v":""},{"$f":"IF('Summary List'!O491<>\"\",'Summary List'!O491,\"\")","v":""},{"$f":"IF('Summary List'!P491<>\"\",'Summary List'!P491,\"\")","v":""},{"$f":"IF('Summary List'!Q491<>\"\",'Summary List'!Q491,\"\")","v":""},{"$f":"IF('Summary List'!R491<>\"\",'Summary List'!R491,\"\")","v":""},{"$f":"IF('Summary List'!S491<>\"\",'Summary List'!S491,\"\")","v":""}]
[null,null,{"$f":"IF('Summary List'!M374<>\"\",'Summary List'!M374,\"\")","v":""},{"$f":"IF('Summary List'!N374<>\"\",'Summary List'!N374,\"\")","v":""},{"$f":"IF('Summary List'!O374<>\"\",'Summary List'!O374,\"\")","v":""},{"$f":"IF('Summary List'!P374<>\"\",'Summary List'!P374,\"\")","v":""},{"$f":"IF('Summary List'!Q374<>\"\",'Summary List'!Q374,\"\")","v":""},{"$f":"IF('Summary List'!R374<>\"\",'Summary List'!R374,\"\")","v":""},{"$f":"IF('Summary List'!S374<>\"\",'Summary List'!S374,\"\")","v":""},null,{"$f":"IF('Summary List'!M433<>\"\",'Summary List'!M433,\"\")","v":""},{"$f":"IF('Summary List'!N433<>\"\",'Summary List'!N433,\"\")","v":""},{"$f":"IF('Summary List'!O433<>\"\",'Summary List'!O433,\"\")","v":""},{"$f":"IF('Summary List'!P433<>\"\",'Summary List'!P433,\"\")","v":""},{"$f":"IF('Summary List'!Q433<>\"\",'Summary List'!Q433,\"\")","v":""},{"$f":"IF('Summary List'!R433<>\"\",'Summary List'!R433,\"\")","v":""},{"$f":"IF('Summary List'!S433<>\"\",'Summary List'!S433,\"\")","v":""},null,{"$f":"IF('Summary List'!M492<>\"\",'Summary List'!M492,\"\")","v":""},{"$f":"IF('Summary List'!N492<>\"\",'Summary List'!N492,\"\")","v":""},{"$f":"IF('Summary List'!O492<>\"\",'Summary List'!O492,\"\")","v":""},{"$f":"IF('Summary List'!P492<>\"\",'Summary List'!P492,\"\")","v":""},{"$f":"IF('Summary List'!Q492<>\"\",'Summary List'!Q492,\"\")","v":""},{"$f":"IF('Summary List'!R492<>\"\",'Summary List'!R492,\"\")","v":""},{"$f":"IF('Summary List'!S492<>\"\",'Summary List'!S492,\"\")","v":""}]
[null,null,{"$f":"IF('Summary List'!M375<>\"\",'Summary List'!M375,\"\")","v":""},{"$f":"IF('Summary List'!N375<>\"\",'Summary List'!N375,\"\")","v":""},{"$f":"IF('Summary List'!O375<>\"\",'Summary List'!O375,\"\")","v":""},{"$f":"IF('Summary List'!P375<>\"\",'Summary List'!P375,\"\")","v":""},{"$f":"IF('Summary List'!Q375<>\"\",'Summary List'!Q375,\"\")","v":""},{"$f":"IF('Summary List'!R375<>\"\",'Summary List'!R375,\"\")","v":""},{"$f":"IF('Summary List'!S375<>\"\",'Summary List'!S375,\"\")","v":""},null,{"$f":"IF('Summary List'!M434<>\"\",'Summary List'!M434,\"\")","v":""},{"$f":"IF('Summary List'!N434<>\"\",'Summary List'!N434,\"\")","v":""},{"$f":"IF('Summary List'!O434<>\"\",'Summary List'!O434,\"\")","v":""},{"$f":"IF('Summary List'!P434<>\"\",'Summary List'!P434,\"\")","v":""},{"$f":"IF('Summary List'!Q434<>\"\",'Summary List'!Q434,\"\")","v":""},{"$f":"IF('Summary List'!R434<>\"\",'Summary List'!R434,\"\")","v":""},{"$f":"IF('Summary List'!S434<>\"\",'Summary List'!S434,\"\")","v":""},null,{"$f":"IF('Summary List'!M493<>\"\",'Summary List'!M493,\"\")","v":""},{"$f":"IF('Summary List'!N493<>\"\",'Summary List'!N493,\"\")","v":""},{"$f":"IF('Summary List'!O493<>\"\",'Summary List'!O493,\"\")","v":""},{"$f":"IF('Summary List'!P493<>\"\",'Summary List'!P493,\"\")","v":""},{"$f":"IF('Summary List'!Q493<>\"\",'Summary List'!Q493,\"\")","v":""},{"$f":"IF('Summary List'!R493<>\"\",'Summary List'!R493,\"\")","v":""},{"$f":"IF('Summary List'!S493<>\"\",'Summary List'!S493,\"\")","v":""}]
[null,null,{"$f":"IF('Summary List'!M376<>\"\",'Summary List'!M376,\"\")","v":""},{"$f":"IF('Summary List'!N376<>\"\",'Summary List'!N376,\"\")","v":""},{"$f":"IF('Summary List'!O376<>\"\",'Summary List'!O376,\"\")","v":""},{"$f":"IF('Summary List'!P376<>\"\",'Summary List'!P376,\"\")","v":""},{"$f":"IF('Summary List'!Q376<>\"\",'Summary List'!Q376,\"\")","v":""},{"$f":"IF('Summary List'!R376<>\"\",'Summary List'!R376,\"\")","v":""},{"$f":"IF('Summary List'!S376<>\"\",'Summary List'!S376,\"\")","v":""},null,{"$f":"IF('Summary List'!M435<>\"\",'Summary List'!M435,\"\")","v":""},{"$f":"IF('Summary List'!N435<>\"\",'Summary List'!N435,\"\")","v":""},{"$f":"IF('Summary List'!O435<>\"\",'Summary List'!O435,\"\")","v":""},{"$f":"IF('Summary List'!P435<>\"\",'Summary List'!P435,\"\")","v":""},{"$f":"IF('Summary List'!Q435<>\"\",'Summary List'!Q435,\"\")","v":""},{"$f":"IF('Summary List'!R435<>\"\",'Summary List'!R435,\"\")","v":""},{"$f":"IF('Summary List'!S435<>\"\",'Summary List'!S435,\"\")","v":""},null,{"$f":"IF('Summary List'!M494<>\"\",'Summary List'!M494,\"\")","v":""},{"$f":"IF('Summary List'!N494<>\"\",'Summary List'!N494,\"\")","v":""},{"$f":"IF('Summary List'!O494<>\"\",'Summary List'!O494,\"\")","v":""},{"$f":"IF('Summary List'!P494<>\"\",'Summary List'!P494,\"\")","v":""},{"$f":"IF('Summary List'!Q494<>\"\",'Summary List'!Q494,\"\")","v":""},{"$f":"IF('Summary List'!R494<>\"\",'Summary List'!R494,\"\")","v":""},{"$f":"IF('Summary List'!S494<>\"\",'Summary List'!S494,\"\")","v":""}]
[null,null,{"$f":"IF('Summary List'!M377<>\"\",'Summary List'!M377,\"\")","v":""},{"$f":"IF('Summary List'!N377<>\"\",'Summary List'!N377,\"\")","v":""},{"$f":"IF('Summary List'!O377<>\"\",'Summary List'!O377,\"\")","v":""},{"$f":"IF('Summary List'!P377<>\"\",'Summary List'!P377,\"\")","v":""},{"$f":"IF('Summary List'!Q377<>\"\",'Summary List'!Q377,\"\")","v":""},{"$f":"IF('Summary List'!R377<>\"\",'Summary List'!R377,\"\")","v":""},{"$f":"IF('Summary List'!S377<>\"\",'Summary List'!S377,\"\")","v":""},null,{"$f":"IF('Summary List'!M436<>\"\",'Summary List'!M436,\"\")","v":""},{"$f":"IF('Summary List'!N436<>\"\",'Summary List'!N436,\"\")","v":""},{"$f":"IF('Summary List'!O436<>\"\",'Summary List'!O436,\"\")","v":""},{"$f":"IF('Summary List'!P436<>\"\",'Summary List'!P436,\"\")","v":""},{"$f":"IF('Summary List'!Q436<>\"\",'Summary List'!Q436,\"\")","v":""},{"$f":"IF('Summary List'!R436<>\"\",'Summary List'!R436,\"\")","v":""},{"$f":"IF('Summary List'!S436<>\"\",'Summary List'!S436,\"\")","v":""},null,{"$f":"IF('Summary List'!M495<>\"\",'Summary List'!M495,\"\")","v":""},{"$f":"IF('Summary List'!N495<>\"\",'Summary List'!N495,\"\")","v":""},{"$f":"IF('Summary List'!O495<>\"\",'Summary List'!O495,\"\")","v":""},{"$f":"IF('Summary List'!P495<>\"\",'Summary List'!P495,\"\")","v":""},{"$f":"IF('Summary List'!Q495<>\"\",'Summary List'!Q495,\"\")","v":""},{"$f":"IF('Summary List'!R495<>\"\",'Summary List'!R495,\"\")","v":""},{"$f":"IF('Summary List'!S495<>\"\",'Summary List'!S495,\"\")","v":""}]
[null,null,{"$f":"IF('Summary List'!M378<>\"\",'Summary List'!M378,\"\")","v":""},{"$f":"IF('Summary List'!N378<>\"\",'Summary List'!N378,\"\")","v":""},{"$f":"IF('Summary List'!O378<>\"\",'Summary List'!O378,\"\")","v":""},{"$f":"IF('Summary List'!P378<>\"\",'Summary List'!P378,\"\")","v":""},{"$f":"IF('Summary List'!Q378<>\"\",'Summary List'!Q378,\"\")","v":""},{"$f":"IF('Summary List'!R378<>\"\",'Summary List'!R378,\"\")","v":""},{"$f":"IF('Summary List'!S378<>\"\",'Summary List'!S378,\"\")","v":""},null,{"$f":"IF('Summary List'!M437<>\"\",'Summary List'!M437,\"\")","v":""},{"$f":"IF('Summary List'!N437<>\"\",'Summary List'!N437,\"\")","v":""},{"$f":"IF('Summary List'!O437<>\"\",'Summary List'!O437,\"\")","v":""},{"$f":"IF('Summary List'!P437<>\"\",'Summary List'!P437,\"\")","v":""},{"$f":"IF('Summary List'!Q437<>\"\",'Summary List'!Q437,\"\")","v":""},{"$f":"IF('Summary List'!R437<>\"\",'Summary List'!R437,\"\")","v":""},{"$f":"IF('Summary List'!S437<>\"\",'Summary List'!S437,\"\")","v":""},null,{"$f":"IF('Summary List'!M496<>\"\",'Summary List'!M496,\"\")","v":""},{"$f":"IF('Summary List'!N496<>\"\",'Summary List'!N496,\"\")","v":""},{"$f":"IF('Summary List'!O496<>\"\",'Summary List'!O496,\"\")","v":""},{"$f":"IF('Summary List'!P496<>\"\",'Summary List'!P496,\"\")","v":""},{"$f":"IF('Summary List'!Q496<>\"\",'Summary List'!Q496,\"\")","v":""},{"$f":"IF('Summary List'!R496<>\"\",'Summary List'!R496,\"\")","v":""},{"$f":"IF('Summary List'!S496<>\"\",'Summary List'!S496,\"\")","v":""}]
[null,null,{"$f":"IF('Summary List'!M379<>\"\",'Summary List'!M379,\"\")","v":""},{"$f":"IF('Summary List'!N379<>\"\",'Summary List'!N379,\"\")","v":""},{"$f":"IF('Summary List'!O379<>\"\",'Summary List'!O379,\"\")","v":""},{"$f":"IF('Summary List'!P379<>\"\",'Summary List'!P379,\"\")","v":""},{"$f":"IF('Summary List'!Q379<>\"\",'Summary List'!Q379,\"\")","v":""},{"$f":"IF('Summary List'!R379<>\"\",'Summary List'!R379,\"\")","v":""},{"$f":"IF('Summary List'!S379<>\"\",'Summary List'!S379,\"\")","v":""},null,{"$f":"IF('Summary List'!M438<>\"\",'Summary List'!M438,\"\")","v":""},{"$f":"IF('Summary List'!N438<>\"\",'Summary List'!N438,\"\")","v":""},{"$f":"IF('Summary List'!O438<>\"\",'Summary List'!O438,\"\")","v":""},{"$f":"IF('Summary List'!P438<>\"\",'Summary List'!P438,\"\")","v":""},{"$f":"IF('Summary List'!Q438<>\"\",'Summary List'!Q438,\"\")","v":""},{"$f":"IF('Summary List'!R438<>\"\",'Summary List'!R438,\"\")","v":""},{"$f":"IF('Summary List'!S438<>\"\",'Summary List'!S438,\"\")","v":""},null,{"$f":"IF('Summary List'!M497<>\"\",'Summary List'!M497,\"\")","v":""},{"$f":"IF('Summary List'!N497<>\"\",'Summary List'!N497,\"\")","v":""},{"$f":"IF('Summary List'!O497<>\"\",'Summary List'!O497,\"\")","v":""},{"$f":"IF('Summary List'!P497<>\"\",'Summary List'!P497,\"\")","v":""},{"$f":"IF('Summary List'!Q497<>\"\",'Summary List'!Q497,\"\")","v":""},{"$f":"IF('Summary List'!R497<>\"\",'Summary List'!R497,\"\")","v":""},{"$f":"IF('Summary List'!S497<>\"\",'Summary List'!S497,\"\")","v":""}]
[null,null,{"$f":"IF('Summary List'!M380<>\"\",'Summary List'!M380,\"\")","v":""},{"$f":"IF('Summary List'!N380<>\"\",'Summary List'!N380,\"\")","v":""},{"$f":"IF('Summary List'!O380<>\"\",'Summary List'!O380,\"\")","v":""},{"$f":"IF('Summary List'!P380<>\"\",'Summary List'!P380,\"\")","v":""},{"$f":"IF('Summary List'!Q380<>\"\",'Summary List'!Q380,\"\")","v":""},{"$f":"IF('Summary List'!R380<>\"\",'Summary List'!R380,\"\")","v":""},{"$f":"IF('Summary List'!S380<>\"\",'Summary List'!S380,\"\")","v":""},null,{"$f":"IF('Summary List'!M439<>\"\",'Summary List'!M439,\"\")","v":""},{"$f":"IF('Summary List'!N439<>\"\",'Summary List'!N439,\"\")","v":""},{"$f":"IF('Summary List'!O439<>\"\",'Summary List'!O439,\"\")","v":""},{"$f":"IF('Summary List'!P439<>\"\",'Summary List'!P439,\"\")","v":""},{"$f":"IF('Summary List'!Q439<>\"\",'Summary List'!Q439,\"\")","v":""},{"$f":"IF('Summary List'!R439<>\"\",'Summary List'!R439,\"\")","v":""},{"$f":"IF('Summary List'!S439<>\"\",'Summary List'!S439,\"\")","v":""},null,{"$f":"IF('Summary List'!M498<>\"\",'Summary List'!M498,\"\")","v":""},{"$f":"IF('Summary List'!N498<>\"\",'Summary List'!N498,\"\")","v":""},{"$f":"IF('Summary List'!O498<>\"\",'Summary List'!O498,\"\")","v":""},{"$f":"IF('Summary List'!P498<>\"\",'Summary List'!P498,\"\")","v":""},{"$f":"IF('Summary List'!Q498<>\"\",'Summary List'!Q498,\"\")","v":""},{"$f":"IF('Summary List'!R498<>\"\",'Summary List'!R498,\"\")","v":""},{"$f":"IF('Summary List'!S498<>\"\",'Summary List'!S498,\"\")","v":""}]
[null,null,{"$f":"IF('Summary List'!M381<>\"\",'Summary List'!M381,\"\")","v":""},{"$f":"IF('Summary List'!N381<>\"\",'Summary List'!N381,\"\")","v":""},{"$f":"IF('Summary List'!O381<>\"\",'Summary List'!O381,\"\")","v":""},{"$f":"IF('Summary List'!P381<>\"\",'Summary List'!P381,\"\")","v":""},{"$f":"IF('Summary List'!Q381<>\"\",'Summary List'!Q381,\"\")","v":""},{"$f":"IF('Summary List'!R381<>\"\",'Summary List'!R381,\"\")","v":""},{"$f":"IF('Summary List'!S381<>\"\",'Summary List'!S381,\"\")","v":""},null,{"$f":"IF('Summary List'!M440<>\"\",'Summary List'!M440,\"\")","v":""},{"$f":"IF('Summary List'!N440<>\"\",'Summary List'!N440,\"\")","v":""},{"$f":"IF('Summary List'!O440<>\"\",'Summary List'!O440,\"\")","v":""},{"$f":"IF('Summary List'!P440<>\"\",'Summary List'!P440,\"\")","v":""},{"$f":"IF('Summary List'!Q440<>\"\",'Summary List'!Q440,\"\")","v":""},{"$f":"IF('Summary List'!R440<>\"\",'Summary List'!R440,\"\")","v":""},{"$f":"IF('Summary List'!S440<>\"\",'Summary List'!S440,\"\")","v":""},null,{"$f":"IF('Summary List'!M499<>\"\",'Summary List'!M499,\"\")","v":""},{"$f":"IF('Summary List'!N499<>\"\",'Summary List'!N499,\"\")","v":""},{"$f":"IF('Summary List'!O499<>\"\",'Summary List'!O499,\"\")","v":""},{"$f":"IF('Summary List'!P499<>\"\",'Summary List'!P499,\"\")","v":""},{"$f":"IF('Summary List'!Q499<>\"\",'Summary List'!Q499,\"\")","v":""},{"$f":"IF('Summary List'!R499<>\"\",'Summary List'!R499,\"\")","v":""},{"$f":"IF('Summary List'!S499<>\"\",'Summary List'!S499,\"\")","v":""}]
[null,null,{"$f":"IF('Summary List'!M382<>\"\",'Summary List'!M382,\"\")","v":""},{"$f":"IF('Summary List'!N382<>\"\",'Summary List'!N382,\"\")","v":""},{"$f":"IF('Summary List'!O382<>\"\",'Summary List'!O382,\"\")","v":""},{"$f":"IF('Summary List'!P382<>\"\",'Summary List'!P382,\"\")","v":""},{"$f":"IF('Summary List'!Q382<>\"\",'Summary List'!Q382,\"\")","v":""},{"$f":"IF('Summary List'!R382<>\"\",'Summary List'!R382,\"\")","v":""},{"$f":"IF('Summary List'!S382<>\"\",'Summary List'!S382,\"\")","v":""},null,{"$f":"IF('Summary List'!M441<>\"\",'Summary List'!M441,\"\")","v":""},{"$f":"IF('Summary List'!N441<>\"\",'Summary List'!N441,\"\")","v":""},{"$f":"IF('Summary List'!O441<>\"\",'Summary List'!O441,\"\")","v":""},{"$f":"IF('Summary List'!P441<>\"\",'Summary List'!P441,\"\")","v":""},{"$f":"IF('Summary List'!Q441<>\"\",'Summary List'!Q441,\"\")","v":""},{"$f":"IF('Summary List'!R441<>\"\",'Summary List'!R441,\"\")","v":""},{"$f":"IF('Summary List'!S441<>\"\",'Summary List'!S441,\"\")","v":""},null,{"$f":"IF('Summary List'!M500<>\"\",'Summary List'!M500,\"\")","v":""},{"$f":"IF('Summary List'!N500<>\"\",'Summary List'!N500,\"\")","v":""},{"$f":"IF('Summary List'!O500<>\"\",'Summary List'!O500,\"\")","v":""},{"$f":"IF('Summary List'!P500<>\"\",'Summary List'!P500,\"\")","v":""},{"$f":"IF('Summary List'!Q500<>\"\",'Summary List'!Q500,\"\")","v":""},{"$f":"IF('Summary List'!R500<>\"\",'Summary List'!R500,\"\")","v":""},{"$f":"IF('Summary List'!S500<>\"\",'Summary List'!S500,\"\")","v":""}]
[null,null,{"$f":"IF('Summary List'!M383<>\"\",'Summary List'!M383,\"\")","v":""},{"$f":"IF('Summary List'!N383<>\"\",'Summary List'!N383,\"\")","v":""},{"$f":"IF('Summary List'!O383<>\"\",'Summary List'!O383,\"\")","v":""},{"$f":"IF('Summary List'!P383<>\"\",'Summary List'!P383,\"\")","v":""},{"$f":"IF('Summary List'!Q383<>\"\",'Summary List'!Q383,\"\")","v":""},{"$f":"IF('Summary List'!R383<>\"\",'Summary List'!R383,\"\")","v":""},{"$f":"IF('Summary List'!S383<>\"\",'Summary List'!S383,\"\")","v":""},null,{"$f":"IF('Summary List'!M442<>\"\",'Summary List'!M442,\"\")","v":""},{"$f":"IF('Summary List'!N442<>\"\",'Summary List'!N442,\"\")","v":""},{"$f":"IF('Summary List'!O442<>\"\",'Summary List'!O442,\"\")","v":""},{"$f":"IF('Summary List'!P442<>\"\",'Summary List'!P442,\"\")","v":""},{"$f":"IF('Summary List'!Q442<>\"\",'Summary List'!Q442,\"\")","v":""},{"$f":"IF('Summary List'!R442<>\"\",'Summary List'!R442,\"\")","v":""},{"$f":"IF('Summary List'!S442<>\"\",'Summary List'!S442,\"\")","v":""},null,{"$f":"IF('Summary List'!M501<>\"\",'Summary List'!M501,\"\")","v":""},{"$f":"IF('Summary List'!N501<>\"\",'Summary List'!N501,\"\")","v":""},{"$f":"IF('Summary List'!O501<>\"\",'Summary List'!O501,\"\")","v":""},{"$f":"IF('Summary List'!P501<>\"\",'Summary List'!P501,\"\")","v":""},{"$f":"IF('Summary List'!Q501<>\"\",'Summary List'!Q501,\"\")","v":""},{"$f":"IF('Summary List'!R501<>\"\",'Summary List'!R501,\"\")","v":""},{"$f":"IF('Summary List'!S501<>\"\",'Summary List'!S501,\"\")","v":""}]
[null,null,{"$f":"IF('Summary List'!M384<>\"\",'Summary List'!M384,\"\")","v":""},{"$f":"IF('Summary List'!N384<>\"\",'Summary List'!N384,\"\")","v":""},{"$f":"IF('Summary List'!O384<>\"\",'Summary List'!O384,\"\")","v":""},{"$f":"IF('Summary List'!P384<>\"\",'Summary List'!P384,\"\")","v":""},{"$f":"IF('Summary List'!Q384<>\"\",'Summary List'!Q384,\"\")","v":""},{"$f":"IF('Summary List'!R384<>\"\",'Summary List'!R384,\"\")","v":""},{"$f":"IF('Summary List'!S384<>\"\",'Summary List'!S384,\"\")","v":""},null,{"$f":"IF('Summary List'!M443<>\"\",'Summary List'!M443,\"\")","v":""},{"$f":"IF('Summary List'!N443<>\"\",'Summary List'!N443,\"\")","v":""},{"$f":"IF('Summary List'!O443<>\"\",'Summary List'!O443,\"\")","v":""},{"$f":"IF('Summary List'!P443<>\"\",'Summary List'!P443,\"\")","v":""},{"$f":"IF('Summary List'!Q443<>\"\",'Summary List'!Q443,\"\")","v":""},{"$f":"IF('Summary List'!R443<>\"\",'Summary List'!R443,\"\")","v":""},{"$f":"IF('Summary List'!S443<>\"\",'Summary List'!S443,\"\")","v":""},null,{"$f":"IF('Summary List'!M502<>\"\",'Summary List'!M502,\"\")","v":""},{"$f":"IF('Summary List'!N502<>\"\",'Summary List'!N502,\"\")","v":""},{"$f":"IF('Summary List'!O502<>\"\",'Summary List'!O502,\"\")","v":""},{"$f":"IF('Summary List'!P502<>\"\",'Summary List'!P502,\"\")","v":""},{"$f":"IF('Summary List'!Q502<>\"\",'Summary List'!Q502,\"\")","v":""},{"$f":"IF('Summary List'!R502<>\"\",'Summary List'!R502,\"\")","v":""},{"$f":"IF('Summary List'!S502<>\"\",'Summary List'!S502,\"\")","v":""}]
[null,null,{"$f":"IF('Summary List'!M385<>\"\",'Summary List'!M385,\"\")","v":""},{"$f":"IF('Summary List'!N385<>\"\",'Summary List'!N385,\"\")","v":""},{"$f":"IF('Summary List'!O385<>\"\",'Summary List'!O385,\"\")","v":""},{"$f":"IF('Summary List'!P385<>\"\",'Summary List'!P385,\"\")","v":""},{"$f":"IF('Summary List'!Q385<>\"\",'Summary List'!Q385,\"\")","v":""},{"$f":"IF('Summary List'!R385<>\"\",'Summary List'!R385,\"\")","v":""},{"$f":"IF('Summary List'!S385<>\"\",'Summary List'!S385,\"\")","v":""},null,{"$f":"IF('Summary List'!M444<>\"\",'Summary List'!M444,\"\")","v":""},{"$f":"IF('Summary List'!N444<>\"\",'Summary List'!N444,\"\")","v":""},{"$f":"IF('Summary List'!O444<>\"\",'Summary List'!O444,\"\")","v":""},{"$f":"IF('Summary List'!P444<>\"\",'Summary List'!P444,\"\")","v":""},{"$f":"IF('Summary List'!Q444<>\"\",'Summary List'!Q444,\"\")","v":""},{"$f":"IF('Summary List'!R444<>\"\",'Summary List'!R444,\"\")","v":""},{"$f":"IF('Summary List'!S444<>\"\",'Summary List'!S444,\"\")","v":""},null,{"$f":"IF('Summary List'!M503<>\"\",'Summary List'!M503,\"\")","v":""},{"$f":"IF('Summary List'!N503<>\"\",'Summary List'!N503,\"\")","v":""},{"$f":"IF('Summary List'!O503<>\"\",'Summary List'!O503,\"\")","v":""},{"$f":"IF('Summary List'!P503<>\"\",'Summary List'!P503,\"\")","v":""},{"$f":"IF('Summary List'!Q503<>\"\",'Summary List'!Q503,\"\")","v":""},{"$f":"IF('Summary List'!R503<>\"\",'Summary List'!R503,\"\")","v":""},{"$f":"IF('Summary List'!S503<>\"\",'Summary List'!S503,\"\")","v":""}]
[null,null,{"$f":"IF('Summary List'!M386<>\"\",'Summary List'!M386,\"\")","v":""},{"$f":"IF('Summary List'!N386<>\"\",'Summary List'!N386,\"\")","v":""},{"$f":"IF('Summary List'!O386<>\"\",'Summary List'!O386,\"\")","v":""},{"$f":"IF('Summary List'!P386<>\"\",'Summary List'!P386,\"\")","v":""},{"$f":"IF('Summary List'!Q386<>\"\",'Summary List'!Q386,\"\")","v":""},{"$f":"IF('Summary List'!R386<>\"\",'Summary List'!R386,\"\")","v":""},{"$f":"IF('Summary List'!S386<>\"\",'Summary List'!S386,\"\")","v":""},null,{"$f":"IF('Summary List'!M445<>\"\",'Summary List'!M445,\"\")","v":""},{"$f":"IF('Summary List'!N445<>\"\",'Summary List'!N445,\"\")","v":""},{"$f":"IF('Summary List'!O445<>\"\",'Summary List'!O445,\"\")","v":""},{"$f":"IF('Summary List'!P445<>\"\",'Summary List'!P445,\"\")","v":""},{"$f":"IF('Summary List'!Q445<>\"\",'Summary List'!Q445,\"\")","v":""},{"$f":"IF('Summary List'!R445<>\"\",'Summary List'!R445,\"\")","v":""},{"$f":"IF('Summary List'!S445<>\"\",'Summary List'!S445,\"\")","v":""},null,{"$f":"IF('Summary List'!M504<>\"\",'Summary List'!M504,\"\")","v":""},{"$f":"IF('Summary List'!N504<>\"\",'Summary List'!N504,\"\")","v":""},{"$f":"IF('Summary List'!O504<>\"\",'Summary List'!O504,\"\")","v":""},{"$f":"IF('Summary List'!P504<>\"\",'Summary List'!P504,\"\")","v":""},{"$f":"IF('Summary List'!Q504<>\"\",'Summary List'!Q504,\"\")","v":""},{"$f":"IF('Summary List'!R504<>\"\",'Summary List'!R504,\"\")","v":""},{"$f":"IF('Summary List'!S504<>\"\",'Summary List'!S504,\"\")","v":""}]
[null,null,{"$f":"IF('Summary List'!M387<>\"\",'Summary List'!M387,\"\")","v":""},{"$f":"IF('Summary List'!N387<>\"\",'Summary List'!N387,\"\")","v":""},{"$f":"IF('Summary List'!O387<>\"\",'Summary List'!O387,\"\")","v":""},{"$f":"IF('Summary List'!P387<>\"\",'Summary List'!P387,\"\")","v":""},{"$f":"IF('Summary List'!Q387<>\"\",'Summary List'!Q387,\"\")","v":""},{"$f":"IF('Summary List'!R387<>\"\",'Summary List'!R387,\"\")","v":""},{"$f":"IF('Summary List'!S387<>\"\",'Summary List'!S387,\"\")","v":""},null,{"$f":"IF('Summary List'!M446<>\"\",'Summary List'!M446,\"\")","v":""},{"$f":"IF('Summary List'!N446<>\"\",'Summary List'!N446,\"\")","v":""},{"$f":"IF('Summary List'!O446<>\"\",'Summary List'!O446,\"\")","v":""},{"$f":"IF('Summary List'!P446<>\"\",'Summary List'!P446,\"\")","v":""},{"$f":"IF('Summary List'!Q446<>\"\",'Summary List'!Q446,\"\")","v":""},{"$f":"IF('Summary List'!R446<>\"\",'Summary List'!R446,\"\")","v":""},{"$f":"IF('Summary List'!S446<>\"\",'Summary List'!S446,\"\")","v":""},null,{"$f":"IF('Summary List'!M505<>\"\",'Summary List'!M505,\"\")","v":""},{"$f":"IF('Summary List'!N505<>\"\",'Summary List'!N505,\"\")","v":""},{"$f":"IF('Summary List'!O505<>\"\",'Summary List'!O505,\"\")","v":""},{"$f":"IF('Summary List'!P505<>\"\",'Summary List'!P505,\"\")","v":""},{"$f":"IF('Summary List'!Q505<>\"\",'Summary List'!Q505,\"\")","v":""},{"$f":"IF('Summary List'!R505<>\"\",'Summary List'!R505,\"\")","v":""},{"$f":"IF('Summary List'!S505<>\"\",'Summary List'!S505,\"\")","v":""}]
[null,null,{"$f":"IF('Summary List'!M388<>\"\",'Summary List'!M388,\"\")","v":""},{"$f":"IF('Summary List'!N388<>\"\",'Summary List'!N388,\"\")","v":""},{"$f":"IF('Summary List'!O388<>\"\",'Summary List'!O388,\"\")","v":""},{"$f":"IF('Summary List'!P388<>\"\",'Summary List'!P388,\"\")","v":""},{"$f":"IF('Summary List'!Q388<>\"\",'Summary List'!Q388,\"\")","v":""},{"$f":"IF('Summary List'!R388<>\"\",'Summary List'!R388,\"\")","v":""},{"$f":"IF('Summary List'!S388<>\"\",'Summary List'!S388,\"\")","v":""},null,{"$f":"IF('Summary List'!M447<>\"\",'Summary List'!M447,\"\")","v":""},{"$f":"IF('Summary List'!N447<>\"\",'Summary List'!N447,\"\")","v":""},{"$f":"IF('Summary List'!O447<>\"\",'Summary List'!O447,\"\")","v":""},{"$f":"IF('Summary List'!P447<>\"\",'Summary List'!P447,\"\")","v":""},{"$f":"IF('Summary List'!Q447<>\"\",'Summary List'!Q447,\"\")","v":""},{"$f":"IF('Summary List'!R447<>\"\",'Summary List'!R447,\"\")","v":""},{"$f":"IF('Summary List'!S447<>\"\",'Summary List'!S447,\"\")","v":""},null,{"$f":"IF('Summary List'!M506<>\"\",'Summary List'!M506,\"\")","v":""},{"$f":"IF('Summary List'!N506<>\"\",'Summary List'!N506,\"\")","v":""},{"$f":"IF('Summary List'!O506<>\"\",'Summary List'!O506,\"\")","v":""},{"$f":"IF('Summary List'!P506<>\"\",'Summary List'!P506,\"\")","v":""},{"$f":"IF('Summary List'!Q506<>\"\",'Summary List'!Q506,\"\")","v":""},{"$f":"IF('Summary List'!R506<>\"\",'Summary List'!R506,\"\")","v":""},{"$f":"IF('Summary List'!S506<>\"\",'Summary List'!S506,\"\")","v":""}]
[null,null,{"$f":"IF('Summary List'!M389<>\"\",'Summary List'!M389,\"\")","v":""},{"$f":"IF('Summary List'!N389<>\"\",'Summary List'!N389,\"\")","v":""},{"$f":"IF('Summary List'!O389<>\"\",'Summary List'!O389,\"\")","v":""},{"$f":"IF('Summary List'!P389<>\"\",'Summary List'!P389,\"\")","v":""},{"$f":"IF('Summary List'!Q389<>\"\",'Summary List'!Q389,\"\")","v":""},{"$f":"IF('Summary List'!R389<>\"\",'Summary List'!R389,\"\")","v":""},{"$f":"IF('Summary List'!S389<>\"\",'Summary List'!S389,\"\")","v":""},null,{"$f":"IF('Summary List'!M448<>\"\",'Summary List'!M448,\"\")","v":""},{"$f":"IF('Summary List'!N448<>\"\",'Summary List'!N448,\"\")","v":""},{"$f":"IF('Summary List'!O448<>\"\",'Summary List'!O448,\"\")","v":""},{"$f":"IF('Summary List'!P448<>\"\",'Summary List'!P448,\"\")","v":""},{"$f":"IF('Summary List'!Q448<>\"\",'Summary List'!Q448,\"\")","v":""},{"$f":"IF('Summary List'!R448<>\"\",'Summary List'!R448,\"\")","v":""},{"$f":"IF('Summary List'!S448<>\"\",'Summary List'!S448,\"\")","v":""},null,{"$f":"IF('Summary List'!M507<>\"\",'Summary List'!M507,\"\")","v":""},{"$f":"IF('Summary List'!N507<>\"\",'Summary List'!N507,\"\")","v":""},{"$f":"IF('Summary List'!O507<>\"\",'Summary List'!O507,\"\")","v":""},{"$f":"IF('Summary List'!P507<>\"\",'Summary List'!P507,\"\")","v":""},{"$f":"IF('Summary List'!Q507<>\"\",'Summary List'!Q507,\"\")","v":""},{"$f":"IF('Summary List'!R507<>\"\",'Summary List'!R507,\"\")","v":""},{"$f":"IF('Summary List'!S507<>\"\",'Summary List'!S507,\"\")","v":""}]
[null,null,{"$f":"IF('Summary List'!M390<>\"\",'Summary List'!M390,\"\")","v":""},{"$f":"IF('Summary List'!N390<>\"\",'Summary List'!N390,\"\")","v":""},{"$f":"IF('Summary List'!O390<>\"\",'Summary List'!O390,\"\")","v":""},{"$f":"IF('Summary List'!P390<>\"\",'Summary List'!P390,\"\")","v":""},{"$f":"IF('Summary List'!Q390<>\"\",'Summary List'!Q390,\"\")","v":""},{"$f":"IF('Summary List'!R390<>\"\",'Summary List'!R390,\"\")","v":""},{"$f":"IF('Summary List'!S390<>\"\",'Summary List'!S390,\"\")","v":""},null,{"$f":"IF('Summary List'!M449<>\"\",'Summary List'!M449,\"\")","v":""},{"$f":"IF('Summary List'!N449<>\"\",'Summary List'!N449,\"\")","v":""},{"$f":"IF('Summary List'!O449<>\"\",'Summary List'!O449,\"\")","v":""},{"$f":"IF('Summary List'!P449<>\"\",'Summary List'!P449,\"\")","v":""},{"$f":"IF('Summary List'!Q449<>\"\",'Summary List'!Q449,\"\")","v":""},{"$f":"IF('Summary List'!R449<>\"\",'Summary List'!R449,\"\")","v":""},{"$f":"IF('Summary List'!S449<>\"\",'Summary List'!S449,\"\")","v":""},null,{"$f":"IF('Summary List'!M508<>\"\",'Summary List'!M508,\"\")","v":""},{"$f":"IF('Summary List'!N508<>\"\",'Summary List'!N508,\"\")","v":""},{"$f":"IF('Summary List'!O508<>\"\",'Summary List'!O508,\"\")","v":""},{"$f":"IF('Summary List'!P508<>\"\",'Summary List'!P508,\"\")","v":""},{"$f":"IF('Summary List'!Q508<>\"\",'Summary List'!Q508,\"\")","v":""},{"$f":"IF('Summary List'!R508<>\"\",'Summary List'!R508,\"\")","v":""},{"$f":"IF('Summary List'!S508<>\"\",'Summary List'!S508,\"\")","v":""}]
[null,null,{"$f":"IF('Summary List'!M391<>\"\",'Summary List'!M391,\"\")","v":""},{"$f":"IF('Summary List'!N391<>\"\",'Summary List'!N391,\"\")","v":""},{"$f":"IF('Summary List'!O391<>\"\",'Summary List'!O391,\"\")","v":""},{"$f":"IF('Summary List'!P391<>\"\",'Summary List'!P391,\"\")","v":""},{"$f":"IF('Summary List'!Q391<>\"\",'Summary List'!Q391,\"\")","v":""},{"$f":"IF('Summary List'!R391<>\"\",'Summary List'!R391,\"\")","v":""},{"$f":"IF('Summary List'!S391<>\"\",'Summary List'!S391,\"\")","v":""},null,{"$f":"IF('Summary List'!M450<>\"\",'Summary List'!M450,\"\")","v":""},{"$f":"IF('Summary List'!N450<>\"\",'Summary List'!N450,\"\")","v":""},{"$f":"IF('Summary List'!O450<>\"\",'Summary List'!O450,\"\")","v":""},{"$f":"IF('Summary List'!P450<>\"\",'Summary List'!P450,\"\")","v":""},{"$f":"IF('Summary List'!Q450<>\"\",'Summary List'!Q450,\"\")","v":""},{"$f":"IF('Summary List'!R450<>\"\",'Summary List'!R450,\"\")","v":""},{"$f":"IF('Summary List'!S450<>\"\",'Summary List'!S450,\"\")","v":""},null,{"$f":"IF('Summary List'!M509<>\"\",'Summary List'!M509,\"\")","v":""},{"$f":"IF('Summary List'!N509<>\"\",'Summary List'!N509,\"\")","v":""},{"$f":"IF('Summary List'!O509<>\"\",'Summary List'!O509,\"\")","v":""},{"$f":"IF('Summary List'!P509<>\"\",'Summary List'!P509,\"\")","v":""},{"$f":"IF('Summary List'!Q509<>\"\",'Summary List'!Q509,\"\")","v":""},{"$f":"IF('Summary List'!R509<>\"\",'Summary List'!R509,\"\")","v":""},{"$f":"IF('Summary List'!S509<>\"\",'Summary List'!S509,\"\")","v":""}]
[null,null,{"$f":"IF('Summary List'!M392<>\"\",'Summary List'!M392,\"\")","v":""},{"$f":"IF('Summary List'!N392<>\"\",'Summary List'!N392,\"\")","v":""},{"$f":"IF('Summary List'!O392<>\"\",'Summary List'!O392,\"\")","v":""},{"$f":"IF('Summary List'!P392<>\"\",'Summary List'!P392,\"\")","v":""},{"$f":"IF('Summary List'!Q392<>\"\",'Summary List'!Q392,\"\")","v":""},{"$f":"IF('Summary List'!R392<>\"\",'Summary List'!R392,\"\")","v":""},{"$f":"IF('Summary List'!S392<>\"\",'Summary List'!S392,\"\")","v":""},null,{"$f":"IF('Summary List'!M451<>\"\",'Summary List'!M451,\"\")","v":""},{"$f":"IF('Summary List'!N451<>\"\",'Summary List'!N451,\"\")","v":""},{"$f":"IF('Summary List'!O451<>\"\",'Summary List'!O451,\"\")","v":""},{"$f":"IF('Summary List'!P451<>\"\",'Summary List'!P451,\"\")","v":""},{"$f":"IF('Summary List'!Q451<>\"\",'Summary List'!Q451,\"\")","v":""},{"$f":"IF('Summary List'!R451<>\"\",'Summary List'!R451,\"\")","v":""},{"$f":"IF('Summary List'!S451<>\"\",'Summary List'!S451,\"\")","v":""},null,{"$f":"IF('Summary List'!M510<>\"\",'Summary List'!M510,\"\")","v":""},{"$f":"IF('Summary List'!N510<>\"\",'Summary List'!N510,\"\")","v":""},{"$f":"IF('Summary List'!O510<>\"\",'Summary List'!O510,\"\")","v":""},{"$f":"IF('Summary List'!P510<>\"\",'Summary List'!P510,\"\")","v":""},{"$f":"IF('Summary List'!Q510<>\"\",'Summary List'!Q510,\"\")","v":""},{"$f":"IF('Summary List'!R510<>\"\",'Summary List'!R510,\"\")","v":""},{"$f":"IF('Summary List'!S510<>\"\",'Summary List'!S510,\"\")","v":""}]
[null,null,{"$f":"IF('Summary List'!M393<>\"\",'Summary List'!M393,\"\")","v":""},{"$f":"IF('Summary List'!N393<>\"\",'Summary List'!N393,\"\")","v":""},{"$f":"IF('Summary List'!O393<>\"\",'Summary List'!O393,\"\")","v":""},{"$f":"IF('Summary List'!P393<>\"\",'Summary List'!P393,\"\")","v":""},{"$f":"IF('Summary List'!Q393<>\"\",'Summary List'!Q393,\"\")","v":""},{"$f":"IF('Summary List'!R393<>\"\",'Summary List'!R393,\"\")","v":""},{"$f":"IF('Summary List'!S393<>\"\",'Summary List'!S393,\"\")","v":""},null,{"$f":"IF('Summary List'!M452<>\"\",'Summary List'!M452,\"\")","v":""},{"$f":"IF('Summary List'!N452<>\"\",'Summary List'!N452,\"\")","v":""},{"$f":"IF('Summary List'!O452<>\"\",'Summary List'!O452,\"\")","v":""},{"$f":"IF('Summary List'!P452<>\"\",'Summary List'!P452,\"\")","v":""},{"$f":"IF('Summary List'!Q452<>\"\",'Summary List'!Q452,\"\")","v":""},{"$f":"IF('Summary List'!R452<>\"\",'Summary List'!R452,\"\")","v":""},{"$f":"IF('Summary List'!S452<>\"\",'Summary List'!S452,\"\")","v":""},null,{"$f":"IF('Summary List'!M511<>\"\",'Summary List'!M511,\"\")","v":""},{"$f":"IF('Summary List'!N511<>\"\",'Summary List'!N511,\"\")","v":""},{"$f":"IF('Summary List'!O511<>\"\",'Summary List'!O511,\"\")","v":""},{"$f":"IF('Summary List'!P511<>\"\",'Summary List'!P511,\"\")","v":""},{"$f":"IF('Summary List'!Q511<>\"\",'Summary List'!Q511,\"\")","v":""},{"$f":"IF('Summary List'!R511<>\"\",'Summary List'!R511,\"\")","v":""},{"$f":"IF('Summary List'!S511<>\"\",'Summary List'!S511,\"\")","v":""}]
[null,null,{"$f":"IF('Summary List'!M394<>\"\",'Summary List'!M394,\"\")","v":""},{"$f":"IF('Summary List'!N394<>\"\",'Summary List'!N394,\"\")","v":""},{"$f":"IF('Summary List'!O394<>\"\",'Summary List'!O394,\"\")","v":""},{"$f":"IF('Summary List'!P394<>\"\",'Summary List'!P394,\"\")","v":""},{"$f":"IF('Summary List'!Q394<>\"\",'Summary List'!Q394,\"\")","v":""},{"$f":"IF('Summary List'!R394<>\"\",'Summary List'!R394,\"\")","v":""},{"$f":"IF('Summary List'!S394<>\"\",'Summary List'!S394,\"\")","v":""},null,{"$f":"IF('Summary List'!M453<>\"\",'Summary List'!M453,\"\")","v":""},{"$f":"IF('Summary List'!N453<>\"\",'Summary List'!N453,\"\")","v":""},{"$f":"IF('Summary List'!O453<>\"\",'Summary List'!O453,\"\")","v":""},{"$f":"IF('Summary List'!P453<>\"\",'Summary List'!P453,\"\")","v":""},{"$f":"IF('Summary List'!Q453<>\"\",'Summary List'!Q453,\"\")","v":""},{"$f":"IF('Summary List'!R453<>\"\",'Summary List'!R453,\"\")","v":""},{"$f":"IF('Summary List'!S453<>\"\",'Summary List'!S453,\"\")","v":""},null,{"$f":"IF('Summary List'!M512<>\"\",'Summary List'!M512,\"\")","v":""},{"$f":"IF('Summary List'!N512<>\"\",'Summary List'!N512,\"\")","v":""},{"$f":"IF('Summary List'!O512<>\"\",'Summary List'!O512,\"\")","v":""},{"$f":"IF('Summary List'!P512<>\"\",'Summary List'!P512,\"\")","v":""},{"$f":"IF('Summary List'!Q512<>\"\",'Summary List'!Q512,\"\")","v":""},{"$f":"IF('Summary List'!R512<>\"\",'Summary List'!R512,\"\")","v":""},{"$f":"IF('Summary List'!S512<>\"\",'Summary List'!S512,\"\")","v":""}]
[null,null,{"$f":"IF('Summary List'!M395<>\"\",'Summary List'!M395,\"\")","v":""},{"$f":"IF('Summary List'!N395<>\"\",'Summary List'!N395,\"\")","v":""},{"$f":"IF('Summary List'!O395<>\"\",'Summary List'!O395,\"\")","v":""},{"$f":"IF('Summary List'!P395<>\"\",'Summary List'!P395,\"\")","v":""},{"$f":"IF('Summary List'!Q395<>\"\",'Summary List'!Q395,\"\")","v":""},{"$f":"IF('Summary List'!R395<>\"\",'Summary List'!R395,\"\")","v":""},{"$f":"IF('Summary List'!S395<>\"\",'Summary List'!S395,\"\")","v":""},null,{"$f":"IF('Summary List'!M454<>\"\",'Summary List'!M454,\"\")","v":""},{"$f":"IF('Summary List'!N454<>\"\",'Summary List'!N454,\"\")","v":""},{"$f":"IF('Summary List'!O454<>\"\",'Summary List'!O454,\"\")","v":""},{"$f":"IF('Summary List'!P454<>\"\",'Summary List'!P454,\"\")","v":""},{"$f":"IF('Summary List'!Q454<>\"\",'Summary List'!Q454,\"\")","v":""},{"$f":"IF('Summary List'!R454<>\"\",'Summary List'!R454,\"\")","v":""},{"$f":"IF('Summary List'!S454<>\"\",'Summary List'!S454,\"\")","v":""},null,{"$f":"IF('Summary List'!M513<>\"\",'Summary List'!M513,\"\")","v":""},{"$f":"IF('Summary List'!N513<>\"\",'Summary List'!N513,\"\")","v":""},{"$f":"IF('Summary List'!O513<>\"\",'Summary List'!O513,\"\")","v":""},{"$f":"IF('Summary List'!P513<>\"\",'Summary List'!P513,\"\")","v":""},{"$f":"IF('Summary List'!Q513<>\"\",'Summary List'!Q513,\"\")","v":""},{"$f":"IF('Summary List'!R513<>\"\",'Summary List'!R513,\"\")","v":""},{"$f":"IF('Summary List'!S513<>\"\",'Summary List'!S513,\"\")","v":""}]
[null,null,{"$f":"IF('Summary List'!M396<>\"\",'Summary List'!M396,\"\")","v":""},{"$f":"IF('Summary List'!N396<>\"\",'Summary List'!N396,\"\")","v":""},{"$f":"IF('Summary List'!O396<>\"\",'Summary List'!O396,\"\")","v":""},{"$f":"IF('Summary List'!P396<>\"\",'Summary List'!P396,\"\")","v":""},{"$f":"IF('Summary List'!Q396<>\"\",'Summary List'!Q396,\"\")","v":""},{"$f":"IF('Summary List'!R396<>\"\",'Summary List'!R396,\"\")","v":""},{"$f":"IF('Summary List'!S396<>\"\",'Summary List'!S396,\"\")","v":""},null,{"$f":"IF('Summary List'!M455<>\"\",'Summary List'!M455,\"\")","v":""},{"$f":"IF('Summary List'!N455<>\"\",'Summary List'!N455,\"\")","v":""},{"$f":"IF('Summary List'!O455<>\"\",'Summary List'!O455,\"\")","v":""},{"$f":"IF('Summary List'!P455<>\"\",'Summary List'!P455,\"\")","v":""},{"$f":"IF('Summary List'!Q455<>\"\",'Summary List'!Q455,\"\")","v":""},{"$f":"IF('Summary List'!R455<>\"\",'Summary List'!R455,\"\")","v":""},{"$f":"IF('Summary List'!S455<>\"\",'Summary List'!S455,\"\")","v":""},null,{"$f":"IF('Summary List'!M514<>\"\",'Summary List'!M514,\"\")","v":""},{"$f":"IF('Summary List'!N514<>\"\",'Summary List'!N514,\"\")","v":""},{"$f":"IF('Summary List'!O514<>\"\",'Summary List'!O514,\"\")","v":""},{"$f":"IF('Summary List'!P514<>\"\",'Summary List'!P514,\"\")","v":""},{"$f":"IF('Summary List'!Q514<>\"\",'Summary List'!Q514,\"\")","v":""},{"$f":"IF('Summary List'!R514<>\"\",'Summary List'!R514,\"\")","v":""},{"$f":"IF('Summary List'!S514<>\"\",'Summary List'!S514,\"\")","v":""}]
[null,null,{"$f":"IF('Summary List'!M397<>\"\",'Summary List'!M397,\"\")","v":""},{"$f":"IF('Summary List'!N397<>\"\",'Summary List'!N397,\"\")","v":""},{"$f":"IF('Summary List'!O397<>\"\",'Summary List'!O397,\"\")","v":""},{"$f":"IF('Summary List'!P397<>\"\",'Summary List'!P397,\"\")","v":""},{"$f":"IF('Summary List'!Q397<>\"\",'Summary List'!Q397,\"\")","v":""},{"$f":"IF('Summary List'!R397<>\"\",'Summary List'!R397,\"\")","v":""},{"$f":"IF('Summary List'!S397<>\"\",'Summary List'!S397,\"\")","v":""},null,{"$f":"IF('Summary List'!M456<>\"\",'Summary List'!M456,\"\")","v":""},{"$f":"IF('Summary List'!N456<>\"\",'Summary List'!N456,\"\")","v":""},{"$f":"IF('Summary List'!O456<>\"\",'Summary List'!O456,\"\")","v":""},{"$f":"IF('Summary List'!P456<>\"\",'Summary List'!P456,\"\")","v":""},{"$f":"IF('Summary List'!Q456<>\"\",'Summary List'!Q456,\"\")","v":""},{"$f":"IF('Summary List'!R456<>\"\",'Summary List'!R456,\"\")","v":""},{"$f":"IF('Summary List'!S456<>\"\",'Summary List'!S456,\"\")","v":""},null,{"$f":"IF('Summary List'!M515<>\"\",'Summary List'!M515,\"\")","v":""},{"$f":"IF('Summary List'!N515<>\"\",'Summary List'!N515,\"\")","v":""},{"$f":"IF('Summary List'!O515<>\"\",'Summary List'!O515,\"\")","v":""},{"$f":"IF('Summary List'!P515<>\"\",'Summary List'!P515,\"\")","v":""},{"$f":"IF('Summary List'!Q515<>\"\",'Summary List'!Q515,\"\")","v":""},{"$f":"IF('Summary List'!R515<>\"\",'Summary List'!R515,\"\")","v":""},{"$f":"IF('Summary List'!S515<>\"\",'Summary List'!S515,\"\")","v":""}]
[null,null,{"$f":"IF('Summary List'!M398<>\"\",'Summary List'!M398,\"\")","v":""},{"$f":"IF('Summary List'!N398<>\"\",'Summary List'!N398,\"\")","v":""},{"$f":"IF('Summary List'!O398<>\"\",'Summary List'!O398,\"\")","v":""},{"$f":"IF('Summary List'!P398<>\"\",'Summary List'!P398,\"\")","v":""},{"$f":"IF('Summary List'!Q398<>\"\",'Summary List'!Q398,\"\")","v":""},{"$f":"IF('Summary List'!R398<>\"\",'Summary List'!R398,\"\")","v":""},{"$f":"IF('Summary List'!S398<>\"\",'Summary List'!S398,\"\")","v":""},null,{"$f":"IF('Summary List'!M457<>\"\",'Summary List'!M457,\"\")","v":""},{"$f":"IF('Summary List'!N457<>\"\",'Summary List'!N457,\"\")","v":""},{"$f":"IF('Summary List'!O457<>\"\",'Summary List'!O457,\"\")","v":""},{"$f":"IF('Summary List'!P457<>\"\",'Summary List'!P457,\"\")","v":""},{"$f":"IF('Summary List'!Q457<>\"\",'Summary List'!Q457,\"\")","v":""},{"$f":"IF('Summary List'!R457<>\"\",'Summary List'!R457,\"\")","v":""},{"$f":"IF('Summary List'!S457<>\"\",'Summary List'!S457,\"\")","v":""},null,{"$f":"IF('Summary List'!M516<>\"\",'Summary List'!M516,\"\")","v":""},{"$f":"IF('Summary List'!N516<>\"\",'Summary List'!N516,\"\")","v":""},{"$f":"IF('Summary List'!O516<>\"\",'Summary List'!O516,\"\")","v":""},{"$f":"IF('Summary List'!P516<>\"\",'Summary List'!P516,\"\")","v":""},{"$f":"IF('Summary List'!Q516<>\"\",'Summary List'!Q516,\"\")","v":""},{"$f":"IF('Summary List'!R516<>\"\",'Summary List'!R516,\"\")","v":""},{"$f":"IF('Summary List'!S516<>\"\",'Summary List'!S516,\"\")","v":""}]
[null,null,{"$f":"IF('Summary List'!M399<>\"\",'Summary List'!M399,\"\")","v":""},{"$f":"IF('Summary List'!N399<>\"\",'Summary List'!N399,\"\")","v":""},{"$f":"IF('Summary List'!O399<>\"\",'Summary List'!O399,\"\")","v":""},{"$f":"IF('Summary List'!P399<>\"\",'Summary List'!P399,\"\")","v":""},{"$f":"IF('Summary List'!Q399<>\"\",'Summary List'!Q399,\"\")","v":""},{"$f":"IF('Summary List'!R399<>\"\",'Summary List'!R399,\"\")","v":""},{"$f":"IF('Summary List'!S399<>\"\",'Summary List'!S399,\"\")","v":""},null,{"$f":"IF('Summary List'!M458<>\"\",'Summary List'!M458,\"\")","v":""},{"$f":"IF('Summary List'!N458<>\"\",'Summary List'!N458,\"\")","v":""},{"$f":"IF('Summary List'!O458<>\"\",'Summary List'!O458,\"\")","v":""},{"$f":"IF('Summary List'!P458<>\"\",'Summary List'!P458,\"\")","v":""},{"$f":"IF('Summary List'!Q458<>\"\",'Summary List'!Q458,\"\")","v":""},{"$f":"IF('Summary List'!R458<>\"\",'Summary List'!R458,\"\")","v":""},{"$f":"IF('Summary List'!S458<>\"\",'Summary List'!S458,\"\")","v":""},null,{"$f":"IF('Summary List'!M517<>\"\",'Summary List'!M517,\"\")","v":""},{"$f":"IF('Summary List'!N517<>\"\",'Summary List'!N517,\"\")","v":""},{"$f":"IF('Summary List'!O517<>\"\",'Summary List'!O517,\"\")","v":""},{"$f":"IF('Summary List'!P517<>\"\",'Summary List'!P517,\"\")","v":""},{"$f":"IF('Summary List'!Q517<>\"\",'Summary List'!Q517,\"\")","v":""},{"$f":"IF('Summary List'!R517<>\"\",'Summary List'!R517,\"\")","v":""},{"$f":"IF('Summary List'!S517<>\"\",'Summary List'!S517,\"\")","v":""}]
[null,null,{"$f":"IF('Summary List'!M400<>\"\",'Summary List'!M400,\"\")","v":""},{"$f":"IF('Summary List'!N400<>\"\",'Summary List'!N400,\"\")","v":""},{"$f":"IF('Summary List'!O400<>\"\",'Summary List'!O400,\"\")","v":""},{"$f":"IF('Summary List'!P400<>\"\",'Summary List'!P400,\"\")","v":""},{"$f":"IF('Summary List'!Q400<>\"\",'Summary List'!Q400,\"\")","v":""},{"$f":"IF('Summary List'!R400<>\"\",'Summary List'!R400,\"\")","v":""},{"$f":"IF('Summary List'!S400<>\"\",'Summary List'!S400,\"\")","v":""},null,{"$f":"IF('Summary List'!M459<>\"\",'Summary List'!M459,\"\")","v":""},{"$f":"IF('Summary List'!N459<>\"\",'Summary List'!N459,\"\")","v":""},{"$f":"IF('Summary List'!O459<>\"\",'Summary List'!O459,\"\")","v":""},{"$f":"IF('Summary List'!P459<>\"\",'Summary List'!P459,\"\")","v":""},{"$f":"IF('Summary List'!Q459<>\"\",'Summary List'!Q459,\"\")","v":""},{"$f":"IF('Summary List'!R459<>\"\",'Summary List'!R459,\"\")","v":""},{"$f":"IF('Summary List'!S459<>\"\",'Summary List'!S459,\"\")","v":""},null,{"$f":"IF('Summary List'!M518<>\"\",'Summary List'!M518,\"\")","v":""},{"$f":"IF('Summary List'!N518<>\"\",'Summary List'!N518,\"\")","v":""},{"$f":"IF('Summary List'!O518<>\"\",'Summary List'!O518,\"\")","v":""},{"$f":"IF('Summary List'!P518<>\"\",'Summary List'!P518,\"\")","v":""},{"$f":"IF('Summary List'!Q518<>\"\",'Summary List'!Q518,\"\")","v":""},{"$f":"IF('Summary List'!R518<>\"\",'Summary List'!R518,\"\")","v":""},{"$f":"IF('Summary List'!S518<>\"\",'Summary List'!S518,\"\")","v":""}]
[null,null,{"$f":"IF('Summary List'!M401<>\"\",'Summary List'!M401,\"\")","v":""},{"$f":"IF('Summary List'!N401<>\"\",'Summary List'!N401,\"\")","v":""},{"$f":"IF('Summary List'!O401<>\"\",'Summary List'!O401,\"\")","v":""},{"$f":"IF('Summary List'!P401<>\"\",'Summary List'!P401,\"\")","v":""},{"$f":"IF('Summary List'!Q401<>\"\",'Summary List'!Q401,\"\")","v":""},{"$f":"IF('Summary List'!R401<>\"\",'Summary List'!R401,\"\")","v":""},{"$f":"IF('Summary List'!S401<>\"\",'Summary List'!S401,\"\")","v":""},null,{"$f":"IF('Summary List'!M460<>\"\",'Summary List'!M460,\"\")","v":""},{"$f":"IF('Summary List'!N460<>\"\",'Summary List'!N460,\"\")","v":""},{"$f":"IF('Summary List'!O460<>\"\",'Summary List'!O460,\"\")","v":""},{"$f":"IF('Summary List'!P460<>\"\",'Summary List'!P460,\"\")","v":""},{"$f":"IF('Summary List'!Q460<>\"\",'Summary List'!Q460,\"\")","v":""},{"$f":"IF('Summary List'!R460<>\"\",'Summary List'!R460,\"\")","v":""},{"$f":"IF('Summary List'!S460<>\"\",'Summary List'!S460,\"\")","v":""},null,{"$f":"IF('Summary List'!M519<>\"\",'Summary List'!M519,\"\")","v":""},{"$f":"IF('Summary List'!N519<>\"\",'Summary List'!N519,\"\")","v":""},{"$f":"IF('Summary List'!O519<>\"\",'Summary List'!O519,\"\")","v":""},{"$f":"IF('Summary List'!P519<>\"\",'Summary List'!P519,\"\")","v":""},{"$f":"IF('Summary List'!Q519<>\"\",'Summary List'!Q519,\"\")","v":""},{"$f":"IF('Summary List'!R519<>\"\",'Summary List'!R519,\"\")","v":""},{"$f":"IF('Summary List'!S519<>\"\",'Summary List'!S519,\"\")","v":""}]
[null,null,{"$f":"IF('Summary List'!M402<>\"\",'Summary List'!M402,\"\")","v":""},{"$f":"IF('Summary List'!N402<>\"\",'Summary List'!N402,\"\")","v":""},{"$f":"IF('Summary List'!O402<>\"\",'Summary List'!O402,\"\")","v":""},{"$f":"IF('Summary List'!P402<>\"\",'Summary List'!P402,\"\")","v":""},{"$f":"IF('Summary List'!Q402<>\"\",'Summary List'!Q402,\"\")","v":""},{"$f":"IF('Summary List'!R402<>\"\",'Summary List'!R402,\"\")","v":""},{"$f":"IF('Summary List'!S402<>\"\",'Summary List'!S402,\"\")","v":""},null,{"$f":"IF('Summary List'!M461<>\"\",'Summary List'!M461,\"\")","v":""},{"$f":"IF('Summary List'!N461<>\"\",'Summary List'!N461,\"\")","v":""},{"$f":"IF('Summary List'!O461<>\"\",'Summary List'!O461,\"\")","v":""},{"$f":"IF('Summary List'!P461<>\"\",'Summary List'!P461,\"\")","v":""},{"$f":"IF('Summary List'!Q461<>\"\",'Summary List'!Q461,\"\")","v":""},{"$f":"IF('Summary List'!R461<>\"\",'Summary List'!R461,\"\")","v":""},{"$f":"IF('Summary List'!S461<>\"\",'Summary List'!S461,\"\")","v":""},null,{"$f":"IF('Summary List'!M520<>\"\",'Summary List'!M520,\"\")","v":""},{"$f":"IF('Summary List'!N520<>\"\",'Summary List'!N520,\"\")","v":""},{"$f":"IF('Summary List'!O520<>\"\",'Summary List'!O520,\"\")","v":""},{"$f":"IF('Summary List'!P520<>\"\",'Summary List'!P520,\"\")","v":""},{"$f":"IF('Summary List'!Q520<>\"\",'Summary List'!Q520,\"\")","v":""},{"$f":"IF('Summary List'!R520<>\"\",'Summary List'!R520,\"\")","v":""},{"$f":"IF('Summary List'!S520<>\"\",'Summary List'!S520,\"\")","v":""}]
[null,null,{"$f":"IF('Summary List'!M403<>\"\",'Summary List'!M403,\"\")","v":""},{"$f":"IF('Summary List'!N403<>\"\",'Summary List'!N403,\"\")","v":""},{"$f":"IF('Summary List'!O403<>\"\",'Summary List'!O403,\"\")","v":""},{"$f":"IF('Summary List'!P403<>\"\",'Summary List'!P403,\"\")","v":""},{"$f":"IF('Summary List'!Q403<>\"\",'Summary List'!Q403,\"\")","v":""},{"$f":"IF('Summary List'!R403<>\"\",'Summary List'!R403,\"\")","v":""},{"$f":"IF('Summary List'!S403<>\"\",'Summary List'!S403,\"\")","v":""},null,{"$f":"IF('Summary List'!M462<>\"\",'Summary List'!M462,\"\")","v":""},{"$f":"IF('Summary List'!N462<>\"\",'Summary List'!N462,\"\")","v":""},{"$f":"IF('Summary List'!O462<>\"\",'Summary List'!O462,\"\")","v":""},{"$f":"IF('Summary List'!P462<>\"\",'Summary List'!P462,\"\")","v":""},{"$f":"IF('Summary List'!Q462<>\"\",'Summary List'!Q462,\"\")","v":""},{"$f":"IF('Summary List'!R462<>\"\",'Summary List'!R462,\"\")","v":""},{"$f":"IF('Summary List'!S462<>\"\",'Summary List'!S462,\"\")","v":""},null,{"$f":"IF('Summary List'!M521<>\"\",'Summary List'!M521,\"\")","v":""},{"$f":"IF('Summary List'!N521<>\"\",'Summary List'!N521,\"\")","v":""},{"$f":"IF('Summary List'!O521<>\"\",'Summary List'!O521,\"\")","v":""},{"$f":"IF('Summary List'!P521<>\"\",'Summary List'!P521,\"\")","v":""},{"$f":"IF('Summary List'!Q521<>\"\",'Summary List'!Q521,\"\")","v":""},{"$f":"IF('Summary List'!R521<>\"\",'Summary List'!R521,\"\")","v":""},{"$f":"IF('Summary List'!S521<>\"\",'Summary List'!S521,\"\")","v":""}]
[null,null,{"$f":"IF('Summary List'!M404<>\"\",'Summary List'!M404,\"\")","v":""},{"$f":"IF('Summary List'!N404<>\"\",'Summary List'!N404,\"\")","v":""},{"$f":"IF('Summary List'!O404<>\"\",'Summary List'!O404,\"\")","v":""},{"$f":"IF('Summary List'!P404<>\"\",'Summary List'!P404,\"\")","v":""},{"$f":"IF('Summary List'!Q404<>\"\",'Summary List'!Q404,\"\")","v":""},{"$f":"IF('Summary List'!R404<>\"\",'Summary List'!R404,\"\")","v":""},{"$f":"IF('Summary List'!S404<>\"\",'Summary List'!S404,\"\")","v":""},null,{"$f":"IF('Summary List'!M463<>\"\",'Summary List'!M463,\"\")","v":""},{"$f":"IF('Summary List'!N463<>\"\",'Summary List'!N463,\"\")","v":""},{"$f":"IF('Summary List'!O463<>\"\",'Summary List'!O463,\"\")","v":""},{"$f":"IF('Summary List'!P463<>\"\",'Summary List'!P463,\"\")","v":""},{"$f":"IF('Summary List'!Q463<>\"\",'Summary List'!Q463,\"\")","v":""},{"$f":"IF('Summary List'!R463<>\"\",'Summary List'!R463,\"\")","v":""},{"$f":"IF('Summary List'!S463<>\"\",'Summary List'!S463,\"\")","v":""},null,{"$f":"IF('Summary List'!M522<>\"\",'Summary List'!M522,\"\")","v":""},{"$f":"IF('Summary List'!N522<>\"\",'Summary List'!N522,\"\")","v":""},{"$f":"IF('Summary List'!O522<>\"\",'Summary List'!O522,\"\")","v":""},{"$f":"IF('Summary List'!P522<>\"\",'Summary List'!P522,\"\")","v":""},{"$f":"IF('Summary List'!Q522<>\"\",'Summary List'!Q522,\"\")","v":""},{"$f":"IF('Summary List'!R522<>\"\",'Summary List'!R522,\"\")","v":""},{"$f":"IF('Summary List'!S522<>\"\",'Summary List'!S522,\"\")","v":""}]
[null,null,{"$f":"IF('Summary List'!M405<>\"\",'Summary List'!M405,\"\")","v":""},{"$f":"IF('Summary List'!N405<>\"\",'Summary List'!N405,\"\")","v":""},{"$f":"IF('Summary List'!O405<>\"\",'Summary List'!O405,\"\")","v":""},{"$f":"IF('Summary List'!P405<>\"\",'Summary List'!P405,\"\")","v":""},{"$f":"IF('Summary List'!Q405<>\"\",'Summary List'!Q405,\"\")","v":""},{"$f":"IF('Summary List'!R405<>\"\",'Summary List'!R405,\"\")","v":""},{"$f":"IF('Summary List'!S405<>\"\",'Summary List'!S405,\"\")","v":""},null,{"$f":"IF('Summary List'!M464<>\"\",'Summary List'!M464,\"\")","v":""},{"$f":"IF('Summary List'!N464<>\"\",'Summary List'!N464,\"\")","v":""},{"$f":"IF('Summary List'!O464<>\"\",'Summary List'!O464,\"\")","v":""},{"$f":"IF('Summary List'!P464<>\"\",'Summary List'!P464,\"\")","v":""},{"$f":"IF('Summary List'!Q464<>\"\",'Summary List'!Q464,\"\")","v":""},{"$f":"IF('Summary List'!R464<>\"\",'Summary List'!R464,\"\")","v":""},{"$f":"IF('Summary List'!S464<>\"\",'Summary List'!S464,\"\")","v":""},null,{"$f":"IF('Summary List'!M523<>\"\",'Summary List'!M523,\"\")","v":""},{"$f":"IF('Summary List'!N523<>\"\",'Summary List'!N523,\"\")","v":""},{"$f":"IF('Summary List'!O523<>\"\",'Summary List'!O523,\"\")","v":""},{"$f":"IF('Summary List'!P523<>\"\",'Summary List'!P523,\"\")","v":""},{"$f":"IF('Summary List'!Q523<>\"\",'Summary List'!Q523,\"\")","v":""},{"$f":"IF('Summary List'!R523<>\"\",'Summary List'!R523,\"\")","v":""},{"$f":"IF('Summary List'!S523<>\"\",'Summary List'!S523,\"\")","v":""}]
[null,null,{"$f":"IF('Summary List'!M406<>\"\",'Summary List'!M406,\"\")","v":""},{"$f":"IF('Summary List'!N406<>\"\",'Summary List'!N406,\"\")","v":""},{"$f":"IF('Summary List'!O406<>\"\",'Summary List'!O406,\"\")","v":""},{"$f":"IF('Summary List'!P406<>\"\",'Summary List'!P406,\"\")","v":""},{"$f":"IF('Summary List'!Q406<>\"\",'Summary List'!Q406,\"\")","v":""},{"$f":"IF('Summary List'!R406<>\"\",'Summary List'!R406,\"\")","v":""},{"$f":"IF('Summary List'!S406<>\"\",'Summary List'!S406,\"\")","v":""},null,{"$f":"IF('Summary List'!M465<>\"\",'Summary List'!M465,\"\")","v":""},{"$f":"IF('Summary List'!N465<>\"\",'Summary List'!N465,\"\")","v":""},{"$f":"IF('Summary List'!O465<>\"\",'Summary List'!O465,\"\")","v":""},{"$f":"IF('Summary List'!P465<>\"\",'Summary List'!P465,\"\")","v":""},{"$f":"IF('Summary List'!Q465<>\"\",'Summary List'!Q465,\"\")","v":""},{"$f":"IF('Summary List'!R465<>\"\",'Summary List'!R465,\"\")","v":""},{"$f":"IF('Summary List'!S465<>\"\",'Summary List'!S465,\"\")","v":""},null,{"$f":"IF('Summary List'!M524<>\"\",'Summary List'!M524,\"\")","v":""},{"$f":"IF('Summary List'!N524<>\"\",'Summary List'!N524,\"\")","v":""},{"$f":"IF('Summary List'!O524<>\"\",'Summary List'!O524,\"\")","v":""},{"$f":"IF('Summary List'!P524<>\"\",'Summary List'!P524,\"\")","v":""},{"$f":"IF('Summary List'!Q524<>\"\",'Summary List'!Q524,\"\")","v":""},{"$f":"IF('Summary List'!R524<>\"\",'Summary List'!R524,\"\")","v":""},{"$f":"IF('Summary List'!S524<>\"\",'Summary List'!S524,\"\")","v":""}]
[null,null,{"$f":"IF('Summary List'!M407<>\"\",'Summary List'!M407,\"\")","v":""},{"$f":"IF('Summary List'!N407<>\"\",'Summary List'!N407,\"\")","v":""},{"$f":"IF('Summary List'!O407<>\"\",'Summary List'!O407,\"\")","v":""},{"$f":"IF('Summary List'!P407<>\"\",'Summary List'!P407,\"\")","v":""},{"$f":"IF('Summary List'!Q407<>\"\",'Summary List'!Q407,\"\")","v":""},{"$f":"IF('Summary List'!R407<>\"\",'Summary List'!R407,\"\")","v":""},{"$f":"IF('Summary List'!S407<>\"\",'Summary List'!S407,\"\")","v":""},null,{"$f":"IF('Summary List'!M466<>\"\",'Summary List'!M466,\"\")","v":""},{"$f":"IF('Summary List'!N466<>\"\",'Summary List'!N466,\"\")","v":""},{"$f":"IF('Summary List'!O466<>\"\",'Summary List'!O466,\"\")","v":""},{"$f":"IF('Summary List'!P466<>\"\",'Summary List'!P466,\"\")","v":""},{"$f":"IF('Summary List'!Q466<>\"\",'Summary List'!Q466,\"\")","v":""},{"$f":"IF('Summary List'!R466<>\"\",'Summary List'!R466,\"\")","v":""},{"$f":"IF('Summary List'!S466<>\"\",'Summary List'!S466,\"\")","v":""},null,{"$f":"IF('Summary List'!M525<>\"\",'Summary List'!M525,\"\")","v":""},{"$f":"IF('Summary List'!N525<>\"\",'Summary List'!N525,\"\")","v":""},{"$f":"IF('Summary List'!O525<>\"\",'Summary List'!O525,\"\")","v":""},{"$f":"IF('Summary List'!P525<>\"\",'Summary List'!P525,\"\")","v":""},{"$f":"IF('Summary List'!Q525<>\"\",'Summary List'!Q525,\"\")","v":""},{"$f":"IF('Summary List'!R525<>\"\",'Summary List'!R525,\"\")","v":""},{"$f":"IF('Summary List'!S525<>\"\",'Summary List'!S525,\"\")","v":""}]
[null,null,{"$f":"IF('Summary List'!M408<>\"\",'Summary List'!M408,\"\")","v":""},{"$f":"IF('Summary List'!N408<>\"\",'Summary List'!N408,\"\")","v":""},{"$f":"IF('Summary List'!O408<>\"\",'Summary List'!O408,\"\")","v":""},{"$f":"IF('Summary List'!P408<>\"\",'Summary List'!P408,\"\")","v":""},{"$f":"IF('Summary List'!Q408<>\"\",'Summary List'!Q408,\"\")","v":""},{"$f":"IF('Summary List'!R408<>\"\",'Summary List'!R408,\"\")","v":""},{"$f":"IF('Summary List'!S408<>\"\",'Summary List'!S408,\"\")","v":""},null,{"$f":"IF('Summary List'!M467<>\"\",'Summary List'!M467,\"\")","v":""},{"$f":"IF('Summary List'!N467<>\"\",'Summary List'!N467,\"\")","v":""},{"$f":"IF('Summary List'!O467<>\"\",'Summary List'!O467,\"\")","v":""},{"$f":"IF('Summary List'!P467<>\"\",'Summary List'!P467,\"\")","v":""},{"$f":"IF('Summary List'!Q467<>\"\",'Summary List'!Q467,\"\")","v":""},{"$f":"IF('Summary List'!R467<>\"\",'Summary List'!R467,\"\")","v":""},{"$f":"IF('Summary List'!S467<>\"\",'Summary List'!S467,\"\")","v":""},null,{"$f":"IF('Summary List'!M526<>\"\",'Summary List'!M526,\"\")","v":""},{"$f":"IF('Summary List'!N526<>\"\",'Summary List'!N526,\"\")","v":""},{"$f":"IF('Summary List'!O526<>\"\",'Summary List'!O526,\"\")","v":""},{"$f":"IF('Summary List'!P526<>\"\",'Summary List'!P526,\"\")","v":""},{"$f":"IF('Summary List'!Q526<>\"\",'Summary List'!Q526,\"\")","v":""},{"$f":"IF('Summary List'!R526<>\"\",'Summary List'!R526,\"\")","v":""},{"$f":"IF('Summary List'!S526<>\"\",'Summary List'!S526,\"\")","v":""}]
[null,null,{"$f":"IF('Summary List'!M409<>\"\",'Summary List'!M409,\"\")","v":""},{"$f":"IF('Summary List'!N409<>\"\",'Summary List'!N409,\"\")","v":""},{"$f":"IF('Summary List'!O409<>\"\",'Summary List'!O409,\"\")","v":""},{"$f":"IF('Summary List'!P409<>\"\",'Summary List'!P409,\"\")","v":""},{"$f":"IF('Summary List'!Q409<>\"\",'Summary List'!Q409,\"\")","v":""},{"$f":"IF('Summary List'!R409<>\"\",'Summary List'!R409,\"\")","v":""},{"$f":"IF('Summary List'!S409<>\"\",'Summary List'!S409,\"\")","v":""},null,{"$f":"IF('Summary List'!M468<>\"\",'Summary List'!M468,\"\")","v":""},{"$f":"IF('Summary List'!N468<>\"\",'Summary List'!N468,\"\")","v":""},{"$f":"IF('Summary List'!O468<>\"\",'Summary List'!O468,\"\")","v":""},{"$f":"IF('Summary List'!P468<>\"\",'Summary List'!P468,\"\")","v":""},{"$f":"IF('Summary List'!Q468<>\"\",'Summary List'!Q468,\"\")","v":""},{"$f":"IF('Summary List'!R468<>\"\",'Summary List'!R468,\"\")","v":""},{"$f":"IF('Summary List'!S468<>\"\",'Summary List'!S468,\"\")","v":""},null,{"$f":"IF('Summary List'!M527<>\"\",'Summary List'!M527,\"\")","v":""},{"$f":"IF('Summary List'!N527<>\"\",'Summary List'!N527,\"\")","v":""},{"$f":"IF('Summary List'!O527<>\"\",'Summary List'!O527,\"\")","v":""},{"$f":"IF('Summary List'!P527<>\"\",'Summary List'!P527,\"\")","v":""},{"$f":"IF('Summary List'!Q527<>\"\",'Summary List'!Q527,\"\")","v":""},{"$f":"IF('Summary List'!R527<>\"\",'Summary List'!R527,\"\")","v":""},{"$f":"IF('Summary List'!S527<>\"\",'Summary List'!S527,\"\")","v":""}]
[null,null,{"$f":"IF('Summary List'!M410<>\"\",'Summary List'!M410,\"\")","v":""},{"$f":"IF('Summary List'!N410<>\"\",'Summary List'!N410,\"\")","v":""},{"$f":"IF('Summary List'!O410<>\"\",'Summary List'!O410,\"\")","v":""},{"$f":"IF('Summary List'!P410<>\"\",'Summary List'!P410,\"\")","v":""},{"$f":"IF('Summary List'!Q410<>\"\",'Summary List'!Q410,\"\")","v":""},{"$f":"IF('Summary List'!R410<>\"\",'Summary List'!R410,\"\")","v":""},{"$f":"IF('Summary List'!S410<>\"\",'Summary List'!S410,\"\")","v":""},null,{"$f":"IF('Summary List'!M469<>\"\",'Summary List'!M469,\"\")","v":""},{"$f":"IF('Summary List'!N469<>\"\",'Summary List'!N469,\"\")","v":""},{"$f":"IF('Summary List'!O469<>\"\",'Summary List'!O469,\"\")","v":""},{"$f":"IF('Summary List'!P469<>\"\",'Summary List'!P469,\"\")","v":""},{"$f":"IF('Summary List'!Q469<>\"\",'Summary List'!Q469,\"\")","v":""},{"$f":"IF('Summary List'!R469<>\"\",'Summary List'!R469,\"\")","v":""},{"$f":"IF('Summary List'!S469<>\"\",'Summary List'!S469,\"\")","v":""},null,{"$f":"IF('Summary List'!M528<>\"\",'Summary List'!M528,\"\")","v":""},{"$f":"IF('Summary List'!N528<>\"\",'Summary List'!N528,\"\")","v":""},{"$f":"IF('Summary List'!O528<>\"\",'Summary List'!O528,\"\")","v":""},{"$f":"IF('Summary List'!P528<>\"\",'Summary List'!P528,\"\")","v":""},{"$f":"IF('Summary List'!Q528<>\"\",'Summary List'!Q528,\"\")","v":""},{"$f":"IF('Summary List'!R528<>\"\",'Summary List'!R528,\"\")","v":""},{"$f":"IF('Summary List'!S528<>\"\",'Summary List'!S528,\"\")","v":""}]
[null,null,{"$f":"IF('Summary List'!M411<>\"\",'Summary List'!M411,\"\")","v":""},{"$f":"IF('Summary List'!N411<>\"\",'Summary List'!N411,\"\")","v":""},{"$f":"IF('Summary List'!O411<>\"\",'Summary List'!O411,\"\")","v":""},{"$f":"IF('Summary List'!P411<>\"\",'Summary List'!P411,\"\")","v":""},{"$f":"IF('Summary List'!Q411<>\"\",'Summary List'!Q411,\"\")","v":""},{"$f":"IF('Summary List'!R411<>\"\",'Summary List'!R411,\"\")","v":""},{"$f":"IF('Summary List'!S411<>\"\",'Summary List'!S411,\"\")","v":""},null,{"$f":"IF('Summary List'!M470<>\"\",'Summary List'!M470,\"\")","v":""},{"$f":"IF('Summary List'!N470<>\"\",'Summary List'!N470,\"\")","v":""},{"$f":"IF('Summary List'!O470<>\"\",'Summary List'!O470,\"\")","v":""},{"$f":"IF('Summary List'!P470<>\"\",'Summary List'!P470,\"\")","v":""},{"$f":"IF('Summary List'!Q470<>\"\",'Summary List'!Q470,\"\")","v":""},{"$f":"IF('Summary List'!R470<>\"\",'Summary List'!R470,\"\")","v":""},{"$f":"IF('Summary List'!S470<>\"\",'Summary List'!S470,\"\")","v":""},null,{"$f":"IF('Summary List'!M529<>\"\",'Summary List'!M529,\"\")","v":""},{"$f":"IF('Summary List'!N529<>\"\",'Summary List'!N529,\"\")","v":""},{"$f":"IF('Summary List'!O529<>\"\",'Summary List'!O529,\"\")","v":""},{"$f":"IF('Summary List'!P529<>\"\",'Summary List'!P529,\"\")","v":""},{"$f":"IF('Summary List'!Q529<>\"\",'Summary List'!Q529,\"\")","v":""},{"$f":"IF('Summary List'!R529<>\"\",'Summary List'!R529,\"\")","v":""},{"$f":"IF('Summary List'!S529<>\"\",'Summary List'!S529,\"\")","v":""}]
[null,null,{"$f":"IF('Summary List'!M412<>\"\",'Summary List'!M412,\"\")","v":""},{"$f":"IF('Summary List'!N412<>\"\",'Summary List'!N412,\"\")","v":""},{"$f":"IF('Summary List'!O412<>\"\",'Summary List'!O412,\"\")","v":""},{"$f":"IF('Summary List'!P412<>\"\",'Summary List'!P412,\"\")","v":""},{"$f":"IF('Summary List'!Q412<>\"\",'Summary List'!Q412,\"\")","v":""},{"$f":"IF('Summary List'!R412<>\"\",'Summary List'!R412,\"\")","v":""},{"$f":"IF('Summary List'!S412<>\"\",'Summary List'!S412,\"\")","v":""},null,{"$f":"IF('Summary List'!M471<>\"\",'Summary List'!M471,\"\")","v":""},{"$f":"IF('Summary List'!N471<>\"\",'Summary List'!N471,\"\")","v":""},{"$f":"IF('Summary List'!O471<>\"\",'Summary List'!O471,\"\")","v":""},{"$f":"IF('Summary List'!P471<>\"\",'Summary List'!P471,\"\")","v":""},{"$f":"IF('Summary List'!Q471<>\"\",'Summary List'!Q471,\"\")","v":""},{"$f":"IF('Summary List'!R471<>\"\",'Summary List'!R471,\"\")","v":""},{"$f":"IF('Summary List'!S471<>\"\",'Summary List'!S471,\"\")","v":""},null,{"$f":"IF('Summary List'!M530<>\"\",'Summary List'!M530,\"\")","v":""},{"$f":"IF('Summary List'!N530<>\"\",'Summary List'!N530,\"\")","v":""},{"$f":"IF('Summary List'!O530<>\"\",'Summary List'!O530,\"\")","v":""},{"$f":"IF('Summary List'!P530<>\"\",'Summary List'!P530,\"\")","v":""},{"$f":"IF('Summary List'!Q530<>\"\",'Summary List'!Q530,\"\")","v":""},{"$f":"IF('Summary List'!R530<>\"\",'Summary List'!R530,\"\")","v":""},{"$f":"IF('Summary List'!S530<>\"\",'Summary List'!S530,\"\")","v":""}]
[null,null,{"$f":"IF('Summary List'!M413<>\"\",'Summary List'!M413,\"\")","v":""},{"$f":"IF('Summary List'!N413<>\"\",'Summary List'!N413,\"\")","v":""},{"$f":"IF('Summary List'!O413<>\"\",'Summary List'!O413,\"\")","v":""},{"$f":"IF('Summary List'!P413<>\"\",'Summary List'!P413,\"\")","v":""},{"$f":"IF('Summary List'!Q413<>\"\",'Summary List'!Q413,\"\")","v":""},{"$f":"IF('Summary List'!R413<>\"\",'Summary List'!R413,\"\")","v":""},{"$f":"IF('Summary List'!S413<>\"\",'Summary List'!S413,\"\")","v":""},null,{"$f":"IF('Summary List'!M472<>\"\",'Summary List'!M472,\"\")","v":""},{"$f":"IF('Summary List'!N472<>\"\",'Summary List'!N472,\"\")","v":""},{"$f":"IF('Summary List'!O472<>\"\",'Summary List'!O472,\"\")","v":""},{"$f":"IF('Summary List'!P472<>\"\",'Summary List'!P472,\"\")","v":""},{"$f":"IF('Summary List'!Q472<>\"\",'Summary List'!Q472,\"\")","v":""},{"$f":"IF('Summary List'!R472<>\"\",'Summary List'!R472,\"\")","v":""},{"$f":"IF('Summary List'!S472<>\"\",'Summary List'!S472,\"\")","v":""},null,{"$f":"IF('Summary List'!M531<>\"\",'Summary List'!M531,\"\")","v":""},{"$f":"IF('Summary List'!N531<>\"\",'Summary List'!N531,\"\")","v":""},{"$f":"IF('Summary List'!O531<>\"\",'Summary List'!O531,\"\")","v":""},{"$f":"IF('Summary List'!P531<>\"\",'Summary List'!P531,\"\")","v":""},{"$f":"IF('Summary List'!Q531<>\"\",'Summary List'!Q531,\"\")","v":""},{"$f":"IF('Summary List'!R531<>\"\",'Summary List'!R531,\"\")","v":""},{"$f":"IF('Summary List'!S531<>\"\",'Summary List'!S531,\"\")","v":""}]
[]
[]
[]
[]
[null,"COMPUTED BY:",null,null,"DATE:",null,null,null,null,null,null,null,null,"(08-05-21)",null,null,null,null,null,null,null,"PROJECT NO.",null,null,"SHEET NO."]
[null,"CHECKED BY:",null,null,"DATE:",null,null,null,null,null,null,null,null,null,null,null,null,null,null,null,null,{"$f":"'General Project Information'!$E$7","v":""},null,null,"3D-",{"$f":"1+Z156","v":6}]
[null,null,null,null,null,null,null,null,null,null,null,null,null,"STATE OF NORTH CAROLINA"]
[null,null,null,null,null,null,null,null,null,null,null,null,null,"DIVISION OF HIGHWAYS"]
[]
[null,null,null,null,"SUMMARY OF STORMWATER CONTROL MEASURES",null,null,null,null,null,null,null,"SUMMARY OF STORMWATER CONTROL MEASURES",null,null,null,null,null,null,null,"SUMMARY OF STORMWATER CONTROL MEASURES"]
[]
[null,null,"CONST SHEET NO.","SCM TYPE","LINE","STATION","Location LT/RT/CL","Latitude","Longitude",null,"CONST SHEET NO.","SCM TYPE","LINE","STATION","Location LT/RT/CL","Latitude","Longitude",null,"CONST SHEET NO.","SCM TYPE","LINE","STATION","Location LT/RT/CL","Latitude","Longitude"]
[]
[]
[]
[null,null,{"$f":"IF('Summary List'!M532<>\"\",'Summary List'!M532,\"\")","v":""},{"$f":"IF('Summary List'!N532<>\"\",'Summary List'!N532,\"\")","v":""},{"$f":"IF('Summary List'!O532<>\"\",'Summary List'!O532,\"\")","v":""},{"$f":"IF('Summary List'!P532<>\"\",'Summary List'!P532,\"\")","v":""},{"$f":"IF('Summary List'!Q532<>\"\",'Summary List'!Q532,\"\")","v":""},{"$f":"IF('Summary List'!R532<>\"\",'Summary List'!R532,\"\")","v":""},{"$f":"IF('Summary List'!S532<>\"\",'Summary List'!S532,\"\")","v":""},null,{"$f":"IF('Summary List'!M591<>\"\",'Summary List'!M591,\"\")","v":""},{"$f":"IF('Summary List'!N591<>\"\",'Summary List'!N591,\"\")","v":""},{"$f":"IF('Summary List'!O591<>\"\",'Summary List'!O591,\"\")","v":""},{"$f":"IF('Summary List'!P591<>\"\",'Summary List'!P591,\"\")","v":""},{"$f":"IF('Summary List'!Q591<>\"\",'Summary List'!Q591,\"\")","v":""},{"$f":"IF('Summary List'!R591<>\"\",'Summary List'!R591,\"\")","v":""},{"$f":"IF('Summary List'!S591<>\"\",'Summary List'!S591,\"\")","v":""},null,{"$f":"IF('Summary List'!M650<>\"\",'Summary List'!M650,\"\")","v":""},{"$f":"IF('Summary List'!N650<>\"\",'Summary List'!N650,\"\")","v":""},{"$f":"IF('Summary List'!O650<>\"\",'Summary List'!O650,\"\")","v":""},{"$f":"IF('Summary List'!P650<>\"\",'Summary List'!P650,\"\")","v":""},{"$f":"IF('Summary List'!Q650<>\"\",'Summary List'!Q650,\"\")","v":""},{"$f":"IF('Summary List'!R650<>\"\",'Summary List'!R650,\"\")","v":""},{"$f":"IF('Summary List'!S650<>\"\",'Summary List'!S650,\"\")","v":""}]
[null,null,{"$f":"IF('Summary List'!M533<>\"\",'Summary List'!M533,\"\")","v":""},{"$f":"IF('Summary List'!N533<>\"\",'Summary List'!N533,\"\")","v":""},{"$f":"IF('Summary List'!O533<>\"\",'Summary List'!O533,\"\")","v":""},{"$f":"IF('Summary List'!P533<>\"\",'Summary List'!P533,\"\")","v":""},{"$f":"IF('Summary List'!Q533<>\"\",'Summary List'!Q533,\"\")","v":""},{"$f":"IF('Summary List'!R533<>\"\",'Summary List'!R533,\"\")","v":""},{"$f":"IF('Summary List'!S533<>\"\",'Summary List'!S533,\"\")","v":""},null,{"$f":"IF('Summary List'!M592<>\"\",'Summary List'!M592,\"\")","v":""},{"$f":"IF('Summary List'!N592<>\"\",'Summary List'!N592,\"\")","v":""},{"$f":"IF('Summary List'!O592<>\"\",'Summary List'!O592,\"\")","v":""},{"$f":"IF('Summary List'!P592<>\"\",'Summary List'!P592,\"\")","v":""},{"$f":"IF('Summary List'!Q592<>\"\",'Summary List'!Q592,\"\")","v":""},{"$f":"IF('Summary List'!R592<>\"\",'Summary List'!R592,\"\")","v":""},{"$f":"IF('Summary List'!S592<>\"\",'Summary List'!S592,\"\")","v":""},null,{"$f":"IF('Summary List'!M651<>\"\",'Summary List'!M651,\"\")","v":""},{"$f":"IF('Summary List'!N651<>\"\",'Summary List'!N651,\"\")","v":""},{"$f":"IF('Summary List'!O651<>\"\",'Summary List'!O651,\"\")","v":""},{"$f":"IF('Summary List'!P651<>\"\",'Summary List'!P651,\"\")","v":""},{"$f":"IF('Summary List'!Q651<>\"\",'Summary List'!Q651,\"\")","v":""},{"$f":"IF('Summary List'!R651<>\"\",'Summary List'!R651,\"\")","v":""},{"$f":"IF('Summary List'!S651<>\"\",'Summary List'!S651,\"\")","v":""}]
[null,null,{"$f":"IF('Summary List'!M534<>\"\",'Summary List'!M534,\"\")","v":""},{"$f":"IF('Summary List'!N534<>\"\",'Summary List'!N534,\"\")","v":""},{"$f":"IF('Summary List'!O534<>\"\",'Summary List'!O534,\"\")","v":""},{"$f":"IF('Summary List'!P534<>\"\",'Summary List'!P534,\"\")","v":""},{"$f":"IF('Summary List'!Q534<>\"\",'Summary List'!Q534,\"\")","v":""},{"$f":"IF('Summary List'!R534<>\"\",'Summary List'!R534,\"\")","v":""},{"$f":"IF('Summary List'!S534<>\"\",'Summary List'!S534,\"\")","v":""},null,{"$f":"IF('Summary List'!M593<>\"\",'Summary List'!M593,\"\")","v":""},{"$f":"IF('Summary List'!N593<>\"\",'Summary List'!N593,\"\")","v":""},{"$f":"IF('Summary List'!O593<>\"\",'Summary List'!O593,\"\")","v":""},{"$f":"IF('Summary List'!P593<>\"\",'Summary List'!P593,\"\")","v":""},{"$f":"IF('Summary List'!Q593<>\"\",'Summary List'!Q593,\"\")","v":""},{"$f":"IF('Summary List'!R593<>\"\",'Summary List'!R593,\"\")","v":""},{"$f":"IF('Summary List'!S593<>\"\",'Summary List'!S593,\"\")","v":""},null,{"$f":"IF('Summary List'!M652<>\"\",'Summary List'!M652,\"\")","v":""},{"$f":"IF('Summary List'!N652<>\"\",'Summary List'!N652,\"\")","v":""},{"$f":"IF('Summary List'!O652<>\"\",'Summary List'!O652,\"\")","v":""},{"$f":"IF('Summary List'!P652<>\"\",'Summary List'!P652,\"\")","v":""},{"$f":"IF('Summary List'!Q652<>\"\",'Summary List'!Q652,\"\")","v":""},{"$f":"IF('Summary List'!R652<>\"\",'Summary List'!R652,\"\")","v":""},{"$f":"IF('Summary List'!S652<>\"\",'Summary List'!S652,\"\")","v":""}]
[null,null,{"$f":"IF('Summary List'!M535<>\"\",'Summary List'!M535,\"\")","v":""},{"$f":"IF('Summary List'!N535<>\"\",'Summary List'!N535,\"\")","v":""},{"$f":"IF('Summary List'!O535<>\"\",'Summary List'!O535,\"\")","v":""},{"$f":"IF('Summary List'!P535<>\"\",'Summary List'!P535,\"\")","v":""},{"$f":"IF('Summary List'!Q535<>\"\",'Summary List'!Q535,\"\")","v":""},{"$f":"IF('Summary List'!R535<>\"\",'Summary List'!R535,\"\")","v":""},{"$f":"IF('Summary List'!S535<>\"\",'Summary List'!S535,\"\")","v":""},null,{"$f":"IF('Summary List'!M594<>\"\",'Summary List'!M594,\"\")","v":""},{"$f":"IF('Summary List'!N594<>\"\",'Summary List'!N594,\"\")","v":""},{"$f":"IF('Summary List'!O594<>\"\",'Summary List'!O594,\"\")","v":""},{"$f":"IF('Summary List'!P594<>\"\",'Summary List'!P594,\"\")","v":""},{"$f":"IF('Summary List'!Q594<>\"\",'Summary List'!Q594,\"\")","v":""},{"$f":"IF('Summary List'!R594<>\"\",'Summary List'!R594,\"\")","v":""},{"$f":"IF('Summary List'!S594<>\"\",'Summary List'!S594,\"\")","v":""},null,{"$f":"IF('Summary List'!M653<>\"\",'Summary List'!M653,\"\")","v":""},{"$f":"IF('Summary List'!N653<>\"\",'Summary List'!N653,\"\")","v":""},{"$f":"IF('Summary List'!O653<>\"\",'Summary List'!O653,\"\")","v":""},{"$f":"IF('Summary List'!P653<>\"\",'Summary List'!P653,\"\")","v":""},{"$f":"IF('Summary List'!Q653<>\"\",'Summary List'!Q653,\"\")","v":""},{"$f":"IF('Summary List'!R653<>\"\",'Summary List'!R653,\"\")","v":""},{"$f":"IF('Summary List'!S653<>\"\",'Summary List'!S653,\"\")","v":""}]
[null,null,{"$f":"IF('Summary List'!M536<>\"\",'Summary List'!M536,\"\")","v":""},{"$f":"IF('Summary List'!N536<>\"\",'Summary List'!N536,\"\")","v":""},{"$f":"IF('Summary List'!O536<>\"\",'Summary List'!O536,\"\")","v":""},{"$f":"IF('Summary List'!P536<>\"\",'Summary List'!P536,\"\")","v":""},{"$f":"IF('Summary List'!Q536<>\"\",'Summary List'!Q536,\"\")","v":""},{"$f":"IF('Summary List'!R536<>\"\",'Summary List'!R536,\"\")","v":""},{"$f":"IF('Summary List'!S536<>\"\",'Summary List'!S536,\"\")","v":""},null,{"$f":"IF('Summary List'!M595<>\"\",'Summary List'!M595,\"\")","v":""},{"$f":"IF('Summary List'!N595<>\"\",'Summary List'!N595,\"\")","v":""},{"$f":"IF('Summary List'!O595<>\"\",'Summary List'!O595,\"\")","v":""},{"$f":"IF('Summary List'!P595<>\"\",'Summary List'!P595,\"\")","v":""},{"$f":"IF('Summary List'!Q595<>\"\",'Summary List'!Q595,\"\")","v":""},{"$f":"IF('Summary List'!R595<>\"\",'Summary List'!R595,\"\")","v":""},{"$f":"IF('Summary List'!S595<>\"\",'Summary List'!S595,\"\")","v":""},null,{"$f":"IF('Summary List'!M654<>\"\",'Summary List'!M654,\"\")","v":""},{"$f":"IF('Summary List'!N654<>\"\",'Summary List'!N654,\"\")","v":""},{"$f":"IF('Summary List'!O654<>\"\",'Summary List'!O654,\"\")","v":""},{"$f":"IF('Summary List'!P654<>\"\",'Summary List'!P654,\"\")","v":""},{"$f":"IF('Summary List'!Q654<>\"\",'Summary List'!Q654,\"\")","v":""},{"$f":"IF('Summary List'!R654<>\"\",'Summary List'!R654,\"\")","v":""},{"$f":"IF('Summary List'!S654<>\"\",'Summary List'!S654,\"\")","v":""}]
[null,null,{"$f":"IF('Summary List'!M537<>\"\",'Summary List'!M537,\"\")","v":""},{"$f":"IF('Summary List'!N537<>\"\",'Summary List'!N537,\"\")","v":""},{"$f":"IF('Summary List'!O537<>\"\",'Summary List'!O537,\"\")","v":""},{"$f":"IF('Summary List'!P537<>\"\",'Summary List'!P537,\"\")","v":""},{"$f":"IF('Summary List'!Q537<>\"\",'Summary List'!Q537,\"\")","v":""},{"$f":"IF('Summary List'!R537<>\"\",'Summary List'!R537,\"\")","v":""},{"$f":"IF('Summary List'!S537<>\"\",'Summary List'!S537,\"\")","v":""},null,{"$f":"IF('Summary List'!M596<>\"\",'Summary List'!M596,\"\")","v":""},{"$f":"IF('Summary List'!N596<>\"\",'Summary List'!N596,\"\")","v":""},{"$f":"IF('Summary List'!O596<>\"\",'Summary List'!O596,\"\")","v":""},{"$f":"IF('Summary List'!P596<>\"\",'Summary List'!P596,\"\")","v":""},{"$f":"IF('Summary List'!Q596<>\"\",'Summary List'!Q596,\"\")","v":""},{"$f":"IF('Summary List'!R596<>\"\",'Summary List'!R596,\"\")","v":""},{"$f":"IF('Summary List'!S596<>\"\",'Summary List'!S596,\"\")","v":""},null,{"$f":"IF('Summary List'!M655<>\"\",'Summary List'!M655,\"\")","v":""},{"$f":"IF('Summary List'!N655<>\"\",'Summary List'!N655,\"\")","v":""},{"$f":"IF('Summary List'!O655<>\"\",'Summary List'!O655,\"\")","v":""},{"$f":"IF('Summary List'!P655<>\"\",'Summary List'!P655,\"\")","v":""},{"$f":"IF('Summary List'!Q655<>\"\",'Summary List'!Q655,\"\")","v":""},{"$f":"IF('Summary List'!R655<>\"\",'Summary List'!R655,\"\")","v":""},{"$f":"IF('Summary List'!S655<>\"\",'Summary List'!S655,\"\")","v":""}]
[null,null,{"$f":"IF('Summary List'!M538<>\"\",'Summary List'!M538,\"\")","v":""},{"$f":"IF('Summary List'!N538<>\"\",'Summary List'!N538,\"\")","v":""},{"$f":"IF('Summary List'!O538<>\"\",'Summary List'!O538,\"\")","v":""},{"$f":"IF('Summary List'!P538<>\"\",'Summary List'!P538,\"\")","v":""},{"$f":"IF('Summary List'!Q538<>\"\",'Summary List'!Q538,\"\")","v":""},{"$f":"IF('Summary List'!R538<>\"\",'Summary List'!R538,\"\")","v":""},{"$f":"IF('Summary List'!S538<>\"\",'Summary List'!S538,\"\")","v":""},null,{"$f":"IF('Summary List'!M597<>\"\",'Summary List'!M597,\"\")","v":""},{"$f":"IF('Summary List'!N597<>\"\",'Summary List'!N597,\"\")","v":""},{"$f":"IF('Summary List'!O597<>\"\",'Summary List'!O597,\"\")","v":""},{"$f":"IF('Summary List'!P597<>\"\",'Summary List'!P597,\"\")","v":""},{"$f":"IF('Summary List'!Q597<>\"\",'Summary List'!Q597,\"\")","v":""},{"$f":"IF('Summary List'!R597<>\"\",'Summary List'!R597,\"\")","v":""},{"$f":"IF('Summary List'!S597<>\"\",'Summary List'!S597,\"\")","v":""},null,{"$f":"IF('Summary List'!M656<>\"\",'Summary List'!M656,\"\")","v":""},{"$f":"IF('Summary List'!N656<>\"\",'Summary List'!N656,\"\")","v":""},{"$f":"IF('Summary List'!O656<>\"\",'Summary List'!O656,\"\")","v":""},{"$f":"IF('Summary List'!P656<>\"\",'Summary List'!P656,\"\")","v":""},{"$f":"IF('Summary List'!Q656<>\"\",'Summary List'!Q656,\"\")","v":""},{"$f":"IF('Summary List'!R656<>\"\",'Summary List'!R656,\"\")","v":""},{"$f":"IF('Summary List'!S656<>\"\",'Summary List'!S656,\"\")","v":""}]
[null,null,{"$f":"IF('Summary List'!M539<>\"\",'Summary List'!M539,\"\")","v":""},{"$f":"IF('Summary List'!N539<>\"\",'Summary List'!N539,\"\")","v":""},{"$f":"IF('Summary List'!O539<>\"\",'Summary List'!O539,\"\")","v":""},{"$f":"IF('Summary List'!P539<>\"\",'Summary List'!P539,\"\")","v":""},{"$f":"IF('Summary List'!Q539<>\"\",'Summary List'!Q539,\"\")","v":""},{"$f":"IF('Summary List'!R539<>\"\",'Summary List'!R539,\"\")","v":""},{"$f":"IF('Summary List'!S539<>\"\",'Summary List'!S539,\"\")","v":""},null,{"$f":"IF('Summary List'!M598<>\"\",'Summary List'!M598,\"\")","v":""},{"$f":"IF('Summary List'!N598<>\"\",'Summary List'!N598,\"\")","v":""},{"$f":"IF('Summary List'!O598<>\"\",'Summary List'!O598,\"\")","v":""},{"$f":"IF('Summary List'!P598<>\"\",'Summary List'!P598,\"\")","v":""},{"$f":"IF('Summary List'!Q598<>\"\",'Summary List'!Q598,\"\")","v":""},{"$f":"IF('Summary List'!R598<>\"\",'Summary List'!R598,\"\")","v":""},{"$f":"IF('Summary List'!S598<>\"\",'Summary List'!S598,\"\")","v":""},null,{"$f":"IF('Summary List'!M657<>\"\",'Summary List'!M657,\"\")","v":""},{"$f":"IF('Summary List'!N657<>\"\",'Summary List'!N657,\"\")","v":""},{"$f":"IF('Summary List'!O657<>\"\",'Summary List'!O657,\"\")","v":""},{"$f":"IF('Summary List'!P657<>\"\",'Summary List'!P657,\"\")","v":""},{"$f":"IF('Summary List'!Q657<>\"\",'Summary List'!Q657,\"\")","v":""},{"$f":"IF('Summary List'!R657<>\"\",'Summary List'!R657,\"\")","v":""},{"$f":"IF('Summary List'!S657<>\"\",'Summary List'!S657,\"\")","v":""}]
[null,null,{"$f":"IF('Summary List'!M540<>\"\",'Summary List'!M540,\"\")","v":""},{"$f":"IF('Summary List'!N540<>\"\",'Summary List'!N540,\"\")","v":""},{"$f":"IF('Summary List'!O540<>\"\",'Summary List'!O540,\"\")","v":""},{"$f":"IF('Summary List'!P540<>\"\",'Summary List'!P540,\"\")","v":""},{"$f":"IF('Summary List'!Q540<>\"\",'Summary List'!Q540,\"\")","v":""},{"$f":"IF('Summary List'!R540<>\"\",'Summary List'!R540,\"\")","v":""},{"$f":"IF('Summary List'!S540<>\"\",'Summary List'!S540,\"\")","v":""},null,{"$f":"IF('Summary List'!M599<>\"\",'Summary List'!M599,\"\")","v":""},{"$f":"IF('Summary List'!N599<>\"\",'Summary List'!N599,\"\")","v":""},{"$f":"IF('Summary List'!O599<>\"\",'Summary List'!O599,\"\")","v":""},{"$f":"IF('Summary List'!P599<>\"\",'Summary List'!P599,\"\")","v":""},{"$f":"IF('Summary List'!Q599<>\"\",'Summary List'!Q599,\"\")","v":""},{"$f":"IF('Summary List'!R599<>\"\",'Summary List'!R599,\"\")","v":""},{"$f":"IF('Summary List'!S599<>\"\",'Summary List'!S599,\"\")","v":""},null,{"$f":"IF('Summary List'!M658<>\"\",'Summary List'!M658,\"\")","v":""},{"$f":"IF('Summary List'!N658<>\"\",'Summary List'!N658,\"\")","v":""},{"$f":"IF('Summary List'!O658<>\"\",'Summary List'!O658,\"\")","v":""},{"$f":"IF('Summary List'!P658<>\"\",'Summary List'!P658,\"\")","v":""},{"$f":"IF('Summary List'!Q658<>\"\",'Summary List'!Q658,\"\")","v":""},{"$f":"IF('Summary List'!R658<>\"\",'Summary List'!R658,\"\")","v":""},{"$f":"IF('Summary List'!S658<>\"\",'Summary List'!S658,\"\")","v":""}]
[null,null,{"$f":"IF('Summary List'!M541<>\"\",'Summary List'!M541,\"\")","v":""},{"$f":"IF('Summary List'!N541<>\"\",'Summary List'!N541,\"\")","v":""},{"$f":"IF('Summary List'!O541<>\"\",'Summary List'!O541,\"\")","v":""},{"$f":"IF('Summary List'!P541<>\"\",'Summary List'!P541,\"\")","v":""},{"$f":"IF('Summary List'!Q541<>\"\",'Summary List'!Q541,\"\")","v":""},{"$f":"IF('Summary List'!R541<>\"\",'Summary List'!R541,\"\")","v":""},{"$f":"IF('Summary List'!S541<>\"\",'Summary List'!S541,\"\")","v":""},null,{"$f":"IF('Summary List'!M600<>\"\",'Summary List'!M600,\"\")","v":""},{"$f":"IF('Summary List'!N600<>\"\",'Summary List'!N600,\"\")","v":""},{"$f":"IF('Summary List'!O600<>\"\",'Summary List'!O600,\"\")","v":""},{"$f":"IF('Summary List'!P600<>\"\",'Summary List'!P600,\"\")","v":""},{"$f":"IF('Summary List'!Q600<>\"\",'Summary List'!Q600,\"\")","v":""},{"$f":"IF('Summary List'!R600<>\"\",'Summary List'!R600,\"\")","v":""},{"$f":"IF('Summary List'!S600<>\"\",'Summary List'!S600,\"\")","v":""},null,{"$f":"IF('Summary List'!M659<>\"\",'Summary List'!M659,\"\")","v":""},{"$f":"IF('Summary List'!N659<>\"\",'Summary List'!N659,\"\")","v":""},{"$f":"IF('Summary List'!O659<>\"\",'Summary List'!O659,\"\")","v":""},{"$f":"IF('Summary List'!P659<>\"\",'Summary List'!P659,\"\")","v":""},{"$f":"IF('Summary List'!Q659<>\"\",'Summary List'!Q659,\"\")","v":""},{"$f":"IF('Summary List'!R659<>\"\",'Summary List'!R659,\"\")","v":""},{"$f":"IF('Summary List'!S659<>\"\",'Summary List'!S659,\"\")","v":""}]
[null,null,{"$f":"IF('Summary List'!M542<>\"\",'Summary List'!M542,\"\")","v":""},{"$f":"IF('Summary List'!N542<>\"\",'Summary List'!N542,\"\")","v":""},{"$f":"IF('Summary List'!O542<>\"\",'Summary List'!O542,\"\")","v":""},{"$f":"IF('Summary List'!P542<>\"\",'Summary List'!P542,\"\")","v":""},{"$f":"IF('Summary List'!Q542<>\"\",'Summary List'!Q542,\"\")","v":""},{"$f":"IF('Summary List'!R542<>\"\",'Summary List'!R542,\"\")","v":""},{"$f":"IF('Summary List'!S542<>\"\",'Summary List'!S542,\"\")","v":""},null,{"$f":"IF('Summary List'!M601<>\"\",'Summary List'!M601,\"\")","v":""},{"$f":"IF('Summary List'!N601<>\"\",'Summary List'!N601,\"\")","v":""},{"$f":"IF('Summary List'!O601<>\"\",'Summary List'!O601,\"\")","v":""},{"$f":"IF('Summary List'!P601<>\"\",'Summary List'!P601,\"\")","v":""},{"$f":"IF('Summary List'!Q601<>\"\",'Summary List'!Q601,\"\")","v":""},{"$f":"IF('Summary List'!R601<>\"\",'Summary List'!R601,\"\")","v":""},{"$f":"IF('Summary List'!S601<>\"\",'Summary List'!S601,\"\")","v":""},null,{"$f":"IF('Summary List'!M660<>\"\",'Summary List'!M660,\"\")","v":""},{"$f":"IF('Summary List'!N660<>\"\",'Summary List'!N660,\"\")","v":""},{"$f":"IF('Summary List'!O660<>\"\",'Summary List'!O660,\"\")","v":""},{"$f":"IF('Summary List'!P660<>\"\",'Summary List'!P660,\"\")","v":""},{"$f":"IF('Summary List'!Q660<>\"\",'Summary List'!Q660,\"\")","v":""},{"$f":"IF('Summary List'!R660<>\"\",'Summary List'!R660,\"\")","v":""},{"$f":"IF('Summary List'!S660<>\"\",'Summary List'!S660,\"\")","v":""}]
[null,null,{"$f":"IF('Summary List'!M543<>\"\",'Summary List'!M543,\"\")","v":""},{"$f":"IF('Summary List'!N543<>\"\",'Summary List'!N543,\"\")","v":""},{"$f":"IF('Summary List'!O543<>\"\",'Summary List'!O543,\"\")","v":""},{"$f":"IF('Summary List'!P543<>\"\",'Summary List'!P543,\"\")","v":""},{"$f":"IF('Summary List'!Q543<>\"\",'Summary List'!Q543,\"\")","v":""},{"$f":"IF('Summary List'!R543<>\"\",'Summary List'!R543,\"\")","v":""},{"$f":"IF('Summary List'!S543<>\"\",'Summary List'!S543,\"\")","v":""},null,{"$f":"IF('Summary List'!M602<>\"\",'Summary List'!M602,\"\")","v":""},{"$f":"IF('Summary List'!N602<>\"\",'Summary List'!N602,\"\")","v":""},{"$f":"IF('Summary List'!O602<>\"\",'Summary List'!O602,\"\")","v":""},{"$f":"IF('Summary List'!P602<>\"\",'Summary List'!P602,\"\")","v":""},{"$f":"IF('Summary List'!Q602<>\"\",'Summary List'!Q602,\"\")","v":""},{"$f":"IF('Summary List'!R602<>\"\",'Summary List'!R602,\"\")","v":""},{"$f":"IF('Summary List'!S602<>\"\",'Summary List'!S602,\"\")","v":""},null,{"$f":"IF('Summary List'!M661<>\"\",'Summary List'!M661,\"\")","v":""},{"$f":"IF('Summary List'!N661<>\"\",'Summary List'!N661,\"\")","v":""},{"$f":"IF('Summary List'!O661<>\"\",'Summary List'!O661,\"\")","v":""},{"$f":"IF('Summary List'!P661<>\"\",'Summary List'!P661,\"\")","v":""},{"$f":"IF('Summary List'!Q661<>\"\",'Summary List'!Q661,\"\")","v":""},{"$f":"IF('Summary List'!R661<>\"\",'Summary List'!R661,\"\")","v":""},{"$f":"IF('Summary List'!S661<>\"\",'Summary List'!S661,\"\")","v":""}]
[null,null,{"$f":"IF('Summary List'!M544<>\"\",'Summary List'!M544,\"\")","v":""},{"$f":"IF('Summary List'!N544<>\"\",'Summary List'!N544,\"\")","v":""},{"$f":"IF('Summary List'!O544<>\"\",'Summary List'!O544,\"\")","v":""},{"$f":"IF('Summary List'!P544<>\"\",'Summary List'!P544,\"\")","v":""},{"$f":"IF('Summary List'!Q544<>\"\",'Summary List'!Q544,\"\")","v":""},{"$f":"IF('Summary List'!R544<>\"\",'Summary List'!R544,\"\")","v":""},{"$f":"IF('Summary List'!S544<>\"\",'Summary List'!S544,\"\")","v":""},null,{"$f":"IF('Summary List'!M603<>\"\",'Summary List'!M603,\"\")","v":""},{"$f":"IF('Summary List'!N603<>\"\",'Summary List'!N603,\"\")","v":""},{"$f":"IF('Summary List'!O603<>\"\",'Summary List'!O603,\"\")","v":""},{"$f":"IF('Summary List'!P603<>\"\",'Summary List'!P603,\"\")","v":""},{"$f":"IF('Summary List'!Q603<>\"\",'Summary List'!Q603,\"\")","v":""},{"$f":"IF('Summary List'!R603<>\"\",'Summary List'!R603,\"\")","v":""},{"$f":"IF('Summary List'!S603<>\"\",'Summary List'!S603,\"\")","v":""},null,{"$f":"IF('Summary List'!M662<>\"\",'Summary List'!M662,\"\")","v":""},{"$f":"IF('Summary List'!N662<>\"\",'Summary List'!N662,\"\")","v":""},{"$f":"IF('Summary List'!O662<>\"\",'Summary List'!O662,\"\")","v":""},{"$f":"IF('Summary List'!P662<>\"\",'Summary List'!P662,\"\")","v":""},{"$f":"IF('Summary List'!Q662<>\"\",'Summary List'!Q662,\"\")","v":""},{"$f":"IF('Summary List'!R662<>\"\",'Summary List'!R662,\"\")","v":""},{"$f":"IF('Summary List'!S662<>\"\",'Summary List'!S662,\"\")","v":""}]
[null,null,{"$f":"IF('Summary List'!M545<>\"\",'Summary List'!M545,\"\")","v":""},{"$f":"IF('Summary List'!N545<>\"\",'Summary List'!N545,\"\")","v":""},{"$f":"IF('Summary List'!O545<>\"\",'Summary List'!O545,\"\")","v":""},{"$f":"IF('Summary List'!P545<>\"\",'Summary List'!P545,\"\")","v":""},{"$f":"IF('Summary List'!Q545<>\"\",'Summary List'!Q545,\"\")","v":""},{"$f":"IF('Summary List'!R545<>\"\",'Summary List'!R545,\"\")","v":""},{"$f":"IF('Summary List'!S545<>\"\",'Summary List'!S545,\"\")","v":""},null,{"$f":"IF('Summary List'!M604<>\"\",'Summary List'!M604,\"\")","v":""},{"$f":"IF('Summary List'!N604<>\"\",'Summary List'!N604,\"\")","v":""},{"$f":"IF('Summary List'!O604<>\"\",'Summary List'!O604,\"\")","v":""},{"$f":"IF('Summary List'!P604<>\"\",'Summary List'!P604,\"\")","v":""},{"$f":"IF('Summary List'!Q604<>\"\",'Summary List'!Q604,\"\")","v":""},{"$f":"IF('Summary List'!R604<>\"\",'Summary List'!R604,\"\")","v":""},{"$f":"IF('Summary List'!S604<>\"\",'Summary List'!S604,\"\")","v":""},null,{"$f":"IF('Summary List'!M663<>\"\",'Summary List'!M663,\"\")","v":""},{"$f":"IF('Summary List'!N663<>\"\",'Summary List'!N663,\"\")","v":""},{"$f":"IF('Summary List'!O663<>\"\",'Summary List'!O663,\"\")","v":""},{"$f":"IF('Summary List'!P663<>\"\",'Summary List'!P663,\"\")","v":""},{"$f":"IF('Summary List'!Q663<>\"\",'Summary List'!Q663,\"\")","v":""},{"$f":"IF('Summary List'!R663<>\"\",'Summary List'!R663,\"\")","v":""},{"$f":"IF('Summary List'!S663<>\"\",'Summary List'!S663,\"\")","v":""}]
[null,null,{"$f":"IF('Summary List'!M546<>\"\",'Summary List'!M546,\"\")","v":""},{"$f":"IF('Summary List'!N546<>\"\",'Summary List'!N546,\"\")","v":""},{"$f":"IF('Summary List'!O546<>\"\",'Summary List'!O546,\"\")","v":""},{"$f":"IF('Summary List'!P546<>\"\",'Summary List'!P546,\"\")","v":""},{"$f":"IF('Summary List'!Q546<>\"\",'Summary List'!Q546,\"\")","v":""},{"$f":"IF('Summary List'!R546<>\"\",'Summary List'!R546,\"\")","v":""},{"$f":"IF('Summary List'!S546<>\"\",'Summary List'!S546,\"\")","v":""},null,{"$f":"IF('Summary List'!M605<>\"\",'Summary List'!M605,\"\")","v":""},{"$f":"IF('Summary List'!N605<>\"\",'Summary List'!N605,\"\")","v":""},{"$f":"IF('Summary List'!O605<>\"\",'Summary List'!O605,\"\")","v":""},{"$f":"IF('Summary List'!P605<>\"\",'Summary List'!P605,\"\")","v":""},{"$f":"IF('Summary List'!Q605<>\"\",'Summary List'!Q605,\"\")","v":""},{"$f":"IF('Summary List'!R605<>\"\",'Summary List'!R605,\"\")","v":""},{"$f":"IF('Summary List'!S605<>\"\",'Summary List'!S605,\"\")","v":""},null,{"$f":"IF('Summary List'!M664<>\"\",'Summary List'!M664,\"\")","v":""},{"$f":"IF('Summary List'!N664<>\"\",'Summary List'!N664,\"\")","v":""},{"$f":"IF('Summary List'!O664<>\"\",'Summary List'!O664,\"\")","v":""},{"$f":"IF('Summary List'!P664<>\"\",'Summary List'!P664,\"\")","v":""},{"$f":"IF('Summary List'!Q664<>\"\",'Summary List'!Q664,\"\")","v":""},{"$f":"IF('Summary List'!R664<>\"\",'Summary List'!R664,\"\")","v":""},{"$f":"IF('Summary List'!S664<>\"\",'Summary List'!S664,\"\")","v":""}]
[null,null,{"$f":"IF('Summary List'!M547<>\"\",'Summary List'!M547,\"\")","v":""},{"$f":"IF('Summary List'!N547<>\"\",'Summary List'!N547,\"\")","v":""},{"$f":"IF('Summary List'!O547<>\"\",'Summary List'!O547,\"\")","v":""},{"$f":"IF('Summary List'!P547<>\"\",'Summary List'!P547,\"\")","v":""},{"$f":"IF('Summary List'!Q547<>\"\",'Summary List'!Q547,\"\")","v":""},{"$f":"IF('Summary List'!R547<>\"\",'Summary List'!R547,\"\")","v":""},{"$f":"IF('Summary List'!S547<>\"\",'Summary List'!S547,\"\")","v":""},null,{"$f":"IF('Summary List'!M606<>\"\",'Summary List'!M606,\"\")","v":""},{"$f":"IF('Summary List'!N606<>\"\",'Summary List'!N606,\"\")","v":""},{"$f":"IF('Summary List'!O606<>\"\",'Summary List'!O606,\"\")","v":""},{"$f":"IF('Summary List'!P606<>\"\",'Summary List'!P606,\"\")","v":""},{"$f":"IF('Summary List'!Q606<>\"\",'Summary List'!Q606,\"\")","v":""},{"$f":"IF('Summary List'!R606<>\"\",'Summary List'!R606,\"\")","v":""},{"$f":"IF('Summary List'!S606<>\"\",'Summary List'!S606,\"\")","v":""},null,{"$f":"IF('Summary List'!M665<>\"\",'Summary List'!M665,\"\")","v":""},{"$f":"IF('Summary List'!N665<>\"\",'Summary List'!N665,\"\")","v":""},{"$f":"IF('Summary List'!O665<>\"\",'Summary List'!O665,\"\")","v":""},{"$f":"IF('Summary List'!P665<>\"\",'Summary List'!P665,\"\")","v":""},{"$f":"IF('Summary List'!Q665<>\"\",'Summary List'!Q665,\"\")","v":""},{"$f":"IF('Summary List'!R665<>\"\",'Summary List'!R665,\"\")","v":""},{"$f":"IF('Summary List'!S665<>\"\",'Summary List'!S665,\"\")","v":""}]
[null,null,{"$f":"IF('Summary List'!M548<>\"\",'Summary List'!M548,\"\")","v":""},{"$f":"IF('Summary List'!N548<>\"\",'Summary List'!N548,\"\")","v":""},{"$f":"IF('Summary List'!O548<>\"\",'Summary List'!O548,\"\")","v":""},{"$f":"IF('Summary List'!P548<>\"\",'Summary List'!P548,\"\")","v":""},{"$f":"IF('Summary List'!Q548<>\"\",'Summary List'!Q548,\"\")","v":""},{"$f":"IF('Summary List'!R548<>\"\",'Summary List'!R548,\"\")","v":""},{"$f":"IF('Summary List'!S548<>\"\",'Summary List'!S548,\"\")","v":""},null,{"$f":"IF('Summary List'!M607<>\"\",'Summary List'!M607,\"\")","v":""},{"$f":"IF('Summary List'!N607<>\"\",'Summary List'!N607,\"\")","v":""},{"$f":"IF('Summary List'!O607<>\"\",'Summary List'!O607,\"\")","v":""},{"$f":"IF('Summary List'!P607<>\"\",'Summary List'!P607,\"\")","v":""},{"$f":"IF('Summary List'!Q607<>\"\",'Summary List'!Q607,\"\")","v":""},{"$f":"IF('Summary List'!R607<>\"\",'Summary List'!R607,\"\")","v":""},{"$f":"IF('Summary List'!S607<>\"\",'Summary List'!S607,\"\")","v":""},null,{"$f":"IF('Summary List'!M666<>\"\",'Summary List'!M666,\"\")","v":""},{"$f":"IF('Summary List'!N666<>\"\",'Summary List'!N666,\"\")","v":""},{"$f":"IF('Summary List'!O666<>\"\",'Summary List'!O666,\"\")","v":""},{"$f":"IF('Summary List'!P666<>\"\",'Summary List'!P666,\"\")","v":""},{"$f":"IF('Summary List'!Q666<>\"\",'Summary List'!Q666,\"\")","v":""},{"$f":"IF('Summary List'!R666<>\"\",'Summary List'!R666,\"\")","v":""},{"$f":"IF('Summary List'!S666<>\"\",'Summary List'!S666,\"\")","v":""}]
[null,null,{"$f":"IF('Summary List'!M549<>\"\",'Summary List'!M549,\"\")","v":""},{"$f":"IF('Summary List'!N549<>\"\",'Summary List'!N549,\"\")","v":""},{"$f":"IF('Summary List'!O549<>\"\",'Summary List'!O549,\"\")","v":""},{"$f":"IF('Summary List'!P549<>\"\",'Summary List'!P549,\"\")","v":""},{"$f":"IF('Summary List'!Q549<>\"\",'Summary List'!Q549,\"\")","v":""},{"$f":"IF('Summary List'!R549<>\"\",'Summary List'!R549,\"\")","v":""},{"$f":"IF('Summary List'!S549<>\"\",'Summary List'!S549,\"\")","v":""},null,{"$f":"IF('Summary List'!M608<>\"\",'Summary List'!M608,\"\")","v":""},{"$f":"IF('Summary List'!N608<>\"\",'Summary List'!N608,\"\")","v":""},{"$f":"IF('Summary List'!O608<>\"\",'Summary List'!O608,\"\")","v":""},{"$f":"IF('Summary List'!P608<>\"\",'Summary List'!P608,\"\")","v":""},{"$f":"IF('Summary List'!Q608<>\"\",'Summary List'!Q608,\"\")","v":""},{"$f":"IF('Summary List'!R608<>\"\",'Summary List'!R608,\"\")","v":""},{"$f":"IF('Summary List'!S608<>\"\",'Summary List'!S608,\"\")","v":""},null,{"$f":"IF('Summary List'!M667<>\"\",'Summary List'!M667,\"\")","v":""},{"$f":"IF('Summary List'!N667<>\"\",'Summary List'!N667,\"\")","v":""},{"$f":"IF('Summary List'!O667<>\"\",'Summary List'!O667,\"\")","v":""},{"$f":"IF('Summary List'!P667<>\"\",'Summary List'!P667,\"\")","v":""},{"$f":"IF('Summary List'!Q667<>\"\",'Summary List'!Q667,\"\")","v":""},{"$f":"IF('Summary List'!R667<>\"\",'Summary List'!R667,\"\")","v":""},{"$f":"IF('Summary List'!S667<>\"\",'Summary List'!S667,\"\")","v":""}]
[null,null,{"$f":"IF('Summary List'!M550<>\"\",'Summary List'!M550,\"\")","v":""},{"$f":"IF('Summary List'!N550<>\"\",'Summary List'!N550,\"\")","v":""},{"$f":"IF('Summary List'!O550<>\"\",'Summary List'!O550,\"\")","v":""},{"$f":"IF('Summary List'!P550<>\"\",'Summary List'!P550,\"\")","v":""},{"$f":"IF('Summary List'!Q550<>\"\",'Summary List'!Q550,\"\")","v":""},{"$f":"IF('Summary List'!R550<>\"\",'Summary List'!R550,\"\")","v":""},{"$f":"IF('Summary List'!S550<>\"\",'Summary List'!S550,\"\")","v":""},null,{"$f":"IF('Summary List'!M609<>\"\",'Summary List'!M609,\"\")","v":""},{"$f":"IF('Summary List'!N609<>\"\",'Summary List'!N609,\"\")","v":""},{"$f":"IF('Summary List'!O609<>\"\",'Summary List'!O609,\"\")","v":""},{"$f":"IF('Summary List'!P609<>\"\",'Summary List'!P609,\"\")","v":""},{"$f":"IF('Summary List'!Q609<>\"\",'Summary List'!Q609,\"\")","v":""},{"$f":"IF('Summary List'!R609<>\"\",'Summary List'!R609,\"\")","v":""},{"$f":"IF('Summary List'!S609<>\"\",'Summary List'!S609,\"\")","v":""},null,{"$f":"IF('Summary List'!M668<>\"\",'Summary List'!M668,\"\")","v":""},{"$f":"IF('Summary List'!N668<>\"\",'Summary List'!N668,\"\")","v":""},{"$f":"IF('Summary List'!O668<>\"\",'Summary List'!O668,\"\")","v":""},{"$f":"IF('Summary List'!P668<>\"\",'Summary List'!P668,\"\")","v":""},{"$f":"IF('Summary List'!Q668<>\"\",'Summary List'!Q668,\"\")","v":""},{"$f":"IF('Summary List'!R668<>\"\",'Summary List'!R668,\"\")","v":""},{"$f":"IF('Summary List'!S668<>\"\",'Summary List'!S668,\"\")","v":""}]
[null,null,{"$f":"IF('Summary List'!M551<>\"\",'Summary List'!M551,\"\")","v":""},{"$f":"IF('Summary List'!N551<>\"\",'Summary List'!N551,\"\")","v":""},{"$f":"IF('Summary List'!O551<>\"\",'Summary List'!O551,\"\")","v":""},{"$f":"IF('Summary List'!P551<>\"\",'Summary List'!P551,\"\")","v":""},{"$f":"IF('Summary List'!Q551<>\"\",'Summary List'!Q551,\"\")","v":""},{"$f":"IF('Summary List'!R551<>\"\",'Summary List'!R551,\"\")","v":""},{"$f":"IF('Summary List'!S551<>\"\",'Summary List'!S551,\"\")","v":""},null,{"$f":"IF('Summary List'!M610<>\"\",'Summary List'!M610,\"\")","v":""},{"$f":"IF('Summary List'!N610<>\"\",'Summary List'!N610,\"\")","v":""},{"$f":"IF('Summary List'!O610<>\"\",'Summary List'!O610,\"\")","v":""},{"$f":"IF('Summary List'!P610<>\"\",'Summary List'!P610,\"\")","v":""},{"$f":"IF('Summary List'!Q610<>\"\",'Summary List'!Q610,\"\")","v":""},{"$f":"IF('Summary List'!R610<>\"\",'Summary List'!R610,\"\")","v":""},{"$f":"IF('Summary List'!S610<>\"\",'Summary List'!S610,\"\")","v":""},null,{"$f":"IF('Summary List'!M669<>\"\",'Summary List'!M669,\"\")","v":""},{"$f":"IF('Summary List'!N669<>\"\",'Summary List'!N669,\"\")","v":""},{"$f":"IF('Summary List'!O669<>\"\",'Summary List'!O669,\"\")","v":""},{"$f":"IF('Summary List'!P669<>\"\",'Summary List'!P669,\"\")","v":""},{"$f":"IF('Summary List'!Q669<>\"\",'Summary List'!Q669,\"\")","v":""},{"$f":"IF('Summary List'!R669<>\"\",'Summary List'!R669,\"\")","v":""},{"$f":"IF('Summary List'!S669<>\"\",'Summary List'!S669,\"\")","v":""}]
[null,null,{"$f":"IF('Summary List'!M552<>\"\",'Summary List'!M552,\"\")","v":""},{"$f":"IF('Summary List'!N552<>\"\",'Summary List'!N552,\"\")","v":""},{"$f":"IF('Summary List'!O552<>\"\",'Summary List'!O552,\"\")","v":""},{"$f":"IF('Summary List'!P552<>\"\",'Summary List'!P552,\"\")","v":""},{"$f":"IF('Summary List'!Q552<>\"\",'Summary List'!Q552,\"\")","v":""},{"$f":"IF('Summary List'!R552<>\"\",'Summary List'!R552,\"\")","v":""},{"$f":"IF('Summary List'!S552<>\"\",'Summary List'!S552,\"\")","v":""},null,{"$f":"IF('Summary List'!M611<>\"\",'Summary List'!M611,\"\")","v":""},{"$f":"IF('Summary List'!N611<>\"\",'Summary List'!N611,\"\")","v":""},{"$f":"IF('Summary List'!O611<>\"\",'Summary List'!O611,\"\")","v":""},{"$f":"IF('Summary List'!P611<>\"\",'Summary List'!P611,\"\")","v":""},{"$f":"IF('Summary List'!Q611<>\"\",'Summary List'!Q611,\"\")","v":""},{"$f":"IF('Summary List'!R611<>\"\",'Summary List'!R611,\"\")","v":""},{"$f":"IF('Summary List'!S611<>\"\",'Summary List'!S611,\"\")","v":""},null,{"$f":"IF('Summary List'!M670<>\"\",'Summary List'!M670,\"\")","v":""},{"$f":"IF('Summary List'!N670<>\"\",'Summary List'!N670,\"\")","v":""},{"$f":"IF('Summary List'!O670<>\"\",'Summary List'!O670,\"\")","v":""},{"$f":"IF('Summary List'!P670<>\"\",'Summary List'!P670,\"\")","v":""},{"$f":"IF('Summary List'!Q670<>\"\",'Summary List'!Q670,\"\")","v":""},{"$f":"IF('Summary List'!R670<>\"\",'Summary List'!R670,\"\")","v":""},{"$f":"IF('Summary List'!S670<>\"\",'Summary List'!S670,\"\")","v":""}]
[null,null,{"$f":"IF('Summary List'!M553<>\"\",'Summary List'!M553,\"\")","v":""},{"$f":"IF('Summary List'!N553<>\"\",'Summary List'!N553,\"\")","v":""},{"$f":"IF('Summary List'!O553<>\"\",'Summary List'!O553,\"\")","v":""},{"$f":"IF('Summary List'!P553<>\"\",'Summary List'!P553,\"\")","v":""},{"$f":"IF('Summary List'!Q553<>\"\",'Summary List'!Q553,\"\")","v":""},{"$f":"IF('Summary List'!R553<>\"\",'Summary List'!R553,\"\")","v":""},{"$f":"IF('Summary List'!S553<>\"\",'Summary List'!S553,\"\")","v":""},null,{"$f":"IF('Summary List'!M612<>\"\",'Summary List'!M612,\"\")","v":""},{"$f":"IF('Summary List'!N612<>\"\",'Summary List'!N612,\"\")","v":""},{"$f":"IF('Summary List'!O612<>\"\",'Summary List'!O612,\"\")","v":""},{"$f":"IF('Summary List'!P612<>\"\",'Summary List'!P612,\"\")","v":""},{"$f":"IF('Summary List'!Q612<>\"\",'Summary List'!Q612,\"\")","v":""},{"$f":"IF('Summary List'!R612<>\"\",'Summary List'!R612,\"\")","v":""},{"$f":"IF('Summary List'!S612<>\"\",'Summary List'!S612,\"\")","v":""},null,{"$f":"IF('Summary List'!M671<>\"\",'Summary List'!M671,\"\")","v":""},{"$f":"IF('Summary List'!N671<>\"\",'Summary List'!N671,\"\")","v":""},{"$f":"IF('Summary List'!O671<>\"\",'Summary List'!O671,\"\")","v":""},{"$f":"IF('Summary List'!P671<>\"\",'Summary List'!P671,\"\")","v":""},{"$f":"IF('Summary List'!Q671<>\"\",'Summary List'!Q671,\"\")","v":""},{"$f":"IF('Summary List'!R671<>\"\",'Summary List'!R671,\"\")","v":""},{"$f":"IF('Summary List'!S671<>\"\",'Summary List'!S671,\"\")","v":""}]
[null,null,{"$f":"IF('Summary List'!M554<>\"\",'Summary List'!M554,\"\")","v":""},{"$f":"IF('Summary List'!N554<>\"\",'Summary List'!N554,\"\")","v":""},{"$f":"IF('Summary List'!O554<>\"\",'Summary List'!O554,\"\")","v":""},{"$f":"IF('Summary List'!P554<>\"\",'Summary List'!P554,\"\")","v":""},{"$f":"IF('Summary List'!Q554<>\"\",'Summary List'!Q554,\"\")","v":""},{"$f":"IF('Summary List'!R554<>\"\",'Summary List'!R554,\"\")","v":""},{"$f":"IF('Summary List'!S554<>\"\",'Summary List'!S554,\"\")","v":""},null,{"$f":"IF('Summary List'!M613<>\"\",'Summary List'!M613,\"\")","v":""},{"$f":"IF('Summary List'!N613<>\"\",'Summary List'!N613,\"\")","v":""},{"$f":"IF('Summary List'!O613<>\"\",'Summary List'!O613,\"\")","v":""},{"$f":"IF('Summary List'!P613<>\"\",'Summary List'!P613,\"\")","v":""},{"$f":"IF('Summary List'!Q613<>\"\",'Summary List'!Q613,\"\")","v":""},{"$f":"IF('Summary List'!R613<>\"\",'Summary List'!R613,\"\")","v":""},{"$f":"IF('Summary List'!S613<>\"\",'Summary List'!S613,\"\")","v":""},null,{"$f":"IF('Summary List'!M672<>\"\",'Summary List'!M672,\"\")","v":""},{"$f":"IF('Summary List'!N672<>\"\",'Summary List'!N672,\"\")","v":""},{"$f":"IF('Summary List'!O672<>\"\",'Summary List'!O672,\"\")","v":""},{"$f":"IF('Summary List'!P672<>\"\",'Summary List'!P672,\"\")","v":""},{"$f":"IF('Summary List'!Q672<>\"\",'Summary List'!Q672,\"\")","v":""},{"$f":"IF('Summary List'!R672<>\"\",'Summary List'!R672,\"\")","v":""},{"$f":"IF('Summary List'!S672<>\"\",'Summary List'!S672,\"\")","v":""}]
[null,null,{"$f":"IF('Summary List'!M555<>\"\",'Summary List'!M555,\"\")","v":""},{"$f":"IF('Summary List'!N555<>\"\",'Summary List'!N555,\"\")","v":""},{"$f":"IF('Summary List'!O555<>\"\",'Summary List'!O555,\"\")","v":""},{"$f":"IF('Summary List'!P555<>\"\",'Summary List'!P555,\"\")","v":""},{"$f":"IF('Summary List'!Q555<>\"\",'Summary List'!Q555,\"\")","v":""},{"$f":"IF('Summary List'!R555<>\"\",'Summary List'!R555,\"\")","v":""},{"$f":"IF('Summary List'!S555<>\"\",'Summary List'!S555,\"\")","v":""},null,{"$f":"IF('Summary List'!M614<>\"\",'Summary List'!M614,\"\")","v":""},{"$f":"IF('Summary List'!N614<>\"\",'Summary List'!N614,\"\")","v":""},{"$f":"IF('Summary List'!O614<>\"\",'Summary List'!O614,\"\")","v":""},{"$f":"IF('Summary List'!P614<>\"\",'Summary List'!P614,\"\")","v":""},{"$f":"IF('Summary List'!Q614<>\"\",'Summary List'!Q614,\"\")","v":""},{"$f":"IF('Summary List'!R614<>\"\",'Summary List'!R614,\"\")","v":""},{"$f":"IF('Summary List'!S614<>\"\",'Summary List'!S614,\"\")","v":""},null,{"$f":"IF('Summary List'!M673<>\"\",'Summary List'!M673,\"\")","v":""},{"$f":"IF('Summary List'!N673<>\"\",'Summary List'!N673,\"\")","v":""},{"$f":"IF('Summary List'!O673<>\"\",'Summary List'!O673,\"\")","v":""},{"$f":"IF('Summary List'!P673<>\"\",'Summary List'!P673,\"\")","v":""},{"$f":"IF('Summary List'!Q673<>\"\",'Summary List'!Q673,\"\")","v":""},{"$f":"IF('Summary List'!R673<>\"\",'Summary List'!R673,\"\")","v":""},{"$f":"IF('Summary List'!S673<>\"\",'Summary List'!S673,\"\")","v":""}]
[null,null,{"$f":"IF('Summary List'!M556<>\"\",'Summary List'!M556,\"\")","v":""},{"$f":"IF('Summary List'!N556<>\"\",'Summary List'!N556,\"\")","v":""},{"$f":"IF('Summary List'!O556<>\"\",'Summary List'!O556,\"\")","v":""},{"$f":"IF('Summary List'!P556<>\"\",'Summary List'!P556,\"\")","v":""},{"$f":"IF('Summary List'!Q556<>\"\",'Summary List'!Q556,\"\")","v":""},{"$f":"IF('Summary List'!R556<>\"\",'Summary List'!R556,\"\")","v":""},{"$f":"IF('Summary List'!S556<>\"\",'Summary List'!S556,\"\")","v":""},null,{"$f":"IF('Summary List'!M615<>\"\",'Summary List'!M615,\"\")","v":""},{"$f":"IF('Summary List'!N615<>\"\",'Summary List'!N615,\"\")","v":""},{"$f":"IF('Summary List'!O615<>\"\",'Summary List'!O615,\"\")","v":""},{"$f":"IF('Summary List'!P615<>\"\",'Summary List'!P615,\"\")","v":""},{"$f":"IF('Summary List'!Q615<>\"\",'Summary List'!Q615,\"\")","v":""},{"$f":"IF('Summary List'!R615<>\"\",'Summary List'!R615,\"\")","v":""},{"$f":"IF('Summary List'!S615<>\"\",'Summary List'!S615,\"\")","v":""},null,{"$f":"IF('Summary List'!M674<>\"\",'Summary List'!M674,\"\")","v":""},{"$f":"IF('Summary List'!N674<>\"\",'Summary List'!N674,\"\")","v":""},{"$f":"IF('Summary List'!O674<>\"\",'Summary List'!O674,\"\")","v":""},{"$f":"IF('Summary List'!P674<>\"\",'Summary List'!P674,\"\")","v":""},{"$f":"IF('Summary List'!Q674<>\"\",'Summary List'!Q674,\"\")","v":""},{"$f":"IF('Summary List'!R674<>\"\",'Summary List'!R674,\"\")","v":""},{"$f":"IF('Summary List'!S674<>\"\",'Summary List'!S674,\"\")","v":""}]
[null,null,{"$f":"IF('Summary List'!M557<>\"\",'Summary List'!M557,\"\")","v":""},{"$f":"IF('Summary List'!N557<>\"\",'Summary List'!N557,\"\")","v":""},{"$f":"IF('Summary List'!O557<>\"\",'Summary List'!O557,\"\")","v":""},{"$f":"IF('Summary List'!P557<>\"\",'Summary List'!P557,\"\")","v":""},{"$f":"IF('Summary List'!Q557<>\"\",'Summary List'!Q557,\"\")","v":""},{"$f":"IF('Summary List'!R557<>\"\",'Summary List'!R557,\"\")","v":""},{"$f":"IF('Summary List'!S557<>\"\",'Summary List'!S557,\"\")","v":""},null,{"$f":"IF('Summary List'!M616<>\"\",'Summary List'!M616,\"\")","v":""},{"$f":"IF('Summary List'!N616<>\"\",'Summary List'!N616,\"\")","v":""},{"$f":"IF('Summary List'!O616<>\"\",'Summary List'!O616,\"\")","v":""},{"$f":"IF('Summary List'!P616<>\"\",'Summary List'!P616,\"\")","v":""},{"$f":"IF('Summary List'!Q616<>\"\",'Summary List'!Q616,\"\")","v":""},{"$f":"IF('Summary List'!R616<>\"\",'Summary List'!R616,\"\")","v":""},{"$f":"IF('Summary List'!S616<>\"\",'Summary List'!S616,\"\")","v":""},null,{"$f":"IF('Summary List'!M675<>\"\",'Summary List'!M675,\"\")","v":""},{"$f":"IF('Summary List'!N675<>\"\",'Summary List'!N675,\"\")","v":""},{"$f":"IF('Summary List'!O675<>\"\",'Summary List'!O675,\"\")","v":""},{"$f":"IF('Summary List'!P675<>\"\",'Summary List'!P675,\"\")","v":""},{"$f":"IF('Summary List'!Q675<>\"\",'Summary List'!Q675,\"\")","v":""},{"$f":"IF('Summary List'!R675<>\"\",'Summary List'!R675,\"\")","v":""},{"$f":"IF('Summary List'!S675<>\"\",'Summary List'!S675,\"\")","v":""}]
[null,null,{"$f":"IF('Summary List'!M558<>\"\",'Summary List'!M558,\"\")","v":""},{"$f":"IF('Summary List'!N558<>\"\",'Summary List'!N558,\"\")","v":""},{"$f":"IF('Summary List'!O558<>\"\",'Summary List'!O558,\"\")","v":""},{"$f":"IF('Summary List'!P558<>\"\",'Summary List'!P558,\"\")","v":""},{"$f":"IF('Summary List'!Q558<>\"\",'Summary List'!Q558,\"\")","v":""},{"$f":"IF('Summary List'!R558<>\"\",'Summary List'!R558,\"\")","v":""},{"$f":"IF('Summary List'!S558<>\"\",'Summary List'!S558,\"\")","v":""},null,{"$f":"IF('Summary List'!M617<>\"\",'Summary List'!M617,\"\")","v":""},{"$f":"IF('Summary List'!N617<>\"\",'Summary List'!N617,\"\")","v":""},{"$f":"IF('Summary List'!O617<>\"\",'Summary List'!O617,\"\")","v":""},{"$f":"IF('Summary List'!P617<>\"\",'Summary List'!P617,\"\")","v":""},{"$f":"IF('Summary List'!Q617<>\"\",'Summary List'!Q617,\"\")","v":""},{"$f":"IF('Summary List'!R617<>\"\",'Summary List'!R617,\"\")","v":""},{"$f":"IF('Summary List'!S617<>\"\",'Summary List'!S617,\"\")","v":""},null,{"$f":"IF('Summary List'!M676<>\"\",'Summary List'!M676,\"\")","v":""},{"$f":"IF('Summary List'!N676<>\"\",'Summary List'!N676,\"\")","v":""},{"$f":"IF('Summary List'!O676<>\"\",'Summary List'!O676,\"\")","v":""},{"$f":"IF('Summary List'!P676<>\"\",'Summary List'!P676,\"\")","v":""},{"$f":"IF('Summary List'!Q676<>\"\",'Summary List'!Q676,\"\")","v":""},{"$f":"IF('Summary List'!R676<>\"\",'Summary List'!R676,\"\")","v":""},{"$f":"IF('Summary List'!S676<>\"\",'Summary List'!S676,\"\")","v":""}]
[null,null,{"$f":"IF('Summary List'!M559<>\"\",'Summary List'!M559,\"\")","v":""},{"$f":"IF('Summary List'!N559<>\"\",'Summary List'!N559,\"\")","v":""},{"$f":"IF('Summary List'!O559<>\"\",'Summary List'!O559,\"\")","v":""},{"$f":"IF('Summary List'!P559<>\"\",'Summary List'!P559,\"\")","v":""},{"$f":"IF('Summary List'!Q559<>\"\",'Summary List'!Q559,\"\")","v":""},{"$f":"IF('Summary List'!R559<>\"\",'Summary List'!R559,\"\")","v":""},{"$f":"IF('Summary List'!S559<>\"\",'Summary List'!S559,\"\")","v":""},null,{"$f":"IF('Summary List'!M618<>\"\",'Summary List'!M618,\"\")","v":""},{"$f":"IF('Summary List'!N618<>\"\",'Summary List'!N618,\"\")","v":""},{"$f":"IF('Summary List'!O618<>\"\",'Summary List'!O618,\"\")","v":""},{"$f":"IF('Summary List'!P618<>\"\",'Summary List'!P618,\"\")","v":""},{"$f":"IF('Summary List'!Q618<>\"\",'Summary List'!Q618,\"\")","v":""},{"$f":"IF('Summary List'!R618<>\"\",'Summary List'!R618,\"\")","v":""},{"$f":"IF('Summary List'!S618<>\"\",'Summary List'!S618,\"\")","v":""},null,{"$f":"IF('Summary List'!M677<>\"\",'Summary List'!M677,\"\")","v":""},{"$f":"IF('Summary List'!N677<>\"\",'Summary List'!N677,\"\")","v":""},{"$f":"IF('Summary List'!O677<>\"\",'Summary List'!O677,\"\")","v":""},{"$f":"IF('Summary List'!P677<>\"\",'Summary List'!P677,\"\")","v":""},{"$f":"IF('Summary List'!Q677<>\"\",'Summary List'!Q677,\"\")","v":""},{"$f":"IF('Summary List'!R677<>\"\",'Summary List'!R677,\"\")","v":""},{"$f":"IF('Summary List'!S677<>\"\",'Summary List'!S677,\"\")","v":""}]
[null,null,{"$f":"IF('Summary List'!M560<>\"\",'Summary List'!M560,\"\")","v":""},{"$f":"IF('Summary List'!N560<>\"\",'Summary List'!N560,\"\")","v":""},{"$f":"IF('Summary List'!O560<>\"\",'Summary List'!O560,\"\")","v":""},{"$f":"IF('Summary List'!P560<>\"\",'Summary List'!P560,\"\")","v":""},{"$f":"IF('Summary List'!Q560<>\"\",'Summary List'!Q560,\"\")","v":""},{"$f":"IF('Summary List'!R560<>\"\",'Summary List'!R560,\"\")","v":""},{"$f":"IF('Summary List'!S560<>\"\",'Summary List'!S560,\"\")","v":""},null,{"$f":"IF('Summary List'!M619<>\"\",'Summary List'!M619,\"\")","v":""},{"$f":"IF('Summary List'!N619<>\"\",'Summary List'!N619,\"\")","v":""},{"$f":"IF('Summary List'!O619<>\"\",'Summary List'!O619,\"\")","v":""},{"$f":"IF('Summary List'!P619<>\"\",'Summary List'!P619,\"\")","v":""},{"$f":"IF('Summary List'!Q619<>\"\",'Summary List'!Q619,\"\")","v":""},{"$f":"IF('Summary List'!R619<>\"\",'Summary List'!R619,\"\")","v":""},{"$f":"IF('Summary List'!S619<>\"\",'Summary List'!S619,\"\")","v":""},null,{"$f":"IF('Summary List'!M678<>\"\",'Summary List'!M678,\"\")","v":""},{"$f":"IF('Summary List'!N678<>\"\",'Summary List'!N678,\"\")","v":""},{"$f":"IF('Summary List'!O678<>\"\",'Summary List'!O678,\"\")","v":""},{"$f":"IF('Summary List'!P678<>\"\",'Summary List'!P678,\"\")","v":""},{"$f":"IF('Summary List'!Q678<>\"\",'Summary List'!Q678,\"\")","v":""},{"$f":"IF('Summary List'!R678<>\"\",'Summary List'!R678,\"\")","v":""},{"$f":"IF('Summary List'!S678<>\"\",'Summary List'!S678,\"\")","v":""}]
[null,null,{"$f":"IF('Summary List'!M561<>\"\",'Summary List'!M561,\"\")","v":""},{"$f":"IF('Summary List'!N561<>\"\",'Summary List'!N561,\"\")","v":""},{"$f":"IF('Summary List'!O561<>\"\",'Summary List'!O561,\"\")","v":""},{"$f":"IF('Summary List'!P561<>\"\",'Summary List'!P561,\"\")","v":""},{"$f":"IF('Summary List'!Q561<>\"\",'Summary List'!Q561,\"\")","v":""},{"$f":"IF('Summary List'!R561<>\"\",'Summary List'!R561,\"\")","v":""},{"$f":"IF('Summary List'!S561<>\"\",'Summary List'!S561,\"\")","v":""},null,{"$f":"IF('Summary List'!M620<>\"\",'Summary List'!M620,\"\")","v":""},{"$f":"IF('Summary List'!N620<>\"\",'Summary List'!N620,\"\")","v":""},{"$f":"IF('Summary List'!O620<>\"\",'Summary List'!O620,\"\")","v":""},{"$f":"IF('Summary List'!P620<>\"\",'Summary List'!P620,\"\")","v":""},{"$f":"IF('Summary List'!Q620<>\"\",'Summary List'!Q620,\"\")","v":""},{"$f":"IF('Summary List'!R620<>\"\",'Summary List'!R620,\"\")","v":""},{"$f":"IF('Summary List'!S620<>\"\",'Summary List'!S620,\"\")","v":""},null,{"$f":"IF('Summary List'!M679<>\"\",'Summary List'!M679,\"\")","v":""},{"$f":"IF('Summary List'!N679<>\"\",'Summary List'!N679,\"\")","v":""},{"$f":"IF('Summary List'!O679<>\"\",'Summary List'!O679,\"\")","v":""},{"$f":"IF('Summary List'!P679<>\"\",'Summary List'!P679,\"\")","v":""},{"$f":"IF('Summary List'!Q679<>\"\",'Summary List'!Q679,\"\")","v":""},{"$f":"IF('Summary List'!R679<>\"\",'Summary List'!R679,\"\")","v":""},{"$f":"IF('Summary List'!S679<>\"\",'Summary List'!S679,\"\")","v":""}]
[null,null,{"$f":"IF('Summary List'!M562<>\"\",'Summary List'!M562,\"\")","v":""},{"$f":"IF('Summary List'!N562<>\"\",'Summary List'!N562,\"\")","v":""},{"$f":"IF('Summary List'!O562<>\"\",'Summary List'!O562,\"\")","v":""},{"$f":"IF('Summary List'!P562<>\"\",'Summary List'!P562,\"\")","v":""},{"$f":"IF('Summary List'!Q562<>\"\",'Summary List'!Q562,\"\")","v":""},{"$f":"IF('Summary List'!R562<>\"\",'Summary List'!R562,\"\")","v":""},{"$f":"IF('Summary List'!S562<>\"\",'Summary List'!S562,\"\")","v":""},null,{"$f":"IF('Summary List'!M621<>\"\",'Summary List'!M621,\"\")","v":""},{"$f":"IF('Summary List'!N621<>\"\",'Summary List'!N621,\"\")","v":""},{"$f":"IF('Summary List'!O621<>\"\",'Summary List'!O621,\"\")","v":""},{"$f":"IF('Summary List'!P621<>\"\",'Summary List'!P621,\"\")","v":""},{"$f":"IF('Summary List'!Q621<>\"\",'Summary List'!Q621,\"\")","v":""},{"$f":"IF('Summary List'!R621<>\"\",'Summary List'!R621,\"\")","v":""},{"$f":"IF('Summary List'!S621<>\"\",'Summary List'!S621,\"\")","v":""},null,{"$f":"IF('Summary List'!M680<>\"\",'Summary List'!M680,\"\")","v":""},{"$f":"IF('Summary List'!N680<>\"\",'Summary List'!N680,\"\")","v":""},{"$f":"IF('Summary List'!O680<>\"\",'Summary List'!O680,\"\")","v":""},{"$f":"IF('Summary List'!P680<>\"\",'Summary List'!P680,\"\")","v":""},{"$f":"IF('Summary List'!Q680<>\"\",'Summary List'!Q680,\"\")","v":""},{"$f":"IF('Summary List'!R680<>\"\",'Summary List'!R680,\"\")","v":""},{"$f":"IF('Summary List'!S680<>\"\",'Summary List'!S680,\"\")","v":""}]
[null,null,{"$f":"IF('Summary List'!M563<>\"\",'Summary List'!M563,\"\")","v":""},{"$f":"IF('Summary List'!N563<>\"\",'Summary List'!N563,\"\")","v":""},{"$f":"IF('Summary List'!O563<>\"\",'Summary List'!O563,\"\")","v":""},{"$f":"IF('Summary List'!P563<>\"\",'Summary List'!P563,\"\")","v":""},{"$f":"IF('Summary List'!Q563<>\"\",'Summary List'!Q563,\"\")","v":""},{"$f":"IF('Summary List'!R563<>\"\",'Summary List'!R563,\"\")","v":""},{"$f":"IF('Summary List'!S563<>\"\",'Summary List'!S563,\"\")","v":""},null,{"$f":"IF('Summary List'!M622<>\"\",'Summary List'!M622,\"\")","v":""},{"$f":"IF('Summary List'!N622<>\"\",'Summary List'!N622,\"\")","v":""},{"$f":"IF('Summary List'!O622<>\"\",'Summary List'!O622,\"\")","v":""},{"$f":"IF('Summary List'!P622<>\"\",'Summary List'!P622,\"\")","v":""},{"$f":"IF('Summary List'!Q622<>\"\",'Summary List'!Q622,\"\")","v":""},{"$f":"IF('Summary List'!R622<>\"\",'Summary List'!R622,\"\")","v":""},{"$f":"IF('Summary List'!S622<>\"\",'Summary List'!S622,\"\")","v":""},null,{"$f":"IF('Summary List'!M681<>\"\",'Summary List'!M681,\"\")","v":""},{"$f":"IF('Summary List'!N681<>\"\",'Summary List'!N681,\"\")","v":""},{"$f":"IF('Summary List'!O681<>\"\",'Summary List'!O681,\"\")","v":""},{"$f":"IF('Summary List'!P681<>\"\",'Summary List'!P681,\"\")","v":""},{"$f":"IF('Summary List'!Q681<>\"\",'Summary List'!Q681,\"\")","v":""},{"$f":"IF('Summary List'!R681<>\"\",'Summary List'!R681,\"\")","v":""},{"$f":"IF('Summary List'!S681<>\"\",'Summary List'!S681,\"\")","v":""}]
[null,null,{"$f":"IF('Summary List'!M564<>\"\",'Summary List'!M564,\"\")","v":""},{"$f":"IF('Summary List'!N564<>\"\",'Summary List'!N564,\"\")","v":""},{"$f":"IF('Summary List'!O564<>\"\",'Summary List'!O564,\"\")","v":""},{"$f":"IF('Summary List'!P564<>\"\",'Summary List'!P564,\"\")","v":""},{"$f":"IF('Summary List'!Q564<>\"\",'Summary List'!Q564,\"\")","v":""},{"$f":"IF('Summary List'!R564<>\"\",'Summary List'!R564,\"\")","v":""},{"$f":"IF('Summary List'!S564<>\"\",'Summary List'!S564,\"\")","v":""},null,{"$f":"IF('Summary List'!M623<>\"\",'Summary List'!M623,\"\")","v":""},{"$f":"IF('Summary List'!N623<>\"\",'Summary List'!N623,\"\")","v":""},{"$f":"IF('Summary List'!O623<>\"\",'Summary List'!O623,\"\")","v":""},{"$f":"IF('Summary List'!P623<>\"\",'Summary List'!P623,\"\")","v":""},{"$f":"IF('Summary List'!Q623<>\"\",'Summary List'!Q623,\"\")","v":""},{"$f":"IF('Summary List'!R623<>\"\",'Summary List'!R623,\"\")","v":""},{"$f":"IF('Summary List'!S623<>\"\",'Summary List'!S623,\"\")","v":""},null,{"$f":"IF('Summary List'!M682<>\"\",'Summary List'!M682,\"\")","v":""},{"$f":"IF('Summary List'!N682<>\"\",'Summary List'!N682,\"\")","v":""},{"$f":"IF('Summary List'!O682<>\"\",'Summary List'!O682,\"\")","v":""},{"$f":"IF('Summary List'!P682<>\"\",'Summary List'!P682,\"\")","v":""},{"$f":"IF('Summary List'!Q682<>\"\",'Summary List'!Q682,\"\")","v":""},{"$f":"IF('Summary List'!R682<>\"\",'Summary List'!R682,\"\")","v":""},{"$f":"IF('Summary List'!S682<>\"\",'Summary List'!S682,\"\")","v":""}]
[null,null,{"$f":"IF('Summary List'!M565<>\"\",'Summary List'!M565,\"\")","v":""},{"$f":"IF('Summary List'!N565<>\"\",'Summary List'!N565,\"\")","v":""},{"$f":"IF('Summary List'!O565<>\"\",'Summary List'!O565,\"\")","v":""},{"$f":"IF('Summary List'!P565<>\"\",'Summary List'!P565,\"\")","v":""},{"$f":"IF('Summary List'!Q565<>\"\",'Summary List'!Q565,\"\")","v":""},{"$f":"IF('Summary List'!R565<>\"\",'Summary List'!R565,\"\")","v":""},{"$f":"IF('Summary List'!S565<>\"\",'Summary List'!S565,\"\")","v":""},null,{"$f":"IF('Summary List'!M624<>\"\",'Summary List'!M624,\"\")","v":""},{"$f":"IF('Summary List'!N624<>\"\",'Summary List'!N624,\"\")","v":""},{"$f":"IF('Summary List'!O624<>\"\",'Summary List'!O624,\"\")","v":""},{"$f":"IF('Summary List'!P624<>\"\",'Summary List'!P624,\"\")","v":""},{"$f":"IF('Summary List'!Q624<>\"\",'Summary List'!Q624,\"\")","v":""},{"$f":"IF('Summary List'!R624<>\"\",'Summary List'!R624,\"\")","v":""},{"$f":"IF('Summary List'!S624<>\"\",'Summary List'!S624,\"\")","v":""},null,{"$f":"IF('Summary List'!M683<>\"\",'Summary List'!M683,\"\")","v":""},{"$f":"IF('Summary List'!N683<>\"\",'Summary List'!N683,\"\")","v":""},{"$f":"IF('Summary List'!O683<>\"\",'Summary List'!O683,\"\")","v":""},{"$f":"IF('Summary List'!P683<>\"\",'Summary List'!P683,\"\")","v":""},{"$f":"IF('Summary List'!Q683<>\"\",'Summary List'!Q683,\"\")","v":""},{"$f":"IF('Summary List'!R683<>\"\",'Summary List'!R683,\"\")","v":""},{"$f":"IF('Summary List'!S683<>\"\",'Summary List'!S683,\"\")","v":""}]
[null,null,{"$f":"IF('Summary List'!M566<>\"\",'Summary List'!M566,\"\")","v":""},{"$f":"IF('Summary List'!N566<>\"\",'Summary List'!N566,\"\")","v":""},{"$f":"IF('Summary List'!O566<>\"\",'Summary List'!O566,\"\")","v":""},{"$f":"IF('Summary List'!P566<>\"\",'Summary List'!P566,\"\")","v":""},{"$f":"IF('Summary List'!Q566<>\"\",'Summary List'!Q566,\"\")","v":""},{"$f":"IF('Summary List'!R566<>\"\",'Summary List'!R566,\"\")","v":""},{"$f":"IF('Summary List'!S566<>\"\",'Summary List'!S566,\"\")","v":""},null,{"$f":"IF('Summary List'!M625<>\"\",'Summary List'!M625,\"\")","v":""},{"$f":"IF('Summary List'!N625<>\"\",'Summary List'!N625,\"\")","v":""},{"$f":"IF('Summary List'!O625<>\"\",'Summary List'!O625,\"\")","v":""},{"$f":"IF('Summary List'!P625<>\"\",'Summary List'!P625,\"\")","v":""},{"$f":"IF('Summary List'!Q625<>\"\",'Summary List'!Q625,\"\")","v":""},{"$f":"IF('Summary List'!R625<>\"\",'Summary List'!R625,\"\")","v":""},{"$f":"IF('Summary List'!S625<>\"\",'Summary List'!S625,\"\")","v":""},null,{"$f":"IF('Summary List'!M684<>\"\",'Summary List'!M684,\"\")","v":""},{"$f":"IF('Summary List'!N684<>\"\",'Summary List'!N684,\"\")","v":""},{"$f":"IF('Summary List'!O684<>\"\",'Summary List'!O684,\"\")","v":""},{"$f":"IF('Summary List'!P684<>\"\",'Summary List'!P684,\"\")","v":""},{"$f":"IF('Summary List'!Q684<>\"\",'Summary List'!Q684,\"\")","v":""},{"$f":"IF('Summary List'!R684<>\"\",'Summary List'!R684,\"\")","v":""},{"$f":"IF('Summary List'!S684<>\"\",'Summary List'!S684,\"\")","v":""}]
[null,null,{"$f":"IF('Summary List'!M567<>\"\",'Summary List'!M567,\"\")","v":""},{"$f":"IF('Summary List'!N567<>\"\",'Summary List'!N567,\"\")","v":""},{"$f":"IF('Summary List'!O567<>\"\",'Summary List'!O567,\"\")","v":""},{"$f":"IF('Summary List'!P567<>\"\",'Summary List'!P567,\"\")","v":""},{"$f":"IF('Summary List'!Q567<>\"\",'Summary List'!Q567,\"\")","v":""},{"$f":"IF('Summary List'!R567<>\"\",'Summary List'!R567,\"\")","v":""},{"$f":"IF('Summary List'!S567<>\"\",'Summary List'!S567,\"\")","v":""},null,{"$f":"IF('Summary List'!M626<>\"\",'Summary List'!M626,\"\")","v":""},{"$f":"IF('Summary List'!N626<>\"\",'Summary List'!N626,\"\")","v":""},{"$f":"IF('Summary List'!O626<>\"\",'Summary List'!O626,\"\")","v":""},{"$f":"IF('Summary List'!P626<>\"\",'Summary List'!P626,\"\")","v":""},{"$f":"IF('Summary List'!Q626<>\"\",'Summary List'!Q626,\"\")","v":""},{"$f":"IF('Summary List'!R626<>\"\",'Summary List'!R626,\"\")","v":""},{"$f":"IF('Summary List'!S626<>\"\",'Summary List'!S626,\"\")","v":""},null,{"$f":"IF('Summary List'!M685<>\"\",'Summary List'!M685,\"\")","v":""},{"$f":"IF('Summary List'!N685<>\"\",'Summary List'!N685,\"\")","v":""},{"$f":"IF('Summary List'!O685<>\"\",'Summary List'!O685,\"\")","v":""},{"$f":"IF('Summary List'!P685<>\"\",'Summary List'!P685,\"\")","v":""},{"$f":"IF('Summary List'!Q685<>\"\",'Summary List'!Q685,\"\")","v":""},{"$f":"IF('Summary List'!R685<>\"\",'Summary List'!R685,\"\")","v":""},{"$f":"IF('Summary List'!S685<>\"\",'Summary List'!S685,\"\")","v":""}]
[null,null,{"$f":"IF('Summary List'!M568<>\"\",'Summary List'!M568,\"\")","v":""},{"$f":"IF('Summary List'!N568<>\"\",'Summary List'!N568,\"\")","v":""},{"$f":"IF('Summary List'!O568<>\"\",'Summary List'!O568,\"\")","v":""},{"$f":"IF('Summary List'!P568<>\"\",'Summary List'!P568,\"\")","v":""},{"$f":"IF('Summary List'!Q568<>\"\",'Summary List'!Q568,\"\")","v":""},{"$f":"IF('Summary List'!R568<>\"\",'Summary List'!R568,\"\")","v":""},{"$f":"IF('Summary List'!S568<>\"\",'Summary List'!S568,\"\")","v":""},null,{"$f":"IF('Summary List'!M627<>\"\",'Summary List'!M627,\"\")","v":""},{"$f":"IF('Summary List'!N627<>\"\",'Summary List'!N627,\"\")","v":""},{"$f":"IF('Summary List'!O627<>\"\",'Summary List'!O627,\"\")","v":""},{"$f":"IF('Summary List'!P627<>\"\",'Summary List'!P627,\"\")","v":""},{"$f":"IF('Summary List'!Q627<>\"\",'Summary List'!Q627,\"\")","v":""},{"$f":"IF('Summary List'!R627<>\"\",'Summary List'!R627,\"\")","v":""},{"$f":"IF('Summary List'!S627<>\"\",'Summary List'!S627,\"\")","v":""},null,{"$f":"IF('Summary List'!M686<>\"\",'Summary List'!M686,\"\")","v":""},{"$f":"IF('Summary List'!N686<>\"\",'Summary List'!N686,\"\")","v":""},{"$f":"IF('Summary List'!O686<>\"\",'Summary List'!O686,\"\")","v":""},{"$f":"IF('Summary List'!P686<>\"\",'Summary List'!P686,\"\")","v":""},{"$f":"IF('Summary List'!Q686<>\"\",'Summary List'!Q686,\"\")","v":""},{"$f":"IF('Summary List'!R686<>\"\",'Summary List'!R686,\"\")","v":""},{"$f":"IF('Summary List'!S686<>\"\",'Summary List'!S686,\"\")","v":""}]
[null,null,{"$f":"IF('Summary List'!M569<>\"\",'Summary List'!M569,\"\")","v":""},{"$f":"IF('Summary List'!N569<>\"\",'Summary List'!N569,\"\")","v":""},{"$f":"IF('Summary List'!O569<>\"\",'Summary List'!O569,\"\")","v":""},{"$f":"IF('Summary List'!P569<>\"\",'Summary List'!P569,\"\")","v":""},{"$f":"IF('Summary List'!Q569<>\"\",'Summary List'!Q569,\"\")","v":""},{"$f":"IF('Summary List'!R569<>\"\",'Summary List'!R569,\"\")","v":""},{"$f":"IF('Summary List'!S569<>\"\",'Summary List'!S569,\"\")","v":""},null,{"$f":"IF('Summary List'!M628<>\"\",'Summary List'!M628,\"\")","v":""},{"$f":"IF('Summary List'!N628<>\"\",'Summary List'!N628,\"\")","v":""},{"$f":"IF('Summary List'!O628<>\"\",'Summary List'!O628,\"\")","v":""},{"$f":"IF('Summary List'!P628<>\"\",'Summary List'!P628,\"\")","v":""},{"$f":"IF('Summary List'!Q628<>\"\",'Summary List'!Q628,\"\")","v":""},{"$f":"IF('Summary List'!R628<>\"\",'Summary List'!R628,\"\")","v":""},{"$f":"IF('Summary List'!S628<>\"\",'Summary List'!S628,\"\")","v":""},null,{"$f":"IF('Summary List'!M687<>\"\",'Summary List'!M687,\"\")","v":""},{"$f":"IF('Summary List'!N687<>\"\",'Summary List'!N687,\"\")","v":""},{"$f":"IF('Summary List'!O687<>\"\",'Summary List'!O687,\"\")","v":""},{"$f":"IF('Summary List'!P687<>\"\",'Summary List'!P687,\"\")","v":""},{"$f":"IF('Summary List'!Q687<>\"\",'Summary List'!Q687,\"\")","v":""},{"$f":"IF('Summary List'!R687<>\"\",'Summary List'!R687,\"\")","v":""},{"$f":"IF('Summary List'!S687<>\"\",'Summary List'!S687,\"\")","v":""}]
[null,null,{"$f":"IF('Summary List'!M570<>\"\",'Summary List'!M570,\"\")","v":""},{"$f":"IF('Summary List'!N570<>\"\",'Summary List'!N570,\"\")","v":""},{"$f":"IF('Summary List'!O570<>\"\",'Summary List'!O570,\"\")","v":""},{"$f":"IF('Summary List'!P570<>\"\",'Summary List'!P570,\"\")","v":""},{"$f":"IF('Summary List'!Q570<>\"\",'Summary List'!Q570,\"\")","v":""},{"$f":"IF('Summary List'!R570<>\"\",'Summary List'!R570,\"\")","v":""},{"$f":"IF('Summary List'!S570<>\"\",'Summary List'!S570,\"\")","v":""},null,{"$f":"IF('Summary List'!M629<>\"\",'Summary List'!M629,\"\")","v":""},{"$f":"IF('Summary List'!N629<>\"\",'Summary List'!N629,\"\")","v":""},{"$f":"IF('Summary List'!O629<>\"\",'Summary List'!O629,\"\")","v":""},{"$f":"IF('Summary List'!P629<>\"\",'Summary List'!P629,\"\")","v":""},{"$f":"IF('Summary List'!Q629<>\"\",'Summary List'!Q629,\"\")","v":""},{"$f":"IF('Summary List'!R629<>\"\",'Summary List'!R629,\"\")","v":""},{"$f":"IF('Summary List'!S629<>\"\",'Summary List'!S629,\"\")","v":""},null,{"$f":"IF('Summary List'!M688<>\"\",'Summary List'!M688,\"\")","v":""},{"$f":"IF('Summary List'!N688<>\"\",'Summary List'!N688,\"\")","v":""},{"$f":"IF('Summary List'!O688<>\"\",'Summary List'!O688,\"\")","v":""},{"$f":"IF('Summary List'!P688<>\"\",'Summary List'!P688,\"\")","v":""},{"$f":"IF('Summary List'!Q688<>\"\",'Summary List'!Q688,\"\")","v":""},{"$f":"IF('Summary List'!R688<>\"\",'Summary List'!R688,\"\")","v":""},{"$f":"IF('Summary List'!S688<>\"\",'Summary List'!S688,\"\")","v":""}]
[null,null,{"$f":"IF('Summary List'!M571<>\"\",'Summary List'!M571,\"\")","v":""},{"$f":"IF('Summary List'!N571<>\"\",'Summary List'!N571,\"\")","v":""},{"$f":"IF('Summary List'!O571<>\"\",'Summary List'!O571,\"\")","v":""},{"$f":"IF('Summary List'!P571<>\"\",'Summary List'!P571,\"\")","v":""},{"$f":"IF('Summary List'!Q571<>\"\",'Summary List'!Q571,\"\")","v":""},{"$f":"IF('Summary List'!R571<>\"\",'Summary List'!R571,\"\")","v":""},{"$f":"IF('Summary List'!S571<>\"\",'Summary List'!S571,\"\")","v":""},null,{"$f":"IF('Summary List'!M630<>\"\",'Summary List'!M630,\"\")","v":""},{"$f":"IF('Summary List'!N630<>\"\",'Summary List'!N630,\"\")","v":""},{"$f":"IF('Summary List'!O630<>\"\",'Summary List'!O630,\"\")","v":""},{"$f":"IF('Summary List'!P630<>\"\",'Summary List'!P630,\"\")","v":""},{"$f":"IF('Summary List'!Q630<>\"\",'Summary List'!Q630,\"\")","v":""},{"$f":"IF('Summary List'!R630<>\"\",'Summary List'!R630,\"\")","v":""},{"$f":"IF('Summary List'!S630<>\"\",'Summary List'!S630,\"\")","v":""},null,{"$f":"IF('Summary List'!M689<>\"\",'Summary List'!M689,\"\")","v":""},{"$f":"IF('Summary List'!N689<>\"\",'Summary List'!N689,\"\")","v":""},{"$f":"IF('Summary List'!O689<>\"\",'Summary List'!O689,\"\")","v":""},{"$f":"IF('Summary List'!P689<>\"\",'Summary List'!P689,\"\")","v":""},{"$f":"IF('Summary List'!Q689<>\"\",'Summary List'!Q689,\"\")","v":""},{"$f":"IF('Summary List'!R689<>\"\",'Summary List'!R689,\"\")","v":""},{"$f":"IF('Summary List'!S689<>\"\",'Summary List'!S689,\"\")","v":""}]
[null,null,{"$f":"IF('Summary List'!M572<>\"\",'Summary List'!M572,\"\")","v":""},{"$f":"IF('Summary List'!N572<>\"\",'Summary List'!N572,\"\")","v":""},{"$f":"IF('Summary List'!O572<>\"\",'Summary List'!O572,\"\")","v":""},{"$f":"IF('Summary List'!P572<>\"\",'Summary List'!P572,\"\")","v":""},{"$f":"IF('Summary List'!Q572<>\"\",'Summary List'!Q572,\"\")","v":""},{"$f":"IF('Summary List'!R572<>\"\",'Summary List'!R572,\"\")","v":""},{"$f":"IF('Summary List'!S572<>\"\",'Summary List'!S572,\"\")","v":""},null,{"$f":"IF('Summary List'!M631<>\"\",'Summary List'!M631,\"\")","v":""},{"$f":"IF('Summary List'!N631<>\"\",'Summary List'!N631,\"\")","v":""},{"$f":"IF('Summary List'!O631<>\"\",'Summary List'!O631,\"\")","v":""},{"$f":"IF('Summary List'!P631<>\"\",'Summary List'!P631,\"\")","v":""},{"$f":"IF('Summary List'!Q631<>\"\",'Summary List'!Q631,\"\")","v":""},{"$f":"IF('Summary List'!R631<>\"\",'Summary List'!R631,\"\")","v":""},{"$f":"IF('Summary List'!S631<>\"\",'Summary List'!S631,\"\")","v":""},null,{"$f":"IF('Summary List'!M690<>\"\",'Summary List'!M690,\"\")","v":""},{"$f":"IF('Summary List'!N690<>\"\",'Summary List'!N690,\"\")","v":""},{"$f":"IF('Summary List'!O690<>\"\",'Summary List'!O690,\"\")","v":""},{"$f":"IF('Summary List'!P690<>\"\",'Summary List'!P690,\"\")","v":""},{"$f":"IF('Summary List'!Q690<>\"\",'Summary List'!Q690,\"\")","v":""},{"$f":"IF('Summary List'!R690<>\"\",'Summary List'!R690,\"\")","v":""},{"$f":"IF('Summary List'!S690<>\"\",'Summary List'!S690,\"\")","v":""}]
[null,null,{"$f":"IF('Summary List'!M573<>\"\",'Summary List'!M573,\"\")","v":""},{"$f":"IF('Summary List'!N573<>\"\",'Summary List'!N573,\"\")","v":""},{"$f":"IF('Summary List'!O573<>\"\",'Summary List'!O573,\"\")","v":""},{"$f":"IF('Summary List'!P573<>\"\",'Summary List'!P573,\"\")","v":""},{"$f":"IF('Summary List'!Q573<>\"\",'Summary List'!Q573,\"\")","v":""},{"$f":"IF('Summary List'!R573<>\"\",'Summary List'!R573,\"\")","v":""},{"$f":"IF('Summary List'!S573<>\"\",'Summary List'!S573,\"\")","v":""},null,{"$f":"IF('Summary List'!M632<>\"\",'Summary List'!M632,\"\")","v":""},{"$f":"IF('Summary List'!N632<>\"\",'Summary List'!N632,\"\")","v":""},{"$f":"IF('Summary List'!O632<>\"\",'Summary List'!O632,\"\")","v":""},{"$f":"IF('Summary List'!P632<>\"\",'Summary List'!P632,\"\")","v":""},{"$f":"IF('Summary List'!Q632<>\"\",'Summary List'!Q632,\"\")","v":""},{"$f":"IF('Summary List'!R632<>\"\",'Summary List'!R632,\"\")","v":""},{"$f":"IF('Summary List'!S632<>\"\",'Summary List'!S632,\"\")","v":""},null,{"$f":"IF('Summary List'!M691<>\"\",'Summary List'!M691,\"\")","v":""},{"$f":"IF('Summary List'!N691<>\"\",'Summary List'!N691,\"\")","v":""},{"$f":"IF('Summary List'!O691<>\"\",'Summary List'!O691,\"\")","v":""},{"$f":"IF('Summary List'!P691<>\"\",'Summary List'!P691,\"\")","v":""},{"$f":"IF('Summary List'!Q691<>\"\",'Summary List'!Q691,\"\")","v":""},{"$f":"IF('Summary List'!R691<>\"\",'Summary List'!R691,\"\")","v":""},{"$f":"IF('Summary List'!S691<>\"\",'Summary List'!S691,\"\")","v":""}]
[null,null,{"$f":"IF('Summary List'!M574<>\"\",'Summary List'!M574,\"\")","v":""},{"$f":"IF('Summary List'!N574<>\"\",'Summary List'!N574,\"\")","v":""},{"$f":"IF('Summary List'!O574<>\"\",'Summary List'!O574,\"\")","v":""},{"$f":"IF('Summary List'!P574<>\"\",'Summary List'!P574,\"\")","v":""},{"$f":"IF('Summary List'!Q574<>\"\",'Summary List'!Q574,\"\")","v":""},{"$f":"IF('Summary List'!R574<>\"\",'Summary List'!R574,\"\")","v":""},{"$f":"IF('Summary List'!S574<>\"\",'Summary List'!S574,\"\")","v":""},null,{"$f":"IF('Summary List'!M633<>\"\",'Summary List'!M633,\"\")","v":""},{"$f":"IF('Summary List'!N633<>\"\",'Summary List'!N633,\"\")","v":""},{"$f":"IF('Summary List'!O633<>\"\",'Summary List'!O633,\"\")","v":""},{"$f":"IF('Summary List'!P633<>\"\",'Summary List'!P633,\"\")","v":""},{"$f":"IF('Summary List'!Q633<>\"\",'Summary List'!Q633,\"\")","v":""},{"$f":"IF('Summary List'!R633<>\"\",'Summary List'!R633,\"\")","v":""},{"$f":"IF('Summary List'!S633<>\"\",'Summary List'!S633,\"\")","v":""},null,{"$f":"IF('Summary List'!M692<>\"\",'Summary List'!M692,\"\")","v":""},{"$f":"IF('Summary List'!N692<>\"\",'Summary List'!N692,\"\")","v":""},{"$f":"IF('Summary List'!O692<>\"\",'Summary List'!O692,\"\")","v":""},{"$f":"IF('Summary List'!P692<>\"\",'Summary List'!P692,\"\")","v":""},{"$f":"IF('Summary List'!Q692<>\"\",'Summary List'!Q692,\"\")","v":""},{"$f":"IF('Summary List'!R692<>\"\",'Summary List'!R692,\"\")","v":""},{"$f":"IF('Summary List'!S692<>\"\",'Summary List'!S692,\"\")","v":""}]
[null,null,{"$f":"IF('Summary List'!M575<>\"\",'Summary List'!M575,\"\")","v":""},{"$f":"IF('Summary List'!N575<>\"\",'Summary List'!N575,\"\")","v":""},{"$f":"IF('Summary List'!O575<>\"\",'Summary List'!O575,\"\")","v":""},{"$f":"IF('Summary List'!P575<>\"\",'Summary List'!P575,\"\")","v":""},{"$f":"IF('Summary List'!Q575<>\"\",'Summary List'!Q575,\"\")","v":""},{"$f":"IF('Summary List'!R575<>\"\",'Summary List'!R575,\"\")","v":""},{"$f":"IF('Summary List'!S575<>\"\",'Summary List'!S575,\"\")","v":""},null,{"$f":"IF('Summary List'!M634<>\"\",'Summary List'!M634,\"\")","v":""},{"$f":"IF('Summary List'!N634<>\"\",'Summary List'!N634,\"\")","v":""},{"$f":"IF('Summary List'!O634<>\"\",'Summary List'!O634,\"\")","v":""},{"$f":"IF('Summary List'!P634<>\"\",'Summary List'!P634,\"\")","v":""},{"$f":"IF('Summary List'!Q634<>\"\",'Summary List'!Q634,\"\")","v":""},{"$f":"IF('Summary List'!R634<>\"\",'Summary List'!R634,\"\")","v":""},{"$f":"IF('Summary List'!S634<>\"\",'Summary List'!S634,\"\")","v":""},null,{"$f":"IF('Summary List'!M693<>\"\",'Summary List'!M693,\"\")","v":""},{"$f":"IF('Summary List'!N693<>\"\",'Summary List'!N693,\"\")","v":""},{"$f":"IF('Summary List'!O693<>\"\",'Summary List'!O693,\"\")","v":""},{"$f":"IF('Summary List'!P693<>\"\",'Summary List'!P693,\"\")","v":""},{"$f":"IF('Summary List'!Q693<>\"\",'Summary List'!Q693,\"\")","v":""},{"$f":"IF('Summary List'!R693<>\"\",'Summary List'!R693,\"\")","v":""},{"$f":"IF('Summary List'!S693<>\"\",'Summary List'!S693,\"\")","v":""}]
[null,null,{"$f":"IF('Summary List'!M576<>\"\",'Summary List'!M576,\"\")","v":""},{"$f":"IF('Summary List'!N576<>\"\",'Summary List'!N576,\"\")","v":""},{"$f":"IF('Summary List'!O576<>\"\",'Summary List'!O576,\"\")","v":""},{"$f":"IF('Summary List'!P576<>\"\",'Summary List'!P576,\"\")","v":""},{"$f":"IF('Summary List'!Q576<>\"\",'Summary List'!Q576,\"\")","v":""},{"$f":"IF('Summary List'!R576<>\"\",'Summary List'!R576,\"\")","v":""},{"$f":"IF('Summary List'!S576<>\"\",'Summary List'!S576,\"\")","v":""},null,{"$f":"IF('Summary List'!M635<>\"\",'Summary List'!M635,\"\")","v":""},{"$f":"IF('Summary List'!N635<>\"\",'Summary List'!N635,\"\")","v":""},{"$f":"IF('Summary List'!O635<>\"\",'Summary List'!O635,\"\")","v":""},{"$f":"IF('Summary List'!P635<>\"\",'Summary List'!P635,\"\")","v":""},{"$f":"IF('Summary List'!Q635<>\"\",'Summary List'!Q635,\"\")","v":""},{"$f":"IF('Summary List'!R635<>\"\",'Summary List'!R635,\"\")","v":""},{"$f":"IF('Summary List'!S635<>\"\",'Summary List'!S635,\"\")","v":""},null,{"$f":"IF('Summary List'!M694<>\"\",'Summary List'!M694,\"\")","v":""},{"$f":"IF('Summary List'!N694<>\"\",'Summary List'!N694,\"\")","v":""},{"$f":"IF('Summary List'!O694<>\"\",'Summary List'!O694,\"\")","v":""},{"$f":"IF('Summary List'!P694<>\"\",'Summary List'!P694,\"\")","v":""},{"$f":"IF('Summary List'!Q694<>\"\",'Summary List'!Q694,\"\")","v":""},{"$f":"IF('Summary List'!R694<>\"\",'Summary List'!R694,\"\")","v":""},{"$f":"IF('Summary List'!S694<>\"\",'Summary List'!S694,\"\")","v":""}]
[null,null,{"$f":"IF('Summary List'!M577<>\"\",'Summary List'!M577,\"\")","v":""},{"$f":"IF('Summary List'!N577<>\"\",'Summary List'!N577,\"\")","v":""},{"$f":"IF('Summary List'!O577<>\"\",'Summary List'!O577,\"\")","v":""},{"$f":"IF('Summary List'!P577<>\"\",'Summary List'!P577,\"\")","v":""},{"$f":"IF('Summary List'!Q577<>\"\",'Summary List'!Q577,\"\")","v":""},{"$f":"IF('Summary List'!R577<>\"\",'Summary List'!R577,\"\")","v":""},{"$f":"IF('Summary List'!S577<>\"\",'Summary List'!S577,\"\")","v":""},null,{"$f":"IF('Summary List'!M636<>\"\",'Summary List'!M636,\"\")","v":""},{"$f":"IF('Summary List'!N636<>\"\",'Summary List'!N636,\"\")","v":""},{"$f":"IF('Summary List'!O636<>\"\",'Summary List'!O636,\"\")","v":""},{"$f":"IF('Summary List'!P636<>\"\",'Summary List'!P636,\"\")","v":""},{"$f":"IF('Summary List'!Q636<>\"\",'Summary List'!Q636,\"\")","v":""},{"$f":"IF('Summary List'!R636<>\"\",'Summary List'!R636,\"\")","v":""},{"$f":"IF('Summary List'!S636<>\"\",'Summary List'!S636,\"\")","v":""},null,{"$f":"IF('Summary List'!M695<>\"\",'Summary List'!M695,\"\")","v":""},{"$f":"IF('Summary List'!N695<>\"\",'Summary List'!N695,\"\")","v":""},{"$f":"IF('Summary List'!O695<>\"\",'Summary List'!O695,\"\")","v":""},{"$f":"IF('Summary List'!P695<>\"\",'Summary List'!P695,\"\")","v":""},{"$f":"IF('Summary List'!Q695<>\"\",'Summary List'!Q695,\"\")","v":""},{"$f":"IF('Summary List'!R695<>\"\",'Summary List'!R695,\"\")","v":""},{"$f":"IF('Summary List'!S695<>\"\",'Summary List'!S695,\"\")","v":""}]
[null,null,{"$f":"IF('Summary List'!M578<>\"\",'Summary List'!M578,\"\")","v":""},{"$f":"IF('Summary List'!N578<>\"\",'Summary List'!N578,\"\")","v":""},{"$f":"IF('Summary List'!O578<>\"\",'Summary List'!O578,\"\")","v":""},{"$f":"IF('Summary List'!P578<>\"\",'Summary List'!P578,\"\")","v":""},{"$f":"IF('Summary List'!Q578<>\"\",'Summary List'!Q578,\"\")","v":""},{"$f":"IF('Summary List'!R578<>\"\",'Summary List'!R578,\"\")","v":""},{"$f":"IF('Summary List'!S578<>\"\",'Summary List'!S578,\"\")","v":""},null,{"$f":"IF('Summary List'!M637<>\"\",'Summary List'!M637,\"\")","v":""},{"$f":"IF('Summary List'!N637<>\"\",'Summary List'!N637,\"\")","v":""},{"$f":"IF('Summary List'!O637<>\"\",'Summary List'!O637,\"\")","v":""},{"$f":"IF('Summary List'!P637<>\"\",'Summary List'!P637,\"\")","v":""},{"$f":"IF('Summary List'!Q637<>\"\",'Summary List'!Q637,\"\")","v":""},{"$f":"IF('Summary List'!R637<>\"\",'Summary List'!R637,\"\")","v":""},{"$f":"IF('Summary List'!S637<>\"\",'Summary List'!S637,\"\")","v":""},null,{"$f":"IF('Summary List'!M696<>\"\",'Summary List'!M696,\"\")","v":""},{"$f":"IF('Summary List'!N696<>\"\",'Summary List'!N696,\"\")","v":""},{"$f":"IF('Summary List'!O696<>\"\",'Summary List'!O696,\"\")","v":""},{"$f":"IF('Summary List'!P696<>\"\",'Summary List'!P696,\"\")","v":""},{"$f":"IF('Summary List'!Q696<>\"\",'Summary List'!Q696,\"\")","v":""},{"$f":"IF('Summary List'!R696<>\"\",'Summary List'!R696,\"\")","v":""},{"$f":"IF('Summary List'!S696<>\"\",'Summary List'!S696,\"\")","v":""}]
[null,null,{"$f":"IF('Summary List'!M579<>\"\",'Summary List'!M579,\"\")","v":""},{"$f":"IF('Summary List'!N579<>\"\",'Summary List'!N579,\"\")","v":""},{"$f":"IF('Summary List'!O579<>\"\",'Summary List'!O579,\"\")","v":""},{"$f":"IF('Summary List'!P579<>\"\",'Summary List'!P579,\"\")","v":""},{"$f":"IF('Summary List'!Q579<>\"\",'Summary List'!Q579,\"\")","v":""},{"$f":"IF('Summary List'!R579<>\"\",'Summary List'!R579,\"\")","v":""},{"$f":"IF('Summary List'!S579<>\"\",'Summary List'!S579,\"\")","v":""},null,{"$f":"IF('Summary List'!M638<>\"\",'Summary List'!M638,\"\")","v":""},{"$f":"IF('Summary List'!N638<>\"\",'Summary List'!N638,\"\")","v":""},{"$f":"IF('Summary List'!O638<>\"\",'Summary List'!O638,\"\")","v":""},{"$f":"IF('Summary List'!P638<>\"\",'Summary List'!P638,\"\")","v":""},{"$f":"IF('Summary List'!Q638<>\"\",'Summary List'!Q638,\"\")","v":""},{"$f":"IF('Summary List'!R638<>\"\",'Summary List'!R638,\"\")","v":""},{"$f":"IF('Summary List'!S638<>\"\",'Summary List'!S638,\"\")","v":""},null,{"$f":"IF('Summary List'!M697<>\"\",'Summary List'!M697,\"\")","v":""},{"$f":"IF('Summary List'!N697<>\"\",'Summary List'!N697,\"\")","v":""},{"$f":"IF('Summary List'!O697<>\"\",'Summary List'!O697,\"\")","v":""},{"$f":"IF('Summary List'!P697<>\"\",'Summary List'!P697,\"\")","v":""},{"$f":"IF('Summary List'!Q697<>\"\",'Summary List'!Q697,\"\")","v":""},{"$f":"IF('Summary List'!R697<>\"\",'Summary List'!R697,\"\")","v":""},{"$f":"IF('Summary List'!S697<>\"\",'Summary List'!S697,\"\")","v":""}]
[null,null,{"$f":"IF('Summary List'!M580<>\"\",'Summary List'!M580,\"\")","v":""},{"$f":"IF('Summary List'!N580<>\"\",'Summary List'!N580,\"\")","v":""},{"$f":"IF('Summary List'!O580<>\"\",'Summary List'!O580,\"\")","v":""},{"$f":"IF('Summary List'!P580<>\"\",'Summary List'!P580,\"\")","v":""},{"$f":"IF('Summary List'!Q580<>\"\",'Summary List'!Q580,\"\")","v":""},{"$f":"IF('Summary List'!R580<>\"\",'Summary List'!R580,\"\")","v":""},{"$f":"IF('Summary List'!S580<>\"\",'Summary List'!S580,\"\")","v":""},null,{"$f":"IF('Summary List'!M639<>\"\",'Summary List'!M639,\"\")","v":""},{"$f":"IF('Summary List'!N639<>\"\",'Summary List'!N639,\"\")","v":""},{"$f":"IF('Summary List'!O639<>\"\",'Summary List'!O639,\"\")","v":""},{"$f":"IF('Summary List'!P639<>\"\",'Summary List'!P639,\"\")","v":""},{"$f":"IF('Summary List'!Q639<>\"\",'Summary List'!Q639,\"\")","v":""},{"$f":"IF('Summary List'!R639<>\"\",'Summary List'!R639,\"\")","v":""},{"$f":"IF('Summary List'!S639<>\"\",'Summary List'!S639,\"\")","v":""},null,{"$f":"IF('Summary List'!M698<>\"\",'Summary List'!M698,\"\")","v":""},{"$f":"IF('Summary List'!N698<>\"\",'Summary List'!N698,\"\")","v":""},{"$f":"IF('Summary List'!O698<>\"\",'Summary List'!O698,\"\")","v":""},{"$f":"IF('Summary List'!P698<>\"\",'Summary List'!P698,\"\")","v":""},{"$f":"IF('Summary List'!Q698<>\"\",'Summary List'!Q698,\"\")","v":""},{"$f":"IF('Summary List'!R698<>\"\",'Summary List'!R698,\"\")","v":""},{"$f":"IF('Summary List'!S698<>\"\",'Summary List'!S698,\"\")","v":""}]
[null,null,{"$f":"IF('Summary List'!M581<>\"\",'Summary List'!M581,\"\")","v":""},{"$f":"IF('Summary List'!N581<>\"\",'Summary List'!N581,\"\")","v":""},{"$f":"IF('Summary List'!O581<>\"\",'Summary List'!O581,\"\")","v":""},{"$f":"IF('Summary List'!P581<>\"\",'Summary List'!P581,\"\")","v":""},{"$f":"IF('Summary List'!Q581<>\"\",'Summary List'!Q581,\"\")","v":""},{"$f":"IF('Summary List'!R581<>\"\",'Summary List'!R581,\"\")","v":""},{"$f":"IF('Summary List'!S581<>\"\",'Summary List'!S581,\"\")","v":""},null,{"$f":"IF('Summary List'!M640<>\"\",'Summary List'!M640,\"\")","v":""},{"$f":"IF('Summary List'!N640<>\"\",'Summary List'!N640,\"\")","v":""},{"$f":"IF('Summary List'!O640<>\"\",'Summary List'!O640,\"\")","v":""},{"$f":"IF('Summary List'!P640<>\"\",'Summary List'!P640,\"\")","v":""},{"$f":"IF('Summary List'!Q640<>\"\",'Summary List'!Q640,\"\")","v":""},{"$f":"IF('Summary List'!R640<>\"\",'Summary List'!R640,\"\")","v":""},{"$f":"IF('Summary List'!S640<>\"\",'Summary List'!S640,\"\")","v":""},null,{"$f":"IF('Summary List'!M699<>\"\",'Summary List'!M699,\"\")","v":""},{"$f":"IF('Summary List'!N699<>\"\",'Summary List'!N699,\"\")","v":""},{"$f":"IF('Summary List'!O699<>\"\",'Summary List'!O699,\"\")","v":""},{"$f":"IF('Summary List'!P699<>\"\",'Summary List'!P699,\"\")","v":""},{"$f":"IF('Summary List'!Q699<>\"\",'Summary List'!Q699,\"\")","v":""},{"$f":"IF('Summary List'!R699<>\"\",'Summary List'!R699,\"\")","v":""},{"$f":"IF('Summary List'!S699<>\"\",'Summary List'!S699,\"\")","v":""}]
[null,null,{"$f":"IF('Summary List'!M582<>\"\",'Summary List'!M582,\"\")","v":""},{"$f":"IF('Summary List'!N582<>\"\",'Summary List'!N582,\"\")","v":""},{"$f":"IF('Summary List'!O582<>\"\",'Summary List'!O582,\"\")","v":""},{"$f":"IF('Summary List'!P582<>\"\",'Summary List'!P582,\"\")","v":""},{"$f":"IF('Summary List'!Q582<>\"\",'Summary List'!Q582,\"\")","v":""},{"$f":"IF('Summary List'!R582<>\"\",'Summary List'!R582,\"\")","v":""},{"$f":"IF('Summary List'!S582<>\"\",'Summary List'!S582,\"\")","v":""},null,{"$f":"IF('Summary List'!M641<>\"\",'Summary List'!M641,\"\")","v":""},{"$f":"IF('Summary List'!N641<>\"\",'Summary List'!N641,\"\")","v":""},{"$f":"IF('Summary List'!O641<>\"\",'Summary List'!O641,\"\")","v":""},{"$f":"IF('Summary List'!P641<>\"\",'Summary List'!P641,\"\")","v":""},{"$f":"IF('Summary List'!Q641<>\"\",'Summary List'!Q641,\"\")","v":""},{"$f":"IF('Summary List'!R641<>\"\",'Summary List'!R641,\"\")","v":""},{"$f":"IF('Summary List'!S641<>\"\",'Summary List'!S641,\"\")","v":""},null,{"$f":"IF('Summary List'!M700<>\"\",'Summary List'!M700,\"\")","v":""},{"$f":"IF('Summary List'!N700<>\"\",'Summary List'!N700,\"\")","v":""},{"$f":"IF('Summary List'!O700<>\"\",'Summary List'!O700,\"\")","v":""},{"$f":"IF('Summary List'!P700<>\"\",'Summary List'!P700,\"\")","v":""},{"$f":"IF('Summary List'!Q700<>\"\",'Summary List'!Q700,\"\")","v":""},{"$f":"IF('Summary List'!R700<>\"\",'Summary List'!R700,\"\")","v":""},{"$f":"IF('Summary List'!S700<>\"\",'Summary List'!S700,\"\")","v":""}]
[null,null,{"$f":"IF('Summary List'!M583<>\"\",'Summary List'!M583,\"\")","v":""},{"$f":"IF('Summary List'!N583<>\"\",'Summary List'!N583,\"\")","v":""},{"$f":"IF('Summary List'!O583<>\"\",'Summary List'!O583,\"\")","v":""},{"$f":"IF('Summary List'!P583<>\"\",'Summary List'!P583,\"\")","v":""},{"$f":"IF('Summary List'!Q583<>\"\",'Summary List'!Q583,\"\")","v":""},{"$f":"IF('Summary List'!R583<>\"\",'Summary List'!R583,\"\")","v":""},{"$f":"IF('Summary List'!S583<>\"\",'Summary List'!S583,\"\")","v":""},null,{"$f":"IF('Summary List'!M642<>\"\",'Summary List'!M642,\"\")","v":""},{"$f":"IF('Summary List'!N642<>\"\",'Summary List'!N642,\"\")","v":""},{"$f":"IF('Summary List'!O642<>\"\",'Summary List'!O642,\"\")","v":""},{"$f":"IF('Summary List'!P642<>\"\",'Summary List'!P642,\"\")","v":""},{"$f":"IF('Summary List'!Q642<>\"\",'Summary List'!Q642,\"\")","v":""},{"$f":"IF('Summary List'!R642<>\"\",'Summary List'!R642,\"\")","v":""},{"$f":"IF('Summary List'!S642<>\"\",'Summary List'!S642,\"\")","v":""},null,{"$f":"IF('Summary List'!M701<>\"\",'Summary List'!M701,\"\")","v":""},{"$f":"IF('Summary List'!N701<>\"\",'Summary List'!N701,\"\")","v":""},{"$f":"IF('Summary List'!O701<>\"\",'Summary List'!O701,\"\")","v":""},{"$f":"IF('Summary List'!P701<>\"\",'Summary List'!P701,\"\")","v":""},{"$f":"IF('Summary List'!Q701<>\"\",'Summary List'!Q701,\"\")","v":""},{"$f":"IF('Summary List'!R701<>\"\",'Summary List'!R701,\"\")","v":""},{"$f":"IF('Summary List'!S701<>\"\",'Summary List'!S701,\"\")","v":""}]
[null,null,{"$f":"IF('Summary List'!M584<>\"\",'Summary List'!M584,\"\")","v":""},{"$f":"IF('Summary List'!N584<>\"\",'Summary List'!N584,\"\")","v":""},{"$f":"IF('Summary List'!O584<>\"\",'Summary List'!O584,\"\")","v":""},{"$f":"IF('Summary List'!P584<>\"\",'Summary List'!P584,\"\")","v":""},{"$f":"IF('Summary List'!Q584<>\"\",'Summary List'!Q584,\"\")","v":""},{"$f":"IF('Summary List'!R584<>\"\",'Summary List'!R584,\"\")","v":""},{"$f":"IF('Summary List'!S584<>\"\",'Summary List'!S584,\"\")","v":""},null,{"$f":"IF('Summary List'!M643<>\"\",'Summary List'!M643,\"\")","v":""},{"$f":"IF('Summary List'!N643<>\"\",'Summary List'!N643,\"\")","v":""},{"$f":"IF('Summary List'!O643<>\"\",'Summary List'!O643,\"\")","v":""},{"$f":"IF('Summary List'!P643<>\"\",'Summary List'!P643,\"\")","v":""},{"$f":"IF('Summary List'!Q643<>\"\",'Summary List'!Q643,\"\")","v":""},{"$f":"IF('Summary List'!R643<>\"\",'Summary List'!R643,\"\")","v":""},{"$f":"IF('Summary List'!S643<>\"\",'Summary List'!S643,\"\")","v":""},null,{"$f":"IF('Summary List'!M702<>\"\",'Summary List'!M702,\"\")","v":""},{"$f":"IF('Summary List'!N702<>\"\",'Summary List'!N702,\"\")","v":""},{"$f":"IF('Summary List'!O702<>\"\",'Summary List'!O702,\"\")","v":""},{"$f":"IF('Summary List'!P702<>\"\",'Summary List'!P702,\"\")","v":""},{"$f":"IF('Summary List'!Q702<>\"\",'Summary List'!Q702,\"\")","v":""},{"$f":"IF('Summary List'!R702<>\"\",'Summary List'!R702,\"\")","v":""},{"$f":"IF('Summary List'!S702<>\"\",'Summary List'!S702,\"\")","v":""}]
[null,null,{"$f":"IF('Summary List'!M585<>\"\",'Summary List'!M585,\"\")","v":""},{"$f":"IF('Summary List'!N585<>\"\",'Summary List'!N585,\"\")","v":""},{"$f":"IF('Summary List'!O585<>\"\",'Summary List'!O585,\"\")","v":""},{"$f":"IF('Summary List'!P585<>\"\",'Summary List'!P585,\"\")","v":""},{"$f":"IF('Summary List'!Q585<>\"\",'Summary List'!Q585,\"\")","v":""},{"$f":"IF('Summary List'!R585<>\"\",'Summary List'!R585,\"\")","v":""},{"$f":"IF('Summary List'!S585<>\"\",'Summary List'!S585,\"\")","v":""},null,{"$f":"IF('Summary List'!M644<>\"\",'Summary List'!M644,\"\")","v":""},{"$f":"IF('Summary List'!N644<>\"\",'Summary List'!N644,\"\")","v":""},{"$f":"IF('Summary List'!O644<>\"\",'Summary List'!O644,\"\")","v":""},{"$f":"IF('Summary List'!P644<>\"\",'Summary List'!P644,\"\")","v":""},{"$f":"IF('Summary List'!Q644<>\"\",'Summary List'!Q644,\"\")","v":""},{"$f":"IF('Summary List'!R644<>\"\",'Summary List'!R644,\"\")","v":""},{"$f":"IF('Summary List'!S644<>\"\",'Summary List'!S644,\"\")","v":""},null,{"$f":"IF('Summary List'!M703<>\"\",'Summary List'!M703,\"\")","v":""},{"$f":"IF('Summary List'!N703<>\"\",'Summary List'!N703,\"\")","v":""},{"$f":"IF('Summary List'!O703<>\"\",'Summary List'!O703,\"\")","v":""},{"$f":"IF('Summary List'!P703<>\"\",'Summary List'!P703,\"\")","v":""},{"$f":"IF('Summary List'!Q703<>\"\",'Summary List'!Q703,\"\")","v":""},{"$f":"IF('Summary List'!R703<>\"\",'Summary List'!R703,\"\")","v":""},{"$f":"IF('Summary List'!S703<>\"\",'Summary List'!S703,\"\")","v":""}]
[null,null,{"$f":"IF('Summary List'!M586<>\"\",'Summary List'!M586,\"\")","v":""},{"$f":"IF('Summary List'!N586<>\"\",'Summary List'!N586,\"\")","v":""},{"$f":"IF('Summary List'!O586<>\"\",'Summary List'!O586,\"\")","v":""},{"$f":"IF('Summary List'!P586<>\"\",'Summary List'!P586,\"\")","v":""},{"$f":"IF('Summary List'!Q586<>\"\",'Summary List'!Q586,\"\")","v":""},{"$f":"IF('Summary List'!R586<>\"\",'Summary List'!R586,\"\")","v":""},{"$f":"IF('Summary List'!S586<>\"\",'Summary List'!S586,\"\")","v":""},null,{"$f":"IF('Summary List'!M645<>\"\",'Summary List'!M645,\"\")","v":""},{"$f":"IF('Summary List'!N645<>\"\",'Summary List'!N645,\"\")","v":""},{"$f":"IF('Summary List'!O645<>\"\",'Summary List'!O645,\"\")","v":""},{"$f":"IF('Summary List'!P645<>\"\",'Summary List'!P645,\"\")","v":""},{"$f":"IF('Summary List'!Q645<>\"\",'Summary List'!Q645,\"\")","v":""},{"$f":"IF('Summary List'!R645<>\"\",'Summary List'!R645,\"\")","v":""},{"$f":"IF('Summary List'!S645<>\"\",'Summary List'!S645,\"\")","v":""},null,{"$f":"IF('Summary List'!M704<>\"\",'Summary List'!M704,\"\")","v":""},{"$f":"IF('Summary List'!N704<>\"\",'Summary List'!N704,\"\")","v":""},{"$f":"IF('Summary List'!O704<>\"\",'Summary List'!O704,\"\")","v":""},{"$f":"IF('Summary List'!P704<>\"\",'Summary List'!P704,\"\")","v":""},{"$f":"IF('Summary List'!Q704<>\"\",'Summary List'!Q704,\"\")","v":""},{"$f":"IF('Summary List'!R704<>\"\",'Summary List'!R704,\"\")","v":""},{"$f":"IF('Summary List'!S704<>\"\",'Summary List'!S704,\"\")","v":""}]
[null,null,{"$f":"IF('Summary List'!M587<>\"\",'Summary List'!M587,\"\")","v":""},{"$f":"IF('Summary List'!N587<>\"\",'Summary List'!N587,\"\")","v":""},{"$f":"IF('Summary List'!O587<>\"\",'Summary List'!O587,\"\")","v":""},{"$f":"IF('Summary List'!P587<>\"\",'Summary List'!P587,\"\")","v":""},{"$f":"IF('Summary List'!Q587<>\"\",'Summary List'!Q587,\"\")","v":""},{"$f":"IF('Summary List'!R587<>\"\",'Summary List'!R587,\"\")","v":""},{"$f":"IF('Summary List'!S587<>\"\",'Summary List'!S587,\"\")","v":""},null,{"$f":"IF('Summary List'!M646<>\"\",'Summary List'!M646,\"\")","v":""},{"$f":"IF('Summary List'!N646<>\"\",'Summary List'!N646,\"\")","v":""},{"$f":"IF('Summary List'!O646<>\"\",'Summary List'!O646,\"\")","v":""},{"$f":"IF('Summary List'!P646<>\"\",'Summary List'!P646,\"\")","v":""},{"$f":"IF('Summary List'!Q646<>\"\",'Summary List'!Q646,\"\")","v":""},{"$f":"IF('Summary List'!R646<>\"\",'Summary List'!R646,\"\")","v":""},{"$f":"IF('Summary List'!S646<>\"\",'Summary List'!S646,\"\")","v":""},null,{"$f":"IF('Summary List'!M705<>\"\",'Summary List'!M705,\"\")","v":""},{"$f":"IF('Summary List'!N705<>\"\",'Summary List'!N705,\"\")","v":""},{"$f":"IF('Summary List'!O705<>\"\",'Summary List'!O705,\"\")","v":""},{"$f":"IF('Summary List'!P705<>\"\",'Summary List'!P705,\"\")","v":""},{"$f":"IF('Summary List'!Q705<>\"\",'Summary List'!Q705,\"\")","v":""},{"$f":"IF('Summary List'!R705<>\"\",'Summary List'!R705,\"\")","v":""},{"$f":"IF('Summary List'!S705<>\"\",'Summary List'!S705,\"\")","v":""}]
[null,null,{"$f":"IF('Summary List'!M588<>\"\",'Summary List'!M588,\"\")","v":""},{"$f":"IF('Summary List'!N588<>\"\",'Summary List'!N588,\"\")","v":""},{"$f":"IF('Summary List'!O588<>\"\",'Summary List'!O588,\"\")","v":""},{"$f":"IF('Summary List'!P588<>\"\",'Summary List'!P588,\"\")","v":""},{"$f":"IF('Summary List'!Q588<>\"\",'Summary List'!Q588,\"\")","v":""},{"$f":"IF('Summary List'!R588<>\"\",'Summary List'!R588,\"\")","v":""},{"$f":"IF('Summary List'!S588<>\"\",'Summary List'!S588,\"\")","v":""},null,{"$f":"IF('Summary List'!M647<>\"\",'Summary List'!M647,\"\")","v":""},{"$f":"IF('Summary List'!N647<>\"\",'Summary List'!N647,\"\")","v":""},{"$f":"IF('Summary List'!O647<>\"\",'Summary List'!O647,\"\")","v":""},{"$f":"IF('Summary List'!P647<>\"\",'Summary List'!P647,\"\")","v":""},{"$f":"IF('Summary List'!Q647<>\"\",'Summary List'!Q647,\"\")","v":""},{"$f":"IF('Summary List'!R647<>\"\",'Summary List'!R647,\"\")","v":""},{"$f":"IF('Summary List'!S647<>\"\",'Summary List'!S647,\"\")","v":""},null,{"$f":"IF('Summary List'!M706<>\"\",'Summary List'!M706,\"\")","v":""},{"$f":"IF('Summary List'!N706<>\"\",'Summary List'!N706,\"\")","v":""},{"$f":"IF('Summary List'!O706<>\"\",'Summary List'!O706,\"\")","v":""},{"$f":"IF('Summary List'!P706<>\"\",'Summary List'!P706,\"\")","v":""},{"$f":"IF('Summary List'!Q706<>\"\",'Summary List'!Q706,\"\")","v":""},{"$f":"IF('Summary List'!R706<>\"\",'Summary List'!R706,\"\")","v":""},{"$f":"IF('Summary List'!S706<>\"\",'Summary List'!S706,\"\")","v":""}]
[null,null,{"$f":"IF('Summary List'!M589<>\"\",'Summary List'!M589,\"\")","v":""},{"$f":"IF('Summary List'!N589<>\"\",'Summary List'!N589,\"\")","v":""},{"$f":"IF('Summary List'!O589<>\"\",'Summary List'!O589,\"\")","v":""},{"$f":"IF('Summary List'!P589<>\"\",'Summary List'!P589,\"\")","v":""},{"$f":"IF('Summary List'!Q589<>\"\",'Summary List'!Q589,\"\")","v":""},{"$f":"IF('Summary List'!R589<>\"\",'Summary List'!R589,\"\")","v":""},{"$f":"IF('Summary List'!S589<>\"\",'Summary List'!S589,\"\")","v":""},null,{"$f":"IF('Summary List'!M648<>\"\",'Summary List'!M648,\"\")","v":""},{"$f":"IF('Summary List'!N648<>\"\",'Summary List'!N648,\"\")","v":""},{"$f":"IF('Summary List'!O648<>\"\",'Summary List'!O648,\"\")","v":""},{"$f":"IF('Summary List'!P648<>\"\",'Summary List'!P648,\"\")","v":""},{"$f":"IF('Summary List'!Q648<>\"\",'Summary List'!Q648,\"\")","v":""},{"$f":"IF('Summary List'!R648<>\"\",'Summary List'!R648,\"\")","v":""},{"$f":"IF('Summary List'!S648<>\"\",'Summary List'!S648,\"\")","v":""},null,{"$f":"IF('Summary List'!M707<>\"\",'Summary List'!M707,\"\")","v":""},{"$f":"IF('Summary List'!N707<>\"\",'Summary List'!N707,\"\")","v":""},{"$f":"IF('Summary List'!O707<>\"\",'Summary List'!O707,\"\")","v":""},{"$f":"IF('Summary List'!P707<>\"\",'Summary List'!P707,\"\")","v":""},{"$f":"IF('Summary List'!Q707<>\"\",'Summary List'!Q707,\"\")","v":""},{"$f":"IF('Summary List'!R707<>\"\",'Summary List'!R707,\"\")","v":""},{"$f":"IF('Summary List'!S707<>\"\",'Summary List'!S707,\"\")","v":""}]
[null,null,{"$f":"IF('Summary List'!M590<>\"\",'Summary List'!M590,\"\")","v":""},{"$f":"IF('Summary List'!N590<>\"\",'Summary List'!N590,\"\")","v":""},{"$f":"IF('Summary List'!O590<>\"\",'Summary List'!O590,\"\")","v":""},{"$f":"IF('Summary List'!P590<>\"\",'Summary List'!P590,\"\")","v":""},{"$f":"IF('Summary List'!Q590<>\"\",'Summary List'!Q590,\"\")","v":""},{"$f":"IF('Summary List'!R590<>\"\",'Summary List'!R590,\"\")","v":""},{"$f":"IF('Summary List'!S590<>\"\",'Summary List'!S590,\"\")","v":""},null,{"$f":"IF('Summary List'!M649<>\"\",'Summary List'!M649,\"\")","v":""},{"$f":"IF('Summary List'!N649<>\"\",'Summary List'!N649,\"\")","v":""},{"$f":"IF('Summary List'!O649<>\"\",'Summary List'!O649,\"\")","v":""},{"$f":"IF('Summary List'!P649<>\"\",'Summary List'!P649,\"\")","v":""},{"$f":"IF('Summary List'!Q649<>\"\",'Summary List'!Q649,\"\")","v":""},{"$f":"IF('Summary List'!R649<>\"\",'Summary List'!R649,\"\")","v":""},{"$f":"IF('Summary List'!S649<>\"\",'Summary List'!S649,\"\")","v":""},null,{"$f":"IF('Summary List'!M708<>\"\",'Summary List'!M708,\"\")","v":""},{"$f":"IF('Summary List'!N708<>\"\",'Summary List'!N708,\"\")","v":""},{"$f":"IF('Summary List'!O708<>\"\",'Summary List'!O708,\"\")","v":""},{"$f":"IF('Summary List'!P708<>\"\",'Summary List'!P708,\"\")","v":""},{"$f":"IF('Summary List'!Q708<>\"\",'Summary List'!Q708,\"\")","v":""},{"$f":"IF('Summary List'!R708<>\"\",'Summary List'!R708,\"\")","v":""},{"$f":"IF('Summary List'!S708<>\"\",'Summary List'!S708,\"\")","v":""}]
[]
[]
[]
[]
[null,"COMPUTED BY:",null,null,"DATE:",null,null,null,null,null,null,null,null,"(08-05-21)",null,null,null,null,null,null,null,"PROJECT NO.",null,null,"SHEET NO."]
[null,"CHECKED BY:",null,null,"DATE:",null,null,null,null,null,null,null,null,null,null,null,null,null,null,null,null,{"$f":"'General Project Information'!$E$7","v":""},null,null,"3D-",{"$f":"1+Z230","v":7}]
[null,null,null,null,null,null,null,null,null,null,null,null,null,"STATE OF NORTH CAROLINA"]
[null,null,null,null,null,null,null,null,null,null,null,null,null,"DIVISION OF HIGHWAYS"]
[]
[null,null,null,null,"SUMMARY OF STORMWATER CONTROL MEASURES",null,null,null,null,null,null,null,"SUMMARY OF STORMWATER CONTROL MEASURES",null,null,null,null,null,null,null,"SUMMARY OF STORMWATER CONTROL MEASURES"]
[]
[null,null,"CONST SHEET NO.","SCM TYPE","LINE","STATION","Location LT/RT/CL","Latitude","Longitude",null,"CONST SHEET NO.","SCM TYPE","LINE","STATION","Location LT/RT/CL","Latitude","Longitude",null,"CONST SHEET NO.","SCM TYPE","LINE","STATION","Location LT/RT/CL","Latitude","Longitude"]
[]
[]
[]
[null,null,{"$f":"IF('Summary List'!M709<>\"\",'Summary List'!M709,\"\")","v":""},{"$f":"IF('Summary List'!N709<>\"\",'Summary List'!N709,\"\")","v":""},{"$f":"IF('Summary List'!O709<>\"\",'Summary List'!O709,\"\")","v":""},{"$f":"IF('Summary List'!P709<>\"\",'Summary List'!P709,\"\")","v":""},{"$f":"IF('Summary List'!Q709<>\"\",'Summary List'!Q709,\"\")","v":""},{"$f":"IF('Summary List'!R709<>\"\",'Summary List'!R709,\"\")","v":""},{"$f":"IF('Summary List'!S709<>\"\",'Summary List'!S709,\"\")","v":""},null,{"$f":"IF('Summary List'!M768<>\"\",'Summary List'!M768,\"\")","v":""},{"$f":"IF('Summary List'!N768<>\"\",'Summary List'!N768,\"\")","v":""},{"$f":"IF('Summary List'!O768<>\"\",'Summary List'!O768,\"\")","v":""},{"$f":"IF('Summary List'!P768<>\"\",'Summary List'!P768,\"\")","v":""},{"$f":"IF('Summary List'!Q768<>\"\",'Summary List'!Q768,\"\")","v":""},{"$f":"IF('Summary List'!R768<>\"\",'Summary List'!R768,\"\")","v":""},{"$f":"IF('Summary List'!S768<>\"\",'Summary List'!S768,\"\")","v":""},null,{"$f":"IF('Summary List'!M827<>\"\",'Summary List'!M827,\"\")","v":""},{"$f":"IF('Summary List'!N827<>\"\",'Summary List'!N827,\"\")","v":""},{"$f":"IF('Summary List'!O827<>\"\",'Summary List'!O827,\"\")","v":""},{"$f":"IF('Summary List'!P827<>\"\",'Summary List'!P827,\"\")","v":""},{"$f":"IF('Summary List'!Q827<>\"\",'Summary List'!Q827,\"\")","v":""},{"$f":"IF('Summary List'!R827<>\"\",'Summary List'!R827,\"\")","v":""},{"$f":"IF('Summary List'!S827<>\"\",'Summary List'!S827,\"\")","v":""}]
[null,null,{"$f":"IF('Summary List'!M710<>\"\",'Summary List'!M710,\"\")","v":""},{"$f":"IF('Summary List'!N710<>\"\",'Summary List'!N710,\"\")","v":""},{"$f":"IF('Summary List'!O710<>\"\",'Summary List'!O710,\"\")","v":""},{"$f":"IF('Summary List'!P710<>\"\",'Summary List'!P710,\"\")","v":""},{"$f":"IF('Summary List'!Q710<>\"\",'Summary List'!Q710,\"\")","v":""},{"$f":"IF('Summary List'!R710<>\"\",'Summary List'!R710,\"\")","v":""},{"$f":"IF('Summary List'!S710<>\"\",'Summary List'!S710,\"\")","v":""},null,{"$f":"IF('Summary List'!M769<>\"\",'Summary List'!M769,\"\")","v":""},{"$f":"IF('Summary List'!N769<>\"\",'Summary List'!N769,\"\")","v":""},{"$f":"IF('Summary List'!O769<>\"\",'Summary List'!O769,\"\")","v":""},{"$f":"IF('Summary List'!P769<>\"\",'Summary List'!P769,\"\")","v":""},{"$f":"IF('Summary List'!Q769<>\"\",'Summary List'!Q769,\"\")","v":""},{"$f":"IF('Summary List'!R769<>\"\",'Summary List'!R769,\"\")","v":""},{"$f":"IF('Summary List'!S769<>\"\",'Summary List'!S769,\"\")","v":""},null,{"$f":"IF('Summary List'!M828<>\"\",'Summary List'!M828,\"\")","v":""},{"$f":"IF('Summary List'!N828<>\"\",'Summary List'!N828,\"\")","v":""},{"$f":"IF('Summary List'!O828<>\"\",'Summary List'!O828,\"\")","v":""},{"$f":"IF('Summary List'!P828<>\"\",'Summary List'!P828,\"\")","v":""},{"$f":"IF('Summary List'!Q828<>\"\",'Summary List'!Q828,\"\")","v":""},{"$f":"IF('Summary List'!R828<>\"\",'Summary List'!R828,\"\")","v":""},{"$f":"IF('Summary List'!S828<>\"\",'Summary List'!S828,\"\")","v":""}]
[null,null,{"$f":"IF('Summary List'!M711<>\"\",'Summary List'!M711,\"\")","v":""},{"$f":"IF('Summary List'!N711<>\"\",'Summary List'!N711,\"\")","v":""},{"$f":"IF('Summary List'!O711<>\"\",'Summary List'!O711,\"\")","v":""},{"$f":"IF('Summary List'!P711<>\"\",'Summary List'!P711,\"\")","v":""},{"$f":"IF('Summary List'!Q711<>\"\",'Summary List'!Q711,\"\")","v":""},{"$f":"IF('Summary List'!R711<>\"\",'Summary List'!R711,\"\")","v":""},{"$f":"IF('Summary List'!S711<>\"\",'Summary List'!S711,\"\")","v":""},null,{"$f":"IF('Summary List'!M770<>\"\",'Summary List'!M770,\"\")","v":""},{"$f":"IF('Summary List'!N770<>\"\",'Summary List'!N770,\"\")","v":""},{"$f":"IF('Summary List'!O770<>\"\",'Summary List'!O770,\"\")","v":""},{"$f":"IF('Summary List'!P770<>\"\",'Summary List'!P770,\"\")","v":""},{"$f":"IF('Summary List'!Q770<>\"\",'Summary List'!Q770,\"\")","v":""},{"$f":"IF('Summary List'!R770<>\"\",'Summary List'!R770,\"\")","v":""},{"$f":"IF('Summary List'!S770<>\"\",'Summary List'!S770,\"\")","v":""},null,{"$f":"IF('Summary List'!M829<>\"\",'Summary List'!M829,\"\")","v":""},{"$f":"IF('Summary List'!N829<>\"\",'Summary List'!N829,\"\")","v":""},{"$f":"IF('Summary List'!O829<>\"\",'Summary List'!O829,\"\")","v":""},{"$f":"IF('Summary List'!P829<>\"\",'Summary List'!P829,\"\")","v":""},{"$f":"IF('Summary List'!Q829<>\"\",'Summary List'!Q829,\"\")","v":""},{"$f":"IF('Summary List'!R829<>\"\",'Summary List'!R829,\"\")","v":""},{"$f":"IF('Summary List'!S829<>\"\",'Summary List'!S829,\"\")","v":""}]
[null,null,{"$f":"IF('Summary List'!M712<>\"\",'Summary List'!M712,\"\")","v":""},{"$f":"IF('Summary List'!N712<>\"\",'Summary List'!N712,\"\")","v":""},{"$f":"IF('Summary List'!O712<>\"\",'Summary List'!O712,\"\")","v":""},{"$f":"IF('Summary List'!P712<>\"\",'Summary List'!P712,\"\")","v":""},{"$f":"IF('Summary List'!Q712<>\"\",'Summary List'!Q712,\"\")","v":""},{"$f":"IF('Summary List'!R712<>\"\",'Summary List'!R712,\"\")","v":""},{"$f":"IF('Summary List'!S712<>\"\",'Summary List'!S712,\"\")","v":""},null,{"$f":"IF('Summary List'!M771<>\"\",'Summary List'!M771,\"\")","v":""},{"$f":"IF('Summary List'!N771<>\"\",'Summary List'!N771,\"\")","v":""},{"$f":"IF('Summary List'!O771<>\"\",'Summary List'!O771,\"\")","v":""},{"$f":"IF('Summary List'!P771<>\"\",'Summary List'!P771,\"\")","v":""},{"$f":"IF('Summary List'!Q771<>\"\",'Summary List'!Q771,\"\")","v":""},{"$f":"IF('Summary List'!R771<>\"\",'Summary List'!R771,\"\")","v":""},{"$f":"IF('Summary List'!S771<>\"\",'Summary List'!S771,\"\")","v":""},null,{"$f":"IF('Summary List'!M830<>\"\",'Summary List'!M830,\"\")","v":""},{"$f":"IF('Summary List'!N830<>\"\",'Summary List'!N830,\"\")","v":""},{"$f":"IF('Summary List'!O830<>\"\",'Summary List'!O830,\"\")","v":""},{"$f":"IF('Summary List'!P830<>\"\",'Summary List'!P830,\"\")","v":""},{"$f":"IF('Summary List'!Q830<>\"\",'Summary List'!Q830,\"\")","v":""},{"$f":"IF('Summary List'!R830<>\"\",'Summary List'!R830,\"\")","v":""},{"$f":"IF('Summary List'!S830<>\"\",'Summary List'!S830,\"\")","v":""}]
[null,null,{"$f":"IF('Summary List'!M713<>\"\",'Summary List'!M713,\"\")","v":""},{"$f":"IF('Summary List'!N713<>\"\",'Summary List'!N713,\"\")","v":""},{"$f":"IF('Summary List'!O713<>\"\",'Summary List'!O713,\"\")","v":""},{"$f":"IF('Summary List'!P713<>\"\",'Summary List'!P713,\"\")","v":""},{"$f":"IF('Summary List'!Q713<>\"\",'Summary List'!Q713,\"\")","v":""},{"$f":"IF('Summary List'!R713<>\"\",'Summary List'!R713,\"\")","v":""},{"$f":"IF('Summary List'!S713<>\"\",'Summary List'!S713,\"\")","v":""},null,{"$f":"IF('Summary List'!M772<>\"\",'Summary List'!M772,\"\")","v":""},{"$f":"IF('Summary List'!N772<>\"\",'Summary List'!N772,\"\")","v":""},{"$f":"IF('Summary List'!O772<>\"\",'Summary List'!O772,\"\")","v":""},{"$f":"IF('Summary List'!P772<>\"\",'Summary List'!P772,\"\")","v":""},{"$f":"IF('Summary List'!Q772<>\"\",'Summary List'!Q772,\"\")","v":""},{"$f":"IF('Summary List'!R772<>\"\",'Summary List'!R772,\"\")","v":""},{"$f":"IF('Summary List'!S772<>\"\",'Summary List'!S772,\"\")","v":""},null,{"$f":"IF('Summary List'!M831<>\"\",'Summary List'!M831,\"\")","v":""},{"$f":"IF('Summary List'!N831<>\"\",'Summary List'!N831,\"\")","v":""},{"$f":"IF('Summary List'!O831<>\"\",'Summary List'!O831,\"\")","v":""},{"$f":"IF('Summary List'!P831<>\"\",'Summary List'!P831,\"\")","v":""},{"$f":"IF('Summary List'!Q831<>\"\",'Summary List'!Q831,\"\")","v":""},{"$f":"IF('Summary List'!R831<>\"\",'Summary List'!R831,\"\")","v":""},{"$f":"IF('Summary List'!S831<>\"\",'Summary List'!S831,\"\")","v":""}]
[null,null,{"$f":"IF('Summary List'!M714<>\"\",'Summary List'!M714,\"\")","v":""},{"$f":"IF('Summary List'!N714<>\"\",'Summary List'!N714,\"\")","v":""},{"$f":"IF('Summary List'!O714<>\"\",'Summary List'!O714,\"\")","v":""},{"$f":"IF('Summary List'!P714<>\"\",'Summary List'!P714,\"\")","v":""},{"$f":"IF('Summary List'!Q714<>\"\",'Summary List'!Q714,\"\")","v":""},{"$f":"IF('Summary List'!R714<>\"\",'Summary List'!R714,\"\")","v":""},{"$f":"IF('Summary List'!S714<>\"\",'Summary List'!S714,\"\")","v":""},null,{"$f":"IF('Summary List'!M773<>\"\",'Summary List'!M773,\"\")","v":""},{"$f":"IF('Summary List'!N773<>\"\",'Summary List'!N773,\"\")","v":""},{"$f":"IF('Summary List'!O773<>\"\",'Summary List'!O773,\"\")","v":""},{"$f":"IF('Summary List'!P773<>\"\",'Summary List'!P773,\"\")","v":""},{"$f":"IF('Summary List'!Q773<>\"\",'Summary List'!Q773,\"\")","v":""},{"$f":"IF('Summary List'!R773<>\"\",'Summary List'!R773,\"\")","v":""},{"$f":"IF('Summary List'!S773<>\"\",'Summary List'!S773,\"\")","v":""},null,{"$f":"IF('Summary List'!M832<>\"\",'Summary List'!M832,\"\")","v":""},{"$f":"IF('Summary List'!N832<>\"\",'Summary List'!N832,\"\")","v":""},{"$f":"IF('Summary List'!O832<>\"\",'Summary List'!O832,\"\")","v":""},{"$f":"IF('Summary List'!P832<>\"\",'Summary List'!P832,\"\")","v":""},{"$f":"IF('Summary List'!Q832<>\"\",'Summary List'!Q832,\"\")","v":""},{"$f":"IF('Summary List'!R832<>\"\",'Summary List'!R832,\"\")","v":""},{"$f":"IF('Summary List'!S832<>\"\",'Summary List'!S832,\"\")","v":""}]
[null,null,{"$f":"IF('Summary List'!M715<>\"\",'Summary List'!M715,\"\")","v":""},{"$f":"IF('Summary List'!N715<>\"\",'Summary List'!N715,\"\")","v":""},{"$f":"IF('Summary List'!O715<>\"\",'Summary List'!O715,\"\")","v":""},{"$f":"IF('Summary List'!P715<>\"\",'Summary List'!P715,\"\")","v":""},{"$f":"IF('Summary List'!Q715<>\"\",'Summary List'!Q715,\"\")","v":""},{"$f":"IF('Summary List'!R715<>\"\",'Summary List'!R715,\"\")","v":""},{"$f":"IF('Summary List'!S715<>\"\",'Summary List'!S715,\"\")","v":""},null,{"$f":"IF('Summary List'!M774<>\"\",'Summary List'!M774,\"\")","v":""},{"$f":"IF('Summary List'!N774<>\"\",'Summary List'!N774,\"\")","v":""},{"$f":"IF('Summary List'!O774<>\"\",'Summary List'!O774,\"\")","v":""},{"$f":"IF('Summary List'!P774<>\"\",'Summary List'!P774,\"\")","v":""},{"$f":"IF('Summary List'!Q774<>\"\",'Summary List'!Q774,\"\")","v":""},{"$f":"IF('Summary List'!R774<>\"\",'Summary List'!R774,\"\")","v":""},{"$f":"IF('Summary List'!S774<>\"\",'Summary List'!S774,\"\")","v":""},null,{"$f":"IF('Summary List'!M833<>\"\",'Summary List'!M833,\"\")","v":""},{"$f":"IF('Summary List'!N833<>\"\",'Summary List'!N833,\"\")","v":""},{"$f":"IF('Summary List'!O833<>\"\",'Summary List'!O833,\"\")","v":""},{"$f":"IF('Summary List'!P833<>\"\",'Summary List'!P833,\"\")","v":""},{"$f":"IF('Summary List'!Q833<>\"\",'Summary List'!Q833,\"\")","v":""},{"$f":"IF('Summary List'!R833<>\"\",'Summary List'!R833,\"\")","v":""},{"$f":"IF('Summary List'!S833<>\"\",'Summary List'!S833,\"\")","v":""}]
[null,null,{"$f":"IF('Summary List'!M716<>\"\",'Summary List'!M716,\"\")","v":""},{"$f":"IF('Summary List'!N716<>\"\",'Summary List'!N716,\"\")","v":""},{"$f":"IF('Summary List'!O716<>\"\",'Summary List'!O716,\"\")","v":""},{"$f":"IF('Summary List'!P716<>\"\",'Summary List'!P716,\"\")","v":""},{"$f":"IF('Summary List'!Q716<>\"\",'Summary List'!Q716,\"\")","v":""},{"$f":"IF('Summary List'!R716<>\"\",'Summary List'!R716,\"\")","v":""},{"$f":"IF('Summary List'!S716<>\"\",'Summary List'!S716,\"\")","v":""},null,{"$f":"IF('Summary List'!M775<>\"\",'Summary List'!M775,\"\")","v":""},{"$f":"IF('Summary List'!N775<>\"\",'Summary List'!N775,\"\")","v":""},{"$f":"IF('Summary List'!O775<>\"\",'Summary List'!O775,\"\")","v":""},{"$f":"IF('Summary List'!P775<>\"\",'Summary List'!P775,\"\")","v":""},{"$f":"IF('Summary List'!Q775<>\"\",'Summary List'!Q775,\"\")","v":""},{"$f":"IF('Summary List'!R775<>\"\",'Summary List'!R775,\"\")","v":""},{"$f":"IF('Summary List'!S775<>\"\",'Summary List'!S775,\"\")","v":""},null,{"$f":"IF('Summary List'!M834<>\"\",'Summary List'!M834,\"\")","v":""},{"$f":"IF('Summary List'!N834<>\"\",'Summary List'!N834,\"\")","v":""},{"$f":"IF('Summary List'!O834<>\"\",'Summary List'!O834,\"\")","v":""},{"$f":"IF('Summary List'!P834<>\"\",'Summary List'!P834,\"\")","v":""},{"$f":"IF('Summary List'!Q834<>\"\",'Summary List'!Q834,\"\")","v":""},{"$f":"IF('Summary List'!R834<>\"\",'Summary List'!R834,\"\")","v":""},{"$f":"IF('Summary List'!S834<>\"\",'Summary List'!S834,\"\")","v":""}]
[null,null,{"$f":"IF('Summary List'!M717<>\"\",'Summary List'!M717,\"\")","v":""},{"$f":"IF('Summary List'!N717<>\"\",'Summary List'!N717,\"\")","v":""},{"$f":"IF('Summary List'!O717<>\"\",'Summary List'!O717,\"\")","v":""},{"$f":"IF('Summary List'!P717<>\"\",'Summary List'!P717,\"\")","v":""},{"$f":"IF('Summary List'!Q717<>\"\",'Summary List'!Q717,\"\")","v":""},{"$f":"IF('Summary List'!R717<>\"\",'Summary List'!R717,\"\")","v":""},{"$f":"IF('Summary List'!S717<>\"\",'Summary List'!S717,\"\")","v":""},null,{"$f":"IF('Summary List'!M776<>\"\",'Summary List'!M776,\"\")","v":""},{"$f":"IF('Summary List'!N776<>\"\",'Summary List'!N776,\"\")","v":""},{"$f":"IF('Summary List'!O776<>\"\",'Summary List'!O776,\"\")","v":""},{"$f":"IF('Summary List'!P776<>\"\",'Summary List'!P776,\"\")","v":""},{"$f":"IF('Summary List'!Q776<>\"\",'Summary List'!Q776,\"\")","v":""},{"$f":"IF('Summary List'!R776<>\"\",'Summary List'!R776,\"\")","v":""},{"$f":"IF('Summary List'!S776<>\"\",'Summary List'!S776,\"\")","v":""},null,{"$f":"IF('Summary List'!M835<>\"\",'Summary List'!M835,\"\")","v":""},{"$f":"IF('Summary List'!N835<>\"\",'Summary List'!N835,\"\")","v":""},{"$f":"IF('Summary List'!O835<>\"\",'Summary List'!O835,\"\")","v":""},{"$f":"IF('Summary List'!P835<>\"\",'Summary List'!P835,\"\")","v":""},{"$f":"IF('Summary List'!Q835<>\"\",'Summary List'!Q835,\"\")","v":""},{"$f":"IF('Summary List'!R835<>\"\",'Summary List'!R835,\"\")","v":""},{"$f":"IF('Summary List'!S835<>\"\",'Summary List'!S835,\"\")","v":""}]
[null,null,{"$f":"IF('Summary List'!M718<>\"\",'Summary List'!M718,\"\")","v":""},{"$f":"IF('Summary List'!N718<>\"\",'Summary List'!N718,\"\")","v":""},{"$f":"IF('Summary List'!O718<>\"\",'Summary List'!O718,\"\")","v":""},{"$f":"IF('Summary List'!P718<>\"\",'Summary List'!P718,\"\")","v":""},{"$f":"IF('Summary List'!Q718<>\"\",'Summary List'!Q718,\"\")","v":""},{"$f":"IF('Summary List'!R718<>\"\",'Summary List'!R718,\"\")","v":""},{"$f":"IF('Summary List'!S718<>\"\",'Summary List'!S718,\"\")","v":""},null,{"$f":"IF('Summary List'!M777<>\"\",'Summary List'!M777,\"\")","v":""},{"$f":"IF('Summary List'!N777<>\"\",'Summary List'!N777,\"\")","v":""},{"$f":"IF('Summary List'!O777<>\"\",'Summary List'!O777,\"\")","v":""},{"$f":"IF('Summary List'!P777<>\"\",'Summary List'!P777,\"\")","v":""},{"$f":"IF('Summary List'!Q777<>\"\",'Summary List'!Q777,\"\")","v":""},{"$f":"IF('Summary List'!R777<>\"\",'Summary List'!R777,\"\")","v":""},{"$f":"IF('Summary List'!S777<>\"\",'Summary List'!S777,\"\")","v":""},null,{"$f":"IF('Summary List'!M836<>\"\",'Summary List'!M836,\"\")","v":""},{"$f":"IF('Summary List'!N836<>\"\",'Summary List'!N836,\"\")","v":""},{"$f":"IF('Summary List'!O836<>\"\",'Summary List'!O836,\"\")","v":""},{"$f":"IF('Summary List'!P836<>\"\",'Summary List'!P836,\"\")","v":""},{"$f":"IF('Summary List'!Q836<>\"\",'Summary List'!Q836,\"\")","v":""},{"$f":"IF('Summary List'!R836<>\"\",'Summary List'!R836,\"\")","v":""},{"$f":"IF('Summary List'!S836<>\"\",'Summary List'!S836,\"\")","v":""}]
[null,null,{"$f":"IF('Summary List'!M719<>\"\",'Summary List'!M719,\"\")","v":""},{"$f":"IF('Summary List'!N719<>\"\",'Summary List'!N719,\"\")","v":""},{"$f":"IF('Summary List'!O719<>\"\",'Summary List'!O719,\"\")","v":""},{"$f":"IF('Summary List'!P719<>\"\",'Summary List'!P719,\"\")","v":""},{"$f":"IF('Summary List'!Q719<>\"\",'Summary List'!Q719,\"\")","v":""},{"$f":"IF('Summary List'!R719<>\"\",'Summary List'!R719,\"\")","v":""},{"$f":"IF('Summary List'!S719<>\"\",'Summary List'!S719,\"\")","v":""},null,{"$f":"IF('Summary List'!M778<>\"\",'Summary List'!M778,\"\")","v":""},{"$f":"IF('Summary List'!N778<>\"\",'Summary List'!N778,\"\")","v":""},{"$f":"IF('Summary List'!O778<>\"\",'Summary List'!O778,\"\")","v":""},{"$f":"IF('Summary List'!P778<>\"\",'Summary List'!P778,\"\")","v":""},{"$f":"IF('Summary List'!Q778<>\"\",'Summary List'!Q778,\"\")","v":""},{"$f":"IF('Summary List'!R778<>\"\",'Summary List'!R778,\"\")","v":""},{"$f":"IF('Summary List'!S778<>\"\",'Summary List'!S778,\"\")","v":""},null,{"$f":"IF('Summary List'!M837<>\"\",'Summary List'!M837,\"\")","v":""},{"$f":"IF('Summary List'!N837<>\"\",'Summary List'!N837,\"\")","v":""},{"$f":"IF('Summary List'!O837<>\"\",'Summary List'!O837,\"\")","v":""},{"$f":"IF('Summary List'!P837<>\"\",'Summary List'!P837,\"\")","v":""},{"$f":"IF('Summary List'!Q837<>\"\",'Summary List'!Q837,\"\")","v":""},{"$f":"IF('Summary List'!R837<>\"\",'Summary List'!R837,\"\")","v":""},{"$f":"IF('Summary List'!S837<>\"\",'Summary List'!S837,\"\")","v":""}]
[null,null,{"$f":"IF('Summary List'!M720<>\"\",'Summary List'!M720,\"\")","v":""},{"$f":"IF('Summary List'!N720<>\"\",'Summary List'!N720,\"\")","v":""},{"$f":"IF('Summary List'!O720<>\"\",'Summary List'!O720,\"\")","v":""},{"$f":"IF('Summary List'!P720<>\"\",'Summary List'!P720,\"\")","v":""},{"$f":"IF('Summary List'!Q720<>\"\",'Summary List'!Q720,\"\")","v":""},{"$f":"IF('Summary List'!R720<>\"\",'Summary List'!R720,\"\")","v":""},{"$f":"IF('Summary List'!S720<>\"\",'Summary List'!S720,\"\")","v":""},null,{"$f":"IF('Summary List'!M779<>\"\",'Summary List'!M779,\"\")","v":""},{"$f":"IF('Summary List'!N779<>\"\",'Summary List'!N779,\"\")","v":""},{"$f":"IF('Summary List'!O779<>\"\",'Summary List'!O779,\"\")","v":""},{"$f":"IF('Summary List'!P779<>\"\",'Summary List'!P779,\"\")","v":""},{"$f":"IF('Summary List'!Q779<>\"\",'Summary List'!Q779,\"\")","v":""},{"$f":"IF('Summary List'!R779<>\"\",'Summary List'!R779,\"\")","v":""},{"$f":"IF('Summary List'!S779<>\"\",'Summary List'!S779,\"\")","v":""},null,{"$f":"IF('Summary List'!M838<>\"\",'Summary List'!M838,\"\")","v":""},{"$f":"IF('Summary List'!N838<>\"\",'Summary List'!N838,\"\")","v":""},{"$f":"IF('Summary List'!O838<>\"\",'Summary List'!O838,\"\")","v":""},{"$f":"IF('Summary List'!P838<>\"\",'Summary List'!P838,\"\")","v":""},{"$f":"IF('Summary List'!Q838<>\"\",'Summary List'!Q838,\"\")","v":""},{"$f":"IF('Summary List'!R838<>\"\",'Summary List'!R838,\"\")","v":""},{"$f":"IF('Summary List'!S838<>\"\",'Summary List'!S838,\"\")","v":""}]
[null,null,{"$f":"IF('Summary List'!M721<>\"\",'Summary List'!M721,\"\")","v":""},{"$f":"IF('Summary List'!N721<>\"\",'Summary List'!N721,\"\")","v":""},{"$f":"IF('Summary List'!O721<>\"\",'Summary List'!O721,\"\")","v":""},{"$f":"IF('Summary List'!P721<>\"\",'Summary List'!P721,\"\")","v":""},{"$f":"IF('Summary List'!Q721<>\"\",'Summary List'!Q721,\"\")","v":""},{"$f":"IF('Summary List'!R721<>\"\",'Summary List'!R721,\"\")","v":""},{"$f":"IF('Summary List'!S721<>\"\",'Summary List'!S721,\"\")","v":""},null,{"$f":"IF('Summary List'!M780<>\"\",'Summary List'!M780,\"\")","v":""},{"$f":"IF('Summary List'!N780<>\"\",'Summary List'!N780,\"\")","v":""},{"$f":"IF('Summary List'!O780<>\"\",'Summary List'!O780,\"\")","v":""},{"$f":"IF('Summary List'!P780<>\"\",'Summary List'!P780,\"\")","v":""},{"$f":"IF('Summary List'!Q780<>\"\",'Summary List'!Q780,\"\")","v":""},{"$f":"IF('Summary List'!R780<>\"\",'Summary List'!R780,\"\")","v":""},{"$f":"IF('Summary List'!S780<>\"\",'Summary List'!S780,\"\")","v":""},null,{"$f":"IF('Summary List'!M839<>\"\",'Summary List'!M839,\"\")","v":""},{"$f":"IF('Summary List'!N839<>\"\",'Summary List'!N839,\"\")","v":""},{"$f":"IF('Summary List'!O839<>\"\",'Summary List'!O839,\"\")","v":""},{"$f":"IF('Summary List'!P839<>\"\",'Summary List'!P839,\"\")","v":""},{"$f":"IF('Summary List'!Q839<>\"\",'Summary List'!Q839,\"\")","v":""},{"$f":"IF('Summary List'!R839<>\"\",'Summary List'!R839,\"\")","v":""},{"$f":"IF('Summary List'!S839<>\"\",'Summary List'!S839,\"\")","v":""}]
[null,null,{"$f":"IF('Summary List'!M722<>\"\",'Summary List'!M722,\"\")","v":""},{"$f":"IF('Summary List'!N722<>\"\",'Summary List'!N722,\"\")","v":""},{"$f":"IF('Summary List'!O722<>\"\",'Summary List'!O722,\"\")","v":""},{"$f":"IF('Summary List'!P722<>\"\",'Summary List'!P722,\"\")","v":""},{"$f":"IF('Summary List'!Q722<>\"\",'Summary List'!Q722,\"\")","v":""},{"$f":"IF('Summary List'!R722<>\"\",'Summary List'!R722,\"\")","v":""},{"$f":"IF('Summary List'!S722<>\"\",'Summary List'!S722,\"\")","v":""},null,{"$f":"IF('Summary List'!M781<>\"\",'Summary List'!M781,\"\")","v":""},{"$f":"IF('Summary List'!N781<>\"\",'Summary List'!N781,\"\")","v":""},{"$f":"IF('Summary List'!O781<>\"\",'Summary List'!O781,\"\")","v":""},{"$f":"IF('Summary List'!P781<>\"\",'Summary List'!P781,\"\")","v":""},{"$f":"IF('Summary List'!Q781<>\"\",'Summary List'!Q781,\"\")","v":""},{"$f":"IF('Summary List'!R781<>\"\",'Summary List'!R781,\"\")","v":""},{"$f":"IF('Summary List'!S781<>\"\",'Summary List'!S781,\"\")","v":""},null,{"$f":"IF('Summary List'!M840<>\"\",'Summary List'!M840,\"\")","v":""},{"$f":"IF('Summary List'!N840<>\"\",'Summary List'!N840,\"\")","v":""},{"$f":"IF('Summary List'!O840<>\"\",'Summary List'!O840,\"\")","v":""},{"$f":"IF('Summary List'!P840<>\"\",'Summary List'!P840,\"\")","v":""},{"$f":"IF('Summary List'!Q840<>\"\",'Summary List'!Q840,\"\")","v":""},{"$f":"IF('Summary List'!R840<>\"\",'Summary List'!R840,\"\")","v":""},{"$f":"IF('Summary List'!S840<>\"\",'Summary List'!S840,\"\")","v":""}]
[null,null,{"$f":"IF('Summary List'!M723<>\"\",'Summary List'!M723,\"\")","v":""},{"$f":"IF('Summary List'!N723<>\"\",'Summary List'!N723,\"\")","v":""},{"$f":"IF('Summary List'!O723<>\"\",'Summary List'!O723,\"\")","v":""},{"$f":"IF('Summary List'!P723<>\"\",'Summary List'!P723,\"\")","v":""},{"$f":"IF('Summary List'!Q723<>\"\",'Summary List'!Q723,\"\")","v":""},{"$f":"IF('Summary List'!R723<>\"\",'Summary List'!R723,\"\")","v":""},{"$f":"IF('Summary List'!S723<>\"\",'Summary List'!S723,\"\")","v":""},null,{"$f":"IF('Summary List'!M782<>\"\",'Summary List'!M782,\"\")","v":""},{"$f":"IF('Summary List'!N782<>\"\",'Summary List'!N782,\"\")","v":""},{"$f":"IF('Summary List'!O782<>\"\",'Summary List'!O782,\"\")","v":""},{"$f":"IF('Summary List'!P782<>\"\",'Summary List'!P782,\"\")","v":""},{"$f":"IF('Summary List'!Q782<>\"\",'Summary List'!Q782,\"\")","v":""},{"$f":"IF('Summary List'!R782<>\"\",'Summary List'!R782,\"\")","v":""},{"$f":"IF('Summary List'!S782<>\"\",'Summary List'!S782,\"\")","v":""},null,{"$f":"IF('Summary List'!M841<>\"\",'Summary List'!M841,\"\")","v":""},{"$f":"IF('Summary List'!N841<>\"\",'Summary List'!N841,\"\")","v":""},{"$f":"IF('Summary List'!O841<>\"\",'Summary List'!O841,\"\")","v":""},{"$f":"IF('Summary List'!P841<>\"\",'Summary List'!P841,\"\")","v":""},{"$f":"IF('Summary List'!Q841<>\"\",'Summary List'!Q841,\"\")","v":""},{"$f":"IF('Summary List'!R841<>\"\",'Summary List'!R841,\"\")","v":""},{"$f":"IF('Summary List'!S841<>\"\",'Summary List'!S841,\"\")","v":""}]
[null,null,{"$f":"IF('Summary List'!M724<>\"\",'Summary List'!M724,\"\")","v":""},{"$f":"IF('Summary List'!N724<>\"\",'Summary List'!N724,\"\")","v":""},{"$f":"IF('Summary List'!O724<>\"\",'Summary List'!O724,\"\")","v":""},{"$f":"IF('Summary List'!P724<>\"\",'Summary List'!P724,\"\")","v":""},{"$f":"IF('Summary List'!Q724<>\"\",'Summary List'!Q724,\"\")","v":""},{"$f":"IF('Summary List'!R724<>\"\",'Summary List'!R724,\"\")","v":""},{"$f":"IF('Summary List'!S724<>\"\",'Summary List'!S724,\"\")","v":""},null,{"$f":"IF('Summary List'!M783<>\"\",'Summary List'!M783,\"\")","v":""},{"$f":"IF('Summary List'!N783<>\"\",'Summary List'!N783,\"\")","v":""},{"$f":"IF('Summary List'!O783<>\"\",'Summary List'!O783,\"\")","v":""},{"$f":"IF('Summary List'!P783<>\"\",'Summary List'!P783,\"\")","v":""},{"$f":"IF('Summary List'!Q783<>\"\",'Summary List'!Q783,\"\")","v":""},{"$f":"IF('Summary List'!R783<>\"\",'Summary List'!R783,\"\")","v":""},{"$f":"IF('Summary List'!S783<>\"\",'Summary List'!S783,\"\")","v":""},null,{"$f":"IF('Summary List'!M842<>\"\",'Summary List'!M842,\"\")","v":""},{"$f":"IF('Summary List'!N842<>\"\",'Summary List'!N842,\"\")","v":""},{"$f":"IF('Summary List'!O842<>\"\",'Summary List'!O842,\"\")","v":""},{"$f":"IF('Summary List'!P842<>\"\",'Summary List'!P842,\"\")","v":""},{"$f":"IF('Summary List'!Q842<>\"\",'Summary List'!Q842,\"\")","v":""},{"$f":"IF('Summary List'!R842<>\"\",'Summary List'!R842,\"\")","v":""},{"$f":"IF('Summary List'!S842<>\"\",'Summary List'!S842,\"\")","v":""}]
[null,null,{"$f":"IF('Summary List'!M725<>\"\",'Summary List'!M725,\"\")","v":""},{"$f":"IF('Summary List'!N725<>\"\",'Summary List'!N725,\"\")","v":""},{"$f":"IF('Summary List'!O725<>\"\",'Summary List'!O725,\"\")","v":""},{"$f":"IF('Summary List'!P725<>\"\",'Summary List'!P725,\"\")","v":""},{"$f":"IF('Summary List'!Q725<>\"\",'Summary List'!Q725,\"\")","v":""},{"$f":"IF('Summary List'!R725<>\"\",'Summary List'!R725,\"\")","v":""},{"$f":"IF('Summary List'!S725<>\"\",'Summary List'!S725,\"\")","v":""},null,{"$f":"IF('Summary List'!M784<>\"\",'Summary List'!M784,\"\")","v":""},{"$f":"IF('Summary List'!N784<>\"\",'Summary List'!N784,\"\")","v":""},{"$f":"IF('Summary List'!O784<>\"\",'Summary List'!O784,\"\")","v":""},{"$f":"IF('Summary List'!P784<>\"\",'Summary List'!P784,\"\")","v":""},{"$f":"IF('Summary List'!Q784<>\"\",'Summary List'!Q784,\"\")","v":""},{"$f":"IF('Summary List'!R784<>\"\",'Summary List'!R784,\"\")","v":""},{"$f":"IF('Summary List'!S784<>\"\",'Summary List'!S784,\"\")","v":""},null,{"$f":"IF('Summary List'!M843<>\"\",'Summary List'!M843,\"\")","v":""},{"$f":"IF('Summary List'!N843<>\"\",'Summary List'!N843,\"\")","v":""},{"$f":"IF('Summary List'!O843<>\"\",'Summary List'!O843,\"\")","v":""},{"$f":"IF('Summary List'!P843<>\"\",'Summary List'!P843,\"\")","v":""},{"$f":"IF('Summary List'!Q843<>\"\",'Summary List'!Q843,\"\")","v":""},{"$f":"IF('Summary List'!R843<>\"\",'Summary List'!R843,\"\")","v":""},{"$f":"IF('Summary List'!S843<>\"\",'Summary List'!S843,\"\")","v":""}]
[null,null,{"$f":"IF('Summary List'!M726<>\"\",'Summary List'!M726,\"\")","v":""},{"$f":"IF('Summary List'!N726<>\"\",'Summary List'!N726,\"\")","v":""},{"$f":"IF('Summary List'!O726<>\"\",'Summary List'!O726,\"\")","v":""},{"$f":"IF('Summary List'!P726<>\"\",'Summary List'!P726,\"\")","v":""},{"$f":"IF('Summary List'!Q726<>\"\",'Summary List'!Q726,\"\")","v":""},{"$f":"IF('Summary List'!R726<>\"\",'Summary List'!R726,\"\")","v":""},{"$f":"IF('Summary List'!S726<>\"\",'Summary List'!S726,\"\")","v":""},null,{"$f":"IF('Summary List'!M785<>\"\",'Summary List'!M785,\"\")","v":""},{"$f":"IF('Summary List'!N785<>\"\",'Summary List'!N785,\"\")","v":""},{"$f":"IF('Summary List'!O785<>\"\",'Summary List'!O785,\"\")","v":""},{"$f":"IF('Summary List'!P785<>\"\",'Summary List'!P785,\"\")","v":""},{"$f":"IF('Summary List'!Q785<>\"\",'Summary List'!Q785,\"\")","v":""},{"$f":"IF('Summary List'!R785<>\"\",'Summary List'!R785,\"\")","v":""},{"$f":"IF('Summary List'!S785<>\"\",'Summary List'!S785,\"\")","v":""},null,{"$f":"IF('Summary List'!M844<>\"\",'Summary List'!M844,\"\")","v":""},{"$f":"IF('Summary List'!N844<>\"\",'Summary List'!N844,\"\")","v":""},{"$f":"IF('Summary List'!O844<>\"\",'Summary List'!O844,\"\")","v":""},{"$f":"IF('Summary List'!P844<>\"\",'Summary List'!P844,\"\")","v":""},{"$f":"IF('Summary List'!Q844<>\"\",'Summary List'!Q844,\"\")","v":""},{"$f":"IF('Summary List'!R844<>\"\",'Summary List'!R844,\"\")","v":""},{"$f":"IF('Summary List'!S844<>\"\",'Summary List'!S844,\"\")","v":""}]
[null,null,{"$f":"IF('Summary List'!M727<>\"\",'Summary List'!M727,\"\")","v":""},{"$f":"IF('Summary List'!N727<>\"\",'Summary List'!N727,\"\")","v":""},{"$f":"IF('Summary List'!O727<>\"\",'Summary List'!O727,\"\")","v":""},{"$f":"IF('Summary List'!P727<>\"\",'Summary List'!P727,\"\")","v":""},{"$f":"IF('Summary List'!Q727<>\"\",'Summary List'!Q727,\"\")","v":""},{"$f":"IF('Summary List'!R727<>\"\",'Summary List'!R727,\"\")","v":""},{"$f":"IF('Summary List'!S727<>\"\",'Summary List'!S727,\"\")","v":""},null,{"$f":"IF('Summary List'!M786<>\"\",'Summary List'!M786,\"\")","v":""},{"$f":"IF('Summary List'!N786<>\"\",'Summary List'!N786,\"\")","v":""},{"$f":"IF('Summary List'!O786<>\"\",'Summary List'!O786,\"\")","v":""},{"$f":"IF('Summary List'!P786<>\"\",'Summary List'!P786,\"\")","v":""},{"$f":"IF('Summary List'!Q786<>\"\",'Summary List'!Q786,\"\")","v":""},{"$f":"IF('Summary List'!R786<>\"\",'Summary List'!R786,\"\")","v":""},{"$f":"IF('Summary List'!S786<>\"\",'Summary List'!S786,\"\")","v":""},null,{"$f":"IF('Summary List'!M845<>\"\",'Summary List'!M845,\"\")","v":""},{"$f":"IF('Summary List'!N845<>\"\",'Summary List'!N845,\"\")","v":""},{"$f":"IF('Summary List'!O845<>\"\",'Summary List'!O845,\"\")","v":""},{"$f":"IF('Summary List'!P845<>\"\",'Summary List'!P845,\"\")","v":""},{"$f":"IF('Summary List'!Q845<>\"\",'Summary List'!Q845,\"\")","v":""},{"$f":"IF('Summary List'!R845<>\"\",'Summary List'!R845,\"\")","v":""},{"$f":"IF('Summary List'!S845<>\"\",'Summary List'!S845,\"\")","v":""}]
[null,null,{"$f":"IF('Summary List'!M728<>\"\",'Summary List'!M728,\"\")","v":""},{"$f":"IF('Summary List'!N728<>\"\",'Summary List'!N728,\"\")","v":""},{"$f":"IF('Summary List'!O728<>\"\",'Summary List'!O728,\"\")","v":""},{"$f":"IF('Summary List'!P728<>\"\",'Summary List'!P728,\"\")","v":""},{"$f":"IF('Summary List'!Q728<>\"\",'Summary List'!Q728,\"\")","v":""},{"$f":"IF('Summary List'!R728<>\"\",'Summary List'!R728,\"\")","v":""},{"$f":"IF('Summary List'!S728<>\"\",'Summary List'!S728,\"\")","v":""},null,{"$f":"IF('Summary List'!M787<>\"\",'Summary List'!M787,\"\")","v":""},{"$f":"IF('Summary List'!N787<>\"\",'Summary List'!N787,\"\")","v":""},{"$f":"IF('Summary List'!O787<>\"\",'Summary List'!O787,\"\")","v":""},{"$f":"IF('Summary List'!P787<>\"\",'Summary List'!P787,\"\")","v":""},{"$f":"IF('Summary List'!Q787<>\"\",'Summary List'!Q787,\"\")","v":""},{"$f":"IF('Summary List'!R787<>\"\",'Summary List'!R787,\"\")","v":""},{"$f":"IF('Summary List'!S787<>\"\",'Summary List'!S787,\"\")","v":""},null,{"$f":"IF('Summary List'!M846<>\"\",'Summary List'!M846,\"\")","v":""},{"$f":"IF('Summary List'!N846<>\"\",'Summary List'!N846,\"\")","v":""},{"$f":"IF('Summary List'!O846<>\"\",'Summary List'!O846,\"\")","v":""},{"$f":"IF('Summary List'!P846<>\"\",'Summary List'!P846,\"\")","v":""},{"$f":"IF('Summary List'!Q846<>\"\",'Summary List'!Q846,\"\")","v":""},{"$f":"IF('Summary List'!R846<>\"\",'Summary List'!R846,\"\")","v":""},{"$f":"IF('Summary List'!S846<>\"\",'Summary List'!S846,\"\")","v":""}]
[null,null,{"$f":"IF('Summary List'!M729<>\"\",'Summary List'!M729,\"\")","v":""},{"$f":"IF('Summary List'!N729<>\"\",'Summary List'!N729,\"\")","v":""},{"$f":"IF('Summary List'!O729<>\"\",'Summary List'!O729,\"\")","v":""},{"$f":"IF('Summary List'!P729<>\"\",'Summary List'!P729,\"\")","v":""},{"$f":"IF('Summary List'!Q729<>\"\",'Summary List'!Q729,\"\")","v":""},{"$f":"IF('Summary List'!R729<>\"\",'Summary List'!R729,\"\")","v":""},{"$f":"IF('Summary List'!S729<>\"\",'Summary List'!S729,\"\")","v":""},null,{"$f":"IF('Summary List'!M788<>\"\",'Summary List'!M788,\"\")","v":""},{"$f":"IF('Summary List'!N788<>\"\",'Summary List'!N788,\"\")","v":""},{"$f":"IF('Summary List'!O788<>\"\",'Summary List'!O788,\"\")","v":""},{"$f":"IF('Summary List'!P788<>\"\",'Summary List'!P788,\"\")","v":""},{"$f":"IF('Summary List'!Q788<>\"\",'Summary List'!Q788,\"\")","v":""},{"$f":"IF('Summary List'!R788<>\"\",'Summary List'!R788,\"\")","v":""},{"$f":"IF('Summary List'!S788<>\"\",'Summary List'!S788,\"\")","v":""},null,{"$f":"IF('Summary List'!M847<>\"\",'Summary List'!M847,\"\")","v":""},{"$f":"IF('Summary List'!N847<>\"\",'Summary List'!N847,\"\")","v":""},{"$f":"IF('Summary List'!O847<>\"\",'Summary List'!O847,\"\")","v":""},{"$f":"IF('Summary List'!P847<>\"\",'Summary List'!P847,\"\")","v":""},{"$f":"IF('Summary List'!Q847<>\"\",'Summary List'!Q847,\"\")","v":""},{"$f":"IF('Summary List'!R847<>\"\",'Summary List'!R847,\"\")","v":""},{"$f":"IF('Summary List'!S847<>\"\",'Summary List'!S847,\"\")","v":""}]
[null,null,{"$f":"IF('Summary List'!M730<>\"\",'Summary List'!M730,\"\")","v":""},{"$f":"IF('Summary List'!N730<>\"\",'Summary List'!N730,\"\")","v":""},{"$f":"IF('Summary List'!O730<>\"\",'Summary List'!O730,\"\")","v":""},{"$f":"IF('Summary List'!P730<>\"\",'Summary List'!P730,\"\")","v":""},{"$f":"IF('Summary List'!Q730<>\"\",'Summary List'!Q730,\"\")","v":""},{"$f":"IF('Summary List'!R730<>\"\",'Summary List'!R730,\"\")","v":""},{"$f":"IF('Summary List'!S730<>\"\",'Summary List'!S730,\"\")","v":""},null,{"$f":"IF('Summary List'!M789<>\"\",'Summary List'!M789,\"\")","v":""},{"$f":"IF('Summary List'!N789<>\"\",'Summary List'!N789,\"\")","v":""},{"$f":"IF('Summary List'!O789<>\"\",'Summary List'!O789,\"\")","v":""},{"$f":"IF('Summary List'!P789<>\"\",'Summary List'!P789,\"\")","v":""},{"$f":"IF('Summary List'!Q789<>\"\",'Summary List'!Q789,\"\")","v":""},{"$f":"IF('Summary List'!R789<>\"\",'Summary List'!R789,\"\")","v":""},{"$f":"IF('Summary List'!S789<>\"\",'Summary List'!S789,\"\")","v":""},null,{"$f":"IF('Summary List'!M848<>\"\",'Summary List'!M848,\"\")","v":""},{"$f":"IF('Summary List'!N848<>\"\",'Summary List'!N848,\"\")","v":""},{"$f":"IF('Summary List'!O848<>\"\",'Summary List'!O848,\"\")","v":""},{"$f":"IF('Summary List'!P848<>\"\",'Summary List'!P848,\"\")","v":""},{"$f":"IF('Summary List'!Q848<>\"\",'Summary List'!Q848,\"\")","v":""},{"$f":"IF('Summary List'!R848<>\"\",'Summary List'!R848,\"\")","v":""},{"$f":"IF('Summary List'!S848<>\"\",'Summary List'!S848,\"\")","v":""}]
[null,null,{"$f":"IF('Summary List'!M731<>\"\",'Summary List'!M731,\"\")","v":""},{"$f":"IF('Summary List'!N731<>\"\",'Summary List'!N731,\"\")","v":""},{"$f":"IF('Summary List'!O731<>\"\",'Summary List'!O731,\"\")","v":""},{"$f":"IF('Summary List'!P731<>\"\",'Summary List'!P731,\"\")","v":""},{"$f":"IF('Summary List'!Q731<>\"\",'Summary List'!Q731,\"\")","v":""},{"$f":"IF('Summary List'!R731<>\"\",'Summary List'!R731,\"\")","v":""},{"$f":"IF('Summary List'!S731<>\"\",'Summary List'!S731,\"\")","v":""},null,{"$f":"IF('Summary List'!M790<>\"\",'Summary List'!M790,\"\")","v":""},{"$f":"IF('Summary List'!N790<>\"\",'Summary List'!N790,\"\")","v":""},{"$f":"IF('Summary List'!O790<>\"\",'Summary List'!O790,\"\")","v":""},{"$f":"IF('Summary List'!P790<>\"\",'Summary List'!P790,\"\")","v":""},{"$f":"IF('Summary List'!Q790<>\"\",'Summary List'!Q790,\"\")","v":""},{"$f":"IF('Summary List'!R790<>\"\",'Summary List'!R790,\"\")","v":""},{"$f":"IF('Summary List'!S790<>\"\",'Summary List'!S790,\"\")","v":""},null,{"$f":"IF('Summary List'!M849<>\"\",'Summary List'!M849,\"\")","v":""},{"$f":"IF('Summary List'!N849<>\"\",'Summary List'!N849,\"\")","v":""},{"$f":"IF('Summary List'!O849<>\"\",'Summary List'!O849,\"\")","v":""},{"$f":"IF('Summary List'!P849<>\"\",'Summary List'!P849,\"\")","v":""},{"$f":"IF('Summary List'!Q849<>\"\",'Summary List'!Q849,\"\")","v":""},{"$f":"IF('Summary List'!R849<>\"\",'Summary List'!R849,\"\")","v":""},{"$f":"IF('Summary List'!S849<>\"\",'Summary List'!S849,\"\")","v":""}]
[null,null,{"$f":"IF('Summary List'!M732<>\"\",'Summary List'!M732,\"\")","v":""},{"$f":"IF('Summary List'!N732<>\"\",'Summary List'!N732,\"\")","v":""},{"$f":"IF('Summary List'!O732<>\"\",'Summary List'!O732,\"\")","v":""},{"$f":"IF('Summary List'!P732<>\"\",'Summary List'!P732,\"\")","v":""},{"$f":"IF('Summary List'!Q732<>\"\",'Summary List'!Q732,\"\")","v":""},{"$f":"IF('Summary List'!R732<>\"\",'Summary List'!R732,\"\")","v":""},{"$f":"IF('Summary List'!S732<>\"\",'Summary List'!S732,\"\")","v":""},null,{"$f":"IF('Summary List'!M791<>\"\",'Summary List'!M791,\"\")","v":""},{"$f":"IF('Summary List'!N791<>\"\",'Summary List'!N791,\"\")","v":""},{"$f":"IF('Summary List'!O791<>\"\",'Summary List'!O791,\"\")","v":""},{"$f":"IF('Summary List'!P791<>\"\",'Summary List'!P791,\"\")","v":""},{"$f":"IF('Summary List'!Q791<>\"\",'Summary List'!Q791,\"\")","v":""},{"$f":"IF('Summary List'!R791<>\"\",'Summary List'!R791,\"\")","v":""},{"$f":"IF('Summary List'!S791<>\"\",'Summary List'!S791,\"\")","v":""},null,{"$f":"IF('Summary List'!M850<>\"\",'Summary List'!M850,\"\")","v":""},{"$f":"IF('Summary List'!N850<>\"\",'Summary List'!N850,\"\")","v":""},{"$f":"IF('Summary List'!O850<>\"\",'Summary List'!O850,\"\")","v":""},{"$f":"IF('Summary List'!P850<>\"\",'Summary List'!P850,\"\")","v":""},{"$f":"IF('Summary List'!Q850<>\"\",'Summary List'!Q850,\"\")","v":""},{"$f":"IF('Summary List'!R850<>\"\",'Summary List'!R850,\"\")","v":""},{"$f":"IF('Summary List'!S850<>\"\",'Summary List'!S850,\"\")","v":""}]
[null,null,{"$f":"IF('Summary List'!M733<>\"\",'Summary List'!M733,\"\")","v":""},{"$f":"IF('Summary List'!N733<>\"\",'Summary List'!N733,\"\")","v":""},{"$f":"IF('Summary List'!O733<>\"\",'Summary List'!O733,\"\")","v":""},{"$f":"IF('Summary List'!P733<>\"\",'Summary List'!P733,\"\")","v":""},{"$f":"IF('Summary List'!Q733<>\"\",'Summary List'!Q733,\"\")","v":""},{"$f":"IF('Summary List'!R733<>\"\",'Summary List'!R733,\"\")","v":""},{"$f":"IF('Summary List'!S733<>\"\",'Summary List'!S733,\"\")","v":""},null,{"$f":"IF('Summary List'!M792<>\"\",'Summary List'!M792,\"\")","v":""},{"$f":"IF('Summary List'!N792<>\"\",'Summary List'!N792,\"\")","v":""},{"$f":"IF('Summary List'!O792<>\"\",'Summary List'!O792,\"\")","v":""},{"$f":"IF('Summary List'!P792<>\"\",'Summary List'!P792,\"\")","v":""},{"$f":"IF('Summary List'!Q792<>\"\",'Summary List'!Q792,\"\")","v":""},{"$f":"IF('Summary List'!R792<>\"\",'Summary List'!R792,\"\")","v":""},{"$f":"IF('Summary List'!S792<>\"\",'Summary List'!S792,\"\")","v":""},null,{"$f":"IF('Summary List'!M851<>\"\",'Summary List'!M851,\"\")","v":""},{"$f":"IF('Summary List'!N851<>\"\",'Summary List'!N851,\"\")","v":""},{"$f":"IF('Summary List'!O851<>\"\",'Summary List'!O851,\"\")","v":""},{"$f":"IF('Summary List'!P851<>\"\",'Summary List'!P851,\"\")","v":""},{"$f":"IF('Summary List'!Q851<>\"\",'Summary List'!Q851,\"\")","v":""},{"$f":"IF('Summary List'!R851<>\"\",'Summary List'!R851,\"\")","v":""},{"$f":"IF('Summary List'!S851<>\"\",'Summary List'!S851,\"\")","v":""}]
[null,null,{"$f":"IF('Summary List'!M734<>\"\",'Summary List'!M734,\"\")","v":""},{"$f":"IF('Summary List'!N734<>\"\",'Summary List'!N734,\"\")","v":""},{"$f":"IF('Summary List'!O734<>\"\",'Summary List'!O734,\"\")","v":""},{"$f":"IF('Summary List'!P734<>\"\",'Summary List'!P734,\"\")","v":""},{"$f":"IF('Summary List'!Q734<>\"\",'Summary List'!Q734,\"\")","v":""},{"$f":"IF('Summary List'!R734<>\"\",'Summary List'!R734,\"\")","v":""},{"$f":"IF('Summary List'!S734<>\"\",'Summary List'!S734,\"\")","v":""},null,{"$f":"IF('Summary List'!M793<>\"\",'Summary List'!M793,\"\")","v":""},{"$f":"IF('Summary List'!N793<>\"\",'Summary List'!N793,\"\")","v":""},{"$f":"IF('Summary List'!O793<>\"\",'Summary List'!O793,\"\")","v":""},{"$f":"IF('Summary List'!P793<>\"\",'Summary List'!P793,\"\")","v":""},{"$f":"IF('Summary List'!Q793<>\"\",'Summary List'!Q793,\"\")","v":""},{"$f":"IF('Summary List'!R793<>\"\",'Summary List'!R793,\"\")","v":""},{"$f":"IF('Summary List'!S793<>\"\",'Summary List'!S793,\"\")","v":""},null,{"$f":"IF('Summary List'!M852<>\"\",'Summary List'!M852,\"\")","v":""},{"$f":"IF('Summary List'!N852<>\"\",'Summary List'!N852,\"\")","v":""},{"$f":"IF('Summary List'!O852<>\"\",'Summary List'!O852,\"\")","v":""},{"$f":"IF('Summary List'!P852<>\"\",'Summary List'!P852,\"\")","v":""},{"$f":"IF('Summary List'!Q852<>\"\",'Summary List'!Q852,\"\")","v":""},{"$f":"IF('Summary List'!R852<>\"\",'Summary List'!R852,\"\")","v":""},{"$f":"IF('Summary List'!S852<>\"\",'Summary List'!S852,\"\")","v":""}]
[null,null,{"$f":"IF('Summary List'!M735<>\"\",'Summary List'!M735,\"\")","v":""},{"$f":"IF('Summary List'!N735<>\"\",'Summary List'!N735,\"\")","v":""},{"$f":"IF('Summary List'!O735<>\"\",'Summary List'!O735,\"\")","v":""},{"$f":"IF('Summary List'!P735<>\"\",'Summary List'!P735,\"\")","v":""},{"$f":"IF('Summary List'!Q735<>\"\",'Summary List'!Q735,\"\")","v":""},{"$f":"IF('Summary List'!R735<>\"\",'Summary List'!R735,\"\")","v":""},{"$f":"IF('Summary List'!S735<>\"\",'Summary List'!S735,\"\")","v":""},null,{"$f":"IF('Summary List'!M794<>\"\",'Summary List'!M794,\"\")","v":""},{"$f":"IF('Summary List'!N794<>\"\",'Summary List'!N794,\"\")","v":""},{"$f":"IF('Summary List'!O794<>\"\",'Summary List'!O794,\"\")","v":""},{"$f":"IF('Summary List'!P794<>\"\",'Summary List'!P794,\"\")","v":""},{"$f":"IF('Summary List'!Q794<>\"\",'Summary List'!Q794,\"\")","v":""},{"$f":"IF('Summary List'!R794<>\"\",'Summary List'!R794,\"\")","v":""},{"$f":"IF('Summary List'!S794<>\"\",'Summary List'!S794,\"\")","v":""},null,{"$f":"IF('Summary List'!M853<>\"\",'Summary List'!M853,\"\")","v":""},{"$f":"IF('Summary List'!N853<>\"\",'Summary List'!N853,\"\")","v":""},{"$f":"IF('Summary List'!O853<>\"\",'Summary List'!O853,\"\")","v":""},{"$f":"IF('Summary List'!P853<>\"\",'Summary List'!P853,\"\")","v":""},{"$f":"IF('Summary List'!Q853<>\"\",'Summary List'!Q853,\"\")","v":""},{"$f":"IF('Summary List'!R853<>\"\",'Summary List'!R853,\"\")","v":""},{"$f":"IF('Summary List'!S853<>\"\",'Summary List'!S853,\"\")","v":""}]
[null,null,{"$f":"IF('Summary List'!M736<>\"\",'Summary List'!M736,\"\")","v":""},{"$f":"IF('Summary List'!N736<>\"\",'Summary List'!N736,\"\")","v":""},{"$f":"IF('Summary List'!O736<>\"\",'Summary List'!O736,\"\")","v":""},{"$f":"IF('Summary List'!P736<>\"\",'Summary List'!P736,\"\")","v":""},{"$f":"IF('Summary List'!Q736<>\"\",'Summary List'!Q736,\"\")","v":""},{"$f":"IF('Summary List'!R736<>\"\",'Summary List'!R736,\"\")","v":""},{"$f":"IF('Summary List'!S736<>\"\",'Summary List'!S736,\"\")","v":""},null,{"$f":"IF('Summary List'!M795<>\"\",'Summary List'!M795,\"\")","v":""},{"$f":"IF('Summary List'!N795<>\"\",'Summary List'!N795,\"\")","v":""},{"$f":"IF('Summary List'!O795<>\"\",'Summary List'!O795,\"\")","v":""},{"$f":"IF('Summary List'!P795<>\"\",'Summary List'!P795,\"\")","v":""},{"$f":"IF('Summary List'!Q795<>\"\",'Summary List'!Q795,\"\")","v":""},{"$f":"IF('Summary List'!R795<>\"\",'Summary List'!R795,\"\")","v":""},{"$f":"IF('Summary List'!S795<>\"\",'Summary List'!S795,\"\")","v":""},null,{"$f":"IF('Summary List'!M854<>\"\",'Summary List'!M854,\"\")","v":""},{"$f":"IF('Summary List'!N854<>\"\",'Summary List'!N854,\"\")","v":""},{"$f":"IF('Summary List'!O854<>\"\",'Summary List'!O854,\"\")","v":""},{"$f":"IF('Summary List'!P854<>\"\",'Summary List'!P854,\"\")","v":""},{"$f":"IF('Summary List'!Q854<>\"\",'Summary List'!Q854,\"\")","v":""},{"$f":"IF('Summary List'!R854<>\"\",'Summary List'!R854,\"\")","v":""},{"$f":"IF('Summary List'!S854<>\"\",'Summary List'!S854,\"\")","v":""}]
[null,null,{"$f":"IF('Summary List'!M737<>\"\",'Summary List'!M737,\"\")","v":""},{"$f":"IF('Summary List'!N737<>\"\",'Summary List'!N737,\"\")","v":""},{"$f":"IF('Summary List'!O737<>\"\",'Summary List'!O737,\"\")","v":""},{"$f":"IF('Summary List'!P737<>\"\",'Summary List'!P737,\"\")","v":""},{"$f":"IF('Summary List'!Q737<>\"\",'Summary List'!Q737,\"\")","v":""},{"$f":"IF('Summary List'!R737<>\"\",'Summary List'!R737,\"\")","v":""},{"$f":"IF('Summary List'!S737<>\"\",'Summary List'!S737,\"\")","v":""},null,{"$f":"IF('Summary List'!M796<>\"\",'Summary List'!M796,\"\")","v":""},{"$f":"IF('Summary List'!N796<>\"\",'Summary List'!N796,\"\")","v":""},{"$f":"IF('Summary List'!O796<>\"\",'Summary List'!O796,\"\")","v":""},{"$f":"IF('Summary List'!P796<>\"\",'Summary List'!P796,\"\")","v":""},{"$f":"IF('Summary List'!Q796<>\"\",'Summary List'!Q796,\"\")","v":""},{"$f":"IF('Summary List'!R796<>\"\",'Summary List'!R796,\"\")","v":""},{"$f":"IF('Summary List'!S796<>\"\",'Summary List'!S796,\"\")","v":""},null,{"$f":"IF('Summary List'!M855<>\"\",'Summary List'!M855,\"\")","v":""},{"$f":"IF('Summary List'!N855<>\"\",'Summary List'!N855,\"\")","v":""},{"$f":"IF('Summary List'!O855<>\"\",'Summary List'!O855,\"\")","v":""},{"$f":"IF('Summary List'!P855<>\"\",'Summary List'!P855,\"\")","v":""},{"$f":"IF('Summary List'!Q855<>\"\",'Summary List'!Q855,\"\")","v":""},{"$f":"IF('Summary List'!R855<>\"\",'Summary List'!R855,\"\")","v":""},{"$f":"IF('Summary List'!S855<>\"\",'Summary List'!S855,\"\")","v":""}]
[null,null,{"$f":"IF('Summary List'!M738<>\"\",'Summary List'!M738,\"\")","v":""},{"$f":"IF('Summary List'!N738<>\"\",'Summary List'!N738,\"\")","v":""},{"$f":"IF('Summary List'!O738<>\"\",'Summary List'!O738,\"\")","v":""},{"$f":"IF('Summary List'!P738<>\"\",'Summary List'!P738,\"\")","v":""},{"$f":"IF('Summary List'!Q738<>\"\",'Summary List'!Q738,\"\")","v":""},{"$f":"IF('Summary List'!R738<>\"\",'Summary List'!R738,\"\")","v":""},{"$f":"IF('Summary List'!S738<>\"\",'Summary List'!S738,\"\")","v":""},null,{"$f":"IF('Summary List'!M797<>\"\",'Summary List'!M797,\"\")","v":""},{"$f":"IF('Summary List'!N797<>\"\",'Summary List'!N797,\"\")","v":""},{"$f":"IF('Summary List'!O797<>\"\",'Summary List'!O797,\"\")","v":""},{"$f":"IF('Summary List'!P797<>\"\",'Summary List'!P797,\"\")","v":""},{"$f":"IF('Summary List'!Q797<>\"\",'Summary List'!Q797,\"\")","v":""},{"$f":"IF('Summary List'!R797<>\"\",'Summary List'!R797,\"\")","v":""},{"$f":"IF('Summary List'!S797<>\"\",'Summary List'!S797,\"\")","v":""},null,{"$f":"IF('Summary List'!M856<>\"\",'Summary List'!M856,\"\")","v":""},{"$f":"IF('Summary List'!N856<>\"\",'Summary List'!N856,\"\")","v":""},{"$f":"IF('Summary List'!O856<>\"\",'Summary List'!O856,\"\")","v":""},{"$f":"IF('Summary List'!P856<>\"\",'Summary List'!P856,\"\")","v":""},{"$f":"IF('Summary List'!Q856<>\"\",'Summary List'!Q856,\"\")","v":""},{"$f":"IF('Summary List'!R856<>\"\",'Summary List'!R856,\"\")","v":""},{"$f":"IF('Summary List'!S856<>\"\",'Summary List'!S856,\"\")","v":""}]
[null,null,{"$f":"IF('Summary List'!M739<>\"\",'Summary List'!M739,\"\")","v":""},{"$f":"IF('Summary List'!N739<>\"\",'Summary List'!N739,\"\")","v":""},{"$f":"IF('Summary List'!O739<>\"\",'Summary List'!O739,\"\")","v":""},{"$f":"IF('Summary List'!P739<>\"\",'Summary List'!P739,\"\")","v":""},{"$f":"IF('Summary List'!Q739<>\"\",'Summary List'!Q739,\"\")","v":""},{"$f":"IF('Summary List'!R739<>\"\",'Summary List'!R739,\"\")","v":""},{"$f":"IF('Summary List'!S739<>\"\",'Summary List'!S739,\"\")","v":""},null,{"$f":"IF('Summary List'!M798<>\"\",'Summary List'!M798,\"\")","v":""},{"$f":"IF('Summary List'!N798<>\"\",'Summary List'!N798,\"\")","v":""},{"$f":"IF('Summary List'!O798<>\"\",'Summary List'!O798,\"\")","v":""},{"$f":"IF('Summary List'!P798<>\"\",'Summary List'!P798,\"\")","v":""},{"$f":"IF('Summary List'!Q798<>\"\",'Summary List'!Q798,\"\")","v":""},{"$f":"IF('Summary List'!R798<>\"\",'Summary List'!R798,\"\")","v":""},{"$f":"IF('Summary List'!S798<>\"\",'Summary List'!S798,\"\")","v":""},null,{"$f":"IF('Summary List'!M857<>\"\",'Summary List'!M857,\"\")","v":""},{"$f":"IF('Summary List'!N857<>\"\",'Summary List'!N857,\"\")","v":""},{"$f":"IF('Summary List'!O857<>\"\",'Summary List'!O857,\"\")","v":""},{"$f":"IF('Summary List'!P857<>\"\",'Summary List'!P857,\"\")","v":""},{"$f":"IF('Summary List'!Q857<>\"\",'Summary List'!Q857,\"\")","v":""},{"$f":"IF('Summary List'!R857<>\"\",'Summary List'!R857,\"\")","v":""},{"$f":"IF('Summary List'!S857<>\"\",'Summary List'!S857,\"\")","v":""}]
[null,null,{"$f":"IF('Summary List'!M740<>\"\",'Summary List'!M740,\"\")","v":""},{"$f":"IF('Summary List'!N740<>\"\",'Summary List'!N740,\"\")","v":""},{"$f":"IF('Summary List'!O740<>\"\",'Summary List'!O740,\"\")","v":""},{"$f":"IF('Summary List'!P740<>\"\",'Summary List'!P740,\"\")","v":""},{"$f":"IF('Summary List'!Q740<>\"\",'Summary List'!Q740,\"\")","v":""},{"$f":"IF('Summary List'!R740<>\"\",'Summary List'!R740,\"\")","v":""},{"$f":"IF('Summary List'!S740<>\"\",'Summary List'!S740,\"\")","v":""},null,{"$f":"IF('Summary List'!M799<>\"\",'Summary List'!M799,\"\")","v":""},{"$f":"IF('Summary List'!N799<>\"\",'Summary List'!N799,\"\")","v":""},{"$f":"IF('Summary List'!O799<>\"\",'Summary List'!O799,\"\")","v":""},{"$f":"IF('Summary List'!P799<>\"\",'Summary List'!P799,\"\")","v":""},{"$f":"IF('Summary List'!Q799<>\"\",'Summary List'!Q799,\"\")","v":""},{"$f":"IF('Summary List'!R799<>\"\",'Summary List'!R799,\"\")","v":""},{"$f":"IF('Summary List'!S799<>\"\",'Summary List'!S799,\"\")","v":""},null,{"$f":"IF('Summary List'!M858<>\"\",'Summary List'!M858,\"\")","v":""},{"$f":"IF('Summary List'!N858<>\"\",'Summary List'!N858,\"\")","v":""},{"$f":"IF('Summary List'!O858<>\"\",'Summary List'!O858,\"\")","v":""},{"$f":"IF('Summary List'!P858<>\"\",'Summary List'!P858,\"\")","v":""},{"$f":"IF('Summary List'!Q858<>\"\",'Summary List'!Q858,\"\")","v":""},{"$f":"IF('Summary List'!R858<>\"\",'Summary List'!R858,\"\")","v":""},{"$f":"IF('Summary List'!S858<>\"\",'Summary List'!S858,\"\")","v":""}]
[null,null,{"$f":"IF('Summary List'!M741<>\"\",'Summary List'!M741,\"\")","v":""},{"$f":"IF('Summary List'!N741<>\"\",'Summary List'!N741,\"\")","v":""},{"$f":"IF('Summary List'!O741<>\"\",'Summary List'!O741,\"\")","v":""},{"$f":"IF('Summary List'!P741<>\"\",'Summary List'!P741,\"\")","v":""},{"$f":"IF('Summary List'!Q741<>\"\",'Summary List'!Q741,\"\")","v":""},{"$f":"IF('Summary List'!R741<>\"\",'Summary List'!R741,\"\")","v":""},{"$f":"IF('Summary List'!S741<>\"\",'Summary List'!S741,\"\")","v":""},null,{"$f":"IF('Summary List'!M800<>\"\",'Summary List'!M800,\"\")","v":""},{"$f":"IF('Summary List'!N800<>\"\",'Summary List'!N800,\"\")","v":""},{"$f":"IF('Summary List'!O800<>\"\",'Summary List'!O800,\"\")","v":""},{"$f":"IF('Summary List'!P800<>\"\",'Summary List'!P800,\"\")","v":""},{"$f":"IF('Summary List'!Q800<>\"\",'Summary List'!Q800,\"\")","v":""},{"$f":"IF('Summary List'!R800<>\"\",'Summary List'!R800,\"\")","v":""},{"$f":"IF('Summary List'!S800<>\"\",'Summary List'!S800,\"\")","v":""},null,{"$f":"IF('Summary List'!M859<>\"\",'Summary List'!M859,\"\")","v":""},{"$f":"IF('Summary List'!N859<>\"\",'Summary List'!N859,\"\")","v":""},{"$f":"IF('Summary List'!O859<>\"\",'Summary List'!O859,\"\")","v":""},{"$f":"IF('Summary List'!P859<>\"\",'Summary List'!P859,\"\")","v":""},{"$f":"IF('Summary List'!Q859<>\"\",'Summary List'!Q859,\"\")","v":""},{"$f":"IF('Summary List'!R859<>\"\",'Summary List'!R859,\"\")","v":""},{"$f":"IF('Summary List'!S859<>\"\",'Summary List'!S859,\"\")","v":""}]
[null,null,{"$f":"IF('Summary List'!M742<>\"\",'Summary List'!M742,\"\")","v":""},{"$f":"IF('Summary List'!N742<>\"\",'Summary List'!N742,\"\")","v":""},{"$f":"IF('Summary List'!O742<>\"\",'Summary List'!O742,\"\")","v":""},{"$f":"IF('Summary List'!P742<>\"\",'Summary List'!P742,\"\")","v":""},{"$f":"IF('Summary List'!Q742<>\"\",'Summary List'!Q742,\"\")","v":""},{"$f":"IF('Summary List'!R742<>\"\",'Summary List'!R742,\"\")","v":""},{"$f":"IF('Summary List'!S742<>\"\",'Summary List'!S742,\"\")","v":""},null,{"$f":"IF('Summary List'!M801<>\"\",'Summary List'!M801,\"\")","v":""},{"$f":"IF('Summary List'!N801<>\"\",'Summary List'!N801,\"\")","v":""},{"$f":"IF('Summary List'!O801<>\"\",'Summary List'!O801,\"\")","v":""},{"$f":"IF('Summary List'!P801<>\"\",'Summary List'!P801,\"\")","v":""},{"$f":"IF('Summary List'!Q801<>\"\",'Summary List'!Q801,\"\")","v":""},{"$f":"IF('Summary List'!R801<>\"\",'Summary List'!R801,\"\")","v":""},{"$f":"IF('Summary List'!S801<>\"\",'Summary List'!S801,\"\")","v":""},null,{"$f":"IF('Summary List'!M860<>\"\",'Summary List'!M860,\"\")","v":""},{"$f":"IF('Summary List'!N860<>\"\",'Summary List'!N860,\"\")","v":""},{"$f":"IF('Summary List'!O860<>\"\",'Summary List'!O860,\"\")","v":""},{"$f":"IF('Summary List'!P860<>\"\",'Summary List'!P860,\"\")","v":""},{"$f":"IF('Summary List'!Q860<>\"\",'Summary List'!Q860,\"\")","v":""},{"$f":"IF('Summary List'!R860<>\"\",'Summary List'!R860,\"\")","v":""},{"$f":"IF('Summary List'!S860<>\"\",'Summary List'!S860,\"\")","v":""}]
[null,null,{"$f":"IF('Summary List'!M743<>\"\",'Summary List'!M743,\"\")","v":""},{"$f":"IF('Summary List'!N743<>\"\",'Summary List'!N743,\"\")","v":""},{"$f":"IF('Summary List'!O743<>\"\",'Summary List'!O743,\"\")","v":""},{"$f":"IF('Summary List'!P743<>\"\",'Summary List'!P743,\"\")","v":""},{"$f":"IF('Summary List'!Q743<>\"\",'Summary List'!Q743,\"\")","v":""},{"$f":"IF('Summary List'!R743<>\"\",'Summary List'!R743,\"\")","v":""},{"$f":"IF('Summary List'!S743<>\"\",'Summary List'!S743,\"\")","v":""},null,{"$f":"IF('Summary List'!M802<>\"\",'Summary List'!M802,\"\")","v":""},{"$f":"IF('Summary List'!N802<>\"\",'Summary List'!N802,\"\")","v":""},{"$f":"IF('Summary List'!O802<>\"\",'Summary List'!O802,\"\")","v":""},{"$f":"IF('Summary List'!P802<>\"\",'Summary List'!P802,\"\")","v":""},{"$f":"IF('Summary List'!Q802<>\"\",'Summary List'!Q802,\"\")","v":""},{"$f":"IF('Summary List'!R802<>\"\",'Summary List'!R802,\"\")","v":""},{"$f":"IF('Summary List'!S802<>\"\",'Summary List'!S802,\"\")","v":""},null,{"$f":"IF('Summary List'!M861<>\"\",'Summary List'!M861,\"\")","v":""},{"$f":"IF('Summary List'!N861<>\"\",'Summary List'!N861,\"\")","v":""},{"$f":"IF('Summary List'!O861<>\"\",'Summary List'!O861,\"\")","v":""},{"$f":"IF('Summary List'!P861<>\"\",'Summary List'!P861,\"\")","v":""},{"$f":"IF('Summary List'!Q861<>\"\",'Summary List'!Q861,\"\")","v":""},{"$f":"IF('Summary List'!R861<>\"\",'Summary List'!R861,\"\")","v":""},{"$f":"IF('Summary List'!S861<>\"\",'Summary List'!S861,\"\")","v":""}]
[null,null,{"$f":"IF('Summary List'!M744<>\"\",'Summary List'!M744,\"\")","v":""},{"$f":"IF('Summary List'!N744<>\"\",'Summary List'!N744,\"\")","v":""},{"$f":"IF('Summary List'!O744<>\"\",'Summary List'!O744,\"\")","v":""},{"$f":"IF('Summary List'!P744<>\"\",'Summary List'!P744,\"\")","v":""},{"$f":"IF('Summary List'!Q744<>\"\",'Summary List'!Q744,\"\")","v":""},{"$f":"IF('Summary List'!R744<>\"\",'Summary List'!R744,\"\")","v":""},{"$f":"IF('Summary List'!S744<>\"\",'Summary List'!S744,\"\")","v":""},null,{"$f":"IF('Summary List'!M803<>\"\",'Summary List'!M803,\"\")","v":""},{"$f":"IF('Summary List'!N803<>\"\",'Summary List'!N803,\"\")","v":""},{"$f":"IF('Summary List'!O803<>\"\",'Summary List'!O803,\"\")","v":""},{"$f":"IF('Summary List'!P803<>\"\",'Summary List'!P803,\"\")","v":""},{"$f":"IF('Summary List'!Q803<>\"\",'Summary List'!Q803,\"\")","v":""},{"$f":"IF('Summary List'!R803<>\"\",'Summary List'!R803,\"\")","v":""},{"$f":"IF('Summary List'!S803<>\"\",'Summary List'!S803,\"\")","v":""},null,{"$f":"IF('Summary List'!M862<>\"\",'Summary List'!M862,\"\")","v":""},{"$f":"IF('Summary List'!N862<>\"\",'Summary List'!N862,\"\")","v":""},{"$f":"IF('Summary List'!O862<>\"\",'Summary List'!O862,\"\")","v":""},{"$f":"IF('Summary List'!P862<>\"\",'Summary List'!P862,\"\")","v":""},{"$f":"IF('Summary List'!Q862<>\"\",'Summary List'!Q862,\"\")","v":""},{"$f":"IF('Summary List'!R862<>\"\",'Summary List'!R862,\"\")","v":""},{"$f":"IF('Summary List'!S862<>\"\",'Summary List'!S862,\"\")","v":""}]
[null,null,{"$f":"IF('Summary List'!M745<>\"\",'Summary List'!M745,\"\")","v":""},{"$f":"IF('Summary List'!N745<>\"\",'Summary List'!N745,\"\")","v":""},{"$f":"IF('Summary List'!O745<>\"\",'Summary List'!O745,\"\")","v":""},{"$f":"IF('Summary List'!P745<>\"\",'Summary List'!P745,\"\")","v":""},{"$f":"IF('Summary List'!Q745<>\"\",'Summary List'!Q745,\"\")","v":""},{"$f":"IF('Summary List'!R745<>\"\",'Summary List'!R745,\"\")","v":""},{"$f":"IF('Summary List'!S745<>\"\",'Summary List'!S745,\"\")","v":""},null,{"$f":"IF('Summary List'!M804<>\"\",'Summary List'!M804,\"\")","v":""},{"$f":"IF('Summary List'!N804<>\"\",'Summary List'!N804,\"\")","v":""},{"$f":"IF('Summary List'!O804<>\"\",'Summary List'!O804,\"\")","v":""},{"$f":"IF('Summary List'!P804<>\"\",'Summary List'!P804,\"\")","v":""},{"$f":"IF('Summary List'!Q804<>\"\",'Summary List'!Q804,\"\")","v":""},{"$f":"IF('Summary List'!R804<>\"\",'Summary List'!R804,\"\")","v":""},{"$f":"IF('Summary List'!S804<>\"\",'Summary List'!S804,\"\")","v":""},null,{"$f":"IF('Summary List'!M863<>\"\",'Summary List'!M863,\"\")","v":""},{"$f":"IF('Summary List'!N863<>\"\",'Summary List'!N863,\"\")","v":""},{"$f":"IF('Summary List'!O863<>\"\",'Summary List'!O863,\"\")","v":""},{"$f":"IF('Summary List'!P863<>\"\",'Summary List'!P863,\"\")","v":""},{"$f":"IF('Summary List'!Q863<>\"\",'Summary List'!Q863,\"\")","v":""},{"$f":"IF('Summary List'!R863<>\"\",'Summary List'!R863,\"\")","v":""},{"$f":"IF('Summary List'!S863<>\"\",'Summary List'!S863,\"\")","v":""}]
[null,null,{"$f":"IF('Summary List'!M746<>\"\",'Summary List'!M746,\"\")","v":""},{"$f":"IF('Summary List'!N746<>\"\",'Summary List'!N746,\"\")","v":""},{"$f":"IF('Summary List'!O746<>\"\",'Summary List'!O746,\"\")","v":""},{"$f":"IF('Summary List'!P746<>\"\",'Summary List'!P746,\"\")","v":""},{"$f":"IF('Summary List'!Q746<>\"\",'Summary List'!Q746,\"\")","v":""},{"$f":"IF('Summary List'!R746<>\"\",'Summary List'!R746,\"\")","v":""},{"$f":"IF('Summary List'!S746<>\"\",'Summary List'!S746,\"\")","v":""},null,{"$f":"IF('Summary List'!M805<>\"\",'Summary List'!M805,\"\")","v":""},{"$f":"IF('Summary List'!N805<>\"\",'Summary List'!N805,\"\")","v":""},{"$f":"IF('Summary List'!O805<>\"\",'Summary List'!O805,\"\")","v":""},{"$f":"IF('Summary List'!P805<>\"\",'Summary List'!P805,\"\")","v":""},{"$f":"IF('Summary List'!Q805<>\"\",'Summary List'!Q805,\"\")","v":""},{"$f":"IF('Summary List'!R805<>\"\",'Summary List'!R805,\"\")","v":""},{"$f":"IF('Summary List'!S805<>\"\",'Summary List'!S805,\"\")","v":""},null,{"$f":"IF('Summary List'!M864<>\"\",'Summary List'!M864,\"\")","v":""},{"$f":"IF('Summary List'!N864<>\"\",'Summary List'!N864,\"\")","v":""},{"$f":"IF('Summary List'!O864<>\"\",'Summary List'!O864,\"\")","v":""},{"$f":"IF('Summary List'!P864<>\"\",'Summary List'!P864,\"\")","v":""},{"$f":"IF('Summary List'!Q864<>\"\",'Summary List'!Q864,\"\")","v":""},{"$f":"IF('Summary List'!R864<>\"\",'Summary List'!R864,\"\")","v":""},{"$f":"IF('Summary List'!S864<>\"\",'Summary List'!S864,\"\")","v":""}]
[null,null,{"$f":"IF('Summary List'!M747<>\"\",'Summary List'!M747,\"\")","v":""},{"$f":"IF('Summary List'!N747<>\"\",'Summary List'!N747,\"\")","v":""},{"$f":"IF('Summary List'!O747<>\"\",'Summary List'!O747,\"\")","v":""},{"$f":"IF('Summary List'!P747<>\"\",'Summary List'!P747,\"\")","v":""},{"$f":"IF('Summary List'!Q747<>\"\",'Summary List'!Q747,\"\")","v":""},{"$f":"IF('Summary List'!R747<>\"\",'Summary List'!R747,\"\")","v":""},{"$f":"IF('Summary List'!S747<>\"\",'Summary List'!S747,\"\")","v":""},null,{"$f":"IF('Summary List'!M806<>\"\",'Summary List'!M806,\"\")","v":""},{"$f":"IF('Summary List'!N806<>\"\",'Summary List'!N806,\"\")","v":""},{"$f":"IF('Summary List'!O806<>\"\",'Summary List'!O806,\"\")","v":""},{"$f":"IF('Summary List'!P806<>\"\",'Summary List'!P806,\"\")","v":""},{"$f":"IF('Summary List'!Q806<>\"\",'Summary List'!Q806,\"\")","v":""},{"$f":"IF('Summary List'!R806<>\"\",'Summary List'!R806,\"\")","v":""},{"$f":"IF('Summary List'!S806<>\"\",'Summary List'!S806,\"\")","v":""},null,{"$f":"IF('Summary List'!M865<>\"\",'Summary List'!M865,\"\")","v":""},{"$f":"IF('Summary List'!N865<>\"\",'Summary List'!N865,\"\")","v":""},{"$f":"IF('Summary List'!O865<>\"\",'Summary List'!O865,\"\")","v":""},{"$f":"IF('Summary List'!P865<>\"\",'Summary List'!P865,\"\")","v":""},{"$f":"IF('Summary List'!Q865<>\"\",'Summary List'!Q865,\"\")","v":""},{"$f":"IF('Summary List'!R865<>\"\",'Summary List'!R865,\"\")","v":""},{"$f":"IF('Summary List'!S865<>\"\",'Summary List'!S865,\"\")","v":""}]
[null,null,{"$f":"IF('Summary List'!M748<>\"\",'Summary List'!M748,\"\")","v":""},{"$f":"IF('Summary List'!N748<>\"\",'Summary List'!N748,\"\")","v":""},{"$f":"IF('Summary List'!O748<>\"\",'Summary List'!O748,\"\")","v":""},{"$f":"IF('Summary List'!P748<>\"\",'Summary List'!P748,\"\")","v":""},{"$f":"IF('Summary List'!Q748<>\"\",'Summary List'!Q748,\"\")","v":""},{"$f":"IF('Summary List'!R748<>\"\",'Summary List'!R748,\"\")","v":""},{"$f":"IF('Summary List'!S748<>\"\",'Summary List'!S748,\"\")","v":""},null,{"$f":"IF('Summary List'!M807<>\"\",'Summary List'!M807,\"\")","v":""},{"$f":"IF('Summary List'!N807<>\"\",'Summary List'!N807,\"\")","v":""},{"$f":"IF('Summary List'!O807<>\"\",'Summary List'!O807,\"\")","v":""},{"$f":"IF('Summary List'!P807<>\"\",'Summary List'!P807,\"\")","v":""},{"$f":"IF('Summary List'!Q807<>\"\",'Summary List'!Q807,\"\")","v":""},{"$f":"IF('Summary List'!R807<>\"\",'Summary List'!R807,\"\")","v":""},{"$f":"IF('Summary List'!S807<>\"\",'Summary List'!S807,\"\")","v":""},null,{"$f":"IF('Summary List'!M866<>\"\",'Summary List'!M866,\"\")","v":""},{"$f":"IF('Summary List'!N866<>\"\",'Summary List'!N866,\"\")","v":""},{"$f":"IF('Summary List'!O866<>\"\",'Summary List'!O866,\"\")","v":""},{"$f":"IF('Summary List'!P866<>\"\",'Summary List'!P866,\"\")","v":""},{"$f":"IF('Summary List'!Q866<>\"\",'Summary List'!Q866,\"\")","v":""},{"$f":"IF('Summary List'!R866<>\"\",'Summary List'!R866,\"\")","v":""},{"$f":"IF('Summary List'!S866<>\"\",'Summary List'!S866,\"\")","v":""}]
[null,null,{"$f":"IF('Summary List'!M749<>\"\",'Summary List'!M749,\"\")","v":""},{"$f":"IF('Summary List'!N749<>\"\",'Summary List'!N749,\"\")","v":""},{"$f":"IF('Summary List'!O749<>\"\",'Summary List'!O749,\"\")","v":""},{"$f":"IF('Summary List'!P749<>\"\",'Summary List'!P749,\"\")","v":""},{"$f":"IF('Summary List'!Q749<>\"\",'Summary List'!Q749,\"\")","v":""},{"$f":"IF('Summary List'!R749<>\"\",'Summary List'!R749,\"\")","v":""},{"$f":"IF('Summary List'!S749<>\"\",'Summary List'!S749,\"\")","v":""},null,{"$f":"IF('Summary List'!M808<>\"\",'Summary List'!M808,\"\")","v":""},{"$f":"IF('Summary List'!N808<>\"\",'Summary List'!N808,\"\")","v":""},{"$f":"IF('Summary List'!O808<>\"\",'Summary List'!O808,\"\")","v":""},{"$f":"IF('Summary List'!P808<>\"\",'Summary List'!P808,\"\")","v":""},{"$f":"IF('Summary List'!Q808<>\"\",'Summary List'!Q808,\"\")","v":""},{"$f":"IF('Summary List'!R808<>\"\",'Summary List'!R808,\"\")","v":""},{"$f":"IF('Summary List'!S808<>\"\",'Summary List'!S808,\"\")","v":""},null,{"$f":"IF('Summary List'!M867<>\"\",'Summary List'!M867,\"\")","v":""},{"$f":"IF('Summary List'!N867<>\"\",'Summary List'!N867,\"\")","v":""},{"$f":"IF('Summary List'!O867<>\"\",'Summary List'!O867,\"\")","v":""},{"$f":"IF('Summary List'!P867<>\"\",'Summary List'!P867,\"\")","v":""},{"$f":"IF('Summary List'!Q867<>\"\",'Summary List'!Q867,\"\")","v":""},{"$f":"IF('Summary List'!R867<>\"\",'Summary List'!R867,\"\")","v":""},{"$f":"IF('Summary List'!S867<>\"\",'Summary List'!S867,\"\")","v":""}]
[null,null,{"$f":"IF('Summary List'!M750<>\"\",'Summary List'!M750,\"\")","v":""},{"$f":"IF('Summary List'!N750<>\"\",'Summary List'!N750,\"\")","v":""},{"$f":"IF('Summary List'!O750<>\"\",'Summary List'!O750,\"\")","v":""},{"$f":"IF('Summary List'!P750<>\"\",'Summary List'!P750,\"\")","v":""},{"$f":"IF('Summary List'!Q750<>\"\",'Summary List'!Q750,\"\")","v":""},{"$f":"IF('Summary List'!R750<>\"\",'Summary List'!R750,\"\")","v":""},{"$f":"IF('Summary List'!S750<>\"\",'Summary List'!S750,\"\")","v":""},null,{"$f":"IF('Summary List'!M809<>\"\",'Summary List'!M809,\"\")","v":""},{"$f":"IF('Summary List'!N809<>\"\",'Summary List'!N809,\"\")","v":""},{"$f":"IF('Summary List'!O809<>\"\",'Summary List'!O809,\"\")","v":""},{"$f":"IF('Summary List'!P809<>\"\",'Summary List'!P809,\"\")","v":""},{"$f":"IF('Summary List'!Q809<>\"\",'Summary List'!Q809,\"\")","v":""},{"$f":"IF('Summary List'!R809<>\"\",'Summary List'!R809,\"\")","v":""},{"$f":"IF('Summary List'!S809<>\"\",'Summary List'!S809,\"\")","v":""},null,{"$f":"IF('Summary List'!M868<>\"\",'Summary List'!M868,\"\")","v":""},{"$f":"IF('Summary List'!N868<>\"\",'Summary List'!N868,\"\")","v":""},{"$f":"IF('Summary List'!O868<>\"\",'Summary List'!O868,\"\")","v":""},{"$f":"IF('Summary List'!P868<>\"\",'Summary List'!P868,\"\")","v":""},{"$f":"IF('Summary List'!Q868<>\"\",'Summary List'!Q868,\"\")","v":""},{"$f":"IF('Summary List'!R868<>\"\",'Summary List'!R868,\"\")","v":""},{"$f":"IF('Summary List'!S868<>\"\",'Summary List'!S868,\"\")","v":""}]
[null,null,{"$f":"IF('Summary List'!M751<>\"\",'Summary List'!M751,\"\")","v":""},{"$f":"IF('Summary List'!N751<>\"\",'Summary List'!N751,\"\")","v":""},{"$f":"IF('Summary List'!O751<>\"\",'Summary List'!O751,\"\")","v":""},{"$f":"IF('Summary List'!P751<>\"\",'Summary List'!P751,\"\")","v":""},{"$f":"IF('Summary List'!Q751<>\"\",'Summary List'!Q751,\"\")","v":""},{"$f":"IF('Summary List'!R751<>\"\",'Summary List'!R751,\"\")","v":""},{"$f":"IF('Summary List'!S751<>\"\",'Summary List'!S751,\"\")","v":""},null,{"$f":"IF('Summary List'!M810<>\"\",'Summary List'!M810,\"\")","v":""},{"$f":"IF('Summary List'!N810<>\"\",'Summary List'!N810,\"\")","v":""},{"$f":"IF('Summary List'!O810<>\"\",'Summary List'!O810,\"\")","v":""},{"$f":"IF('Summary List'!P810<>\"\",'Summary List'!P810,\"\")","v":""},{"$f":"IF('Summary List'!Q810<>\"\",'Summary List'!Q810,\"\")","v":""},{"$f":"IF('Summary List'!R810<>\"\",'Summary List'!R810,\"\")","v":""},{"$f":"IF('Summary List'!S810<>\"\",'Summary List'!S810,\"\")","v":""},null,{"$f":"IF('Summary List'!M869<>\"\",'Summary List'!M869,\"\")","v":""},{"$f":"IF('Summary List'!N869<>\"\",'Summary List'!N869,\"\")","v":""},{"$f":"IF('Summary List'!O869<>\"\",'Summary List'!O869,\"\")","v":""},{"$f":"IF('Summary List'!P869<>\"\",'Summary List'!P869,\"\")","v":""},{"$f":"IF('Summary List'!Q869<>\"\",'Summary List'!Q869,\"\")","v":""},{"$f":"IF('Summary List'!R869<>\"\",'Summary List'!R869,\"\")","v":""},{"$f":"IF('Summary List'!S869<>\"\",'Summary List'!S869,\"\")","v":""}]
[null,null,{"$f":"IF('Summary List'!M752<>\"\",'Summary List'!M752,\"\")","v":""},{"$f":"IF('Summary List'!N752<>\"\",'Summary List'!N752,\"\")","v":""},{"$f":"IF('Summary List'!O752<>\"\",'Summary List'!O752,\"\")","v":""},{"$f":"IF('Summary List'!P752<>\"\",'Summary List'!P752,\"\")","v":""},{"$f":"IF('Summary List'!Q752<>\"\",'Summary List'!Q752,\"\")","v":""},{"$f":"IF('Summary List'!R752<>\"\",'Summary List'!R752,\"\")","v":""},{"$f":"IF('Summary List'!S752<>\"\",'Summary List'!S752,\"\")","v":""},null,{"$f":"IF('Summary List'!M811<>\"\",'Summary List'!M811,\"\")","v":""},{"$f":"IF('Summary List'!N811<>\"\",'Summary List'!N811,\"\")","v":""},{"$f":"IF('Summary List'!O811<>\"\",'Summary List'!O811,\"\")","v":""},{"$f":"IF('Summary List'!P811<>\"\",'Summary List'!P811,\"\")","v":""},{"$f":"IF('Summary List'!Q811<>\"\",'Summary List'!Q811,\"\")","v":""},{"$f":"IF('Summary List'!R811<>\"\",'Summary List'!R811,\"\")","v":""},{"$f":"IF('Summary List'!S811<>\"\",'Summary List'!S811,\"\")","v":""},null,{"$f":"IF('Summary List'!M870<>\"\",'Summary List'!M870,\"\")","v":""},{"$f":"IF('Summary List'!N870<>\"\",'Summary List'!N870,\"\")","v":""},{"$f":"IF('Summary List'!O870<>\"\",'Summary List'!O870,\"\")","v":""},{"$f":"IF('Summary List'!P870<>\"\",'Summary List'!P870,\"\")","v":""},{"$f":"IF('Summary List'!Q870<>\"\",'Summary List'!Q870,\"\")","v":""},{"$f":"IF('Summary List'!R870<>\"\",'Summary List'!R870,\"\")","v":""},{"$f":"IF('Summary List'!S870<>\"\",'Summary List'!S870,\"\")","v":""}]
[null,null,{"$f":"IF('Summary List'!M753<>\"\",'Summary List'!M753,\"\")","v":""},{"$f":"IF('Summary List'!N753<>\"\",'Summary List'!N753,\"\")","v":""},{"$f":"IF('Summary List'!O753<>\"\",'Summary List'!O753,\"\")","v":""},{"$f":"IF('Summary List'!P753<>\"\",'Summary List'!P753,\"\")","v":""},{"$f":"IF('Summary List'!Q753<>\"\",'Summary List'!Q753,\"\")","v":""},{"$f":"IF('Summary List'!R753<>\"\",'Summary List'!R753,\"\")","v":""},{"$f":"IF('Summary List'!S753<>\"\",'Summary List'!S753,\"\")","v":""},null,{"$f":"IF('Summary List'!M812<>\"\",'Summary List'!M812,\"\")","v":""},{"$f":"IF('Summary List'!N812<>\"\",'Summary List'!N812,\"\")","v":""},{"$f":"IF('Summary List'!O812<>\"\",'Summary List'!O812,\"\")","v":""},{"$f":"IF('Summary List'!P812<>\"\",'Summary List'!P812,\"\")","v":""},{"$f":"IF('Summary List'!Q812<>\"\",'Summary List'!Q812,\"\")","v":""},{"$f":"IF('Summary List'!R812<>\"\",'Summary List'!R812,\"\")","v":""},{"$f":"IF('Summary List'!S812<>\"\",'Summary List'!S812,\"\")","v":""},null,{"$f":"IF('Summary List'!M871<>\"\",'Summary List'!M871,\"\")","v":""},{"$f":"IF('Summary List'!N871<>\"\",'Summary List'!N871,\"\")","v":""},{"$f":"IF('Summary List'!O871<>\"\",'Summary List'!O871,\"\")","v":""},{"$f":"IF('Summary List'!P871<>\"\",'Summary List'!P871,\"\")","v":""},{"$f":"IF('Summary List'!Q871<>\"\",'Summary List'!Q871,\"\")","v":""},{"$f":"IF('Summary List'!R871<>\"\",'Summary List'!R871,\"\")","v":""},{"$f":"IF('Summary List'!S871<>\"\",'Summary List'!S871,\"\")","v":""}]
[null,null,{"$f":"IF('Summary List'!M754<>\"\",'Summary List'!M754,\"\")","v":""},{"$f":"IF('Summary List'!N754<>\"\",'Summary List'!N754,\"\")","v":""},{"$f":"IF('Summary List'!O754<>\"\",'Summary List'!O754,\"\")","v":""},{"$f":"IF('Summary List'!P754<>\"\",'Summary List'!P754,\"\")","v":""},{"$f":"IF('Summary List'!Q754<>\"\",'Summary List'!Q754,\"\")","v":""},{"$f":"IF('Summary List'!R754<>\"\",'Summary List'!R754,\"\")","v":""},{"$f":"IF('Summary List'!S754<>\"\",'Summary List'!S754,\"\")","v":""},null,{"$f":"IF('Summary List'!M813<>\"\",'Summary List'!M813,\"\")","v":""},{"$f":"IF('Summary List'!N813<>\"\",'Summary List'!N813,\"\")","v":""},{"$f":"IF('Summary List'!O813<>\"\",'Summary List'!O813,\"\")","v":""},{"$f":"IF('Summary List'!P813<>\"\",'Summary List'!P813,\"\")","v":""},{"$f":"IF('Summary List'!Q813<>\"\",'Summary List'!Q813,\"\")","v":""},{"$f":"IF('Summary List'!R813<>\"\",'Summary List'!R813,\"\")","v":""},{"$f":"IF('Summary List'!S813<>\"\",'Summary List'!S813,\"\")","v":""},null,{"$f":"IF('Summary List'!M872<>\"\",'Summary List'!M872,\"\")","v":""},{"$f":"IF('Summary List'!N872<>\"\",'Summary List'!N872,\"\")","v":""},{"$f":"IF('Summary List'!O872<>\"\",'Summary List'!O872,\"\")","v":""},{"$f":"IF('Summary List'!P872<>\"\",'Summary List'!P872,\"\")","v":""},{"$f":"IF('Summary List'!Q872<>\"\",'Summary List'!Q872,\"\")","v":""},{"$f":"IF('Summary List'!R872<>\"\",'Summary List'!R872,\"\")","v":""},{"$f":"IF('Summary List'!S872<>\"\",'Summary List'!S872,\"\")","v":""}]
[null,null,{"$f":"IF('Summary List'!M755<>\"\",'Summary List'!M755,\"\")","v":""},{"$f":"IF('Summary List'!N755<>\"\",'Summary List'!N755,\"\")","v":""},{"$f":"IF('Summary List'!O755<>\"\",'Summary List'!O755,\"\")","v":""},{"$f":"IF('Summary List'!P755<>\"\",'Summary List'!P755,\"\")","v":""},{"$f":"IF('Summary List'!Q755<>\"\",'Summary List'!Q755,\"\")","v":""},{"$f":"IF('Summary List'!R755<>\"\",'Summary List'!R755,\"\")","v":""},{"$f":"IF('Summary List'!S755<>\"\",'Summary List'!S755,\"\")","v":""},null,{"$f":"IF('Summary List'!M814<>\"\",'Summary List'!M814,\"\")","v":""},{"$f":"IF('Summary List'!N814<>\"\",'Summary List'!N814,\"\")","v":""},{"$f":"IF('Summary List'!O814<>\"\",'Summary List'!O814,\"\")","v":""},{"$f":"IF('Summary List'!P814<>\"\",'Summary List'!P814,\"\")","v":""},{"$f":"IF('Summary List'!Q814<>\"\",'Summary List'!Q814,\"\")","v":""},{"$f":"IF('Summary List'!R814<>\"\",'Summary List'!R814,\"\")","v":""},{"$f":"IF('Summary List'!S814<>\"\",'Summary List'!S814,\"\")","v":""},null,{"$f":"IF('Summary List'!M873<>\"\",'Summary List'!M873,\"\")","v":""},{"$f":"IF('Summary List'!N873<>\"\",'Summary List'!N873,\"\")","v":""},{"$f":"IF('Summary List'!O873<>\"\",'Summary List'!O873,\"\")","v":""},{"$f":"IF('Summary List'!P873<>\"\",'Summary List'!P873,\"\")","v":""},{"$f":"IF('Summary List'!Q873<>\"\",'Summary List'!Q873,\"\")","v":""},{"$f":"IF('Summary List'!R873<>\"\",'Summary List'!R873,\"\")","v":""},{"$f":"IF('Summary List'!S873<>\"\",'Summary List'!S873,\"\")","v":""}]
[null,null,{"$f":"IF('Summary List'!M756<>\"\",'Summary List'!M756,\"\")","v":""},{"$f":"IF('Summary List'!N756<>\"\",'Summary List'!N756,\"\")","v":""},{"$f":"IF('Summary List'!O756<>\"\",'Summary List'!O756,\"\")","v":""},{"$f":"IF('Summary List'!P756<>\"\",'Summary List'!P756,\"\")","v":""},{"$f":"IF('Summary List'!Q756<>\"\",'Summary List'!Q756,\"\")","v":""},{"$f":"IF('Summary List'!R756<>\"\",'Summary List'!R756,\"\")","v":""},{"$f":"IF('Summary List'!S756<>\"\",'Summary List'!S756,\"\")","v":""},null,{"$f":"IF('Summary List'!M815<>\"\",'Summary List'!M815,\"\")","v":""},{"$f":"IF('Summary List'!N815<>\"\",'Summary List'!N815,\"\")","v":""},{"$f":"IF('Summary List'!O815<>\"\",'Summary List'!O815,\"\")","v":""},{"$f":"IF('Summary List'!P815<>\"\",'Summary List'!P815,\"\")","v":""},{"$f":"IF('Summary List'!Q815<>\"\",'Summary List'!Q815,\"\")","v":""},{"$f":"IF('Summary List'!R815<>\"\",'Summary List'!R815,\"\")","v":""},{"$f":"IF('Summary List'!S815<>\"\",'Summary List'!S815,\"\")","v":""},null,{"$f":"IF('Summary List'!M874<>\"\",'Summary List'!M874,\"\")","v":""},{"$f":"IF('Summary List'!N874<>\"\",'Summary List'!N874,\"\")","v":""},{"$f":"IF('Summary List'!O874<>\"\",'Summary List'!O874,\"\")","v":""},{"$f":"IF('Summary List'!P874<>\"\",'Summary List'!P874,\"\")","v":""},{"$f":"IF('Summary List'!Q874<>\"\",'Summary List'!Q874,\"\")","v":""},{"$f":"IF('Summary List'!R874<>\"\",'Summary List'!R874,\"\")","v":""},{"$f":"IF('Summary List'!S874<>\"\",'Summary List'!S874,\"\")","v":""}]
[null,null,{"$f":"IF('Summary List'!M757<>\"\",'Summary List'!M757,\"\")","v":""},{"$f":"IF('Summary List'!N757<>\"\",'Summary List'!N757,\"\")","v":""},{"$f":"IF('Summary List'!O757<>\"\",'Summary List'!O757,\"\")","v":""},{"$f":"IF('Summary List'!P757<>\"\",'Summary List'!P757,\"\")","v":""},{"$f":"IF('Summary List'!Q757<>\"\",'Summary List'!Q757,\"\")","v":""},{"$f":"IF('Summary List'!R757<>\"\",'Summary List'!R757,\"\")","v":""},{"$f":"IF('Summary List'!S757<>\"\",'Summary List'!S757,\"\")","v":""},null,{"$f":"IF('Summary List'!M816<>\"\",'Summary List'!M816,\"\")","v":""},{"$f":"IF('Summary List'!N816<>\"\",'Summary List'!N816,\"\")","v":""},{"$f":"IF('Summary List'!O816<>\"\",'Summary List'!O816,\"\")","v":""},{"$f":"IF('Summary List'!P816<>\"\",'Summary List'!P816,\"\")","v":""},{"$f":"IF('Summary List'!Q816<>\"\",'Summary List'!Q816,\"\")","v":""},{"$f":"IF('Summary List'!R816<>\"\",'Summary List'!R816,\"\")","v":""},{"$f":"IF('Summary List'!S816<>\"\",'Summary List'!S816,\"\")","v":""},null,{"$f":"IF('Summary List'!M875<>\"\",'Summary List'!M875,\"\")","v":""},{"$f":"IF('Summary List'!N875<>\"\",'Summary List'!N875,\"\")","v":""},{"$f":"IF('Summary List'!O875<>\"\",'Summary List'!O875,\"\")","v":""},{"$f":"IF('Summary List'!P875<>\"\",'Summary List'!P875,\"\")","v":""},{"$f":"IF('Summary List'!Q875<>\"\",'Summary List'!Q875,\"\")","v":""},{"$f":"IF('Summary List'!R875<>\"\",'Summary List'!R875,\"\")","v":""},{"$f":"IF('Summary List'!S875<>\"\",'Summary List'!S875,\"\")","v":""}]
[null,null,{"$f":"IF('Summary List'!M758<>\"\",'Summary List'!M758,\"\")","v":""},{"$f":"IF('Summary List'!N758<>\"\",'Summary List'!N758,\"\")","v":""},{"$f":"IF('Summary List'!O758<>\"\",'Summary List'!O758,\"\")","v":""},{"$f":"IF('Summary List'!P758<>\"\",'Summary List'!P758,\"\")","v":""},{"$f":"IF('Summary List'!Q758<>\"\",'Summary List'!Q758,\"\")","v":""},{"$f":"IF('Summary List'!R758<>\"\",'Summary List'!R758,\"\")","v":""},{"$f":"IF('Summary List'!S758<>\"\",'Summary List'!S758,\"\")","v":""},null,{"$f":"IF('Summary List'!M817<>\"\",'Summary List'!M817,\"\")","v":""},{"$f":"IF('Summary List'!N817<>\"\",'Summary List'!N817,\"\")","v":""},{"$f":"IF('Summary List'!O817<>\"\",'Summary List'!O817,\"\")","v":""},{"$f":"IF('Summary List'!P817<>\"\",'Summary List'!P817,\"\")","v":""},{"$f":"IF('Summary List'!Q817<>\"\",'Summary List'!Q817,\"\")","v":""},{"$f":"IF('Summary List'!R817<>\"\",'Summary List'!R817,\"\")","v":""},{"$f":"IF('Summary List'!S817<>\"\",'Summary List'!S817,\"\")","v":""},null,{"$f":"IF('Summary List'!M876<>\"\",'Summary List'!M876,\"\")","v":""},{"$f":"IF('Summary List'!N876<>\"\",'Summary List'!N876,\"\")","v":""},{"$f":"IF('Summary List'!O876<>\"\",'Summary List'!O876,\"\")","v":""},{"$f":"IF('Summary List'!P876<>\"\",'Summary List'!P876,\"\")","v":""},{"$f":"IF('Summary List'!Q876<>\"\",'Summary List'!Q876,\"\")","v":""},{"$f":"IF('Summary List'!R876<>\"\",'Summary List'!R876,\"\")","v":""},{"$f":"IF('Summary List'!S876<>\"\",'Summary List'!S876,\"\")","v":""}]
[null,null,{"$f":"IF('Summary List'!M759<>\"\",'Summary List'!M759,\"\")","v":""},{"$f":"IF('Summary List'!N759<>\"\",'Summary List'!N759,\"\")","v":""},{"$f":"IF('Summary List'!O759<>\"\",'Summary List'!O759,\"\")","v":""},{"$f":"IF('Summary List'!P759<>\"\",'Summary List'!P759,\"\")","v":""},{"$f":"IF('Summary List'!Q759<>\"\",'Summary List'!Q759,\"\")","v":""},{"$f":"IF('Summary List'!R759<>\"\",'Summary List'!R759,\"\")","v":""},{"$f":"IF('Summary List'!S759<>\"\",'Summary List'!S759,\"\")","v":""},null,{"$f":"IF('Summary List'!M818<>\"\",'Summary List'!M818,\"\")","v":""},{"$f":"IF('Summary List'!N818<>\"\",'Summary List'!N818,\"\")","v":""},{"$f":"IF('Summary List'!O818<>\"\",'Summary List'!O818,\"\")","v":""},{"$f":"IF('Summary List'!P818<>\"\",'Summary List'!P818,\"\")","v":""},{"$f":"IF('Summary List'!Q818<>\"\",'Summary List'!Q818,\"\")","v":""},{"$f":"IF('Summary List'!R818<>\"\",'Summary List'!R818,\"\")","v":""},{"$f":"IF('Summary List'!S818<>\"\",'Summary List'!S818,\"\")","v":""},null,{"$f":"IF('Summary List'!M877<>\"\",'Summary List'!M877,\"\")","v":""},{"$f":"IF('Summary List'!N877<>\"\",'Summary List'!N877,\"\")","v":""},{"$f":"IF('Summary List'!O877<>\"\",'Summary List'!O877,\"\")","v":""},{"$f":"IF('Summary List'!P877<>\"\",'Summary List'!P877,\"\")","v":""},{"$f":"IF('Summary List'!Q877<>\"\",'Summary List'!Q877,\"\")","v":""},{"$f":"IF('Summary List'!R877<>\"\",'Summary List'!R877,\"\")","v":""},{"$f":"IF('Summary List'!S877<>\"\",'Summary List'!S877,\"\")","v":""}]
[null,null,{"$f":"IF('Summary List'!M760<>\"\",'Summary List'!M760,\"\")","v":""},{"$f":"IF('Summary List'!N760<>\"\",'Summary List'!N760,\"\")","v":""},{"$f":"IF('Summary List'!O760<>\"\",'Summary List'!O760,\"\")","v":""},{"$f":"IF('Summary List'!P760<>\"\",'Summary List'!P760,\"\")","v":""},{"$f":"IF('Summary List'!Q760<>\"\",'Summary List'!Q760,\"\")","v":""},{"$f":"IF('Summary List'!R760<>\"\",'Summary List'!R760,\"\")","v":""},{"$f":"IF('Summary List'!S760<>\"\",'Summary List'!S760,\"\")","v":""},null,{"$f":"IF('Summary List'!M819<>\"\",'Summary List'!M819,\"\")","v":""},{"$f":"IF('Summary List'!N819<>\"\",'Summary List'!N819,\"\")","v":""},{"$f":"IF('Summary List'!O819<>\"\",'Summary List'!O819,\"\")","v":""},{"$f":"IF('Summary List'!P819<>\"\",'Summary List'!P819,\"\")","v":""},{"$f":"IF('Summary List'!Q819<>\"\",'Summary List'!Q819,\"\")","v":""},{"$f":"IF('Summary List'!R819<>\"\",'Summary List'!R819,\"\")","v":""},{"$f":"IF('Summary List'!S819<>\"\",'Summary List'!S819,\"\")","v":""},null,{"$f":"IF('Summary List'!M878<>\"\",'Summary List'!M878,\"\")","v":""},{"$f":"IF('Summary List'!N878<>\"\",'Summary List'!N878,\"\")","v":""},{"$f":"IF('Summary List'!O878<>\"\",'Summary List'!O878,\"\")","v":""},{"$f":"IF('Summary List'!P878<>\"\",'Summary List'!P878,\"\")","v":""},{"$f":"IF('Summary List'!Q878<>\"\",'Summary List'!Q878,\"\")","v":""},{"$f":"IF('Summary List'!R878<>\"\",'Summary List'!R878,\"\")","v":""},{"$f":"IF('Summary List'!S878<>\"\",'Summary List'!S878,\"\")","v":""}]
[null,null,{"$f":"IF('Summary List'!M761<>\"\",'Summary List'!M761,\"\")","v":""},{"$f":"IF('Summary List'!N761<>\"\",'Summary List'!N761,\"\")","v":""},{"$f":"IF('Summary List'!O761<>\"\",'Summary List'!O761,\"\")","v":""},{"$f":"IF('Summary List'!P761<>\"\",'Summary List'!P761,\"\")","v":""},{"$f":"IF('Summary List'!Q761<>\"\",'Summary List'!Q761,\"\")","v":""},{"$f":"IF('Summary List'!R761<>\"\",'Summary List'!R761,\"\")","v":""},{"$f":"IF('Summary List'!S761<>\"\",'Summary List'!S761,\"\")","v":""},null,{"$f":"IF('Summary List'!M820<>\"\",'Summary List'!M820,\"\")","v":""},{"$f":"IF('Summary List'!N820<>\"\",'Summary List'!N820,\"\")","v":""},{"$f":"IF('Summary List'!O820<>\"\",'Summary List'!O820,\"\")","v":""},{"$f":"IF('Summary List'!P820<>\"\",'Summary List'!P820,\"\")","v":""},{"$f":"IF('Summary List'!Q820<>\"\",'Summary List'!Q820,\"\")","v":""},{"$f":"IF('Summary List'!R820<>\"\",'Summary List'!R820,\"\")","v":""},{"$f":"IF('Summary List'!S820<>\"\",'Summary List'!S820,\"\")","v":""},null,{"$f":"IF('Summary List'!M879<>\"\",'Summary List'!M879,\"\")","v":""},{"$f":"IF('Summary List'!N879<>\"\",'Summary List'!N879,\"\")","v":""},{"$f":"IF('Summary List'!O879<>\"\",'Summary List'!O879,\"\")","v":""},{"$f":"IF('Summary List'!P879<>\"\",'Summary List'!P879,\"\")","v":""},{"$f":"IF('Summary List'!Q879<>\"\",'Summary List'!Q879,\"\")","v":""},{"$f":"IF('Summary List'!R879<>\"\",'Summary List'!R879,\"\")","v":""},{"$f":"IF('Summary List'!S879<>\"\",'Summary List'!S879,\"\")","v":""}]
[null,null,{"$f":"IF('Summary List'!M762<>\"\",'Summary List'!M762,\"\")","v":""},{"$f":"IF('Summary List'!N762<>\"\",'Summary List'!N762,\"\")","v":""},{"$f":"IF('Summary List'!O762<>\"\",'Summary List'!O762,\"\")","v":""},{"$f":"IF('Summary List'!P762<>\"\",'Summary List'!P762,\"\")","v":""},{"$f":"IF('Summary List'!Q762<>\"\",'Summary List'!Q762,\"\")","v":""},{"$f":"IF('Summary List'!R762<>\"\",'Summary List'!R762,\"\")","v":""},{"$f":"IF('Summary List'!S762<>\"\",'Summary List'!S762,\"\")","v":""},null,{"$f":"IF('Summary List'!M821<>\"\",'Summary List'!M821,\"\")","v":""},{"$f":"IF('Summary List'!N821<>\"\",'Summary List'!N821,\"\")","v":""},{"$f":"IF('Summary List'!O821<>\"\",'Summary List'!O821,\"\")","v":""},{"$f":"IF('Summary List'!P821<>\"\",'Summary List'!P821,\"\")","v":""},{"$f":"IF('Summary List'!Q821<>\"\",'Summary List'!Q821,\"\")","v":""},{"$f":"IF('Summary List'!R821<>\"\",'Summary List'!R821,\"\")","v":""},{"$f":"IF('Summary List'!S821<>\"\",'Summary List'!S821,\"\")","v":""},null,{"$f":"IF('Summary List'!M880<>\"\",'Summary List'!M880,\"\")","v":""},{"$f":"IF('Summary List'!N880<>\"\",'Summary List'!N880,\"\")","v":""},{"$f":"IF('Summary List'!O880<>\"\",'Summary List'!O880,\"\")","v":""},{"$f":"IF('Summary List'!P880<>\"\",'Summary List'!P880,\"\")","v":""},{"$f":"IF('Summary List'!Q880<>\"\",'Summary List'!Q880,\"\")","v":""},{"$f":"IF('Summary List'!R880<>\"\",'Summary List'!R880,\"\")","v":""},{"$f":"IF('Summary List'!S880<>\"\",'Summary List'!S880,\"\")","v":""}]
[null,null,{"$f":"IF('Summary List'!M763<>\"\",'Summary List'!M763,\"\")","v":""},{"$f":"IF('Summary List'!N763<>\"\",'Summary List'!N763,\"\")","v":""},{"$f":"IF('Summary List'!O763<>\"\",'Summary List'!O763,\"\")","v":""},{"$f":"IF('Summary List'!P763<>\"\",'Summary List'!P763,\"\")","v":""},{"$f":"IF('Summary List'!Q763<>\"\",'Summary List'!Q763,\"\")","v":""},{"$f":"IF('Summary List'!R763<>\"\",'Summary List'!R763,\"\")","v":""},{"$f":"IF('Summary List'!S763<>\"\",'Summary List'!S763,\"\")","v":""},null,{"$f":"IF('Summary List'!M822<>\"\",'Summary List'!M822,\"\")","v":""},{"$f":"IF('Summary List'!N822<>\"\",'Summary List'!N822,\"\")","v":""},{"$f":"IF('Summary List'!O822<>\"\",'Summary List'!O822,\"\")","v":""},{"$f":"IF('Summary List'!P822<>\"\",'Summary List'!P822,\"\")","v":""},{"$f":"IF('Summary List'!Q822<>\"\",'Summary List'!Q822,\"\")","v":""},{"$f":"IF('Summary List'!R822<>\"\",'Summary List'!R822,\"\")","v":""},{"$f":"IF('Summary List'!S822<>\"\",'Summary List'!S822,\"\")","v":""},null,{"$f":"IF('Summary List'!M881<>\"\",'Summary List'!M881,\"\")","v":""},{"$f":"IF('Summary List'!N881<>\"\",'Summary List'!N881,\"\")","v":""},{"$f":"IF('Summary List'!O881<>\"\",'Summary List'!O881,\"\")","v":""},{"$f":"IF('Summary List'!P881<>\"\",'Summary List'!P881,\"\")","v":""},{"$f":"IF('Summary List'!Q881<>\"\",'Summary List'!Q881,\"\")","v":""},{"$f":"IF('Summary List'!R881<>\"\",'Summary List'!R881,\"\")","v":""},{"$f":"IF('Summary List'!S881<>\"\",'Summary List'!S881,\"\")","v":""}]
[null,null,{"$f":"IF('Summary List'!M764<>\"\",'Summary List'!M764,\"\")","v":""},{"$f":"IF('Summary List'!N764<>\"\",'Summary List'!N764,\"\")","v":""},{"$f":"IF('Summary List'!O764<>\"\",'Summary List'!O764,\"\")","v":""},{"$f":"IF('Summary List'!P764<>\"\",'Summary List'!P764,\"\")","v":""},{"$f":"IF('Summary List'!Q764<>\"\",'Summary List'!Q764,\"\")","v":""},{"$f":"IF('Summary List'!R764<>\"\",'Summary List'!R764,\"\")","v":""},{"$f":"IF('Summary List'!S764<>\"\",'Summary List'!S764,\"\")","v":""},null,{"$f":"IF('Summary List'!M823<>\"\",'Summary List'!M823,\"\")","v":""},{"$f":"IF('Summary List'!N823<>\"\",'Summary List'!N823,\"\")","v":""},{"$f":"IF('Summary List'!O823<>\"\",'Summary List'!O823,\"\")","v":""},{"$f":"IF('Summary List'!P823<>\"\",'Summary List'!P823,\"\")","v":""},{"$f":"IF('Summary List'!Q823<>\"\",'Summary List'!Q823,\"\")","v":""},{"$f":"IF('Summary List'!R823<>\"\",'Summary List'!R823,\"\")","v":""},{"$f":"IF('Summary List'!S823<>\"\",'Summary List'!S823,\"\")","v":""},null,{"$f":"IF('Summary List'!M882<>\"\",'Summary List'!M882,\"\")","v":""},{"$f":"IF('Summary List'!N882<>\"\",'Summary List'!N882,\"\")","v":""},{"$f":"IF('Summary List'!O882<>\"\",'Summary List'!O882,\"\")","v":""},{"$f":"IF('Summary List'!P882<>\"\",'Summary List'!P882,\"\")","v":""},{"$f":"IF('Summary List'!Q882<>\"\",'Summary List'!Q882,\"\")","v":""},{"$f":"IF('Summary List'!R882<>\"\",'Summary List'!R882,\"\")","v":""},{"$f":"IF('Summary List'!S882<>\"\",'Summary List'!S882,\"\")","v":""}]
[null,null,{"$f":"IF('Summary List'!M765<>\"\",'Summary List'!M765,\"\")","v":""},{"$f":"IF('Summary List'!N765<>\"\",'Summary List'!N765,\"\")","v":""},{"$f":"IF('Summary List'!O765<>\"\",'Summary List'!O765,\"\")","v":""},{"$f":"IF('Summary List'!P765<>\"\",'Summary List'!P765,\"\")","v":""},{"$f":"IF('Summary List'!Q765<>\"\",'Summary List'!Q765,\"\")","v":""},{"$f":"IF('Summary List'!R765<>\"\",'Summary List'!R765,\"\")","v":""},{"$f":"IF('Summary List'!S765<>\"\",'Summary List'!S765,\"\")","v":""},null,{"$f":"IF('Summary List'!M824<>\"\",'Summary List'!M824,\"\")","v":""},{"$f":"IF('Summary List'!N824<>\"\",'Summary List'!N824,\"\")","v":""},{"$f":"IF('Summary List'!O824<>\"\",'Summary List'!O824,\"\")","v":""},{"$f":"IF('Summary List'!P824<>\"\",'Summary List'!P824,\"\")","v":""},{"$f":"IF('Summary List'!Q824<>\"\",'Summary List'!Q824,\"\")","v":""},{"$f":"IF('Summary List'!R824<>\"\",'Summary List'!R824,\"\")","v":""},{"$f":"IF('Summary List'!S824<>\"\",'Summary List'!S824,\"\")","v":""},null,{"$f":"IF('Summary List'!M883<>\"\",'Summary List'!M883,\"\")","v":""},{"$f":"IF('Summary List'!N883<>\"\",'Summary List'!N883,\"\")","v":""},{"$f":"IF('Summary List'!O883<>\"\",'Summary List'!O883,\"\")","v":""},{"$f":"IF('Summary List'!P883<>\"\",'Summary List'!P883,\"\")","v":""},{"$f":"IF('Summary List'!Q883<>\"\",'Summary List'!Q883,\"\")","v":""},{"$f":"IF('Summary List'!R883<>\"\",'Summary List'!R883,\"\")","v":""},{"$f":"IF('Summary List'!S883<>\"\",'Summary List'!S883,\"\")","v":""}]
[null,null,{"$f":"IF('Summary List'!M766<>\"\",'Summary List'!M766,\"\")","v":""},{"$f":"IF('Summary List'!N766<>\"\",'Summary List'!N766,\"\")","v":""},{"$f":"IF('Summary List'!O766<>\"\",'Summary List'!O766,\"\")","v":""},{"$f":"IF('Summary List'!P766<>\"\",'Summary List'!P766,\"\")","v":""},{"$f":"IF('Summary List'!Q766<>\"\",'Summary List'!Q766,\"\")","v":""},{"$f":"IF('Summary List'!R766<>\"\",'Summary List'!R766,\"\")","v":""},{"$f":"IF('Summary List'!S766<>\"\",'Summary List'!S766,\"\")","v":""},null,{"$f":"IF('Summary List'!M825<>\"\",'Summary List'!M825,\"\")","v":""},{"$f":"IF('Summary List'!N825<>\"\",'Summary List'!N825,\"\")","v":""},{"$f":"IF('Summary List'!O825<>\"\",'Summary List'!O825,\"\")","v":""},{"$f":"IF('Summary List'!P825<>\"\",'Summary List'!P825,\"\")","v":""},{"$f":"IF('Summary List'!Q825<>\"\",'Summary List'!Q825,\"\")","v":""},{"$f":"IF('Summary List'!R825<>\"\",'Summary List'!R825,\"\")","v":""},{"$f":"IF('Summary List'!S825<>\"\",'Summary List'!S825,\"\")","v":""},null,{"$f":"IF('Summary List'!M884<>\"\",'Summary List'!M884,\"\")","v":""},{"$f":"IF('Summary List'!N884<>\"\",'Summary List'!N884,\"\")","v":""},{"$f":"IF('Summary List'!O884<>\"\",'Summary List'!O884,\"\")","v":""},{"$f":"IF('Summary List'!P884<>\"\",'Summary List'!P884,\"\")","v":""},{"$f":"IF('Summary List'!Q884<>\"\",'Summary List'!Q884,\"\")","v":""},{"$f":"IF('Summary List'!R884<>\"\",'Summary List'!R884,\"\")","v":""},{"$f":"IF('Summary List'!S884<>\"\",'Summary List'!S884,\"\")","v":""}]
[null,null,{"$f":"IF('Summary List'!M767<>\"\",'Summary List'!M767,\"\")","v":""},{"$f":"IF('Summary List'!N767<>\"\",'Summary List'!N767,\"\")","v":""},{"$f":"IF('Summary List'!O767<>\"\",'Summary List'!O767,\"\")","v":""},{"$f":"IF('Summary List'!P767<>\"\",'Summary List'!P767,\"\")","v":""},{"$f":"IF('Summary List'!Q767<>\"\",'Summary List'!Q767,\"\")","v":""},{"$f":"IF('Summary List'!R767<>\"\",'Summary List'!R767,\"\")","v":""},{"$f":"IF('Summary List'!S767<>\"\",'Summary List'!S767,\"\")","v":""},null,{"$f":"IF('Summary List'!M826<>\"\",'Summary List'!M826,\"\")","v":""},{"$f":"IF('Summary List'!N826<>\"\",'Summary List'!N826,\"\")","v":""},{"$f":"IF('Summary List'!O826<>\"\",'Summary List'!O826,\"\")","v":""},{"$f":"IF('Summary List'!P826<>\"\",'Summary List'!P826,\"\")","v":""},{"$f":"IF('Summary List'!Q826<>\"\",'Summary List'!Q826,\"\")","v":""},{"$f":"IF('Summary List'!R826<>\"\",'Summary List'!R826,\"\")","v":""},{"$f":"IF('Summary List'!S826<>\"\",'Summary List'!S826,\"\")","v":""},null,{"$f":"IF('Summary List'!M885<>\"\",'Summary List'!M885,\"\")","v":""},{"$f":"IF('Summary List'!N885<>\"\",'Summary List'!N885,\"\")","v":""},{"$f":"IF('Summary List'!O885<>\"\",'Summary List'!O885,\"\")","v":""},{"$f":"IF('Summary List'!P885<>\"\",'Summary List'!P885,\"\")","v":""},{"$f":"IF('Summary List'!Q885<>\"\",'Summary List'!Q885,\"\")","v":""},{"$f":"IF('Summary List'!R885<>\"\",'Summary List'!R885,\"\")","v":""},{"$f":"IF('Summary List'!S885<>\"\",'Summary List'!S885,\"\")","v":""}]

{"sheet":"CAMA Map","index":13,"n_rows":2,"n_cols":1,"rows_kept":2,"cut":false,"hidden":false,"merged":[[1,0,38,14],[0,0,0,14]]}
["Map A.  North Carolina Coastal Counties subject to the Coastal Area Management Act (CAMA) "]
["Note:  Map prepared using NCDOT's Environmental Sensitivity Maps (ESM)."]

{"sheet":"Picklists","index":14,"n_rows":103,"n_cols":36,"rows_kept":103,"cut":false,"hidden":true,"merged":[]}
["Picklists"]
["Project Type","NC Counties","NC River Basins","NC River Basins","Primary Surface Water Classifications","DWR Supplemental Classifications","Additional Surface Water Designations Determined By Other Agencies ","303(d) Impairments","Jurisdictional Stream Classifications","NCDOT BMP Type 1 of 3","NCDOT BMP Type 2 of 3","NCDOT BMP Type 3 of 3","Minimum Treatment Volume","Energy Dissipator","Yes/No","Terminus South or East","State SW Permit Required b/c","Water Type","Wetland Type","OpenWater","Buffer Rules","Buffer Impact - Allowable or Mitigable?","Road Impact Type","Hydraulic Structures","Hydraulic Structures for BMPs","Riprap","Impact Type","Median Type","Ditch Geometry","Design Requirement","Drainage Area Units","All Surface Water Classifications","Yes/No","Surface Water Body","Yes, No, N/A","Non-Toolbox BMP "]
["Project Type","NC Counties","River_Basins","NC_CAMA_Counties","PrimSurWatClass","SuppClass","AddSurWaterDes","Imp303d","StreamClass","BMP","BMP4","BMP5","MinTreatmentVolume","Dissipator","Stream","TermSE","StateSW","WaterType","WetlandType","OpenWater","BufferRules","AllMit","ImpactType","HydStruc","HydStrucBMP","Riprap","Impact Type","Median","DitchGeometry","DesignRequirement","DAUnits","AllClass","YesNo","SurfaceWater","YesNoNA","BMP6"]
["Roadway Widening","Alamance","Broad","Beaufort","None","None","None","None","None","Dry Detention Basin","Hazardous Spill Basin","Bioretention Basin","WQv","PSH","Intermittent","South","Project requires an Erosion and Sediment Control Plan and is in a coastal county","Buffer","Bottomland Hardwood","Bay","N/A","Allowable","Bridge","2 Grated Inlet","2 Grated Inlet","N/A","Clearing","Concrete Barrier","V","WQv (ac-ft)","Acres","Class C","Yes",{"$f":"IF('Waterbody Information'!D10=\"\",\"\",\"(1)\"&'Waterbody Information'!D10)","v":""},"Yes","Bio-Embankment"]
["Roadway Relocation","Alexander","Cape Fear","Bertie","Class C","Future Water Supply (FWS) ","NC Natural and Scenic Rivers ","ammonia (NH3)","TNW","Hazardous Spill Basin","Level Spreader","Dry Detention Basin","10% of WQv","Riprap Energy Dissipator Basin","Perennial","East","Project requires an Erosion and Sediment Control Plan and drains to an ORW or HQW","Stream","Floodplain Pool","Estuary","Neuse","Mitigable","Parallel Impact","Berm Drainage Outlet Structure","Berm Drainage Outlet Structure","Class 'A'","Culvert","Grass","Trapezoidal","10% of WQv (ac-ft)","Sq. Miles","Class B","No",{"$f":"IF('Waterbody Information'!D21=\"\",\"\",\"(2)\"&'Waterbody Information'!D21)","v":""},"No","Bio-filtration Conveyance"]
["New Location","Alleghany","Catawba","Brunswick","Class B","High Quality Waters (HQW)","Federal Wild and Scenic Rivers ","aquatic weeds","RPW","Infiltration Basin",null,"Filtration Basin","2-year, 5 min. design storm + 10,000 gal (~1337 cf)",null,null,null,"Project disturbs less than 1 acre but requires a CAMA Major Permit","Wetland","Hardwood Flat","Lake","Tar-Pamlico",null,"Road Crossing","Catch Basin","Catch Basin","Class 'B'","Dam Construction","Raised",null,"2yr, 5min storm runoff + 10,000 gal (cf)",null,"Water Supply I (WS-I)",null,{"$f":"IF('Waterbody Information'!D32=\"\",\"\",\"(3)\"&'Waterbody Information'!D32)","v":""},"N/A","Bio-swale"]
["Bridge Replacement","Anson","Chowan","Camden","Water Supply I (WS-I)","Outstanding Resource Waters (ORW) ","Designated Public Mountain Trout Waters ","biological impairment","NON-RPW","Level Spreader",null,"Infiltration Basin","Level Spreader Length",null,null,null,null,"Open Water","Headwater Wetland","Ocean","Catawba",null,"Other","Culvert","Culvert","Class I","Excavation","Swale",null,"WQv (ac-ft)",null,"Water Supply II (WS-II)",null,{"$f":"IF('Waterbody Information'!D44=\"\",\"\",\"(4)\"&'Waterbody Information'!D44)","v":""},null,"Infiltration Chamber"]
["Non-Road Facility","Ashe","French Broad","Carteret","Water Supply II (WS-II)","Nutrient Sensitive Waters (NSW)","Areas of Environmental Concern ","chlorides",null,"PFSH",null,"Stormwater Wetland",null,null,null,null,null,null,"Mountain Bog","Pond","Randleman Lake",null,null,"Drop Inlet","Diffuse (Sheet) Flow","Class II","Fill",null,null,"Lever Spreader Length (ft)",null,"Water Supply III (WS-III)",null,{"$f":"IF('Waterbody Information'!D55=\"\",\"\",\"(5)\"&'Waterbody Information'!D55)","v":""},null,"Permeable Pavement for Detention"]
["Other","Avery","Hiwassee","Chowan","Water Supply III (WS-III)","Swamp Waters (Sw) ","Designated Shellfish Harvesting Areas","chlorophyll a",null,"Swale",null,"Wet Detention Basin",null,null,null,null,null,null,"Non-Riverine Swamp Forest","Sound","Jordan Lake",null,null,"Endwall","Ditch",null,"Flooding",null,null,null,null,"Water Supply IV (WS-IV)",null,{"$f":"IF('Waterbody Information'!D66=\"\",\"\",\"(6)\"&'Waterbody Information'!D66)","v":""},null,"Permeable Pavement for Infiltration"]
[null,"Beaufort","Little Tennessee","Craven","Water Supply IV (WS-IV)","Trout Waters (Tr) ","Primary Nursery Areas","copper (Cu)",null,"N/A",null,null,null,null,null,null,null,null,"Non-Tidal Freshwater Marsh","Other","Goose Creek",null,null,"Equalizer Pipe","Drop Inlet",null,"Stabilization",null,null,null,null,"Water Supply V (WS-V) ",null,{"$f":"IF('Waterbody Information'!D77=\"\",\"\",\"(7)\"&'Waterbody Information'!D77)","v":""},null,"Sand Filter"]
[null,"Bertie","Lumber","Currituck","Water Supply V (WS-V) ","Unique Wetland (UWL)",null,"dissolved oxygen (DO)",null,null,null,null,null,null,null,null,null,null,"Pine Flat",null,"Other",null,null,"Grated Drop Inlet","Endwall",null,null,null,null,null,null,"Class WL",null,{"$f":"IF('Waterbody Information'!D89=\"\",\"\",\"(8)\"&'Waterbody Information'!D89)","v":""}]
[null,"Bladen","Neuse","Dare","Class WL",null,null,"fecal coliform",null,null,null,null,null,null,null,null,null,null,"Pine Savanna",null,null,null,null,"Grated Drop Inlet (Narrow Slot)","Equalizer Pipe",null,null,null,null,null,null,"Class SC",null,{"$f":"IF('Waterbody Information'!D100=\"\",\"\",\"(9)\"&'Waterbody Information'!D100)","v":""}]
[null,"Brunswick","New ","Gates","Class SC",null,null,"iron (Fe)",null,null,null,null,null,null,null,null,null,null,"Pocosin",null,null,null,null,"Junction Box","Grated Drop Inlet",null,null,null,null,null,null,"Class SB",null,{"$f":"IF('Waterbody Information'!D111=\"\",\"\",\"(10)\"&'Waterbody Information'!D111)","v":""}]
[null,"Buncombe","Pasquotank","Hertford","Class SB",null,null,"lead (Pb)",null,null,null,null,null,null,null,null,null,null,"Riverine Swamp Forest",null,null,null,null,"Manhole","Grated Drop Inlet (Narrow Slot)",null,null,null,null,null,null,"Class SA",null,{"$f":"IF('Waterbody Information'!D122=\"\",\"\",\"(11)\"&'Waterbody Information'!D122)","v":""}]
[null,"Burke","Roanoke","Hyde","Class SA",null,null,"mercury (Hg)",null,null,null,null,null,null,null,null,null,null,"Seep",null,null,null,null,"Narrow Drop Inlet","Junction Box",null,null,null,null,null,null,"Class SWL",null,{"$f":"IF('Waterbody Information'!D134=\"\",\"\",\"(12)\"&'Waterbody Information'!D134)","v":""}]
[null,"Cabarrus","Savannah","New Hanover","Class SWL",null,null,"nutrients",null,null,null,null,null,null,null,null,null,null,"Small-Basin Wetland",null,null,null,null,"Open End Pipe","Manhole",null,null,null,null,null,null,"Other",null,{"$f":"IF('Waterbody Information'!D145=\"\",\"\",\"(13)\"&'Waterbody Information'!D145)","v":""}]
[null,"Caldwell","Tar-Pamlico","Onslow","Other",null,null,"pH",null,null,null,null,null,null,null,null,null,null,"Tidal Freshwater Marsh",null,null,null,null,"Open Throat Catch Basin","Narrow Drop Inlet",null,null,null,null,null,null,"Future Water Supply (FWS) ",null,{"$f":"IF('Waterbody Information'!D156=\"\",\"\",\"(14)\"&'Waterbody Information'!D156)","v":""}]
[null,"Camden","Watauga","Pamlico",null,null,null,"sediment",null,null,null,null,null,null,null,null,null,null,"Unknown",null,null,null,null,"Preformed Scour Hole","Open End Pipe",null,null,null,null,null,null,"High Quality Waters (HQW)",null,{"$f":"IF('Waterbody Information'!D167=\"\",\"\",\"(15)\"&'Waterbody Information'!D167)","v":""}]
[null,"Carteret","White Oak","Pasquotank",null,null,null,"toxicity",null,null,null,null,null,null,null,null,null,null,null,null,null,null,null,"Reinforced Concrete Box Culvert","Open Throat Catch Basin",null,null,null,null,null,null,"Outstanding Resource Waters (ORW) ",null,{"$f":"IF('Waterbody Information'!D179=\"\",\"\",\"(16)\"&'Waterbody Information'!D179)","v":""}]
[null,"Caswell","Yadkin-Pee Dee","Pender",null,null,null,"turbidity",null,null,null,null,null,null,null,null,null,null,null,null,null,null,null,"Reinforced Concrete Pipe","Preformed Scour Hole",null,null,null,null,null,null,"Nutrient Sensitive Waters (NSW)",null,{"$f":"IF('Waterbody Information'!D201=\"\",\"\",\"(18)\"&'Waterbody Information'!D201)","v":""}]
[null,"Catawba",null,"Perquimans",null,null,null,"unknown causes",null,null,null,null,null,null,null,null,null,null,null,null,null,null,null,"Shoulder Berm Gutter","Reinforced Concrete Box Culvert",null,null,null,null,null,null,"Swamp Waters (Sw) ",null,{"$f":"IF('Waterbody Information'!D212=\"\",\"\",\"(19)\"&'Waterbody Information'!D212)","v":""}]
[null,"Chatham",null,"Tyrrell",null,null,null,"zinc (Zn)",null,null,null,null,null,null,null,null,null,null,null,null,null,null,null,"Traffic Bearing Drop Inlet","Reinforced Concrete Pipe",null,null,null,null,null,null,"Trout Waters (Tr) ",null,{"$f":"IF('Waterbody Information'!D224=\"\",\"\",\"(20)\"&'Waterbody Information'!D224)","v":""}]
[null,"Cherokee",null,"Washington",null,null,null,"other",null,null,null,null,null,null,null,null,null,null,null,null,null,null,null,"Traffic Bearing Junction Box","Shoulder Berm Gutter",null,null,null,null,null,null,"Unique Wetland (UWL)",null,{"$f":"IF('Waterbody Information'!D235=\"\",\"\",\"(21)\"&'Waterbody Information'!D235)","v":""}]
[null,"Chowan",null,null,null,null,null,null,null,null,null,null,null,null,null,null,null,null,null,null,null,null,null,"Other","Swale",null,null,null,null,null,null,null,null,{"$f":"IF('Waterbody Information'!D246=\"\",\"\",\"(22)\"&'Waterbody Information'!D246)","v":""}]
[null,"Clay",null,null,null,null,null,null,null,null,null,null,null,null,null,null,null,null,null,null,null,null,null,null,"Traffic Bearing Drop Inlet",null,null,null,null,null,null,null,null,{"$f":"IF('Waterbody Information'!D257=\"\",\"\",\"(23)\"&'Waterbody Information'!D257)","v":""}]
[null,"Cleveland",null,null,null,null,null,null,null,null,null,null,null,null,null,null,null,null,null,null,null,null,null,null,"Traffic Bearing Junction Box",null,null,null,null,null,null,null,null,{"$f":"IF('Waterbody Information'!D269=\"\",\"\",\"(24)\"&'Waterbody Information'!D269)","v":""}]
[null,"Columbus",null,null,null,null,null,null,null,null,null,null,null,null,null,null,null,null,null,null,null,null,null,null,"Other",null,null,null,null,null,null,null,null,{"$f":"IF('Waterbody Information'!D280=\"\",\"\",\"(25)\"&'Waterbody Information'!D280)","v":""}]
[null,"Craven",null,null,null,null,null,null,null,null,null,null,null,null,null,null,null,null,null,null,null,null,null,null,null,null,null,null,null,null,null,null,null,{"$f":"IF('Waterbody Information'!D291=\"\",\"\",\"(26)\"&'Waterbody Information'!D291)","v":""}]
[null,"Cumberland",null,null,null,null,null,null,null,null,null,null,null,null,null,null,null,null,null,null,null,null,null,null,null,null,null,null,null,null,null,null,null,{"$f":"IF('Waterbody Information'!D302=\"\",\"\",\"(27)\"&'Waterbody Information'!D302)","v":""}]
[null,"Currituck",null,null,null,null,null,null,null,null,null,null,null,null,null,null,null,null,null,null,null,null,null,null,null,null,null,null,null,null,null,null,null,{"$f":"IF('Waterbody Information'!D314=\"\",\"\",\"(28)\"&'Waterbody Information'!D314)","v":""}]
[null,"Dare",null,null,null,null,null,null,null,null,null,null,null,null,null,null,null,null,null,null,null,null,null,null,null,null,null,null,null,null,null,null,null,{"$f":"IF('Waterbody Information'!D325=\"\",\"\",\"(29)\"&'Waterbody Information'!D325)","v":""}]
[null,"Davidson",null,null,null,null,null,null,null,null,null,null,null,null,null,null,null,null,null,null,null,null,null,null,null,null,null,null,null,null,null,null,null,{"$f":"IF('Waterbody Information'!D336=\"\",\"\",\"(30)\"&'Waterbody Information'!D336)","v":""}]
[null,"Davie",null,null,null,null,null,null,null,null,null,null,null,null,null,null,null,null,null,null,null,null,null,null,null,null,null,null,null,null,null,null,null,{"$f":"IF('Waterbody Information'!D347=\"\",\"\",\"(31)\"&'Waterbody Information'!D347)","v":""}]
[null,"Duplin",null,null,null,null,null,null,null,null,null,null,null,null,null,null,null,null,null,null,null,null,null,null,null,null,null,null,null,null,null,null,null,{"$f":"IF('Waterbody Information'!D359=\"\",\"\",\"(32)\"&'Waterbody Information'!D359)","v":""}]
[null,"Durham",null,null,null,null,null,null,null,null,null,null,null,null,null,null,null,null,null,null,null,null,null,null,null,null,null,null,null,null,null,null,null,{"$f":"IF('Waterbody Information'!D370=\"\",\"\",\"(33)\"&'Waterbody Information'!D370)","v":""}]
[null,"Edgecombe",null,null,null,null,null,null,null,null,null,null,null,null,null,null,null,null,null,null,null,null,null,null,null,null,null,null,null,null,null,null,null,{"$f":"IF('Waterbody Information'!D381=\"\",\"\",\"(34)\"&'Waterbody Information'!D381)","v":""}]
[null,"Forsyth",null,null,null,null,null,null,null,null,null,null,null,null,null,null,null,null,null,null,null,null,null,null,null,null,null,null,null,null,null,null,null,{"$f":"IF('Waterbody Information'!D392=\"\",\"\",\"(35)\"&'Waterbody Information'!D392)","v":""}]
[null,"Franklin",null,null,null,null,null,null,null,null,null,null,null,null,null,null,null,null,null,null,null,null,null,null,null,null,null,null,null,null,null,null,null,{"$f":"IF('Waterbody Information'!D404=\"\",\"\",\"(36)\"&'Waterbody Information'!D404)","v":""}]
[null,"Gaston",null,null,null,null,null,null,null,null,null,null,null,null,null,null,null,null,null,null,null,null,null,null,null,null,null,null,null,null,null,null,null,{"$f":"IF('Waterbody Information'!D415=\"\",\"\",\"(37)\"&'Waterbody Information'!D415)","v":""}]
[null,"Gates",null,null,null,null,null,null,null,null,null,null,null,null,null,null,null,null,null,null,null,null,null,null,null,null,null,null,null,null,null,null,null,{"$f":"IF('Waterbody Information'!D426=\"\",\"\",\"(38)\"&'Waterbody Information'!D426)","v":""}]
[null,"Graham",null,null,null,null,null,null,null,null,null,null,null,null,null,null,null,null,null,null,null,null,null,null,null,null,null,null,null,null,null,null,null,{"$f":"IF('Waterbody Information'!D437=\"\",\"\",\"(39)\"&'Waterbody Information'!D437)","v":""}]
[null,"Granville",null,null,null,null,null,null,null,null,null,null,null,null,null,null,null,null,null,null,null,null,null,null,null,null,null,null,null,null,null,null,null,{"$f":"IF('Waterbody Information'!D449=\"\",\"\",\"(40)\"&'Waterbody Information'!D449)","v":""}]
[null,"Greene",null,null,null,null,null,null,null,null,null,null,null,null,null,null,null,null,null,null,null,null,null,null,null,null,null,null,null,null,null,null,null,{"$f":"IF('Waterbody Information'!D460=\"\",\"\",\"(41)\"&'Waterbody Information'!D460)","v":""}]
[null,"Guilford",null,null,null,null,null,null,null,null,null,null,null,null,null,null,null,null,null,null,null,null,null,null,null,null,null,null,null,null,null,null,null,{"$f":"IF('Waterbody Information'!D471=\"\",\"\",\"(42)\"&'Waterbody Information'!D471)","v":""}]
[null,"Halifax",null,null,null,null,null,null,null,null,null,null,null,null,null,null,null,null,null,null,null,null,null,null,null,null,null,null,null,null,null,null,null,{"$f":"IF('Waterbody Information'!D482=\"\",\"\",\"(43)\"&'Waterbody Information'!D482)","v":""}]
[null,"Harnett",null,null,null,null,null,null,null,null,null,null,null,null,null,null,null,null,null,null,null,null,null,null,null,null,null,null,null,null,null,null,null,{"$f":"IF('Waterbody Information'!D494=\"\",\"\",\"(44)\"&'Waterbody Information'!D494)","v":""}]
[null,"Haywood",null,null,null,null,null,null,null,null,null,null,null,null,null,null,null,null,null,null,null,null,null,null,null,null,null,null,null,null,null,null,null,{"$f":"IF('Waterbody Information'!D505=\"\",\"\",\"(45)\"&'Waterbody Information'!D505)","v":""}]
[null,"Henderson",null,null,null,null,null,null,null,null,null,null,null,null,null,null,null,null,null,null,null,null,null,null,null,null,null,null,null,null,null,null,null,{"$f":"IF('Waterbody Information'!D516=\"\",\"\",\"(46)\"&'Waterbody Information'!D516)","v":""}]
[null,"Hertford",null,null,null,null,null,null,null,null,null,null,null,null,null,null,null,null,null,null,null,null,null,null,null,null,null,null,null,null,null,null,null,{"$f":"IF('Waterbody Information'!D527=\"\",\"\",\"(47)\"&'Waterbody Information'!D527)","v":""}]
[null,"Hoke",null,null,null,null,null,null,null,null,null,null,null,null,null,null,null,null,null,null,null,null,null,null,null,null,null,null,null,null,null,null,null,{"$f":"IF('Waterbody Information'!D539=\"\",\"\",\"(48)\"&'Waterbody Information'!D539)","v":""}]
[null,"Hyde",null,null,null,null,null,null,null,null,null,null,null,null,null,null,null,null,null,null,null,null,null,null,null,null,null,null,null,null,null,null,null,{"$f":"IF('Waterbody Information'!D550=\"\",\"\",\"(49)\"&'Waterbody Information'!D550)","v":""}]
[null,"Iredell",null,null,null,null,null,null,null,null,null,null,null,null,null,null,null,null,null,null,null,null,null,null,null,null,null,null,null,null,null,null,null,{"$f":"IF('Waterbody Information'!D561=\"\",\"\",\"(50)\"&'Waterbody Information'!D561)","v":""}]
[null,"Jackson",null,null,null,null,null,null,null,null,null,null,null,null,null,null,null,null,null,null,null,null,null,null,null,null,null,null,null,null,null,null,null,{"$f":"IF('Waterbody Information'!D572=\"\",\"\",\"(51)\"&'Waterbody Information'!D572)","v":""}]
[null,"Johnston"]
[null,"Jones"]
[null,"Lee"]
[null,"Lenoir"]
[null,"Lincoln"]
[null,"Martin"]
[null,"Macon"]
[null,"Madison"]
[null,"Mcdowell"]
[null,"Mecklenburg"]
[null,"Mitchell"]
[null,"Montgomery"]
[null,"Moore"]
[null,"Nash"]
[null,"New Hanover"]
[null,"Northampton"]
[null,"Onslow"]
[null,"Orange"]
[null,"Pamlico"]
[null,"Pasquotank"]
[null,"Pender"]
[null,"Perquimans"]
[null,"Person"]
[null,"Pitt"]
[null,"Polk"]
[null,"Randolph"]
[null,"Richmond"]
[null,"Robeson"]
[null,"Rockingham"]
[null,"Rowan"]
[null,"Rutherford"]
[null,"Sampson"]
[null,"Scotland"]
[null,"Stanly"]
[null,"Stokes"]
[null,"Surry"]
[null,"Swain"]
[null,"Transylvania"]
[null,"Tyrrell"]
[null,"Union"]
[null,"Vance"]
[null,"Wake"]
[null,"Warren"]
[null,"Washington"]
[null,"Watauga"]
[null,"Wayne"]
[null,"Wilkes"]
[null,"Wilson"]
[null,"Yadkin"]
[null,"Yancey"]