{"text_format":"1","workbook":"xlsx","n_sheets":9,"sheets":["Instructions","1. Watershed Characteristics","2. BMP Characteristics","3. Development Summary","Assignments","WS Calcs","BMP Calcs","Watershed Reset","BMP Reset"],"not_rendered":{"charts":0,"images":3,"macros":1,"external_links":0,"defined_names":22,"comments":0,"pivot_tables":0},"unopened":[],"bounds":{"document_bytes":16777216,"sheet_cells":100000,"rows_first":2000,"rows_last":500,"rows_between":2000,"halvings":0,"cell_chars":16384,"cell_head_chars":4096},"cells_cut":0,"cells_raw":0,"read":"whole","date_system":"1900"}

{"sheet":"Instructions","index":0,"n_rows":49,"n_cols":25,"rows_kept":49,"cut":false,"hidden":false,"merged":[[4,19,4,20],[48,10,50,17]]}
[]
[]
[]
[null,null,null,null,null,null,null,null,null,null,null,null,null,null,null,null,null,null,null,"Table 1. List of counties located within, or partially within, each region."]
[null,null,null,null,null,null,null,null,null,null,null,null,null,null,null,null,null,null,null,"PIEDMONT & MOUNTAIN",null,"COASTAL PLAIN","CAMA Counties","TRIASSIC BASIN","SANDHILLS"]
[null,null,null,null,null,null,null,null,null,null,null,null,null,null,null,null,null,null,null,"Rockingham","Lee","Bladen","Beaufort","Durham","Montgomery"]
[null,null,null,null,null,null,null,null,null,null,null,null,null,null,null,null,null,null,null,"Alamance","Lincoln","Columbus","Bertie","Granville","Moore"]
[null,null,null,null,null,null,null,null,null,null,null,null,null,null,null,null,null,null,null,"Alexander","Macon","Cumberland","Brunswick","Wake","Lee"]
[null,null,null,null,null,null,null,null,null,null,null,null,null,null,null,null,null,null,null,"Alleghany","Madison","Duplin","Camden","Chatham","Harnett"]
[null,null,null,null,null,null,null,null,null,null,null,null,null,null,null,null,null,null,null,"Anson","McDowell","Edgecombe","Carteret","Lee","Cumberland"]
[null,null,null,null,null,null,null,null,null,null,null,null,null,null,null,null,null,null,null,"Ashe","Mecklenburg","Halifax","Chowan","Moore","Hoke"]
[null,null,null,null,null,null,null,null,null,null,null,null,null,null,null,null,null,null,null,"Avery","Mitchell","Harnett","Craven","Montgomery","Robeson"]
[null,null,null,null,null,null,null,null,null,null,null,null,null,null,null,null,null,null,null,"Buncombe","Montgomery","Hoke","Currituck","Richmond","Scotland"]
[null,null,null,null,null,null,null,null,null,null,null,null,null,null,null,null,null,null,null,"Burke","Moore","Johnston","Dare","Anson","Richmond"]
[null,null,null,null,null,null,null,null,null,null,null,null,null,null,null,null,null,null,null,"Cabarrus","Nash","Jones","Gates","Union"]
[null,null,null,null,null,null,null,null,null,null,null,null,null,null,null,null,null,null,null,"Caldwell","Northampton","Martin","Hertford","Rockingham"]
[null,null,null,null,null,null,null,null,null,null,null,null,null,null,null,null,null,null,null,"Caswell","Orange","Moore","Hyde","Stokes"]
[null,null,null,null,null,null,null,null,null,null,null,null,null,null,null,null,null,null,null,"Catawba","Person","Nash","New Hanover","Davie"]
[null,null,null,null,null,null,null,null,null,null,null,null,null,null,null,null,null,null,null,"Chatham","Polk","Northampton","Onslow"]
[null,null,null,null,null,null,null,null,null,null,null,null,null,null,null,null,null,null,null,"Cherokee","Randolph","Pitt","Pamlico"]
[null,null,null,null,null,null,null,null,null,null,null,null,null,null,null,null,null,null,null,"Clay","Richmond","Richmond","Pasquotank"]
[null,null,null,null,null,null,null,null,null,null,null,null,null,null,null,null,null,null,null,"Cleveland","Rowan","Robeson","Pender"]
[null,null,null,null,null,null,null,null,null,null,null,null,null,null,null,null,null,null,null,"Davidson","Rutherford","Sampson","Perquimans"]
[null,null,null,null,null,null,null,null,null,null,null,null,null,null,null,null,null,null,null,"Davie","Stanley","Scotland","Tyrrell"]
[null,null,null,null,null,null,null,null,null,null,null,null,null,null,null,null,null,null,null,"Durham","Stokes","Wake","Washington"]
[null,null,null,null,null,null,null,null,null,null,null,null,null,null,null,null,null,null,null,"Forsyth","Surry","Wayne"]
[null,null,null,null,null,null,null,null,null,null,null,null,null,null,null,null,null,null,null,"Franklin","Swain"]
[null,null,null,null,null,null,null,null,null,null,null,null,null,null,null,null,null,null,null,"Gaston","Transylvania"]
[null,null,null,null,null,null,null,null,null,null,null,null,null,null,null,null,null,null,null,"Graham","Union"]
[null,null,null,null,null,null,null,null,null,null,null,null,null,null,null,null,null,null,null,"Granville","Vance"]
[null,null,null,null,null,null,null,null,null,null,null,null,null,null,null,null,null,null,null,"Guilford","Wake"]
[null,null,null,null,null,null,null,null,null,null,null,null,null,null,null,null,null,null,null,"Halifax","Warren"]
[null,null,null,null,null,null,null,null,null,null,null,null,null,null,null,null,null,null,null,"Harnett","Watauga"]
[null,null,null,null,null,null,null,null,null,null,null,null,null,null,null,null,null,null,null,"Haywood","Wilkes"]
[null,null,null,null,null,null,null,null,null,null,null,null,null,null,null,null,null,null,null,"Henderson","Wilson"]
[null,null,null,null,null,null,null,null,null,null,null,null,null,null,null,null,null,null,null,"Iredell","Yadkin"]
[null,null,null,null,null,null,null,null,null,null,null,null,null,null,null,null,null,null,null,"Jackson","Yancey"]
[null,null,null,null,null,null,null,null,null,null,null,null,null,null,null,null,null,null,null,"Johnston"]
[]
[]
[]
[]
[]
[]
[]
[]
[]
[]
[null,null,null,null,null,null,null,null,null,null,"Locations for which rainfall data is available. Choose the location that most closely represents the site's precipitation characteristics (not necessarily the location that is geographically the closest) on the \"Watershed Characteristics\" page. "]

{"sheet":"1. Watershed Characteristics","index":1,"n_rows":67,"n_cols":18,"rows_kept":67,"cut":false,"hidden":false,"merged":[[66,2,69,6],[58,11,59,15],[58,16,59,17],[60,11,61,15],[60,16,61,17],[47,11,47,12],[51,11,51,12],[48,2,48,6],[58,2,58,6],[55,11,55,17],[56,11,57,15],[56,16,57,17],[55,2,55,6],[48,11,48,12],[49,11,49,12],[50,11,50,12],[21,11,21,13],[20,11,20,13],[20,14,20,17],[21,2,21,3],[21,4,21,6],[20,4,20,6],[17,1,17,18],[13,1,13,18],[14,1,14,18],[15,1,15,18],[16,1,16,18],[27,3,29,3],[27,4,29,4],[27,5,29,5],[25,10,25,18],[25,1,25,7],[27,15,29,15],[27,16,29,16],[27,6,29,6],[27,2,28,2],[27,17,29,17],[27,12,29,12],[27,13,29,13],[27,14,29,14],[22,2,22,3],[22,11,22,13],[3,1,3,2],[12,1,12,2],[4,1,4,17],[20,2,20,3],[5,1,5,15],[7,1,7,15],[8,1,8,17],[18,1,18,18],[9,1,9,18],[22,14,22,17],[22,4,22,6],[10,1,10,17],[6,1,6,17],[21,14,21,17],[95,2,96,2],[95,4,96,4],[95,3,96,3],[93,4,94,4],[93,3,94,3],[93,2,94,2],[46,11,46,12],[45,11,45,12],[44,11,44,12],[43,11,43,12],[30,2,30,6],[42,11,42,12],[41,11,41,12],[40,11,40,12],[33,2,33,6],[39,2,39,6],[44,2,44,6]]}
[]
[null,"Watershed Characteristics"]
[]
[null,"Instructions"]
[null,"     1. Select your physiographic/geologic region. (see map on 'instructions' page)"]
[null,"     2. Enter the area of the entire development in square feet (ft2)."]
[null,"     3. Select the location that is most representative of the site's precipitation characteristics. (see map on 'instructions' page)"]
[null,"     4. For each applicable land use, enter the total area of that land use that lies within the development under pre-development conditions."]
[null,"     5. For each applicable land use, enter the total area of that land use that lies within the development under post-development conditions, before BMP implementation."]
[null,"     6. Ensure that the sum of pre- and post-development areas entered equal the orginal development area. "]
[null,"     7. Continue to \"BMP Characteristics\" tab."]
[]
[null,"Additional Guidelines"]
[null,"     - For non-residential watersheds, indicate acreages of each land use type in Column 1 for both pre- and post-development conditions."]
[null,"     - For residential watersheds, complete the required information in Column 2 for both pre- and post-development conditions. "]
[null,"     - If a given land use is not present in the given watershed, leave the cell blank or enter a zero."]
[null,"     - Ensure that land use areas entered for both pre- and post-development conditions match the total development area entered in cell O21."]
[null,"     - Residential areas may be entered by average lot size (column, part A), or may be separated into individual land uses (column 2, part B) -- do NOT list out individual land uses within an \n        area already described by lot size. "]
[null,"     - Unless runoff flowing onto the development from offsite is routed separately around or through the site, the offsite catchment area draining in must be included in the acreage\n        values of the appropriate land use(s) and treated."]
[]
[null,null,"Physiographic/Geologic Region:",null,null,null,null,null,null,null,null,"Total Development Area (ft2): "]
[null,null,"Soil Hydrologic Group",null,null,null,null,null,null,null,null,"Development Name:"]
[null,null,"Precipitation location:",null,null,null,null,null,null,null,null,"Model Prepared By: "]
[]
[]
[null,"COLUMN 1 -- NON-RESIDENTIAL LAND USES",null,null,null,null,null,null,null,null,"COLUMN 2 -- RESIDENTIAL LAND USES"]
[]
[null,null,null,"TN EMC\n(mg/L)","TP EMC\n(mg/L)","Pre-\nDevelopment\n(ft2)","Post-\nDevelopment\n(ft2)",null,null,null,null,null,"Custom Lot Size (ac)","Age\n(yrs)","TN EMC\n(mg/L)","TP EMC\n(mg/L)","Pre-\nDevelopment\n(ft2)","Post-\nDevelopment\n(ft2)"]
[]
[]
[null,null,"COMMERCIAL",null,null,null,null,null,null,null,null,"PART A"]
[null,null,"     Parking lot",{"$f":"Assignments!D13","v":1.44},{"$f":"Assignments!E13","v":0.16},null,null,null,null,null,null,"     ⅛-ac lots","--",null,{"$f":"IF(N32=\"After 1995\",Assignments!Q29,(IF(N32=\"Before 1995\",Assignments!Q62,IF(N32=\"New\",MAX(Assignments!Q29,Assignments!Q62),\"--\"))))","v":"--"},{"$f":"IF(N32=\"After 1995\",Assignments!Q18,(IF(N32=\"Before 1995\",Assignments!Q51,IF(N32=\"New\",MAX(Assignments!Q18,Assignments!Q51),\"--\"))))","v":"--"}]
[null,null,"     Roof",{"$f":"Assignments!D14","v":1.08},{"$f":"Assignments!E14","v":0.15},null,null,null,null,null,null,"     ¼-ac lots ","--",null,{"$f":"IF(N33=\"After 1995\",Assignments!Q28,(IF(N33=\"Before 1995\",Assignments!Q61,IF(N33=\"New\",MAX(Assignments!Q28,Assignments!Q61),\"--\"))))","v":"--"},{"$f":"IF(N33=\"After 1995\",Assignments!Q17,(IF(N33=\"Before 1995\",Assignments!Q50,IF(N33=\"New\",MAX(Assignments!Q17,Assignments!Q50),\"--\"))))","v":"--"}]
[null,null,"INDUSTRIAL",null,null,null,null,null,null,null,null,"     ½-ac lots","--",null,{"$f":"IF(N34=\"After 1995\",Assignments!Q27,(IF(N34=\"Before 1995\",Assignments!Q60,IF(N34=\"New\",MAX(Assignments!Q27,Assignments!Q60),\"--\"))))","v":"--"},{"$f":"IF(N34=\"After 1995\",Assignments!Q16,(IF(N34=\"Before 1995\",Assignments!Q49,IF(N34=\"New\",MAX(Assignments!Q16,Assignments!Q49),\"--\"))))","v":"--"}]
[null,null,"     Parking lot",{"$f":"Assignments!D16","v":1.44},{"$f":"Assignments!E16","v":0.39},null,null,null,null,null,null,"     1-ac lots","--",null,{"$f":"IF(N35=\"After 1995\",Assignments!Q26,(IF(N35=\"Before 1995\",Assignments!Q59,IF(N35=\"New\",MAX(Assignments!Q26, Assignments!Q59),\"--\"))))","v":"--"},{"$f":"IF(N35=\"After 1995\",Assignments!Q15,(IF(N35=\"Before 1995\",Assignments!Q48,IF(N35=\"New\",MAX(Assignments!Q15,Assignments!Q48),\"--\"))))","v":"--"}]
[null,null,"     Roof",{"$f":"Assignments!D17","v":1.08},{"$f":"Assignments!E17","v":0.15},null,null,null,null,null,null,"     2-ac lots","--",null,{"$f":"IF(N36=\"After 1995\",Assignments!Q25,(IF(N36=\"Before 1995\",Assignments!Q58,IF(N36=\"New\",MAX(Assignments!Q25,Assignments!Q58),\"--\"))))","v":"--"},{"$f":"IF(N36=\"After 1995\",Assignments!Q14,(IF(N36=\"Before 1995\",Assignments!Q47,IF(N36=\"New\",MAX(Assignments!Q14,Assignments!Q47),\"--\"))))","v":"--"}]
[null,null,"     Access road",{"$f":"Assignments!D18","v":1.72},{"$f":"Assignments!E18","v":0.34},null,null,null,null,null,null,"     Multi-family","--",null,{"$f":"IF(N37=\"After 1995\",Assignments!Q31,(IF(N37=\"Before 1995\",Assignments!Q64,IF(N37=\"New\",MAX(Assignments!Q31,Assignments!Q64),\"--\"))))","v":"--"},{"$f":"IF(N37=\"After 1995\",Assignments!Q20,(IF(N37=\"Before 1995\",Assignments!Q53,IF(N37=\"New\",MAX(Assignments!Q20,Assignments!Q53),\"--\"))))","v":"--"}]
[null,null,"     Impervious, uncovered storage",{"$f":"Assignments!D19","v":1.72},{"$f":"Assignments!E19","v":0.34},null,null,null,null,null,null,"     Townhomes","--",null,{"$f":"IF(N38=\"Before 1995\",Assignments!Q30,(IF(N38=\"After 1995\",Assignments!Q63,IF(N38=\"New\",MAX(Assignments!Q30,Assignments!Q63),\"--\"))))","v":"--"},{"$f":"IF(N38=\"After 1995\",Assignments!Q19,(IF(N38=\"Before 1995\",Assignments!Q52,IF(N38=\"New\",MAX(Assignments!Q19,Assignments!Q52),\"--\"))))","v":"--"}]
[null,null,"     Pervious, uncovered storage",{"$f":"Assignments!D20","v":1.47},{"$f":"Assignments!E20","v":0.25},null,null,null,null,null,null,"     Custom Lot Size",null,null,{"$f":"IF(M39<>0,'WS Calcs'!C77,\"--\")","v":"--"},{"$f":"IF(M39<>0,'WS Calcs'!C78,\"--\")","v":"--"}]
[null,null,"TRANSPORTATION",null,null,null,null,null,null,null,null,"PART B"]
[null,null,"     Primary road EOP",{"$f":"Assignments!D22","v":1.46},{"$f":"Assignments!E22","v":0.08},null,null,null,null,null,null,"     Roadway",null,"--",{"$f":"Assignments!D57","v":1.4},{"$f":"Assignments!E57","v":0.52}]
[null,null,"     Secondary road EOP",{"$f":"Assignments!D23","v":0.54},{"$f":"Assignments!E23","v":0.1},null,null,null,null,null,null,"     Driveway",null,1,{"$f":"Assignments!D58","v":1.44},{"$f":"Assignments!E58","v":0.39}]
[null,null,"     Bridge EOP",{"$f":"Assignments!D24","v":0.98},{"$f":"Assignments!E24","v":0.17},null,null,null,null,null,null,"     Parking lot",null,"--",{"$f":"Assignments!D59","v":1.44},{"$f":"Assignments!E59","v":0.39}]
[null,null,"     Sidewalk",{"$f":"Assignments!D25","v":1.4},{"$f":"Assignments!E25","v":1.1599999999999999},null,null,null,null,null,null,"     Roof",null,"--",{"$f":"Assignments!D60","v":1.08},{"$f":"Assignments!E60","v":0.15}]
[null,null,"REST AREA",null,null,null,null,null,null,null,null,"     Sidewalk/Patio",null,"--",{"$f":"Assignments!D61","v":1.4},{"$f":"Assignments!E61","v":1.1599999999999999}]
[null,null,"     Parking lot (car)",{"$f":"Assignments!D27","v":2.13},{"$f":"Assignments!E27","v":0.48},null,null,null,null,null,null,"     Lawn",null,"--",{"$f":"Assignments!D62","v":2.2400000000000002},{"$f":"Assignments!E62","v":0.44}]
[null,null,"     Parking lot (truck)",{"$f":"Assignments!D28","v":3.21},{"$f":"Assignments!E28","v":1.38},null,null,null,null,null,null,"     Managed pervious",null,"--",{"$f":"Assignments!D63","v":3.06},{"$f":"Assignments!E63","v":0.59}]
[null,null,"     Roof",{"$f":"Assignments!D29","v":1.08},{"$f":"Assignments!E29","v":0.15},null,null,null,null,null,null,"     Forest",null,"--",{"$f":"Assignments!D64","v":1.47},{"$f":"Assignments!E64","v":0.25}]
[null,null,"PERVIOUS",null,null,null,null,null,null,null,null,"     Natural wetland*",null,"--","--","--"]
[null,null,"     Managed lawn (fertilized)",{"$f":"Assignments!D31","v":3.06},{"$f":"Assignments!E31","v":0.59},null,null,null,null,null,null,"     Riparian buffer*",null,"--","--","--"]
[null,null,"     Open space (unfertilized)",{"$f":"Assignments!D32","v":1.47},{"$f":"Assignments!E32","v":0.25},null,null,null,null,null,null,"     Open water*",null,"--","--","--"]
[null,null,"     Open/Landscaped",{"$f":"Assignments!D33","v":2.2400000000000002},{"$f":"Assignments!E33","v":0.44},null,null,null,null,null,null,"LAND TAKEN UP BY BMPs",null,"--",{"$f":"Assignments!D65","v":1.08},{"$f":"Assignments!E65","v":0.15}]
[null,null,"     Agriculture (crop)",{"$f":"Assignments!D34","v":4.2300000000000004},{"$f":"Assignments!E34","v":1.23}]
[null,null,"     Agriculture (pasture)",{"$f":"Assignments!D35","v":3.61},{"$f":"Assignments!E35","v":1.56}]
[null,null,"     Forest",{"$f":"Assignments!D36","v":1.47},{"$f":"Assignments!E36","v":0.25}]
[null,null,"UNSPECIFIED LAND USE",null,null,null,null,null,null,null,null,"LAND USE AREA CHECK"]
[null,null,"     Blank 1",{"$f":"Assignments!D38","v":"NA"},{"$f":"Assignments!E38","v":"NA"},null,null,null,null,null,null,"Total Development Area Entered (ft2):",null,null,null,null,{"$f":"O21","v":0}]
[null,null,"     Blank 2",{"$f":"Assignments!D39","v":"NA"},{"$f":"Assignments!E39","v":"NA"}]
[null,null,"JURISDICTIONAL LANDS*",null,null,null,null,null,null,null,null,"Total Pre-Development Calculated Area (ft2):",null,null,null,null,{"$f":"SUM(F32:F33,F35:F39,F41:F48,F50:F55,Q32:Q39,Q41:Q52,F60:F63,F57:F58)","v":0}]
[null,null,"     Natural wetland","--","--"]
[null,null,"     Riparian buffer","--","--",null,null,null,null,null,null,"Total Post-Development Calculated Area (ft2):",null,null,null,null,{"$f":"SUM(G32:G33,G35:G39,G41:G48,G50:G55,R32:R39,R41:R52,G60:G63,G57:G58)","v":0}]
[null,null,"     Open water","--","--"]
[null,null,"LAND TAKEN UP BY BMPs",{"$f":"Assignments!D65","v":1.08},{"$f":"Assignments!E65","v":0.15}]
[]
[null,null,"*Jurisdictional land uses are not included in nutrient/flow calculations."]
[]
[null,null,{"$f":"IF(Q57<>O21, \"Total pre-development land use areas do not sum to equal entered development size!!!\", IF(Q59<>O21, \"Total post-development land use areas do not sum to equal entered development size!!!\", IF(Q61<>O21, \"Land use areas entered for pre-development conditions do not sum to equal areas entered for post-development conditions!!!\", \"\")))","v":""}]

{"sheet":"2. BMP Characteristics","index":2,"n_rows":108,"n_cols":52,"rows_kept":108,"cut":false,"hidden":false,"merged":[[21,39,21,40],[20,30,20,35],[21,30,21,35],[21,36,21,38],[18,36,18,38],[19,36,19,38],[20,36,20,38],[18,39,18,40],[19,39,19,40],[20,39,20,40],[5,30,5,35],[6,30,6,35],[7,30,7,35],[13,30,13,35],[14,30,14,35],[8,30,8,35],[9,30,9,35],[10,30,10,35],[107,4,107,8],[107,11,107,15],[107,18,107,22],[107,25,107,29],[107,32,107,36],[16,1,17,25],[12,39,12,40],[11,1,11,27],[14,36,14,38],[12,36,12,38],[15,30,15,35],[15,36,15,38],[15,39,15,40],[16,30,16,35],[17,30,17,35],[16,39,16,40],[17,39,17,40],[11,30,11,35],[12,30,12,35],[16,36,16,38],[17,36,17,38],[6,39,6,40],[6,36,6,38],[5,39,5,40],[11,39,11,40],[8,39,8,40],[9,39,9,40],[10,39,10,40],[8,36,8,38],[10,36,10,38],[9,36,9,38],[107,39,107,43],[18,30,18,35],[19,30,19,35],[1,30,1,41],[2,41,4,41],[2,30,4,34],[2,35,4,35],[2,39,4,39],[2,36,4,38],[5,36,5,38],[13,39,13,40],[14,39,14,40],[11,36,11,38],[13,36,13,38],[7,36,7,38],[7,39,7,40],[24,11,24,15],[39,11,42,11],[24,18,24,22],[24,39,24,43],[24,32,24,36],[39,36,42,36],[39,22,42,22],[39,18,42,18],[39,20,42,20],[24,25,24,29],[32,47,36,51],[26,47,26,51],[39,47,42,47],[39,51,42,51],[31,4,31,43],[39,13,42,13],[39,15,42,15],[39,32,42,32],[39,39,42,39],[39,41,42,41],[39,43,42,43],[39,25,42,25],[39,27,42,27],[39,29,42,29],[39,34,42,34],[39,1,42,1],[39,6,42,6],[39,8,42,8],[39,4,42,4],[24,4,24,8]]}
[]
[null,"BMP Characteristics",null,null,null,null,null,null,null,null,null,null,null,null,null,null,null,null,null,null,null,null,null,null,null,null,null,null,null,null,"BMP DETAILS"]
[null,null,null,null,null,null,null,null,null,null,null,null,null,null,null,null,null,null,null,null,null,null,null,null,null,null,null,null,null,null,"BMP",null,null,null,null,null,"Volume Reduction (%)",null,null,"TN Effluent Concen. (mg/L)",null,"TP Effluent Concen. (mg/L)"]
[null,"Instructions"]
[null,"     1. Select the type of BMP for each catchment."]
[null,"     2. Enter the area of each land use type in the contributing drainage area for each BMP. ",null,null,null,null,null,null,null,null,null,null,null,null,null,null,null,null,null,null,null,null,null,null,null,null,null,null,null,null,"Bioembankment",null,null,null,null,null,{"$f":"VLOOKUP(Assignments!AB3,Assignments!$V$23:$AA$118,4,FALSE)","v":{"$error":"#N/A"}},null,null,{"$f":"Assignments!C69","v":"NA"},null,{"$f":"Assignments!D69","v":"NA"}]
[null,"     3. Continue to \"Development Summary\" tab.",null,null,null,null,null,null,null,null,null,null,null,null,null,null,null,null,null,null,null,null,null,null,null,null,null,null,null,null,"Biofiltration Conveyance",null,null,null,null,null,{"$f":"VLOOKUP(Assignments!AB4,Assignments!$V$23:$AA$118,4,FALSE)","v":{"$error":"#N/A"}},null,null,{"$f":"Assignments!C70","v":"NA"},null,{"$f":"Assignments!D70","v":"NA"}]
[null,null,null,null,null,null,null,null,null,null,null,null,null,null,null,null,null,null,null,null,null,null,null,null,null,null,null,null,null,null,"Bioretention with IWS",null,null,null,null,null,{"$f":"VLOOKUP(Assignments!AB5,Assignments!$V$23:$AA$118,4,FALSE)","v":{"$error":"#N/A"}},null,null,{"$f":"Assignments!C71","v":0.56999999999999995},null,{"$f":"Assignments!D71","v":7.0000000000000007E-2}]
[null,"Additional Guidelines",null,null,null,null,null,null,null,null,null,null,null,null,null,null,null,null,null,null,null,null,null,null,null,null,null,null,null,null,"Bioretention without IWS",null,null,null,null,null,{"$f":"VLOOKUP(Assignments!AB6,Assignments!$V$23:$AA$118,4,FALSE)","v":{"$error":"#N/A"}},null,null,{"$f":"Assignments!C72","v":0.79},null,{"$f":"Assignments!D72","v":0.17}]
[null,"     - This spreadsheet allows the development to be divided into as many as 6 smaller catchments. ",null,null,null,null,null,null,null,null,null,null,null,null,null,null,null,null,null,null,null,null,null,null,null,null,null,null,null,null,"Dry Detention Basin",null,null,null,null,null,{"$f":"VLOOKUP(Assignments!AB7,Assignments!$V$23:$AA$118,4,FALSE)","v":{"$error":"#N/A"}},null,null,{"$f":"Assignments!C73","v":1.58},null,{"$f":"Assignments!D73","v":0.22}]
[null,"     - BMPs 1, 2, and 3 for a given catchment are assumed to operate in series, with the outflow from 1 serving as the inflow to 2, etc. ",null,null,null,null,null,null,null,null,null,null,null,null,null,null,null,null,null,null,null,null,null,null,null,null,null,null,null,null,"Green Roof",null,null,null,null,null,{"$f":"VLOOKUP(Assignments!AB8,Assignments!$V$23:$AA$118,4,FALSE)","v":{"$error":"#N/A"}},null,null,{"$f":"Assignments!C74","v":1.08},null,{"$f":"Assignments!D74","v":0.15}]
[null,"     - If the outflow from an entire catchment (including outflow from selected BMPs) drains to another BMP, indicate this in the drop down menu below the BMP type and leave all cells for individual land uses blank. ",null,null,null,null,null,null,null,null,null,null,null,null,null,null,null,null,null,null,null,null,null,null,null,null,null,null,null,null,"Infiltration Basin",null,null,null,null,null,{"$f":"VLOOKUP(Assignments!AB9,Assignments!$V$23:$AA$118,4,FALSE)","v":{"$error":"#N/A"}},null,null,{"$f":"Assignments!C75","v":0},null,{"$f":"Assignments!D75","v":0}]
[null,"     - Not all BMP or catchments must be utilized. Simply leave fields blank in the columns not needed.",null,null,null,null,null,null,null,null,null,null,null,null,null,null,null,null,null,null,null,null,null,null,null,null,null,null,null,null,"Level Spreader, Filter Strip",null,null,null,null,null,{"$f":"VLOOKUP(Assignments!AB10,Assignments!$V$23:$AA$118,4,FALSE)","v":{"$error":"#N/A"}},null,null,{"$f":"Assignments!C76","v":1.2},null,{"$f":"Assignments!D76","v":0.154}]
[null,"     - Leave cells blank or insert zeroes if a land use is not present in the area draining to the BMP.",null,null,null,null,null,null,null,null,null,null,null,null,null,null,null,null,null,null,null,null,null,null,null,null,null,null,null,null,"Other",null,null,null,null,null,{"$f":"VLOOKUP(Assignments!AB11,Assignments!$V$23:$AA$118,4,FALSE)","v":{"$error":"#N/A"}},null,null,{"$f":"Assignments!C77","v":"NA"},null,{"$f":"Assignments!D77","v":"NA"}]
[null,"     - For water harvesting BMPs, be sure to enter the percent volume reduction that will be achieved by your system.  Volume detention (catch-and-release mechanisms) will not be considered - only proven volume reductions are valid inputs. ",null,null,null,null,null,null,null,null,null,null,null,null,null,null,null,null,null,null,null,null,null,null,null,null,null,null,null,null,"Permeable Pavement",null,null,null,null,null,{"$f":"VLOOKUP(Assignments!AB12,Assignments!$V$23:$AA$118,4,FALSE)","v":{"$error":"#N/A"}},null,null,{"$f":"Assignments!C78","v":1.44},null,{"$f":"Assignments!D78","v":0.39}]
[null,"     - The BMP undersizing option should only be used for existing development or retrofit sites.",null,null,null,null,null,null,null,null,null,null,null,null,null,null,null,null,null,null,null,null,null,null,null,null,null,null,null,null,"Sand Filter",null,null,null,null,null,{"$f":"VLOOKUP(Assignments!AB13,Assignments!$V$23:$AA$118,4,FALSE)","v":{"$error":"#N/A"}},null,null,{"$f":"Assignments!C79","v":0.92},null,{"$f":"Assignments!D79","v":0.14000000000000001}]
[null,"     - Volume reduction efficiencies for undersized BMPs are calculated based on a 1:1 ratio (a BMP that is 60% smaller than the required design size is assigned a removal efficiency equal to 60% of the standard efficiency\n       value). Effluent concentrations remain the same as full-sized BMPs.",null,null,null,null,null,null,null,null,null,null,null,null,null,null,null,null,null,null,null,null,null,null,null,null,null,null,null,null,"Stormwater Wetland",null,null,null,null,null,{"$f":"VLOOKUP(Assignments!AB14,Assignments!$V$23:$AA$118,4,FALSE)","v":{"$error":"#N/A"}},null,null,{"$f":"Assignments!C80","v":1.04},null,{"$f":"Assignments!D80","v":0.1}]
[null,null,null,null,null,null,null,null,null,null,null,null,null,null,null,null,null,null,null,null,null,null,null,null,null,null,null,null,null,null,"Swale",null,null,null,null,null,{"$f":"VLOOKUP(Assignments!AB15,Assignments!$V$23:$AA$118,4,FALSE)","v":{"$error":"#N/A"}},null,null,{"$f":"Assignments!C81","v":0.56999999999999995},null,{"$f":"Assignments!D81","v":0.11}]
[null,"     - IMPORTANT: for the land area calculation checks to occur, you MUST press enter after entering a value for area to be treated by a BMP (not just click on the next cell).",null,null,null,null,null,null,null,null,null,null,null,null,null,null,null,null,null,null,null,null,null,null,null,null,null,null,null,null,"Vegetated Filter Strip",null,null,null,null,null,{"$f":"VLOOKUP(Assignments!AB16,Assignments!$V$23:$AA$118,4,FALSE)","v":{"$error":"#N/A"}},null,null,{"$f":"Assignments!C82","v":"NA"},null,{"$f":"Assignments!D82","v":"NA"}]
[null,"     - See User's Manual for instructions on modeling oversized BMPs.",null,null,null,null,null,null,null,null,null,null,null,null,null,null,null,null,null,null,null,null,null,null,null,null,null,null,null,null,"Water Harvesting*",null,null,null,null,null,"user defined",null,null,{"$f":"Assignments!C83","v":1.08},null,{"$f":"Assignments!D83","v":0.15}]
[null,null,null,null,null,null,null,null,null,null,null,null,null,null,null,null,null,null,null,null,null,null,null,null,null,null,null,null,null,null,"Wet Detention Basin",null,null,null,null,null,{"$f":"VLOOKUP(Assignments!AB18,Assignments!$V$23:$AA$118,4,FALSE)","v":{"$error":"#N/A"}},null,null,{"$f":"Assignments!C84","v":1.01},null,{"$f":"Assignments!D84","v":0.113}]
[null,null,null,null,null,null,null,null,null,null,null,null,null,null,null,null,null,null,null,null,null,null,null,null,null,null,null,null,null,null,"Wooded Buffer",null,null,null,null,null,{"$f":"VLOOKUP(Assignments!AB19,Assignments!$V$23:$AA$118,4,FALSE)","v":{"$error":"#N/A"}},null,null,{"$f":"Assignments!C85","v":1.47},null,{"$f":"Assignments!D85","v":0.25}]
[]
[null,null,null,null,{"$f":"IF(AND(E27<>0,E107=0,E34=\"no\",E35=\"no\",E36=\"no\",E37=\"no\",E38=\"no\"),\"WARNING: A BMP is entered, but drainage areas are not defined.\",IF(AND(E27=0,OR(E33=\"yes\",E34=\"yes\",E35=\"yes\",E36=\"yes\",E37=\"yes\",E38=\"yes\")),\"WARNING: Catchment routing set to YES but no BMP is defined.\",\"\"))","v":""},null,{"$f":"IF(AND(E27=0,G27<>0,G107=0,G34=\"no\",G35=\"no\",G36=\"no\",G37=\"no\",G38=\"no\"),\"WARNING: A BMP is entered, but drainage areas are not defined.\",IF(AND(G27=0,OR(G33=\"yes\",G34=\"yes\",G35=\"yes\",G36=\"yes\",G37=\"yes\",G38=\"yes\")),\"WARNING: Catchment routing set to YES but no BMP is defined.\",\"\"))","v":""},null,{"$f":"IF(AND(G27=0,I27<>0,I107=0,I34=\"no\",I35=\"no\",I36=\"no\",I37=\"no\",I38=\"no\"),\"WARNING: A BMP is entered, but drainage areas are not defined.\",IF(AND(I27=0,OR(I33=\"yes\",I34=\"yes\",I35=\"yes\",I36=\"yes\",I37=\"yes\",I38=\"yes\")),\"WARNING: Catchment routing set to YES but no BMP is defined.\",\"\"))","v":""},null,null,{"$f":"IF(AND(L27<>0,L107=0,L33=\"no\",L35=\"no\",L36=\"no\",L37=\"no\",L38=\"no\"),\"WARNING: A BMP is entered, but drainage areas are not defined.\",IF(AND(L27=0,OR(L33=\"yes\",L34=\"yes\",L35=\"yes\",L36=\"yes\",L37=\"yes\",L38=\"yes\")),\"WARNING: Catchment routing set to YES but no BMP is defined.\",\"\"))","v":""},null,{"$f":"IF(AND(L27=0,N27<>0,N107=0,N33=\"no\",N35=\"no\",N36=\"no\",N37=\"no\",N38=\"no\"),\"WARNING: A BMP is entered, but drainage areas are not defined.\",IF(AND(N27=0,OR(N33=\"yes\",N34=\"yes\",N35=\"yes\",N36=\"yes\",N37=\"yes\",N38=\"yes\")),\"WARNING: Catchment routing set to YES but no BMP is defined.\",\"\"))","v":""},null,{"$f":"IF(AND(N27=0,P27<>0,P107=0,P33=\"no\",P35=\"no\",P36=\"no\",P37=\"no\",P38=\"no\"),\"WARNING: A BMP is entered, but drainage areas are not defined.\",IF(AND(P27=0,OR(P33=\"yes\",P34=\"yes\",P35=\"yes\",P36=\"yes\",P37=\"yes\",P38=\"yes\")),\"WARNING: Catchment routing set to YES but no BMP is defined.\",\"\"))","v":""},null,null,{"$f":"IF(AND(S27<>0,S107=0,S33=\"no\",S34=\"no\",S36=\"no\",S37=\"no\",S38=\"no\"),\"WARNING: A BMP is entered, but drainage areas are not defined.\",IF(AND(S27=0,OR(S33=\"yes\",S34=\"yes\",S35=\"yes\",S36=\"yes\",S37=\"yes\",S38=\"yes\")),\"WARNING: Catchment routing set to YES but no BMP is defined.\",\"\"))","v":""},null,{"$f":"IF(AND(S27=0,U27<>0,U107=0,U33=\"no\",U34=\"no\",U36=\"no\",U37=\"no\",U38=\"no\"),\"WARNING: A BMP is entered, but drainage areas are not defined.\",IF(AND(U27=0,OR(U33=\"yes\",U34=\"yes\",U35=\"yes\",U36=\"yes\",U37=\"yes\",U38=\"yes\")),\"WARNING: Catchment routing set to YES but no BMP is defined.\",\"\"))","v":""},null,{"$f":"IF(AND(U27=0,W27<>0,W107=0,W33=\"no\",W34=\"no\",W36=\"no\",W37=\"no\",W38=\"no\"),\"WARNING: A BMP is entered, but drainage areas are not defined.\",IF(AND(W27=0,OR(W33=\"yes\",W34=\"yes\",W35=\"yes\",W36=\"yes\",W37=\"yes\",W38=\"yes\")),\"WARNING: Catchment routing set to YES but no BMP is defined.\",\"\"))","v":""},null,null,{"$f":"IF(AND(Z27<>0,Z107=0,Z33=\"no\",Z34=\"no\",Z35=\"no\",Z37=\"no\",Z38=\"no\"),\"WARNING: A BMP is entered, but drainage areas are not defined.\",IF(AND(Z27=0,OR(Z33=\"yes\",Z34=\"yes\",Z35=\"yes\",Z36=\"yes\",Z37=\"yes\",Z38=\"yes\")),\"WARNING: Catchment routing set to YES but no BMP is defined.\",\"\"))","v":""},null,{"$f":"IF(AND(Z27=0,AB27<>0,AB107=0,AB33=\"no\",AB34=\"no\",AB35=\"no\",AB37=\"no\",AB38=\"no\"),\"WARNING: A BMP is entered, but drainage areas are not defined.\",IF(AND(AB27=0,OR(AB33=\"yes\",AB34=\"yes\",AB35=\"yes\",AB36=\"yes\",AB37=\"yes\",AB38=\"yes\")),\"WARNING: Catchment routing set to YES but no BMP is defined.\",\"\"))","v":""},null,{"$f":"IF(AND(AB27=0,AD27<>0,AD107=0,AD33=\"no\",AD34=\"no\",AD35=\"no\",AD37=\"no\",AD38=\"no\"),\"WARNING: A BMP is entered, but drainage areas are not defined.\",IF(AND(AD27=0,OR(AD33=\"yes\",AD34=\"yes\",AD35=\"yes\",AD36=\"yes\",AD37=\"yes\",AD38=\"yes\")),\"WARNING: Catchment routing set to YES but no BMP is defined.\",\"\"))","v":""},null,null,{"$f":"IF(AND(AG27<>0,AG107=0,AG33=\"no\",AG34=\"no\",AG35=\"no\",AG36=\"no\",AG38=\"no\"),\"WARNING: A BMP is entered, but drainage areas are not defined.\",IF(AND(AG27=0,OR(AG33=\"yes\",AG34=\"yes\",AG35=\"yes\",AG36=\"yes\",AG37=\"yes\",AG38=\"yes\")),\"WARNING: Catchment routing set to YES but no BMP is defined.\",\"\"))","v":""},null,{"$f":"IF(AND(AG27=0,AI27<>0,AI107=0,AI33=\"no\",AI34=\"no\",AI35=\"no\",AI36=\"no\",AI38=\"no\"),\"WARNING: A BMP is entered, but drainage areas are not defined.\",IF(AND(AI27=0,OR(AI33=\"yes\",AI34=\"yes\",AI35=\"yes\",AI36=\"yes\",AI37=\"yes\",AI38=\"yes\")),\"WARNING: Catchment routing set to YES but no BMP is defined.\",\"\"))","v":""},null,{"$f":"IF(AND(AI27=0,AK27<>0,AK107=0,AK33=\"no\",AK34=\"no\",AK35=\"no\",AK36=\"no\",AK38=\"no\"),\"WARNING: A BMP is entered, but drainage areas are not defined.\",IF(AND(AK27=0,OR(AK33=\"yes\",AK34=\"yes\",AK35=\"yes\",AK36=\"yes\",AK37=\"yes\",AK38=\"yes\")),\"WARNING: Catchment routing set to YES but no BMP is defined.\",\"\"))","v":""},null,null,{"$f":"IF(AND(AN27<>0,AN107=0,AN33=\"no\",AN34=\"no\",AN35=\"no\",AN36=\"no\",AN37=\"no\"),\"WARNING: A BMP is entered, but drainage areas are not defined.\",IF(AND(AN27=0,OR(AN33=\"yes\",AN34=\"yes\",AN35=\"yes\",AN36=\"yes\",AN37=\"yes\",AN38=\"yes\")),\"WARNING: Catchment routing set to YES but no BMP is defined.\",\"\"))","v":""},null,{"$f":"IF(AND(AN27=0,AP27<>0,AP107=0,AP33=\"no\",AP34=\"no\",AP35=\"no\",AP36=\"no\",AP37=\"no\"),\"WARNING: A BMP is entered, but drainage areas are not defined.\",IF(AND(AP27=0,OR(AP33=\"yes\",AP34=\"yes\",AP35=\"yes\",AP36=\"yes\",AP37=\"yes\",AP38=\"yes\")),\"WARNING: Catchment routing set to YES but no BMP is defined.\",\"\"))","v":""},null,{"$f":"IF(AND(AP27=0,AR27<>0,AR107=0,AR27=0,AR33=\"no\",AR34=\"no\",AR35=\"no\",AR36=\"no\",AR37=\"no\"),\"WARNING: A BMP is entered, but drainage areas are not defined.\",IF(AND(AR27=0,OR(AR33=\"yes\",AR34=\"yes\",AR35=\"yes\",AR36=\"yes\",AR37=\"yes\",AR38=\"yes\")),\"WARNING: Catchment routing set to YES but no BMP is defined.\",\"\"))","v":""}]
[null,null,null,null,"---------------------------    CATCHMENT 1    -----------------------------",null,null,null,null,null,null,"---------------------------    CATCHMENT 2    -----------------------------",null,null,null,null,null,null,"---------------------------    CATCHMENT 3    -----------------------------",null,null,null,null,null,null,"---------------------------    CATCHMENT 4    -----------------------------",null,null,null,null,null,null,"---------------------------    CATCHMENT 5    -----------------------------",null,null,null,null,null,null,"---------------------------    CATCHMENT 6    -----------------------------"]
[null,null,null,null,"BMP #1",null,"BMP #2",null,"BMP #3",null,null,"BMP #1",null,"BMP #2",null,"BMP #3",null,null,"BMP #1",null,"BMP #2",null,"BMP #3",null,null,"BMP #1",null,"BMP #2",null,"BMP #3",null,null,"BMP #1",null,"BMP #2",null,"BMP #3",null,null,"BMP #1",null,"BMP #2",null,"BMP #3"]
[null,"Type of BMP:"]
[]
[null,"If BMP is undersized, indicate the BMP's size relative to the design size required to capture the designated water quality depth (i.e. 0.75 = BMP is 75% of required design size):"]
[]
[null,"*For water harvesting BMP, enter percent volume reduction in decimal form."]
[null,null,null,null,"Does BMP accept the outflow from another Catchment? If so, indicate which one(s). (Land use areas entered below are in addition to the watershed areas treated by contributing catchment(s).)"]
[null,"Catchment 1:",null,null,"--",null,"--",null,"--",null,null,"no",null,"no",null,"no",null,null,"no",null,"no",null,"no",null,null,"no",null,"no",null,"no",null,null,"no",null,"no",null,"no",null,null,"no",null,"no",null,"no"]
[null,"Catchment 2:",null,null,"no",null,"no",null,"no",null,null,"--",null,"--",null,"--",null,null,"no",null,"no",null,"no",null,null,"no",null,"no",null,"no",null,null,"no",null,"no",null,"no",null,null,"no",null,"no",null,"no"]
[null,"Catchment 3:",null,null,"no",null,"no",null,"no",null,null,"no",null,"no",null,"no",null,null,"--",null,"--",null,"--",null,null,"no",null,"no",null,"no",null,null,"no",null,"no",null,"no",null,null,"no",null,"no",null,"no"]
[null,"Catchment 4:",null,null,"no",null,"no",null,"no",null,null,"no",null,"no",null,"no",null,null,"no",null,"no",null,"no",null,null,"--",null,"--",null,"--",null,null,"no",null,"no",null,"no",null,null,"no",null,"no",null,"no"]
[null,"Catchment 5:",null,null,"no",null,"no",null,"no",null,null,"no",null,"no",null,"no",null,null,"no",null,"no",null,"no",null,null,"no",null,"no",null,"no",null,null,"--",null,"--",null,"--",null,null,"no",null,"no",null,"no"]
[null,"Catchment 6:",null,null,"no",null,"no",null,"no",null,null,"no",null,"no",null,"no",null,null,"no",null,"no",null,"no",null,null,"no",null,"no",null,"no",null,null,"no",null,"no",null,"no",null,null,"--",null,"--",null,"--"]
[]
[null,"Drainage Area Land Use",null,null,"Area Treated\nby BMP\n(ft2)",null,"Area treated\nby BMP #2 that is not treated by BMP #1\n(ft2)",null,"Area treated\nby BMP #3 that is not treated by BMPs #1 or #2\n(ft2)",null,null,"Area Treated\nby BMP\n(ft2)",null,"Area treated\nby BMP #2 that is not treated by BMP #1\n(ft2)",null,"Area treated\nby BMP #3 that is not treated by BMPs #1 or #2\n(ft2)",null,null,"Area Treated\nby BMP\n(ft2)",null,"Area treated\nby BMP #2 that is not treated by BMP #1\n(ft2)",null,"Area treated\nby BMP #3 that is not treated by BMPs #1 or #2\n(ft2)",null,null,"Area Treated\nby BMP\n(ft2)",null,"Area treated\nby BMP #2 that is not treated by BMP #1\n(ft2)",null,"Area treated\nby BMP #3 that is not treated by BMPs #1 or #2\n(ft2)",null,null,"Area Treated\nby BMP\n(ft2)",null,"Area treated\nby BMP #2 that is not treated by BMP #1\n(ft2)",null,"Area treated\nby BMP #3 that is not treated by BMPs #1 or #2\n(ft2)",null,null,"Area Treated\nby BMP\n(ft2)",null,"Area treated\nby BMP #2 that is not treated by BMP #1\n(ft2)",null,"Area treated\nby BMP #3 that is not treated by BMPs #1 or #2\n(ft2)",null,null,null,"Total Land Use Area Treated By All BMPs\n(ft2)",null,null,null,"Allowable Total Land Use Area to be Treated Based on Post-Dev. Areas\n(ft2)"]
[]
[]
[]
[null,"COMMERCIAL"]
[null,"     Parking lot",null,null,null,null,null,null,null,null,null,null,null,null,null,null,null,null,null,null,null,null,null,null,null,null,null,null,null,null,null,null,null,null,null,null,null,null,null,null,null,null,null,null,null,null,null,{"$f":"SUM(AR45,AP45,AN45,AK45,AI45,AG45,AD45,AB45,Z45,W45,U45,S45,P45,N45,L45,I45,G45,E45)","v":0},null,null,null,{"$f":"'1. Watershed Characteristics'!G32","v":0}]
[null,"     Roof",null,null,null,null,null,null,null,null,null,null,null,null,null,null,null,null,null,null,null,null,null,null,null,null,null,null,null,null,null,null,null,null,null,null,null,null,null,null,null,null,null,null,null,null,null,{"$f":"SUM(AR46,AP46,AN46,AK46,AI46,AG46,AD46,AB46,Z46,W46,U46,S46,P46,N46,L46,I46,G46,E46)","v":0},null,null,null,{"$f":"'1. Watershed Characteristics'!G33","v":0}]
[null,"INDUSTRIAL"]
[null,"     Parking lot",null,null,null,null,null,null,null,null,null,null,null,null,null,null,null,null,null,null,null,null,null,null,null,null,null,null,null,null,null,null,null,null,null,null,null,null,null,null,null,null,null,null,null,null,null,{"$f":"SUM(AR48,AP48,AN48,AK48,AI48,AG48,AD48,AB48,Z48,W48,U48,S48,P48,N48,L48,I48,G48,E48)","v":0},null,null,null,{"$f":"'1. Watershed Characteristics'!G35","v":0}]
[null,"     Roof",null,null,null,null,null,null,null,null,null,null,null,null,null,null,null,null,null,null,null,null,null,null,null,null,null,null,null,null,null,null,null,null,null,null,null,null,null,null,null,null,null,null,null,null,null,{"$f":"SUM(AR49,AP49,AN49,AK49,AI49,AG49,AD49,AB49,Z49,W49,U49,S49,P49,N49,L49,I49,G49,E49)","v":0},null,null,null,{"$f":"'1. Watershed Characteristics'!G36","v":0}]
[null,"     Access road",null,null,null,null,null,null,null,null,null,null,null,null,null,null,null,null,null,null,null,null,null,null,null,null,null,null,null,null,null,null,null,null,null,null,null,null,null,null,null,null,null,null,null,null,null,{"$f":"SUM(AR50,AP50,AN50,AK50,AI50,AG50,AD50,AB50,Z50,W50,U50,S50,P50,N50,L50,I50,G50,E50)","v":0},null,null,null,{"$f":"'1. Watershed Characteristics'!G37","v":0}]
[null,"     Impervious, uncovered storage",null,null,null,null,null,null,null,null,null,null,null,null,null,null,null,null,null,null,null,null,null,null,null,null,null,null,null,null,null,null,null,null,null,null,null,null,null,null,null,null,null,null,null,null,null,{"$f":"SUM(AR51,AP51,AN51,AK51,AI51,AG51,AD51,AB51,Z51,W51,U51,S51,P51,N51,L51,I51,G51,E51)","v":0},null,null,null,{"$f":"'1. Watershed Characteristics'!G38","v":0}]
[null,"     Pervious, uncovered storage",null,null,null,null,null,null,null,null,null,null,null,null,null,null,null,null,null,null,null,null,null,null,null,null,null,null,null,null,null,null,null,null,null,null,null,null,null,null,null,null,null,null,null,null,null,0,null,null,null,{"$f":"'1. Watershed Characteristics'!G39","v":0}]
[null,"TRANSPORTATION"]
[null,"     Primary road EOP",null,null,null,null,null,null,null,null,null,null,null,null,null,null,null,null,null,null,null,null,null,null,null,null,null,null,null,null,null,null,null,null,null,null,null,null,null,null,null,null,null,null,null,null,null,0,null,null,null,{"$f":"'1. Watershed Characteristics'!G41","v":0}]
[null,"     Secondary road EOP",null,null,null,null,null,null,null,null,null,null,null,null,null,null,null,null,null,null,null,null,null,null,null,null,null,null,null,null,null,null,null,null,null,null,null,null,null,null,null,null,null,null,null,null,null,0,null,null,null,{"$f":"'1. Watershed Characteristics'!G42","v":0}]
[null,"     Bridge EOP",null,null,null,null,null,null,null,null,null,null,null,null,null,null,null,null,null,null,null,null,null,null,null,null,null,null,null,null,null,null,null,null,null,null,null,null,null,null,null,null,null,null,null,null,null,0,null,null,null,{"$f":"'1. Watershed Characteristics'!G43","v":0}]
[null,"     Sidewalk",null,null,null,null,null,null,null,null,null,null,null,null,null,null,null,null,null,null,null,null,null,null,null,null,null,null,null,null,null,null,null,null,null,null,null,null,null,null,null,null,null,null,null,null,null,0,null,null,null,{"$f":"'1. Watershed Characteristics'!G44","v":0}]
[null,"REST AREA"]
[null,"     Parking lot (car)",null,null,null,null,null,null,null,null,null,null,null,null,null,null,null,null,null,null,null,null,null,null,null,null,null,null,null,null,null,null,null,null,null,null,null,null,null,null,null,null,null,null,null,null,null,0,null,null,null,{"$f":"'1. Watershed Characteristics'!G46","v":0}]
[null,"     Parking lot (truck)",null,null,null,null,null,null,null,null,null,null,null,null,null,null,null,null,null,null,null,null,null,null,null,null,null,null,null,null,null,null,null,null,null,null,null,null,null,null,null,null,null,null,null,null,null,0,null,null,null,{"$f":"'1. Watershed Characteristics'!G47","v":0}]
[null,"     Roof",null,null,null,null,null,null,null,null,null,null,null,null,null,null,null,null,null,null,null,null,null,null,null,null,null,null,null,null,null,null,null,null,null,null,null,null,null,null,null,null,null,null,null,null,null,0,null,null,null,{"$f":"'1. Watershed Characteristics'!G48","v":0}]
[null,"MISC. PERVIOUS"]
[null,"     Managed lawn (fertilized)",null,null,null,null,null,null,null,null,null,null,null,null,null,null,null,null,null,null,null,null,null,null,null,null,null,null,null,null,null,null,null,null,null,null,null,null,null,null,null,null,null,null,null,null,null,0,null,null,null,{"$f":"'1. Watershed Characteristics'!G50","v":0}]
[null,"     Open space (unfertilized)",null,null,null,null,null,null,null,null,null,null,null,null,null,null,null,null,null,null,null,null,null,null,null,null,null,null,null,null,null,null,null,null,null,null,null,null,null,null,null,null,null,null,null,null,null,0,null,null,null,{"$f":"'1. Watershed Characteristics'!G51","v":0}]
[null,"     Open/Landscaped",null,null,null,null,null,null,null,null,null,null,null,null,null,null,null,null,null,null,null,null,null,null,null,null,null,null,null,null,null,null,null,null,null,null,null,null,null,null,null,null,null,null,null,null,null,0,null,null,null,{"$f":"'1. Watershed Characteristics'!G52","v":0}]
[null,"     Agriculture (crop)",null,null,null,null,null,null,null,null,null,null,null,null,null,null,null,null,null,null,null,null,null,null,null,null,null,null,null,null,null,null,null,null,null,null,null,null,null,null,null,null,null,null,null,null,null,0,null,null,null,{"$f":"'1. Watershed Characteristics'!G53","v":0}]
[null,"     Agriculture (pasture)",null,null,null,null,null,null,null,null,null,null,null,null,null,null,null,null,null,null,null,null,null,null,null,null,null,null,null,null,null,null,null,null,null,null,null,null,null,null,null,null,null,null,null,null,null,0,null,null,null,{"$f":"'1. Watershed Characteristics'!G54","v":0}]
[null,"     Forest",null,null,null,null,null,null,null,null,null,null,null,null,null,null,null,null,null,null,null,null,null,null,null,null,null,null,null,null,null,null,null,null,null,null,null,null,null,null,null,null,null,null,null,null,null,0,null,null,null,{"$f":"'1. Watershed Characteristics'!G55","v":0}]
[null,"UNSPECIFIED LAND USE"]
[null,"     Blank 1",null,null,null,null,null,null,null,null,null,null,null,null,null,null,null,null,null,null,null,null,null,null,null,null,null,null,null,null,null,null,null,null,null,null,null,null,null,null,null,null,null,null,null,null,null,0,null,null,null,{"$f":"'1. Watershed Characteristics'!G57","v":0}]
[null,"     Blank 2",null,null,null,null,null,null,null,null,null,null,null,null,null,null,null,null,null,null,null,null,null,null,null,null,null,null,null,null,null,null,null,null,null,null,null,null,null,null,null,null,null,null,null,null,null,0,null,null,null,{"$f":"'1. Watershed Characteristics'!G58","v":0}]
[null,"RESIDENTIAL"]
[null,"     2-ac lots (New)",null,null,null,null,null,null,null,null,null,null,null,null,null,null,null,null,null,null,null,null,null,null,null,null,null,null,null,null,null,null,null,null,null,null,null,null,null,null,null,null,null,null,null,null,null,0,null,null,null,{"$f":"IF('1. Watershed Characteristics'!N36=\"New\",'1. Watershed Characteristics'!R36,0)","v":0}]
[null,"     2-ac lots (Built after 1995)",null,null,null,null,null,null,null,null,null,null,null,null,null,null,null,null,null,null,null,null,null,null,null,null,null,null,null,null,null,null,null,null,null,null,null,null,null,null,null,null,null,null,null,null,null,0,null,null,null,{"$f":"IF('1. Watershed Characteristics'!N36=\"After 1995\",'1. Watershed Characteristics'!R36,0)","v":0}]
[null,"     2-ac lots (Built before 1995)",null,null,null,null,null,null,null,null,null,null,null,null,null,null,null,null,null,null,null,null,null,null,null,null,null,null,null,null,null,null,null,null,null,null,null,null,null,null,null,null,null,null,null,null,null,0,null,null,null,{"$f":"IF('1. Watershed Characteristics'!N36=\"Before 1995\",'1. Watershed Characteristics'!R36,0)","v":0}]
[null,"     1-ac lots (New)",null,null,null,null,null,null,null,null,null,null,null,null,null,null,null,null,null,null,null,null,null,null,null,null,null,null,null,null,null,null,null,null,null,null,null,null,null,null,null,null,null,null,null,null,null,0,null,null,null,{"$f":"IF('1. Watershed Characteristics'!N35=\"New\",'1. Watershed Characteristics'!R35,0)","v":0}]
[null,"     1-ac lots (Built after 1995)",null,null,null,null,null,null,null,null,null,null,null,null,null,null,null,null,null,null,null,null,null,null,null,null,null,null,null,null,null,null,null,null,null,null,null,null,null,null,null,null,null,null,null,null,null,0,null,null,null,{"$f":"IF('1. Watershed Characteristics'!N35=\"After 1995\",'1. Watershed Characteristics'!R35,0)","v":0}]
[null,"     1-ac lots (Built before 1995)",null,null,null,null,null,null,null,null,null,null,null,null,null,null,null,null,null,null,null,null,null,null,null,null,null,null,null,null,null,null,null,null,null,null,null,null,null,null,null,null,null,null,null,null,null,0,null,null,null,{"$f":"IF('1. Watershed Characteristics'!N35=\"Before 1995\",'1. Watershed Characteristics'!R35,0)","v":0}]
[null,"     ½-ac lots (New)",null,null,null,null,null,null,null,null,null,null,null,null,null,null,null,null,null,null,null,null,null,null,null,null,null,null,null,null,null,null,null,null,null,null,null,null,null,null,null,null,null,null,null,null,null,0,null,null,null,{"$f":"IF('1. Watershed Characteristics'!N34=\"New\",'1. Watershed Characteristics'!R34,0)","v":0}]
[null,"     ½-ac lots (Built after 1995)",null,null,null,null,null,null,null,null,null,null,null,null,null,null,null,null,null,null,null,null,null,null,null,null,null,null,null,null,null,null,null,null,null,null,null,null,null,null,null,null,null,null,null,null,null,0,null,null,null,{"$f":"IF('1. Watershed Characteristics'!N34=\"After 1995\",'1. Watershed Characteristics'!R34,0)","v":0}]
[null,"     ½-ac lots (Built before 1995)",null,null,null,null,null,null,null,null,null,null,null,null,null,null,null,null,null,null,null,null,null,null,null,null,null,null,null,null,null,null,null,null,null,null,null,null,null,null,null,null,null,null,null,null,null,0,null,null,null,{"$f":"IF('1. Watershed Characteristics'!N34=\"Before 1995\",'1. Watershed Characteristics'!R34,0)","v":0}]
[null,"     ¼-ac lots (New)",null,null,null,null,null,null,null,null,null,null,null,null,null,null,null,null,null,null,null,null,null,null,null,null,null,null,null,null,null,null,null,null,null,null,null,null,null,null,null,null,null,null,null,null,null,0,null,null,null,{"$f":"IF('1. Watershed Characteristics'!N33=\"New\",'1. Watershed Characteristics'!R33,0)","v":0}]
[null,"     ¼-ac lots (Built after 1995)",null,null,null,null,null,null,null,null,null,null,null,null,null,null,null,null,null,null,null,null,null,null,null,null,null,null,null,null,null,null,null,null,null,null,null,null,null,null,null,null,null,null,null,null,null,0,null,null,null,{"$f":"IF('1. Watershed Characteristics'!N33=\"After 1995\",'1. Watershed Characteristics'!R33,0)","v":0}]
[null,"     ¼-ac lots (Built before 1995)",null,null,null,null,null,null,null,null,null,null,null,null,null,null,null,null,null,null,null,null,null,null,null,null,null,null,null,null,null,null,null,null,null,null,null,null,null,null,null,null,null,null,null,null,null,0,null,null,null,{"$f":"IF('1. Watershed Characteristics'!N33=\"Before 1995\",'1. Watershed Characteristics'!R33,0)","v":0}]
[null,"     ⅛-ac lots (New)",null,null,null,null,null,null,null,null,null,null,null,null,null,null,null,null,null,null,null,null,null,null,null,null,null,null,null,null,null,null,null,null,null,null,null,null,null,null,null,null,null,null,null,null,null,0,null,null,null,{"$f":"IF('1. Watershed Characteristics'!N32=\"New\",'1. Watershed Characteristics'!R32,0)","v":0}]
[null,"     ⅛-ac lots (Built after 1995)",null,null,null,null,null,null,null,null,null,null,null,null,null,null,null,null,null,null,null,null,null,null,null,null,null,null,null,null,null,null,null,null,null,null,null,null,null,null,null,null,null,null,null,null,null,0,null,null,null,{"$f":"IF('1. Watershed Characteristics'!N32=\"After 1995\",'1. Watershed Characteristics'!R32,0)","v":0}]
[null,"     ⅛-ac lots (Built before 1995)",null,null,null,null,null,null,null,null,null,null,null,null,null,null,null,null,null,null,null,null,null,null,null,null,null,null,null,null,null,null,null,null,null,null,null,null,null,null,null,null,null,null,null,null,null,0,null,null,null,{"$f":"IF('1. Watershed Characteristics'!N32=\"Before 1995\",'1. Watershed Characteristics'!R32,0)","v":0}]
[null,"     Townhomes (New)",null,null,null,null,null,null,null,null,null,null,null,null,null,null,null,null,null,null,null,null,null,null,null,null,null,null,null,null,null,null,null,null,null,null,null,null,null,null,null,null,null,null,null,null,null,0,null,null,null,{"$f":"IF('1. Watershed Characteristics'!N38=\"New\",'1. Watershed Characteristics'!R38,0)","v":0}]
[null,"     Townhomes (Built after 1995)",null,null,null,null,null,null,null,null,null,null,null,null,null,null,null,null,null,null,null,null,null,null,null,null,null,null,null,null,null,null,null,null,null,null,null,null,null,null,null,null,null,null,null,null,null,0,null,null,null,{"$f":"IF('1. Watershed Characteristics'!N38=\"After 1995\",'1. Watershed Characteristics'!R38,0)","v":0}]
[null,"     Townhomes (Built before 1995)",null,null,null,null,null,null,null,null,null,null,null,null,null,null,null,null,null,null,null,null,null,null,null,null,null,null,null,null,null,null,null,null,null,null,null,null,null,null,null,null,null,null,null,null,null,0,null,null,null,{"$f":"IF('1. Watershed Characteristics'!N38=\"Before 1995\",'1. Watershed Characteristics'!R38,0)","v":0}]
[null,"     Multi-family (New)",null,null,null,null,null,null,null,null,null,null,null,null,null,null,null,null,null,null,null,null,null,null,null,null,null,null,null,null,null,null,null,null,null,null,null,null,null,null,null,null,null,null,null,null,null,0,null,null,null,{"$f":"IF('1. Watershed Characteristics'!N37=\"New\",'1. Watershed Characteristics'!R37,0)","v":0}]
[null,"     Multi-family (Built after 1995)",null,null,null,null,null,null,null,null,null,null,null,null,null,null,null,null,null,null,null,null,null,null,null,null,null,null,null,null,null,null,null,null,null,null,null,null,null,null,null,null,null,null,null,null,null,0,null,null,null,{"$f":"IF('1. Watershed Characteristics'!N37=\"After 1995\",'1. Watershed Characteristics'!R37,0)","v":0}]
[null,"     Multi-family (Built before 1995)",null,null,null,null,null,null,null,null,null,null,null,null,null,null,null,null,null,null,null,null,null,null,null,null,null,null,null,null,null,null,null,null,null,null,null,null,null,null,null,null,null,null,null,null,null,0,null,null,null,{"$f":"IF('1. Watershed Characteristics'!N37=\"Before 1995\",'1. Watershed Characteristics'!R37,0)","v":0}]
[null,"     Custom Lot Size (New)",null,null,null,null,null,null,null,null,null,null,null,null,null,null,null,null,null,null,null,null,null,null,null,null,null,null,null,null,null,null,null,null,null,null,null,null,null,null,null,null,null,null,null,null,null,0,null,null,null,{"$f":"IF('1. Watershed Characteristics'!N39=\"New\",'1. Watershed Characteristics'!R39,0)","v":0}]
[null,"     Custom Lot Size (Built after 1995)",null,null,null,null,null,null,null,null,null,null,null,null,null,null,null,null,null,null,null,null,null,null,null,null,null,null,null,null,null,null,null,null,null,null,null,null,null,null,null,null,null,null,null,null,null,0,null,null,null,{"$f":"IF('1. Watershed Characteristics'!N39=\"After 1995\",'1. Watershed Characteristics'!R39,0)","v":0}]
[null,"     Custom Lot Size (Built before 1995)",null,null,null,null,null,null,null,null,null,null,null,null,null,null,null,null,null,null,null,null,null,null,null,null,null,null,null,null,null,null,null,null,null,null,null,null,null,null,null,null,null,null,null,null,null,0,null,null,null,{"$f":"IF('1. Watershed Characteristics'!N39=\"Before 1995\",'1. Watershed Characteristics'!R39,0)","v":0}]
[null,"     Roadway",null,null,null,null,null,null,null,null,null,null,null,null,null,null,null,null,null,null,null,null,null,null,null,null,null,null,null,null,null,null,null,null,null,null,null,null,null,null,null,null,null,null,null,null,null,0,null,null,null,{"$f":"'1. Watershed Characteristics'!R41","v":0}]
[null,"     Driveway",null,null,null,null,null,null,null,null,null,null,null,null,null,null,null,null,null,null,null,null,null,null,null,null,null,null,null,null,null,null,null,null,null,null,null,null,null,null,null,null,null,null,null,null,null,0,null,null,null,{"$f":"'1. Watershed Characteristics'!R42","v":0}]
[null,"     Parking lot",null,null,null,null,null,null,null,null,null,null,null,null,null,null,null,null,null,null,null,null,null,null,null,null,null,null,null,null,null,null,null,null,null,null,null,null,null,null,null,null,null,null,null,null,null,0,null,null,null,{"$f":"'1. Watershed Characteristics'!R43","v":0}]
[null,"     Roof",null,null,null,null,null,null,null,null,null,null,null,null,null,null,null,null,null,null,null,null,null,null,null,null,null,null,null,null,null,null,null,null,null,null,null,null,null,null,null,null,null,null,null,null,null,0,null,null,null,{"$f":"'1. Watershed Characteristics'!R44","v":0}]
[null,"     Sidewalk",null,null,null,null,null,null,null,null,null,null,null,null,null,null,null,null,null,null,null,null,null,null,null,null,null,null,null,null,null,null,null,null,null,null,null,null,null,null,null,null,null,null,null,null,null,{"$f":"SUM(AR101,AP101,AN101,AK101,AI101,AG101,AD101,AB101,Z101,W101,U101,S101,P101,N101,L101,I101,G101,E101)","v":0},null,null,null,{"$f":"'1. Watershed Characteristics'!R45","v":0}]
[null,"     Lawn",null,null,null,null,null,null,null,null,null,null,null,null,null,null,null,null,null,null,null,null,null,null,null,null,null,null,null,null,null,null,null,null,null,null,null,null,null,null,null,null,null,null,null,null,null,0,null,null,null,{"$f":"'1. Watershed Characteristics'!R46","v":0}]
[null,"     Managed pervious",null,null,null,null,null,null,null,null,null,null,null,null,null,null,null,null,null,null,null,null,null,null,null,null,null,null,null,null,null,null,null,null,null,null,null,null,null,null,null,null,null,null,null,null,null,0,null,null,null,{"$f":"'1. Watershed Characteristics'!R47","v":0}]
[null,"     Forest",null,null,null,null,null,null,null,null,null,null,null,null,null,null,null,null,null,null,null,null,null,null,null,null,null,null,null,null,null,null,null,null,null,null,null,null,null,null,null,null,null,null,null,null,null,0,null,null,null,{"$f":"'1. Watershed Characteristics'!R48","v":0}]
[null,"LAND TAKEN UP BY BMP",null,null,null,null,null,null,null,null,null,null,null,null,null,null,null,null,null,null,null,null,null,null,null,null,null,null,null,null,null,null,null,null,null,null,null,null,null,null,null,null,null,null,null,null,null,{"$f":"SUM(AR105,AP105,AN105,AK105,AI105,AG105,AD105,AB105,Z105,W105,U105,S105,P105,N105,L105,I105,G105,E105)","v":0},null,null,null,{"$f":"'1. Watershed Characteristics'!G63+'1. Watershed Characteristics'!R52","v":0}]
[]
[null,"TOTAL AREA TREATED BY BMP (ft2):",null,null,{"$f":"SUM(E73:E105,E63:E68,E54:E57,E48:E52,E45:E46,E59:E61,E70:E71)","v":0},{"$f":"SUM(F73:F105,F63:F68,F54:F57,F48:F52,F45:F46,F59:F61,F70:F71)","v":0},0,0,0,null,null,{"$f":"SUM(L73:L105,L63:L68,L54:L57,L48:L52,L45:L46,L59:L61,L70:L71)","v":0},{"$f":"SUM(M73:M105,M63:M68,M54:M57,M48:M52,M45:M46,M59:M61,M70:M71)","v":0},0,0,0,null,null,{"$f":"SUM(S73:S105,S63:S68,S54:S57,S48:S52,S45:S46,S59:S61,S70:S71)","v":0},{"$f":"SUM(T73:T105,T63:T68,T54:T57,T48:T52,T45:T46,T59:T61,T70:T71)","v":0},0,0,0,null,null,{"$f":"SUM(Z73:AA105,Z63:Z68,Z54:Z57,Z48:AA52,Z45:Z46,Z59:Z61,Z70:Z71)","v":0},{"$f":"SUM(AA73:AB105,AA63:AA68,AA54:AA57,AA48:AB52,AA45:AA46,AA59:AA61,AA70:AA71)","v":0},0,0,0,null,null,{"$f":"SUM(AG73:AG105,AG63:AG68,AG54:AG57,AG48:AG52,AG45:AG46,AG59:AG61,AG70:AG71)","v":0},{"$f":"SUM(AH73:AH105,AH63:AH68,AH54:AH57,AH48:AH52,AH45:AH46,AH59:AH61,AH70:AH71)","v":0},0,0,0,null,null,{"$f":"SUM(AN73:AO105,AN63:AN68,AN54:AN57,AN48:AN52,AN45:AN46,AN59:AN61,AN70:AN71)","v":0},{"$f":"SUM(AO73:AP105,AO63:AO68,AO54:AO57,AO48:AO52,AO45:AO46,AO59:AO61,AO70:AO71)","v":0},0,0,0]
[null,"TOTAL AREA TREATED BY SERIES (ft2):",null,null,{"$f":"SUM(E107:I107)","v":0},null,null,null,null,null,null,{"$f":"SUM(L107,N107,P107)","v":0},null,null,null,null,null,null,{"$f":"SUM(S107,U107,W107)","v":0},null,null,null,null,null,null,{"$f":"SUM(Z107,AB107,AD107)","v":0},null,null,null,null,null,null,{"$f":"SUM(AG107,AI107,AK107)","v":0},null,null,null,null,null,null,{"$f":"SUM(AN107:AR107)","v":0}]

{"sheet":"3. Development Summary","index":3,"n_rows":63,"n_cols":22,"rows_kept":63,"cut":false,"hidden":false,"merged":[[7,18,10,18],[7,19,10,19],[7,20,10,20],[7,21,10,21],[20,18,21,18],[20,19,21,19],[20,20,21,20],[20,21,21,21],[24,18,25,18],[24,19,25,19],[24,20,25,20],[24,21,25,21],[7,15,10,15],[7,16,10,16],[14,7,14,8],[15,7,15,8],[17,7,17,8],[18,7,18,8],[7,17,10,17],[4,14,5,18],[41,1,41,3],[34,16,34,18],[11,4,11,6],[12,4,12,6],[12,7,12,8],[9,9,10,10],[11,9,11,10],[12,9,12,10],[14,9,14,10],[15,9,15,10],[17,9,17,10],[7,7,7,12],[9,7,10,8],[11,7,11,8],[7,14,10,14],[26,9,26,10],[62,7,63,9],[51,13,52,15],[45,1,45,3],[47,1,47,3],[37,1,37,3],[62,1,63,3],[53,7,54,9],[34,7,34,9],[34,10,34,12],[51,4,52,6],[51,7,52,9],[53,1,54,3],[53,4,54,6],[39,1,39,3],[49,1,49,3],[38,1,38,3],[42,1,42,3],[44,1,44,3],[51,1,52,3],[34,13,34,15],[58,7,59,9],[58,10,59,12],[55,10,56,12],[60,1,61,3],[55,4,56,6],[58,1,59,3],[55,1,56,3],[34,4,34,6],[14,4,14,6],[15,4,15,6],[17,4,17,6],[18,4,18,6],[27,4,27,6],[28,4,28,6],[29,4,29,6],[24,4,24,6],[25,4,25,6],[26,4,26,6],[60,7,61,9],[60,4,61,6],[62,4,63,6],[62,13,63,15],[62,10,63,12],[55,7,56,9],[58,4,59,6],[18,9,18,10],[0,11,0,16],[1,11,1,16],[2,11,2,16],[0,7,0,10],[1,7,1,10],[2,7,2,10],[9,11,10,12],[11,11,11,12],[12,11,12,12],[14,11,14,12],[15,11,15,12],[17,11,17,12],[18,11,18,12],[6,4,6,6],[7,4,7,6],[6,7,6,12],[62,19,63,21],[60,19,61,21],[58,19,59,21],[55,19,56,21],[53,19,54,21],[34,19,34,21],[51,16,52,18],[51,19,52,21],[51,10,52,12],[60,10,61,12],[62,16,63,18],[55,13,56,15],[55,16,56,18],[58,13,59,15],[58,16,59,18],[60,13,61,15],[60,16,61,18],[53,13,54,15],[53,16,54,18],[53,10,54,12],[28,9,28,10],[29,9,29,10],[23,7,23,8],[23,11,23,12],[25,11,25,12],[26,11,26,12],[27,11,27,12],[28,11,28,12],[29,11,29,12],[24,11,24,12],[24,7,24,8],[25,7,25,8],[26,7,26,8],[27,7,27,8],[28,7,28,8],[29,7,29,8],[23,9,23,10],[24,9,24,10],[25,9,25,10],[20,17,21,17],[24,17,25,17],[20,14,21,14],[24,14,25,14],[20,15,21,15],[24,15,25,15],[20,16,21,16],[24,16,25,16],[27,9,27,10]]}
[null,null,null,null,null,null,null,"Development:",null,null,null,{"$f":"IF('1. Watershed Characteristics'!O22=0,\"\",'1. Watershed Characteristics'!$O$22)","v":""}]
[null,null,null,null,null,null,null,"Prepared By:",null,null,null,{"$f":"IF('1. Watershed Characteristics'!O23=0,\"\",'1. Watershed Characteristics'!$O$23)","v":""}]
[null,null,null,null,null,null,null,"Date:",null,null,null,{"$f":"TODAY()","v":"2014-06-05"}]
[]
[null,null,"WATERSHED SUMMARY",null,null,null,null,null,null,null,null,null,null,null,"BMP VOLUME REDUCTIONS/EFFLUENT CONCENTRATIONS"]
[]
[null,null,null,null,"REGION:",null,null,{"$f":"IF('1. Watershed Characteristics'!E21=0,\"\",'1. Watershed Characteristics'!$E$21)","v":""}]
[null,null,null,null,"TOTAL DEVELOPMENT AREA (ft2):",null,null,{"$f":"'1. Watershed Characteristics'!Q61","v":0},null,null,null,null,null,null,null,"Volume Reduction (%)","TN Effluent Concen. (mg/L)","TP Effluent Concen. (mg/L)",null,"Volume Reduction (%)","TN Effluent Concen. (mg/L)","TP Effluent Concen. (mg/L)"]
[]
[null,null,null,null,null,null,null,"Pre-Development Conditions",null,"Post-Development Conditions",null,"Post-Development w/ BMPs"]
[]
[null,null,null,null,"Percent Impervious\n(%)",null,null,{"$f":"'WS Calcs'!AM55","v":0},null,{"$f":"'BMP Calcs'!AK114","v":0},null,{"$f":"'BMP Calcs'!AK117","v":0},null,null,"Bio-embankment",{"$f":"'2. BMP Characteristics'!AK6","v":{"$error":"#N/A"}},{"$f":"'2. BMP Characteristics'!$AN$6","v":"NA"},{"$f":"'2. BMP Characteristics'!$AP$6","v":"NA"},"Permeable Pavement",{"$f":"'2. BMP Characteristics'!$AK$15","v":{"$error":"#N/A"}},{"$f":"'2. BMP Characteristics'!$AN$15","v":1.44},{"$f":"'2. BMP Characteristics'!$AP$15","v":0.39}]
[null,null,null,null,"Annual Runoff Volume \n(c.f.)",null,null,{"$f":"'WS Calcs'!AJ55","v":{"$error":"#N/A"}},null,{"$f":"'BMP Calcs'!AF114","v":{"$error":"#N/A"}},null,{"$f":"'BMP Calcs'!AF117","v":{"$error":"#N/A"}},null,null,"Biofiltration Conveyance",{"$f":"'2. BMP Characteristics'!$AK$7","v":{"$error":"#N/A"}},{"$f":"'2. BMP Characteristics'!$AN$7","v":"NA"},{"$f":"'2. BMP Characteristics'!$AP$7","v":"NA"},"Sand\nFilter",{"$f":"'2. BMP Characteristics'!$AK$16","v":{"$error":"#N/A"}},{"$f":"'2. BMP Characteristics'!$AN$16","v":0.92},{"$f":"'2. BMP Characteristics'!$AP$16","v":0.14000000000000001}]
[]
[null,null,null,null,"Total Nitrogen EMC \n(mg/L)",null,null,{"$f":"'WS Calcs'!AE8","v":{"$error":"#N/A"}},null,{"$f":"'WS Calcs'!AF8","v":{"$error":"#N/A"}},null,{"$f":"'BMP Calcs'!AH117","v":{"$error":"#N/A"}},null,null,"Bioretention w/ IWS",{"$f":"'2. BMP Characteristics'!$AK$8","v":{"$error":"#N/A"}},{"$f":"'2. BMP Characteristics'!$AN$8","v":0.56999999999999995},{"$f":"'2. BMP Characteristics'!$AP$8","v":7.0000000000000007E-2},"Stormwater\nWetland",{"$f":"'2. BMP Characteristics'!$AK$17","v":{"$error":"#N/A"}},{"$f":"'2. BMP Characteristics'!$AN$17","v":1.04},{"$f":"'2. BMP Characteristics'!$AP$17","v":0.1}]
[null,null,null,null,"Total Nitrogen Loading \n(lb/ac/yr)",null,null,{"$f":"'WS Calcs'!Z8","v":{"$error":"#N/A"}},null,{"$f":"'WS Calcs'!AA8","v":{"$error":"#N/A"}},null,{"$f":"'BMP Calcs'!AG117/'BMP Calcs'!AE117","v":{"$error":"#N/A"}},null,null,"Bioretention w/o IWS",{"$f":"'2. BMP Characteristics'!$AK$9","v":{"$error":"#N/A"}},{"$f":"'2. BMP Characteristics'!$AN$9","v":0.79},{"$f":"'2. BMP Characteristics'!$AP$9","v":0.17},"Swale",{"$f":"'2. BMP Characteristics'!$AK$18","v":{"$error":"#N/A"}},{"$f":"'2. BMP Characteristics'!$AN$18","v":0.56999999999999995},{"$f":"'2. BMP Characteristics'!$AP$18","v":0.11}]
[]
[null,null,null,null,"Total Phosphorus EMC\n(mg/L)",null,null,{"$f":"'WS Calcs'!AG8","v":{"$error":"#N/A"}},null,{"$f":"'WS Calcs'!AH8","v":{"$error":"#N/A"}},null,{"$f":"'BMP Calcs'!AJ117","v":{"$error":"#N/A"}},null,null,"Dry Detention Basin",{"$f":"'2. BMP Characteristics'!$AK$10","v":{"$error":"#N/A"}},{"$f":"'2. BMP Characteristics'!$AN$10","v":1.58},{"$f":"'2. BMP Characteristics'!$AP$10","v":0.22},"Vegetated\nFilter Strip",{"$f":"'2. BMP Characteristics'!$AK$19","v":{"$error":"#N/A"}},{"$f":"'2. BMP Characteristics'!$AN$19","v":"NA"},{"$f":"'2. BMP Characteristics'!$AP$19","v":"NA"}]
[null,null,null,null,"Total Phosphorus Loading\n(lb/ac/yr)",null,null,{"$f":"'WS Calcs'!AB8","v":{"$error":"#N/A"}},null,{"$f":"'WS Calcs'!AC8","v":{"$error":"#N/A"}},null,{"$f":"'BMP Calcs'!AI117/'BMP Calcs'!AE117","v":{"$error":"#N/A"}},null,null,"Green Roof",{"$f":"'2. BMP Characteristics'!$AK$11","v":{"$error":"#N/A"}},{"$f":"'2. BMP Characteristics'!$AN$11","v":1.08},{"$f":"'2. BMP Characteristics'!$AP$11","v":0.15},"Water\nHarvesting",{"$f":"'2. BMP Characteristics'!$AK$20","v":"user defined"},{"$f":"'2. BMP Characteristics'!$AN$20","v":1.08},{"$f":"'2. BMP Characteristics'!$AP$20","v":0.15}]
[]
[null,null,null,null,null,null,null,null,null,null,null,null,null,null,"Infiltration Basin",{"$f":"'2. BMP Characteristics'!$AK$12","v":{"$error":"#N/A"}},{"$f":"'2. BMP Characteristics'!$AN$12","v":0},{"$f":"'2. BMP Characteristics'!$AP$12","v":0},"Wet Detention \nBasin",{"$f":"'2. BMP Characteristics'!$AK$21","v":{"$error":"#N/A"}},{"$f":"'2. BMP Characteristics'!$AN$21","v":1.01},{"$f":"'2. BMP Characteristics'!$AP$21","v":0.113}]
[null,null,null,null,"Percent Difference Between:"]
[]
[null,null,null,null,null,null,null,"Pre-Dev. &\nPost-Dev. without BMPs",null,"Pre-Development &\nPost-Development with BMPs",null,"Post-Dev without BMPs &\nPost-Dev with BMPs",null,null,"Level Sprdr, Filter Strip",{"$f":"'2. BMP Characteristics'!$AK$13","v":{"$error":"#N/A"}},{"$f":"'2. BMP Characteristics'!$AN$13","v":1.2},{"$f":"'2. BMP Characteristics'!$AP$13","v":0.154},"Wooded\nBuffer",{"$f":"'2. BMP Characteristics'!$AK$22","v":{"$error":"#N/A"}},{"$f":"'2. BMP Characteristics'!$AN$22","v":1.47},{"$f":"'2. BMP Characteristics'!$AP$22","v":0.25}]
[null,null,null,null,"Percent Impervious (%)",null,null,{"$f":"(J12-H12)","v":0},null,{"$f":"L12-H12","v":0},null,{"$f":"L12-J12","v":0},null,null,"Other",{"$f":"'2. BMP Characteristics'!$AK$14","v":{"$error":"#N/A"}},{"$f":"'2. BMP Characteristics'!$AN$14","v":"NA"},{"$f":"'2. BMP Characteristics'!$AP$14","v":"NA"}]
[null,null,null,null,"Annual Runoff Volume (c.f.)",null,null,{"$f":"(J13-H13)/H13","v":{"$error":"#N/A"}},null,{"$f":"(L13-H13)/H13","v":{"$error":"#N/A"}},null,{"$f":"(L13-J13)/J13","v":{"$error":"#N/A"}}]
[null,null,null,null,"Total Nitrogen EMC (mg/L)",null,null,{"$f":"(J15-H15)/H15","v":{"$error":"#N/A"}},null,{"$f":"(L15-H15)/H15","v":{"$error":"#N/A"}},null,{"$f":"(L15-J15)/J15","v":{"$error":"#N/A"}},null,null,"*if treating commercial parking lot, TP effluent concentration = 0.16 mg/L"]
[null,null,null,null,"Total Nitrogen Loading (lb/ac/yr)",null,null,{"$f":"(J16-H16)/H16","v":{"$error":"#N/A"}},null,{"$f":"(L16-H16)/H16","v":{"$error":"#N/A"}},null,{"$f":"(L16-J16)/J16","v":{"$error":"#N/A"}}]
[null,null,null,null,"Total Phosphorus EMC (mg/L)",null,null,{"$f":"(J18-H18)/H18","v":{"$error":"#N/A"}},null,{"$f":"(L18-H18)/H18","v":{"$error":"#N/A"}},null,{"$f":"(L18-J18)/J18","v":{"$error":"#N/A"}}]
[null,null,null,null,"Total Phosphorus Loading (lb/ac/yr)",null,null,{"$f":"(J19-H19)/H19","v":{"$error":"#N/A"}},null,{"$f":"(L19-H19)/H19","v":{"$error":"#N/A"}},null,{"$f":"(L19-J19)/J19","v":{"$error":"#N/A"}}]
[null,null,null,null,"*Negative percent difference values indicate a decrease in runoff volume, pollutant concentration or pollutant loading. Positive values indicate an increase. "]
[]
[null,null,"BMP SUMMARY"]
[]
[null,null,null,null,"CATCHMENT 1",null,null,"CATCHMENT 2",null,null,"CATCHMENT 3",null,null,"CATCHMENT 4",null,null,"CATCHMENT 5",null,null,"CATCHMENT 6"]
[null,null,null,null,"BMP 1","BMP 2","BMP 3","BMP 1","BMP 2","BMP 3","BMP 1","BMP 2","BMP 3","BMP 1","BMP 2","BMP 3","BMP 1","BMP 2","BMP 3","BMP 1","BMP 2","BMP 3"]
[null,null,null,null,{"$f":"IF('2. BMP Characteristics'!$E$27=0,\"--\",'2. BMP Characteristics'!$E$27)","v":"--"},{"$f":"IF('2. BMP Characteristics'!$G$27=0,\"--\",'2. BMP Characteristics'!$G$27)","v":"--"},{"$f":"IF('2. BMP Characteristics'!$I$27=0,\"--\",'2. BMP Characteristics'!$I$27)","v":"--"},{"$f":"IF('2. BMP Characteristics'!$L$27=0,\"--\",'2. BMP Characteristics'!$L$27)","v":"--"},{"$f":"IF('2. BMP Characteristics'!$N$27=0,\"--\",'2. BMP Characteristics'!$N$27)","v":"--"},{"$f":"IF('2. BMP Characteristics'!$P$27=0,\"--\",'2. BMP Characteristics'!$P$27)","v":"--"},{"$f":"IF('2. BMP Characteristics'!$S$27=0,\"--\",'2. BMP Characteristics'!$S$27)","v":"--"},{"$f":"IF('2. BMP Characteristics'!$U$27=0,\"--\",'2. BMP Characteristics'!$U$27)","v":"--"},{"$f":"IF('2. BMP Characteristics'!$W$27=0,\"--\",'2. BMP Characteristics'!$W$27)","v":"--"},{"$f":"IF('2. BMP Characteristics'!$Z$27=0,\"--\",'2. BMP Characteristics'!$Z$27)","v":"--"},{"$f":"IF('2. BMP Characteristics'!$AB$27=0,\"--\",'2. BMP Characteristics'!$AB$27)","v":"--"},{"$f":"IF('2. BMP Characteristics'!$AD$27=0,\"--\",'2. BMP Characteristics'!$AD$27)","v":"--"},{"$f":"IF('2. BMP Characteristics'!$AG$27=0,\"--\",'2. BMP Characteristics'!$AG$27)","v":"--"},{"$f":"IF('2. BMP Characteristics'!$AI$27=0,\"--\",'2. BMP Characteristics'!$AI$27)","v":"--"},{"$f":"IF('2. BMP Characteristics'!$AK$27=0,\"--\",'2. BMP Characteristics'!$AK$27)","v":"--"},{"$f":"IF('2. BMP Characteristics'!$AN$27=0,\"--\",'2. BMP Characteristics'!$AN$27)","v":"--"},{"$f":"IF('2. BMP Characteristics'!$AP$27=0,\"--\",'2. BMP Characteristics'!$AP$27)","v":"--"},{"$f":"IF('2. BMP Characteristics'!$AR$27=0,\"--\",'2. BMP Characteristics'!$AR$27)","v":"--"}]
[null,"Total Area Treated\n(ac)",null,null,{"$f":"IF('BMP Calcs'!C7=0,\"--\",'BMP Calcs'!C18)","v":"--"},{"$f":"IF('BMP Calcs'!D7=0,\"--\",'BMP Calcs'!D18)","v":"--"},{"$f":"IF('BMP Calcs'!E7=0,\"--\",'BMP Calcs'!E18)","v":"--"},{"$f":"IF('BMP Calcs'!G7=0,\"--\",'BMP Calcs'!G18)","v":"--"},{"$f":"IF('BMP Calcs'!H7=0,\"--\",'BMP Calcs'!H18)","v":"--"},{"$f":"IF('BMP Calcs'!I7=0,\"--\",'BMP Calcs'!I18)","v":"--"},{"$f":"IF('BMP Calcs'!K7=0,\"--\",'BMP Calcs'!K18)","v":"--"},{"$f":"IF('BMP Calcs'!L7=0,\"--\",'BMP Calcs'!L18)","v":"--"},{"$f":"IF('BMP Calcs'!M7=0,\"--\",'BMP Calcs'!M18)","v":"--"},{"$f":"IF('BMP Calcs'!O7=0,\"--\",'BMP Calcs'!O18)","v":"--"},{"$f":"IF('BMP Calcs'!P7=0,\"--\",'BMP Calcs'!P18)","v":"--"},{"$f":"IF('BMP Calcs'!Q7=0,\"--\",'BMP Calcs'!Q18)","v":"--"},{"$f":"IF('BMP Calcs'!S7=0,\"--\",'BMP Calcs'!S18)","v":"--"},{"$f":"IF('BMP Calcs'!T7=0,\"--\",'BMP Calcs'!T18)","v":"--"},{"$f":"IF('BMP Calcs'!U7=0,\"--\",'BMP Calcs'!U18)","v":"--"},{"$f":"IF('BMP Calcs'!W7=0,\"--\",'BMP Calcs'!W18)","v":"--"},{"$f":"IF('BMP Calcs'!X7=0,\"--\",'BMP Calcs'!X18)","v":"--"},{"$f":"IF('BMP Calcs'!Y7=0,\"--\",'BMP Calcs'!Y18)","v":"--"}]
[null,"Total Inflow Volume\n(c.f.)",null,null,{"$f":"IF('BMP Calcs'!C7=0,\"--\",'BMP Calcs'!C29)","v":"--"},{"$f":"IF('BMP Calcs'!D7=0,\"--\",'BMP Calcs'!D29)","v":"--"},{"$f":"IF('BMP Calcs'!E7=0,\"--\",'BMP Calcs'!E29)","v":"--"},{"$f":"IF('BMP Calcs'!G7=0,\"--\",'BMP Calcs'!G29)","v":"--"},{"$f":"IF('BMP Calcs'!H7=0,\"--\",'BMP Calcs'!H29)","v":"--"},{"$f":"IF('BMP Calcs'!I7=0,\"--\",'BMP Calcs'!I29)","v":"--"},{"$f":"IF('BMP Calcs'!K7=0,\"--\",'BMP Calcs'!K29)","v":"--"},{"$f":"IF('BMP Calcs'!L7=0,\"--\",'BMP Calcs'!L29)","v":"--"},{"$f":"IF('BMP Calcs'!M7=0,\"--\",'BMP Calcs'!M29)","v":"--"},{"$f":"IF('BMP Calcs'!O7=0,\"--\",'BMP Calcs'!O29)","v":"--"},{"$f":"IF('BMP Calcs'!P7=0,\"--\",'BMP Calcs'!P29)","v":"--"},{"$f":"IF('BMP Calcs'!Q7=0,\"--\",'BMP Calcs'!Q29)","v":"--"},{"$f":"IF('BMP Calcs'!S7=0,\"--\",'BMP Calcs'!S29)","v":"--"},{"$f":"IF('BMP Calcs'!T7=0,\"--\",'BMP Calcs'!T29)","v":"--"},{"$f":"IF('BMP Calcs'!U7=0,\"--\",'BMP Calcs'!U29)","v":"--"},{"$f":"IF('BMP Calcs'!W7=0,\"--\",'BMP Calcs'!W29)","v":"--"},{"$f":"IF('BMP Calcs'!X7=0,\"--\",'BMP Calcs'!X29)","v":"--"},{"$f":"IF('BMP Calcs'!Y7=0,\"--\",'BMP Calcs'!Y29)","v":"--"}]
[null,"Percent Volume Reduced\n(%)",null,null,{"$f":"IF('BMP Calcs'!C7=0,\"--\",'BMP Calcs'!C84)","v":"--"},{"$f":"IF('BMP Calcs'!D7=0,\"--\",'BMP Calcs'!D84)","v":"--"},{"$f":"IF('BMP Calcs'!E7=0,\"--\",'BMP Calcs'!E84)","v":"--"},{"$f":"IF('BMP Calcs'!G7=0,\"--\",'BMP Calcs'!G84)","v":"--"},{"$f":"IF('BMP Calcs'!H7=0,\"--\",'BMP Calcs'!H84)","v":"--"},{"$f":"IF('BMP Calcs'!I7=0,\"--\",'BMP Calcs'!I84)","v":"--"},{"$f":"IF('BMP Calcs'!K7=0,\"--\",'BMP Calcs'!K84)","v":"--"},{"$f":"IF('BMP Calcs'!L7=0,\"--\",'BMP Calcs'!L84)","v":"--"},{"$f":"IF('BMP Calcs'!M7=0,\"--\",'BMP Calcs'!M84)","v":"--"},{"$f":"IF('BMP Calcs'!O7=0,\"--\",'BMP Calcs'!O84)","v":"--"},{"$f":"IF('BMP Calcs'!P7=0,\"--\",'BMP Calcs'!P84)","v":"--"},{"$f":"IF('BMP Calcs'!Q7=0,\"--\",'BMP Calcs'!Q84)","v":"--"},{"$f":"IF('BMP Calcs'!S7=0,\"--\",'BMP Calcs'!S84)","v":"--"},{"$f":"IF('BMP Calcs'!T7=0,\"--\",'BMP Calcs'!T84)","v":"--"},{"$f":"IF('BMP Calcs'!U7=0,\"--\",'BMP Calcs'!U84)","v":"--"},{"$f":"IF('BMP Calcs'!W7=0,\"--\",'BMP Calcs'!W84)","v":"--"},{"$f":"IF('BMP Calcs'!X7=0,\"--\",'BMP Calcs'!X84)","v":"--"},{"$f":"IF('BMP Calcs'!Y7=0,\"--\",'BMP Calcs'!Y84)","v":"--"}]
[]
[null,"Inflow Nitrogen EMC\n(mg/L)",null,null,{"$f":"IF('BMP Calcs'!C7=0,\"--\",'BMP Calcs'!C62)","v":"--"},{"$f":"IF('BMP Calcs'!D7=0,\"--\",'BMP Calcs'!D62)","v":"--"},{"$f":"IF('BMP Calcs'!E7=0,\"--\",'BMP Calcs'!E62)","v":"--"},{"$f":"IF('BMP Calcs'!G7=0,\"--\",'BMP Calcs'!G62)","v":"--"},{"$f":"IF('BMP Calcs'!H7=0,\"--\",'BMP Calcs'!H62)","v":"--"},{"$f":"IF('BMP Calcs'!I7=0,\"--\",'BMP Calcs'!I62)","v":"--"},{"$f":"IF('BMP Calcs'!K7=0,\"--\",'BMP Calcs'!K62)","v":"--"},{"$f":"IF('BMP Calcs'!L7=0,\"--\",'BMP Calcs'!L62)","v":"--"},{"$f":"IF('BMP Calcs'!M7=0,\"--\",'BMP Calcs'!M62)","v":"--"},{"$f":"IF('BMP Calcs'!O7=0,\"--\",'BMP Calcs'!O62)","v":"--"},{"$f":"IF('BMP Calcs'!P7=0,\"--\",'BMP Calcs'!P62)","v":"--"},{"$f":"IF('BMP Calcs'!Q7=0,\"--\",'BMP Calcs'!Q62)","v":"--"},{"$f":"IF('BMP Calcs'!S7=0,\"--\",'BMP Calcs'!S62)","v":"--"},{"$f":"IF('BMP Calcs'!T7=0,\"--\",'BMP Calcs'!T62)","v":"--"},{"$f":"IF('BMP Calcs'!U7=0,\"--\",'BMP Calcs'!U62)","v":"--"},{"$f":"IF('BMP Calcs'!W7=0,\"--\",'BMP Calcs'!W62)","v":"--"},{"$f":"IF('BMP Calcs'!X7=0,\"--\",'BMP Calcs'!X62)","v":"--"},{"$f":"IF('BMP Calcs'!Y7=0,\"--\",'BMP Calcs'!Y62)","v":"--"}]
[null,"Total Inflow Nitrogen\n(lb/ac/yr)",null,null,{"$f":"IF('BMP Calcs'!C7=0,\"--\",('BMP Calcs'!C40/'BMP Calcs'!C18))","v":"--"},{"$f":"IF('BMP Calcs'!D7=0,\"--\",('BMP Calcs'!D40/'BMP Calcs'!D18))","v":"--"},{"$f":"IF('BMP Calcs'!E7=0,\"--\",('BMP Calcs'!E40/'BMP Calcs'!E18))","v":"--"},{"$f":"IF('BMP Calcs'!G7=0,\"--\",('BMP Calcs'!G40/'BMP Calcs'!G18))","v":"--"},{"$f":"IF('BMP Calcs'!H7=0,\"--\",('BMP Calcs'!H40/'BMP Calcs'!H18))","v":"--"},{"$f":"IF('BMP Calcs'!I7=0,\"--\",('BMP Calcs'!I40/'BMP Calcs'!I18))","v":"--"},{"$f":"IF('BMP Calcs'!K7=0,\"--\",('BMP Calcs'!K40/'BMP Calcs'!K18))","v":"--"},{"$f":"IF('BMP Calcs'!L7=0,\"--\",('BMP Calcs'!L40/'BMP Calcs'!L18))","v":"--"},{"$f":"IF('BMP Calcs'!M7=0,\"--\",('BMP Calcs'!M40/'BMP Calcs'!M18))","v":"--"},{"$f":"IF('BMP Calcs'!O7=0,\"--\",('BMP Calcs'!O40/'BMP Calcs'!O18))","v":"--"},{"$f":"IF('BMP Calcs'!P7=0,\"--\",('BMP Calcs'!P40/'BMP Calcs'!P18))","v":"--"},{"$f":"IF('BMP Calcs'!Q7=0,\"--\",('BMP Calcs'!Q40/'BMP Calcs'!Q18))","v":"--"},{"$f":"IF('BMP Calcs'!S7=0,\"--\",('BMP Calcs'!S40/'BMP Calcs'!S18))","v":"--"},{"$f":"IF('BMP Calcs'!T7=0,\"--\",('BMP Calcs'!T40/'BMP Calcs'!T18))","v":"--"},{"$f":"IF('BMP Calcs'!U7=0,\"--\",('BMP Calcs'!U40/'BMP Calcs'!U18))","v":"--"},{"$f":"IF('BMP Calcs'!W7=0,\"--\",('BMP Calcs'!W40/'BMP Calcs'!W18))","v":"--"},{"$f":"IF('BMP Calcs'!X7=0,\"--\",('BMP Calcs'!X40/'BMP Calcs'!X18))","v":"--"},{"$f":"IF('BMP Calcs'!Y7=0,\"--\",('BMP Calcs'!Y40/'BMP Calcs'!Y18))","v":"--"}]
[]
[null,"Inflow Phosphorus EMC\n(mg/L)",null,null,{"$f":"IF('BMP Calcs'!C7=0,\"--\",'BMP Calcs'!C73)","v":"--"},{"$f":"IF('BMP Calcs'!D7=0,\"--\",'BMP Calcs'!D73)","v":"--"},{"$f":"IF('BMP Calcs'!E7=0,\"--\",'BMP Calcs'!E73)","v":"--"},{"$f":"IF('BMP Calcs'!G7=0,\"--\",'BMP Calcs'!G73)","v":"--"},{"$f":"IF('BMP Calcs'!H7=0,\"--\",'BMP Calcs'!H73)","v":"--"},{"$f":"IF('BMP Calcs'!I7=0,\"--\",'BMP Calcs'!I73)","v":"--"},{"$f":"IF('BMP Calcs'!K7=0,\"--\",'BMP Calcs'!K73)","v":"--"},{"$f":"IF('BMP Calcs'!L7=0,\"--\",'BMP Calcs'!L73)","v":"--"},{"$f":"IF('BMP Calcs'!M7=0,\"--\",'BMP Calcs'!M73)","v":"--"},{"$f":"IF('BMP Calcs'!O7=0,\"--\",'BMP Calcs'!O73)","v":"--"},{"$f":"IF('BMP Calcs'!P7=0,\"--\",'BMP Calcs'!P73)","v":"--"},{"$f":"IF('BMP Calcs'!Q7=0,\"--\",'BMP Calcs'!Q73)","v":"--"},{"$f":"IF('BMP Calcs'!S7=0,\"--\",'BMP Calcs'!S73)","v":"--"},{"$f":"IF('BMP Calcs'!T7=0,\"--\",'BMP Calcs'!T73)","v":"--"},{"$f":"IF('BMP Calcs'!U7=0,\"--\",'BMP Calcs'!U73)","v":"--"},{"$f":"IF('BMP Calcs'!W7=0,\"--\",'BMP Calcs'!W73)","v":"--"},{"$f":"IF('BMP Calcs'!X7=0,\"--\",'BMP Calcs'!X73)","v":"--"},{"$f":"IF('BMP Calcs'!Y7=0,\"--\",'BMP Calcs'!Y73)","v":"--"}]
[null,"Total Inflow Phosphorus\n(lb/ac/yr)",null,null,{"$f":"IF('BMP Calcs'!C7=0,\"--\",('BMP Calcs'!C51/'BMP Calcs'!C18))","v":"--"},{"$f":"IF('BMP Calcs'!D7=0,\"--\",('BMP Calcs'!D51/'BMP Calcs'!D18))","v":"--"},{"$f":"IF('BMP Calcs'!E7=0,\"--\",('BMP Calcs'!E51/'BMP Calcs'!E18))","v":"--"},{"$f":"IF('BMP Calcs'!G7=0,\"--\",('BMP Calcs'!G51/'BMP Calcs'!G18))","v":"--"},{"$f":"IF('BMP Calcs'!H7=0,\"--\",('BMP Calcs'!H51/'BMP Calcs'!H18))","v":"--"},{"$f":"IF('BMP Calcs'!I7=0,\"--\",('BMP Calcs'!I51/'BMP Calcs'!I18))","v":"--"},{"$f":"IF('BMP Calcs'!K7=0,\"--\",('BMP Calcs'!K51/'BMP Calcs'!K18))","v":"--"},{"$f":"IF('BMP Calcs'!L7=0,\"--\",('BMP Calcs'!L51/'BMP Calcs'!L18))","v":"--"},{"$f":"IF('BMP Calcs'!M7=0,\"--\",('BMP Calcs'!M51/'BMP Calcs'!M18))","v":"--"},{"$f":"IF('BMP Calcs'!O7=0,\"--\",('BMP Calcs'!O51/'BMP Calcs'!O18))","v":"--"},{"$f":"IF('BMP Calcs'!P7=0,\"--\",('BMP Calcs'!P51/'BMP Calcs'!P18))","v":"--"},{"$f":"IF('BMP Calcs'!Q7=0,\"--\",('BMP Calcs'!Q51/'BMP Calcs'!Q18))","v":"--"},{"$f":"IF('BMP Calcs'!S7=0,\"--\",('BMP Calcs'!S51/'BMP Calcs'!S18))","v":"--"},{"$f":"IF('BMP Calcs'!T7=0,\"--\",('BMP Calcs'!T51/'BMP Calcs'!T18))","v":"--"},{"$f":"IF('BMP Calcs'!U7=0,\"--\",('BMP Calcs'!U51/'BMP Calcs'!U18))","v":"--"},{"$f":"IF('BMP Calcs'!W7=0,\"--\",('BMP Calcs'!W51/'BMP Calcs'!W18))","v":"--"},{"$f":"IF('BMP Calcs'!X7=0,\"--\",('BMP Calcs'!X51/'BMP Calcs'!X18))","v":"--"},{"$f":"IF('BMP Calcs'!Y7=0,\"--\",('BMP Calcs'!Y51/'BMP Calcs'!Y18))","v":"--"}]
[]
[null,"BMP Outflow\nNitrogen (lbs/ac/yr)",null,null,{"$f":"IF('BMP Calcs'!C7=0,\"--\",'BMP Calcs'!C100/'BMP Calcs'!C18)","v":"--"},{"$f":"IF('BMP Calcs'!D7=0,\"--\",'BMP Calcs'!D100/'BMP Calcs'!D18)","v":"--"},{"$f":"IF('BMP Calcs'!E7=0,\"--\",('BMP Calcs'!E100/'BMP Calcs'!E18))","v":"--"},{"$f":"IF('BMP Calcs'!G7=0,\"--\",('BMP Calcs'!G100/'BMP Calcs'!G18))","v":"--"},{"$f":"IF('BMP Calcs'!H7=0,\"--\",('BMP Calcs'!H100/'BMP Calcs'!H18))","v":"--"},{"$f":"IF('BMP Calcs'!I7=0,\"--\",('BMP Calcs'!I100/'BMP Calcs'!I18))","v":"--"},{"$f":"IF('BMP Calcs'!K7=0,\"--\",('BMP Calcs'!K100/'BMP Calcs'!K18))","v":"--"},{"$f":"IF('BMP Calcs'!L7=0,\"--\",('BMP Calcs'!L100/'BMP Calcs'!L18))","v":"--"},{"$f":"IF('BMP Calcs'!M7=0,\"--\",('BMP Calcs'!M100/'BMP Calcs'!M18))","v":"--"},{"$f":"IF('BMP Calcs'!O7=0,\"--\",('BMP Calcs'!O100/'BMP Calcs'!O18))","v":"--"},{"$f":"IF('BMP Calcs'!P7=0,\"--\",('BMP Calcs'!P100/'BMP Calcs'!P18))","v":"--"},{"$f":"IF('BMP Calcs'!Q7=0,\"--\",('BMP Calcs'!Q100/'BMP Calcs'!Q18))","v":"--"},{"$f":"IF('BMP Calcs'!S7=0,\"--\",('BMP Calcs'!S100/'BMP Calcs'!S18))","v":"--"},{"$f":"IF('BMP Calcs'!T7=0,\"--\",('BMP Calcs'!T100/'BMP Calcs'!T18))","v":"--"},{"$f":"IF('BMP Calcs'!U7=0,\"--\",('BMP Calcs'!U100/'BMP Calcs'!U18))","v":"--"},{"$f":"IF('BMP Calcs'!W7=0,\"--\",('BMP Calcs'!W100/'BMP Calcs'!W18))","v":"--"},{"$f":"IF('BMP Calcs'!X7=0,\"--\",('BMP Calcs'!X100/'BMP Calcs'!X18))","v":"--"},{"$f":"IF('BMP Calcs'!Y7=0,\"--\",('BMP Calcs'!Y100/'BMP Calcs'!Y18))","v":"--"}]
[]
[null,"BMP Outflow\nPhosphorus (lbs/ac/yr)",null,null,{"$f":"IF('BMP Calcs'!C7=0,\"--\",('BMP Calcs'!C101/'BMP Calcs'!C18))","v":"--"},{"$f":"IF('BMP Calcs'!D7=0,\"--\",('BMP Calcs'!D101/'BMP Calcs'!D18))","v":"--"},{"$f":"IF('BMP Calcs'!E7=0,\"--\",('BMP Calcs'!E101/'BMP Calcs'!E18))","v":"--"},{"$f":"IF('BMP Calcs'!G7=0,\"--\",('BMP Calcs'!G101/'BMP Calcs'!G18))","v":"--"},{"$f":"IF('BMP Calcs'!H7=0,\"--\",('BMP Calcs'!H101/'BMP Calcs'!H18))","v":"--"},{"$f":"IF('BMP Calcs'!I7=0,\"--\",('BMP Calcs'!I101/'BMP Calcs'!I18))","v":"--"},{"$f":"IF('BMP Calcs'!K7=0,\"--\",('BMP Calcs'!K101/'BMP Calcs'!K18))","v":"--"},{"$f":"IF('BMP Calcs'!L7=0,\"--\",('BMP Calcs'!L101/'BMP Calcs'!L18))","v":"--"},{"$f":"IF('BMP Calcs'!M7=0,\"--\",('BMP Calcs'!M101/'BMP Calcs'!M18))","v":"--"},{"$f":"IF('BMP Calcs'!O7=0,\"--\",('BMP Calcs'!O101/'BMP Calcs'!O18))","v":"--"},{"$f":"IF('BMP Calcs'!P7=0,\"--\",('BMP Calcs'!P101/'BMP Calcs'!P18))","v":"--"},{"$f":"IF('BMP Calcs'!Q7=0,\"--\",('BMP Calcs'!Q101/'BMP Calcs'!Q18))","v":"--"},{"$f":"IF('BMP Calcs'!S7=0,\"--\",('BMP Calcs'!S101/'BMP Calcs'!S18))","v":"--"},{"$f":"IF('BMP Calcs'!T7=0,\"--\",('BMP Calcs'!T101/'BMP Calcs'!T18))","v":"--"},{"$f":"IF('BMP Calcs'!U7=0,\"--\",('BMP Calcs'!U101/'BMP Calcs'!U18))","v":"--"},{"$f":"IF('BMP Calcs'!W7=0,\"--\",('BMP Calcs'!W101/'BMP Calcs'!W18))","v":"--"},{"$f":"IF('BMP Calcs'!X7=0,\"--\",('BMP Calcs'!X101/'BMP Calcs'!X18))","v":"--"},{"$f":"IF('BMP Calcs'!Y7=0,\"--\",('BMP Calcs'!Y101/'BMP Calcs'!Y18))","v":"--"}]
[]
[null,"Catchment Outflow Nitrogen EMC (mg/L)",null,null,{"$f":"IF('BMP Calcs'!C7=0,\"--\",'BMP Calcs'!C114)","v":"--"},null,null,{"$f":"IF('BMP Calcs'!G7=0,\"--\",'BMP Calcs'!G114)","v":"--"},null,null,{"$f":"IF('BMP Calcs'!K7=0,\"--\",'BMP Calcs'!K114)","v":"--"},null,null,{"$f":"IF('BMP Calcs'!O7=0,\"--\",'BMP Calcs'!O114)","v":"--"},null,null,{"$f":"IF('BMP Calcs'!S7=0,\"--\",'BMP Calcs'!S114)","v":"--"},null,null,{"$f":"IF('BMP Calcs'!W7=0,\"--\",'BMP Calcs'!W114)","v":"--"}]
[]
[null,"Catchment Outflow\nTotal Nitrogen (lb/ac/yr)",null,null,{"$f":"IF('BMP Calcs'!C7=0,\"--\",'BMP Calcs'!D117)","v":"--"},null,null,{"$f":"IF('BMP Calcs'!G7=0,\"--\",('BMP Calcs'!H117))","v":"--"},null,null,{"$f":"IF('BMP Calcs'!K7=0,\"--\",('BMP Calcs'!L117))","v":"--"},null,null,{"$f":"IF('BMP Calcs'!O7=0,\"--\",('BMP Calcs'!P117))","v":"--"},null,null,{"$f":"IF('BMP Calcs'!S7=0,\"--\",('BMP Calcs'!T117))","v":"--"},null,null,{"$f":"IF('BMP Calcs'!W7=0,\"--\",('BMP Calcs'!X117))","v":"--"}]
[]
[null,"Percent Reduction in Nitrogen Load (%)",null,null,{"$f":"IF('BMP Calcs'!C7=0,\"--\",('BMP Calcs'!D111-'BMP Calcs'!D117)/'BMP Calcs'!D111)","v":"--"},null,null,{"$f":"IF('BMP Calcs'!G7=0,\"--\",('BMP Calcs'!H111-'BMP Calcs'!H117)/'BMP Calcs'!H111)","v":"--"},null,null,{"$f":"IF('BMP Calcs'!K7=0,\"--\",('BMP Calcs'!L111-'BMP Calcs'!L117)/'BMP Calcs'!L111)","v":"--"},null,null,{"$f":"IF('BMP Calcs'!O7=0,\"--\",('BMP Calcs'!P111-'BMP Calcs'!P117)/'BMP Calcs'!P111)","v":"--"},null,null,{"$f":"IF('BMP Calcs'!S7=0,\"--\",('BMP Calcs'!T111-'BMP Calcs'!T117)/'BMP Calcs'!T111)","v":"--"},null,null,{"$f":"IF('BMP Calcs'!W7=0,\"--\",('BMP Calcs'!X111-'BMP Calcs'!X117)/'BMP Calcs'!X111)","v":"--"}]
[]
[]
[null,"Catchment Outflow Phosphorus EMC (mg/L)",null,null,{"$f":"IF('BMP Calcs'!C7=0,\"--\",'BMP Calcs'!C115)","v":"--"},null,null,{"$f":"IF('BMP Calcs'!G7=0,\"--\",'BMP Calcs'!G115)","v":"--"},null,null,{"$f":"IF('BMP Calcs'!K7=0,\"--\",'BMP Calcs'!K115)","v":"--"},null,null,{"$f":"IF('BMP Calcs'!O7=0,\"--\",'BMP Calcs'!O115)","v":"--"},null,null,{"$f":"IF('BMP Calcs'!S7=0,\"--\",'BMP Calcs'!S115)","v":"--"},null,null,{"$f":"IF('BMP Calcs'!W7=0,\"--\",'BMP Calcs'!W115)","v":"--"}]
[]
[null,"Catchment Outflow\nTotal Phosphorus (lb/ac/yr)",null,null,{"$f":"IF('BMP Calcs'!C7=0,\"--\",'BMP Calcs'!D119)","v":"--"},null,null,{"$f":"IF('BMP Calcs'!G7=0,\"--\",('BMP Calcs'!H119))","v":"--"},null,null,{"$f":"IF('BMP Calcs'!K7=0,\"--\",('BMP Calcs'!L119))","v":"--"},null,null,{"$f":"IF('BMP Calcs'!O7=0,\"--\",('BMP Calcs'!P119))","v":"--"},null,null,{"$f":"IF('BMP Calcs'!S7=0,\"--\",('BMP Calcs'!T119))","v":"--"},null,null,{"$f":"IF('BMP Calcs'!W7=0,\"--\",('BMP Calcs'!X119))","v":"--"}]
[]
[null,"Percent Reduction in Phosphorus Load (%)",null,null,{"$f":"IF('BMP Calcs'!C7=0,\"--\",('BMP Calcs'!D113-'BMP Calcs'!D119)/'BMP Calcs'!D113)","v":"--"},null,null,{"$f":"IF('BMP Calcs'!G7=0,\"--\",('BMP Calcs'!H113-'BMP Calcs'!H119)/'BMP Calcs'!H113)","v":"--"},null,null,{"$f":"IF('BMP Calcs'!K7=0,\"--\",('BMP Calcs'!L113-'BMP Calcs'!L119)/'BMP Calcs'!L113)","v":"--"},null,null,{"$f":"IF('BMP Calcs'!O7=0,\"--\",('BMP Calcs'!P113-'BMP Calcs'!P119)/'BMP Calcs'!P113)","v":"--"},null,null,{"$f":"IF('BMP Calcs'!S7=0,\"--\",('BMP Calcs'!T113-'BMP Calcs'!T119)/'BMP Calcs'!T113)","v":"--"},null,null,{"$f":"IF('BMP Calcs'!W7=0,\"--\",('BMP Calcs'!X113-'BMP Calcs'!X119)/'BMP Calcs'!X113)","v":"--"}]

{"sheet":"Assignments","index":4,"n_rows":150,"n_cols":28,"rows_kept":150,"cut":false,"hidden":false,"merged":[[20,1,20,4],[29,1,29,4],[39,1,39,4],[87,3,89,3],[25,1,25,4],[36,1,36,4],[75,4,75,5],[83,4,83,5],[63,16,63,17],[87,1,89,1],[1,26,1,27],[10,24,11,24],[12,16,12,17],[30,16,30,17],[29,16,29,17],[28,16,28,17],[27,16,27,17],[26,16,26,17],[25,16,25,17],[24,16,24,17],[11,1,11,4],[14,1,14,4],[61,16,61,17],[62,16,62,17],[60,16,60,17],[15,16,15,17],[16,16,16,17],[23,16,23,17],[19,16,19,17],[18,16,18,17],[17,16,17,17],[10,22,10,23],[87,2,89,2],[14,16,14,17],[13,16,13,17],[50,16,50,17],[51,16,51,17],[52,16,52,17],[56,16,56,17],[45,16,45,17],[46,16,46,17],[47,16,47,17],[48,16,48,17],[49,16,49,17],[57,16,57,17],[58,16,58,17],[59,16,59,17]]}
[]
[null,null,null,null,null,null,null,null,null,null,"Residential IC Calculator Values (0-15 years): Percent Impervious (decimal form)",null,null,null,null,null,null,null,null,null,null,null,"Area (ft2)",null,null,null,"BMP Table Lookup Values:"]
[null,"Regions","Soils","Yes/No","Age",null,null,"Catchments",null,null,null,"Total % IC","% Roads","% Buildings","% Parking","% Driveways","% Sidewalks","% Other",null,null,null,"Catchment 1",{"$f":"SUM('2. BMP Characteristics'!E107,'2. BMP Characteristics'!G107,'2. BMP Characteristics'!I107)","v":0},"Hydrologic Soil Group:",{"$f":"'1. Watershed Characteristics'!$E$22","v":0},null,"Bioembankment",{"$f":"($Y$4&\", \"&AA3)","v":"0, Bioembankment"}]
[null,"CAMA","A","yes","New",null,null,"Catchment 1",null,null,"2-ac lots",2.7E-2,8.6599999999999993E-3,8.4100000000000008E-3,0,9.6799999999999994E-3,0,2.5000000000000001E-4,null,null,null,"Catchment 2",{"$f":"SUM('2. BMP Characteristics'!L107,'2. BMP Characteristics'!N107,'2. BMP Characteristics'!P107)","v":0},"Region",{"$f":"'1. Watershed Characteristics'!$E$21","v":0},null,"Biofiltration Conveyance",{"$f":"($Y$4&\", \"&AA4)","v":"0, Biofiltration Conveyance"}]
[null,"Coastal","B","no","After 1995",null,null,"Catchment 2",null,null,"1-ac lots",0.16500000000000001,5.5596E-2,5.9070999999999999E-2,0,4.7488000000000002E-2,1.158E-3,2.3159999999999999E-3,null,null,null,"Catchment 3",{"$f":"SUM('2. BMP Characteristics'!S107,'2. BMP Characteristics'!U107,'2. BMP Characteristics'!W107)","v":0},null,null,null,"Bioretention with IWS",{"$f":"($Y$4&\", \"&AA5)","v":"0, Bioretention with IWS"}]
[null,"Mountains","C",null,"Before 1995",null,null,"Catchment 3",null,null,"½-ac lots",0.2455,8.6869000000000002E-2,9.1502E-2,0,5.0963000000000001E-2,1.3899E-2,2.3159999999999999E-3,null,null,null,"Catchment 4",{"$f":"SUM('2. BMP Characteristics'!Z107,'2. BMP Characteristics'!AB107,'2. BMP Characteristics'!AD107)","v":0},null,null,null,"Bioretention without IWS","0, Bioretention without IWS"]
[null,"Piedmont","D",null,null,null,null,"Catchment 4",null,null,"¼-ac lots",0.32200000000000001,0.12509100000000001,0.12740699999999999,0,5.0963000000000001E-2,1.8532E-2,1.158E-3,null,null,null,"Catchment 5",{"$f":"SUM('2. BMP Characteristics'!AG107,'2. BMP Characteristics'!AI107,'2. BMP Characteristics'!AK107)","v":0},null,null,null,"Dry Detention Basin","0, Dry Detention Basin"]
[null,"Sandhills",null,null,null,null,null,"Catchment 5",null,null,"⅛-ac lots",0.35439999999999999,0.145681,0.132635,0,5.1096999999999997E-2,2.3917999999999998E-2,0,null,null,null,"Catchment 6",{"$f":"SUM('2. BMP Characteristics'!AN107,'2. BMP Characteristics'!AP107,'2. BMP Characteristics'!AR107)","v":0},null,null,null,"Green Roof","0, Green Roof"]
[null,"Triassic Basin",null,null,null,null,null,"Catchment 6",null,null,"Townhomes",0.40839999999999999,0.12581100000000001,0.16375400000000001,6.3904000000000002E-2,2.0968000000000001E-2,2.6959E-2,5.9909999999999998E-3,null,null,null,null,null,null,null,null,"Infiltration Basin","0, Infiltration Basin"]
[null,null,null,null,null,null,null,null,null,null,"Multi-family",0.44330000000000003,0.130803,0.15876100000000001,0.129805,0,1.3979E-2,9.9850000000000008E-3,null,null,null,null,null,null,null,null,"Level Spreader, Filter Strip","0, Level Spreader, Filter Strip"]
[null,null,"Impervious\nPercentage (%)","TN (mg/L)","TP (mg/L)",null,null,null,null,null,null,null,null,null,null,null,null,null,null,null,null,null,"NCDENR BMP Manual",null,"WRRI - Piedmont",null,"Other","0, Other"]
[null,"COMMERCIAL",null,null,null,null,null,"Catchment 1",null,null,"Residential IC Calculator Values (0-15 years): TP Loading Assignments (mg/L)",null,null,null,null,null,null,null,null,null,null,null,"Peak Attenuation","Volume Capture",null,null,"Permeable Pavement","0, Permeable Pavement"]
[null,"     Parking lot",1,1.44,0.16,null,null,"Catchment 3",null,null,null,"Roads","Buildings","Parking","Driveway","Sidewalk","Weighted Average*",null,null,null,null,"Bioretention","yes","possible",0.4,null,"Sand Filter","0, Sand Filter"]
[null,"     Roof",1,1.08,0.15,null,null,"Catchment 4",null,null,"2-ac lots",0.52,0.15,0.39,0.39,1.1599999999999999,{"$f":"(L14*M4)+(M14*N4)+(N14*O4)+(O14*P4)+(P14*Q4)+((1-SUM(M4:Q4))*$E$62)","v":0.43776989999999999},null,null,null,null,"Dry Detention Pond","yes","yes",0,null,"Stormwater Wetland","0, Stormwater Wetland"]
[null,"INDUSTRIAL",null,null,null,null,null,"Catchment 5",null,null,"1-ac lots",0.52,0.15,0.39,0.39,1.1599999999999999,{"$f":"(L15*M5)+(M15*N5)+(N15*O5)+(O15*P5)+(P15*Q5)+((1-SUM(M5:Q5))*$E$62)","v":0.42577644999999997},null,null,null,null,"Grassed Swale","no","no",0.05,null,"Swale","0, Swale"]
[null,"     Parking lot",1,1.44,0.39,null,null,"Catchment 6",null,null,"½-ac lots",0.52,0.15,0.39,0.39,1.1599999999999999,0.42787306999999997,null,null,null,null,"Level Spreader, Filter Strip","some","no",0.45,null,"Vegetated Filter Strip","0, Vegetated Filter Strip"]
[null,"     Roof",1,1.08,0.15,null,null,null,null,null,"¼-ac lots",0.52,0.15,0.39,0.39,1.1599999999999999,0.42385414000000005,null,null,null,null,"Sand Filter","possible","possible",0,null,"Water Harvesting*","0, Water Harvesting*"]
[null,"     Access road",1,1.72,0.34,null,null,"Catchment 1",null,null,"⅛-ac lots",0.52,0.15,0.39,0.39,1.1599999999999999,0.42785644,null,null,null,null,"Wet Detention Pond","yes","no",0.1,null,"Wet Detention Basin","0, Wet Detention Basin"]
[null,"     Impervious, uncovered storage",1,1.72,0.34,null,null,"Catchment 2",null,null,"Townhomes",0.52,0.15,0.39,0.39,1.1599999999999999,0.41774309999999998,null,null,null,null,"Wetland","yes","yes",0.2,null,"Wooded Buffer","0, Wooded Buffer"]
[null,"     Pervious, uncovered storage",0,1.47,0.25,null,null,"Catchment 4",null,null,"Multi-family",0.52,0.15,0.39,0.39,1.1599999999999999,0.40799817999999999]
[null,"TRANSPORTATION",null,null,null,null,null,"Catchment 5",null,null,"*Remaining percentage assumed to be lawn"]
[null,"     Primary road EOP",1,1.46,0.08,null,null,"Catchment 6",null,null,null,null,null,null,null,null,null,null,null,null,null,null,"Peak Flow Red (dec)","Treated Outflow Volume (dec) - the percent of incoming volume leaving as outflow","Water that Disappears","Bypass Volume (dec) - the percent of incoming volume leaving as overflow","Percent of Design Size (dec)"]
[null,"     Secondary road EOP",1,0.54,0.1,null,null,null,null,null,"Residential IC Calculator Values (0-15 years): TN Loading Assignments (mg/L)",null,null,null,null,null,null,null,null,null,null,"CAMA, Bioembankment",null,"NA","NA","NA",null,{"$f":"Z23+Y23+X23","v":{"$error":"#VALUE!"}}]
[null,"     Bridge EOP",1,0.98,0.17,null,null,"Catchment 1",null,null,null,"Roads","Buildings","Parking","Driveway","Sidewalk","Weighted Average*",null,null,null,null,"CAMA, Biofiltration Conveyance",null,"NA","NA","NA",null,{"$f":"Z24+Y24+X24","v":{"$error":"#VALUE!"}}]
[null,"     Sidewalk",1,1.4,1.1599999999999999,null,null,"Catchment 2",null,null,"2-ac lots",1.4,1.63,1.44,1.44,1.43,{"$f":"(L25*M4)+(M25*N4)+(N25*O4)+(O25*P4)+(P25*Q4)+((1-SUM(M4:Q4))*$D$62)","v":2.2198515000000003},null,null,null,null,"CAMA, Bioretention with IWS",null,0.1,0.8,0.1,null,{"$f":"Z25+Y25+X25","v":1}]
[null,"REST AREA",null,null,null,null,null,"Catchment 3",null,null,"1-ac lots",1.4,1.63,1.44,1.44,1.43,{"$f":"(L26*M5)+(M26*N5)+(N26*O5)+(O26*P5)+(P26*Q5)+((1-SUM(M5:Q5))*$D$62)","v":2.1183376700000003},null,null,null,null,"CAMA, Bioretention without IWS",null,0.4,0.5,0.1,null,1]
[null,"     Parking lot (car)",1,2.13,0.48,null,null,"Catchment 5",null,null,"½-ac lots",1.4,1.63,1.44,1.44,1.43,2.0591852300000002,null,null,null,null,"CAMA, Dry Detention Basin",null,0.8,0.1,0.1,null,1]
[null,"     Parking lot (truck)",1,3.21,1.38,null,null,"Catchment 6",null,null,"¼-ac lots",1.4,1.63,1.44,1.44,1.43,2.0014239700000003,null,null,null,null,"CAMA, Green Roof",null,0,0.5,0.5,null,1]
[null,"     Roof",1,1.08,0.15,null,null,null,null,null,"⅛-ac lots",1.4,1.63,1.44,1.44,1.43,1.9764694299999999,null,null,null,null,"CAMA, Infiltration Basin",null,"NA","NA","NA",null,{"$error":"#VALUE!"}]
[null,"MISC. PERVIOUS",null,null,null,null,null,"Catchment 1",null,null,"Townhomes",1.4,1.63,1.44,1.44,1.43,1.94469443,null,null,null,null,"CAMA, Level Spreader, Filter Strip",null,0.45,0.5,0.05,null,1]
[null,"     Managed lawn (fertilized)",0,3.06,0.59,null,null,"Catchment 2",null,null,"Multi-family",1.4,1.63,1.44,1.44,1.43,1.9181142800000002,null,null,null,null,"CAMA, Other",null,"NA","NA","NA",null,{"$error":"#VALUE!"}]
[null,"     Open space (unfertilized)",0,1.47,0.25,null,null,"Catchment 3",null,null,"*Remaining percentage assumed to be lawn",null,null,null,null,null,null,null,null,null,null,"CAMA, Permeable Pavement",null,0.38,0.6,0.02,null,1]
[null,"     Open/Landscaped",0,2.2400000000000002,0.44,null,null,"Catchment 4",null,null,null,null,null,null,null,null,null,null,null,null,null,"CAMA, Sand Filter",null,0.85,0.05,0.1,null,1]
[null,"     Agriculture (crop)",0,4.2300000000000004,1.23,null,null,"Catchment 6",null,null,null,null,null,null,null,null,null,null,null,null,null,"CAMA, Stormwater Wetland",null,0.65,0.25,0.1,null,1]
[null,"     Agriculture (pasture)",0,3.61,1.56,null,null,null,null,null,"Residential IC Calculator Values (>15 years): Percent Impervious (decimal form)",null,null,null,null,null,null,null,null,null,null,"CAMA, Swale",null,0.9,0.1,0,null,1]
[null,"     Forest",0,1.47,0.25,null,null,"Catchment 1",null,null,null,"Total % IC","% Roads","% Buildings","% Parking","% Driveways","% Sidewalks","% Other",null,null,null,"CAMA, Vegetated Filter Strip",null,"NA","NA","NA",null,{"$error":"#VALUE!"}]
[null,"UNSPECIFIED LAND USE",null,null,null,null,null,"Catchment 2",null,null,"2-ac lots",7.1999999999999995E-2,2.3099999999999999E-2,2.24E-2,0,2.58E-2,0,6.9999999999999999E-4,null,null,null,"CAMA, Wet Detention Basin",null,0.75,0.15,0.1,null,1]
[null,"     Blank 1","NA","NA","NA",null,null,"Catchment 3",null,null,"1-ac lots",0.12,4.0404000000000002E-2,4.2929000000000002E-2,0,3.4512000000000001E-2,8.4199999999999998E-4,1.684E-3,null,null,null,"CAMA, Wooded Buffer",null,"NA","NA","NA",null,{"$error":"#VALUE!"}]
[null,"     Blank 2","NA","NA","NA",null,null,"Catchment 4",null,null,"½-ac lots",0.17849999999999999,6.3131000000000007E-2,6.6498000000000002E-2,0,3.7037E-2,1.0101000000000001E-2,1.684E-3,null,null,null,"Coastal, Bioembankment",null,"NA","NA","NA",null,{"$error":"#VALUE!"}]
[null,"RESIDENTIAL",null,null,null,null,null,"Catchment 5",null,null,"¼-ac lots",0.23400000000000001,9.0909000000000004E-2,9.2592999999999995E-2,0,3.7037E-2,1.3468000000000001E-2,8.4199999999999998E-4,null,null,null,"Coastal, Biofiltration Conveyance",null,"NA","NA","NA",null,{"$error":"#VALUE!"}]
[null,"     2-ac lots (After 1995)",{"$f":"L4","v":2.7E-2},{"$f":"Q25","v":2.2198515000000003},{"$f":"Q14","v":0.43776989999999999},null,null,null,null,null,"⅛-ac lots",0.29759999999999998,0.122319,0.11136500000000001,0,4.2902999999999997E-2,2.0081999999999999E-2,0,null,null,null,"Coastal, Bioretention with IWS",null,0.1,0.8,0.1,null,1]
[null,"     1-ac lots (After 1995)",{"$f":"L5","v":0.16500000000000001},{"$f":"Q26","v":2.1183376700000003},{"$f":"Q15","v":0.42577644999999997},null,null,null,null,null,"Townhomes",0.40960000000000002,0.126189,0.164246,6.4096E-2,2.1031999999999999E-2,2.7040999999999999E-2,6.0089999999999996E-3,null,null,null,"Coastal, Bioretention without IWS",null,0.4,0.5,0.1,null,1]
[null,"     ½-ac lots (After 1995)",0.2455,2.0591852300000002,0.42787306999999997,null,null,null,null,null,"Multi-family",0.44469999999999998,0.13119700000000001,0.15923899999999999,0.13019500000000001,0,1.4021E-2,1.0015E-2,null,null,null,"Coastal, Dry Detention Basin",null,0.8,0.1,0.1,null,1]
[null,"     ¼-ac lots (After 1995)",0.32200000000000001,2.0014239700000003,0.42385414000000005,null,null,null,null,null,null,null,null,null,null,null,null,null,null,null,null,"Coastal, Green Roof",null,0,0.5,0.5,null,1]
[null,"     ⅛-ac lots (After 1995)",0.35439999999999999,1.9764694299999999,0.42785644,null,null,null,null,null,"Residential IC Calculator Values (>15 years): TP Loading Assignments (mg/L)",null,null,null,null,null,null,null,null,null,null,"Coastal, Infiltration Basin",null,"NA","NA","NA",null,{"$error":"#VALUE!"}]
[null,"     Townhomes (After 1995)",0.40839999999999999,1.94469443,0.41774309999999998,null,null,null,null,null,null,"Roads","Buildings","Parking","Driveway","Sidewalk","Weighted Average*",null,null,null,null,"Coastal, Level Spreader, Filter Strip",null,0.45,0.5,0.05,null,1]
[null,"     Multi-family (After 1995)",0.44330000000000003,1.9181142800000002,0.40799817999999999,null,null,null,null,null,"2-ac lots",0.52,0.15,0.39,0.39,1.1599999999999999,{"$f":"(L47*M37)+(M47*N37)+(N47*O37)+(O47*P37)+(P47*Q37)+((1-SUM(M37:Q37))*$E$62)","v":0.434062},null,null,null,null,"Coastal, Other",null,"NA","NA","NA",null,{"$error":"#VALUE!"}]
[null,"     Custom Lot Size (After 1995)",{"$f":"IF('1. Watershed Characteristics'!N39=\"After 1995\",'WS Calcs'!C79,\"NA\")","v":"NA"},{"$f":"IF('1. Watershed Characteristics'!N39=\"After 1995\",'WS Calcs'!C78,\"NA\")","v":"NA"},{"$f":"IF('1. Watershed Characteristics'!N39=\"After 1995\",'WS Calcs'!C77,\"NA\")","v":"NA"},null,null,null,null,null,"1-ac lots",0.52,0.15,0.39,0.39,1.1599999999999999,0.42966355000000001,null,null,null,null,"Coastal, Permeable Pavement",null,0.38,0.6,0.02,null,1]
[null,"     2-ac lots (Before 1995)",{"$f":"L37","v":7.1999999999999995E-2},{"$f":"Q58","v":2.1862919999999999},{"$f":"Q47","v":0.434062},null,null,null,null,null,"½-ac lots",0.52,0.15,0.39,0.39,1.1599999999999999,0.43118692999999997,null,null,null,null,"Coastal, Sand Filter",null,0.85,0.05,0.1,null,1]
[null,"     1-ac lots (Before 1995)",{"$f":"L38","v":0.12},2.1515823300000001,0.42966355000000001,null,null,null,null,null,"¼-ac lots",0.52,0.15,0.39,0.39,1.1599999999999999,0.42826586,null,null,null,null,"Coastal, Stormwater Wetland",null,0.65,0.25,0.1,null,1]
[null,"     ½-ac lots (Before 1995)",0.17849999999999999,2.1085947700000003,0.43118692999999997,null,null,null,null,null,"⅛-ac lots",0.52,0.15,0.39,0.39,1.1599999999999999,0.42980355999999997,null,null,null,null,"Coastal, Swale",null,0.9,0.1,0,null,1]
[null,"     ¼-ac lots (Before 1995)",0.23400000000000001,2.06661603,0.42826586,null,null,null,null,null,"Townhomes",0.52,0.15,0.39,0.39,1.1599999999999999,0.41767690000000002,null,null,null,null,"Coastal, Vegetated Filter Strip",null,"NA","NA","NA",null,{"$error":"#VALUE!"}]
[null,"     ⅛-ac lots (Before 1995)",0.29759999999999998,2.0187305699999998,0.42980355999999997,null,null,null,null,null,"Multi-family",0.52,0.15,0.39,0.39,1.1599999999999999,0.40790181999999997,null,null,null,null,"Coastal, Wet Detention Basin",null,0.75,0.15,0.1,null,1]
[null,"     Townhomes (Before 1995)",0.40960000000000002,1.9438055700000003,0.41767690000000002,null,null,null,null,null,"*Remaining percentage assumed to be lawn",null,null,null,null,null,null,null,null,null,null,"Coastal, Wooded Buffer",null,"NA","NA","NA",null,{"$error":"#VALUE!"}]
[null,"     Multi-family (Before 1995)",0.44469999999999998,1.9171457200000002,0.40790181999999997,null,null,null,null,null,null,null,null,null,null,null,null,null,null,null,null,"Mountains, Bioembankment",null,"NA","NA","NA",null,{"$error":"#VALUE!"}]
[null,"     Custom Lot Size (Before 1995)",{"$f":"IF('1. Watershed Characteristics'!N39=\"Before 1995\",'WS Calcs'!C79,\"NA\")","v":"NA"},{"$f":"IF('1. Watershed Characteristics'!N39=\"Before 1995\",'WS Calcs'!C77,\"NA\")","v":"NA"},{"$f":"IF('1. Watershed Characteristics'!N39=\"Before 1995\",'WS Calcs'!C78,\"NA\")","v":"NA"},null,null,null,null,null,"Residential IC Calculator Values (>15 years): TN Loading Assignments (mg/L)",null,null,null,null,null,null,null,null,null,null,"Mountains, Biofiltration Conveyance",null,"NA","NA","NA",null,{"$error":"#VALUE!"}]
[null,"     Roadway",1,1.4,0.52,null,null,null,null,null,null,"Roads","Buildings","Parking","Driveway","Sidewalk","Weighted Average*",null,null,null,null,"Mountains, Bioretention with IWS",null,0.4,0.5,0.1,null,1]
[null,"     Driveway",{"$f":"'1. Watershed Characteristics'!N42","v":1},1.44,0.39,null,null,null,null,null,"2-ac lots",1.4,1.63,1.44,1.44,1.43,{"$f":"(L58*M37)+(M58*N37)+(N58*O37)+(O58*P37)+(P58*Q37)+((1-SUM(M37:Q37))*$D$62)","v":2.1862919999999999},null,null,null,null,"Mountains, Bioretention without IWS",null,0.55000000000000004,0.35,0.1,null,1]
[null,"     Parking lot",1,1.44,0.39,null,null,null,null,null,"1-ac lots",1.4,1.63,1.44,1.44,1.43,2.1515823300000001,null,null,null,null,"Mountains, Dry Detention Basin",null,0.9,0,0.1,null,1]
[null,"     Roof",1,1.08,0.15,null,null,null,null,null,"½-ac lots",1.4,1.63,1.44,1.44,1.43,2.1085947700000003,null,null,null,null,"Mountains, Green Roof",null,0,0.5,0.5,null,1]
[null,"     Sidewalk",1,1.4,1.1599999999999999,null,null,null,null,null,"¼-ac lots",1.4,1.63,1.44,1.44,1.43,2.06661603,null,null,null,null,"Mountains, Infiltration Basin",null,"NA","NA","NA",null,{"$error":"#VALUE!"}]
[null,"     Lawn",0,2.2400000000000002,0.44,null,null,null,null,null,"⅛-ac lots",1.4,1.63,1.44,1.44,1.43,2.0187305699999998,null,null,null,null,"Mountains, Level Spreader, Filter Strip",null,0.55000000000000004,0.4,0.05,null,1]
[null,"     Managed pervious",0,3.06,0.59,null,null,null,null,null,"Townhomes",1.4,1.63,1.44,1.44,1.43,1.9438055700000003,null,null,null,null,"Mountains, Other",null,"NA","NA","NA",null,{"$error":"#VALUE!"}]
[null,"     Woods",0,1.47,0.25,null,null,null,null,null,"Multi-family",1.4,1.63,1.44,1.44,1.43,1.9171457200000002,null,null,null,null,"Mountains, Permeable Pavement",null,{"$f":"IF(Y6=\"A\",0.38,IF(Y6=\"B\",0.78,0.98))","v":0.98},{"$f":"IF(Y6=\"A\",0.6,IF(Y6=\"B\",0.2,0))","v":0},{"$f":"IF(Y6=\"A\",0.02,IF(Y6=\"B\",0.02,0.02))","v":0.02},null,1]
[null,"LAND TAKEN UP BY BMP",1,1.08,0.15,null,null,null,null,null,"*Remaining percentage assumed to be lawn",null,null,null,null,null,null,null,null,null,null,"Mountains, Sand Filter",null,0.85,0.05,0.1,null,1]
[null,"Custom Lot Size (New):",{"$f":"'WS Calcs'!F43","v":0},{"$f":"'WS Calcs'!D43","v":0},{"$f":"'WS Calcs'!E43","v":0},null,null,null,null,null,null,null,null,null,null,null,null,null,null,null,null,"Mountains, Stormwater Wetland",null,0.7,0.2,0.1,null,1]
[null,null,null,null,null,null,null,null,null,null,null,null,null,null,null,null,null,null,null,null,null,"Mountains, Swale",null,1,0,0,null,1]
[null,"BMPs","TN EMC  (mg/L)","TP EMC (mg/L)",null,null,null,null,null,null,null,null,null,null,null,null,null,null,null,null,null,"Mountains, Vegetated Filter Strip",null,"NA","NA","NA",null,{"$error":"#VALUE!"}]
[null,"Bioembankment","NA","NA","Placeholder BMP. Values to be added when supportive research is available. ",null,null,null,null,null,null,null,null,null,null,null,null,null,null,null,null,"Mountains, Wet Detention Basin",null,0.8,0.1,0.1,null,1]
[null,"Biofiltration Conveyance","NA","NA","Placeholder BMP. Values to be added when supportive research is available. ",null,null,null,null,null,null,null,null,null,null,null,null,null,null,null,null,"Mountains, Wooded Buffer",null,"NA","NA","NA",null,{"$error":"#VALUE!"}]
[null,"Bioretention with IWS",0.56999999999999995,7.0000000000000007E-2,"Median of  bioretention data collected under 2009-29 (Includes both large and small bioretention basins) (Winston, et al., 2011) and two Bioretention Basins monitored by Passport under the direction of Dr. Hunt in Graham, NC (Passport Master of Science Thesis, 2007). ",null,null,null,null,null,null,null,null,null,null,null,null,null,null,null,null,"Piedmont, Bioembankment",null,"NA","NA","NA",null,{"$error":"#VALUE!"}]
[null,"Bioretention without IWS",0.79,0.17,"EMCs based on NCDOT Research Program",null,null,null,null,null,null,null,null,null,null,null,null,null,null,null,null,"Piedmont, Biofiltration Conveyance",null,"NA","NA","NA",null,{"$error":"#VALUE!"}]
[null,"Dry Detention Basin",1.58,0.22,"EMCs based on NCDOT Research Program",null,null,null,null,null,null,null,null,null,null,null,null,null,null,null,null,"Piedmont, Bioretention with IWS",null,0.4,0.5,0.1,null,1]
[null,"Green Roof",1.08,0.15,"defaulted to roof values",null,null,null,null,null,null,null,null,null,null,null,null,null,null,null,null,"Piedmont, Bioretention without IWS",null,0.55000000000000004,0.35,0.1,null,1]
[null,"Infiltration Basin",0,0,null,null,null,null,null,null,null,null,null,null,null,null,null,null,null,null,null,"Piedmont, Dry Detention Basin",null,0.9,0,0.1,null,1]
[null,"Level Spreader, Filter Strip",1.2,0.154,null,null,null,null,null,null,null,null,null,null,null,null,null,null,null,null,null,"Piedmont, Green Roof",null,0,0.5,0.5,null,1]
[null,"Other","NA","NA","Placeholder BMP. Values to be added when supportive research is available. ",null,null,null,null,null,null,null,null,null,null,null,null,null,null,null,null,"Piedmont, Infiltration Basin",null,"NA","NA","NA",null,{"$error":"#VALUE!"}]
[null,"Permeable Pavement",1.44,0.39,null,null,null,null,null,null,null,null,null,null,null,null,null,null,null,null,null,"Piedmont, Level Spreader, Filter Strip",null,0.55000000000000004,0.4,0.05,null,1]
[null,"Sand Filter",0.92,0.14000000000000001,null,null,null,null,null,null,null,null,null,null,null,null,null,null,null,null,null,"Piedmont, Other",null,"NA","NA","NA",null,{"$error":"#VALUE!"}]
[null,"Stormwater Wetland",1.04,0.1,"EMCs based on NCDOT Research Program",null,null,null,null,null,null,null,null,null,null,null,null,null,null,null,null,"Piedmont, Permeable Pavement",null,{"$f":"IF(Y15=\"A\",0.38,IF(Y15=\"B\",0.78,0.98))","v":0.98},{"$f":"IF(Y15=\"A\",0.6,IF(Y15=\"B\",0.2,0))","v":0},{"$f":"IF(Y15=\"A\",0.02,IF(Y15=\"B\",0.02,0.02))","v":0.02},null,1]
[null,"Swale",0.56999999999999995,0.11,"EMCs based on NCDOT Research Program",null,null,null,null,null,null,null,null,null,null,null,null,null,null,null,null,"Piedmont, Sand Filter",null,0.85,0.05,0.1,null,1]
[null,"Vegetated Filter Strip","NA","NA","Placeholder BMP. Values to be added when supportive research is available. ",null,null,null,null,null,null,null,null,null,null,null,null,null,null,null,null,"Piedmont, Stormwater Wetland",null,0.7,0.2,0.1,null,1]
[null,"Water Harvesting*",1.08,0.15,"defaulted to roof values",null,null,null,null,null,null,null,null,null,null,null,null,null,null,null,null,"Piedmont, Swale",null,1,0,0,null,1]
[null,"Wet Detention Basin",1.01,0.113,null,null,null,null,null,null,null,null,null,null,null,null,null,null,null,null,null,"Piedmont, Vegetated Filter Strip",null,"NA","NA","NA",null,{"$error":"#VALUE!"}]
[null,"Wooded Buffer",1.47,0.25,"defaulted to forest LULC values",null,null,null,null,null,null,null,null,null,null,null,null,null,null,null,null,"Piedmont, Wet Detention Basin",null,0.8,0.1,0.1,null,1]
[null,null,null,null,null,null,null,null,null,null,null,null,null,null,null,null,null,null,null,null,null,"Piedmont, Wooded Buffer",null,"NA","NA","NA",null,{"$error":"#VALUE!"}]
[null,null,null,null,null,null,null,null,null,null,null,null,null,null,null,null,null,null,null,null,null,"Sandhills, Bioembankment",null,"NA","NA","NA",null,{"$error":"#VALUE!"}]
[null,"Station Name","Location","Average Annual Precip (in)",null,null,null,null,null,null,null,null,null,null,null,null,null,null,null,null,null,"Sandhills, Biofiltration Conveyance",null,"NA","NA","NA",null,{"$error":"#VALUE!"}]
[null,null,null,null,null,null,null,null,null,null,null,null,null,null,null,null,null,null,null,null,null,"Sandhills, Bioretention with IWS",null,0.1,0.8,0.1,null,{"$f":"Z89+Y89+X89","v":1}]
[null,null,null,null,null,null,null,null,null,null,null,null,null,null,null,null,null,null,null,null,null,"Sandhills, Bioretention without IWS",null,0.4,0.5,0.1,null,1]
[null,"Albemarle","Albemarle",47.68,null,null,null,null,null,null,null,null,null,null,null,null,null,null,null,null,null,"Sandhills, Dry Detention Basin",null,0.8,0.1,0.1,null,1]
[null,"Asheboro 2 W","Asheboro",46.56,null,null,null,null,null,null,null,null,null,null,null,null,null,null,null,null,null,"Sandhills, Green Roof",null,0,0.5,0.5,null,1]
[null,"Banner Elk","Asheville",37.72,null,null,null,null,null,null,null,null,null,null,null,null,null,null,null,null,null,"Sandhills, Infiltration Basin",null,"NA","NA","NA",null,{"$error":"#VALUE!"}]
[null,"Belhaven","Banner Elk",50.38,null,null,null,null,null,null,null,null,null,null,null,null,null,null,null,null,null,"Sandhills, Level Spreader, Filter Strip",null,0.45,0.5,0.05,null,1]
[null,"Bent Creek","Belhaven",49.36,null,null,null,null,null,null,null,null,null,null,null,null,null,null,null,null,null,"Sandhills, Other",null,"NA","NA","NA",null,{"$error":"#VALUE!"}]
[null,"Carthage 8 SE","Blowing Rock",68.540000000000006,null,null,null,null,null,null,null,null,null,null,null,null,null,null,null,null,null,"Sandhills, Permeable Pavement",null,0.38,0.6,0.02,null,1]
[null,97,"Boiling Spring Lakes",58.85,null,null,null,null,null,null,null,null,null,null,null,null,null,null,null,null,null,"Sandhills, Sand Filter",null,0.85,0.05,0.1,null,1]
[null,"Turnersburg","Brevard",65.790000000000006,null,null,null,null,null,null,null,null,null,null,null,null,null,null,null,null,null,"Sandhills, Stormwater Wetland",null,0.65,0.25,0.1,null,1]
[null,"Cataloochee","Burlington",45.08,null,null,null,null,null,null,null,null,null,null,null,null,null,null,null,null,null,"Sandhills, Swale",null,0.9,0.1,0,null,1]
[null,"Cedar Island","Butner",46.94,null,null,null,null,null,null,null,null,null,null,null,null,null,null,null,null,null,"Sandhills, Vegetated Filter Strip",null,"NA","NA","NA",null,{"$error":"#VALUE!"}]
[null,"Dunn 4 NW","Carrboro",46.37,null,null,null,null,null,null,null,null,null,null,null,null,null,null,null,null,null,"Sandhills, Wet Detention Basin",null,0.75,0.15,0.1,null,1]
[null,"Edenton","Clayton",45.06,null,null,null,null,null,null,null,null,null,null,null,null,null,null,null,null,null,"Sandhills, Wooded Buffer",null,"NA","NA","NA",null,{"$error":"#VALUE!"}]
[null,"Elizabeth City","Concord",46.87,null,null,null,null,null,null,null,null,null,null,null,null,null,null,null,null,null,"Triassic Basin, Bioembankment",null,"NA","NA","NA",null,{"$error":"#VALUE!"}]
[null,"Gastonia","Edenton",48.63,null,null,null,null,null,null,null,null,null,null,null,null,null,null,null,null,null,"Triassic Basin, Biofiltration Conveyance",null,"NA","NA","NA",null,{"$error":"#VALUE!"}]
[null,"Goldsboro 4 SE","Elizabeth City",48.21,null,null,null,null,null,null,null,null,null,null,null,null,null,null,null,null,null,"Triassic Basin, Bioretention with IWS",null,0.55000000000000004,0.35,0.1,null,1]
[null,"Graham 2 ENE","Elizabethtown",47.76,null,null,null,null,null,null,null,null,null,null,null,null,null,null,null,null,null,"Triassic Basin, Bioretention without IWS",null,0.75,0.15,0.1,null,1]
[null,"Greenville","Elkin",48.45,null,null,null,null,null,null,null,null,null,null,null,null,null,null,null,null,null,"Triassic Basin, Dry Detention Basin",null,0.8,0,0.2,null,1]
[null,"Fletcher 3 W","Erwin",48.42,null,null,null,null,null,null,null,null,null,null,null,null,null,null,null,null,null,"Triassic Basin, Green Roof",null,0,0.5,0.5,null,1]
[null,"Hickory FAA AP","Fayetteville",46.64,null,null,null,null,null,null,null,null,null,null,null,null,null,null,null,null,null,"Triassic Basin, Infiltration Basin",null,"NA","NA","NA",null,{"$error":"#VALUE!"}]
[null,"Enka","Forest Hills",51.79,null,null,null,null,null,null,null,null,null,null,null,null,null,null,null,null,null,"Triassic Basin, Level Spreader, Filter Strip",null,0.75,0.2,0.05,null,1]
[null,"Jefferson 2 ESE","Gastonia",46.01,null,null,null,null,null,null,null,null,null,null,null,null,null,null,null,null,null,"Triassic Basin, Other",null,"NA","NA","NA",null,{"$error":"#VALUE!"}]
[null,"Kinston 5 SE","Goldsboro",48.94,null,null,null,null,null,null,null,null,null,null,null,null,null,null,null,null,null,"Triassic Basin, Permeable Pavement",null,{"$f":"IF(Y34=\"A\",0.38,IF(Y34=\"B\",0.78,0.98))","v":0.98},{"$f":"IF(Y34=\"A\",0.6,IF(Y34=\"B\",0.2,0))","v":0},{"$f":"IF(Y34=\"A\",0.02,IF(Y34=\"B\",0.02,0.02))","v":0.02},null,1]
[null,"Lewiston","Greenville",48.63,null,null,null,null,null,null,null,null,null,null,null,null,null,null,null,null,null,"Triassic Basin, Sand Filter",null,0.85,0.05,0.1,null,1]
[null,"Lexington","Hamlet",48.25,null,null,null,null,null,null,null,null,null,null,null,null,null,null,null,null,null,"Triassic Basin, Stormwater Wetland",null,0.75,0.15,0.1,null,1]
[null,"Celo 2 S","Hatteras",57.09,null,null,null,null,null,null,null,null,null,null,null,null,null,null,null,null,null,"Triassic Basin, Swale",null,1,0,0,null,1]
[null,"Louisburg","Hendersonville",56.76,null,null,null,null,null,null,null,null,null,null,null,null,null,null,null,null,null,"Triassic Basin, Vegetated Filter Strip",null,"NA","NA","NA",null,{"$error":"#VALUE!"}]
[null,"Marshall","Hickory",49.86,null,null,null,null,null,null,null,null,null,null,null,null,null,null,null,null,null,"Triassic Basin, Wet Detention Basin",null,0.85,0.05,0.1,null,1]
[null,"Monroe 4 SE","High Point",45.55,null,null,null,null,null,null,null,null,null,null,null,null,null,null,null,null,null,"Triassic Basin, Wooded Buffer",null,"NA","NA","NA",null,{"$error":"#VALUE!"}]
[null,"Mocksville","Highlands",87.06]
[null,"Murphy 2 NE","Jefferson",48.58]
[null,"Neuse 2 NE","Kinston",50.3]
[null,"Oconaluftee","Laurinburg",48.02]
[null,"Patterson","Lenoir",49.86]
[null,"Plymouth 5 E","Lewiston Woodville",46.56]
[null,"Raleigh 4 SW","Lexington",45.57]
[null,"Reidsville 2 NW","Louisburg",45.92]
[null,"Rougemont","Mocksville",46.16]
[null,"Roxboro","Monroe",48.31]
[null,"Salisbury","Morehead City",56.53]
[null,"Shelby 2 NNE","Morganton",50.35]
[null,"Siler City 2 S","Mount Airy",47.18]
[null,"Southport 5 N","Murphy",56.04]
[null,"Whiteville 7 NW","Raleigh",45.41]
[null,"Wadesboro","Roper",51.15]
[null,92,"Roxboro",45.35]
[null,93,"Salisbury",43.32]
[null,94,"Shelby",50.25]
[null,95,"Siler City",47.33]
[null,96,"Smithfield",46.49]
[null,98,"Sparta",53.65]
[null,99,"Statesville",46.26]
[null,101,"Tarboro",45.53]
[null,106,"Wadesboro",46.96]
[null,107,"Washington",48.85]
[null,111,"Watha",53.6]
[null,109,"Waynesville",48.55]
[null,"Wilson 3 SW","Wentworth",46.17]
[null,"Chapel Hill 2 W","Whispering Pines",48.04]
[null,113,"Wilmington",55.53]
[null,115,"Wilson",46.97]

{"sheet":"WS Calcs","index":5,"n_rows":79,"n_cols":40,"rows_kept":79,"cut":false,"hidden":false,"merged":[[60,1,60,3],[75,1,75,3],[72,1,72,3],[69,1,69,3],[66,1,66,3],[63,1,63,3],[4,30,4,31],[4,25,4,26],[4,27,4,28],[5,25,6,25],[5,26,6,26],[5,27,6,27],[5,28,6,28],[5,30,6,30],[5,31,6,31],[4,15,5,15],[4,16,5,16],[4,20,4,21],[4,22,4,23],[5,20,6,20],[5,21,6,21],[5,22,6,22],[5,23,6,23],[4,18,5,18],[4,19,5,19],[54,1,54,4],[4,10,4,11],[4,12,4,13],[4,9,5,9],[6,10,6,13],[6,1,6,7],[9,1,9,7],[15,1,15,7],[24,1,24,7],[20,1,20,7],[31,1,31,7],[4,39,6,39],[4,38,6,38],[4,35,6,35],[4,36,6,36],[4,32,4,33],[5,32,6,32],[5,33,6,33],[68,4,68,5],[67,4,67,5],[7,32,52,32],[7,33,52,33],[7,26,52,26],[7,28,52,28],[7,27,52,27],[7,30,52,30],[7,31,52,31],[7,20,52,20],[7,21,52,21],[7,22,52,22],[7,23,52,23],[7,25,52,25],[34,1,34,7],[43,1,43,7],[3,15,3,16],[3,18,3,19],[59,4,59,5],[74,4,74,5],[73,4,73,5],[72,4,72,5],[61,4,61,5],[60,4,60,5],[66,4,66,5],[65,4,65,5],[64,4,64,5],[63,4,63,5],[62,4,62,5],[71,4,71,5],[70,4,70,5],[69,4,69,5]]}
[null,null,null,null,null,null,null,null,null,null,"Precip Location =",{"$f":"'1. Watershed Characteristics'!$E$23","v":0}]
[null,"Watershed Characteristics",null,null,null,null,null,null,null,null,"P = ",{"$f":"VLOOKUP(L1,Assignments!C91:D150,2,FALSE)","v":{"$error":"#N/A"}}]
[null,null,null,null,null,null,null,null,null,null,"Pj=",1]
[null,null,null,null,null,null,null,null,null,null,null,null,null,null,null,"LAND-BASED",null,null,"VOLUME-BASED"]
[null,"Runoff & Loading Calculations",null,null,null,null,null,null,null,"Rv","Total Nitrogen",null,"Total Phosphorus",null,null,"% of develop. (PRE)","% of develop. (POST)",null,"% of develop. (PRE)","% of develop. (POST)","Total Nitrogen",null,"Total Phosphorus",null,null,"Total Nitrogen",null,"Total Phosphorus",null,null,"Total Nitrogen",null,"Total Phosphorus",null,null,"Pre-Devel. Runoff Volume for Annual Precip","Post-Devel. Runoff Volume for Annual Precip",null,"Overall % Impervious (Pre-Dev)","Overall % Impervious (Post-Dev)"]
[null,null,"Age","TN (mg/L)","TP (mg/L)","% Impervious","Pre-Dev. Acres","Post-Dev. Acres",null,null,"Pre-Dev LTN (lb/yr)","Post-Dev LTN (lb/yr)","Pre-Dev LTP (lb/yr)","Post-Dev LTP (lb/yr)",null,null,null,null,null,null,"Pre-Dev LTN Weighted Average (lb/yr)","Post-Dev LTN Weighted Average (lb/yr)","Pre-Dev LTP Weighted Average (lb/yr)","Post-Dev LTP Weighted Average (lb/yr)",null,"Pre-Dev LTN Weighted Average (lb/ac/yr)","Post-Dev LTN Weighted Average (lb/ac/yr)","Pre-Dev LTP Weighted Average (lb/ac/yr)","Post-Dev LTP Weighted Average (lb/ac/yr)",null,"Pre-Dev EMCTN Weighted Average","Post-Dev EMCTN Weighted Average","Pre-Dev EMCTP Weighted Average","Post-Dev EMCTP Weighted Average"]
[null,"COMMERCIAL",null,null,null,null,null,null,null,"Rv=0.05+(0.009I)","L = [P*(Rv/12)]*C*A*2.72",null,null,null,null,"=LU pre-dev acres ÷ total pre-dev acres","=LU post-dev acres ÷ total post-dev acres",null,"=LU pre-dev runoff volume ÷ total pre-dev runoff volume","=LU post-dev runoff volume ÷ total post-dev runoff volume"]
[null,"     Parking lot","n/a",{"$f":"'1. Watershed Characteristics'!D32","v":1.44},{"$f":"'1. Watershed Characteristics'!E32","v":0.16},{"$f":"Assignments!C13","v":1},{"$f":"'1. Watershed Characteristics'!F32/43560","v":0},{"$f":"'1. Watershed Characteristics'!G32/43560","v":0},null,{"$f":"0.05+(0.009*(100*F8))","v":0.95},{"$f":"($L$2*J8/12)*D8*G8*2.72","v":{"$error":"#N/A"}},{"$f":"($L$2*J8/12)*D8*H8*2.72","v":{"$error":"#N/A"}},{"$f":"($L$2*J8/12)*E8*G8*2.72","v":{"$error":"#N/A"}},{"$f":"($L$2*J8/12)*E8*H8*2.72","v":{"$error":"#N/A"}},null,{"$f":"IF(G8=0,0,G8/$G$55)","v":0},{"$f":"IF(H8=0,0,H8/$H$55)","v":0},null,{"$f":"AJ8/$AJ$55","v":{"$error":"#N/A"}},{"$f":"AK8/$AK$55","v":{"$error":"#N/A"}},{"$f":"SUM(K8:K53)","v":{"$error":"#N/A"}},{"$f":"SUM(L8:L53)","v":{"$error":"#N/A"}},{"$f":"SUM(M8:M53)","v":{"$error":"#N/A"}},{"$f":"SUM(N8:N53)","v":{"$error":"#N/A"}},null,{"$f":"U8/G55","v":{"$error":"#N/A"}},{"$f":"V8/H55","v":{"$error":"#N/A"}},{"$f":"W8/G55","v":{"$error":"#N/A"}},{"$f":"X8/H55","v":{"$error":"#N/A"}},null,{"$f":"(D8*S8)+(D9*S9)+(D11*S11)+(D12*S12)+(D13*S13)+(D17*S17)+(D18*S18)+(D19*S19)+(D20*S20)+(D26*S26)+(D27*S27)+(D31*S31)+(D36*S36)+(D37*S37)+(D38*S38)+(D39*S39)+(D40*S40)+(D41*S41)+(D42*S42)+(D45*S45)+(D46*S46)+(D47*S47)+(D48*S48)+(D49*S49)+(D50*S50)+(D51*S51)+(D52*S52)+(D53*S53)+(D43*S43)+(D14*S14)+(D15*S15)+(D22*S22)+(D23*S23)+(D24*S24)+(D28*S28)+(D29*S29)+(D30*S30)+(D33*S33)+(D34*S34)","v":{"$error":"#N/A"}},{"$f":"(D8*T8)+(D9*T9)+(D11*T11)+(D12*T12)+(D13*T13)+(D17*T17)+(D18*T18)+(D19*T19)+(D20*T20)+(D26*T26)+(D27*T27)+(D31*T31)+(D36*T36)+(D37*T37)+(D38*T38)+(D39*T39)+(D40*T40)+(D41*T41)+(D42*T42)+(D45*T45)+(D46*T46)+(D47*T47)+(D48*T48)+(D49*T49)+(D50*T50)+(D51*T51)+(D52*T52)+(D53*T53)+(D43*T43)+(D14*T14)+(D15*T15)+(D22*T22)+(D23*T23)+(D24*T24)+(D29*T29)+(D28*T28)+(D30*T30)+(D33*T33)+(D34*T34)","v":{"$error":"#N/A"}},{"$f":"(E8*S8)+(E9*S9)+(E11*S11)+(E12*S12)+(E13*S13)+(E17*S17)+(E18*S18)+(E19*S19)+(E20*S20)+(E26*S26)+(E27*S27)+(E31*S31)+(E36*S36)+(E37*S37)+(E38*S38)+(E39*S39)+(E40*S40)+(E41*S41)+(E42*S42)+(E45*S45)+(E46*S46)+(E47*S47)+(E48*S48)+(E49*S49)+(E50*S50)+(E51*S51)+(E52*S52)+(E53*S53)+(E43*S43)+(E14*S14)+(E15*S15)+(E22*S22)+(E23*S23)+(E24*S24)+(E28*S28)+(E29*S29)+(E30*S30)+(E33*S33)+(E34*S34)","v":{"$error":"#N/A"}},{"$f":"(E8*T8)+(E9*T9)+(E11*T11)+(E12*T12)+(E13*T13)+(E17*T17)+(E18*T18)+(E19*T19)+(E20*T20)+(E26*T27)+(E27*T26)+(E31*T31)+(E36*T36)+(E37*T37)+(E38*T38)+(E39*T39)+(E40*T40)+(E41*T41)+(E42*T42)+(E45*T45)+(E46*T46)+(E47*T47)+(E48*T48)+(E49*T49)+(E50*T50)+(E51*T51)+(E52*T52)+(E53*T53)+(E43*T43)+(E14*T14)+(E15*T15)+(E22*T22)+(E23*T23)+(E24*T24)+(E28*T28)+(E29*T29)+(E30*T30)+(E33*T33)+(E34*T34)","v":{"$error":"#N/A"}},null,{"$f":"J8*(G8*43560)*($L$2/12)","v":{"$error":"#N/A"}},{"$f":"J8*(H8*43560)*($L$2/12)","v":{"$error":"#N/A"}},null,{"$f":"P8*$F8","v":0},{"$f":"Q8*$F8","v":0}]
[null,"     Roof","n/a",{"$f":"'1. Watershed Characteristics'!D33","v":1.08},{"$f":"'1. Watershed Characteristics'!E33","v":0.15},{"$f":"Assignments!C14","v":1},{"$f":"'1. Watershed Characteristics'!F33/43560","v":0},{"$f":"'1. Watershed Characteristics'!G33/43560","v":0},null,{"$f":"0.05+(0.009*(100*F9))","v":0.95},{"$f":"($L$2*J9/12)*D9*G9*2.72","v":{"$error":"#N/A"}},{"$f":"($L$2*J9/12)*D9*H9*2.72","v":{"$error":"#N/A"}},{"$f":"($L$2*J9/12)*E9*G9*2.72","v":{"$error":"#N/A"}},{"$f":"($L$2*J9/12)*E9*H9*2.72","v":{"$error":"#N/A"}},null,{"$f":"IF(G9=0,0,G9/$G$55)","v":0},{"$f":"IF(H9=0,0,H9/$H$55)","v":0},null,{"$error":"#N/A"},{"$error":"#N/A"},null,null,null,null,null,null,null,null,null,null,null,null,null,null,null,{"$f":"J9*(G9*43560)*($L$2/12)","v":{"$error":"#N/A"}},{"$f":"J9*(H9*43560)*($L$2/12)","v":{"$error":"#N/A"}},null,{"$f":"P9*$F9","v":0},{"$f":"Q9*$F9","v":0}]
[null,"INDUSTRIAL",null,null,null,null,null,null,null,null,null,null,null,null,null,null,null,null,{"$error":"#N/A"},{"$error":"#N/A"}]
[null,"     Parking lot","n/a",{"$f":"'1. Watershed Characteristics'!D35","v":1.44},{"$f":"'1. Watershed Characteristics'!E35","v":0.39},{"$f":"Assignments!C16","v":1},{"$f":"'1. Watershed Characteristics'!F35/43560","v":0},{"$f":"'1. Watershed Characteristics'!G35/43560","v":0},null,0.95,{"$f":"($L$2*J11/12)*D11*G11*2.72","v":{"$error":"#N/A"}},{"$f":"($L$2*J11/12)*D11*H11*2.72","v":{"$error":"#N/A"}},{"$f":"($L$2*J11/12)*E11*G11*2.72","v":{"$error":"#N/A"}},{"$f":"($L$2*J11/12)*E11*H11*2.72","v":{"$error":"#N/A"}},null,{"$f":"IF(G11=0,0,G11/$G$55)","v":0},{"$f":"IF(H11=0,0,H11/$H$55)","v":0},null,{"$error":"#N/A"},{"$error":"#N/A"},null,null,null,null,null,null,null,null,null,null,null,null,null,null,null,{"$error":"#N/A"},{"$error":"#N/A"},null,0,0]
[null,"     Roof","n/a",{"$f":"'1. Watershed Characteristics'!D36","v":1.08},{"$f":"'1. Watershed Characteristics'!E36","v":0.15},{"$f":"Assignments!C17","v":1},{"$f":"'1. Watershed Characteristics'!F36/43560","v":0},{"$f":"'1. Watershed Characteristics'!G36/43560","v":0},null,0.95,{"$error":"#N/A"},{"$f":"($L$2*J12/12)*D12*H12*2.72","v":{"$error":"#N/A"}},{"$f":"($L$2*J12/12)*E12*G12*2.72","v":{"$error":"#N/A"}},{"$f":"($L$2*J12/12)*E12*H12*2.72","v":{"$error":"#N/A"}},null,{"$f":"IF(G12=0,0,G12/$G$55)","v":0},{"$f":"IF(H12=0,0,H12/$H$55)","v":0},null,{"$error":"#N/A"},{"$error":"#N/A"},null,null,null,null,null,null,null,null,null,null,null,null,null,null,null,{"$error":"#N/A"},{"$error":"#N/A"},null,0,0]
[null,"     Access road","n/a",{"$f":"'1. Watershed Characteristics'!D37","v":1.72},{"$f":"'1. Watershed Characteristics'!E37","v":0.34},{"$f":"Assignments!C18","v":1},{"$f":"'1. Watershed Characteristics'!F37/43560","v":0},{"$f":"'1. Watershed Characteristics'!G37/43560","v":0},null,0.95,{"$error":"#N/A"},{"$f":"($L$2*J13/12)*D13*H13*2.72","v":{"$error":"#N/A"}},{"$f":"($L$2*J13/12)*E13*G13*2.72","v":{"$error":"#N/A"}},{"$f":"($L$2*J13/12)*E13*H13*2.72","v":{"$error":"#N/A"}},null,{"$f":"IF(G13=0,0,G13/$G$55)","v":0},{"$f":"IF(H13=0,0,H13/$H$55)","v":0},null,{"$error":"#N/A"},{"$error":"#N/A"},null,null,null,null,null,null,null,null,null,null,null,null,null,null,null,{"$error":"#N/A"},{"$error":"#N/A"},null,0,0]
[null,"     Impervious, uncovered storage","n/a",{"$f":"'1. Watershed Characteristics'!D38","v":1.72},{"$f":"'1. Watershed Characteristics'!E38","v":0.34},{"$f":"Assignments!C19","v":1},{"$f":"'1. Watershed Characteristics'!F38/43560","v":0},{"$f":"'1. Watershed Characteristics'!G38/43560","v":0},null,0.95,{"$error":"#N/A"},{"$f":"($L$2*J14/12)*D14*H14*2.72","v":{"$error":"#N/A"}},{"$f":"($L$2*J14/12)*E14*G14*2.72","v":{"$error":"#N/A"}},{"$f":"($L$2*J14/12)*E14*H14*2.72","v":{"$error":"#N/A"}},null,{"$f":"IF(G14=0,0,G14/$G$55)","v":0},{"$f":"IF(H14=0,0,H14/$H$55)","v":0},null,{"$f":"AJ14/$AJ$55","v":{"$error":"#N/A"}},{"$f":"AK14/$AK$55","v":{"$error":"#N/A"}},null,null,null,null,null,null,null,null,null,null,null,null,null,null,null,{"$f":"J14*(G14*43560)*($L$2/12)","v":{"$error":"#N/A"}},{"$f":"J14*(H14*43560)*($L$2/12)","v":{"$error":"#N/A"}},null,0,0]
[null,"     Pervious, covered storage","n/a",{"$f":"'1. Watershed Characteristics'!D39","v":1.47},{"$f":"'1. Watershed Characteristics'!E39","v":0.25},{"$f":"Assignments!C20","v":0},{"$f":"'1. Watershed Characteristics'!F39/43560","v":0},{"$f":"'1. Watershed Characteristics'!G39/43560","v":0},null,0.05,{"$error":"#N/A"},{"$error":"#N/A"},{"$error":"#N/A"},{"$error":"#N/A"},null,0,0,null,{"$error":"#N/A"},{"$error":"#N/A"},null,null,null,null,null,null,null,null,null,null,null,null,null,null,null,{"$error":"#N/A"},{"$error":"#N/A"},null,0,0]
[null,"TRANSPORTATION"]
[null,"     Primary road EOP","n/a",{"$f":"'1. Watershed Characteristics'!D41","v":1.46},{"$f":"'1. Watershed Characteristics'!E41","v":0.08},{"$f":"Assignments!C22","v":1},{"$f":"'1. Watershed Characteristics'!F41/43560","v":0},{"$f":"'1. Watershed Characteristics'!G41/43560","v":0},null,0.95,{"$error":"#N/A"},{"$f":"($L$2*J17/12)*D17*H17*2.72","v":{"$error":"#N/A"}},{"$f":"($L$2*J17/12)*E17*G17*2.72","v":{"$error":"#N/A"}},{"$f":"($L$2*J17/12)*E17*H17*2.72","v":{"$error":"#N/A"}},null,{"$f":"IF(G17=0,0,G17/$G$55)","v":0},{"$f":"IF(H17=0,0,H17/$H$55)","v":0},null,{"$f":"AJ17/$AJ$55","v":{"$error":"#N/A"}},{"$f":"AK17/$AK$55","v":{"$error":"#N/A"}},null,null,null,null,null,null,null,null,null,null,null,null,null,null,null,{"$error":"#N/A"},{"$error":"#N/A"},null,0,0]
[null,"     Secondary road EOP","n/a",{"$f":"'1. Watershed Characteristics'!D42","v":0.54},{"$f":"'1. Watershed Characteristics'!E42","v":0.1},{"$f":"Assignments!C23","v":1},{"$f":"'1. Watershed Characteristics'!F42/43560","v":0},{"$f":"'1. Watershed Characteristics'!G42/43560","v":0},null,0.95,{"$error":"#N/A"},{"$f":"($L$2*J18/12)*D18*H18*2.72","v":{"$error":"#N/A"}},{"$f":"($L$2*J18/12)*E18*G18*2.72","v":{"$error":"#N/A"}},{"$f":"($L$2*J18/12)*E18*H18*2.72","v":{"$error":"#N/A"}},null,{"$f":"IF(G18=0,0,G18/$G$55)","v":0},{"$f":"IF(H18=0,0,H18/$H$55)","v":0},null,{"$f":"AJ18/$AJ$55","v":{"$error":"#N/A"}},{"$f":"AK18/$AK$55","v":{"$error":"#N/A"}},null,null,null,null,null,null,null,null,null,null,null,null,null,null,null,{"$error":"#N/A"},{"$error":"#N/A"},null,0,0]
[null,"     Bridge EOP","n/a",{"$f":"'1. Watershed Characteristics'!D43","v":0.98},{"$f":"'1. Watershed Characteristics'!E43","v":0.17},{"$f":"Assignments!C24","v":1},{"$f":"'1. Watershed Characteristics'!F43/43560","v":0},{"$f":"'1. Watershed Characteristics'!G43/43560","v":0},null,0.95,{"$error":"#N/A"},{"$f":"($L$2*J19/12)*D19*H19*2.72","v":{"$error":"#N/A"}},{"$f":"($L$2*J19/12)*E19*G19*2.72","v":{"$error":"#N/A"}},{"$f":"($L$2*J19/12)*E19*H19*2.72","v":{"$error":"#N/A"}},null,{"$f":"IF(G19=0,0,G19/$G$55)","v":0},{"$f":"IF(H19=0,0,H19/$H$55)","v":0},null,{"$f":"AJ19/$AJ$55","v":{"$error":"#N/A"}},{"$f":"AK19/$AK$55","v":{"$error":"#N/A"}},null,null,null,null,null,null,null,null,null,null,null,null,null,null,null,{"$error":"#N/A"},{"$error":"#N/A"},null,0,0]
[null,"     Sidewalk","n/a",{"$f":"'1. Watershed Characteristics'!D44","v":1.4},{"$f":"'1. Watershed Characteristics'!E44","v":1.1599999999999999},{"$f":"Assignments!C25","v":1},{"$f":"'1. Watershed Characteristics'!F44/43560","v":0},{"$f":"'1. Watershed Characteristics'!G44/43560","v":0},null,0.95,{"$error":"#N/A"},{"$f":"($L$2*J20/12)*D20*H20*2.72","v":{"$error":"#N/A"}},{"$f":"($L$2*J20/12)*E20*G20*2.72","v":{"$error":"#N/A"}},{"$f":"($L$2*J20/12)*E20*H20*2.72","v":{"$error":"#N/A"}},null,{"$f":"IF(G20=0,0,G20/$G$55)","v":0},{"$f":"IF(H20=0,0,H20/$H$55)","v":0},null,{"$f":"AJ20/$AJ$55","v":{"$error":"#N/A"}},{"$f":"AK20/$AK$55","v":{"$error":"#N/A"}},null,null,null,null,null,null,null,null,null,null,null,null,null,null,null,{"$error":"#N/A"},{"$error":"#N/A"},null,0,0]
[null,"REST AREA"]
[null,"     Parking lot (car)","n/a",{"$f":"'1. Watershed Characteristics'!D46","v":2.13},{"$f":"'1. Watershed Characteristics'!E46","v":0.48},{"$f":"Assignments!C27","v":1},{"$f":"'1. Watershed Characteristics'!F46/43560","v":0},{"$f":"'1. Watershed Characteristics'!G46/43560","v":0},null,0.95,{"$error":"#N/A"},{"$f":"($L$2*J22/12)*D22*H22*2.72","v":{"$error":"#N/A"}},{"$f":"($L$2*J22/12)*E22*G22*2.72","v":{"$error":"#N/A"}},{"$f":"($L$2*J22/12)*E22*H22*2.72","v":{"$error":"#N/A"}},null,{"$f":"IF(G22=0,0,G22/$G$55)","v":0},{"$f":"IF(H22=0,0,H22/$H$55)","v":0},null,{"$f":"AJ22/$AJ$55","v":{"$error":"#N/A"}},{"$f":"AK22/$AK$55","v":{"$error":"#N/A"}},null,null,null,null,null,null,null,null,null,null,null,null,null,null,null,{"$f":"J22*(G22*43560)*($L$2/12)","v":{"$error":"#N/A"}},{"$f":"J22*(H22*43560)*($L$2/12)","v":{"$error":"#N/A"}},null,0,0]
[null,"     Parking lot (truck)","n/a",{"$f":"'1. Watershed Characteristics'!D47","v":3.21},{"$f":"'1. Watershed Characteristics'!E47","v":1.38},{"$f":"Assignments!C28","v":1},{"$f":"'1. Watershed Characteristics'!F47/43560","v":0},{"$f":"'1. Watershed Characteristics'!G47/43560","v":0},null,0.95,{"$error":"#N/A"},{"$error":"#N/A"},{"$error":"#N/A"},{"$error":"#N/A"},null,0,0,null,{"$error":"#N/A"},{"$error":"#N/A"},null,null,null,null,null,null,null,null,null,null,null,null,null,null,null,{"$error":"#N/A"},{"$error":"#N/A"},null,0,0]
[null,"     Roof","n/a",{"$f":"'1. Watershed Characteristics'!D48","v":1.08},{"$f":"'1. Watershed Characteristics'!E48","v":0.15},{"$f":"Assignments!C29","v":1},{"$f":"'1. Watershed Characteristics'!F48/43560","v":0},{"$f":"'1. Watershed Characteristics'!G48/43560","v":0},null,0.95,{"$error":"#N/A"},{"$error":"#N/A"},{"$error":"#N/A"},{"$error":"#N/A"},null,0,0,null,{"$error":"#N/A"},{"$error":"#N/A"},null,null,null,null,null,null,null,null,null,null,null,null,null,null,null,{"$error":"#N/A"},{"$error":"#N/A"},null,0,0]
[null,"PERVIOUS"]
[null,"     Managed lawn (fertilized)","n/a",{"$f":"'1. Watershed Characteristics'!D50","v":3.06},{"$f":"'1. Watershed Characteristics'!E50","v":0.59},{"$f":"Assignments!C31","v":0},{"$f":"'1. Watershed Characteristics'!F50/43560","v":0},{"$f":"'1. Watershed Characteristics'!G50/43560","v":0},null,0.05,{"$error":"#N/A"},{"$f":"($L$2*J26/12)*D26*H26*2.72","v":{"$error":"#N/A"}},{"$f":"($L$2*J26/12)*E26*G26*2.72","v":{"$error":"#N/A"}},{"$f":"($L$2*J26/12)*E26*H26*2.72","v":{"$error":"#N/A"}},null,{"$f":"IF(G26=0,0,G26/$G$55)","v":0},{"$f":"IF(H26=0,0,H26/$H$55)","v":0},null,{"$f":"AJ26/$AJ$55","v":{"$error":"#N/A"}},{"$f":"AK26/$AK$55","v":{"$error":"#N/A"}},null,null,null,null,null,null,null,null,null,null,null,null,null,null,null,{"$error":"#N/A"},{"$error":"#N/A"},null,0,0]
[null,"     Open space (unfertilized)","n/a",{"$f":"'1. Watershed Characteristics'!D51","v":1.47},{"$f":"'1. Watershed Characteristics'!E51","v":0.25},{"$f":"Assignments!C32","v":0},{"$f":"'1. Watershed Characteristics'!F51/43560","v":0},{"$f":"'1. Watershed Characteristics'!G51/43560","v":0},null,0.05,{"$error":"#N/A"},{"$f":"($L$2*J27/12)*D27*H27*2.72","v":{"$error":"#N/A"}},{"$f":"($L$2*J27/12)*E27*G27*2.72","v":{"$error":"#N/A"}},{"$f":"($L$2*J27/12)*E27*H27*2.72","v":{"$error":"#N/A"}},null,{"$f":"IF(G27=0,0,G27/$G$55)","v":0},{"$f":"IF(H27=0,0,H27/$H$55)","v":0},null,{"$f":"AJ27/$AJ$55","v":{"$error":"#N/A"}},{"$f":"AK27/$AK$55","v":{"$error":"#N/A"}},null,null,null,null,null,null,null,null,null,null,null,null,null,null,null,{"$error":"#N/A"},{"$error":"#N/A"},null,0,0]
[null,"     Open/Landscaped","n/a",{"$f":"'1. Watershed Characteristics'!D52","v":2.2400000000000002},{"$f":"'1. Watershed Characteristics'!E52","v":0.44},{"$f":"Assignments!C33","v":0},{"$f":"'1. Watershed Characteristics'!F52/43560","v":0},{"$f":"'1. Watershed Characteristics'!G52/43560","v":0},null,0.05,{"$error":"#N/A"},{"$f":"($L$2*J28/12)*D28*H28*2.72","v":{"$error":"#N/A"}},{"$f":"($L$2*J28/12)*E28*G28*2.72","v":{"$error":"#N/A"}},{"$f":"($L$2*J28/12)*E28*H28*2.72","v":{"$error":"#N/A"}},null,{"$f":"IF(G28=0,0,G28/$G$55)","v":0},{"$f":"IF(H28=0,0,H28/$H$55)","v":0},null,{"$f":"AJ28/$AJ$55","v":{"$error":"#N/A"}},{"$f":"AK28/$AK$55","v":{"$error":"#N/A"}},null,null,null,null,null,null,null,null,null,null,null,null,null,null,null,{"$f":"J28*(G28*43560)*($L$2/12)","v":{"$error":"#N/A"}},{"$f":"J28*(H28*43560)*($L$2/12)","v":{"$error":"#N/A"}},null,0,0]
[null,"     Agriculture (crop)","n/a",{"$f":"'1. Watershed Characteristics'!D53","v":4.2300000000000004},{"$f":"'1. Watershed Characteristics'!E53","v":1.23},{"$f":"Assignments!C34","v":0},{"$f":"'1. Watershed Characteristics'!F53/43560","v":0},{"$f":"'1. Watershed Characteristics'!G53/43560","v":0},null,0.05,{"$error":"#N/A"},{"$error":"#N/A"},{"$error":"#N/A"},{"$error":"#N/A"},null,0,0,null,{"$error":"#N/A"},{"$error":"#N/A"},null,null,null,null,null,null,null,null,null,null,null,null,null,null,null,{"$error":"#N/A"},{"$error":"#N/A"},null,0,0]
[null,"     Agriculture (pasture)","n/a",{"$f":"'1. Watershed Characteristics'!D54","v":3.61},{"$f":"'1. Watershed Characteristics'!E54","v":1.56},{"$f":"Assignments!C35","v":0},{"$f":"'1. Watershed Characteristics'!F54/43560","v":0},{"$f":"'1. Watershed Characteristics'!G54/43560","v":0},null,0.05,{"$error":"#N/A"},{"$error":"#N/A"},{"$error":"#N/A"},{"$error":"#N/A"},null,0,0,null,{"$error":"#N/A"},{"$error":"#N/A"},null,null,null,null,null,null,null,null,null,null,null,null,null,null,null,{"$error":"#N/A"},{"$error":"#N/A"},null,0,0]
[null,"     Forest","n/a",{"$f":"'1. Watershed Characteristics'!D55","v":1.47},{"$f":"'1. Watershed Characteristics'!E55","v":0.25},{"$f":"Assignments!C36","v":0},{"$f":"'1. Watershed Characteristics'!F55/43560","v":0},{"$f":"'1. Watershed Characteristics'!G55/43560","v":0},null,0.05,{"$error":"#N/A"},{"$f":"($L$2*J31/12)*D31*H31*2.72","v":{"$error":"#N/A"}},{"$f":"($L$2*J31/12)*E31*G31*2.72","v":{"$error":"#N/A"}},{"$error":"#N/A"},null,{"$f":"IF(G31=0,0,G31/$G$55)","v":0},{"$f":"IF(H31=0,0,H31/$H$55)","v":0},null,{"$f":"AJ31/$AJ$55","v":{"$error":"#N/A"}},{"$f":"AK31/$AK$55","v":{"$error":"#N/A"}},null,null,null,null,null,null,null,null,null,null,null,null,null,null,null,{"$error":"#N/A"},{"$error":"#N/A"},null,0,0]
[null,"UNSPECIFIED LAND USE"]
[null,"     Blank 1","n/a",{"$f":"IF('1. Watershed Characteristics'!D57=\"NA\", 0,'1. Watershed Characteristics'!D57)","v":0},{"$f":"IF('1. Watershed Characteristics'!E57=\"NA\", 0,'1. Watershed Characteristics'!E57)","v":0},{"$f":"IF(Assignments!C38=\"NA\", 0, Assignments!C38)","v":0},{"$f":"'1. Watershed Characteristics'!F57/43560","v":0},{"$f":"'1. Watershed Characteristics'!G57/43560","v":0},null,{"$f":"IF(F33=\"NA\", 0, 0.05+(0.009*(100*F33)))","v":0.05},{"$error":"#N/A"},{"$f":"($L$2*J33/12)*D33*H33*2.72","v":{"$error":"#N/A"}},{"$f":"($L$2*J33/12)*E33*G33*2.72","v":{"$error":"#N/A"}},{"$error":"#N/A"},null,{"$f":"IF(G33=0,0,G33/$G$55)","v":0},{"$f":"IF(H33=0,0,H33/$H$55)","v":0},null,{"$f":"AJ33/$AJ$55","v":{"$error":"#N/A"}},{"$f":"AK33/$AK$55","v":{"$error":"#N/A"}},null,null,null,null,null,null,null,null,null,null,null,null,null,null,null,{"$f":"J33*(G33*43560)*($L$2/12)","v":{"$error":"#N/A"}},{"$f":"J33*(H33*43560)*($L$2/12)","v":{"$error":"#N/A"}},null,0,0]
[null,"     Blank 2","n/a",{"$f":"IF('1. Watershed Characteristics'!D58=\"NA\", 0,'1. Watershed Characteristics'!D58)","v":0},{"$f":"IF('1. Watershed Characteristics'!E58=\"NA\", 0,'1. Watershed Characteristics'!E58)","v":0},{"$f":"IF(Assignments!C39=\"NA\", 0, Assignments!C39)","v":0},{"$f":"'1. Watershed Characteristics'!F58/43560","v":0},{"$f":"'1. Watershed Characteristics'!G58/43560","v":0},null,{"$f":"IF(F34=\"NA\", 0, 0.05+(0.009*(100*F34)))","v":0.05},{"$error":"#N/A"},{"$error":"#N/A"},{"$error":"#N/A"},{"$error":"#N/A"},null,0,0,null,{"$error":"#N/A"},{"$error":"#N/A"},null,null,null,null,null,null,null,null,null,null,null,null,null,null,null,{"$error":"#N/A"},{"$error":"#N/A"},null,0,0]
[null,"RESIDENTIAL - PART A"]
[null,"     ⅛-ac lots",{"$f":"'1. Watershed Characteristics'!N32","v":0},{"$f":"IF('1. Watershed Characteristics'!O32=\"--\",0,'1. Watershed Characteristics'!O32)","v":0},{"$f":"IF('1. Watershed Characteristics'!P32=\"--\",0,'1. Watershed Characteristics'!P32)","v":0},{"$f":"IF(C36=\"After 1995\",Assignments!L8,IF(C36=\"Before 1995\",Assignments!L41,IF(C36=\"New\",MAX(Assignments!L8,Assignments!L41),0)))","v":0},{"$f":"'1. Watershed Characteristics'!Q32/43560","v":0},{"$f":"'1. Watershed Characteristics'!R32/43560","v":0},null,0.05,{"$error":"#N/A"},{"$f":"IF(D36=\"--\",0,($L$2*J36/12)*D36*H36*2.72)","v":{"$error":"#N/A"}},{"$f":"IF(E36=\"--\",0,($L$2*J36/12)*E36*G36*2.72)","v":{"$error":"#N/A"}},{"$f":"IF(E36=\"--\",0,($L$2*J36/12)*E36*H36*2.72)","v":{"$error":"#N/A"}},null,{"$f":"IF(G36=0,0,G36/$G$55)","v":0},{"$f":"IF(H36=0,0,H36/$H$55)","v":0},null,{"$f":"AJ36/$AJ$55","v":{"$error":"#N/A"}},{"$f":"AK36/$AK$55","v":{"$error":"#N/A"}},null,null,null,null,null,null,null,null,null,null,null,null,null,null,null,{"$error":"#N/A"},{"$error":"#N/A"},null,0,0]
[null,"     ¼-ac lots ",{"$f":"'1. Watershed Characteristics'!N33","v":0},{"$f":"IF('1. Watershed Characteristics'!O33=\"--\",0,'1. Watershed Characteristics'!O33)","v":0},{"$f":"IF('1. Watershed Characteristics'!P33=\"--\",0,'1. Watershed Characteristics'!P33)","v":0},{"$f":"IF(C37=\"After 1995\",Assignments!L7,IF(C37=\"Before 1995\",Assignments!L40,IF(C37=\"New\",MAX(Assignments!L7,Assignments!L40),0)))","v":0},{"$f":"'1. Watershed Characteristics'!Q33/43560","v":0},{"$f":"'1. Watershed Characteristics'!R33/43560","v":0},null,0.05,{"$error":"#N/A"},{"$error":"#N/A"},{"$error":"#N/A"},{"$error":"#N/A"},null,0,0,null,{"$error":"#N/A"},{"$error":"#N/A"},null,null,null,null,null,null,null,null,null,null,null,null,null,null,null,{"$error":"#N/A"},{"$error":"#N/A"},null,0,0]
[null,"     ½-ac lots",{"$f":"'1. Watershed Characteristics'!N34","v":0},{"$f":"IF('1. Watershed Characteristics'!O34=\"--\",0,'1. Watershed Characteristics'!O34)","v":0},{"$f":"IF('1. Watershed Characteristics'!P34=\"--\",0,'1. Watershed Characteristics'!P34)","v":0},{"$f":"IF(C38=\"After 1995\",Assignments!L6,IF(C38=\"Before 1995\",Assignments!L39,IF(C38=\"New\",MAX(Assignments!L6,Assignments!L39),0)))","v":0},{"$f":"'1. Watershed Characteristics'!Q34/43560","v":0},{"$f":"'1. Watershed Characteristics'!R34/43560","v":0},null,0.05,{"$error":"#N/A"},{"$error":"#N/A"},{"$error":"#N/A"},{"$error":"#N/A"},null,0,0,null,{"$error":"#N/A"},{"$error":"#N/A"},null,null,null,null,null,null,null,null,null,null,null,null,null,null,null,{"$error":"#N/A"},{"$error":"#N/A"},null,0,0]
[null,"     1-ac lots",{"$f":"'1. Watershed Characteristics'!N35","v":0},{"$f":"IF('1. Watershed Characteristics'!O35=\"--\",0,'1. Watershed Characteristics'!O35)","v":0},{"$f":"IF('1. Watershed Characteristics'!P35=\"--\",0,'1. Watershed Characteristics'!P35)","v":0},{"$f":"IF(C39=\"After 1995\",Assignments!L5,IF(C39=\"Before 1995\",Assignments!L38,IF(C39=\"New\",MAX(Assignments!L5,Assignments!L38),0)))","v":0},{"$f":"'1. Watershed Characteristics'!Q35/43560","v":0},{"$f":"'1. Watershed Characteristics'!R35/43560","v":0},null,0.05,{"$error":"#N/A"},{"$error":"#N/A"},{"$error":"#N/A"},{"$error":"#N/A"},null,0,0,null,{"$error":"#N/A"},{"$error":"#N/A"},null,null,null,null,null,null,null,null,null,null,null,null,null,null,null,{"$error":"#N/A"},{"$error":"#N/A"},null,0,0]
[null,"     2-ac lots",{"$f":"'1. Watershed Characteristics'!N36","v":0},{"$f":"IF('1. Watershed Characteristics'!O36=\"--\",0,'1. Watershed Characteristics'!O36)","v":0},{"$f":"IF('1. Watershed Characteristics'!P36=\"--\",0,'1. Watershed Characteristics'!P36)","v":0},{"$f":"IF(C40=\"After 1995\",Assignments!L4,IF(C40=\"Before 1995\",Assignments!L37,IF(C40=\"New\",MAX(Assignments!L4,Assignments!L37),0)))","v":0},{"$f":"'1. Watershed Characteristics'!Q36/43560","v":0},{"$f":"'1. Watershed Characteristics'!R36/43560","v":0},null,0.05,{"$error":"#N/A"},{"$error":"#N/A"},{"$error":"#N/A"},{"$error":"#N/A"},null,0,0,null,{"$error":"#N/A"},{"$error":"#N/A"},null,null,null,null,null,null,null,null,null,null,null,null,null,null,null,{"$error":"#N/A"},{"$error":"#N/A"},null,0,0]
[null,"     Multi-family",{"$f":"'1. Watershed Characteristics'!N37","v":0},{"$f":"IF('1. Watershed Characteristics'!O37=\"--\",0,'1. Watershed Characteristics'!O37)","v":0},{"$f":"IF('1. Watershed Characteristics'!P37=\"--\",0,'1. Watershed Characteristics'!P37)","v":0},{"$f":"IF(C41=\"After 1995\",Assignments!L10,IF(C41=\"Before 1995\",Assignments!L43,IF(C41=\"New\",MAX(Assignments!L10,Assignments!L43),0)))","v":0},{"$f":"'1. Watershed Characteristics'!Q37/43560","v":0},{"$f":"'1. Watershed Characteristics'!R37/43560","v":0},null,0.05,{"$error":"#N/A"},{"$error":"#N/A"},{"$error":"#N/A"},{"$error":"#N/A"},null,0,0,null,{"$error":"#N/A"},{"$error":"#N/A"},null,null,null,null,null,null,null,null,null,null,null,null,null,null,null,{"$error":"#N/A"},{"$error":"#N/A"},null,0,0]
[null,"     Townhomes",{"$f":"'1. Watershed Characteristics'!N38","v":0},{"$f":"IF('1. Watershed Characteristics'!O38=\"--\",0,'1. Watershed Characteristics'!O38)","v":0},{"$f":"IF('1. Watershed Characteristics'!P38=\"--\",0,'1. Watershed Characteristics'!P38)","v":0},{"$f":"IF(C42=\"After 1995\",Assignments!L9,IF(C42=\"Before 1995\",Assignments!L42,IF(C42=\"New\",MAX(Assignments!L9,Assignments!L42),0)))","v":0},{"$f":"'1. Watershed Characteristics'!Q38/43560","v":0},{"$f":"'1. Watershed Characteristics'!R38/43560","v":0},null,0.05,{"$error":"#N/A"},{"$error":"#N/A"},{"$error":"#N/A"},{"$error":"#N/A"},null,0,0,null,{"$error":"#N/A"},{"$error":"#N/A"},null,null,null,null,null,null,null,null,null,null,null,null,null,null,null,{"$error":"#N/A"},{"$error":"#N/A"},null,0,0]
[null,"     Custom Lot Size",{"$f":"'1. Watershed Characteristics'!$N$39","v":0},{"$f":"IF(C43=0,0,'1. Watershed Characteristics'!O39)","v":0},{"$f":"IF(C43=0,0,'1. Watershed Characteristics'!P39)","v":0},{"$f":"IF(C43=0,0,C79)","v":0},{"$f":"'1. Watershed Characteristics'!Q39/43560","v":0},{"$f":"'1. Watershed Characteristics'!R39/43560","v":0},null,0.05,{"$error":"#N/A"},{"$error":"#N/A"},{"$error":"#N/A"},{"$error":"#N/A"},null,0,0,null,{"$error":"#N/A"},{"$error":"#N/A"},null,null,null,null,null,null,null,null,null,null,null,null,null,null,null,{"$error":"#N/A"},{"$error":"#N/A"},null,0,0]
[null,"RESIDENTIAL - PART B"]
[null,"     Roadway","n/a",{"$f":"'1. Watershed Characteristics'!O41","v":1.4},{"$f":"'1. Watershed Characteristics'!P41","v":0.52},{"$f":"Assignments!C57","v":1},{"$f":"'1. Watershed Characteristics'!Q41/43560","v":0},{"$f":"'1. Watershed Characteristics'!R41/43560","v":0},null,0.95,{"$f":"($L$2*J45/12)*D45*G45*2.72","v":{"$error":"#N/A"}},{"$f":"($L$2*J45/12)*D45*H45*2.72","v":{"$error":"#N/A"}},{"$f":"($L$2*J45/12)*E45*G45*2.72","v":{"$error":"#N/A"}},{"$f":"($L$2*J45/12)*E45*H45*2.72","v":{"$error":"#N/A"}},null,{"$f":"IF(G45=0,0,G45/$G$55)","v":0},{"$f":"IF(H45=0,0,H45/$H$55)","v":0},null,{"$f":"AJ45/$AJ$55","v":{"$error":"#N/A"}},{"$f":"AK45/$AK$55","v":{"$error":"#N/A"}},null,null,null,null,null,null,null,null,null,null,null,null,null,null,null,{"$error":"#N/A"},{"$error":"#N/A"},null,{"$f":"P45*$F45","v":0},{"$f":"Q45*$F45","v":0}]
[null,"     Driveway","n/a",{"$f":"'1. Watershed Characteristics'!O42","v":1.44},{"$f":"'1. Watershed Characteristics'!P42","v":0.39},{"$f":"Assignments!C58","v":1},{"$f":"'1. Watershed Characteristics'!Q42/43560","v":0},{"$f":"'1. Watershed Characteristics'!R42/43560","v":0},null,0.95,{"$error":"#N/A"},{"$error":"#N/A"},{"$error":"#N/A"},{"$error":"#N/A"},null,0,0,null,{"$error":"#N/A"},{"$error":"#N/A"},null,null,null,null,null,null,null,null,null,null,null,null,null,null,null,{"$error":"#N/A"},{"$error":"#N/A"},null,0,0]
[null,"     Parking lot","n/a",{"$f":"'1. Watershed Characteristics'!O43","v":1.44},{"$f":"'1. Watershed Characteristics'!P43","v":0.39},{"$f":"Assignments!C59","v":1},{"$f":"'1. Watershed Characteristics'!Q43/43560","v":0},{"$f":"'1. Watershed Characteristics'!R43/43560","v":0},null,0.95,{"$error":"#N/A"},{"$error":"#N/A"},{"$error":"#N/A"},{"$error":"#N/A"},null,0,0,null,{"$error":"#N/A"},{"$error":"#N/A"},null,null,null,null,null,null,null,null,null,null,null,null,null,null,null,{"$error":"#N/A"},{"$error":"#N/A"},null,0,0]
[null,"     Roof","n/a",{"$f":"'1. Watershed Characteristics'!O44","v":1.08},{"$f":"'1. Watershed Characteristics'!P44","v":0.15},{"$f":"Assignments!C60","v":1},{"$f":"'1. Watershed Characteristics'!Q44/43560","v":0},{"$f":"'1. Watershed Characteristics'!R44/43560","v":0},null,0.95,{"$error":"#N/A"},{"$error":"#N/A"},{"$error":"#N/A"},{"$error":"#N/A"},null,0,0,null,{"$error":"#N/A"},{"$error":"#N/A"},null,null,null,null,null,null,null,null,null,null,null,null,null,null,null,{"$error":"#N/A"},{"$error":"#N/A"},null,0,0]
[null,"     Sidewalk","n/a",{"$f":"'1. Watershed Characteristics'!O45","v":1.4},{"$f":"'1. Watershed Characteristics'!P45","v":1.1599999999999999},{"$f":"Assignments!C61","v":1},{"$f":"'1. Watershed Characteristics'!Q45/43560","v":0},{"$f":"'1. Watershed Characteristics'!R45/43560","v":0},null,0.95,{"$error":"#N/A"},{"$error":"#N/A"},{"$error":"#N/A"},{"$error":"#N/A"},null,0,0,null,{"$error":"#N/A"},{"$error":"#N/A"},null,null,null,null,null,null,null,null,null,null,null,null,null,null,null,{"$error":"#N/A"},{"$error":"#N/A"},null,0,0]
[null,"     Lawn","n/a",{"$f":"'1. Watershed Characteristics'!O46","v":2.2400000000000002},{"$f":"'1. Watershed Characteristics'!P46","v":0.44},{"$f":"Assignments!C62","v":0},{"$f":"'1. Watershed Characteristics'!Q46/43560","v":0},{"$f":"'1. Watershed Characteristics'!R46/43560","v":0},null,0.05,{"$error":"#N/A"},{"$error":"#N/A"},{"$error":"#N/A"},{"$error":"#N/A"},null,0,0,null,{"$error":"#N/A"},{"$error":"#N/A"},null,null,null,null,null,null,null,null,null,null,null,null,null,null,null,{"$error":"#N/A"},{"$error":"#N/A"},null,0,0]
[null,"     Managed pervious","n/a",{"$f":"'1. Watershed Characteristics'!O47","v":3.06},{"$f":"'1. Watershed Characteristics'!P47","v":0.59},{"$f":"Assignments!C63","v":0},{"$f":"'1. Watershed Characteristics'!Q47/43560","v":0},{"$f":"'1. Watershed Characteristics'!R47/43560","v":0},null,0.05,{"$error":"#N/A"},{"$error":"#N/A"},{"$error":"#N/A"},{"$error":"#N/A"},null,0,0,null,{"$error":"#N/A"},{"$error":"#N/A"},null,null,null,null,null,null,null,null,null,null,null,null,null,null,null,{"$error":"#N/A"},{"$error":"#N/A"},null,0,0]
[null,"     Forest","n/a",{"$f":"'1. Watershed Characteristics'!O48","v":1.47},{"$f":"'1. Watershed Characteristics'!P48","v":0.25},{"$f":"Assignments!C64","v":0},{"$f":"'1. Watershed Characteristics'!Q48/43560","v":0},{"$f":"'1. Watershed Characteristics'!R48/43560","v":0},null,0.05,{"$error":"#N/A"},{"$error":"#N/A"},{"$error":"#N/A"},{"$error":"#N/A"},null,0,0,null,{"$error":"#N/A"},{"$error":"#N/A"},null,null,null,null,null,null,null,null,null,null,null,null,null,null,null,{"$error":"#N/A"},{"$error":"#N/A"},null,0,0]
[null,"LAND TAKEN UP BY BMPs","n/a",{"$f":"'1. Watershed Characteristics'!D63","v":1.08},{"$f":"'1. Watershed Characteristics'!E63","v":0.15},{"$f":"Assignments!C65","v":1},{"$f":"('1. Watershed Characteristics'!Q52+'1. Watershed Characteristics'!F63)/43560","v":0},{"$f":"('1. Watershed Characteristics'!R52+'1. Watershed Characteristics'!G63)/43560","v":0},null,0.95,{"$error":"#N/A"},{"$error":"#N/A"},{"$error":"#N/A"},{"$error":"#N/A"},null,0,0,null,{"$error":"#N/A"},{"$error":"#N/A"},null,null,null,null,null,null,null,null,null,null,null,null,null,null,null,{"$error":"#N/A"},{"$error":"#N/A"},null,0,0]
[]
[null,"TOTALS:",null,null,null,null,{"$f":"SUM(G45:G53,G36:G43,G26:G31,G17:G20,G11:G15,G8:G9,G33:G34,G22:G24,)","v":0},{"$f":"SUM(H45:H53,H36:H43,H26:H31,H17:H20,H11:H15,H8:H9,H33:H34,H22:H24)","v":0},null,null,{"$f":"SUM(K8:K53)","v":{"$error":"#N/A"}},{"$f":"SUM(L8:L53)","v":{"$error":"#N/A"}},{"$f":"SUM(M8:M53)","v":{"$error":"#N/A"}},{"$f":"SUM(N8:N53)","v":{"$error":"#N/A"}},null,{"$f":"SUM(P8:P53)","v":0},{"$f":"SUM(Q8:Q53)","v":0},null,null,null,null,null,null,null,null,null,null,null,null,null,null,null,null,null,null,{"$f":"SUM(AJ8:AJ53)","v":{"$error":"#N/A"}},{"$f":"SUM(AK8:AK53)","v":{"$error":"#N/A"}},null,{"$f":"SUM(AM8:AM53)","v":0},{"$f":"SUM(AN8:AN53)","v":0}]
[]
[]
[null,"Custom Lot Size Calculations"]
[null,"Custom Lot Size: ",{"$f":"IF('1. Watershed Characteristics'!M39<>0,'1. Watershed Characteristics'!M39,0)","v":0},"x2"]
[null,"Development Age:",{"$f":"'1. Watershed Characteristics'!$N$39","v":0},null,"Vlookup Value",null,"TN (mg/L)","TP (mg/L)",null,"% Impervious"]
[null,null,null,null,"2, After 1995",null,{"$f":"Assignments!D41","v":2.2198515000000003},{"$f":"Assignments!E41","v":0.43776989999999999},null,{"$f":"Assignments!C41","v":2.7E-2}]
[null,"Higher Lot Size:",{"$f":"IF(AND(0.125<C59,C59<0.25),0.25,IF(AND(0.25<C59,C59<0.5),0.5,IF(AND(0.5<C59,C59<1),1,IF(AND(1<C59,C59<2),2,\"NA\"))))","v":"NA"},"x3","1, After 1995",null,{"$f":"Assignments!D42","v":2.1183376700000003},{"$f":"Assignments!E42","v":0.42577644999999997},null,{"$f":"Assignments!C42","v":0.16500000000000001}]
[null,"Lower Lot Size:",{"$f":"IF(AND(0.125<C59,C59<0.25),0.125,IF(AND(0.25<C59,C59<0.5),0.25,IF(AND(0.5<C59,C59<1),0.5,IF(AND(1<C59,C59<2),1,\"NA\"))))","v":"NA"},"x1","0.5, After 1995",null,{"$f":"Assignments!D43","v":2.0591852300000002},{"$f":"Assignments!E43","v":0.42787306999999997},null,{"$f":"Assignments!C43","v":0.2455}]
[null,null,null,null,"0.25, After 1995",null,{"$f":"Assignments!D44","v":2.0014239700000003},{"$f":"Assignments!E44","v":0.42385414000000005},null,{"$f":"Assignments!C44","v":0.32200000000000001}]
[null,"Higher Lot Size Vlookup Value:",{"$f":"(C62&\", \"&C60)","v":"NA, 0"},null,"0.125, After 1995",null,{"$f":"Assignments!D45","v":1.9764694299999999},{"$f":"Assignments!E45","v":0.42785644},null,{"$f":"Assignments!C45","v":0.35439999999999999}]
[null,"Lower Lot Size Vlookup Value:",{"$f":"(C63&\", \"&C60)","v":"NA, 0"},null,"2, Before 1995",null,{"$f":"Assignments!D49","v":2.1862919999999999},{"$f":"Assignments!E49","v":0.434062},null,{"$f":"Assignments!C49","v":7.1999999999999995E-2}]
[null,null,null,null,"1, Before 1995",null,{"$f":"Assignments!D50","v":2.1515823300000001},{"$f":"Assignments!E50","v":0.42966355000000001},null,{"$f":"Assignments!C50","v":0.12}]
[null,"Higher Lot Size TN (mg/L):",{"$f":"VLOOKUP(C65,E61:H75,3,FALSE)","v":{"$error":"#N/A"}},"y3","0.5, Before 1995",null,{"$f":"Assignments!D51","v":2.1085947700000003},{"$f":"Assignments!E51","v":0.43118692999999997},null,{"$f":"Assignments!C51","v":0.17849999999999999}]
[null,"Lower Lot Size TN (mg/L):",{"$f":"VLOOKUP(C66,E61:H75,3,FALSE)","v":{"$error":"#N/A"}},"y1","0.25, Before 1995",null,{"$f":"Assignments!D52","v":2.06661603},{"$f":"Assignments!E52","v":0.42826586},null,{"$f":"Assignments!C52","v":0.23400000000000001}]
[null,null,null,null,"0.125, Before 1995",null,{"$f":"Assignments!D53","v":2.0187305699999998},{"$f":"Assignments!E53","v":0.42980355999999997},null,{"$f":"Assignments!C53","v":0.29759999999999998}]
[null,"Higher Lot Size TP (mg/L):",{"$f":"VLOOKUP(C65,E61:H75,4,FALSE)","v":{"$error":"#N/A"}},"y3","2, New",null,{"$f":"MAX(G61,G66)","v":2.2198515000000003},{"$f":"MAX(H61,H66)","v":0.43776989999999999},null,{"$f":"MAX(J61,J66)","v":7.1999999999999995E-2}]
[null,"Lower Lot Size TP (mg/L):",{"$f":"VLOOKUP(C66,E61:H75,4,FALSE)","v":{"$error":"#N/A"}},"y1","1, New",null,{"$f":"MAX(G62,G67)","v":2.1515823300000001},0.42966355000000001,null,{"$f":"MAX(J62,J67)","v":0.16500000000000001}]
[null,null,null,null,"0.5, New",null,2.1085947700000003,0.43118692999999997,null,{"$f":"MAX(J63,J68)","v":0.2455}]
[null,"Higher Lot Size % Impervious:",{"$f":"VLOOKUP(C65,E61:J75,6,FALSE)","v":{"$error":"#N/A"}},"y3","0.25, New",null,2.06661603,0.42826586,null,{"$f":"MAX(J64,J69)","v":0.32200000000000001}]
[null,"Lower Lot Size % Impervious:",{"$f":"VLOOKUP(C66,E61:J75,6,FALSE)","v":{"$error":"#N/A"}},"y1","0.125, New",null,2.0187305699999998,0.42980355999999997,null,{"$f":"MAX(J65,J70)","v":0.35439999999999999}]
[]
[null,"Interpolated TN (mg/L):",{"$f":"(((C59-C63)*(C68-C69))/(C62-C63))+C69","v":{"$error":"#VALUE!"}},"y2"]
[null,"Interpolated TP (mg/L):",{"$f":"(((C59-C63)*(C71-C72))/(C62-C63))+C72","v":{"$error":"#VALUE!"}}]
[null,"Interpolated % Impervious:",{"$f":"(((C59-C63)*(C74-C75))/(C62-C63))+C75","v":{"$error":"#VALUE!"}}]

{"sheet":"BMP Calcs","index":6,"n_rows":716,"n_cols":37,"rows_kept":716,"cut":false,"hidden":false,"merged":[[111,22,111,24],[113,28,113,29],[114,28,114,29],[115,28,115,29],[116,28,116,29],[115,22,115,24],[9,0,72,0],[104,0,106,0],[108,2,108,4],[111,6,111,8],[87,0,102,0],[74,0,85,0],[109,2,109,4],[111,2,111,4],[108,0,118,0],[117,2,117,4],[115,2,115,4],[114,2,114,4],[115,6,115,8],[109,22,109,24],[3,2,3,4],[3,6,3,8],[3,10,3,12],[3,14,3,16],[108,22,108,24],[109,6,109,8],[109,10,109,12],[109,14,109,16],[3,18,3,20],[108,6,108,8],[108,14,108,16],[108,18,108,20],[109,18,109,20],[3,22,3,24],[108,10,108,12],[111,36,112,36],[134,30,134,42],[122,22,122,24],[114,22,114,24],[113,22,113,24],[117,22,117,24],[111,31,112,31],[111,32,112,32],[111,33,112,33],[111,34,112,34],[111,35,112,35],[111,30,112,30],[130,2,130,24],[131,2,131,24],[113,14,113,16],[115,10,115,12],[120,0,129,0],[111,28,112,29],[111,14,111,16],[111,18,111,20],[122,2,122,4],[122,6,122,8],[122,10,122,12],[122,14,122,16],[122,18,122,20],[113,10,113,12],[114,18,114,20],[113,18,113,20],[114,10,114,12],[117,6,117,8],[117,10,117,12],[111,10,111,12],[114,14,114,16],[117,18,117,20],[113,2,113,4],[114,6,114,8],[113,6,113,8],[117,14,117,16],[115,18,115,20],[115,14,115,16]]}
[null,null,"P =",{"$f":"'WS Calcs'!L2","v":{"$error":"#N/A"}}]
[null,null,"Pj = ",{"$f":"'WS Calcs'!L3","v":1}]
[]
[null,null,"---------------------------    CATCHMENT 1    -----------------------------",null,null,null,"---------------------------    CATCHMENT 2    -----------------------------",null,null,null,"---------------------------    CATCHMENT 3    -----------------------------",null,null,null,"---------------------------    CATCHMENT 4    -----------------------------",null,null,null,"---------------------------    CATCHMENT 5    -----------------------------",null,null,null,"---------------------------    CATCHMENT 6    -----------------------------"]
[null,null,"BMP #1","BMP #2","BMP #3",null,"BMP #1","BMP #2","BMP #3",null,"BMP #1","BMP #2","BMP #3",null,"BMP #1","BMP #2","BMP #3",null,"BMP #1","BMP #2","BMP #3",null,"BMP #1","BMP #2","BMP #3"]
[null,"Region:",{"$f":"'1. Watershed Characteristics'!$E$21","v":0},{"$f":"$C$6","v":0},0,null,0,0,0,null,0,0,0,null,0,0,0,null,0,0,0,null,0,0,0]
[null,"Type of BMP:",{"$f":"'2. BMP Characteristics'!$E$27","v":0},{"$f":"'2. BMP Characteristics'!$G$27","v":0},{"$f":"'2. BMP Characteristics'!$I$27","v":0},null,{"$f":"'2. BMP Characteristics'!$L$27","v":0},{"$f":"'2. BMP Characteristics'!$N$27","v":0},{"$f":"'2. BMP Characteristics'!$P$27","v":0},null,{"$f":"'2. BMP Characteristics'!$S$27","v":0},{"$f":"'2. BMP Characteristics'!$U$27","v":0},{"$f":"'2. BMP Characteristics'!$W$27","v":0},null,{"$f":"'2. BMP Characteristics'!$Z$27","v":0},{"$f":"'2. BMP Characteristics'!$AB$27","v":0},{"$f":"'2. BMP Characteristics'!$AD$27","v":0},null,{"$f":"'2. BMP Characteristics'!$AG$27","v":0},{"$f":"'2. BMP Characteristics'!$AI$27","v":0},{"$f":"'2. BMP Characteristics'!$AK$27","v":0},null,{"$f":"'2. BMP Characteristics'!$AN$27","v":0},{"$f":"'2. BMP Characteristics'!$AP$27","v":0},{"$f":"'2. BMP Characteristics'!$AR$27","v":0}]
[null,"Vlookup Code",{"$f":"(C6&\", \"&C7)","v":"0, 0"},{"$f":"(D6&\", \"&D7)","v":"0, 0"},"0, 0",null,"0, 0","0, 0","0, 0",null,"0, 0","0, 0","0, 0",null,"0, 0","0, 0","0, 0",null,"0, 0","0, 0","0, 0",null,"0, 0","0, 0","0, 0"]
[]
["ENTERING THE BMP","Contributing Watershed (ac)",{"$f":"IF(C7=0,0,'2. BMP Characteristics'!E107/43560)","v":0},{"$f":"IF(D7=0,0,'2. BMP Characteristics'!G107/43560)","v":0},{"$f":"IF(E7=0,0,'2. BMP Characteristics'!I107/43560)","v":0},null,{"$f":"IF(G7=0,0,'2. BMP Characteristics'!L107/43560)","v":0},{"$f":"IF(H7=0,0,'2. BMP Characteristics'!N107/43560)","v":0},{"$f":"IF(I7=0,0,'2. BMP Characteristics'!P107/43560)","v":0},null,{"$f":"IF(K7=0,0,'2. BMP Characteristics'!S107/43560)","v":0},{"$f":"IF(L7=0,0,'2. BMP Characteristics'!U107/43560)","v":0},{"$f":"IF(M7=0,0,'2. BMP Characteristics'!W107/43560)","v":0},null,{"$f":"IF(O7=0,0,'2. BMP Characteristics'!Z107/43560)","v":0},{"$f":"IF(P7=0,0,'2. BMP Characteristics'!AB107/43560)","v":0},{"$f":"IF(Q7=0,0,'2. BMP Characteristics'!AD107/43560)","v":0},null,{"$f":"IF(S7=0,0,'2. BMP Characteristics'!AG107/43560)","v":0},{"$f":"IF(T7=0,0,'2. BMP Characteristics'!AI107/43560)","v":0},{"$f":"IF(U7=0,0,'2. BMP Characteristics'!AK107/43560)","v":0},null,{"$f":"IF(W7=0,0,'2. BMP Characteristics'!AN107/43560)","v":0},{"$f":"IF(X7=0,0,'2. BMP Characteristics'!AP107/43560)","v":0},{"$f":"IF(Y7=0,0,'2. BMP Characteristics'!AR107/43560)","v":0}]
[null,"Previous BMPs (ac)",0,{"$f":"IF(D7=0,0,C10)","v":0},{"$f":"IF(E7=0,0,D10+C10)","v":0},null,0,{"$f":"IF(H7=0,0,G10)","v":0},{"$f":"IF(I7=0,0,H10+G10)","v":0},null,0,{"$f":"IF(L7=0,0,K10)","v":0},{"$f":"IF(M7=0,0,L10+K10)","v":0},null,0,{"$f":"IF(P7=0,0,O10)","v":0},{"$f":"IF(Q7=0,0,Q10+O10)","v":0},null,0,{"$f":"IF(T7=0,0,S10)","v":0},{"$f":"IF(U7=0,0,T10+S10)","v":0},null,0,{"$f":"IF(X7=0,0,W10)","v":0},{"$f":"IF(Y7=0,0,X10+W10)","v":0}]
[null,"     Contributing Catchment 1 (ac)",0,0,0,null,{"$f":"IF('2. BMP Characteristics'!L33=\"yes\",SUM('2. BMP Characteristics'!$E$107/43560,'2. BMP Characteristics'!$G$107/43560,'2. BMP Characteristics'!$I$107/43560),0)","v":0},{"$f":"IF('2. BMP Characteristics'!N33=\"yes\",SUM('2. BMP Characteristics'!$E$107/43560,'2. BMP Characteristics'!$G$107/43560,'2. BMP Characteristics'!$I$107/43560),0)","v":0},{"$f":"IF('2. BMP Characteristics'!P33=\"yes\",SUM('2. BMP Characteristics'!$E$107/43560,'2. BMP Characteristics'!$G$107/43560,'2. BMP Characteristics'!$I$107/43560),0)","v":0},{"$f":"IF('2. BMP Characteristics'!O33=\"yes\",SUM('2. BMP Characteristics'!$E$107/43560,'2. BMP Characteristics'!$G$107/43560,'2. BMP Characteristics'!$I$107/43560),0)","v":0},{"$f":"IF('2. BMP Characteristics'!S33=\"yes\",SUM('2. BMP Characteristics'!$E$107/43560,'2. BMP Characteristics'!$G$107/43560,'2. BMP Characteristics'!$I$107/43560),0)","v":0},{"$f":"IF('2. BMP Characteristics'!U33=\"yes\",SUM('2. BMP Characteristics'!$E$107/43560,'2. BMP Characteristics'!$G$107/43560,'2. BMP Characteristics'!$I$107/43560),0)","v":0},{"$f":"IF('2. BMP Characteristics'!W33=\"yes\",SUM('2. BMP Characteristics'!$E$107/43560,'2. BMP Characteristics'!$G$107/43560,'2. BMP Characteristics'!$I$107/43560),0)","v":0},{"$f":"IF('2. BMP Characteristics'!S33=\"yes\",SUM('2. BMP Characteristics'!$E$107/43560,'2. BMP Characteristics'!$G$107/43560,'2. BMP Characteristics'!$I$107/43560),0)","v":0},{"$f":"IF('2. BMP Characteristics'!Z33=\"yes\",SUM('2. BMP Characteristics'!$E$107/43560,'2. BMP Characteristics'!$G$107/43560,'2. BMP Characteristics'!$I$107/43560),0)","v":0},{"$f":"IF('2. BMP Characteristics'!AB33=\"yes\",SUM('2. BMP Characteristics'!$E$107/43560,'2. BMP Characteristics'!$G$107/43560,'2. BMP Characteristics'!$I$107/43560),0)","v":0},{"$f":"IF('2. BMP Characteristics'!AD33=\"yes\",SUM('2. BMP Characteristics'!$E$107/43560,'2. BMP Characteristics'!$G$107/43560,'2. BMP Characteristics'!$I$107/43560),0)","v":0},{"$f":"IF('2. BMP Characteristics'!W33=\"yes\",SUM('2. BMP Characteristics'!$E$107/43560,'2. BMP Characteristics'!$G$107/43560,'2. BMP Characteristics'!$I$107/43560),0)","v":0},{"$f":"IF('2. BMP Characteristics'!AG33=\"yes\",SUM('2. BMP Characteristics'!$E$107/43560,'2. BMP Characteristics'!$G$107/43560,'2. BMP Characteristics'!$I$107/43560),0)","v":0},{"$f":"IF('2. BMP Characteristics'!AI33=\"yes\",SUM('2. BMP Characteristics'!$E$107/43560,'2. BMP Characteristics'!$G$107/43560,'2. BMP Characteristics'!$I$107/43560),0)","v":0},{"$f":"IF('2. BMP Characteristics'!AK33=\"yes\",SUM('2. BMP Characteristics'!$E$107/43560,'2. BMP Characteristics'!$G$107/43560,'2. BMP Characteristics'!$I$107/43560),0)","v":0},{"$f":"IF('2. BMP Characteristics'!AA33=\"yes\",SUM('2. BMP Characteristics'!$E$107/43560,'2. BMP Characteristics'!$G$107/43560,'2. BMP Characteristics'!$I$107/43560),0)","v":0},{"$f":"IF('2. BMP Characteristics'!AN33=\"yes\",SUM('2. BMP Characteristics'!$E$107/43560,'2. BMP Characteristics'!$G$107/43560,'2. BMP Characteristics'!$I$107/43560),0)","v":0},{"$f":"IF('2. BMP Characteristics'!AP33=\"yes\",SUM('2. BMP Characteristics'!$E$107/43560,'2. BMP Characteristics'!$G$107/43560,'2. BMP Characteristics'!$I$107/43560),0)","v":0},{"$f":"IF('2. BMP Characteristics'!AR33=\"yes\",SUM('2. BMP Characteristics'!$E$107/43560,'2. BMP Characteristics'!$G$107/43560,'2. BMP Characteristics'!$I$107/43560),0)","v":0}]
[null,"     Contributing Catchment 2 (ac)",{"$f":"IF('2. BMP Characteristics'!E34=\"yes\",SUM('2. BMP Characteristics'!L107/43560,'2. BMP Characteristics'!N107/43560,'2. BMP Characteristics'!P107/43560),0)","v":0},{"$f":"IF('2. BMP Characteristics'!G34=\"yes\",SUM('2. BMP Characteristics'!L107/43560,'2. BMP Characteristics'!N107/43560,'2. BMP Characteristics'!P107/43560),0)","v":0},{"$f":"IF('2. BMP Characteristics'!I34=\"yes\",SUM('2. BMP Characteristics'!L107/43560,'2. BMP Characteristics'!N107/43560,'2. BMP Characteristics'!P107/43560),0)","v":0},null,0,0,0,null,{"$f":"IF('2. BMP Characteristics'!S34=\"yes\",SUM('2. BMP Characteristics'!L107/43560,'2. BMP Characteristics'!N107/43560,'2. BMP Characteristics'!P107/43560),0)","v":0},{"$f":"IF('2. BMP Characteristics'!U34=\"yes\",SUM('2. BMP Characteristics'!L107/43560,'2. BMP Characteristics'!N107/43560,'2. BMP Characteristics'!P107/43560),0)","v":0},{"$f":"IF('2. BMP Characteristics'!W34=\"yes\",SUM('2. BMP Characteristics'!L107/43560,'2. BMP Characteristics'!N107/43560,'2. BMP Characteristics'!P107/43560),0)","v":0},null,{"$f":"IF('2. BMP Characteristics'!Z34=\"yes\",SUM('2. BMP Characteristics'!L107/43560,'2. BMP Characteristics'!N107/43560,'2. BMP Characteristics'!P107/43560),0)","v":0},{"$f":"IF('2. BMP Characteristics'!AB34=\"yes\",SUM('2. BMP Characteristics'!L107/43560,'2. BMP Characteristics'!N107/43560,'2. BMP Characteristics'!P107/43560),0)","v":0},{"$f":"IF('2. BMP Characteristics'!AD34=\"yes\",SUM('2. BMP Characteristics'!L107/43560,'2. BMP Characteristics'!N107/43560,'2. BMP Characteristics'!P107/43560),0)","v":0},null,{"$f":"IF('2. BMP Characteristics'!AG34=\"yes\",SUM('2. BMP Characteristics'!L107/43560,'2. BMP Characteristics'!N107/43560,'2. BMP Characteristics'!P107/43560),0)","v":0},{"$f":"IF('2. BMP Characteristics'!AI34=\"yes\",SUM('2. BMP Characteristics'!L107/43560,'2. BMP Characteristics'!N107/43560,'2. BMP Characteristics'!P107/43560),0)","v":0},{"$f":"IF('2. BMP Characteristics'!AK34=\"yes\",SUM('2. BMP Characteristics'!L107/43560,'2. BMP Characteristics'!N107/43560,'2. BMP Characteristics'!P107/43560),0)","v":0},null,{"$f":"IF('2. BMP Characteristics'!AN34=\"yes\",SUM('2. BMP Characteristics'!L107/43560,'2. BMP Characteristics'!N107/43560,'2. BMP Characteristics'!P107/43560),0)","v":0},{"$f":"IF('2. BMP Characteristics'!AP34=\"yes\",SUM('2. BMP Characteristics'!L107/43560,'2. BMP Characteristics'!N107/43560,'2. BMP Characteristics'!P107/43560),0)","v":0},{"$f":"IF('2. BMP Characteristics'!AR34=\"yes\",SUM('2. BMP Characteristics'!L107/43560,'2. BMP Characteristics'!N107/43560,'2. BMP Characteristics'!P107/43560),0)","v":0}]
[null,"     Contributing Catchment 3 (ac)",{"$f":"IF('2. BMP Characteristics'!E35=\"yes\",SUM('2. BMP Characteristics'!$S$107/43560,'2. BMP Characteristics'!$U$107/43560,'2. BMP Characteristics'!$W$107/43560),0)","v":0},{"$f":"IF('2. BMP Characteristics'!G35=\"yes\",SUM('2. BMP Characteristics'!$S$107/43560,'2. BMP Characteristics'!$U$107/43560,'2. BMP Characteristics'!$W$107/43560),0)","v":0},{"$f":"IF('2. BMP Characteristics'!I35=\"yes\",SUM('2. BMP Characteristics'!$S$107/43560,'2. BMP Characteristics'!$U$107/43560,'2. BMP Characteristics'!$W$107/43560),0)","v":0},{"$f":"IF('2. BMP Characteristics'!H35=\"yes\",SUM('2. BMP Characteristics'!$S$107/43560,'2. BMP Characteristics'!$U$107/43560,'2. BMP Characteristics'!$W$107/43560),0)","v":0},{"$f":"IF('2. BMP Characteristics'!L35=\"yes\",SUM('2. BMP Characteristics'!$S$107/43560,'2. BMP Characteristics'!$U$107/43560,'2. BMP Characteristics'!$W$107/43560),0)","v":0},{"$f":"IF('2. BMP Characteristics'!N35=\"yes\",SUM('2. BMP Characteristics'!$S$107/43560,'2. BMP Characteristics'!$U$107/43560,'2. BMP Characteristics'!$W$107/43560),0)","v":0},{"$f":"IF('2. BMP Characteristics'!P35=\"yes\",SUM('2. BMP Characteristics'!$S$107/43560,'2. BMP Characteristics'!$U$107/43560,'2. BMP Characteristics'!$W$107/43560),0)","v":0},{"$f":"IF('2. BMP Characteristics'!L35=\"yes\",SUM('2. BMP Characteristics'!$S$107/43560,'2. BMP Characteristics'!$U$107/43560,'2. BMP Characteristics'!$W$107/43560),0)","v":0},0,0,0,{"$f":"IF('2. BMP Characteristics'!P35=\"yes\",SUM('2. BMP Characteristics'!$S$107/43560,'2. BMP Characteristics'!$U$107/43560,'2. BMP Characteristics'!$W$107/43560),0)","v":0},{"$f":"IF('2. BMP Characteristics'!Z35=\"yes\",SUM('2. BMP Characteristics'!$S$107/43560,'2. BMP Characteristics'!$U$107/43560,'2. BMP Characteristics'!$W$107/43560),0)","v":0},{"$f":"IF('2. BMP Characteristics'!AB35=\"yes\",SUM('2. BMP Characteristics'!$S$107/43560,'2. BMP Characteristics'!$U$107/43560,'2. BMP Characteristics'!$W$107/43560),0)","v":0},{"$f":"IF('2. BMP Characteristics'!AD35=\"yes\",SUM('2. BMP Characteristics'!$S$107/43560,'2. BMP Characteristics'!$U$107/43560,'2. BMP Characteristics'!$W$107/43560),0)","v":0},{"$f":"IF('2. BMP Characteristics'!T35=\"yes\",SUM('2. BMP Characteristics'!$S$107/43560,'2. BMP Characteristics'!$U$107/43560,'2. BMP Characteristics'!$W$107/43560),0)","v":0},{"$f":"IF('2. BMP Characteristics'!AG35=\"yes\",SUM('2. BMP Characteristics'!$S$107/43560,'2. BMP Characteristics'!$U$107/43560,'2. BMP Characteristics'!$W$107/43560),0)","v":0},{"$f":"IF('2. BMP Characteristics'!AI35=\"yes\",SUM('2. BMP Characteristics'!$S$107/43560,'2. BMP Characteristics'!$U$107/43560,'2. BMP Characteristics'!$W$107/43560),0)","v":0},{"$f":"IF('2. BMP Characteristics'!AK35=\"yes\",SUM('2. BMP Characteristics'!$S$107/43560,'2. BMP Characteristics'!$U$107/43560,'2. BMP Characteristics'!$W$107/43560),0)","v":0},{"$f":"IF('2. BMP Characteristics'!X35=\"yes\",SUM('2. BMP Characteristics'!$S$107/43560,'2. BMP Characteristics'!$U$107/43560,'2. BMP Characteristics'!$W$107/43560),0)","v":0},{"$f":"IF('2. BMP Characteristics'!AN35=\"yes\",SUM('2. BMP Characteristics'!$S$107/43560,'2. BMP Characteristics'!$U$107/43560,'2. BMP Characteristics'!$W$107/43560),0)","v":0},{"$f":"IF('2. BMP Characteristics'!AP35=\"yes\",SUM('2. BMP Characteristics'!$S$107/43560,'2. BMP Characteristics'!$U$107/43560,'2. BMP Characteristics'!$W$107/43560),0)","v":0},{"$f":"IF('2. BMP Characteristics'!AR35=\"yes\",SUM('2. BMP Characteristics'!$S$107/43560,'2. BMP Characteristics'!$U$107/43560,'2. BMP Characteristics'!$W$107/43560),0)","v":0}]
[null,"     Contributing Catchment 4 (ac)",{"$f":"IF('2. BMP Characteristics'!E36=\"yes\", SUM('2. BMP Characteristics'!$Z$107/43560,'2. BMP Characteristics'!$AB$107/43560,'2. BMP Characteristics'!$AD$107/43560),0)","v":0},{"$f":"IF('2. BMP Characteristics'!G36=\"yes\", SUM('2. BMP Characteristics'!$Z$107/43560,'2. BMP Characteristics'!$AB$107/43560,'2. BMP Characteristics'!$AD$107/43560),0)","v":0},{"$f":"IF('2. BMP Characteristics'!I36=\"yes\", SUM('2. BMP Characteristics'!$Z$107/43560,'2. BMP Characteristics'!$AB$107/43560,'2. BMP Characteristics'!$AD$107/43560),0)","v":0},{"$f":"IF('2. BMP Characteristics'!H36=\"yes\", SUM('2. BMP Characteristics'!$Z$107/43560,'2. BMP Characteristics'!$AB$107/43560,'2. BMP Characteristics'!$AD$107/43560),0)","v":0},{"$f":"IF('2. BMP Characteristics'!L36=\"yes\", SUM('2. BMP Characteristics'!$Z$107/43560,'2. BMP Characteristics'!$AB$107/43560,'2. BMP Characteristics'!$AD$107/43560),0)","v":0},{"$f":"IF('2. BMP Characteristics'!N36=\"yes\", SUM('2. BMP Characteristics'!$Z$107/43560,'2. BMP Characteristics'!$AB$107/43560,'2. BMP Characteristics'!$AD$107/43560),0)","v":0},{"$f":"IF('2. BMP Characteristics'!P36=\"yes\", SUM('2. BMP Characteristics'!$Z$107/43560,'2. BMP Characteristics'!$AB$107/43560,'2. BMP Characteristics'!$AD$107/43560),0)","v":0},{"$f":"IF('2. BMP Characteristics'!L36=\"yes\", SUM('2. BMP Characteristics'!$Z$107/43560,'2. BMP Characteristics'!$AB$107/43560,'2. BMP Characteristics'!$AD$107/43560),0)","v":0},{"$f":"IF('2. BMP Characteristics'!S36=\"yes\", SUM('2. BMP Characteristics'!$Z$107/43560,'2. BMP Characteristics'!$AB$107/43560,'2. BMP Characteristics'!$AD$107/43560),0)","v":0},{"$f":"IF('2. BMP Characteristics'!U36=\"yes\", SUM('2. BMP Characteristics'!$Z$107/43560,'2. BMP Characteristics'!$AB$107/43560,'2. BMP Characteristics'!$AD$107/43560),0)","v":0},{"$f":"IF('2. BMP Characteristics'!W36=\"yes\", SUM('2. BMP Characteristics'!$Z$107/43560,'2. BMP Characteristics'!$AB$107/43560,'2. BMP Characteristics'!$AD$107/43560),0)","v":0},{"$f":"IF('2. BMP Characteristics'!P36=\"yes\", SUM('2. BMP Characteristics'!$Z$107/43560,'2. BMP Characteristics'!$AB$107/43560,'2. BMP Characteristics'!$AD$107/43560),0)","v":0},0,0,0,{"$f":"IF('2. BMP Characteristics'!T36=\"yes\", SUM('2. BMP Characteristics'!$Z$107/43560,'2. BMP Characteristics'!$AB$107/43560,'2. BMP Characteristics'!$AD$107/43560),0)","v":0},{"$f":"IF('2. BMP Characteristics'!AG36=\"yes\", SUM('2. BMP Characteristics'!$Z$107/43560,'2. BMP Characteristics'!$AB$107/43560,'2. BMP Characteristics'!$AD$107/43560),0)","v":0},{"$f":"IF('2. BMP Characteristics'!AI36=\"yes\", SUM('2. BMP Characteristics'!$Z$107/43560,'2. BMP Characteristics'!$AB$107/43560,'2. BMP Characteristics'!$AD$107/43560),0)","v":0},{"$f":"IF('2. BMP Characteristics'!AK36=\"yes\", SUM('2. BMP Characteristics'!$Z$107/43560,'2. BMP Characteristics'!$AB$107/43560,'2. BMP Characteristics'!$AD$107/43560),0)","v":0},{"$f":"IF('2. BMP Characteristics'!X36=\"yes\", SUM('2. BMP Characteristics'!$Z$107/43560,'2. BMP Characteristics'!$AB$107/43560,'2. BMP Characteristics'!$AD$107/43560),0)","v":0},{"$f":"IF('2. BMP Characteristics'!AN36=\"yes\", SUM('2. BMP Characteristics'!$Z$107/43560,'2. BMP Characteristics'!$AB$107/43560,'2. BMP Characteristics'!$AD$107/43560),0)","v":0},{"$f":"IF('2. BMP Characteristics'!AP36=\"yes\", SUM('2. BMP Characteristics'!$Z$107/43560,'2. BMP Characteristics'!$AB$107/43560,'2. BMP Characteristics'!$AD$107/43560),0)","v":0},{"$f":"IF('2. BMP Characteristics'!AR36=\"yes\", SUM('2. BMP Characteristics'!$Z$107/43560,'2. BMP Characteristics'!$AB$107/43560,'2. BMP Characteristics'!$AD$107/43560),0)","v":0}]
[null,"     Contributing Catchment 5 (ac)",{"$f":"IF('2. BMP Characteristics'!E37=\"yes\",SUM('2. BMP Characteristics'!$AG$107/43560,'2. BMP Characteristics'!$AI$107/43560,'2. BMP Characteristics'!$AK$107/43560),0)","v":0},{"$f":"IF('2. BMP Characteristics'!G37=\"yes\",SUM('2. BMP Characteristics'!$AG$107/43560,'2. BMP Characteristics'!$AI$107/43560,'2. BMP Characteristics'!$AK$107/43560),0)","v":0},{"$f":"IF('2. BMP Characteristics'!I37=\"yes\",SUM('2. BMP Characteristics'!$AG$107/43560,'2. BMP Characteristics'!$AI$107/43560,'2. BMP Characteristics'!$AK$107/43560),0)","v":0},{"$f":"IF('2. BMP Characteristics'!H37=\"yes\",SUM('2. BMP Characteristics'!$AG$107/43560,'2. BMP Characteristics'!$AI$107/43560,'2. BMP Characteristics'!$AK$107/43560),0)","v":0},{"$f":"IF('2. BMP Characteristics'!L37=\"yes\",SUM('2. BMP Characteristics'!$AG$107/43560,'2. BMP Characteristics'!$AI$107/43560,'2. BMP Characteristics'!$AK$107/43560),0)","v":0},{"$f":"IF('2. BMP Characteristics'!N37=\"yes\",SUM('2. BMP Characteristics'!$AG$107/43560,'2. BMP Characteristics'!$AI$107/43560,'2. BMP Characteristics'!$AK$107/43560),0)","v":0},{"$f":"IF('2. BMP Characteristics'!P37=\"yes\",SUM('2. BMP Characteristics'!$AG$107/43560,'2. BMP Characteristics'!$AI$107/43560,'2. BMP Characteristics'!$AK$107/43560),0)","v":0},{"$f":"IF('2. BMP Characteristics'!L37=\"yes\",SUM('2. BMP Characteristics'!$AG$107/43560,'2. BMP Characteristics'!$AI$107/43560,'2. BMP Characteristics'!$AK$107/43560),0)","v":0},{"$f":"IF('2. BMP Characteristics'!S37=\"yes\",SUM('2. BMP Characteristics'!$AG$107/43560,'2. BMP Characteristics'!$AI$107/43560,'2. BMP Characteristics'!$AK$107/43560),0)","v":0},{"$f":"IF('2. BMP Characteristics'!U37=\"yes\",SUM('2. BMP Characteristics'!$AG$107/43560,'2. BMP Characteristics'!$AI$107/43560,'2. BMP Characteristics'!$AK$107/43560),0)","v":0},{"$f":"IF('2. BMP Characteristics'!W37=\"yes\",SUM('2. BMP Characteristics'!$AG$107/43560,'2. BMP Characteristics'!$AI$107/43560,'2. BMP Characteristics'!$AK$107/43560),0)","v":0},{"$f":"IF('2. BMP Characteristics'!P37=\"yes\",SUM('2. BMP Characteristics'!$AG$107/43560,'2. BMP Characteristics'!$AI$107/43560,'2. BMP Characteristics'!$AK$107/43560),0)","v":0},{"$f":"IF('2. BMP Characteristics'!Z37=\"yes\",SUM('2. BMP Characteristics'!$AG$107/43560,'2. BMP Characteristics'!$AI$107/43560,'2. BMP Characteristics'!$AK$107/43560),0)","v":0},{"$f":"IF('2. BMP Characteristics'!AB37=\"yes\",SUM('2. BMP Characteristics'!$AG$107/43560,'2. BMP Characteristics'!$AI$107/43560,'2. BMP Characteristics'!$AK$107/43560),0)","v":0},{"$f":"IF('2. BMP Characteristics'!AD37=\"yes\",SUM('2. BMP Characteristics'!$AG$107/43560,'2. BMP Characteristics'!$AI$107/43560,'2. BMP Characteristics'!$AK$107/43560),0)","v":0},{"$f":"IF('2. BMP Characteristics'!T37=\"yes\",SUM('2. BMP Characteristics'!$AG$107/43560,'2. BMP Characteristics'!$AI$107/43560,'2. BMP Characteristics'!$AK$107/43560),0)","v":0},0,0,0,{"$f":"IF('2. BMP Characteristics'!X37=\"yes\",SUM('2. BMP Characteristics'!$AG$107/43560,'2. BMP Characteristics'!$AI$107/43560,'2. BMP Characteristics'!$AK$107/43560),0)","v":0},{"$f":"IF('2. BMP Characteristics'!AN37=\"yes\",SUM('2. BMP Characteristics'!$AG$107/43560,'2. BMP Characteristics'!$AI$107/43560,'2. BMP Characteristics'!$AK$107/43560),0)","v":0},{"$f":"IF('2. BMP Characteristics'!AP37=\"yes\",SUM('2. BMP Characteristics'!$AG$107/43560,'2. BMP Characteristics'!$AI$107/43560,'2. BMP Characteristics'!$AK$107/43560),0)","v":0},{"$f":"IF('2. BMP Characteristics'!AR37=\"yes\",SUM('2. BMP Characteristics'!$AG$107/43560,'2. BMP Characteristics'!$AI$107/43560,'2. BMP Characteristics'!$AK$107/43560),0)","v":0}]
[null,"     Contributing Catchment 6 (ac)",{"$f":"IF('2. BMP Characteristics'!E38=\"yes\",SUM('2. BMP Characteristics'!$AN$107/43560,'2. BMP Characteristics'!$AP$107/43560,'2. BMP Characteristics'!$AR$107/43560),0)","v":0},{"$f":"IF('2. BMP Characteristics'!G38=\"yes\",SUM('2. BMP Characteristics'!$AN$107/43560,'2. BMP Characteristics'!$AP$107/43560,'2. BMP Characteristics'!$AR$107/43560),0)","v":0},{"$f":"IF('2. BMP Characteristics'!I38=\"yes\",SUM('2. BMP Characteristics'!$AN$107/43560,'2. BMP Characteristics'!$AP$107/43560,'2. BMP Characteristics'!$AR$107/43560),0)","v":0},{"$f":"IF('2. BMP Characteristics'!H38=\"yes\",SUM('2. BMP Characteristics'!$AN$107/43560,'2. BMP Characteristics'!$AP$107/43560,'2. BMP Characteristics'!$AR$107/43560),0)","v":0},{"$f":"IF('2. BMP Characteristics'!L38=\"yes\",SUM('2. BMP Characteristics'!$AN$107/43560,'2. BMP Characteristics'!$AP$107/43560,'2. BMP Characteristics'!$AR$107/43560),0)","v":0},{"$f":"IF('2. BMP Characteristics'!N38=\"yes\",SUM('2. BMP Characteristics'!$AN$107/43560,'2. BMP Characteristics'!$AP$107/43560,'2. BMP Characteristics'!$AR$107/43560),0)","v":0},{"$f":"IF('2. BMP Characteristics'!P38=\"yes\",SUM('2. BMP Characteristics'!$AN$107/43560,'2. BMP Characteristics'!$AP$107/43560,'2. BMP Characteristics'!$AR$107/43560),0)","v":0},{"$f":"IF('2. BMP Characteristics'!L38=\"yes\",SUM('2. BMP Characteristics'!$AN$107/43560,'2. BMP Characteristics'!$AP$107/43560,'2. BMP Characteristics'!$AR$107/43560),0)","v":0},{"$f":"IF('2. BMP Characteristics'!S38=\"yes\",SUM('2. BMP Characteristics'!$AN$107/43560,'2. BMP Characteristics'!$AP$107/43560,'2. BMP Characteristics'!$AR$107/43560),0)","v":0},{"$f":"IF('2. BMP Characteristics'!U38=\"yes\",SUM('2. BMP Characteristics'!$AN$107/43560,'2. BMP Characteristics'!$AP$107/43560,'2. BMP Characteristics'!$AR$107/43560),0)","v":0},{"$f":"IF('2. BMP Characteristics'!W38=\"yes\",SUM('2. BMP Characteristics'!$AN$107/43560,'2. BMP Characteristics'!$AP$107/43560,'2. BMP Characteristics'!$AR$107/43560),0)","v":0},{"$f":"IF('2. BMP Characteristics'!P38=\"yes\",SUM('2. BMP Characteristics'!$AN$107/43560,'2. BMP Characteristics'!$AP$107/43560,'2. BMP Characteristics'!$AR$107/43560),0)","v":0},{"$f":"IF('2. BMP Characteristics'!Z38=\"yes\",SUM('2. BMP Characteristics'!$AN$107/43560,'2. BMP Characteristics'!$AP$107/43560,'2. BMP Characteristics'!$AR$107/43560),0)","v":0},{"$f":"IF('2. BMP Characteristics'!AB38=\"yes\",SUM('2. BMP Characteristics'!$AN$107/43560,'2. BMP Characteristics'!$AP$107/43560,'2. BMP Characteristics'!$AR$107/43560),0)","v":0},{"$f":"IF('2. BMP Characteristics'!AD38=\"yes\",SUM('2. BMP Characteristics'!$AN$107/43560,'2. BMP Characteristics'!$AP$107/43560,'2. BMP Characteristics'!$AR$107/43560),0)","v":0},{"$f":"IF('2. BMP Characteristics'!T38=\"yes\",SUM('2. BMP Characteristics'!$AN$107/43560,'2. BMP Characteristics'!$AP$107/43560,'2. BMP Characteristics'!$AR$107/43560),0)","v":0},{"$f":"IF('2. BMP Characteristics'!AG38=\"yes\",SUM('2. BMP Characteristics'!$AN$107/43560,'2. BMP Characteristics'!$AP$107/43560,'2. BMP Characteristics'!$AR$107/43560),0)","v":0},{"$f":"IF('2. BMP Characteristics'!AI38=\"yes\",SUM('2. BMP Characteristics'!$AN$107/43560,'2. BMP Characteristics'!$AP$107/43560,'2. BMP Characteristics'!$AR$107/43560),0)","v":0},{"$f":"IF('2. BMP Characteristics'!AK38=\"yes\",SUM('2. BMP Characteristics'!$AN$107/43560,'2. BMP Characteristics'!$AP$107/43560,'2. BMP Characteristics'!$AR$107/43560),0)","v":0},{"$f":"IF('2. BMP Characteristics'!X38=\"yes\",SUM('2. BMP Characteristics'!$AN$107/43560,'2. BMP Characteristics'!$AP$107/43560,'2. BMP Characteristics'!$AR$107/43560),0)","v":0},0,0,0]
[null,"Total Contributing Acreage (ac)",{"$f":"SUM(C10:C17)","v":0},{"$f":"SUM(D10:D17)","v":0},{"$f":"SUM(E10:E17)","v":0},null,{"$f":"SUM(G10:G17)","v":0},{"$f":"SUM(H10:H17)","v":0},{"$f":"SUM(I10:I17)","v":0},null,{"$f":"SUM(K10:K17)","v":0},{"$f":"SUM(L10:L17)","v":0},{"$f":"SUM(M10:M17)","v":0},null,{"$f":"SUM(O10:O17)","v":0},{"$f":"SUM(P10:P17)","v":0},{"$f":"SUM(Q10:Q17)","v":0},null,{"$f":"SUM(S10:S17)","v":0},{"$f":"SUM(T10:T17)","v":0},{"$f":"SUM(U10:U17)","v":0},null,{"$f":"SUM(W10:W17)","v":0},{"$f":"SUM(X10:X17)","v":0},{"$f":"SUM(Y10:Y17)","v":0}]
[]
[null,"Watershed Runoff (c.f.)",{"$f":"IF(C7=0,0,SUM(C395:C455))","v":0},0,0,0,0,0,0,0,0,0,0,0,0,0,0,0,0,0,0,0,0,0,0]
[null,"Previous BMP Outflow (c.f.)",0,{"$f":"IF(D7=0,0,C88)","v":0},{"$f":"IF(E7=0,0,D88)","v":0},null,0,{"$f":"IF(H7=0,0,G88)","v":0},{"$f":"IF(I7=0,0,H88)","v":0},null,0,{"$f":"IF(K7=0,0,K88)","v":0},{"$f":"IF(L7=0,0,L88)","v":0},null,0,{"$f":"IF(O7=0,0,O88)","v":0},{"$f":"IF(Q7=0,0,P88)","v":0},null,0,{"$f":"IF(T7=0,0,S88)","v":0},{"$f":"IF(U7=0,0,T88)","v":0},null,0,{"$f":"IF(W7=0,0,W88)","v":0},{"$f":"IF(Y7=0,0,X88)","v":0}]
[null,"Previous BMP Overflow (c.f.)",0,{"$f":"IF(D7=0,0,C89)","v":0},{"$f":"IF(E7=0,0,D89)","v":0},null,0,{"$f":"IF(H7=0,0,G89)","v":0},{"$f":"IF(I7=0,0,H89)","v":0},null,0,{"$f":"IF(L7=0,0,K89)","v":0},{"$f":"IF(M7=0,0,L89)","v":0},null,0,{"$f":"IF(P7=0,0,O89)","v":0},{"$f":"IF(Q7=0,0,P89)","v":0},null,0,{"$f":"IF(T7=0,0,S89)","v":0},{"$f":"IF(U7=0,0,T89)","v":0},null,0,{"$f":"IF(X7=0,0,W89)","v":0},{"$f":"IF(Y7=0,0,X89)","v":0}]
[null,"     Contributing Catchment 1 (c.f.)",0,0,0,null,{"$f":"IF('2. BMP Characteristics'!L33=\"yes\",'BMP Calcs'!C109,0)","v":0},{"$f":"IF('2. BMP Characteristics'!N33=\"yes\",'BMP Calcs'!C109,0)","v":0},{"$f":"IF('2. BMP Characteristics'!P33=\"yes\",'BMP Calcs'!C109,0)","v":0},null,{"$f":"IF('2. BMP Characteristics'!S33=\"yes\",'BMP Calcs'!C109,0)","v":0},{"$f":"IF('2. BMP Characteristics'!U33=\"yes\",'BMP Calcs'!C109,0)","v":0},{"$f":"IF('2. BMP Characteristics'!W33=\"yes\",'BMP Calcs'!C109,0)","v":0},null,{"$f":"IF('2. BMP Characteristics'!Z33=\"yes\",'BMP Calcs'!C109,0)","v":0},{"$f":"IF('2. BMP Characteristics'!AB33=\"yes\",'BMP Calcs'!C109,0)","v":0},{"$f":"IF('2. BMP Characteristics'!AD33=\"yes\",'BMP Calcs'!C109,0)","v":0},null,{"$f":"IF('2. BMP Characteristics'!AG33=\"yes\",'BMP Calcs'!C109,0)","v":0},{"$f":"IF('2. BMP Characteristics'!AI33=\"yes\",'BMP Calcs'!C109,0)","v":0},{"$f":"IF('2. BMP Characteristics'!AK33=\"yes\",'BMP Calcs'!C109,0)","v":0},null,{"$f":"IF('2. BMP Characteristics'!AN33=\"yes\",'BMP Calcs'!C109,0)","v":0},{"$f":"IF('2. BMP Characteristics'!AP33=\"yes\",'BMP Calcs'!C109,0)","v":0},{"$f":"IF('2. BMP Characteristics'!AR33=\"yes\",'BMP Calcs'!C109,0)","v":0}]
[null,"     Contributing Catchment 2 (c.f.)",{"$f":"IF('2. BMP Characteristics'!E34=\"yes\",'BMP Calcs'!G109,0)","v":0},{"$f":"IF('2. BMP Characteristics'!G34=\"yes\",'BMP Calcs'!G109,0)","v":0},{"$f":"IF('2. BMP Characteristics'!I34=\"yes\",'BMP Calcs'!G109,0)","v":0},null,0,0,0,null,{"$f":"IF('2. BMP Characteristics'!S34=\"yes\",'BMP Calcs'!G109,0)","v":0},{"$f":"IF('2. BMP Characteristics'!U34=\"yes\",'BMP Calcs'!G109,0)","v":0},{"$f":"IF('2. BMP Characteristics'!W34=\"yes\",'BMP Calcs'!G109,0)","v":0},null,{"$f":"IF('2. BMP Characteristics'!Z34=\"yes\",'BMP Calcs'!G109,0)","v":0},{"$f":"IF('2. BMP Characteristics'!AB34=\"yes\",'BMP Calcs'!G109,0)","v":0},{"$f":"IF('2. BMP Characteristics'!AD34=\"yes\",'BMP Calcs'!G109,0)","v":0},null,{"$f":"IF('2. BMP Characteristics'!AG34=\"yes\",'BMP Calcs'!G109,0)","v":0},{"$f":"IF('2. BMP Characteristics'!AI34=\"yes\",'BMP Calcs'!G109,0)","v":0},{"$f":"IF('2. BMP Characteristics'!AK34=\"yes\",'BMP Calcs'!G109,0)","v":0},null,{"$f":"IF('2. BMP Characteristics'!AN34=\"yes\",'BMP Calcs'!G109,0)","v":0},{"$f":"IF('2. BMP Characteristics'!AP34=\"yes\",'BMP Calcs'!G109,0)","v":0},{"$f":"IF('2. BMP Characteristics'!AR34=\"yes\",'BMP Calcs'!G109,0)","v":0}]
[null,"     Contributing Catchment 3 (c.f.)",{"$f":"IF('2. BMP Characteristics'!E35=\"yes\",'BMP Calcs'!K109,0)","v":0},{"$f":"IF('2. BMP Characteristics'!G35=\"yes\",'BMP Calcs'!K109,0)","v":0},{"$f":"IF('2. BMP Characteristics'!I35=\"yes\",'BMP Calcs'!K109,0)","v":0},null,{"$f":"IF('2. BMP Characteristics'!L35=\"yes\",'BMP Calcs'!K109,0)","v":0},{"$f":"IF('2. BMP Characteristics'!N35=\"yes\",'BMP Calcs'!K109,0)","v":0},{"$f":"IF('2. BMP Characteristics'!P35=\"yes\",'BMP Calcs'!K109,0)","v":0},null,0,0,0,null,{"$f":"IF('2. BMP Characteristics'!Z35=\"yes\",'BMP Calcs'!K109,0)","v":0},{"$f":"IF('2. BMP Characteristics'!AB35=\"yes\",'BMP Calcs'!K109,0)","v":0},{"$f":"IF('2. BMP Characteristics'!AD35=\"yes\",'BMP Calcs'!K109,0)","v":0},null,{"$f":"IF('2. BMP Characteristics'!AG35=\"yes\",'BMP Calcs'!K109,0)","v":0},{"$f":"IF('2. BMP Characteristics'!AI35=\"yes\",'BMP Calcs'!K109,0)","v":0},{"$f":"IF('2. BMP Characteristics'!AK35=\"yes\",'BMP Calcs'!K109,0)","v":0},null,{"$f":"IF('2. BMP Characteristics'!AN35=\"yes\",'BMP Calcs'!K109,0)","v":0},{"$f":"IF('2. BMP Characteristics'!AP35=\"yes\",'BMP Calcs'!K109,0)","v":0},{"$f":"IF('2. BMP Characteristics'!AR35=\"yes\",'BMP Calcs'!K109,0)","v":0}]
[null,"     Contributing Catchment 4 (c.f.)",{"$f":"IF('2. BMP Characteristics'!E36=\"yes\",'BMP Calcs'!O109,0)","v":0},{"$f":"IF('2. BMP Characteristics'!G36=\"yes\",'BMP Calcs'!O109,0)","v":0},{"$f":"IF('2. BMP Characteristics'!I36=\"yes\",'BMP Calcs'!O109,0)","v":0},null,{"$f":"IF('2. BMP Characteristics'!L36=\"yes\",'BMP Calcs'!O109,0)","v":0},{"$f":"IF('2. BMP Characteristics'!N36=\"yes\",'BMP Calcs'!O109,0)","v":0},{"$f":"IF('2. BMP Characteristics'!P36=\"yes\",'BMP Calcs'!O109,0)","v":0},null,{"$f":"IF('2. BMP Characteristics'!S36=\"yes\",'BMP Calcs'!O109,0)","v":0},{"$f":"IF('2. BMP Characteristics'!U36=\"yes\",'BMP Calcs'!O109,0)","v":0},{"$f":"IF('2. BMP Characteristics'!W36=\"yes\",'BMP Calcs'!O109,0)","v":0},null,0,0,0,null,{"$f":"IF('2. BMP Characteristics'!AG36=\"yes\",'BMP Calcs'!O109,0)","v":0},{"$f":"IF('2. BMP Characteristics'!AI36=\"yes\",'BMP Calcs'!O109,0)","v":0},{"$f":"IF('2. BMP Characteristics'!AK36=\"yes\",'BMP Calcs'!O109,0)","v":0},null,{"$f":"IF('2. BMP Characteristics'!AN36=\"yes\",'BMP Calcs'!O109,0)","v":0},{"$f":"IF('2. BMP Characteristics'!AP36=\"yes\",'BMP Calcs'!O109,0)","v":0},{"$f":"IF('2. BMP Characteristics'!AR36=\"yes\",'BMP Calcs'!O109,0)","v":0}]
[null,"     Contributing Catchment 5 (c.f.)",{"$f":"IF('2. BMP Characteristics'!E37=\"yes\",'BMP Calcs'!S109,0)","v":0},{"$f":"IF('2. BMP Characteristics'!G37=\"yes\",'BMP Calcs'!S109,0)","v":0},{"$f":"IF('2. BMP Characteristics'!I37=\"yes\",'BMP Calcs'!S109,0)","v":0},null,{"$f":"IF('2. BMP Characteristics'!L37=\"yes\",'BMP Calcs'!S109,0)","v":0},{"$f":"IF('2. BMP Characteristics'!N37=\"yes\",'BMP Calcs'!S109,0)","v":0},{"$f":"IF('2. BMP Characteristics'!P37=\"yes\",'BMP Calcs'!S109,0)","v":0},null,{"$f":"IF('2. BMP Characteristics'!S37=\"yes\",'BMP Calcs'!S109,0)","v":0},{"$f":"IF('2. BMP Characteristics'!U37=\"yes\",'BMP Calcs'!S109,0)","v":0},{"$f":"IF('2. BMP Characteristics'!W37=\"yes\",'BMP Calcs'!S109,0)","v":0},null,{"$f":"IF('2. BMP Characteristics'!Z37=\"yes\",'BMP Calcs'!S109,0)","v":0},{"$f":"IF('2. BMP Characteristics'!AB37=\"yes\",'BMP Calcs'!S109,0)","v":0},{"$f":"IF('2. BMP Characteristics'!AD37=\"yes\",'BMP Calcs'!S109,0)","v":0},null,0,0,0,null,{"$f":"IF('2. BMP Characteristics'!AN37=\"yes\",'BMP Calcs'!S109,0)","v":0},{"$f":"IF('2. BMP Characteristics'!AP37=\"yes\",'BMP Calcs'!S109,0)","v":0},{"$f":"IF('2. BMP Characteristics'!AR37=\"yes\",'BMP Calcs'!S109,0)","v":0}]
[null,"     Contributing Catchment 6 (c.f.)",{"$f":"IF('2. BMP Characteristics'!E38=\"yes\",'BMP Calcs'!W109,0)","v":0},{"$f":"IF('2. BMP Characteristics'!G38=\"yes\",'BMP Calcs'!W109,0)","v":0},{"$f":"IF('2. BMP Characteristics'!I38=\"yes\",'BMP Calcs'!W109,0)","v":0},null,{"$f":"IF('2. BMP Characteristics'!L38=\"yes\",'BMP Calcs'!W109,0)","v":0},{"$f":"IF('2. BMP Characteristics'!N38=\"yes\",'BMP Calcs'!W109,0)","v":0},{"$f":"IF('2. BMP Characteristics'!P38=\"yes\",'BMP Calcs'!W109,0)","v":0},null,{"$f":"IF('2. BMP Characteristics'!S38=\"yes\",'BMP Calcs'!W109,0)","v":0},{"$f":"IF('2. BMP Characteristics'!U38=\"yes\",'BMP Calcs'!W109,0)","v":0},{"$f":"IF('2. BMP Characteristics'!W38=\"yes\",'BMP Calcs'!W109,0)","v":0},null,{"$f":"IF('2. BMP Characteristics'!Z38=\"yes\",'BMP Calcs'!W109,0)","v":0},{"$f":"IF('2. BMP Characteristics'!AB38=\"yes\",'BMP Calcs'!W109,0)","v":0},{"$f":"IF('2. BMP Characteristics'!AD38=\"yes\",'BMP Calcs'!W109,0)","v":0},null,{"$f":"IF('2. BMP Characteristics'!AG38=\"yes\",'BMP Calcs'!W109,0)","v":0},{"$f":"IF('2. BMP Characteristics'!AI38=\"yes\",'BMP Calcs'!W109,0)","v":0},{"$f":"IF('2. BMP Characteristics'!AK38=\"yes\",'BMP Calcs'!W109,0)","v":0},null,0,0,0]
[null,"Total Entering Volume (c.f.)",{"$f":"SUM(C20:C28)","v":0},{"$f":"SUM(D20:D28)","v":0},0,0,0,0,0,0,0,0,0,0,0,0,0,0,0,0,0,0,0,0,0]
[]
[null,"Watershed TN Loading (lbs)",{"$f":"IF(C7=0,0,SUM(C461:C521))","v":0},{"$f":"IF(D7=0,0,SUM(D461:D521))","v":0},{"$f":"IF(E7=0,0,SUM(E461:E521))","v":0},{"$f":"SUM(F461:F520)","v":{"$error":"#N/A"}},{"$f":"IF(G7=0,0,SUM(G461:G521))","v":0},{"$f":"IF(H7=0,0,SUM(H461:H521))","v":0},{"$f":"IF(I7=0,0,SUM(I461:I521))","v":0},{"$f":"SUM(J461:J520)","v":{"$error":"#N/A"}},{"$f":"IF(K7=0,0,SUM(K461:K521))","v":0},{"$f":"IF(L7=0,0,SUM(L461:L521))","v":0},{"$f":"IF(M7=0,0,SUM(M461:M521))","v":0},{"$f":"SUM(N461:N520)","v":{"$error":"#N/A"}},{"$f":"IF(O7=0,0,SUM(O461:O521))","v":0},{"$f":"IF(P7=0,0,SUM(P461:P521))","v":0},{"$f":"IF(Q7=0,0,SUM(Q461:Q521))","v":0},{"$f":"SUM(R461:R520)","v":{"$error":"#N/A"}},{"$f":"IF(S7=0,0,SUM(S461:S521))","v":0},{"$f":"IF(T7=0,0,SUM(T461:T521))","v":0},{"$f":"IF(U7=0,0,SUM(U461:U521))","v":0},{"$f":"SUM(V461:V520)","v":{"$error":"#N/A"}},{"$f":"IF(W7=0,0,SUM(W461:W521))","v":0},{"$f":"IF(X7=0,0,SUM(X461:X521))","v":0},{"$f":"IF(Y7=0,0,SUM(Y461:Y521))","v":0}]
[null,"Previous BMP Outflow TN Loading (lbs)",0,{"$f":"IF(D7=0,0,C92)","v":0},{"$f":"IF(E7=0,0,D92)","v":0},{"$f":"#REF!","v":{"$error":"#REF!"}},0,{"$f":"IF(H7=0,0,G92)","v":0},{"$f":"IF(I7=0,0,H92)","v":0},{"$f":"#REF!","v":{"$error":"#REF!"}},0,{"$f":"IF(L7=0,0,K92)","v":0},{"$f":"IF(M7=0,0,L92)","v":0},{"$f":"#REF!","v":{"$error":"#REF!"}},0,{"$f":"IF(P7=0,0,O92)","v":0},{"$f":"IF(Q7=0,0,P92)","v":0},{"$f":"#REF!","v":{"$error":"#REF!"}},0,{"$f":"IF(T7=0,0,S92)","v":0},{"$f":"IF(U7=0,0,T92)","v":0},{"$f":"#REF!","v":{"$error":"#REF!"}},0,{"$f":"IF(X7=0,0,W92)","v":0},{"$f":"IF(Y7=0,0,X92)","v":0}]
[null,"Previous BMP Overflow TN Loading (lbs)",0,{"$f":"IF(D7=0,0,C96)","v":0},{"$f":"IF(E7=0,0,D96)","v":0},{"$f":"E96","v":"NA"},0,{"$f":"IF(H7=0,0,G96)","v":0},{"$f":"IF(I7=0,0,H96)","v":0},{"$f":"I96","v":"NA"},0,{"$f":"IF(L7=0,0,K96)","v":0},{"$f":"IF(M7=0,0,L96)","v":0},{"$f":"M96","v":"NA"},0,{"$f":"IF(P7=0,0,O96)","v":0},{"$f":"IF(Q7=0,0,P96)","v":0},{"$f":"Q96","v":"NA"},0,{"$f":"IF(T7=0,0,S96)","v":0},{"$f":"IF(U7=0,0,T96)","v":0},{"$f":"U96","v":"NA"},0,{"$f":"IF(X7=0,0,W96)","v":0},{"$f":"IF(Y7=0,0,X96)","v":0}]
[null,"     Contributing Catchment 1 (lbs)",0,0,0,null,{"$f":"IF('2. BMP Characteristics'!L33=\"yes\",'BMP Calcs'!C116,0)","v":0},{"$f":"IF('2. BMP Characteristics'!N33=\"yes\",'BMP Calcs'!C116,0)","v":0},{"$f":"IF('2. BMP Characteristics'!P33=\"yes\",'BMP Calcs'!C116,0)","v":0},null,{"$f":"IF('2. BMP Characteristics'!S33=\"yes\",'BMP Calcs'!C116,0)","v":0},{"$f":"IF('2. BMP Characteristics'!U33=\"yes\",'BMP Calcs'!C116,0)","v":0},{"$f":"IF('2. BMP Characteristics'!W33=\"yes\",'BMP Calcs'!C116,0)","v":0},null,{"$f":"IF('2. BMP Characteristics'!Z33=\"yes\",'BMP Calcs'!C116,0)","v":0},{"$f":"IF('2. BMP Characteristics'!AB33=\"yes\",'BMP Calcs'!C116,0)","v":0},{"$f":"IF('2. BMP Characteristics'!AD33=\"yes\",'BMP Calcs'!C116,0)","v":0},null,{"$f":"IF('2. BMP Characteristics'!AG33=\"yes\",'BMP Calcs'!C116,0)","v":0},{"$f":"IF('2. BMP Characteristics'!AI33=\"yes\",'BMP Calcs'!C116,0)","v":0},{"$f":"IF('2. BMP Characteristics'!AK33=\"yes\",'BMP Calcs'!C116,0)","v":0},null,{"$f":"IF('2. BMP Characteristics'!AN33=\"yes\",'BMP Calcs'!C116,0)","v":0},{"$f":"IF('2. BMP Characteristics'!AP33=\"yes\",'BMP Calcs'!C116,0)","v":0},{"$f":"IF('2. BMP Characteristics'!AR33=\"yes\",'BMP Calcs'!C116,0)","v":0}]
[null,"     Contributing Catchment 2 (lbs)",{"$f":"IF('2. BMP Characteristics'!E34=\"yes\",'BMP Calcs'!G116,0)","v":0},{"$f":"IF('2. BMP Characteristics'!G34=\"yes\",'BMP Calcs'!G116,0)","v":0},{"$f":"IF('2. BMP Characteristics'!I34=\"yes\",'BMP Calcs'!G116,0)","v":0},null,0,0,0,null,{"$f":"IF('2. BMP Characteristics'!S34=\"yes\",'BMP Calcs'!G116,0)","v":0},{"$f":"IF('2. BMP Characteristics'!U34=\"yes\",'BMP Calcs'!G116,0)","v":0},{"$f":"IF('2. BMP Characteristics'!W34=\"yes\",'BMP Calcs'!G116,0)","v":0},null,{"$f":"IF('2. BMP Characteristics'!Z34=\"yes\",'BMP Calcs'!G116,0)","v":0},{"$f":"IF('2. BMP Characteristics'!AB34=\"yes\",'BMP Calcs'!G116,0)","v":0},{"$f":"IF('2. BMP Characteristics'!AD34=\"yes\",'BMP Calcs'!G116,0)","v":0},null,{"$f":"IF('2. BMP Characteristics'!AG34=\"yes\",'BMP Calcs'!G116,0)","v":0},{"$f":"IF('2. BMP Characteristics'!AI34=\"yes\",'BMP Calcs'!G116,0)","v":0},{"$f":"IF('2. BMP Characteristics'!AK34=\"yes\",'BMP Calcs'!G116,0)","v":0},null,{"$f":"IF('2. BMP Characteristics'!AN34=\"yes\",'BMP Calcs'!G116,0)","v":0},{"$f":"IF('2. BMP Characteristics'!AP34=\"yes\",'BMP Calcs'!G116,0)","v":0},{"$f":"IF('2. BMP Characteristics'!AR34=\"yes\",'BMP Calcs'!G116,0)","v":0}]
[null,"     Contributing Catchment 3 (lbs)",{"$f":"IF('2. BMP Characteristics'!E35=\"yes\",'BMP Calcs'!K116,0)","v":0},{"$f":"IF('2. BMP Characteristics'!G35=\"yes\",'BMP Calcs'!K116,0)","v":0},{"$f":"IF('2. BMP Characteristics'!I35=\"yes\",'BMP Calcs'!K116,0)","v":0},null,{"$f":"IF('2. BMP Characteristics'!L35=\"yes\",'BMP Calcs'!K116,0)","v":0},{"$f":"IF('2. BMP Characteristics'!N35=\"yes\",'BMP Calcs'!K116,0)","v":0},{"$f":"IF('2. BMP Characteristics'!P35=\"yes\",'BMP Calcs'!K116,0)","v":0},null,0,0,0,null,{"$f":"IF('2. BMP Characteristics'!Z35=\"yes\",'BMP Calcs'!K116,0)","v":0},{"$f":"IF('2. BMP Characteristics'!AB35=\"yes\",'BMP Calcs'!K116,0)","v":0},{"$f":"IF('2. BMP Characteristics'!AD35=\"yes\",'BMP Calcs'!K116,0)","v":0},null,{"$f":"IF('2. BMP Characteristics'!AG35=\"yes\",'BMP Calcs'!K116,0)","v":0},{"$f":"IF('2. BMP Characteristics'!AI35=\"yes\",'BMP Calcs'!K116,0)","v":0},{"$f":"IF('2. BMP Characteristics'!AK35=\"yes\",'BMP Calcs'!K116,0)","v":0},null,{"$f":"IF('2. BMP Characteristics'!AN35=\"yes\",'BMP Calcs'!K116,0)","v":0},{"$f":"IF('2. BMP Characteristics'!AP35=\"yes\",'BMP Calcs'!K116,0)","v":0},{"$f":"IF('2. BMP Characteristics'!AR35=\"yes\",'BMP Calcs'!K116,0)","v":0}]
[null,"     Contributing Catchment 4 (lbs)",{"$f":"IF('2. BMP Characteristics'!E36=\"yes\",'BMP Calcs'!O116,0)","v":0},{"$f":"IF('2. BMP Characteristics'!G36=\"yes\",'BMP Calcs'!O116,0)","v":0},{"$f":"IF('2. BMP Characteristics'!I36=\"yes\",'BMP Calcs'!O116,0)","v":0},null,{"$f":"IF('2. BMP Characteristics'!L36=\"yes\",'BMP Calcs'!O116,0)","v":0},{"$f":"IF('2. BMP Characteristics'!N36=\"yes\",'BMP Calcs'!O116,0)","v":0},{"$f":"IF('2. BMP Characteristics'!P36=\"yes\",'BMP Calcs'!O116,0)","v":0},null,{"$f":"IF('2. BMP Characteristics'!S36=\"yes\",'BMP Calcs'!O116,0)","v":0},{"$f":"IF('2. BMP Characteristics'!U36=\"yes\",'BMP Calcs'!O116,0)","v":0},{"$f":"IF('2. BMP Characteristics'!W36=\"yes\",'BMP Calcs'!O116,0)","v":0},null,0,0,0,null,{"$f":"IF('2. BMP Characteristics'!AG36=\"yes\",'BMP Calcs'!O116,0)","v":0},{"$f":"IF('2. BMP Characteristics'!AI36=\"yes\",'BMP Calcs'!O116,0)","v":0},{"$f":"IF('2. BMP Characteristics'!AK36=\"yes\",'BMP Calcs'!O116,0)","v":0},null,{"$f":"IF('2. BMP Characteristics'!AN36=\"yes\",'BMP Calcs'!O116,0)","v":0},{"$f":"IF('2. BMP Characteristics'!AP36=\"yes\",'BMP Calcs'!O116,0)","v":0},{"$f":"IF('2. BMP Characteristics'!AR36=\"yes\",'BMP Calcs'!O116,0)","v":0}]
[null,"     Contributing Catchment 5 (lbs)",{"$f":"IF('2. BMP Characteristics'!E37=\"yes\",'BMP Calcs'!S116,0)","v":0},{"$f":"IF('2. BMP Characteristics'!G37=\"yes\",'BMP Calcs'!S116,0)","v":0},{"$f":"IF('2. BMP Characteristics'!I37=\"yes\",'BMP Calcs'!#REF!,0)","v":0},null,{"$f":"IF('2. BMP Characteristics'!L37=\"yes\",'BMP Calcs'!S116,0)","v":0},{"$f":"IF('2. BMP Characteristics'!N37=\"yes\",'BMP Calcs'!S116,0)","v":0},{"$f":"IF('2. BMP Characteristics'!P37=\"yes\",'BMP Calcs'!S116,0)","v":0},null,{"$f":"IF('2. BMP Characteristics'!S37=\"yes\",'BMP Calcs'!S116,0)","v":0},{"$f":"IF('2. BMP Characteristics'!U37=\"yes\",'BMP Calcs'!S116,0)","v":0},{"$f":"IF('2. BMP Characteristics'!W37=\"yes\",'BMP Calcs'!S116,0)","v":0},null,{"$f":"IF('2. BMP Characteristics'!Z37=\"yes\",'BMP Calcs'!S116,0)","v":0},{"$f":"IF('2. BMP Characteristics'!AB37=\"yes\",'BMP Calcs'!S116,0)","v":0},{"$f":"IF('2. BMP Characteristics'!AD37=\"yes\",'BMP Calcs'!S116,0)","v":0},null,0,0,0,null,{"$f":"IF('2. BMP Characteristics'!AN37=\"yes\",'BMP Calcs'!S116,0)","v":0},{"$f":"IF('2. BMP Characteristics'!AP37=\"yes\",'BMP Calcs'!S116,0)","v":0},{"$f":"IF('2. BMP Characteristics'!AR37=\"yes\",'BMP Calcs'!S116,0)","v":0}]
[null,"     Contributing Catchment 6 (lbs)",{"$f":"IF('2. BMP Characteristics'!E38=\"yes\",'BMP Calcs'!W116,0)","v":0},{"$f":"IF('2. BMP Characteristics'!G38=\"yes\",'BMP Calcs'!W116,0)","v":0},{"$f":"IF('2. BMP Characteristics'!I38=\"yes\",'BMP Calcs'!#REF!,0)","v":0},null,{"$f":"IF('2. BMP Characteristics'!L38=\"yes\",'BMP Calcs'!W116,0)","v":0},{"$f":"IF('2. BMP Characteristics'!N38=\"yes\",'BMP Calcs'!W116,0)","v":0},{"$f":"IF('2. BMP Characteristics'!P38=\"yes\",'BMP Calcs'!W116,0)","v":0},null,{"$f":"IF('2. BMP Characteristics'!S38=\"yes\",'BMP Calcs'!W116,0)","v":0},{"$f":"IF('2. BMP Characteristics'!U38=\"yes\",'BMP Calcs'!W116,0)","v":0},{"$f":"IF('2. BMP Characteristics'!W38=\"yes\",'BMP Calcs'!W116,0)","v":0},null,{"$f":"IF('2. BMP Characteristics'!Z38=\"yes\",'BMP Calcs'!W116,0)","v":0},{"$f":"IF('2. BMP Characteristics'!AB38=\"yes\",'BMP Calcs'!W116,0)","v":0},{"$f":"IF('2. BMP Characteristics'!AD38=\"yes\",'BMP Calcs'!W116,0)","v":0},null,{"$f":"IF('2. BMP Characteristics'!AG38=\"yes\",'BMP Calcs'!W116,0)","v":0},{"$f":"IF('2. BMP Characteristics'!AI38=\"yes\",'BMP Calcs'!W116,0)","v":0},{"$f":"IF('2. BMP Characteristics'!AK38=\"yes\",'BMP Calcs'!W116,0)","v":0},null,0,0,0]
[null,"Total TN Loading (lbs)",{"$f":"SUM(C31:C39)","v":0},{"$f":"SUM(D31:D39)","v":0},{"$f":"SUM(E31:E39)","v":0},{"$error":"#N/A"},0,0,0,{"$error":"#N/A"},0,0,0,{"$error":"#N/A"},0,0,0,{"$error":"#N/A"},0,0,0,{"$error":"#N/A"},0,0,0]
[]
[null,"Watershed TP Loading (lbs)",{"$f":"IF(C7=0,0,SUM(C590:C650))","v":0},{"$f":"IF(D7=0,0,SUM(D590:D650))","v":0},{"$f":"IF(E7=0,0,SUM(E590:E650))","v":0},{"$f":"SUM(F590:F649)","v":{"$error":"#N/A"}},{"$f":"IF(G7=0,0,SUM(G590:G650))","v":0},{"$f":"IF(H7=0,0,SUM(H590:H650))","v":0},{"$f":"IF(I7=0,0,SUM(I590:I650))","v":0},{"$f":"SUM(J590:J649)","v":{"$error":"#N/A"}},{"$f":"IF(K7=0,0,SUM(K590:K650))","v":0},{"$f":"IF(L7=0,0,SUM(L590:L650))","v":0},{"$f":"IF(M7=0,0,SUM(M590:M650))","v":0},{"$f":"SUM(N590:N649)","v":{"$error":"#N/A"}},{"$f":"IF(O7=0,0,SUM(O590:O650))","v":0},{"$f":"IF(P7=0,0,SUM(P590:P650))","v":0},{"$f":"IF(Q7=0,0,SUM(Q590:Q650))","v":0},{"$f":"SUM(R590:R649)","v":{"$error":"#N/A"}},{"$f":"IF(S7=0,0,SUM(S590:S650))","v":0},{"$f":"IF(T7=0,0,SUM(T590:T650))","v":0},{"$f":"IF(U7=0,0,SUM(U590:U650))","v":0},{"$f":"SUM(V590:V649)","v":{"$error":"#N/A"}},{"$f":"IF(W7=0,0,SUM(W590:W650))","v":0},{"$f":"IF(X7=0,0,SUM(X590:X650))","v":0},{"$f":"IF(Y7=0,0,SUM(Y590:Y650))","v":0}]
[null,"Previous BMP Outflow TP Loading (lbs)",0,{"$f":"IF(D7=0,0,C94)","v":0},{"$f":"IF(E7=0,0,D94)","v":0},{"$f":"#REF!","v":{"$error":"#REF!"}},0,{"$f":"IF(H7=0,0,G94)","v":0},{"$f":"IF(I7=0,0,H94)","v":0},{"$f":"#REF!","v":{"$error":"#REF!"}},0,{"$f":"IF(L7=0,0,K94)","v":0},{"$f":"IF(M7=0,0,L94)","v":0},{"$f":"#REF!","v":{"$error":"#REF!"}},0,{"$f":"IF(P7=0,0,O94)","v":0},{"$f":"IF(Q7=0,0,P94)","v":0},{"$f":"#REF!","v":{"$error":"#REF!"}},0,{"$f":"IF(T7=0,0,S94)","v":0},{"$f":"IF(U7=0,0,T94)","v":0},{"$f":"#REF!","v":{"$error":"#REF!"}},0,{"$f":"IF(X7=0,0,W94)","v":0},{"$f":"IF(Y7=0,0,X94)","v":0}]
[null,"Previous BMP Overflow TP Loading (lbs)",0,{"$f":"IF(D7=0,0,C97)","v":0},{"$f":"IF(E7=0,0,D97)","v":0},{"$f":"E97","v":"NA"},0,{"$f":"IF(H7=0,0,G97)","v":0},{"$f":"IF(I7=0,0,H97)","v":0},{"$f":"I97","v":"NA"},0,{"$f":"IF(L7=0,0,K97)","v":0},{"$f":"IF(M7=0,0,L97)","v":0},{"$f":"M97","v":"NA"},0,{"$f":"IF(P7=0,0,O97)","v":0},{"$f":"IF(Q7=0,0,P97)","v":0},{"$f":"Q97","v":"NA"},0,{"$f":"IF(T7=0,0,S97)","v":0},{"$f":"IF(U7=0,0,T97)","v":0},{"$f":"U97","v":"NA"},0,{"$f":"IF(X7=0,0,W97)","v":0},{"$f":"IF(Y7=0,0,X97)","v":0}]
[null,"     Contributing Catchment 1 (lbs)",0,0,0,null,{"$f":"IF('2. BMP Characteristics'!L33=\"yes\",'BMP Calcs'!C118,0)","v":0},{"$f":"IF('2. BMP Characteristics'!N33=\"yes\",'BMP Calcs'!C118,0)","v":0},{"$f":"IF('2. BMP Characteristics'!P33=\"yes\",'BMP Calcs'!C118,0)","v":0},null,{"$f":"IF('2. BMP Characteristics'!S33=\"yes\",'BMP Calcs'!C118,0)","v":0},{"$f":"IF('2. BMP Characteristics'!U33=\"yes\",'BMP Calcs'!C118,0)","v":0},{"$f":"IF('2. BMP Characteristics'!W33=\"yes\",'BMP Calcs'!C118,0)","v":0},null,{"$f":"IF('2. BMP Characteristics'!Z33=\"yes\",'BMP Calcs'!C118,0)","v":0},{"$f":"IF('2. BMP Characteristics'!AB33=\"yes\",'BMP Calcs'!C118,0)","v":0},{"$f":"IF('2. BMP Characteristics'!AD33=\"yes\",'BMP Calcs'!C118,0)","v":0},null,{"$f":"IF('2. BMP Characteristics'!AG33=\"yes\",'BMP Calcs'!C118,0)","v":0},{"$f":"IF('2. BMP Characteristics'!AI33=\"yes\",'BMP Calcs'!C118,0)","v":0},{"$f":"IF('2. BMP Characteristics'!AK33=\"yes\",'BMP Calcs'!C118,0)","v":0},null,{"$f":"IF('2. BMP Characteristics'!AN33=\"yes\",'BMP Calcs'!C118,0)","v":0},{"$f":"IF('2. BMP Characteristics'!AP33=\"yes\",'BMP Calcs'!C118,0)","v":0},{"$f":"IF('2. BMP Characteristics'!AR33=\"yes\",'BMP Calcs'!C118,0)","v":0}]
[null,"     Contributing Catchment 2 (lbs)",{"$f":"IF('2. BMP Characteristics'!E34=\"yes\",'BMP Calcs'!G118,0)","v":0},{"$f":"IF('2. BMP Characteristics'!G34=\"yes\",'BMP Calcs'!G118,0)","v":0},{"$f":"IF('2. BMP Characteristics'!I34=\"yes\",'BMP Calcs'!G118,0)","v":0},null,0,0,0,null,{"$f":"IF('2. BMP Characteristics'!S34=\"yes\",'BMP Calcs'!G118,0)","v":0},{"$f":"IF('2. BMP Characteristics'!U34=\"yes\",'BMP Calcs'!G118,0)","v":0},{"$f":"IF('2. BMP Characteristics'!W34=\"yes\",'BMP Calcs'!G118,0)","v":0},null,{"$f":"IF('2. BMP Characteristics'!Z34=\"yes\",'BMP Calcs'!G118,0)","v":0},{"$f":"IF('2. BMP Characteristics'!AB34=\"yes\",'BMP Calcs'!G118,0)","v":0},{"$f":"IF('2. BMP Characteristics'!AD34=\"yes\",'BMP Calcs'!G118,0)","v":0},null,{"$f":"IF('2. BMP Characteristics'!AG34=\"yes\",'BMP Calcs'!G118,0)","v":0},{"$f":"IF('2. BMP Characteristics'!AI34=\"yes\",'BMP Calcs'!G118,0)","v":0},{"$f":"IF('2. BMP Characteristics'!AK34=\"yes\",'BMP Calcs'!G118,0)","v":0},null,{"$f":"IF('2. BMP Characteristics'!AN34=\"yes\",'BMP Calcs'!G118,0)","v":0},{"$f":"IF('2. BMP Characteristics'!AP34=\"yes\",'BMP Calcs'!G118,0)","v":0},{"$f":"IF('2. BMP Characteristics'!AR34=\"yes\",'BMP Calcs'!G118,0)","v":0}]
[null,"     Contributing Catchment 3 (lbs)",{"$f":"IF('2. BMP Characteristics'!E35=\"yes\",'BMP Calcs'!K118,0)","v":0},{"$f":"IF('2. BMP Characteristics'!G35=\"yes\",'BMP Calcs'!K118,0)","v":0},{"$f":"IF('2. BMP Characteristics'!I35=\"yes\",'BMP Calcs'!K118,0)","v":0},null,{"$f":"IF('2. BMP Characteristics'!L35=\"yes\",'BMP Calcs'!K118,0)","v":0},{"$f":"IF('2. BMP Characteristics'!N35=\"yes\",'BMP Calcs'!K118,0)","v":0},{"$f":"IF('2. BMP Characteristics'!P35=\"yes\",'BMP Calcs'!K118,0)","v":0},null,0,0,0,null,{"$f":"IF('2. BMP Characteristics'!Z35=\"yes\",'BMP Calcs'!K118,0)","v":0},{"$f":"IF('2. BMP Characteristics'!AB35=\"yes\",'BMP Calcs'!K118,0)","v":0},{"$f":"IF('2. BMP Characteristics'!AD35=\"yes\",'BMP Calcs'!K118,0)","v":0},null,{"$f":"IF('2. BMP Characteristics'!AG35=\"yes\",'BMP Calcs'!K118,0)","v":0},{"$f":"IF('2. BMP Characteristics'!AI35=\"yes\",'BMP Calcs'!K118,0)","v":0},{"$f":"IF('2. BMP Characteristics'!AK35=\"yes\",'BMP Calcs'!K118,0)","v":0},null,{"$f":"IF('2. BMP Characteristics'!AN35=\"yes\",'BMP Calcs'!K118,0)","v":0},{"$f":"IF('2. BMP Characteristics'!AP35=\"yes\",'BMP Calcs'!K118,0)","v":0},{"$f":"IF('2. BMP Characteristics'!AR35=\"yes\",'BMP Calcs'!K118,0)","v":0}]
[null,"     Contributing Catchment 4 (lbs)",{"$f":"IF('2. BMP Characteristics'!E36=\"yes\",'BMP Calcs'!O118,0)","v":0},{"$f":"IF('2. BMP Characteristics'!G36=\"yes\",'BMP Calcs'!O118,0)","v":0},{"$f":"IF('2. BMP Characteristics'!I36=\"yes\",'BMP Calcs'!O118,0)","v":0},null,{"$f":"IF('2. BMP Characteristics'!L36=\"yes\",'BMP Calcs'!O118,0)","v":0},{"$f":"IF('2. BMP Characteristics'!N36=\"yes\",'BMP Calcs'!O118,0)","v":0},{"$f":"IF('2. BMP Characteristics'!P36=\"yes\",'BMP Calcs'!O118,0)","v":0},null,{"$f":"IF('2. BMP Characteristics'!S36=\"yes\",'BMP Calcs'!O118,0)","v":0},{"$f":"IF('2. BMP Characteristics'!U36=\"yes\",'BMP Calcs'!O118,0)","v":0},{"$f":"IF('2. BMP Characteristics'!W36=\"yes\",'BMP Calcs'!O118,0)","v":0},null,0,0,0,null,{"$f":"IF('2. BMP Characteristics'!AG36=\"yes\",'BMP Calcs'!O118,0)","v":0},{"$f":"IF('2. BMP Characteristics'!AI36=\"yes\",'BMP Calcs'!O118,0)","v":0},{"$f":"IF('2. BMP Characteristics'!AK36=\"yes\",'BMP Calcs'!O118,0)","v":0},null,{"$f":"IF('2. BMP Characteristics'!AN36=\"yes\",'BMP Calcs'!O118,0)","v":0},{"$f":"IF('2. BMP Characteristics'!AP36=\"yes\",'BMP Calcs'!O118,0)","v":0},{"$f":"IF('2. BMP Characteristics'!AR36=\"yes\",'BMP Calcs'!O118,0)","v":0}]
[null,"     Contributing Catchment 5 (lbs)",{"$f":"IF('2. BMP Characteristics'!E37=\"yes\",'BMP Calcs'!S118,0)","v":0},{"$f":"IF('2. BMP Characteristics'!G37=\"yes\",'BMP Calcs'!S118,0)","v":0},{"$f":"IF('2. BMP Characteristics'!I37=\"yes\",'BMP Calcs'!S118,0)","v":0},null,{"$f":"IF('2. BMP Characteristics'!L37=\"yes\",'BMP Calcs'!S118,0)","v":0},{"$f":"IF('2. BMP Characteristics'!N37=\"yes\",'BMP Calcs'!S118,0)","v":0},{"$f":"IF('2. BMP Characteristics'!P37=\"yes\",'BMP Calcs'!S118,0)","v":0},null,{"$f":"IF('2. BMP Characteristics'!S37=\"yes\",'BMP Calcs'!S118,0)","v":0},{"$f":"IF('2. BMP Characteristics'!U37=\"yes\",'BMP Calcs'!S118,0)","v":0},{"$f":"IF('2. BMP Characteristics'!W37=\"yes\",'BMP Calcs'!S118,0)","v":0},null,{"$f":"IF('2. BMP Characteristics'!Z37=\"yes\",'BMP Calcs'!S118,0)","v":0},{"$f":"IF('2. BMP Characteristics'!AB37=\"yes\",'BMP Calcs'!S118,0)","v":0},{"$f":"IF('2. BMP Characteristics'!AD37=\"yes\",'BMP Calcs'!S118,0)","v":0},null,0,0,0,null,{"$f":"IF('2. BMP Characteristics'!AN37=\"yes\",'BMP Calcs'!S118,0)","v":0},{"$f":"IF('2. BMP Characteristics'!AP37=\"yes\",'BMP Calcs'!S118,0)","v":0},{"$f":"IF('2. BMP Characteristics'!AR37=\"yes\",'BMP Calcs'!S118,0)","v":0}]
[null,"     Contributing Catchment 6 (lbs)",{"$f":"IF('2. BMP Characteristics'!E38=\"yes\",'BMP Calcs'!W118,0)","v":0},{"$f":"IF('2. BMP Characteristics'!G38=\"yes\",'BMP Calcs'!W118,0)","v":0},{"$f":"IF('2. BMP Characteristics'!I38=\"yes\",'BMP Calcs'!W118,0)","v":0},null,{"$f":"IF('2. BMP Characteristics'!L38=\"yes\",'BMP Calcs'!W118,0)","v":0},{"$f":"IF('2. BMP Characteristics'!N38=\"yes\",'BMP Calcs'!W118,0)","v":0},{"$f":"IF('2. BMP Characteristics'!P38=\"yes\",'BMP Calcs'!W118,0)","v":0},null,{"$f":"IF('2. BMP Characteristics'!S38=\"yes\",'BMP Calcs'!W118,0)","v":0},{"$f":"IF('2. BMP Characteristics'!U38=\"yes\",'BMP Calcs'!W118,0)","v":0},{"$f":"IF('2. BMP Characteristics'!W38=\"yes\",'BMP Calcs'!W118,0)","v":0},null,{"$f":"IF('2. BMP Characteristics'!Z38=\"yes\",'BMP Calcs'!W118,0)","v":0},{"$f":"IF('2. BMP Characteristics'!AB38=\"yes\",'BMP Calcs'!W118,0)","v":0},{"$f":"IF('2. BMP Characteristics'!AD38=\"yes\",'BMP Calcs'!W118,0)","v":0},null,{"$f":"IF('2. BMP Characteristics'!AG38=\"yes\",'BMP Calcs'!W118,0)","v":0},{"$f":"IF('2. BMP Characteristics'!AI38=\"yes\",'BMP Calcs'!W118,0)","v":0},{"$f":"IF('2. BMP Characteristics'!AK38=\"yes\",'BMP Calcs'!W118,0)","v":0},null,0,0,0]
[null,"Total TP Loading (lbs)",{"$f":"SUM(C42:C50)","v":0},{"$f":"SUM(D42:D50)","v":0},0,{"$error":"#N/A"},0,0,0,{"$error":"#N/A"},0,0,0,{"$error":"#N/A"},0,0,0,{"$error":"#N/A"},0,0,0,{"$error":"#N/A"},0,0,0,0]
[]
[null,"Watershed TN EMC (mg/L)",{"$f":"IF(C20>0,C586,0)","v":0},{"$f":"IF(D20>0,D586,0)","v":0},{"$f":"IF(E20>0,E586,0)","v":0},{"$f":"IF(F20>0,F586,\"NA\")","v":"NA"},{"$f":"IF(G20>0,G586,0)","v":0},{"$f":"IF(H20>0,H586,0)","v":0},{"$f":"IF(I20>0,I586,0)","v":0},{"$f":"IF(J20>0,J586,\"NA\")","v":"NA"},{"$f":"IF(K20>0,K586,0)","v":0},{"$f":"IF(L20>0,L586,0)","v":0},{"$f":"IF(M20>0,M586,0)","v":0},{"$f":"IF(N20>0,N586,\"NA\")","v":"NA"},{"$f":"IF(O20>0,O586,0)","v":0},{"$f":"IF(P20>0,P586,0)","v":0},{"$f":"IF(Q20>0,Q586,0)","v":0},{"$f":"IF(R20>0,R586,\"NA\")","v":"NA"},{"$f":"IF(S20>0,S586,0)","v":0},{"$f":"IF(T20>0,T586,0)","v":0},{"$f":"IF(U20>0,U586,0)","v":0},{"$f":"IF(V20>0,V586,\"NA\")","v":"NA"},{"$f":"IF(W20>0,W586,0)","v":0},{"$f":"IF(X20>0,X586,0)","v":0},{"$f":"IF(Y20>0,Y586,0)","v":0}]
[null,"Previous BMP Outflow TN EMC (mg/L)",0,{"$f":"IF(D7=0,0,C91)","v":0},{"$f":"IF(E7=0,0,D91)","v":0},{"$f":"IF(F7=0,0,E91)","v":0},0,{"$f":"IF(H7=0,0,G91)","v":0},{"$f":"IF(I7=0,0,H91)","v":0},{"$f":"IF(J7=0,0,I91)","v":0},0,{"$f":"IF(L7=0,0,K91)","v":0},{"$f":"IF(M7=0,0,L91)","v":0},{"$f":"IF(N7=0,0,M91)","v":0},0,{"$f":"IF(P7=0,0,O91)","v":0},{"$f":"IF(Q7=0,0,P91)","v":0},{"$f":"IF(R7=0,0,Q91)","v":0},0,{"$f":"IF(T7=0,0,S91)","v":0},{"$f":"IF(U7=0,0,T91)","v":0},{"$f":"IF(V7=0,0,U91)","v":0},0,{"$f":"IF(X7=0,0,W91)","v":0},{"$f":"IF(Y7=0,0,X91)","v":0}]
[null,"Previous BMP Overflow TN EMC (mg/L)",0,{"$f":"IF(D7=0,0,C102)","v":0},{"$f":"IF(E7=0,0,D102)","v":0},{"$f":"IF(F7=0,0,E53)","v":0},0,{"$f":"IF(H7=0,0,G102)","v":0},{"$f":"IF(I7=0,0,H102)","v":0},0,0,{"$f":"IF(L7=0,0,K102)","v":0},{"$f":"IF(M7=0,0,L102)","v":0},0,0,{"$f":"IF(P7=0,0,O102)","v":0},{"$f":"IF(Q7=0,0,P102)","v":0},0,0,{"$f":"IF(T7=0,0,S102)","v":0},{"$f":"IF(U7=0,0,T102)","v":0},0,0,{"$f":"IF(X7=0,0,W102)","v":0},{"$f":"IF(Y7=0,0,X102)","v":0}]
[null,"     Contributing Catchment 1 (mg/L)",0,0,0,null,{"$f":"IF('2. BMP Characteristics'!L33=\"yes\",'BMP Calcs'!C114,0)","v":0},{"$f":"IF('2. BMP Characteristics'!N33=\"yes\",'BMP Calcs'!C114,0)","v":0},{"$f":"IF('2. BMP Characteristics'!P33=\"yes\",'BMP Calcs'!C114,0)","v":0},null,{"$f":"IF('2. BMP Characteristics'!S33=\"yes\",'BMP Calcs'!C114,0)","v":0},{"$f":"IF('2. BMP Characteristics'!U33=\"yes\",'BMP Calcs'!C114,0)","v":0},{"$f":"IF('2. BMP Characteristics'!W33=\"yes\",'BMP Calcs'!C114,0)","v":0},null,{"$f":"IF('2. BMP Characteristics'!Z33=\"yes\",'BMP Calcs'!C114,0)","v":0},{"$f":"IF('2. BMP Characteristics'!AB33=\"yes\",'BMP Calcs'!C114,0)","v":0},{"$f":"IF('2. BMP Characteristics'!AD33=\"yes\",'BMP Calcs'!C114,0)","v":0},null,{"$f":"IF('2. BMP Characteristics'!AG33=\"yes\",'BMP Calcs'!C114,0)","v":0},{"$f":"IF('2. BMP Characteristics'!AI33=\"yes\",'BMP Calcs'!C114,0)","v":0},{"$f":"IF('2. BMP Characteristics'!AK33=\"yes\",'BMP Calcs'!C114,0)","v":0},null,{"$f":"IF('2. BMP Characteristics'!AN33=\"yes\",'BMP Calcs'!C114,0)","v":0},{"$f":"IF('2. BMP Characteristics'!AP33=\"yes\",'BMP Calcs'!C114,0)","v":0},{"$f":"IF('2. BMP Characteristics'!AR33=\"yes\",'BMP Calcs'!C114,0)","v":0}]
[null,"     Contributing Catchment 2 (mg/L)",{"$f":"IF('2. BMP Characteristics'!E34=\"yes\",'BMP Calcs'!G114,0)","v":0},{"$f":"IF('2. BMP Characteristics'!G34=\"yes\",'BMP Calcs'!G114,0)","v":0},{"$f":"IF('2. BMP Characteristics'!I34=\"yes\",'BMP Calcs'!G114,0)","v":0},null,0,0,0,null,{"$f":"IF('2. BMP Characteristics'!S34=\"yes\",'BMP Calcs'!G114,0)","v":0},{"$f":"IF('2. BMP Characteristics'!U34=\"yes\",'BMP Calcs'!G114,0)","v":0},{"$f":"IF('2. BMP Characteristics'!W34=\"yes\",'BMP Calcs'!G114,0)","v":0},null,{"$f":"IF('2. BMP Characteristics'!Z34=\"yes\",'BMP Calcs'!G114,0)","v":0},{"$f":"IF('2. BMP Characteristics'!AB34=\"yes\",'BMP Calcs'!G114,0)","v":0},{"$f":"IF('2. BMP Characteristics'!AD34=\"yes\",'BMP Calcs'!G114,0)","v":0},null,{"$f":"IF('2. BMP Characteristics'!AG34=\"yes\",'BMP Calcs'!G114,0)","v":0},{"$f":"IF('2. BMP Characteristics'!AI34=\"yes\",'BMP Calcs'!G114,0)","v":0},{"$f":"IF('2. BMP Characteristics'!AK34=\"yes\",'BMP Calcs'!G114,0)","v":0},null,{"$f":"IF('2. BMP Characteristics'!AN34=\"yes\",'BMP Calcs'!G114,0)","v":0},{"$f":"IF('2. BMP Characteristics'!AP34=\"yes\",'BMP Calcs'!G114,0)","v":0},{"$f":"IF('2. BMP Characteristics'!AR34=\"yes\",'BMP Calcs'!G114,0)","v":0}]
[null,"     Contributing Catchment 3 (mg/L)",{"$f":"IF('2. BMP Characteristics'!E35=\"yes\",'BMP Calcs'!K114,0)","v":0},{"$f":"IF('2. BMP Characteristics'!G35=\"yes\",'BMP Calcs'!K114,0)","v":0},{"$f":"IF('2. BMP Characteristics'!I35=\"yes\",'BMP Calcs'!K114,0)","v":0},null,{"$f":"IF('2. BMP Characteristics'!L35=\"yes\",'BMP Calcs'!K114,0)","v":0},{"$f":"IF('2. BMP Characteristics'!N35=\"yes\",'BMP Calcs'!K114,0)","v":0},{"$f":"IF('2. BMP Characteristics'!P35=\"yes\",'BMP Calcs'!K114,0)","v":0},null,0,0,0,null,{"$f":"IF('2. BMP Characteristics'!Z35=\"yes\",'BMP Calcs'!K114,0)","v":0},{"$f":"IF('2. BMP Characteristics'!AB35=\"yes\",'BMP Calcs'!K114,0)","v":0},{"$f":"IF('2. BMP Characteristics'!AD35=\"yes\",'BMP Calcs'!K114,0)","v":0},null,{"$f":"IF('2. BMP Characteristics'!AG35=\"yes\",'BMP Calcs'!K114,0)","v":0},{"$f":"IF('2. BMP Characteristics'!AI35=\"yes\",'BMP Calcs'!K114,0)","v":0},{"$f":"IF('2. BMP Characteristics'!AK35=\"yes\",'BMP Calcs'!K114,0)","v":0},null,{"$f":"IF('2. BMP Characteristics'!AN35=\"yes\",'BMP Calcs'!K114,0)","v":0},{"$f":"IF('2. BMP Characteristics'!AP35=\"yes\",'BMP Calcs'!K114,0)","v":0},{"$f":"IF('2. BMP Characteristics'!AR35=\"yes\",'BMP Calcs'!K114,0)","v":0}]
[null,"     Contributing Catchment 4 (mg/L)",{"$f":"IF('2. BMP Characteristics'!E36=\"yes\",'BMP Calcs'!O114,0)","v":0},{"$f":"IF('2. BMP Characteristics'!G36=\"yes\",'BMP Calcs'!O114,0)","v":0},{"$f":"IF('2. BMP Characteristics'!I36=\"yes\",'BMP Calcs'!O114,0)","v":0},null,{"$f":"IF('2. BMP Characteristics'!L36=\"yes\",'BMP Calcs'!O114,0)","v":0},{"$f":"IF('2. BMP Characteristics'!N36=\"yes\",'BMP Calcs'!O114,0)","v":0},{"$f":"IF('2. BMP Characteristics'!P36=\"yes\",'BMP Calcs'!O114,0)","v":0},null,{"$f":"IF('2. BMP Characteristics'!S36=\"yes\",'BMP Calcs'!O114,0)","v":0},{"$f":"IF('2. BMP Characteristics'!U36=\"yes\",'BMP Calcs'!O114,0)","v":0},{"$f":"IF('2. BMP Characteristics'!W36=\"yes\",'BMP Calcs'!O114,0)","v":0},null,0,0,0,null,{"$f":"IF('2. BMP Characteristics'!AG36=\"yes\",'BMP Calcs'!O114,0)","v":0},{"$f":"IF('2. BMP Characteristics'!AI36=\"yes\",'BMP Calcs'!O114,0)","v":0},{"$f":"IF('2. BMP Characteristics'!AK36=\"yes\",'BMP Calcs'!O114,0)","v":0},null,{"$f":"IF('2. BMP Characteristics'!AN36=\"yes\",'BMP Calcs'!O114,0)","v":0},{"$f":"IF('2. BMP Characteristics'!AP36=\"yes\",'BMP Calcs'!O114,0)","v":0},{"$f":"IF('2. BMP Characteristics'!AR36=\"yes\",'BMP Calcs'!O114,0)","v":0}]
[null,"     Contributing Catchment 5 (mg/L)",{"$f":"IF('2. BMP Characteristics'!E37=\"yes\",'BMP Calcs'!S114,0)","v":0},{"$f":"IF('2. BMP Characteristics'!G37=\"yes\",'BMP Calcs'!S114,0)","v":0},{"$f":"IF('2. BMP Characteristics'!I37=\"yes\",'BMP Calcs'!S114,0)","v":0},null,{"$f":"IF('2. BMP Characteristics'!L37=\"yes\",'BMP Calcs'!S114,0)","v":0},{"$f":"IF('2. BMP Characteristics'!N37=\"yes\",'BMP Calcs'!S114,0)","v":0},{"$f":"IF('2. BMP Characteristics'!P37=\"yes\",'BMP Calcs'!S114,0)","v":0},null,{"$f":"IF('2. BMP Characteristics'!S37=\"yes\",'BMP Calcs'!S114,0)","v":0},{"$f":"IF('2. BMP Characteristics'!U37=\"yes\",'BMP Calcs'!S114,0)","v":0},{"$f":"IF('2. BMP Characteristics'!W37=\"yes\",'BMP Calcs'!S114,0)","v":0},null,{"$f":"IF('2. BMP Characteristics'!Z37=\"yes\",'BMP Calcs'!S114,0)","v":0},{"$f":"IF('2. BMP Characteristics'!AB37=\"yes\",'BMP Calcs'!S114,0)","v":0},{"$f":"IF('2. BMP Characteristics'!AD37=\"yes\",'BMP Calcs'!S114,0)","v":0},null,0,0,0,null,{"$f":"IF('2. BMP Characteristics'!AN37=\"yes\",'BMP Calcs'!S114,0)","v":0},{"$f":"IF('2. BMP Characteristics'!AP37=\"yes\",'BMP Calcs'!S114,0)","v":0},{"$f":"IF('2. BMP Characteristics'!AR37=\"yes\",'BMP Calcs'!S114,0)","v":0}]
[null,"     Contributing Catchment 6 (mg/L)",{"$f":"IF('2. BMP Characteristics'!E38=\"yes\",'BMP Calcs'!W114,0)","v":0},{"$f":"IF('2. BMP Characteristics'!G38=\"yes\",'BMP Calcs'!W114,0)","v":0},{"$f":"IF('2. BMP Characteristics'!I38=\"yes\",'BMP Calcs'!W114,0)","v":0},null,{"$f":"IF('2. BMP Characteristics'!L38=\"yes\",'BMP Calcs'!W114,0)","v":0},{"$f":"IF('2. BMP Characteristics'!N38=\"yes\",'BMP Calcs'!W114,0)","v":0},{"$f":"IF('2. BMP Characteristics'!P38=\"yes\",'BMP Calcs'!W114,0)","v":0},null,{"$f":"IF('2. BMP Characteristics'!S38=\"yes\",'BMP Calcs'!W114,0)","v":0},{"$f":"IF('2. BMP Characteristics'!U38=\"yes\",'BMP Calcs'!W114,0)","v":0},{"$f":"IF('2. BMP Characteristics'!W38=\"yes\",'BMP Calcs'!W114,0)","v":0},null,{"$f":"IF('2. BMP Characteristics'!Z38=\"yes\",'BMP Calcs'!W114,0)","v":0},{"$f":"IF('2. BMP Characteristics'!AB38=\"yes\",'BMP Calcs'!W114,0)","v":0},{"$f":"IF('2. BMP Characteristics'!AD38=\"yes\",'BMP Calcs'!W114,0)","v":0},null,{"$f":"IF('2. BMP Characteristics'!AG38=\"yes\",'BMP Calcs'!W114,0)","v":0},{"$f":"IF('2. BMP Characteristics'!AI38=\"yes\",'BMP Calcs'!W114,0)","v":0},{"$f":"IF('2. BMP Characteristics'!AK38=\"yes\",'BMP Calcs'!W114,0)","v":0},null,0,0,0]
[null,"Composite/Total TN EMC (mg/L)",{"$f":"IF(C7<>0,((C53*(C20/C29))+(C54*(C21/C29))+(C55*(C22/C29))+(C56*(C23/C29))+(C57*(C24/C29))+(C58*(C25/C29))+(C59*(C26/C29))+(C60*(C27/C29))+(C61*(C28/C29))), 0)","v":0},{"$f":"IF(D7<>0,((D53*(D20/D29))+(D54*(D21/D29))+(D55*(D22/D29))+(D56*(D23/D29))+(D57*(D24/D29))+(D58*(D25/D29))+(D59*(D26/D29))+(D60*(D27/D29))+(D61*(D28/D29))), 0)","v":0},{"$f":"IF(E7<>0,((E53*(E20/E29))+(E54*(E21/E29))+(E55*(E22/E29))+(E56*(E23/E29))+(E57*(E24/E29))+(E58*(E25/E29))+(E59*(E26/E29))+(E60*(E27/E29))+(E61*(E28/E29))), 0)","v":0},{"$f":"IF(F29>0,((F53*(F20/F29))+(F54*(F21/F29))+(F55*(F22/F29))+(F56*(F23/F29))+(F57*(F24/F29))+(F58*(F25/F29))+(F59*(F26/F29))+(F60*(F27/F29))+(F61*(F28/F29))), \"NA\")","v":"NA"},{"$f":"IF(G7<>0,((G53*(G20/G29))+(G54*(G21/G29))+(G55*(G22/G29))+(G56*(G23/G29))+(G57*(G24/G29))+(G58*(G25/G29))+(G59*(G26/G29))+(G60*(G27/G29))+(G61*(G28/G29))), 0)","v":0},{"$f":"IF(H7<>0,((H53*(H20/H29))+(H54*(H21/H29))+(H55*(H22/H29))+(H56*(H23/H29))+(H57*(H24/H29))+(H58*(H25/H29))+(H59*(H26/H29))+(H60*(H27/H29))+(H61*(H28/H29))), 0)","v":0},{"$f":"IF(I7<>0,((I53*(I20/I29))+(I54*(I21/I29))+(I55*(I22/I29))+(I56*(I23/I29))+(I57*(I24/I29))+(I58*(I25/I29))+(I59*(I26/I29))+(I60*(I27/I29))+(I61*(I28/I29))), 0)","v":0},{"$f":"IF(J29>0,((J53*(J20/J29))+(J54*(J21/J29))+(J55*(J22/J29))+(J56*(J23/J29))+(J57*(J24/J29))+(J58*(J25/J29))+(J59*(J26/J29))+(J60*(J27/J29))+(J61*(J28/J29))), \"NA\")","v":"NA"},{"$f":"IF(K7<>0,((K53*(K20/K29))+(K54*(K21/K29))+(K55*(K22/K29))+(K56*(K23/K29))+(K57*(K24/K29))+(K58*(K25/K29))+(K59*(K26/K29))+(K60*(K27/K29))+(K61*(K28/K29))), 0)","v":0},{"$f":"IF(L7<>0,((L53*(L20/L29))+(L54*(L21/L29))+(L55*(L22/L29))+(L56*(L23/L29))+(L57*(L24/L29))+(L58*(L25/L29))+(L59*(L26/L29))+(L60*(L27/L29))+(L61*(L28/L29))), 0)","v":0},{"$f":"IF(M7<>0,((M53*(M20/M29))+(M54*(M21/M29))+(M55*(M22/M29))+(M56*(M23/M29))+(M57*(M24/M29))+(M58*(M25/M29))+(M59*(M26/M29))+(M60*(M27/M29))+(M61*(M28/M29))), 0)","v":0},{"$f":"IF(N29>0,((N53*(N20/N29))+(N54*(N21/N29))+(N55*(N22/N29))+(N56*(N23/N29))+(N57*(N24/N29))+(N58*(N25/N29))+(N59*(N26/N29))+(N60*(N27/N29))+(N61*(N28/N29))), \"NA\")","v":"NA"},{"$f":"IF(O7<>0,((O53*(O20/O29))+(O54*(O21/O29))+(O55*(O22/O29))+(O56*(O23/O29))+(O57*(O24/O29))+(O58*(O25/O29))+(O59*(O26/O29))+(O60*(O27/O29))+(O61*(O28/O29))), 0)","v":0},{"$f":"IF(P7<>0,((P53*(P20/P29))+(P54*(P21/P29))+(P55*(P22/P29))+(P56*(P23/P29))+(P57*(P24/P29))+(P58*(P25/P29))+(P59*(P26/P29))+(P60*(P27/P29))+(P61*(P28/P29))), 0)","v":0},{"$f":"IF(Q7<>0,((Q53*(Q20/Q29))+(Q54*(Q21/Q29))+(Q55*(Q22/Q29))+(Q56*(Q23/Q29))+(Q57*(Q24/Q29))+(Q58*(Q25/Q29))+(Q59*(Q26/Q29))+(Q60*(Q27/Q29))+(Q61*(Q28/Q29))), 0)","v":0},{"$f":"IF(R29>0,((R53*(R20/R29))+(R54*(R21/R29))+(R55*(R22/R29))+(R56*(R23/R29))+(R57*(R24/R29))+(R58*(R25/R29))+(R59*(R26/R29))+(R60*(R27/R29))+(R61*(R28/R29))), \"NA\")","v":"NA"},{"$f":"IF(S7<>0,((S53*(S20/S29))+(S54*(S21/S29))+(S55*(S22/S29))+(S56*(S23/S29))+(S57*(S24/S29))+(S58*(S25/S29))+(S59*(S26/S29))+(S60*(S27/S29))+(S61*(S28/S29))), 0)","v":0},{"$f":"IF(T7<>0,((T53*(T20/T29))+(T54*(T21/T29))+(T55*(T22/T29))+(T56*(T23/T29))+(T57*(T24/T29))+(T58*(T25/T29))+(T59*(T26/T29))+(T60*(T27/T29))+(T61*(T28/T29))), 0)","v":0},{"$f":"IF(U7<>0,((U53*(U20/U29))+(U54*(U21/U29))+(U55*(U22/U29))+(U56*(U23/U29))+(U57*(U24/U29))+(U58*(U25/U29))+(U59*(U26/U29))+(U60*(U27/U29))+(U61*(U28/U29))), 0)","v":0},{"$f":"IF(V29>0,((V53*(V20/V29))+(V54*(V21/V29))+(V55*(V22/V29))+(V56*(V23/V29))+(V57*(V24/V29))+(V58*(V25/V29))+(V59*(V26/V29))+(V60*(V27/V29))+(V61*(V28/V29))), \"NA\")","v":"NA"},{"$f":"IF(W7<>0,((W53*(W20/W29))+(W54*(W21/W29))+(W55*(W22/W29))+(W56*(W23/W29))+(W57*(W24/W29))+(W58*(W25/W29))+(W59*(W26/W29))+(W60*(W27/W29))+(W61*(W28/W29))), 0)","v":0},{"$f":"IF(X7<>0,((X53*(X20/X29))+(X54*(X21/X29))+(X55*(X22/X29))+(X56*(X23/X29))+(X57*(X24/X29))+(X58*(X25/X29))+(X59*(X26/X29))+(X60*(X27/X29))+(X61*(X28/X29))), 0)","v":0},{"$f":"IF(Y7<>0,((Y53*(Y20/Y29))+(Y54*(Y21/Y29))+(Y55*(Y22/Y29))+(Y56*(Y23/Y29))+(Y57*(Y24/Y29))+(Y58*(Y25/Y29))+(Y59*(Y26/Y29))+(Y60*(Y27/Y29))+(Y61*(Y28/Y29))), 0)","v":0}]
[]
[null,"Watershed TP EMC (mg/L)",{"$f":"IF(C7=0,0,C716)","v":0},0,0,0,0,0,0,0,0,0,0,0,0,0,0,0,0,0,0,0,0,0,0]
[null,"Previous BMP Outflow TP EMC (mg/L)",0,{"$f":"IF(D7=0,0,C93)","v":0},{"$f":"IF(E7=0,0,D93)","v":0},{"$f":"IF(F7=0,0,E93)","v":0},0,{"$f":"IF(H7=0,0,G93)","v":0},{"$f":"IF(I7=0,0,H93)","v":0},{"$f":"IF(J7=0,0,I93)","v":0},0,{"$f":"IF(L7=0,0,K93)","v":0},{"$f":"IF(M7=0,0,L93)","v":0},{"$f":"IF(N7=0,0,M93)","v":0},0,{"$f":"IF(P7=0,0,O93)","v":0},{"$f":"IF(Q7=0,0,P93)","v":0},{"$f":"IF(R7=0,0,Q93)","v":0},0,{"$f":"IF(T7=0,0,S93)","v":0},{"$f":"IF(U7=0,0,T93)","v":0},{"$f":"IF(V7=0,0,U93)","v":0},0,{"$f":"IF(X7=0,0,W93)","v":0},{"$f":"IF(Y7=0,0,X93)","v":0}]
[null,"Previous BMP Overflow TP EMC (mg/L)",0,{"$f":"IF(D7=0,0,C103)","v":0},{"$f":"IF(E7=0,0,D103)","v":0},{"$f":"IF(F7=0,0,E64)","v":0},0,{"$f":"IF(H7=0,0,G103)","v":0},{"$f":"IF(I7=0,0,H103)","v":0},0,0,{"$f":"IF(L7=0,0,K103)","v":0},{"$f":"IF(M7=0,0,L103)","v":0},0,0,{"$f":"IF(P7=0,0,O103)","v":0},{"$f":"IF(Q7=0,0,P103)","v":0},0,0,{"$f":"IF(T7=0,0,S103)","v":0},{"$f":"IF(U7=0,0,T103)","v":0},0,0,{"$f":"IF(X7=0,0,W103)","v":0},{"$f":"IF(Y7=0,0,X103)","v":0}]
[null,"     Contributing Catchment 1 (mg/L)",0,0,0,null,{"$f":"IF('2. BMP Characteristics'!L33=\"yes\",'BMP Calcs'!C115,0)","v":0},{"$f":"IF('2. BMP Characteristics'!N33=\"yes\",'BMP Calcs'!C115,0)","v":0},{"$f":"IF('2. BMP Characteristics'!P33=\"yes\",'BMP Calcs'!C115,0)","v":0},null,{"$f":"IF('2. BMP Characteristics'!S33=\"yes\",'BMP Calcs'!C115,0)","v":0},{"$f":"IF('2. BMP Characteristics'!U33=\"yes\",'BMP Calcs'!C115,0)","v":0},{"$f":"IF('2. BMP Characteristics'!W33=\"yes\",'BMP Calcs'!C115,0)","v":0},null,{"$f":"IF('2. BMP Characteristics'!Z33=\"yes\",'BMP Calcs'!C115,0)","v":0},{"$f":"IF('2. BMP Characteristics'!AB33=\"yes\",'BMP Calcs'!C115,0)","v":0},{"$f":"IF('2. BMP Characteristics'!AD33=\"yes\",'BMP Calcs'!C115,0)","v":0},null,{"$f":"IF('2. BMP Characteristics'!AG33=\"yes\",'BMP Calcs'!C115,0)","v":0},{"$f":"IF('2. BMP Characteristics'!AI33=\"yes\",'BMP Calcs'!C115,0)","v":0},{"$f":"IF('2. BMP Characteristics'!AK33=\"yes\",'BMP Calcs'!C115,0)","v":0},null,{"$f":"IF('2. BMP Characteristics'!AN33=\"yes\",'BMP Calcs'!C115,0)","v":0},{"$f":"IF('2. BMP Characteristics'!AP33=\"yes\",'BMP Calcs'!C115,0)","v":0},{"$f":"IF('2. BMP Characteristics'!AR33=\"yes\",'BMP Calcs'!C115,0)","v":0}]
[null,"     Contributing Catchment 2 (mg/L)",{"$f":"IF('2. BMP Characteristics'!E34=\"yes\",'BMP Calcs'!G115,0)","v":0},{"$f":"IF('2. BMP Characteristics'!G34=\"yes\",'BMP Calcs'!G115,0)","v":0},{"$f":"IF('2. BMP Characteristics'!I34=\"yes\",'BMP Calcs'!G115,0)","v":0},null,0,0,0,null,{"$f":"IF('2. BMP Characteristics'!S34=\"yes\",'BMP Calcs'!G115,0)","v":0},{"$f":"IF('2. BMP Characteristics'!U34=\"yes\",'BMP Calcs'!G115,0)","v":0},{"$f":"IF('2. BMP Characteristics'!W34=\"yes\",'BMP Calcs'!G115,0)","v":0},null,{"$f":"IF('2. BMP Characteristics'!Z34=\"yes\",'BMP Calcs'!G115,0)","v":0},{"$f":"IF('2. BMP Characteristics'!AB34=\"yes\",'BMP Calcs'!G115,0)","v":0},{"$f":"IF('2. BMP Characteristics'!AD34=\"yes\",'BMP Calcs'!G115,0)","v":0},null,{"$f":"IF('2. BMP Characteristics'!AG34=\"yes\",'BMP Calcs'!G115,0)","v":0},{"$f":"IF('2. BMP Characteristics'!AI34=\"yes\",'BMP Calcs'!G115,0)","v":0},{"$f":"IF('2. BMP Characteristics'!AK34=\"yes\",'BMP Calcs'!G115,0)","v":0},null,{"$f":"IF('2. BMP Characteristics'!AN34=\"yes\",'BMP Calcs'!G115,0)","v":0},{"$f":"IF('2. BMP Characteristics'!AP34=\"yes\",'BMP Calcs'!G115,0)","v":0},{"$f":"IF('2. BMP Characteristics'!AR34=\"yes\",'BMP Calcs'!G115,0)","v":0}]
[null,"     Contributing Catchment 3 (mg/L)",{"$f":"IF('2. BMP Characteristics'!E35=\"yes\",'BMP Calcs'!K115,0)","v":0},{"$f":"IF('2. BMP Characteristics'!G35=\"yes\",'BMP Calcs'!K115,0)","v":0},{"$f":"IF('2. BMP Characteristics'!I35=\"yes\",'BMP Calcs'!K115,0)","v":0},null,{"$f":"IF('2. BMP Characteristics'!L35=\"yes\",'BMP Calcs'!K115,0)","v":0},{"$f":"IF('2. BMP Characteristics'!N35=\"yes\",'BMP Calcs'!K115,0)","v":0},{"$f":"IF('2. BMP Characteristics'!P35=\"yes\",'BMP Calcs'!K115,0)","v":0},null,0,0,0,null,{"$f":"IF('2. BMP Characteristics'!Z35=\"yes\",'BMP Calcs'!K115,0)","v":0},{"$f":"IF('2. BMP Characteristics'!AB35=\"yes\",'BMP Calcs'!K115,0)","v":0},{"$f":"IF('2. BMP Characteristics'!AD35=\"yes\",'BMP Calcs'!K115,0)","v":0},null,{"$f":"IF('2. BMP Characteristics'!AG35=\"yes\",'BMP Calcs'!K115,0)","v":0},{"$f":"IF('2. BMP Characteristics'!AI35=\"yes\",'BMP Calcs'!K115,0)","v":0},{"$f":"IF('2. BMP Characteristics'!AK35=\"yes\",'BMP Calcs'!K115,0)","v":0},null,{"$f":"IF('2. BMP Characteristics'!AN35=\"yes\",'BMP Calcs'!K115,0)","v":0},{"$f":"IF('2. BMP Characteristics'!AP35=\"yes\",'BMP Calcs'!K115,0)","v":0},{"$f":"IF('2. BMP Characteristics'!AR35=\"yes\",'BMP Calcs'!K115,0)","v":0}]
[null,"     Contributing Catchment 4 (mg/L)",{"$f":"IF('2. BMP Characteristics'!E36=\"yes\",'BMP Calcs'!O115,0)","v":0},{"$f":"IF('2. BMP Characteristics'!G36=\"yes\",'BMP Calcs'!O115,0)","v":0},{"$f":"IF('2. BMP Characteristics'!I36=\"yes\",'BMP Calcs'!O115,0)","v":0},null,{"$f":"IF('2. BMP Characteristics'!L36=\"yes\",'BMP Calcs'!O115,0)","v":0},{"$f":"IF('2. BMP Characteristics'!N36=\"yes\",'BMP Calcs'!O115,0)","v":0},{"$f":"IF('2. BMP Characteristics'!P36=\"yes\",'BMP Calcs'!O115,0)","v":0},null,{"$f":"IF('2. BMP Characteristics'!S36=\"yes\",'BMP Calcs'!O115,0)","v":0},{"$f":"IF('2. BMP Characteristics'!U36=\"yes\",'BMP Calcs'!O115,0)","v":0},{"$f":"IF('2. BMP Characteristics'!W36=\"yes\",'BMP Calcs'!O115,0)","v":0},null,0,0,0,null,{"$f":"IF('2. BMP Characteristics'!AG36=\"yes\",'BMP Calcs'!O115,0)","v":0},{"$f":"IF('2. BMP Characteristics'!AI36=\"yes\",'BMP Calcs'!O115,0)","v":0},{"$f":"IF('2. BMP Characteristics'!AK36=\"yes\",'BMP Calcs'!O115,0)","v":0},null,{"$f":"IF('2. BMP Characteristics'!AN36=\"yes\",'BMP Calcs'!O115,0)","v":0},{"$f":"IF('2. BMP Characteristics'!AP36=\"yes\",'BMP Calcs'!O115,0)","v":0},{"$f":"IF('2. BMP Characteristics'!AR36=\"yes\",'BMP Calcs'!O115,0)","v":0}]
[null,"     Contributing Catchment 5 (mg/L)",{"$f":"IF('2. BMP Characteristics'!E37=\"yes\",'BMP Calcs'!S115,0)","v":0},{"$f":"IF('2. BMP Characteristics'!G37=\"yes\",'BMP Calcs'!S115,0)","v":0},{"$f":"IF('2. BMP Characteristics'!I37=\"yes\",'BMP Calcs'!S115,0)","v":0},null,{"$f":"IF('2. BMP Characteristics'!L37=\"yes\",'BMP Calcs'!S115,0)","v":0},{"$f":"IF('2. BMP Characteristics'!N37=\"yes\",'BMP Calcs'!S115,0)","v":0},{"$f":"IF('2. BMP Characteristics'!P37=\"yes\",'BMP Calcs'!S115,0)","v":0},null,{"$f":"IF('2. BMP Characteristics'!S37=\"yes\",'BMP Calcs'!S115,0)","v":0},{"$f":"IF('2. BMP Characteristics'!U37=\"yes\",'BMP Calcs'!S115,0)","v":0},{"$f":"IF('2. BMP Characteristics'!W37=\"yes\",'BMP Calcs'!S115,0)","v":0},null,{"$f":"IF('2. BMP Characteristics'!Z37=\"yes\",'BMP Calcs'!S115,0)","v":0},{"$f":"IF('2. BMP Characteristics'!AB37=\"yes\",'BMP Calcs'!S115,0)","v":0},{"$f":"IF('2. BMP Characteristics'!AD37=\"yes\",'BMP Calcs'!S115,0)","v":0},null,0,0,0,null,{"$f":"IF('2. BMP Characteristics'!AN37=\"yes\",'BMP Calcs'!S115,0)","v":0},{"$f":"IF('2. BMP Characteristics'!AP37=\"yes\",'BMP Calcs'!S115,0)","v":0},{"$f":"IF('2. BMP Characteristics'!AR37=\"yes\",'BMP Calcs'!S115,0)","v":0}]
[null,"     Contributing Catchment 6 (mg/L)",{"$f":"IF('2. BMP Characteristics'!E38=\"yes\",'BMP Calcs'!W115,0)","v":0},{"$f":"IF('2. BMP Characteristics'!G38=\"yes\",'BMP Calcs'!W115,0)","v":0},{"$f":"IF('2. BMP Characteristics'!I38=\"yes\",'BMP Calcs'!W115,0)","v":0},null,{"$f":"IF('2. BMP Characteristics'!L38=\"yes\",'BMP Calcs'!W115,0)","v":0},{"$f":"IF('2. BMP Characteristics'!N38=\"yes\",'BMP Calcs'!W115,0)","v":0},{"$f":"IF('2. BMP Characteristics'!P38=\"yes\",'BMP Calcs'!W115,0)","v":0},null,{"$f":"IF('2. BMP Characteristics'!S38=\"yes\",'BMP Calcs'!W115,0)","v":0},{"$f":"IF('2. BMP Characteristics'!U38=\"yes\",'BMP Calcs'!W115,0)","v":0},{"$f":"IF('2. BMP Characteristics'!W38=\"yes\",'BMP Calcs'!W115,0)","v":0},null,{"$f":"IF('2. BMP Characteristics'!Z38=\"yes\",'BMP Calcs'!W115,0)","v":0},{"$f":"IF('2. BMP Characteristics'!AB38=\"yes\",'BMP Calcs'!W115,0)","v":0},{"$f":"IF('2. BMP Characteristics'!AD38=\"yes\",'BMP Calcs'!W115,0)","v":0},null,{"$f":"IF('2. BMP Characteristics'!AG38=\"yes\",'BMP Calcs'!W115,0)","v":0},{"$f":"IF('2. BMP Characteristics'!AI38=\"yes\",'BMP Calcs'!W115,0)","v":0},{"$f":"IF('2. BMP Characteristics'!AK38=\"yes\",'BMP Calcs'!W115,0)","v":0},null,0,0,0]
[null,"Composite/Total TP EMC (mg/L)",{"$f":"IF(C7<>0,((C64*(C20/C29))+(C65*(C21/C29))+(C66*(C22/C29))+(C68*(C24/C29))+(C69*(C25/C29))+(C70*(C26/C29))+(C71*(C27/C29))+(C72*(C28/C29))),0)","v":0},{"$f":"IF(D7<>0,((D64*(D20/D29))+(D65*(D21/D29))+(D66*(D22/D29))+(D67*(D23/D29))+(D68*(D24/D29))+(D69*(D25/D29))+(D70*(D26/D29))+(D71*(D27/D29))+(D72*(D28/D29))),0)","v":0},{"$f":"IF(E7<>0,((E64*(E20/E29))+(E65*(E21/E29))+(E66*(E22/E29))+(E67*(E23/E29))+(E68*(E24/E29))+(E69*(E25/E29))+(E70*(E26/E29))+(E71*(E27/E29))+(E72*(E28/E29))),0)","v":0},{"$f":"IF(F99>0,((F64*(F20/F29))+(F65*(F21/F29))+(F66*(F22/F29))+(F67*(F23/F29))+(F68*(F24/F29))+(F69*(F25/F29))+(F70*(F26/F29))+(F71*(F27/F29))+(F72*(F28/F29))),\"NA\")","v":{"$error":"#DIV/0!"}},{"$f":"IF(G7<>0,((G64*(G20/G29))+(G65*(G21/G29))+(G66*(G22/G29))+(G67*(G23/G29))+(G68*(G24/G29))+(G69*(G25/G29))+(G70*(G26/G29))+(G71*(G27/G29))+(G72*(G28/G29))),0)","v":0},{"$f":"IF(H7<>0,((H64*(H20/H29))+(H65*(H21/H29))+(H66*(H22/H29))+(H67*(H23/H29))+(H68*(H24/H29))+(H69*(H25/H29))+(H70*(H26/H29))+(H71*(H27/H29))+(H72*(H28/H29))),0)","v":0},{"$f":"IF(I7<>0,((I64*(I20/I29))+(I65*(I21/I29))+(I66*(I22/I29))+(I67*(I23/I29))+(I68*(I24/I29))+(I69*(I25/I29))+(I70*(I26/I29))+(I71*(I27/I29))+(I72*(I28/I29))),0)","v":0},{"$f":"IF(J99>0,((J64*(J20/J29))+(J65*(J21/J29))+(J66*(J22/J29))+(J67*(J23/J29))+(J68*(J24/J29))+(J69*(J25/J29))+(J70*(J26/J29))+(J71*(J27/J29))+(J72*(J28/J29))),\"NA\")","v":{"$error":"#DIV/0!"}},{"$f":"IF(K7<>0,((K64*(K20/K29))+(K65*(K21/K29))+(K66*(K22/K29))+(K67*(K23/K29))+(K68*(K24/K29))+(K69*(K25/K29))+(K70*(K26/K29))+(K71*(K27/K29))+(K72*(K28/K29))),0)","v":0},{"$f":"IF(L7<>0,((L64*(L20/L29))+(L65*(L21/L29))+(L66*(L22/L29))+(L67*(L23/L29))+(L68*(L24/L29))+(L69*(L25/L29))+(L70*(L26/L29))+(L71*(L27/L29))+(L72*(L28/L29))),0)","v":0},{"$f":"IF(M7<>0,((M64*(M20/M29))+(M65*(M21/M29))+(M66*(M22/M29))+(M67*(M23/M29))+(M68*(M24/M29))+(M69*(M25/M29))+(M70*(M26/M29))+(M71*(M27/M29))+(M72*(M28/M29))),0)","v":0},{"$f":"IF(N99>0,((N64*(N20/N29))+(N65*(N21/N29))+(N66*(N22/N29))+(N67*(N23/N29))+(N68*(N24/N29))+(N69*(N25/N29))+(N70*(N26/N29))+(N71*(N27/N29))+(N72*(N28/N29))),\"NA\")","v":{"$error":"#DIV/0!"}},{"$f":"IF(O7<>0,((O64*(O20/O29))+(O65*(O21/O29))+(O66*(O22/O29))+(O67*(O23/O29))+(O68*(O24/O29))+(O69*(O25/O29))+(O70*(O26/O29))+(O71*(O27/O29))+(O72*(O28/O29))),0)","v":0},{"$f":"IF(P7<>0,((P64*(P20/P29))+(P65*(P21/P29))+(P66*(P22/P29))+(P67*(P23/P29))+(P68*(P24/P29))+(P69*(P25/P29))+(P70*(P26/P29))+(P71*(P27/P29))+(P72*(P28/P29))),0)","v":0},{"$f":"IF(Q7<>0,((Q64*(Q20/Q29))+(Q65*(Q21/Q29))+(Q66*(Q22/Q29))+(Q67*(Q23/Q29))+(Q68*(Q24/Q29))+(Q69*(Q25/Q29))+(Q70*(Q26/Q29))+(Q71*(Q27/Q29))+(Q72*(Q28/Q29))),0)","v":0},{"$f":"IF(R99>0,((R64*(R20/R29))+(R65*(R21/R29))+(R66*(R22/R29))+(R67*(R23/R29))+(R68*(R24/R29))+(R69*(R25/R29))+(R70*(R26/R29))+(R71*(R27/R29))+(R72*(R28/R29))),\"NA\")","v":{"$error":"#DIV/0!"}},{"$f":"IF(S7<>0,((S64*(S20/S29))+(S65*(S21/S29))+(S66*(S22/S29))+(S67*(S23/S29))+(S68*(S24/S29))+(S69*(S25/S29))+(S70*(S26/S29))+(S71*(S27/S29))+(S72*(S28/S29))),0)","v":0},{"$f":"IF(T7<>0,((T64*(T20/T29))+(T65*(T21/T29))+(T66*(T22/T29))+(T67*(T23/T29))+(T68*(T24/T29))+(T69*(T25/T29))+(T70*(T26/T29))+(T71*(T27/T29))+(T72*(T28/T29))),0)","v":0},{"$f":"IF(U7<>0,((U64*(U20/U29))+(U65*(U21/U29))+(U66*(U22/U29))+(U67*(U23/U29))+(U68*(U24/U29))+(U69*(U25/U29))+(U70*(U26/U29))+(U71*(U27/U29))+(U72*(U28/U29))),0)","v":0},{"$f":"IF(V99>0,((V64*(V20/V29))+(V65*(V21/V29))+(V66*(V22/V29))+(V67*(V23/V29))+(V68*(V24/V29))+(V69*(V25/V29))+(V70*(V26/V29))+(V71*(V27/V29))+(V72*(V28/V29))),\"NA\")","v":{"$error":"#DIV/0!"}},{"$f":"IF(W7<>0,((W64*(W20/W29))+(W65*(W21/W29))+(W66*(W22/W29))+(W67*(W23/W29))+(W68*(W24/W29))+(W69*(W25/W29))+(W70*(W26/W29))+(W71*(W27/W29))+(W72*(W28/W29))),0)","v":0},{"$f":"IF(X7<>0,((X64*(X20/X29))+(X65*(X21/X29))+(X66*(X22/X29))+(X67*(X23/X29))+(X68*(X24/X29))+(X69*(X25/X29))+(X70*(X26/X29))+(X71*(X27/X29))+(X72*(X28/X29))),0)","v":0},{"$f":"IF(Y7<>0,((Y64*(Y20/Y29))+(Y65*(Y21/Y29))+(Y66*(Y22/Y29))+(Y67*(Y23/Y29))+(Y68*(Y24/Y29))+(Y69*(Y25/Y29))+(Y70*(Y26/Y29))+(Y71*(Y27/Y29))+(Y72*(Y28/Y29))),0)","v":0}]
[]
["BMP DETAILS","Treated Outflow Volume (%)",{"$f":"IF(C7=0,\"NA\",IF(C7=\"Water Harvesting*\",0,VLOOKUP('BMP Calcs'!C8,Assignments!$V$23:$AA$118,3,FALSE)*C82))","v":"NA"},{"$f":"IF(D7=0,\"NA\",IF(D7=\"Water Harvesting*\",0,VLOOKUP('BMP Calcs'!D8,Assignments!$V$23:$AA$118,3,FALSE)*D82))","v":"NA"},{"$f":"IF(E7=0,\"NA\",IF(E7=\"Water Harvesting*\",0,VLOOKUP('BMP Calcs'!E8,Assignments!$V$23:$AA$118,3,FALSE)*E82))","v":"NA"},{"$f":"IF(F7=0,\"NA\",IF(F7=\"Water Harvesting*\",0,VLOOKUP('BMP Calcs'!F8,Assignments!$V$23:$AA$118,3,FALSE)*F82))","v":"NA"},{"$f":"IF(G7=0,\"NA\",IF(G7=\"Water Harvesting*\",0,VLOOKUP('BMP Calcs'!G8,Assignments!$V$23:$AA$118,3,FALSE)*G82))","v":"NA"},{"$f":"IF(H7=0,\"NA\",IF(H7=\"Water Harvesting*\",0,VLOOKUP('BMP Calcs'!H8,Assignments!$V$23:$AA$118,3,FALSE)*H82))","v":"NA"},{"$f":"IF(I7=0,\"NA\",IF(I7=\"Water Harvesting*\",0,VLOOKUP('BMP Calcs'!I8,Assignments!$V$23:$AA$118,3,FALSE)*I82))","v":"NA"},{"$f":"IF(J7=0,\"NA\",IF(J7=\"Water Harvesting*\",0,VLOOKUP('BMP Calcs'!J8,Assignments!$V$23:$AA$118,3,FALSE)*J82))","v":"NA"},{"$f":"IF(K7=0,\"NA\",IF(K7=\"Water Harvesting*\",0,VLOOKUP('BMP Calcs'!K8,Assignments!$V$23:$AA$118,3,FALSE)*K82))","v":"NA"},{"$f":"IF(L7=0,\"NA\",IF(L7=\"Water Harvesting*\",0,VLOOKUP('BMP Calcs'!L8,Assignments!$V$23:$AA$118,3,FALSE)*L82))","v":"NA"},{"$f":"IF(M7=0,\"NA\",IF(M7=\"Water Harvesting*\",0,VLOOKUP('BMP Calcs'!M8,Assignments!$V$23:$AA$118,3,FALSE)*M82))","v":"NA"},{"$f":"IF(N7=0,\"NA\",IF(N7=\"Water Harvesting*\",0,VLOOKUP('BMP Calcs'!N8,Assignments!$V$23:$AA$118,3,FALSE)*N82))","v":"NA"},{"$f":"IF(O7=0,\"NA\",IF(O7=\"Water Harvesting*\",0,VLOOKUP('BMP Calcs'!O8,Assignments!$V$23:$AA$118,3,FALSE)*O82))","v":"NA"},{"$f":"IF(P7=0,\"NA\",IF(P7=\"Water Harvesting*\",0,VLOOKUP('BMP Calcs'!P8,Assignments!$V$23:$AA$118,3,FALSE)*P82))","v":"NA"},{"$f":"IF(Q7=0,\"NA\",IF(Q7=\"Water Harvesting*\",0,VLOOKUP('BMP Calcs'!Q8,Assignments!$V$23:$AA$118,3,FALSE)*Q82))","v":"NA"},{"$f":"IF(R7=0,\"NA\",IF(R7=\"Water Harvesting*\",0,VLOOKUP('BMP Calcs'!R8,Assignments!$V$23:$AA$118,3,FALSE)*R82))","v":"NA"},{"$f":"IF(S7=0,\"NA\",IF(S7=\"Water Harvesting*\",0,VLOOKUP('BMP Calcs'!S8,Assignments!$V$23:$AA$118,3,FALSE)*S82))","v":"NA"},{"$f":"IF(T7=0,\"NA\",IF(T7=\"Water Harvesting*\",0,VLOOKUP('BMP Calcs'!T8,Assignments!$V$23:$AA$118,3,FALSE)*T82))","v":"NA"},{"$f":"IF(U7=0,\"NA\",IF(U7=\"Water Harvesting*\",0,VLOOKUP('BMP Calcs'!U8,Assignments!$V$23:$AA$118,3,FALSE)*U82))","v":"NA"},{"$f":"IF(V7=0,\"NA\",IF(V7=\"Water Harvesting*\",0,VLOOKUP('BMP Calcs'!V8,Assignments!$V$23:$AA$118,3,FALSE)*V82))","v":"NA"},{"$f":"IF(W7=0,\"NA\",IF(W7=\"Water Harvesting*\",0,VLOOKUP('BMP Calcs'!W8,Assignments!$V$23:$AA$118,3,FALSE)*W82))","v":"NA"},{"$f":"IF(X7=0,\"NA\",IF(X7=\"Water Harvesting*\",0,VLOOKUP('BMP Calcs'!X8,Assignments!$V$23:$AA$118,3,FALSE)*X82))","v":"NA"},{"$f":"IF(Y7=0,\"NA\",IF(Y7=\"Water Harvesting*\",0,VLOOKUP('BMP Calcs'!Y8,Assignments!$V$23:$AA$118,3,FALSE)*Y82))","v":"NA"},null,"Reductions reduced by undersized amount."]
[null,"Treated Outflow Volume (c.f.)",{"$f":"IF(C7=0,\"NA\",C75*C29)","v":"NA"},{"$f":"IF(D7=0,\"NA\",D75*D29)","v":"NA"},{"$f":"IF(E7=0,\"NA\",E75*E29)","v":"NA"},{"$f":"F75*F29","v":{"$error":"#VALUE!"}},{"$f":"IF(G7=0,\"NA\",G75*G29)","v":"NA"},{"$f":"IF(H7=0,\"NA\",H75*H29)","v":"NA"},{"$f":"IF(I7=0,\"NA\",I75*I29)","v":"NA"},{"$f":"J75*J29","v":{"$error":"#VALUE!"}},{"$f":"IF(K7=0,\"NA\",K75*K29)","v":"NA"},{"$f":"IF(L7=0,\"NA\",L75*L29)","v":"NA"},{"$f":"IF(M7=0,\"NA\",M75*M29)","v":"NA"},{"$f":"N75*N29","v":{"$error":"#VALUE!"}},{"$f":"IF(O7=0,\"NA\",O75*O29)","v":"NA"},{"$f":"IF(P7=0,\"NA\",P75*P29)","v":"NA"},{"$f":"IF(Q7=0,\"NA\",Q75*Q29)","v":"NA"},{"$f":"R75*R29","v":{"$error":"#VALUE!"}},{"$f":"IF(S7=0,\"NA\",S75*S29)","v":"NA"},{"$f":"IF(T7=0,\"NA\",T75*T29)","v":"NA"},{"$f":"IF(U7=0,\"NA\",U75*U29)","v":"NA"},{"$f":"V75*V29","v":{"$error":"#VALUE!"}},{"$f":"IF(W7=0,\"NA\",W75*W29)","v":"NA"},{"$f":"IF(X7=0,\"NA\",X75*X29)","v":"NA"},{"$f":"IF(Y7=0,\"NA\",Y75*Y29)","v":"NA"}]
[null,"ET/Exfiltration Loss (%)",{"$f":"IF(C7=0,\"NA\",IF(C7=\"Water Harvesting*\",0,VLOOKUP(C8,Assignments!$V$23:$AA$118,4,FALSE)*C82))","v":"NA"},{"$f":"IF(D7=0,\"NA\",IF(D7=\"Water Harvesting*\",0,VLOOKUP(D8,Assignments!$V$23:$AA$118,4,FALSE)*D82))","v":"NA"},{"$f":"IF(E7=0,\"NA\",IF(E7=\"Water Harvesting*\",0,VLOOKUP(E8,Assignments!$V$23:$AA$118,4,FALSE)*E82))","v":"NA"},{"$f":"IF(F7=0,\"NA\",IF(F7=\"Water Harvesting*\",0,VLOOKUP(F8,Assignments!$V$23:$AA$118,4,FALSE)*F82))","v":"NA"},{"$f":"IF(G7=0,\"NA\",IF(G7=\"Water Harvesting*\",0,VLOOKUP(G8,Assignments!$V$23:$AA$118,4,FALSE)*G82))","v":"NA"},{"$f":"IF(H7=0,\"NA\",IF(H7=\"Water Harvesting*\",0,VLOOKUP(H8,Assignments!$V$23:$AA$118,4,FALSE)*H82))","v":"NA"},{"$f":"IF(I7=0,\"NA\",IF(I7=\"Water Harvesting*\",0,VLOOKUP(I8,Assignments!$V$23:$AA$118,4,FALSE)*I82))","v":"NA"},{"$f":"IF(J7=0,\"NA\",IF(J7=\"Water Harvesting*\",0,VLOOKUP(J8,Assignments!$V$23:$AA$118,4,FALSE)*J82))","v":"NA"},{"$f":"IF(K7=0,\"NA\",IF(K7=\"Water Harvesting*\",0,VLOOKUP(K8,Assignments!$V$23:$AA$118,4,FALSE)*K82))","v":"NA"},{"$f":"IF(L7=0,\"NA\",IF(L7=\"Water Harvesting*\",0,VLOOKUP(L8,Assignments!$V$23:$AA$118,4,FALSE)*L82))","v":"NA"},{"$f":"IF(M7=0,\"NA\",IF(M7=\"Water Harvesting*\",0,VLOOKUP(M8,Assignments!$V$23:$AA$118,4,FALSE)*M82))","v":"NA"},{"$f":"IF(N7=0,\"NA\",IF(N7=\"Water Harvesting*\",0,VLOOKUP(N8,Assignments!$V$23:$AA$118,4,FALSE)*N82))","v":"NA"},{"$f":"IF(O7=0,\"NA\",IF(O7=\"Water Harvesting*\",0,VLOOKUP(O8,Assignments!$V$23:$AA$118,4,FALSE)*O82))","v":"NA"},{"$f":"IF(P7=0,\"NA\",IF(P7=\"Water Harvesting*\",0,VLOOKUP(P8,Assignments!$V$23:$AA$118,4,FALSE)*P82))","v":"NA"},{"$f":"IF(Q7=0,\"NA\",IF(Q7=\"Water Harvesting*\",0,VLOOKUP(Q8,Assignments!$V$23:$AA$118,4,FALSE)*Q82))","v":"NA"},{"$f":"IF(R7=0,\"NA\",IF(R7=\"Water Harvesting*\",0,VLOOKUP(R8,Assignments!$V$23:$AA$118,4,FALSE)*R82))","v":"NA"},{"$f":"IF(S7=0,\"NA\",IF(S7=\"Water Harvesting*\",0,VLOOKUP(S8,Assignments!$V$23:$AA$118,4,FALSE)*S82))","v":"NA"},{"$f":"IF(T7=0,\"NA\",IF(T7=\"Water Harvesting*\",0,VLOOKUP(T8,Assignments!$V$23:$AA$118,4,FALSE)*T82))","v":"NA"},{"$f":"IF(U7=0,\"NA\",IF(U7=\"Water Harvesting*\",0,VLOOKUP(U8,Assignments!$V$23:$AA$118,4,FALSE)*U82))","v":"NA"},{"$f":"IF(V7=0,\"NA\",IF(V7=\"Water Harvesting*\",0,VLOOKUP(V8,Assignments!$V$23:$AA$118,4,FALSE)*V82))","v":"NA"},{"$f":"IF(W7=0,\"NA\",IF(W7=\"Water Harvesting*\",0,VLOOKUP(W8,Assignments!$V$23:$AA$118,4,FALSE)*W82))","v":"NA"},{"$f":"IF(X7=0,\"NA\",IF(X7=\"Water Harvesting*\",0,VLOOKUP(X8,Assignments!$V$23:$AA$118,4,FALSE)*X82))","v":"NA"},{"$f":"IF(Y7=0,\"NA\",IF(Y7=\"Water Harvesting*\",0,VLOOKUP(Y8,Assignments!$V$23:$AA$118,4,FALSE)*Y82))","v":"NA"},{"$f":"IF(Z7=\"Water Harvesting*\",0,VLOOKUP(Z8,Assignments!AS23:AX85,4,FALSE)*Z82)","v":{"$error":"#N/A"}},"Reductions reduced by undersized amount."]
[null,"ET/Exfiltration Loss (c.f.)",{"$f":"IF(C7=0,\"NA\",C77*C29)","v":"NA"},{"$f":"IF(D7=0,\"NA\",D77*D29)","v":"NA"},{"$f":"IF(E7=0,\"NA\",E77*E29)","v":"NA"},"NA","NA","NA","NA","NA","NA","NA","NA","NA","NA","NA","NA","NA","NA","NA","NA","NA","NA","NA","NA"]
[null,"Untreated Bypass Volume (%)",{"$f":"IF(C7=0,\"NA\",IF(C7=\"Water Harvesting*\",(1-'2. BMP Characteristics'!E31),1-(C77+C75)))","v":"NA"},{"$f":"IF(D7=0,\"NA\",IF(D7=\"Water Harvesting*\",(1-'2. BMP Characteristics'!G31),1-(D77+D75)))","v":"NA"},{"$f":"IF(E7=0,\"NA\",IF(E7=\"Water Harvesting*\",(1-'2. BMP Characteristics'!I31),1-(E77+E75)))","v":"NA"},{"$f":"IF(F7=0,\"NA\",1-(F77+F75))","v":"NA"},{"$f":"IF(G7=0,\"NA\",IF(G7=\"Water Harvesting*\",(1-'2. BMP Characteristics'!L31),1-(G77+G75)))","v":"NA"},{"$f":"IF(H7=0,\"NA\",IF(H7=\"Water Harvesting*\",(1-'2. BMP Characteristics'!N31),1-(H77+H75)))","v":"NA"},{"$f":"IF(I7=0,\"NA\",IF(I7=\"Water Harvesting*\",(1-'2. BMP Characteristics'!P31),1-(I77+I75)))","v":"NA"},{"$f":"IF(J7=0,\"NA\",1-(J77+J75))","v":"NA"},{"$f":"IF(K7=0,\"NA\",IF(K7=\"Water Harvesting*\",(1-'2. BMP Characteristics'!S31),1-(K77+K75)))","v":"NA"},{"$f":"IF(L7=0,\"NA\",IF(L7=\"Water Harvesting*\",(1-'2. BMP Characteristics'!U31),1-(L77+L75)))","v":"NA"},{"$f":"IF(M7=0,\"NA\",IF(M7=\"Water Harvesting*\",(1-'2. BMP Characteristics'!W31),1-(M77+M75)))","v":"NA"},{"$f":"IF(N7=0,\"NA\",1-(N77+N75))","v":"NA"},{"$f":"IF(O7=0,\"NA\",IF(O7=\"Water Harvesting*\",(1-'2. BMP Characteristics'!Z31),1-(O77+O75)))","v":"NA"},{"$f":"IF(P7=0,\"NA\",IF(P7=\"Water Harvesting*\",(1-'2. BMP Characteristics'!AB31),1-(P77+P75)))","v":"NA"},{"$f":"IF(Q7=0,\"NA\",IF(Q7=\"Water Harvesting*\",(1-'2. BMP Characteristics'!AD31),1-(Q77+Q75)))","v":"NA"},{"$f":"IF(R7=0,\"NA\",1-(R77+R75))","v":"NA"},{"$f":"IF(S7=0,\"NA\",IF(S7=\"Water Harvesting*\",(1-'2. BMP Characteristics'!AG31),1-(S77+S75)))","v":"NA"},{"$f":"IF(T7=0,\"NA\",IF(T7=\"Water Harvesting*\",(1-'2. BMP Characteristics'!AI31),1-(T77+T75)))","v":"NA"},{"$f":"IF(U7=0,\"NA\",IF(U7=\"Water Harvesting*\",(1-'2. BMP Characteristics'!AK31),1-(U77+U75)))","v":"NA"},{"$f":"IF(V7=0,\"NA\",1-(V77+V75))","v":"NA"},{"$f":"IF(W7=0,\"NA\",IF(W7=\"Water Harvesting*\",(1-'2. BMP Characteristics'!AN31),1-(W77+W75)))","v":"NA"},{"$f":"IF(X7=0,\"NA\",IF(X7=\"Water Harvesting*\",(1-'2. BMP Characteristics'!AP31),1-(X77+X75)))","v":"NA"},{"$f":"IF(Y7=0,\"NA\",IF(Y7=\"Water Harvesting*\",(1-'2. BMP Characteristics'!AR31),1-(Y77+Y75)))","v":"NA"},{"$f":"1-(Z77+Z75)","v":{"$error":"#N/A"}},"100% minus Outflow and ET/Ex amounts. "]
[null,"Untreated Bypass Volume (c.f.)",{"$f":"IF(C7=0,\"NA\",C79*C29)","v":"NA"},{"$f":"IF(D7=0,\"NA\",D79*D29)","v":"NA"},{"$f":"IF(E7=0,\"NA\",E79*E29)","v":"NA"},"NA","NA","NA","NA","NA","NA","NA","NA","NA","NA","NA","NA","NA","NA","NA","NA","NA","NA","NA","NA"]
[]
[null,"Percent of Design Size (%)",{"$f":"IF('2. BMP Characteristics'!E29>0,'2. BMP Characteristics'!E29,1)","v":1},{"$f":"IF('2. BMP Characteristics'!G29>0,'2. BMP Characteristics'!G29,1)","v":1},{"$f":"IF('2. BMP Characteristics'!I29>0,'2. BMP Characteristics'!I29,1)","v":1},null,{"$f":"IF('2. BMP Characteristics'!L29>0,'2. BMP Characteristics'!L29,1)","v":1},{"$f":"IF('2. BMP Characteristics'!N29>0,'2. BMP Characteristics'!N29,1)","v":1},{"$f":"IF('2. BMP Characteristics'!P29>0,'2. BMP Characteristics'!P29,1)","v":1},null,{"$f":"IF('2. BMP Characteristics'!S29>0,'2. BMP Characteristics'!S29,1)","v":1},{"$f":"IF('2. BMP Characteristics'!U29>0,'2. BMP Characteristics'!U29,1)","v":1},{"$f":"IF('2. BMP Characteristics'!W29>0,'2. BMP Characteristics'!W29,1)","v":1},null,{"$f":"IF('2. BMP Characteristics'!Z29>0,'2. BMP Characteristics'!Z29,1)","v":1},{"$f":"IF('2. BMP Characteristics'!AB29>0,'2. BMP Characteristics'!AB29,1)","v":1},{"$f":"IF('2. BMP Characteristics'!AD29>0,'2. BMP Characteristics'!AD29,1)","v":1},null,{"$f":"IF('2. BMP Characteristics'!AG29>0,'2. BMP Characteristics'!AG29,1)","v":1},{"$f":"IF('2. BMP Characteristics'!AI29>0,'2. BMP Characteristics'!AI29,1)","v":1},{"$f":"IF('2. BMP Characteristics'!AK29>0,'2. BMP Characteristics'!AK29,1)","v":1},null,{"$f":"IF('2. BMP Characteristics'!AN29>0,'2. BMP Characteristics'!AN29,1)","v":1},{"$f":"IF('2. BMP Characteristics'!AP29>0,'2. BMP Characteristics'!AP29,1)","v":1},{"$f":"IF('2. BMP Characteristics'!AR29>0,'2. BMP Characteristics'!AR29,1)","v":1}]
[]
[null,"BMP Runoff Volume Reduction (dec)",{"$f":"IF(C7=0,\"NA\",C77)","v":"NA"},{"$f":"IF(D7=0,\"NA\",D77)","v":"NA"},"NA","NA","NA","NA","NA","NA","NA","NA","NA","NA","NA","NA","NA","NA","NA","NA","NA","NA","NA","NA","NA",{"$f":"Z77+Z75","v":{"$error":"#N/A"}}]
[null,"BMP TN Outflow EMC (mg/L)",{"$f":"IF(C7=0,\"NA\",VLOOKUP(C7,Assignments!$B$69:$D$85,2,FALSE))","v":"NA"},{"$f":"IF(D7=0,\"NA\",VLOOKUP(D7,Assignments!$B$69:$D$85,2,FALSE))","v":"NA"},{"$f":"IF(E7=0,\"NA\",VLOOKUP(E7,Assignments!$B$69:$D$85,2,FALSE))","v":"NA"},{"$f":"IF(F7=0,\"NA\",VLOOKUP(F7,Assignments!$B$56:$H$66,5,FALSE))","v":"NA"},{"$f":"IF(G7=0,\"NA\",VLOOKUP(G7,Assignments!$B$69:$D$85,2,FALSE))","v":"NA"},{"$f":"IF(H7=0,\"NA\",VLOOKUP(H7,Assignments!$B$69:$D$85,2,FALSE))","v":"NA"},{"$f":"IF(I7=0,\"NA\",VLOOKUP(I7,Assignments!$B$69:$D$85,2,FALSE))","v":"NA"},{"$f":"IF(J7=0,\"NA\",VLOOKUP(J7,Assignments!$B$56:$H$66,2,FALSE))","v":"NA"},{"$f":"IF(K7=0,\"NA\",VLOOKUP(K7,Assignments!$B$69:$D$85,2,FALSE))","v":"NA"},{"$f":"IF(L7=0,\"NA\",VLOOKUP(L7,Assignments!$B$69:$D$85,2,FALSE))","v":"NA"},{"$f":"IF(M7=0,\"NA\",VLOOKUP(M7,Assignments!$B$69:$D$85,2,FALSE))","v":"NA"},{"$f":"IF(N7=0,\"NA\",VLOOKUP(N7,Assignments!$B$56:$H$66,5,FALSE))","v":"NA"},{"$f":"IF(O7=0,\"NA\",VLOOKUP(O7,Assignments!$B$69:$D$85,2,FALSE))","v":"NA"},{"$f":"IF(P7=0,\"NA\",VLOOKUP(P7,Assignments!$B$69:$D$85,2,FALSE))","v":"NA"},{"$f":"IF(Q7=0,\"NA\",VLOOKUP(Q7,Assignments!$B$69:$D$85,2,FALSE))","v":"NA"},{"$f":"IF(R7=0,\"NA\",VLOOKUP(R7,Assignments!$B$56:$H$66,5,FALSE))","v":"NA"},{"$f":"IF(S7=0,\"NA\",VLOOKUP(S7,Assignments!$B$69:$D$85,2,FALSE))","v":"NA"},{"$f":"IF(T7=0,\"NA\",VLOOKUP(T7,Assignments!$B$69:$D$85,2,FALSE))","v":"NA"},{"$f":"IF(U7=0,\"NA\",VLOOKUP(U7,Assignments!$B$69:$D$85,2,FALSE))","v":"NA"},{"$f":"IF(V7=0,\"NA\",VLOOKUP(V7,Assignments!$B$56:$H$66,5,FALSE))","v":"NA"},{"$f":"IF(W7=0,\"NA\",VLOOKUP(W7,Assignments!$B$69:$D$85,2,FALSE))","v":"NA"},{"$f":"IF(X7=0,\"NA\",VLOOKUP(X7,Assignments!$B$69:$D$85,2,FALSE))","v":"NA"},{"$f":"IF(Y7=0,\"NA\",VLOOKUP(Y7,Assignments!$B$69:$D$85,2,FALSE))","v":"NA"}]
[null,"BMP TP Outflow EMC (mg/L)",{"$f":"IF(C7=0,\"NA\",IF(AND(C137<>0,C7=\"Permeable Pavement\"),0.16,VLOOKUP(C7,Assignments!$B$69:$D$85,3,FALSE)))","v":"NA"},{"$f":"IF(D7=0,\"NA\",IF(AND(D137<>0,D7=\"Permeable Pavement\"),0.16,VLOOKUP(D7,Assignments!$B$69:$D$85,3,FALSE)))","v":"NA"},{"$f":"IF(E7=0,\"NA\",IF(AND(E137<>0,E7=\"Permeable Pavement\"),0.16,VLOOKUP(E7,Assignments!$B$69:$D$85,3,FALSE)))","v":"NA"},{"$f":"IF(F7=0,\"NA\",VLOOKUP(F7,Assignments!$B$56:$H$66,7,FALSE))","v":"NA"},{"$f":"IF(G7=0,\"NA\",IF(AND(G137<>0,G7=\"Permeable Pavement\"),0.16,VLOOKUP(G7,Assignments!$B$69:$D$85,3,FALSE)))","v":"NA"},{"$f":"IF(H7=0,\"NA\",IF(AND(H137<>0,H7=\"Permeable Pavement\"),0.16,VLOOKUP(H7,Assignments!$B$69:$D$85,3,FALSE)))","v":"NA"},{"$f":"IF(I7=0,\"NA\",IF(AND(I137<>0,I7=\"Permeable Pavement\"),0.16,VLOOKUP(I7,Assignments!$B$69:$D$85,3,FALSE)))","v":"NA"},{"$f":"IF(J7=0,\"NA\",VLOOKUP(J7,Assignments!$B$56:$H$66,7,FALSE))","v":"NA"},{"$f":"IF(K7=0,\"NA\",IF(AND(K137<>0,K7=\"Permeable Pavement\"),0.16,VLOOKUP(K7,Assignments!$B$69:$D$85,3,FALSE)))","v":"NA"},{"$f":"IF(L7=0,\"NA\",IF(AND(L137<>0,L7=\"Permeable Pavement\"),0.16,VLOOKUP(L7,Assignments!$B$69:$D$85,3,FALSE)))","v":"NA"},{"$f":"IF(M7=0,\"NA\",IF(AND(M137<>0,M7=\"Permeable Pavement\"),0.16,VLOOKUP(M7,Assignments!$B$69:$D$85,3,FALSE)))","v":"NA"},{"$f":"IF(N7=0,\"NA\",VLOOKUP(N7,Assignments!$B$56:$H$66,7,FALSE))","v":"NA"},{"$f":"IF(O7=0,\"NA\",IF(AND(O137<>0,O7=\"Permeable Pavement\"),0.16,VLOOKUP(O7,Assignments!$B$69:$D$85,3,FALSE)))","v":"NA"},{"$f":"IF(P7=0,\"NA\",IF(AND(P137<>0,P7=\"Permeable Pavement\"),0.16,VLOOKUP(P7,Assignments!$B$69:$D$85,3,FALSE)))","v":"NA"},{"$f":"IF(Q7=0,\"NA\",IF(AND(Q137<>0,Q7=\"Permeable Pavement\"),0.16,VLOOKUP(Q7,Assignments!$B$69:$D$85,3,FALSE)))","v":"NA"},{"$f":"IF(R7=0,\"NA\",VLOOKUP(R7,Assignments!$B$56:$H$66,7,FALSE))","v":"NA"},{"$f":"IF(S7=0,\"NA\",IF(AND(S137<>0,S7=\"Permeable Pavement\"),0.16,VLOOKUP(S7,Assignments!$B$69:$D$85,3,FALSE)))","v":"NA"},{"$f":"IF(T7=0,\"NA\",IF(AND(T137<>0,T7=\"Permeable Pavement\"),0.16,VLOOKUP(T7,Assignments!$B$69:$D$85,3,FALSE)))","v":"NA"},{"$f":"IF(U7=0,\"NA\",IF(AND(U137<>0,U7=\"Permeable Pavement\"),0.16,VLOOKUP(U7,Assignments!$B$69:$D$85,3,FALSE)))","v":"NA"},{"$f":"IF(V7=0,\"NA\",VLOOKUP(V7,Assignments!$B$56:$H$66,7,FALSE))","v":"NA"},{"$f":"IF(W7=0,\"NA\",IF(AND(W137<>0,W7=\"Permeable Pavement\"),0.16,VLOOKUP(W7,Assignments!$B$69:$D$85,3,FALSE)))","v":"NA"},{"$f":"IF(X7=0,\"NA\",IF(AND(X137<>0,X7=\"Permeable Pavement\"),0.16,VLOOKUP(X7,Assignments!$B$69:$D$85,3,FALSE)))","v":"NA"},{"$f":"IF(Y7=0,\"NA\",IF(AND(Y137<>0,Y7=\"Permeable Pavement\"),0.16,VLOOKUP(Y7,Assignments!$B$69:$D$85,3,FALSE)))","v":"NA"},null,"for commercial permeable pavement, automatically adjusts EMC"]
[]
["LEAVING THE BMP","Outflow Volume (c.f.)",{"$f":"C76","v":"NA"},"NA","NA",{"$error":"#VALUE!"},"NA","NA","NA",{"$error":"#VALUE!"},"NA","NA","NA",{"$error":"#VALUE!"},"NA","NA","NA",{"$error":"#VALUE!"},"NA","NA","NA",{"$error":"#VALUE!"},"NA","NA","NA"]
[null,"Untreated Overflow Volume (c.f.)",{"$f":"C80","v":"NA"},"NA","NA","NA","NA","NA","NA","NA","NA","NA","NA","NA","NA","NA","NA","NA","NA","NA","NA","NA","NA","NA","NA"]
[]
[null,"Outflow TN EMC - EMC metric - (mg/L)",{"$f":"C85","v":"NA"},"NA","NA","NA","NA","NA","NA","NA","NA","NA","NA","NA","NA","NA","NA","NA","NA","NA","NA","NA","NA","NA","NA"]
[null,"Outflow TN Loading - EMC metric - (lbs)",{"$f":"IF(C7=0,\"NA\",C91*C88*0.000062297)","v":"NA"},"NA","NA","NA","NA","NA","NA","NA","NA","NA","NA","NA","NA","NA","NA","NA","NA","NA","NA","NA","NA","NA","NA",null,"conversion factor from mg/L* c.f. to lbs = 0.000062297"]
[null,"Outflow TP EMC - EMC metric - (mg/L)",{"$f":"C86","v":"NA"},"NA","NA","NA","NA","NA","NA","NA","NA","NA","NA","NA","NA","NA","NA","NA","NA","NA","NA","NA","NA","NA","NA"]
[null,"Outflow TP Loading - EMC metric - (lbs)",{"$f":"IF(C7=0,\"NA\",C93*C88*0.000062297)","v":"NA"},"NA","NA","NA","NA","NA","NA","NA","NA","NA","NA","NA","NA","NA","NA","NA","NA","NA","NA","NA","NA","NA","NA",null,"conversion factor from mg/L* c.f. to lbs = 0.000062297"]
[]
[null,"Overflow TN Loading (lbs)",{"$f":"IF(C7=0,\"NA\",C89*C62*0.000062297)","v":"NA"},{"$f":"IF(D7=0,\"NA\",D89*D62*0.000062297)","v":"NA"},{"$f":"IF(E7=0,\"NA\",E89*E62*0.000062297)","v":"NA"},{"$f":"IF(F7=0,\"NA\",F89*F62)","v":"NA"},{"$f":"IF(G7=0,\"NA\",G89*G62*0.000062297)","v":"NA"},{"$f":"IF(H7=0,\"NA\",H89*H62*0.000062297)","v":"NA"},{"$f":"IF(I7=0,\"NA\",I89*I62*0.000062297)","v":"NA"},{"$f":"IF(J7=0,\"NA\",J89*J62)","v":"NA"},{"$f":"IF(K7=0,\"NA\",K89*K62*0.000062297)","v":"NA"},{"$f":"IF(L7=0,\"NA\",L89*L62*0.000062297)","v":"NA"},{"$f":"IF(M7=0,\"NA\",M89*M62*0.000062297)","v":"NA"},{"$f":"IF(N7=0,\"NA\",N89*N62)","v":"NA"},{"$f":"IF(O7=0,\"NA\",O89*O62*0.000062297)","v":"NA"},{"$f":"IF(P7=0,\"NA\",P89*P62*0.000062297)","v":"NA"},{"$f":"IF(Q7=0,\"NA\",Q89*Q62*0.000062297)","v":"NA"},{"$f":"IF(R7=0,\"NA\",R89*R62)","v":"NA"},{"$f":"IF(S7=0,\"NA\",S89*S62*0.000062297)","v":"NA"},{"$f":"IF(T7=0,\"NA\",T89*T62*0.000062297)","v":"NA"},{"$f":"IF(U7=0,\"NA\",U89*U62*0.000062297)","v":"NA"},{"$f":"IF(V7=0,\"NA\",V89*V62)","v":"NA"},{"$f":"IF(W7=0,\"NA\",W89*W62*0.000062297)","v":"NA"},{"$f":"IF(X7=0,\"NA\",X89*X62*0.000062297)","v":"NA"},{"$f":"IF(Y7=0,\"NA\",Y89*Y62*0.000062297)","v":"NA"},null,"conversion factor from mg/L* c.f. to lbs = 0.000062297"]
[null,"Overflow TP Loading (lbs)",{"$f":"IF(C7=0,\"NA\",C89*C73*0.000062297)","v":"NA"},{"$f":"IF(D7=0,\"NA\",D89*D73*0.000062297)","v":"NA"},{"$f":"IF(E7=0,\"NA\",E89*E73*0.000062297)","v":"NA"},{"$f":"IF(F7=0,\"NA\",F89*F73)","v":"NA"},{"$f":"IF(G7=0,\"NA\",G89*G73*0.000062297)","v":"NA"},{"$f":"IF(H7=0,\"NA\",H89*H73*0.000062297)","v":"NA"},{"$f":"IF(I7=0,\"NA\",I89*I73*0.000062297)","v":"NA"},{"$f":"IF(J7=0,\"NA\",J89*J73)","v":"NA"},{"$f":"IF(K7=0,\"NA\",K89*K73*0.000062297)","v":"NA"},{"$f":"IF(L7=0,\"NA\",L89*L73*0.000062297)","v":"NA"},{"$f":"IF(M7=0,\"NA\",M89*M73*0.000062297)","v":"NA"},{"$f":"IF(N7=0,\"NA\",N89*N73)","v":"NA"},{"$f":"IF(O7=0,\"NA\",O89*O73*0.000062297)","v":"NA"},{"$f":"IF(P7=0,\"NA\",P89*P73*0.000062297)","v":"NA"},{"$f":"IF(Q7=0,\"NA\",Q89*Q73*0.000062297)","v":"NA"},{"$f":"IF(R7=0,\"NA\",R89*R73)","v":"NA"},{"$f":"IF(S7=0,\"NA\",S89*S73*0.000062297)","v":"NA"},{"$f":"IF(T7=0,\"NA\",T89*T73*0.000062297)","v":"NA"},{"$f":"IF(U7=0,\"NA\",U89*U73*0.000062297)","v":"NA"},{"$f":"IF(V7=0,\"NA\",V89*V73)","v":"NA"},{"$f":"IF(W7=0,\"NA\",W89*W73*0.000062297)","v":"NA"},{"$f":"IF(X7=0,\"NA\",X89*X73*0.000062297)","v":"NA"},{"$f":"IF(Y7=0,\"NA\",Y89*Y73*0.000062297)","v":"NA"},null,"conversion factor from mg/L* c.f. to lbs = 0.000062297"]
[]
[null,"Total Volume (c.f.)",{"$f":"IF(C7=0,\"NA\",C88+C89)","v":"NA"},"NA","NA","NA","NA","NA","NA","NA","NA","NA","NA","NA","NA","NA","NA","NA","NA","NA","NA","NA","NA","NA","NA"]
[null,"Total TN Loading - EMC metric - (lbs)",{"$f":"IF(C7<>0,C92+C96,\"NA\")","v":"NA"},"NA","NA","NA","NA","NA","NA","NA","NA","NA","NA","NA","NA","NA","NA","NA","NA","NA","NA","NA","NA","NA","NA"]
[null,"Total TP Loading -EMC metric - (lbs)",{"$f":"IF(C7<>0,C94+C97,\"NA\")","v":"NA"},"NA","NA","NA","NA","NA","NA","NA","NA","NA","NA","NA","NA","NA","NA","NA","NA","NA","NA","NA","NA","NA","NA"]
[null,"Composite TN EMC (mg/L)",{"$f":"IF(C7<>0,(C91*(C88/C99))+(C62*(C89/C99)),\"NA\")","v":"NA"},"NA","NA","NA","NA","NA","NA","NA","NA","NA","NA","NA","NA","NA","NA","NA","NA","NA","NA","NA","NA","NA","NA"]
[null,"Composite TP EMC (mg/L)",{"$f":"IF(C7<>0,(C93*(C88/C99))+(C73*(C89/C99)),\"NA\")","v":"NA"},"NA","NA","NA","NA","NA","NA","NA","NA","NA","NA","NA","NA","NA","NA","NA","NA","NA","NA","NA","NA","NA","NA"]
[]
["TOTAL REDUCTIONS","Total Volume Reduction (c.f.)",{"$f":"IF(C7<>0,C29-C99,\"NA\")","v":"NA"},{"$f":"IF(D7<>0,D29-D99,\"NA\")","v":"NA"},{"$f":"IF(E7<>0,E29-E99,\"NA\")","v":"NA"},{"$f":"IF(F29>0,F29-F99,\"NA\")","v":"NA"},{"$f":"IF(G7<>0,G29-G99,\"NA\")","v":"NA"},"NA","NA","NA","NA","NA","NA",{"$f":"IF(N29>0,N29-N99,\"NA\")","v":"NA"},{"$f":"IF(O7<>0,O29-O99,\"NA\")","v":"NA"},{"$f":"IF(P7<>0,P29-P99,\"NA\")","v":"NA"},{"$f":"IF(Q7<>0,Q29-Q99,\"NA\")","v":"NA"},{"$f":"IF(R29>0,R29-R99,\"NA\")","v":"NA"},{"$f":"IF(S7<>0,S29-S99,\"NA\")","v":"NA"},"NA","NA","NA","NA","NA","NA",null,"Does 'reduction' include outflow? Currently: yes."]
[null,"Total TN Reduction (EMC metric) (lbs)",{"$f":"IF(C7<>0,C40-C100,\"NA\")","v":"NA"},"NA","NA","NA","NA","NA","NA",{"$f":"IF(J29>0,J40-J100,\"NA\")","v":"NA"},{"$f":"IF(K7<>0,K40-K100,\"NA\")","v":"NA"},"NA","NA","NA","NA","NA","NA",{"$f":"IF(R29>0,R40-R100,\"NA\")","v":"NA"},{"$f":"IF(S7<>0,S40-S100,\"NA\")","v":"NA"},{"$f":"IF(T7<>0,T40-T100,\"NA\")","v":"NA"},{"$f":"IF(U7<>0,U40-U100,\"NA\")","v":"NA"},{"$f":"IF(V29>0,V40-V100,\"NA\")","v":"NA"},{"$f":"IF(W7<>0,W40-W100,\"NA\")","v":"NA"},{"$f":"IF(X7<>0,X40-X100,\"NA\")","v":"NA"},{"$f":"IF(Y7<>0,Y40-Y100,\"NA\")","v":"NA"}]
[null,"Total TP Reduction (EMC metric) (lbs)",{"$f":"IF(C7<>0,C51-C101,\"NA\")","v":"NA"},"NA","NA","NA","NA","NA","NA",{"$f":"IF(J29>0,J51-J101,\"NA\")","v":"NA"},{"$f":"IF(K7<>0,K51-K101,\"NA\")","v":"NA"},"NA","NA","NA","NA","NA","NA",{"$f":"IF(R29>0,R51-R101,\"NA\")","v":"NA"},{"$f":"IF(S7<>0,S51-S101,\"NA\")","v":"NA"},"NA","NA","NA","NA","NA","NA"]
[]
["LEAVING THE CTCHMT","Runoff Volume (c.f.)",{"$f":"IF(E7<>0,E99,IF(D7<>0,D99,IF(C7<>0,C99,0)))","v":0},null,null,null,{"$f":"IF(I7<>0,I99,IF(H7<>0,H99,IF(G7<>0,G99,0)))","v":0},null,null,null,{"$f":"IF(M7<>0,M99,IF(L7<>0,L99,IF(K7<>0,K99,0)))","v":0},null,null,null,{"$f":"IF(Q7<>0,Q99,IF(P7<>0,P99,IF(O7<>0,O99,0)))","v":0},null,null,null,{"$f":"IF(U7<>0,U99,IF(T7<>0,T99,IF(S7<>0,S99,0)))","v":0},null,null,null,{"$f":"IF(Y7<>0,Y99,IF(X7<>0,X99,IF(W7<>0,W99,0)))","v":0}]
[null,"Inflow TN Loading (lbs)",{"$f":"IF(C7=0,0,SUM(C40,D40,E40))","v":0},null,null,null,{"$f":"IF(G7=0,0,SUM(G40,H40,I40))","v":0},null,null,null,{"$f":"IF(K7=0,0,SUM(K40,L40,M40))","v":0},null,null,null,{"$f":"IF(O7=0,0,SUM(O40,P40,Q40))","v":0},null,null,null,{"$f":"IF(S7=0,0,SUM(S40,T40,U40))","v":0},null,null,null,{"$f":"IF(W7=0,0,SUM(W40,X40,Y40))","v":0}]
[null,"Inflow TN Loading (lbs/ac)",null,{"$f":"IF(C7<>0,C110/SUM(C18:E18),0)","v":0},null,{"$f":"E110/SUM(E18:G18)","v":{"$error":"#DIV/0!"}},null,{"$f":"IF(G7<>0,G110/SUM(G18:I18),0)","v":0},null,{"$f":"I110/SUM(I18:K18)","v":{"$error":"#DIV/0!"}},null,{"$f":"IF(K7<>0,K110/SUM(K18:M18),0)","v":0},null,{"$f":"M110/SUM(M18:O18)","v":{"$error":"#DIV/0!"}},null,{"$f":"IF(O7<>0,O110/SUM(O18:Q18),0)","v":0},null,{"$f":"Q110/SUM(Q18:S18)","v":{"$error":"#DIV/0!"}},null,{"$f":"IF(S7<>0,S110/SUM(S18:U18),0)","v":0},null,{"$f":"U110/SUM(U18:W18)","v":{"$error":"#DIV/0!"}},null,{"$f":"IF(W7<>0,W110/SUM(W18:Y18),0)","v":0},null,{"$f":"Y110/SUM(Y18:AA18)","v":{"$error":"#DIV/0!"}}]
[null,"Inflow TP Loading (lbs)",{"$f":"IF(C7=0,0,SUM(C51,D51,E51))","v":0},null,null,null,{"$f":"IF(G7=0,0,SUM(G51,H51,I51))","v":0},null,null,null,{"$f":"IF(K7=0,0,SUM(K51,L51,M51))","v":0},null,null,null,{"$f":"IF(O7=0,0,SUM(O51,P51,Q51))","v":0},null,null,null,{"$f":"IF(S7=0,0,SUM(S51,T51,U51))","v":0},null,null,null,{"$f":"IF(W7=0,0,SUM(W51,X51,Y51))","v":0},null,null,null,null,null,null,null,"Area\n(acres)","RO Vol\n(c.f.)","TN Load\n(lbs)","TN EMC\n(mg/L)","TP Load\n(lbs)","TP EMC\n(mg/L)","% Imperv"]
[null,"Inflow TP Loading (lbs/ac)",null,{"$f":"IF(C7<>0,C112/SUM(C18:E18),0)","v":0},null,{"$f":"IF(E7<>0,E112/SUM(E18:G18),0)","v":0},null,{"$f":"IF(G7<>0,G112/SUM(G18:I18),0)","v":0},null,{"$f":"IF(I7<>0,I112/SUM(I18:K18),0)","v":0},null,{"$f":"IF(K7<>0,K112/SUM(K18:M18),0)","v":0},null,{"$f":"IF(M7<>0,M112/SUM(M18:O18),0)","v":0},null,{"$f":"IF(O7<>0,O112/SUM(O18:Q18),0)","v":0},null,{"$f":"IF(Q7<>0,Q112/SUM(Q18:S18),0)","v":0},null,{"$f":"IF(S7<>0,S112/SUM(S18:U18),0)","v":0},null,{"$f":"IF(U7<>0,U112/SUM(U18:W18),0)","v":0},null,{"$f":"IF(W7<>0,W112/SUM(W18:Y18),0)","v":0}]
[null,"Outflow TN EMC (mg/L)",{"$f":"IF(E7<>0,E102,IF(D7<>0,D102,IF(C7<>0,C102,0)))","v":0},null,null,null,{"$f":"IF(I7<>0,I102,IF(H7<>0,H102,IF(G7<>0,G102,0)))","v":0},null,null,null,{"$f":"IF(M7<>0,M102,IF(L7<>0,L102,IF(K7<>0,K102,0)))","v":0},null,null,null,{"$f":"IF(Q7<>0,Q102,IF(P7<>0,P102,IF(O7<>0,O102,0)))","v":0},null,null,null,{"$f":"IF(U7<>0,U102,IF(T7<>0,T102,IF(S7<>0,S102,0)))","v":0},null,null,null,{"$f":"IF(Y7<>0,Y102,IF(X7<>0,X102,IF(W7<>0,W102,0)))","v":0},null,null,null,null,null,"Post Dev.",null,{"$f":"SUM(AB136:AB197)","v":0},{"$f":"'WS Calcs'!AK55","v":{"$error":"#N/A"}},{"$f":"'WS Calcs'!V8","v":{"$error":"#N/A"}},{"$f":"'WS Calcs'!AF8","v":{"$error":"#N/A"}},{"$f":"'WS Calcs'!X8","v":{"$error":"#N/A"}},{"$f":"'WS Calcs'!AG8","v":{"$error":"#N/A"}},{"$f":"'WS Calcs'!AN55","v":0}]
[null,"Outflow TP EMC (mg/L)",{"$f":"IF(E7<>0,E103,IF(D7<>0,D103,IF(C7<>0,C103,0)))","v":0},null,null,null,{"$f":"IF(I7<>0,I103,IF(H7<>0,H103,IF(G7<>0,G103,0)))","v":0},null,null,null,{"$f":"IF(M7<>0,M103,IF(L7<>0,L103,IF(K7<>0,K103,0)))","v":0},null,null,null,{"$f":"IF(Q7<>0,Q103,IF(P7<>0,P103,IF(O7<>0,O103,0)))","v":0},null,null,null,{"$f":"IF(U7<>0,U103,IF(T7<>0,T103,IF(S7<>0,S103,0)))","v":0},null,null,null,{"$f":"IF(Y7<>0,Y103,IF(X7<>0,X103,IF(W7<>0,W103,0)))","v":0},null,null,null,null,null,"Untreated",null,{"$f":"AD198","v":0},{"$f":"IF(AE115=0,0,AD456)","v":0},{"$f":"IF(AE115=0,0,AD522)","v":0},{"$f":"IF(AE115=0,0,AD586)","v":0},{"$f":"IF(AE115=0,0,AD651)","v":0},{"$f":"IF(AE115=0,0,AD716)","v":0},{"$f":"IF(AE115=0,0,((AD202*AE266)+(AD203*AE267)+(AD204*AE268)+(AD205*AE269)+(AD206*AE270)+(AD207*AE271)+(AD208*AE272)+(AD209*AE273)+(AD210*AE274)+(AD211*AE275)+(AD212*AE276)+(AD213*AE277)+(AD214*AE278)+(AD215*AE279)+(AD216*AE280)+(AD217*AE281)+(AD218*AE282)+(AD219*AE283)+(AD220*AE284)+(AD221*AE285)+(AD222*AE286)+(AD223*AE287)+(AD224*AE288)+(AD225*AE289)+(AD226*AE290)+(AD227*AE291)+(AD228*AE292)+(AD229*AE293)+(AD230*AE294)+(AD231*AE295)+(AD232*AE296)+(AD233*AE297)+(AD234*AE298)+(AD235*AE299)+(AD236*AE300)+(AD237*AE301)+(AD238*AE302)+(AD239*AE303)+(AD240*AE304)+(AD241*AE305)+(AD242*AE306)+(AD243*AE307)+(AD244*AE308)+(AD245*AE309)+(AD246*AE310)+(AD247*AE311)+(AD248*AE312)+(AD249*AE313)+(AD250*AE314)+(AD251*AE315)+(AD252*AE316)+(AD253*AE317)+(AD254*AE318)+(AD255*AE319)+(AD256*AE320)+(AD257*AE321)+(AD258*AE322)+(AD259*AE323)+(AD260*AE324)+(AD261*AE325)+(AD262*AE326)))","v":0}]
[null,"Outflow TN Loading -- EMC metric (lbs)",{"$f":"IF(E7<>0,E100,IF(D7<>0,D100,IF(C7<>0,C100,0)))","v":0},null,null,null,{"$f":"IF(I7<>0,I100,IF(H7<>0,H100,IF(G7<>0,G100,0)))","v":0},null,null,null,{"$f":"IF(M7<>0,M100,IF(L7<>0,L100,IF(K7<>0,K100,0)))","v":0},null,null,null,{"$f":"IF(Q7<>0,Q100,IF(P7<>0,P100,IF(O7<>0,O100,0)))","v":0},null,null,null,{"$f":"IF(U7<>0,U100,IF(T7<>0,T100,IF(S7<>0,S100,0)))","v":0},null,null,null,{"$f":"IF(Y7<>0,Y100,IF(X7<>0,X100,IF(W7<>0,W100,0)))","v":0},null,null,null,null,null,"Leaving BMPs",null,{"$f":"SUM('2. BMP Characteristics'!E108,'2. BMP Characteristics'!L108,'2. BMP Characteristics'!S108,'2. BMP Characteristics'!Z108,'2. BMP Characteristics'!AG108,'2. BMP Characteristics'!AN108)/43560","v":0},{"$f":"SUM(D124,H124,L124,P124,T124,X124)","v":0},{"$f":"SUM(D127,H127,L127,P127,T127,X127)","v":0},{"$f":"C131","v":0},{"$f":"SUM(D129,H129,L129,P129,T129,X129)","v":0},{"$f":"C132","v":0},{"$f":"(AC201*AC265)+(AC202*AC266)+(AC203*AC267)+(AC204*AC268)+(AC205*AC269)+(AC206*AC270)+(AC207*AC271)+(AC208*AC272)+(AC209*AC273)+(AC210*AC274)+(AC211*AC275)+(AC212*AC276)+(AC213*AC277)+(AC214*AC278)+(AC215*AC279)+(AC216*AC280)+(AC217*AC281)+(AC218*AC282)+(AC219*AC283)+(AC220*AC284)+(AC221*AC285)+(AC222*AC286)+(AC223*AC287)+(AC224*AC288)+(AC225*AC289)+(AC226*AC290)+(AC227*AC291)+(AC228*AC292)+(AC229*AC293)+(AC230*AC294)+(AC231*AC295)+(AC232*AC296)+(AC233*AC297)+(AC234*AC298)+(AC235*AC299)+(AC236*AC300)+(AC237*AC301)+(AC238*AC302)+(AC239*AC303)+(AC240*AC304)+(AC241*AC305)+(AC242*AC306)+(AC243*AC307)+(AC244*AC308)+(AC245*AC309)+(AC246*AC310)+(AC247*AC311)+(AC248*AC312)+(AC249*AC313)+(AC250*AC314)+(AC251*AC315)+(AC252*AC316)+(AC253*AC317)+(AC254*AC318)+(AC255*AC319)+(AC256*AC320)+(AC257*AC321)+(AC258*AC322)+(AC259*AC323)+(AC260*AC324)+(AC261*AC325)+(AC262*AC326)","v":{"$error":"#DIV/0!"}}]
[null,"Outflow TN Loading -- EMC metric (lbs/ac)",null,{"$f":"IF(E7<>0,E100/E18,IF(D7<>0,D100/D18,IF(C7<>0,C100/C18,0)))","v":0},null,null,null,{"$f":"IF(I7<>0,I100/I18,IF(H7<>0,H100/H18,IF(G7<>0,G100/G18,0)))","v":0},null,null,null,{"$f":"IF(M7<>0,M100/M18,IF(L7<>0,L100/L18,IF(K7<>0,K100/K18,0)))","v":0},null,null,null,{"$f":"IF(Q7<>0,Q100/Q18,IF(P7<>0,P100/P18,IF(O7<>0,O100/O18,0)))","v":0},null,null,null,{"$f":"IF(U7<>0,U100/U18,IF(T7<>0,T100/T18,IF(S7<>0,S100/S18,0)))","v":0},null,null,null,{"$f":"IF(Y7<>0,Y100/Y18,IF(X7<>0,X100/X18,IF(W7<>0,W100/W18,0)))","v":0},null,null,null,null,"Post Dev w. BMPs",null,{"$f":"AE114","v":0},{"$f":"IF(AE116=0,AF114,AF115+AF116)","v":{"$error":"#N/A"}},{"$f":"IF(AG116=0,AG114,AG115+AG116)","v":{"$error":"#N/A"}},{"$f":"IF(AE116=0,AH114,(((AF115/AF117)*AH115)+((AF116/AF117)*AH116)))","v":{"$error":"#N/A"}},{"$f":"IF(AE116=0,AI114,AI115+AI116)","v":{"$error":"#N/A"}},{"$f":"IF(AE116=0,AJ114,(((AF115/AF117)*AJ115)+((AF116/AF117)*AJ116)))","v":{"$error":"#N/A"}},{"$f":"IF(AE116=0,AK114,((AE115/AE117)*AK115)+((AE116/AE117)*AK116))","v":0}]
[null,"Outflow TP Loading -- EMC metric (lbs)",{"$f":"IF(E7<>0,E101,IF(D7<>0,D101,IF(C7<>0,C101,0)))","v":0},null,null,null,{"$f":"IF(I7<>0,I101,IF(H7<>0,H101,IF(G7<>0,G101,0)))","v":0},null,null,null,{"$f":"IF(M7<>0,M101,IF(L7<>0,L101,IF(K7<>0,K101,0)))","v":0},null,null,null,{"$f":"IF(Q7<>0,Q101,IF(P7<>0,P101,IF(O7<>0,O101,0)))","v":0},null,null,null,{"$f":"IF(U7<>0,U101,IF(T7<>0,T101,IF(S7<>0,S101,0)))","v":0},null,null,null,{"$f":"IF(Y7<>0,Y101,IF(X7<>0,X101,IF(W7<>0,W101,0)))","v":0}]
[null,"Outflow TP Loading -- EMC metric (lbs/ac)",null,{"$f":"IF(E7<>0,E101/E18,IF(D7<>0,D101/D18,IF(C7<>0,C101/C18,0)))","v":0},null,null,null,{"$f":"IF(I7<>0,I101/I18,IF(H7<>0,H101/H18,IF(G7<>0,G101/G18,0)))","v":0},null,null,null,{"$f":"IF(M7<>0,M101/M18,IF(L7<>0,L101/L18,IF(K7<>0,K101/K18,0)))","v":0},null,null,null,{"$f":"IF(Q7<>0,Q101/Q18,IF(P7<>0,P101/P18,IF(O7<>0,O101/O18,0)))","v":0},null,null,null,{"$f":"IF(U7<>0,U101/U18,IF(T7<>0,T101/T18,IF(S7<>0,S101/S18,0)))","v":0},null,null,null,{"$f":"IF(Y7<>0,Y101/Y18,IF(X7<>0,X101/X18,IF(W7<>0,W101/W18,0)))","v":0}]
[]
["ACCOUNTING FOR CATCHMENT ROUTING","Routed Somewhere?",null,{"$f":"IF(ISNA(MATCH(\"yes\",'2. BMP Characteristics'!E33:AV33,0)),\"no\",\"yes\")","v":"no"},null,null,null,{"$f":"IF(ISNA(MATCH(\"yes\",'2. BMP Characteristics'!E34:AV34,0)),\"no\",\"yes\")","v":"no"},null,null,null,{"$f":"IF(ISNA(MATCH(\"yes\",'2. BMP Characteristics'!E35:AV35,0)),\"no\",\"yes\")","v":"no"},null,null,null,{"$f":"IF(ISNA(MATCH(\"yes\",'2. BMP Characteristics'!E36:AV36,0)),\"no\",\"yes\")","v":"no"},null,null,null,{"$f":"IF(ISNA(MATCH(\"yes\",'2. BMP Characteristics'!E37:AV37,0)),\"no\",\"yes\")","v":"no"},null,null,null,{"$f":"IF(ISNA(MATCH(\"yes\",'2. BMP Characteristics'!E38:AV38,0)),\"no\",\"yes\")","v":"no"}]
[null,"Drainage Area (ac.)",null,{"$f":"IF(D121=\"yes\",0,MAX(C18:E18))","v":0},null,null,null,{"$f":"IF(H121=\"yes\",0,MAX(G18:I18))","v":0},null,null,null,{"$f":"IF(L121=\"yes\",0,MAX(K18:M18))","v":0},null,null,null,{"$f":"IF(P121=\"yes\",0,MAX(O18:Q18))","v":0},null,null,null,{"$f":"IF(T121=\"yes\",0,MAX(S18:U18))","v":0},null,null,null,{"$f":"IF(X121=\"yes\",0,MAX(W18:Y18))","v":0},null,null,"Total:"]
[null,"Percent of Watershed:",{"$f":"IF(C7<>0,D122/SUM(D122,H122,L122,P122,T122,X122),0)","v":0},null,null,null,{"$f":"IF(G7<>0,H122/SUM(D122,H122,L122,P122,T122,X122),0)","v":0},null,null,null,{"$f":"IF(K7<>0,L122/SUM(D122,H122,L122,P122,T122,X122),0)","v":0},null,null,null,{"$f":"IF(O7<>0,P122/SUM(D122,H122,L122,P122,T122,X122),0)","v":0},null,null,null,{"$f":"IF(S7<>0,T122/SUM(D122,H122,L122,P122,T122,X122),0)","v":0},null,null,null,{"$f":"IF(W7<>0,X122/SUM(D122,H122,L122,P122,T122,X122),0)","v":0},null,null,null,{"$f":"SUM(W123,S123,O123,K123,G123,C123)","v":0}]
[null,"Runoff Volume (c.f.)",null,{"$f":"IF($D$121=\"yes\",0,C109)","v":0},null,null,null,{"$f":"IF($H$121=\"yes\",0,G109)","v":0},null,null,null,{"$f":"IF($L$121=\"yes\",0,K109)","v":0},null,null,null,{"$f":"IF($P$121=\"yes\",0,O109)","v":0},null,null,null,{"$f":"IF($T$121=\"yes\",0,S109)","v":0},null,null,null,{"$f":"IF($X$121=\"yes\",0,W109)","v":0}]
[null,"Outflow TN EMC (mg/L)",null,{"$f":"IF($D$121=\"yes\",0,C114)","v":0},null,null,null,{"$f":"IF($H$121=\"yes\",0,G114)","v":0},null,null,null,{"$f":"IF($L$121=\"yes\",0,K114)","v":0},null,null,null,{"$f":"IF($P$121=\"yes\",0,O114)","v":0},null,null,null,{"$f":"IF($T$121=\"yes\",0,S114)","v":0},null,null,null,{"$f":"IF($X$121=\"yes\",0,W114)","v":0}]
[null,"Outflow TP EMC (mg/L)",null,{"$f":"IF($D$121=\"yes\",0,C115)","v":0},null,null,null,{"$f":"IF($H$121=\"yes\",0,G115)","v":0},null,null,null,{"$f":"IF($L$121=\"yes\",0,K115)","v":0},null,null,null,{"$f":"IF($P$121=\"yes\",0,O115)","v":0},null,null,null,{"$f":"IF($T$121=\"yes\",0,S115)","v":0},null,null,null,{"$f":"IF($X$121=\"yes\",0,W115)","v":0}]
[null,"Outflow TN Loading -- EMC metric (lbs)",null,{"$f":"IF($D$121=\"yes\",0,C116)","v":0},null,null,null,{"$f":"IF($H$121=\"yes\",0,G116)","v":0},null,null,null,{"$f":"IF($L$121=\"yes\",0,K116)","v":0},null,null,null,{"$f":"IF($P$121=\"yes\",0,O116)","v":0},null,null,null,{"$f":"IF($T$121=\"yes\",0,S116)","v":0},null,null,null,{"$f":"IF($X$121=\"yes\",0,W116)","v":0}]
[null,"Outflow TN Loading -- EMC metric (lbs/ac)",null,{"$f":"IF($D$121=\"yes\",0,D117)","v":0},null,null,null,{"$f":"IF($H$121=\"yes\",0,H117)","v":0},null,null,null,{"$f":"IF($L$121=\"yes\",0,L117)","v":0},null,null,null,{"$f":"IF($P$121=\"yes\",0,P117)","v":0},null,null,null,{"$f":"IF($T$121=\"yes\",0,T117)","v":0},null,null,null,{"$f":"IF($X$121=\"yes\",0,X117)","v":0}]
[null,"Outflow TP Loading -- EMC metric (lbs)",null,{"$f":"IF($D$121=\"yes\",0,C118)","v":0},null,null,null,{"$f":"IF($H$121=\"yes\",0,G118)","v":0},null,null,null,{"$f":"IF($L$121=\"yes\",0,K118)","v":0},null,null,null,{"$f":"IF($P$121=\"yes\",0,O118)","v":0},null,null,null,{"$f":"IF($T$121=\"yes\",0,S118)","v":0},null,null,null,{"$f":"IF($X$121=\"yes\",0,W118)","v":0}]
[null,"Outflow TP Loading -- EMC metric (lbs/ac)",null,{"$f":"IF($D$121=\"yes\",0,D119)","v":0},null,null,null,{"$f":"IF($H$121=\"yes\",0,H119)","v":0},null,null,null,{"$f":"IF($L$121=\"yes\",0,L119)","v":0},null,null,null,{"$f":"IF($P$121=\"yes\",0,P119)","v":0},null,null,null,{"$f":"IF($T$121=\"yes\",0,T119)","v":0},null,null,null,{"$f":"IF($X$121=\"yes\",0,X119)","v":0}]
[null,"Composite TN EMC (mg/L)",{"$f":"(C123*D125)+(G123*H125)+(K123*L125)+(O123*P125)+(S123*T125)+(W123*X125)","v":0}]
[null,"Composite TP EMC (mg/L)",{"$f":"(C123*D126)+(G123*H126)+(K123*L126)+(O123*P126)+(S123*T126)+(W123*X126)","v":0}]
[]
[]
[null,"DRAINAGE AREA","Area Treated\nby BMP\n(acres)","Area Treated\nby BMP\n(acres)","Area Treated\nby BMP\n(acres)",null,"Area Treated\nby BMP\n(acres)","Area Treated\nby BMP\n(acres)","Area Treated\nby BMP\n(acres)",null,"Area Treated\nby BMP\n(acres)","Area Treated\nby BMP\n(acres)","Area Treated\nby BMP\n(acres)",null,"Area Treated\nby BMP\n(acres)","Area Treated\nby BMP\n(acres)","Area Treated\nby BMP\n(acres)",null,"Area Treated\nby BMP\n(acres)","Area Treated\nby BMP\n(acres)","Area Treated\nby BMP\n(acres)",null,"Area Treated\nby BMP\n(acres)","Area Treated\nby BMP\n(acres)","Area Treated\nby BMP\n(acres)",null,null,"Post-Dev Area","Post Dev w/ BMPs","Difference","  - Post-development = what is leaving developed watershed before BMPs are installed\n  - Post-development with BMPs = what is entering all BMPs -- needs to be subtracted from post-dev numbers, and have amounts leaving BMPs added in"]
[null,"COMMERCIAL",{"$f":"'2. BMP Characteristics'!E44/43560","v":0},{"$f":"'2. BMP Characteristics'!G44/43560","v":0},{"$f":"'2. BMP Characteristics'!I44/43560","v":0},null,{"$f":"'2. BMP Characteristics'!L44/43560","v":0},{"$f":"'2. BMP Characteristics'!N44/43560","v":0},{"$f":"'2. BMP Characteristics'!P44/43560","v":0},null,{"$f":"'2. BMP Characteristics'!S44/43560","v":0},{"$f":"'2. BMP Characteristics'!U44/43560","v":0},{"$f":"'2. BMP Characteristics'!W44/43560","v":0},null,{"$f":"'2. BMP Characteristics'!Z44/43560","v":0},{"$f":"'2. BMP Characteristics'!AB44/43560","v":0},{"$f":"'2. BMP Characteristics'!AD44/43560","v":0},null,{"$f":"'2. BMP Characteristics'!AG44/43560","v":0},{"$f":"'2. BMP Characteristics'!AI44/43560","v":0},{"$f":"'2. BMP Characteristics'!AK44/43560","v":0},null,{"$f":"'2. BMP Characteristics'!AN44/43560","v":0},{"$f":"'2. BMP Characteristics'!AP44/43560","v":0},{"$f":"'2. BMP Characteristics'!AR44/43560","v":0}]
[null,"     Parking lot",{"$f":"'2. BMP Characteristics'!E45/43560","v":0},{"$f":"'2. BMP Characteristics'!G45/43560","v":0},{"$f":"'2. BMP Characteristics'!I45/43560","v":0},null,{"$f":"'2. BMP Characteristics'!L45/43560","v":0},{"$f":"'2. BMP Characteristics'!N45/43560","v":0},{"$f":"'2. BMP Characteristics'!P45/43560","v":0},null,{"$f":"'2. BMP Characteristics'!S45/43560","v":0},{"$f":"'2. BMP Characteristics'!U45/43560","v":0},{"$f":"'2. BMP Characteristics'!W45/43560","v":0},null,{"$f":"'2. BMP Characteristics'!Z45/43560","v":0},{"$f":"'2. BMP Characteristics'!AB45/43560","v":0},{"$f":"'2. BMP Characteristics'!AD45/43560","v":0},null,{"$f":"'2. BMP Characteristics'!AG45/43560","v":0},{"$f":"'2. BMP Characteristics'!AI45/43560","v":0},{"$f":"'2. BMP Characteristics'!AK45/43560","v":0},null,{"$f":"'2. BMP Characteristics'!AN45/43560","v":0},{"$f":"'2. BMP Characteristics'!AP45/43560","v":0},{"$f":"'2. BMP Characteristics'!AR45/43560","v":0},null,null,{"$f":"'2. BMP Characteristics'!AZ45/43560","v":0},{"$f":"'2. BMP Characteristics'!AV45/43560","v":0},{"$f":"AB137-AC137","v":0}]
[null,"     Roof",{"$f":"'2. BMP Characteristics'!E46/43560","v":0},{"$f":"'2. BMP Characteristics'!G46/43560","v":0},{"$f":"'2. BMP Characteristics'!I46/43560","v":0},null,{"$f":"'2. BMP Characteristics'!L46/43560","v":0},{"$f":"'2. BMP Characteristics'!N46/43560","v":0},{"$f":"'2. BMP Characteristics'!P46/43560","v":0},null,{"$f":"'2. BMP Characteristics'!S46/43560","v":0},{"$f":"'2. BMP Characteristics'!U46/43560","v":0},{"$f":"'2. BMP Characteristics'!W46/43560","v":0},null,{"$f":"'2. BMP Characteristics'!Z46/43560","v":0},{"$f":"'2. BMP Characteristics'!AB46/43560","v":0},{"$f":"'2. BMP Characteristics'!AD46/43560","v":0},null,{"$f":"'2. BMP Characteristics'!AG46/43560","v":0},{"$f":"'2. BMP Characteristics'!AI46/43560","v":0},{"$f":"'2. BMP Characteristics'!AK46/43560","v":0},null,{"$f":"'2. BMP Characteristics'!AN46/43560","v":0},{"$f":"'2. BMP Characteristics'!AP46/43560","v":0},{"$f":"'2. BMP Characteristics'!AR46/43560","v":0},null,null,{"$f":"'2. BMP Characteristics'!AZ46/43560","v":0},{"$f":"'2. BMP Characteristics'!AV46/43560","v":0},{"$f":"AB138-AC138","v":0}]
[null,"INDUSTRIAL",{"$f":"'2. BMP Characteristics'!E47/43560","v":0},{"$f":"'2. BMP Characteristics'!G47/43560","v":0},{"$f":"'2. BMP Characteristics'!I47/43560","v":0},null,{"$f":"'2. BMP Characteristics'!L47/43560","v":0},{"$f":"'2. BMP Characteristics'!N47/43560","v":0},{"$f":"'2. BMP Characteristics'!P47/43560","v":0},null,{"$f":"'2. BMP Characteristics'!S47/43560","v":0},{"$f":"'2. BMP Characteristics'!U47/43560","v":0},{"$f":"'2. BMP Characteristics'!W47/43560","v":0},null,{"$f":"'2. BMP Characteristics'!Z47/43560","v":0},{"$f":"'2. BMP Characteristics'!AB47/43560","v":0},{"$f":"'2. BMP Characteristics'!AD47/43560","v":0},null,{"$f":"'2. BMP Characteristics'!AG47/43560","v":0},{"$f":"'2. BMP Characteristics'!AI47/43560","v":0},{"$f":"'2. BMP Characteristics'!AK47/43560","v":0},null,{"$f":"'2. BMP Characteristics'!AN47/43560","v":0},{"$f":"'2. BMP Characteristics'!AP47/43560","v":0},{"$f":"'2. BMP Characteristics'!AR47/43560","v":0},null,null,{"$f":"'2. BMP Characteristics'!AZ47/43560","v":0},{"$f":"'2. BMP Characteristics'!AV47/43560","v":0},0]
[null,"     Parking lot",{"$f":"'2. BMP Characteristics'!E48/43560","v":0},{"$f":"'2. BMP Characteristics'!G48/43560","v":0},{"$f":"'2. BMP Characteristics'!I48/43560","v":0},null,{"$f":"'2. BMP Characteristics'!L48/43560","v":0},{"$f":"'2. BMP Characteristics'!N48/43560","v":0},{"$f":"'2. BMP Characteristics'!P48/43560","v":0},null,{"$f":"'2. BMP Characteristics'!S48/43560","v":0},{"$f":"'2. BMP Characteristics'!U48/43560","v":0},{"$f":"'2. BMP Characteristics'!W48/43560","v":0},null,{"$f":"'2. BMP Characteristics'!Z48/43560","v":0},{"$f":"'2. BMP Characteristics'!AB48/43560","v":0},{"$f":"'2. BMP Characteristics'!AD48/43560","v":0},null,{"$f":"'2. BMP Characteristics'!AG48/43560","v":0},{"$f":"'2. BMP Characteristics'!AI48/43560","v":0},{"$f":"'2. BMP Characteristics'!AK48/43560","v":0},null,{"$f":"'2. BMP Characteristics'!AN48/43560","v":0},{"$f":"'2. BMP Characteristics'!AP48/43560","v":0},{"$f":"'2. BMP Characteristics'!AR48/43560","v":0},null,null,{"$f":"'2. BMP Characteristics'!AZ48/43560","v":0},{"$f":"'2. BMP Characteristics'!AV48/43560","v":0},0]
[null,"     Roof",{"$f":"'2. BMP Characteristics'!E49/43560","v":0},{"$f":"'2. BMP Characteristics'!G49/43560","v":0},{"$f":"'2. BMP Characteristics'!I49/43560","v":0},null,{"$f":"'2. BMP Characteristics'!L49/43560","v":0},{"$f":"'2. BMP Characteristics'!N49/43560","v":0},{"$f":"'2. BMP Characteristics'!P49/43560","v":0},null,{"$f":"'2. BMP Characteristics'!S49/43560","v":0},{"$f":"'2. BMP Characteristics'!U49/43560","v":0},{"$f":"'2. BMP Characteristics'!W49/43560","v":0},null,{"$f":"'2. BMP Characteristics'!Z49/43560","v":0},{"$f":"'2. BMP Characteristics'!AB49/43560","v":0},{"$f":"'2. BMP Characteristics'!AD49/43560","v":0},null,{"$f":"'2. BMP Characteristics'!AG49/43560","v":0},{"$f":"'2. BMP Characteristics'!AI49/43560","v":0},{"$f":"'2. BMP Characteristics'!AK49/43560","v":0},null,{"$f":"'2. BMP Characteristics'!AN49/43560","v":0},{"$f":"'2. BMP Characteristics'!AP49/43560","v":0},{"$f":"'2. BMP Characteristics'!AR49/43560","v":0},null,null,{"$f":"'2. BMP Characteristics'!AZ49/43560","v":0},{"$f":"'2. BMP Characteristics'!AV49/43560","v":0},0]
[null,"     Access road",{"$f":"'2. BMP Characteristics'!E50/43560","v":0},{"$f":"'2. BMP Characteristics'!G50/43560","v":0},{"$f":"'2. BMP Characteristics'!I50/43560","v":0},null,{"$f":"'2. BMP Characteristics'!L50/43560","v":0},{"$f":"'2. BMP Characteristics'!N50/43560","v":0},{"$f":"'2. BMP Characteristics'!P50/43560","v":0},null,{"$f":"'2. BMP Characteristics'!S50/43560","v":0},{"$f":"'2. BMP Characteristics'!U50/43560","v":0},{"$f":"'2. BMP Characteristics'!W50/43560","v":0},null,{"$f":"'2. BMP Characteristics'!Z50/43560","v":0},{"$f":"'2. BMP Characteristics'!AB50/43560","v":0},{"$f":"'2. BMP Characteristics'!AD50/43560","v":0},null,{"$f":"'2. BMP Characteristics'!AG50/43560","v":0},{"$f":"'2. BMP Characteristics'!AI50/43560","v":0},{"$f":"'2. BMP Characteristics'!AK50/43560","v":0},null,{"$f":"'2. BMP Characteristics'!AN50/43560","v":0},{"$f":"'2. BMP Characteristics'!AP50/43560","v":0},{"$f":"'2. BMP Characteristics'!AR50/43560","v":0},null,null,{"$f":"'2. BMP Characteristics'!AZ50/43560","v":0},{"$f":"'2. BMP Characteristics'!AV50/43560","v":0},0]
[null,"     Impervious, uncovered storage",{"$f":"'2. BMP Characteristics'!E51/43560","v":0},{"$f":"'2. BMP Characteristics'!G51/43560","v":0},{"$f":"'2. BMP Characteristics'!I51/43560","v":0},null,{"$f":"'2. BMP Characteristics'!L51/43560","v":0},{"$f":"'2. BMP Characteristics'!N51/43560","v":0},{"$f":"'2. BMP Characteristics'!P51/43560","v":0},null,{"$f":"'2. BMP Characteristics'!S51/43560","v":0},{"$f":"'2. BMP Characteristics'!U51/43560","v":0},{"$f":"'2. BMP Characteristics'!W51/43560","v":0},null,{"$f":"'2. BMP Characteristics'!Z51/43560","v":0},{"$f":"'2. BMP Characteristics'!AB51/43560","v":0},{"$f":"'2. BMP Characteristics'!AD51/43560","v":0},null,{"$f":"'2. BMP Characteristics'!AG51/43560","v":0},{"$f":"'2. BMP Characteristics'!AI51/43560","v":0},{"$f":"'2. BMP Characteristics'!AK51/43560","v":0},null,{"$f":"'2. BMP Characteristics'!AN51/43560","v":0},{"$f":"'2. BMP Characteristics'!AP51/43560","v":0},{"$f":"'2. BMP Characteristics'!AR51/43560","v":0},null,null,{"$f":"'2. BMP Characteristics'!AZ51/43560","v":0},{"$f":"'2. BMP Characteristics'!AV51/43560","v":0},0]
[null,"     Pervious, uncovered storage",{"$f":"'2. BMP Characteristics'!E52/43560","v":0},{"$f":"'2. BMP Characteristics'!G52/43560","v":0},{"$f":"'2. BMP Characteristics'!I52/43560","v":0},null,{"$f":"'2. BMP Characteristics'!L52/43560","v":0},{"$f":"'2. BMP Characteristics'!N52/43560","v":0},{"$f":"'2. BMP Characteristics'!P52/43560","v":0},null,{"$f":"'2. BMP Characteristics'!S52/43560","v":0},{"$f":"'2. BMP Characteristics'!U52/43560","v":0},{"$f":"'2. BMP Characteristics'!W52/43560","v":0},null,{"$f":"'2. BMP Characteristics'!Z52/43560","v":0},{"$f":"'2. BMP Characteristics'!AB52/43560","v":0},{"$f":"'2. BMP Characteristics'!AD52/43560","v":0},null,{"$f":"'2. BMP Characteristics'!AG52/43560","v":0},{"$f":"'2. BMP Characteristics'!AI52/43560","v":0},{"$f":"'2. BMP Characteristics'!AK52/43560","v":0},null,{"$f":"'2. BMP Characteristics'!AN52/43560","v":0},{"$f":"'2. BMP Characteristics'!AP52/43560","v":0},{"$f":"'2. BMP Characteristics'!AR52/43560","v":0},null,null,{"$f":"'2. BMP Characteristics'!AZ52/43560","v":0},{"$f":"'2. BMP Characteristics'!AV52/43560","v":0},0]
[null,"TRANSPORTATION",{"$f":"'2. BMP Characteristics'!E53/43560","v":0},{"$f":"'2. BMP Characteristics'!G53/43560","v":0},{"$f":"'2. BMP Characteristics'!I53/43560","v":0},null,{"$f":"'2. BMP Characteristics'!L53/43560","v":0},{"$f":"'2. BMP Characteristics'!N53/43560","v":0},{"$f":"'2. BMP Characteristics'!P53/43560","v":0},null,{"$f":"'2. BMP Characteristics'!S53/43560","v":0},{"$f":"'2. BMP Characteristics'!U53/43560","v":0},{"$f":"'2. BMP Characteristics'!W53/43560","v":0},null,{"$f":"'2. BMP Characteristics'!Z53/43560","v":0},{"$f":"'2. BMP Characteristics'!AB53/43560","v":0},{"$f":"'2. BMP Characteristics'!AD53/43560","v":0},null,{"$f":"'2. BMP Characteristics'!AG53/43560","v":0},{"$f":"'2. BMP Characteristics'!AI53/43560","v":0},{"$f":"'2. BMP Characteristics'!AK53/43560","v":0},null,{"$f":"'2. BMP Characteristics'!AN53/43560","v":0},{"$f":"'2. BMP Characteristics'!AP53/43560","v":0},{"$f":"'2. BMP Characteristics'!AR53/43560","v":0},null,null,{"$f":"'2. BMP Characteristics'!AZ53/43560","v":0},{"$f":"'2. BMP Characteristics'!AV53/43560","v":0},0]
[null,"     Primary road EOP",{"$f":"'2. BMP Characteristics'!E54/43560","v":0},{"$f":"'2. BMP Characteristics'!G54/43560","v":0},{"$f":"'2. BMP Characteristics'!I54/43560","v":0},null,{"$f":"'2. BMP Characteristics'!L54/43560","v":0},{"$f":"'2. BMP Characteristics'!N54/43560","v":0},{"$f":"'2. BMP Characteristics'!P54/43560","v":0},null,{"$f":"'2. BMP Characteristics'!S54/43560","v":0},{"$f":"'2. BMP Characteristics'!U54/43560","v":0},{"$f":"'2. BMP Characteristics'!W54/43560","v":0},null,{"$f":"'2. BMP Characteristics'!Z54/43560","v":0},{"$f":"'2. BMP Characteristics'!AB54/43560","v":0},{"$f":"'2. BMP Characteristics'!AD54/43560","v":0},null,{"$f":"'2. BMP Characteristics'!AG54/43560","v":0},{"$f":"'2. BMP Characteristics'!AI54/43560","v":0},{"$f":"'2. BMP Characteristics'!AK54/43560","v":0},null,{"$f":"'2. BMP Characteristics'!AN54/43560","v":0},{"$f":"'2. BMP Characteristics'!AP54/43560","v":0},{"$f":"'2. BMP Characteristics'!AR54/43560","v":0},null,null,{"$f":"'2. BMP Characteristics'!AZ54/43560","v":0},{"$f":"'2. BMP Characteristics'!AV54/43560","v":0},0]
[null,"     Secondary road EOP",{"$f":"'2. BMP Characteristics'!E55/43560","v":0},{"$f":"'2. BMP Characteristics'!G55/43560","v":0},{"$f":"'2. BMP Characteristics'!I55/43560","v":0},null,{"$f":"'2. BMP Characteristics'!L55/43560","v":0},{"$f":"'2. BMP Characteristics'!N55/43560","v":0},{"$f":"'2. BMP Characteristics'!P55/43560","v":0},null,{"$f":"'2. BMP Characteristics'!S55/43560","v":0},{"$f":"'2. BMP Characteristics'!U55/43560","v":0},{"$f":"'2. BMP Characteristics'!W55/43560","v":0},null,{"$f":"'2. BMP Characteristics'!Z55/43560","v":0},{"$f":"'2. BMP Characteristics'!AB55/43560","v":0},{"$f":"'2. BMP Characteristics'!AD55/43560","v":0},null,{"$f":"'2. BMP Characteristics'!AG55/43560","v":0},{"$f":"'2. BMP Characteristics'!AI55/43560","v":0},{"$f":"'2. BMP Characteristics'!AK55/43560","v":0},null,{"$f":"'2. BMP Characteristics'!AN55/43560","v":0},{"$f":"'2. BMP Characteristics'!AP55/43560","v":0},{"$f":"'2. BMP Characteristics'!AR55/43560","v":0},null,null,{"$f":"'2. BMP Characteristics'!AZ55/43560","v":0},{"$f":"'2. BMP Characteristics'!AV55/43560","v":0},0]
[null,"     Bridge EOP",{"$f":"'2. BMP Characteristics'!E56/43560","v":0},{"$f":"'2. BMP Characteristics'!G56/43560","v":0},{"$f":"'2. BMP Characteristics'!I56/43560","v":0},null,{"$f":"'2. BMP Characteristics'!L56/43560","v":0},{"$f":"'2. BMP Characteristics'!N56/43560","v":0},{"$f":"'2. BMP Characteristics'!P56/43560","v":0},null,{"$f":"'2. BMP Characteristics'!S56/43560","v":0},{"$f":"'2. BMP Characteristics'!U56/43560","v":0},{"$f":"'2. BMP Characteristics'!W56/43560","v":0},null,{"$f":"'2. BMP Characteristics'!Z56/43560","v":0},{"$f":"'2. BMP Characteristics'!AB56/43560","v":0},{"$f":"'2. BMP Characteristics'!AD56/43560","v":0},null,{"$f":"'2. BMP Characteristics'!AG56/43560","v":0},{"$f":"'2. BMP Characteristics'!AI56/43560","v":0},{"$f":"'2. BMP Characteristics'!AK56/43560","v":0},null,{"$f":"'2. BMP Characteristics'!AN56/43560","v":0},{"$f":"'2. BMP Characteristics'!AP56/43560","v":0},{"$f":"'2. BMP Characteristics'!AR56/43560","v":0},null,null,{"$f":"'2. BMP Characteristics'!AZ56/43560","v":0},{"$f":"'2. BMP Characteristics'!AV56/43560","v":0},0]
[null,"     Sidewalk",{"$f":"'2. BMP Characteristics'!E57/43560","v":0},{"$f":"'2. BMP Characteristics'!G57/43560","v":0},{"$f":"'2. BMP Characteristics'!I57/43560","v":0},null,{"$f":"'2. BMP Characteristics'!L57/43560","v":0},{"$f":"'2. BMP Characteristics'!N57/43560","v":0},{"$f":"'2. BMP Characteristics'!P57/43560","v":0},null,{"$f":"'2. BMP Characteristics'!S57/43560","v":0},{"$f":"'2. BMP Characteristics'!U57/43560","v":0},{"$f":"'2. BMP Characteristics'!W57/43560","v":0},null,{"$f":"'2. BMP Characteristics'!Z57/43560","v":0},{"$f":"'2. BMP Characteristics'!AB57/43560","v":0},{"$f":"'2. BMP Characteristics'!AD57/43560","v":0},null,{"$f":"'2. BMP Characteristics'!AG57/43560","v":0},{"$f":"'2. BMP Characteristics'!AI57/43560","v":0},{"$f":"'2. BMP Characteristics'!AK57/43560","v":0},null,{"$f":"'2. BMP Characteristics'!AN57/43560","v":0},{"$f":"'2. BMP Characteristics'!AP57/43560","v":0},{"$f":"'2. BMP Characteristics'!AR57/43560","v":0},null,null,{"$f":"'2. BMP Characteristics'!AZ57/43560","v":0},{"$f":"'2. BMP Characteristics'!AV57/43560","v":0},0]
[null,"REST AREA",{"$f":"'2. BMP Characteristics'!E58/43560","v":0},{"$f":"'2. BMP Characteristics'!G58/43560","v":0},{"$f":"'2. BMP Characteristics'!I58/43560","v":0},null,{"$f":"'2. BMP Characteristics'!L58/43560","v":0},{"$f":"'2. BMP Characteristics'!N58/43560","v":0},{"$f":"'2. BMP Characteristics'!P58/43560","v":0},null,{"$f":"'2. BMP Characteristics'!S58/43560","v":0},{"$f":"'2. BMP Characteristics'!U58/43560","v":0},{"$f":"'2. BMP Characteristics'!W58/43560","v":0},null,{"$f":"'2. BMP Characteristics'!Z58/43560","v":0},{"$f":"'2. BMP Characteristics'!AB58/43560","v":0},{"$f":"'2. BMP Characteristics'!AD58/43560","v":0},null,{"$f":"'2. BMP Characteristics'!AG58/43560","v":0},{"$f":"'2. BMP Characteristics'!AI58/43560","v":0},{"$f":"'2. BMP Characteristics'!AK58/43560","v":0},null,{"$f":"'2. BMP Characteristics'!AN58/43560","v":0},{"$f":"'2. BMP Characteristics'!AP58/43560","v":0},{"$f":"'2. BMP Characteristics'!AR58/43560","v":0},null,null,{"$f":"'2. BMP Characteristics'!AZ58/43560","v":0},{"$f":"'2. BMP Characteristics'!AV58/43560","v":0},0]
[null,"     Parking lot (car)",{"$f":"'2. BMP Characteristics'!E59/43560","v":0},{"$f":"'2. BMP Characteristics'!G59/43560","v":0},{"$f":"'2. BMP Characteristics'!I59/43560","v":0},null,{"$f":"'2. BMP Characteristics'!L59/43560","v":0},{"$f":"'2. BMP Characteristics'!N59/43560","v":0},{"$f":"'2. BMP Characteristics'!P59/43560","v":0},null,{"$f":"'2. BMP Characteristics'!S59/43560","v":0},{"$f":"'2. BMP Characteristics'!U59/43560","v":0},{"$f":"'2. BMP Characteristics'!W59/43560","v":0},null,{"$f":"'2. BMP Characteristics'!Z59/43560","v":0},{"$f":"'2. BMP Characteristics'!AB59/43560","v":0},{"$f":"'2. BMP Characteristics'!AD59/43560","v":0},null,{"$f":"'2. BMP Characteristics'!AG59/43560","v":0},{"$f":"'2. BMP Characteristics'!AI59/43560","v":0},{"$f":"'2. BMP Characteristics'!AK59/43560","v":0},null,{"$f":"'2. BMP Characteristics'!AN59/43560","v":0},{"$f":"'2. BMP Characteristics'!AP59/43560","v":0},{"$f":"'2. BMP Characteristics'!AR59/43560","v":0},null,null,{"$f":"'2. BMP Characteristics'!AZ59/43560","v":0},{"$f":"'2. BMP Characteristics'!AV59/43560","v":0},0]
[null,"     Parking lot (truck)",{"$f":"'2. BMP Characteristics'!E60/43560","v":0},{"$f":"'2. BMP Characteristics'!G60/43560","v":0},{"$f":"'2. BMP Characteristics'!I60/43560","v":0},null,{"$f":"'2. BMP Characteristics'!L60/43560","v":0},{"$f":"'2. BMP Characteristics'!N60/43560","v":0},{"$f":"'2. BMP Characteristics'!P60/43560","v":0},null,{"$f":"'2. BMP Characteristics'!S60/43560","v":0},{"$f":"'2. BMP Characteristics'!U60/43560","v":0},{"$f":"'2. BMP Characteristics'!W60/43560","v":0},null,{"$f":"'2. BMP Characteristics'!Z60/43560","v":0},{"$f":"'2. BMP Characteristics'!AB60/43560","v":0},{"$f":"'2. BMP Characteristics'!AD60/43560","v":0},null,{"$f":"'2. BMP Characteristics'!AG60/43560","v":0},{"$f":"'2. BMP Characteristics'!AI60/43560","v":0},{"$f":"'2. BMP Characteristics'!AK60/43560","v":0},null,{"$f":"'2. BMP Characteristics'!AN60/43560","v":0},{"$f":"'2. BMP Characteristics'!AP60/43560","v":0},{"$f":"'2. BMP Characteristics'!AR60/43560","v":0},null,null,{"$f":"'2. BMP Characteristics'!AZ60/43560","v":0},{"$f":"'2. BMP Characteristics'!AV60/43560","v":0},0]
[null,"     Roof",{"$f":"'2. BMP Characteristics'!E61/43560","v":0},{"$f":"'2. BMP Characteristics'!G61/43560","v":0},{"$f":"'2. BMP Characteristics'!I61/43560","v":0},null,{"$f":"'2. BMP Characteristics'!L61/43560","v":0},{"$f":"'2. BMP Characteristics'!N61/43560","v":0},{"$f":"'2. BMP Characteristics'!P61/43560","v":0},null,{"$f":"'2. BMP Characteristics'!S61/43560","v":0},{"$f":"'2. BMP Characteristics'!U61/43560","v":0},{"$f":"'2. BMP Characteristics'!W61/43560","v":0},null,{"$f":"'2. BMP Characteristics'!Z61/43560","v":0},{"$f":"'2. BMP Characteristics'!AB61/43560","v":0},{"$f":"'2. BMP Characteristics'!AD61/43560","v":0},null,{"$f":"'2. BMP Characteristics'!AG61/43560","v":0},{"$f":"'2. BMP Characteristics'!AI61/43560","v":0},{"$f":"'2. BMP Characteristics'!AK61/43560","v":0},null,{"$f":"'2. BMP Characteristics'!AN61/43560","v":0},{"$f":"'2. BMP Characteristics'!AP61/43560","v":0},{"$f":"'2. BMP Characteristics'!AR61/43560","v":0},null,null,{"$f":"'2. BMP Characteristics'!AZ61/43560","v":0},{"$f":"'2. BMP Characteristics'!AV61/43560","v":0},0]
[null,"MISC. PERVIOUS",{"$f":"'2. BMP Characteristics'!E62/43560","v":0},{"$f":"'2. BMP Characteristics'!G62/43560","v":0},{"$f":"'2. BMP Characteristics'!I62/43560","v":0},null,{"$f":"'2. BMP Characteristics'!L62/43560","v":0},{"$f":"'2. BMP Characteristics'!N62/43560","v":0},{"$f":"'2. BMP Characteristics'!P62/43560","v":0},null,{"$f":"'2. BMP Characteristics'!S62/43560","v":0},{"$f":"'2. BMP Characteristics'!U62/43560","v":0},{"$f":"'2. BMP Characteristics'!W62/43560","v":0},null,{"$f":"'2. BMP Characteristics'!Z62/43560","v":0},{"$f":"'2. BMP Characteristics'!AB62/43560","v":0},{"$f":"'2. BMP Characteristics'!AD62/43560","v":0},null,{"$f":"'2. BMP Characteristics'!AG62/43560","v":0},{"$f":"'2. BMP Characteristics'!AI62/43560","v":0},{"$f":"'2. BMP Characteristics'!AK62/43560","v":0},null,{"$f":"'2. BMP Characteristics'!AN62/43560","v":0},{"$f":"'2. BMP Characteristics'!AP62/43560","v":0},{"$f":"'2. BMP Characteristics'!AR62/43560","v":0},null,null,{"$f":"'2. BMP Characteristics'!AZ62/43560","v":0},{"$f":"'2. BMP Characteristics'!AV62/43560","v":0},0]
[null,"     Managed lawn (fertilized)",{"$f":"'2. BMP Characteristics'!E63/43560","v":0},{"$f":"'2. BMP Characteristics'!G63/43560","v":0},{"$f":"'2. BMP Characteristics'!I63/43560","v":0},null,{"$f":"'2. BMP Characteristics'!L63/43560","v":0},{"$f":"'2. BMP Characteristics'!N63/43560","v":0},{"$f":"'2. BMP Characteristics'!P63/43560","v":0},null,{"$f":"'2. BMP Characteristics'!S63/43560","v":0},{"$f":"'2. BMP Characteristics'!U63/43560","v":0},{"$f":"'2. BMP Characteristics'!W63/43560","v":0},null,{"$f":"'2. BMP Characteristics'!Z63/43560","v":0},{"$f":"'2. BMP Characteristics'!AB63/43560","v":0},{"$f":"'2. BMP Characteristics'!AD63/43560","v":0},null,{"$f":"'2. BMP Characteristics'!AG63/43560","v":0},{"$f":"'2. BMP Characteristics'!AI63/43560","v":0},{"$f":"'2. BMP Characteristics'!AK63/43560","v":0},null,{"$f":"'2. BMP Characteristics'!AN63/43560","v":0},{"$f":"'2. BMP Characteristics'!AP63/43560","v":0},{"$f":"'2. BMP Characteristics'!AR63/43560","v":0},null,null,{"$f":"'2. BMP Characteristics'!AZ63/43560","v":0},{"$f":"'2. BMP Characteristics'!AV63/43560","v":0},0]
[null,"     Open space (unfertilized)",{"$f":"'2. BMP Characteristics'!E64/43560","v":0},{"$f":"'2. BMP Characteristics'!G64/43560","v":0},{"$f":"'2. BMP Characteristics'!I64/43560","v":0},null,{"$f":"'2. BMP Characteristics'!L64/43560","v":0},{"$f":"'2. BMP Characteristics'!N64/43560","v":0},{"$f":"'2. BMP Characteristics'!P64/43560","v":0},null,{"$f":"'2. BMP Characteristics'!S64/43560","v":0},{"$f":"'2. BMP Characteristics'!U64/43560","v":0},{"$f":"'2. BMP Characteristics'!W64/43560","v":0},null,{"$f":"'2. BMP Characteristics'!Z64/43560","v":0},{"$f":"'2. BMP Characteristics'!AB64/43560","v":0},{"$f":"'2. BMP Characteristics'!AD64/43560","v":0},null,{"$f":"'2. BMP Characteristics'!AG64/43560","v":0},{"$f":"'2. BMP Characteristics'!AI64/43560","v":0},{"$f":"'2. BMP Characteristics'!AK64/43560","v":0},null,{"$f":"'2. BMP Characteristics'!AN64/43560","v":0},{"$f":"'2. BMP Characteristics'!AP64/43560","v":0},{"$f":"'2. BMP Characteristics'!AR64/43560","v":0},null,null,{"$f":"'2. BMP Characteristics'!AZ64/43560","v":0},{"$f":"'2. BMP Characteristics'!AV64/43560","v":0},0]
[null,"     Open/Landscaped",{"$f":"'2. BMP Characteristics'!E65/43560","v":0},{"$f":"'2. BMP Characteristics'!G65/43560","v":0},{"$f":"'2. BMP Characteristics'!I65/43560","v":0},null,{"$f":"'2. BMP Characteristics'!L65/43560","v":0},{"$f":"'2. BMP Characteristics'!N65/43560","v":0},{"$f":"'2. BMP Characteristics'!P65/43560","v":0},null,{"$f":"'2. BMP Characteristics'!S65/43560","v":0},{"$f":"'2. BMP Characteristics'!U65/43560","v":0},{"$f":"'2. BMP Characteristics'!W65/43560","v":0},null,{"$f":"'2. BMP Characteristics'!Z65/43560","v":0},{"$f":"'2. BMP Characteristics'!AB65/43560","v":0},{"$f":"'2. BMP Characteristics'!AD65/43560","v":0},null,{"$f":"'2. BMP Characteristics'!AG65/43560","v":0},{"$f":"'2. BMP Characteristics'!AI65/43560","v":0},{"$f":"'2. BMP Characteristics'!AK65/43560","v":0},null,{"$f":"'2. BMP Characteristics'!AN65/43560","v":0},{"$f":"'2. BMP Characteristics'!AP65/43560","v":0},{"$f":"'2. BMP Characteristics'!AR65/43560","v":0},null,null,{"$f":"'2. BMP Characteristics'!AZ65/43560","v":0},{"$f":"'2. BMP Characteristics'!AV65/43560","v":0},0]
[null,"     Agriculture (crop)",{"$f":"'2. BMP Characteristics'!E66/43560","v":0},{"$f":"'2. BMP Characteristics'!G66/43560","v":0},{"$f":"'2. BMP Characteristics'!I66/43560","v":0},null,{"$f":"'2. BMP Characteristics'!L66/43560","v":0},{"$f":"'2. BMP Characteristics'!N66/43560","v":0},{"$f":"'2. BMP Characteristics'!P66/43560","v":0},null,{"$f":"'2. BMP Characteristics'!S66/43560","v":0},{"$f":"'2. BMP Characteristics'!U66/43560","v":0},{"$f":"'2. BMP Characteristics'!W66/43560","v":0},null,{"$f":"'2. BMP Characteristics'!Z66/43560","v":0},{"$f":"'2. BMP Characteristics'!AB66/43560","v":0},{"$f":"'2. BMP Characteristics'!AD66/43560","v":0},null,{"$f":"'2. BMP Characteristics'!AG66/43560","v":0},{"$f":"'2. BMP Characteristics'!AI66/43560","v":0},{"$f":"'2. BMP Characteristics'!AK66/43560","v":0},null,{"$f":"'2. BMP Characteristics'!AN66/43560","v":0},{"$f":"'2. BMP Characteristics'!AP66/43560","v":0},{"$f":"'2. BMP Characteristics'!AR66/43560","v":0},null,null,{"$f":"'2. BMP Characteristics'!AZ66/43560","v":0},{"$f":"'2. BMP Characteristics'!AV66/43560","v":0},0]
[null,"     Agriculture (pasture)",{"$f":"'2. BMP Characteristics'!E67/43560","v":0},{"$f":"'2. BMP Characteristics'!G67/43560","v":0},{"$f":"'2. BMP Characteristics'!I67/43560","v":0},null,{"$f":"'2. BMP Characteristics'!L67/43560","v":0},{"$f":"'2. BMP Characteristics'!N67/43560","v":0},{"$f":"'2. BMP Characteristics'!P67/43560","v":0},null,{"$f":"'2. BMP Characteristics'!S67/43560","v":0},{"$f":"'2. BMP Characteristics'!U67/43560","v":0},{"$f":"'2. BMP Characteristics'!W67/43560","v":0},null,{"$f":"'2. BMP Characteristics'!Z67/43560","v":0},{"$f":"'2. BMP Characteristics'!AB67/43560","v":0},{"$f":"'2. BMP Characteristics'!AD67/43560","v":0},null,{"$f":"'2. BMP Characteristics'!AG67/43560","v":0},{"$f":"'2. BMP Characteristics'!AI67/43560","v":0},{"$f":"'2. BMP Characteristics'!AK67/43560","v":0},null,{"$f":"'2. BMP Characteristics'!AN67/43560","v":0},{"$f":"'2. BMP Characteristics'!AP67/43560","v":0},{"$f":"'2. BMP Characteristics'!AR67/43560","v":0},null,null,{"$f":"'2. BMP Characteristics'!AZ67/43560","v":0},{"$f":"'2. BMP Characteristics'!AV67/43560","v":0},0]
[null,"     Forest",{"$f":"'2. BMP Characteristics'!E68/43560","v":0},{"$f":"'2. BMP Characteristics'!G68/43560","v":0},{"$f":"'2. BMP Characteristics'!I68/43560","v":0},null,{"$f":"'2. BMP Characteristics'!L68/43560","v":0},{"$f":"'2. BMP Characteristics'!N68/43560","v":0},{"$f":"'2. BMP Characteristics'!P68/43560","v":0},null,{"$f":"'2. BMP Characteristics'!S68/43560","v":0},{"$f":"'2. BMP Characteristics'!U68/43560","v":0},{"$f":"'2. BMP Characteristics'!W68/43560","v":0},null,{"$f":"'2. BMP Characteristics'!Z68/43560","v":0},{"$f":"'2. BMP Characteristics'!AB68/43560","v":0},{"$f":"'2. BMP Characteristics'!AD68/43560","v":0},null,{"$f":"'2. BMP Characteristics'!AG68/43560","v":0},{"$f":"'2. BMP Characteristics'!AI68/43560","v":0},{"$f":"'2. BMP Characteristics'!AK68/43560","v":0},null,{"$f":"'2. BMP Characteristics'!AN68/43560","v":0},{"$f":"'2. BMP Characteristics'!AP68/43560","v":0},{"$f":"'2. BMP Characteristics'!AR68/43560","v":0},null,null,{"$f":"'2. BMP Characteristics'!AZ68/43560","v":0},{"$f":"'2. BMP Characteristics'!AV68/43560","v":0},0]
[null,"UNSPECIFIED LAND USE",{"$f":"'2. BMP Characteristics'!E69/43560","v":0},{"$f":"'2. BMP Characteristics'!G69/43560","v":0},{"$f":"'2. BMP Characteristics'!I69/43560","v":0},null,{"$f":"'2. BMP Characteristics'!L69/43560","v":0},{"$f":"'2. BMP Characteristics'!N69/43560","v":0},{"$f":"'2. BMP Characteristics'!P69/43560","v":0},null,{"$f":"'2. BMP Characteristics'!S69/43560","v":0},{"$f":"'2. BMP Characteristics'!U69/43560","v":0},{"$f":"'2. BMP Characteristics'!W69/43560","v":0},null,{"$f":"'2. BMP Characteristics'!Z69/43560","v":0},{"$f":"'2. BMP Characteristics'!AB69/43560","v":0},{"$f":"'2. BMP Characteristics'!AD69/43560","v":0},null,{"$f":"'2. BMP Characteristics'!AG69/43560","v":0},{"$f":"'2. BMP Characteristics'!AI69/43560","v":0},{"$f":"'2. BMP Characteristics'!AK69/43560","v":0},null,{"$f":"'2. BMP Characteristics'!AN69/43560","v":0},{"$f":"'2. BMP Characteristics'!AP69/43560","v":0},{"$f":"'2. BMP Characteristics'!AR69/43560","v":0},null,null,{"$f":"'2. BMP Characteristics'!AZ69/43560","v":0},{"$f":"'2. BMP Characteristics'!AV69/43560","v":0},0]
[null,"     Blank 1",{"$f":"'2. BMP Characteristics'!E70/43560","v":0},{"$f":"'2. BMP Characteristics'!G70/43560","v":0},{"$f":"'2. BMP Characteristics'!I70/43560","v":0},null,{"$f":"'2. BMP Characteristics'!L70/43560","v":0},{"$f":"'2. BMP Characteristics'!N70/43560","v":0},{"$f":"'2. BMP Characteristics'!P70/43560","v":0},null,{"$f":"'2. BMP Characteristics'!S70/43560","v":0},{"$f":"'2. BMP Characteristics'!U70/43560","v":0},{"$f":"'2. BMP Characteristics'!W70/43560","v":0},null,{"$f":"'2. BMP Characteristics'!Z70/43560","v":0},{"$f":"'2. BMP Characteristics'!AB70/43560","v":0},{"$f":"'2. BMP Characteristics'!AD70/43560","v":0},null,{"$f":"'2. BMP Characteristics'!AG70/43560","v":0},{"$f":"'2. BMP Characteristics'!AI70/43560","v":0},{"$f":"'2. BMP Characteristics'!AK70/43560","v":0},null,{"$f":"'2. BMP Characteristics'!AN70/43560","v":0},{"$f":"'2. BMP Characteristics'!AP70/43560","v":0},{"$f":"'2. BMP Characteristics'!AR70/43560","v":0},null,null,{"$f":"'2. BMP Characteristics'!AZ70/43560","v":0},{"$f":"'2. BMP Characteristics'!AV70/43560","v":0},0]
[null,"     Blank 2",{"$f":"'2. BMP Characteristics'!E71/43560","v":0},{"$f":"'2. BMP Characteristics'!G71/43560","v":0},{"$f":"'2. BMP Characteristics'!I71/43560","v":0},null,{"$f":"'2. BMP Characteristics'!L71/43560","v":0},{"$f":"'2. BMP Characteristics'!N71/43560","v":0},{"$f":"'2. BMP Characteristics'!P71/43560","v":0},null,{"$f":"'2. BMP Characteristics'!S71/43560","v":0},{"$f":"'2. BMP Characteristics'!U71/43560","v":0},{"$f":"'2. BMP Characteristics'!W71/43560","v":0},null,{"$f":"'2. BMP Characteristics'!Z71/43560","v":0},{"$f":"'2. BMP Characteristics'!AB71/43560","v":0},{"$f":"'2. BMP Characteristics'!AD71/43560","v":0},null,{"$f":"'2. BMP Characteristics'!AG71/43560","v":0},{"$f":"'2. BMP Characteristics'!AI71/43560","v":0},{"$f":"'2. BMP Characteristics'!AK71/43560","v":0},null,{"$f":"'2. BMP Characteristics'!AN71/43560","v":0},{"$f":"'2. BMP Characteristics'!AP71/43560","v":0},{"$f":"'2. BMP Characteristics'!AR71/43560","v":0},null,null,{"$f":"'2. BMP Characteristics'!AZ71/43560","v":0},{"$f":"'2. BMP Characteristics'!AV71/43560","v":0},0]
[null,"RESIDENTIAL",{"$f":"'2. BMP Characteristics'!E72/43560","v":0},{"$f":"'2. BMP Characteristics'!G72/43560","v":0},{"$f":"'2. BMP Characteristics'!I72/43560","v":0},null,{"$f":"'2. BMP Characteristics'!L72/43560","v":0},{"$f":"'2. BMP Characteristics'!N72/43560","v":0},{"$f":"'2. BMP Characteristics'!P72/43560","v":0},null,{"$f":"'2. BMP Characteristics'!S72/43560","v":0},{"$f":"'2. BMP Characteristics'!U72/43560","v":0},{"$f":"'2. BMP Characteristics'!W72/43560","v":0},null,{"$f":"'2. BMP Characteristics'!Z72/43560","v":0},{"$f":"'2. BMP Characteristics'!AB72/43560","v":0},{"$f":"'2. BMP Characteristics'!AD72/43560","v":0},null,{"$f":"'2. BMP Characteristics'!AG72/43560","v":0},{"$f":"'2. BMP Characteristics'!AI72/43560","v":0},{"$f":"'2. BMP Characteristics'!AK72/43560","v":0},null,{"$f":"'2. BMP Characteristics'!AN72/43560","v":0},{"$f":"'2. BMP Characteristics'!AP72/43560","v":0},{"$f":"'2. BMP Characteristics'!AR72/43560","v":0},null,null,{"$f":"'2. BMP Characteristics'!AZ72/43560","v":0},{"$f":"'2. BMP Characteristics'!AV72/43560","v":0},0]
[null,"     2-ac lots (New)",{"$f":"'2. BMP Characteristics'!E73/43560","v":0},{"$f":"'2. BMP Characteristics'!G73/43560","v":0},{"$f":"'2. BMP Characteristics'!I73/43560","v":0},null,{"$f":"'2. BMP Characteristics'!L73/43560","v":0},{"$f":"'2. BMP Characteristics'!N73/43560","v":0},{"$f":"'2. BMP Characteristics'!P73/43560","v":0},null,{"$f":"'2. BMP Characteristics'!S73/43560","v":0},{"$f":"'2. BMP Characteristics'!U73/43560","v":0},{"$f":"'2. BMP Characteristics'!W73/43560","v":0},null,{"$f":"'2. BMP Characteristics'!Z73/43560","v":0},{"$f":"'2. BMP Characteristics'!AB73/43560","v":0},{"$f":"'2. BMP Characteristics'!AD73/43560","v":0},null,{"$f":"'2. BMP Characteristics'!AG73/43560","v":0},{"$f":"'2. BMP Characteristics'!AI73/43560","v":0},{"$f":"'2. BMP Characteristics'!AK73/43560","v":0},null,{"$f":"'2. BMP Characteristics'!AN73/43560","v":0},{"$f":"'2. BMP Characteristics'!AP73/43560","v":0},{"$f":"'2. BMP Characteristics'!AR73/43560","v":0},null,null,{"$f":"'2. BMP Characteristics'!AZ73/43560","v":0},{"$f":"'2. BMP Characteristics'!AV73/43560","v":0},0]
[null,"     2-ac lots (Built after 1995)",{"$f":"'2. BMP Characteristics'!E74/43560","v":0},{"$f":"'2. BMP Characteristics'!G74/43560","v":0},{"$f":"'2. BMP Characteristics'!I74/43560","v":0},null,{"$f":"'2. BMP Characteristics'!L74/43560","v":0},{"$f":"'2. BMP Characteristics'!N74/43560","v":0},{"$f":"'2. BMP Characteristics'!P74/43560","v":0},null,{"$f":"'2. BMP Characteristics'!S74/43560","v":0},{"$f":"'2. BMP Characteristics'!U74/43560","v":0},{"$f":"'2. BMP Characteristics'!W74/43560","v":0},null,{"$f":"'2. BMP Characteristics'!Z74/43560","v":0},{"$f":"'2. BMP Characteristics'!AB74/43560","v":0},{"$f":"'2. BMP Characteristics'!AD74/43560","v":0},null,{"$f":"'2. BMP Characteristics'!AG74/43560","v":0},{"$f":"'2. BMP Characteristics'!AI74/43560","v":0},{"$f":"'2. BMP Characteristics'!AK74/43560","v":0},null,{"$f":"'2. BMP Characteristics'!AN74/43560","v":0},{"$f":"'2. BMP Characteristics'!AP74/43560","v":0},{"$f":"'2. BMP Characteristics'!AR74/43560","v":0},null,null,{"$f":"'2. BMP Characteristics'!AZ74/43560","v":0},{"$f":"'2. BMP Characteristics'!AV74/43560","v":0},0]
[null,"     2-ac lots (Built before 1995)",{"$f":"'2. BMP Characteristics'!E75/43560","v":0},{"$f":"'2. BMP Characteristics'!G75/43560","v":0},{"$f":"'2. BMP Characteristics'!I75/43560","v":0},null,{"$f":"'2. BMP Characteristics'!L75/43560","v":0},{"$f":"'2. BMP Characteristics'!N75/43560","v":0},{"$f":"'2. BMP Characteristics'!P75/43560","v":0},null,{"$f":"'2. BMP Characteristics'!S75/43560","v":0},{"$f":"'2. BMP Characteristics'!U75/43560","v":0},{"$f":"'2. BMP Characteristics'!W75/43560","v":0},null,{"$f":"'2. BMP Characteristics'!Z75/43560","v":0},{"$f":"'2. BMP Characteristics'!AB75/43560","v":0},{"$f":"'2. BMP Characteristics'!AD75/43560","v":0},null,{"$f":"'2. BMP Characteristics'!AG75/43560","v":0},{"$f":"'2. BMP Characteristics'!AI75/43560","v":0},{"$f":"'2. BMP Characteristics'!AK75/43560","v":0},null,{"$f":"'2. BMP Characteristics'!AN75/43560","v":0},{"$f":"'2. BMP Characteristics'!AP75/43560","v":0},{"$f":"'2. BMP Characteristics'!AR75/43560","v":0},null,null,{"$f":"'2. BMP Characteristics'!AZ75/43560","v":0},{"$f":"'2. BMP Characteristics'!AV75/43560","v":0},0]
[null,"     1-ac lots (New)",{"$f":"'2. BMP Characteristics'!E76/43560","v":0},{"$f":"'2. BMP Characteristics'!G76/43560","v":0},{"$f":"'2. BMP Characteristics'!I76/43560","v":0},null,{"$f":"'2. BMP Characteristics'!L76/43560","v":0},{"$f":"'2. BMP Characteristics'!N76/43560","v":0},{"$f":"'2. BMP Characteristics'!P76/43560","v":0},null,{"$f":"'2. BMP Characteristics'!S76/43560","v":0},{"$f":"'2. BMP Characteristics'!U76/43560","v":0},{"$f":"'2. BMP Characteristics'!W76/43560","v":0},null,{"$f":"'2. BMP Characteristics'!Z76/43560","v":0},{"$f":"'2. BMP Characteristics'!AB76/43560","v":0},{"$f":"'2. BMP Characteristics'!AD76/43560","v":0},null,{"$f":"'2. BMP Characteristics'!AG76/43560","v":0},{"$f":"'2. BMP Characteristics'!AI76/43560","v":0},{"$f":"'2. BMP Characteristics'!AK76/43560","v":0},null,{"$f":"'2. BMP Characteristics'!AN76/43560","v":0},{"$f":"'2. BMP Characteristics'!AP76/43560","v":0},{"$f":"'2. BMP Characteristics'!AR76/43560","v":0},null,null,{"$f":"'2. BMP Characteristics'!AZ76/43560","v":0},{"$f":"'2. BMP Characteristics'!AV76/43560","v":0},0]
[null,"     1-ac lots (Built after 1995)",{"$f":"'2. BMP Characteristics'!E77/43560","v":0},{"$f":"'2. BMP Characteristics'!G77/43560","v":0},{"$f":"'2. BMP Characteristics'!I77/43560","v":0},null,{"$f":"'2. BMP Characteristics'!L77/43560","v":0},{"$f":"'2. BMP Characteristics'!N77/43560","v":0},{"$f":"'2. BMP Characteristics'!P77/43560","v":0},null,{"$f":"'2. BMP Characteristics'!S77/43560","v":0},{"$f":"'2. BMP Characteristics'!U77/43560","v":0},{"$f":"'2. BMP Characteristics'!W77/43560","v":0},null,{"$f":"'2. BMP Characteristics'!Z77/43560","v":0},{"$f":"'2. BMP Characteristics'!AB77/43560","v":0},{"$f":"'2. BMP Characteristics'!AD77/43560","v":0},null,{"$f":"'2. BMP Characteristics'!AG77/43560","v":0},{"$f":"'2. BMP Characteristics'!AI77/43560","v":0},{"$f":"'2. BMP Characteristics'!AK77/43560","v":0},null,{"$f":"'2. BMP Characteristics'!AN77/43560","v":0},{"$f":"'2. BMP Characteristics'!AP77/43560","v":0},{"$f":"'2. BMP Characteristics'!AR77/43560","v":0},null,null,{"$f":"'2. BMP Characteristics'!AZ77/43560","v":0},{"$f":"'2. BMP Characteristics'!AV77/43560","v":0},0]
[null,"     1-ac lots (Built before 1995)",{"$f":"'2. BMP Characteristics'!E78/43560","v":0},{"$f":"'2. BMP Characteristics'!G78/43560","v":0},{"$f":"'2. BMP Characteristics'!I78/43560","v":0},null,{"$f":"'2. BMP Characteristics'!L78/43560","v":0},{"$f":"'2. BMP Characteristics'!N78/43560","v":0},{"$f":"'2. BMP Characteristics'!P78/43560","v":0},null,{"$f":"'2. BMP Characteristics'!S78/43560","v":0},{"$f":"'2. BMP Characteristics'!U78/43560","v":0},{"$f":"'2. BMP Characteristics'!W78/43560","v":0},null,{"$f":"'2. BMP Characteristics'!Z78/43560","v":0},{"$f":"'2. BMP Characteristics'!AB78/43560","v":0},{"$f":"'2. BMP Characteristics'!AD78/43560","v":0},null,{"$f":"'2. BMP Characteristics'!AG78/43560","v":0},{"$f":"'2. BMP Characteristics'!AI78/43560","v":0},{"$f":"'2. BMP Characteristics'!AK78/43560","v":0},null,{"$f":"'2. BMP Characteristics'!AN78/43560","v":0},{"$f":"'2. BMP Characteristics'!AP78/43560","v":0},{"$f":"'2. BMP Characteristics'!AR78/43560","v":0},null,null,{"$f":"'2. BMP Characteristics'!AZ78/43560","v":0},{"$f":"'2. BMP Characteristics'!AV78/43560","v":0},0]
[null,"     ½-ac lots (New)",{"$f":"'2. BMP Characteristics'!E79/43560","v":0},{"$f":"'2. BMP Characteristics'!G79/43560","v":0},{"$f":"'2. BMP Characteristics'!I79/43560","v":0},null,{"$f":"'2. BMP Characteristics'!L79/43560","v":0},{"$f":"'2. BMP Characteristics'!N79/43560","v":0},{"$f":"'2. BMP Characteristics'!P79/43560","v":0},null,{"$f":"'2. BMP Characteristics'!S79/43560","v":0},{"$f":"'2. BMP Characteristics'!U79/43560","v":0},{"$f":"'2. BMP Characteristics'!W79/43560","v":0},null,{"$f":"'2. BMP Characteristics'!Z79/43560","v":0},{"$f":"'2. BMP Characteristics'!AB79/43560","v":0},{"$f":"'2. BMP Characteristics'!AD79/43560","v":0},null,{"$f":"'2. BMP Characteristics'!AG79/43560","v":0},{"$f":"'2. BMP Characteristics'!AI79/43560","v":0},{"$f":"'2. BMP Characteristics'!AK79/43560","v":0},null,{"$f":"'2. BMP Characteristics'!AN79/43560","v":0},{"$f":"'2. BMP Characteristics'!AP79/43560","v":0},{"$f":"'2. BMP Characteristics'!AR79/43560","v":0},null,null,{"$f":"'2. BMP Characteristics'!AZ79/43560","v":0},{"$f":"'2. BMP Characteristics'!AV79/43560","v":0},0]
[null,"     ½-ac lots (Built after 1995)",{"$f":"'2. BMP Characteristics'!E80/43560","v":0},{"$f":"'2. BMP Characteristics'!G80/43560","v":0},{"$f":"'2. BMP Characteristics'!I80/43560","v":0},null,{"$f":"'2. BMP Characteristics'!L80/43560","v":0},{"$f":"'2. BMP Characteristics'!N80/43560","v":0},{"$f":"'2. BMP Characteristics'!P80/43560","v":0},null,{"$f":"'2. BMP Characteristics'!S80/43560","v":0},{"$f":"'2. BMP Characteristics'!U80/43560","v":0},{"$f":"'2. BMP Characteristics'!W80/43560","v":0},null,{"$f":"'2. BMP Characteristics'!Z80/43560","v":0},{"$f":"'2. BMP Characteristics'!AB80/43560","v":0},{"$f":"'2. BMP Characteristics'!AD80/43560","v":0},null,{"$f":"'2. BMP Characteristics'!AG80/43560","v":0},{"$f":"'2. BMP Characteristics'!AI80/43560","v":0},{"$f":"'2. BMP Characteristics'!AK80/43560","v":0},null,{"$f":"'2. BMP Characteristics'!AN80/43560","v":0},{"$f":"'2. BMP Characteristics'!AP80/43560","v":0},{"$f":"'2. BMP Characteristics'!AR80/43560","v":0},null,null,{"$f":"'2. BMP Characteristics'!AZ80/43560","v":0},{"$f":"'2. BMP Characteristics'!AV80/43560","v":0},0]
[null,"     ½-ac lots (Built before 1995)",{"$f":"'2. BMP Characteristics'!E81/43560","v":0},{"$f":"'2. BMP Characteristics'!G81/43560","v":0},{"$f":"'2. BMP Characteristics'!I81/43560","v":0},null,{"$f":"'2. BMP Characteristics'!L81/43560","v":0},{"$f":"'2. BMP Characteristics'!N81/43560","v":0},{"$f":"'2. BMP Characteristics'!P81/43560","v":0},null,{"$f":"'2. BMP Characteristics'!S81/43560","v":0},{"$f":"'2. BMP Characteristics'!U81/43560","v":0},{"$f":"'2. BMP Characteristics'!W81/43560","v":0},null,{"$f":"'2. BMP Characteristics'!Z81/43560","v":0},{"$f":"'2. BMP Characteristics'!AB81/43560","v":0},{"$f":"'2. BMP Characteristics'!AD81/43560","v":0},null,{"$f":"'2. BMP Characteristics'!AG81/43560","v":0},{"$f":"'2. BMP Characteristics'!AI81/43560","v":0},{"$f":"'2. BMP Characteristics'!AK81/43560","v":0},null,{"$f":"'2. BMP Characteristics'!AN81/43560","v":0},{"$f":"'2. BMP Characteristics'!AP81/43560","v":0},{"$f":"'2. BMP Characteristics'!AR81/43560","v":0},null,null,{"$f":"'2. BMP Characteristics'!AZ81/43560","v":0},{"$f":"'2. BMP Characteristics'!AV81/43560","v":0},0]
[null,"     ¼-ac lots (New)",{"$f":"'2. BMP Characteristics'!E82/43560","v":0},{"$f":"'2. BMP Characteristics'!G82/43560","v":0},{"$f":"'2. BMP Characteristics'!I82/43560","v":0},null,{"$f":"'2. BMP Characteristics'!L82/43560","v":0},{"$f":"'2. BMP Characteristics'!N82/43560","v":0},{"$f":"'2. BMP Characteristics'!P82/43560","v":0},null,{"$f":"'2. BMP Characteristics'!S82/43560","v":0},{"$f":"'2. BMP Characteristics'!U82/43560","v":0},{"$f":"'2. BMP Characteristics'!W82/43560","v":0},null,{"$f":"'2. BMP Characteristics'!Z82/43560","v":0},{"$f":"'2. BMP Characteristics'!AB82/43560","v":0},{"$f":"'2. BMP Characteristics'!AD82/43560","v":0},null,{"$f":"'2. BMP Characteristics'!AG82/43560","v":0},{"$f":"'2. BMP Characteristics'!AI82/43560","v":0},{"$f":"'2. BMP Characteristics'!AK82/43560","v":0},null,{"$f":"'2. BMP Characteristics'!AN82/43560","v":0},{"$f":"'2. BMP Characteristics'!AP82/43560","v":0},{"$f":"'2. BMP Characteristics'!AR82/43560","v":0},null,null,{"$f":"'2. BMP Characteristics'!AZ82/43560","v":0},{"$f":"'2. BMP Characteristics'!AV82/43560","v":0},0]
[null,"     ¼-ac lots (Built after 1995)",{"$f":"'2. BMP Characteristics'!E83/43560","v":0},{"$f":"'2. BMP Characteristics'!G83/43560","v":0},{"$f":"'2. BMP Characteristics'!I83/43560","v":0},null,{"$f":"'2. BMP Characteristics'!L83/43560","v":0},{"$f":"'2. BMP Characteristics'!N83/43560","v":0},{"$f":"'2. BMP Characteristics'!P83/43560","v":0},null,{"$f":"'2. BMP Characteristics'!S83/43560","v":0},{"$f":"'2. BMP Characteristics'!U83/43560","v":0},{"$f":"'2. BMP Characteristics'!W83/43560","v":0},null,{"$f":"'2. BMP Characteristics'!Z83/43560","v":0},{"$f":"'2. BMP Characteristics'!AB83/43560","v":0},{"$f":"'2. BMP Characteristics'!AD83/43560","v":0},null,{"$f":"'2. BMP Characteristics'!AG83/43560","v":0},{"$f":"'2. BMP Characteristics'!AI83/43560","v":0},{"$f":"'2. BMP Characteristics'!AK83/43560","v":0},null,{"$f":"'2. BMP Characteristics'!AN83/43560","v":0},{"$f":"'2. BMP Characteristics'!AP83/43560","v":0},{"$f":"'2. BMP Characteristics'!AR83/43560","v":0},null,null,{"$f":"'2. BMP Characteristics'!AZ83/43560","v":0},{"$f":"'2. BMP Characteristics'!AV83/43560","v":0},0]
[null,"     ¼-ac lots (Built before 1995)",{"$f":"'2. BMP Characteristics'!E84/43560","v":0},{"$f":"'2. BMP Characteristics'!G84/43560","v":0},{"$f":"'2. BMP Characteristics'!I84/43560","v":0},null,{"$f":"'2. BMP Characteristics'!L84/43560","v":0},{"$f":"'2. BMP Characteristics'!N84/43560","v":0},{"$f":"'2. BMP Characteristics'!P84/43560","v":0},null,{"$f":"'2. BMP Characteristics'!S84/43560","v":0},{"$f":"'2. BMP Characteristics'!U84/43560","v":0},{"$f":"'2. BMP Characteristics'!W84/43560","v":0},null,{"$f":"'2. BMP Characteristics'!Z84/43560","v":0},{"$f":"'2. BMP Characteristics'!AB84/43560","v":0},{"$f":"'2. BMP Characteristics'!AD84/43560","v":0},null,{"$f":"'2. BMP Characteristics'!AG84/43560","v":0},{"$f":"'2. BMP Characteristics'!AI84/43560","v":0},{"$f":"'2. BMP Characteristics'!AK84/43560","v":0},null,{"$f":"'2. BMP Characteristics'!AN84/43560","v":0},{"$f":"'2. BMP Characteristics'!AP84/43560","v":0},{"$f":"'2. BMP Characteristics'!AR84/43560","v":0},null,null,{"$f":"'2. BMP Characteristics'!AZ84/43560","v":0},{"$f":"'2. BMP Characteristics'!AV84/43560","v":0},0]
[null,"     ⅛-ac lots (New)",{"$f":"'2. BMP Characteristics'!E85/43560","v":0},{"$f":"'2. BMP Characteristics'!G85/43560","v":0},{"$f":"'2. BMP Characteristics'!I85/43560","v":0},null,{"$f":"'2. BMP Characteristics'!L85/43560","v":0},{"$f":"'2. BMP Characteristics'!N85/43560","v":0},{"$f":"'2. BMP Characteristics'!P85/43560","v":0},null,{"$f":"'2. BMP Characteristics'!S85/43560","v":0},{"$f":"'2. BMP Characteristics'!U85/43560","v":0},{"$f":"'2. BMP Characteristics'!W85/43560","v":0},null,{"$f":"'2. BMP Characteristics'!Z85/43560","v":0},{"$f":"'2. BMP Characteristics'!AB85/43560","v":0},{"$f":"'2. BMP Characteristics'!AD85/43560","v":0},null,{"$f":"'2. BMP Characteristics'!AG85/43560","v":0},{"$f":"'2. BMP Characteristics'!AI85/43560","v":0},{"$f":"'2. BMP Characteristics'!AK85/43560","v":0},null,{"$f":"'2. BMP Characteristics'!AN85/43560","v":0},{"$f":"'2. BMP Characteristics'!AP85/43560","v":0},{"$f":"'2. BMP Characteristics'!AR85/43560","v":0},null,null,{"$f":"'2. BMP Characteristics'!AZ85/43560","v":0},{"$f":"'2. BMP Characteristics'!AV85/43560","v":0},0]
[null,"     ⅛-ac lots (Built after 1995)",{"$f":"'2. BMP Characteristics'!E86/43560","v":0},{"$f":"'2. BMP Characteristics'!G86/43560","v":0},{"$f":"'2. BMP Characteristics'!I86/43560","v":0},null,{"$f":"'2. BMP Characteristics'!L86/43560","v":0},{"$f":"'2. BMP Characteristics'!N86/43560","v":0},{"$f":"'2. BMP Characteristics'!P86/43560","v":0},null,{"$f":"'2. BMP Characteristics'!S86/43560","v":0},{"$f":"'2. BMP Characteristics'!U86/43560","v":0},{"$f":"'2. BMP Characteristics'!W86/43560","v":0},null,{"$f":"'2. BMP Characteristics'!Z86/43560","v":0},{"$f":"'2. BMP Characteristics'!AB86/43560","v":0},{"$f":"'2. BMP Characteristics'!AD86/43560","v":0},null,{"$f":"'2. BMP Characteristics'!AG86/43560","v":0},{"$f":"'2. BMP Characteristics'!AI86/43560","v":0},{"$f":"'2. BMP Characteristics'!AK86/43560","v":0},null,{"$f":"'2. BMP Characteristics'!AN86/43560","v":0},{"$f":"'2. BMP Characteristics'!AP86/43560","v":0},{"$f":"'2. BMP Characteristics'!AR86/43560","v":0},null,null,{"$f":"'2. BMP Characteristics'!AZ86/43560","v":0},{"$f":"'2. BMP Characteristics'!AV86/43560","v":0},0]
[null,"     ⅛-ac lots (Built before 1995)",{"$f":"'2. BMP Characteristics'!E87/43560","v":0},{"$f":"'2. BMP Characteristics'!G87/43560","v":0},{"$f":"'2. BMP Characteristics'!I87/43560","v":0},null,{"$f":"'2. BMP Characteristics'!L87/43560","v":0},{"$f":"'2. BMP Characteristics'!N87/43560","v":0},{"$f":"'2. BMP Characteristics'!P87/43560","v":0},null,{"$f":"'2. BMP Characteristics'!S87/43560","v":0},{"$f":"'2. BMP Characteristics'!U87/43560","v":0},{"$f":"'2. BMP Characteristics'!W87/43560","v":0},null,{"$f":"'2. BMP Characteristics'!Z87/43560","v":0},{"$f":"'2. BMP Characteristics'!AB87/43560","v":0},{"$f":"'2. BMP Characteristics'!AD87/43560","v":0},null,{"$f":"'2. BMP Characteristics'!AG87/43560","v":0},{"$f":"'2. BMP Characteristics'!AI87/43560","v":0},{"$f":"'2. BMP Characteristics'!AK87/43560","v":0},null,{"$f":"'2. BMP Characteristics'!AN87/43560","v":0},{"$f":"'2. BMP Characteristics'!AP87/43560","v":0},{"$f":"'2. BMP Characteristics'!AR87/43560","v":0},null,null,{"$f":"'2. BMP Characteristics'!AZ87/43560","v":0},{"$f":"'2. BMP Characteristics'!AV87/43560","v":0},0]
[null,"     Townhomes (New)",{"$f":"'2. BMP Characteristics'!E88/43560","v":0},{"$f":"'2. BMP Characteristics'!G88/43560","v":0},{"$f":"'2. BMP Characteristics'!I88/43560","v":0},null,{"$f":"'2. BMP Characteristics'!L88/43560","v":0},{"$f":"'2. BMP Characteristics'!N88/43560","v":0},{"$f":"'2. BMP Characteristics'!P88/43560","v":0},null,{"$f":"'2. BMP Characteristics'!S88/43560","v":0},{"$f":"'2. BMP Characteristics'!U88/43560","v":0},{"$f":"'2. BMP Characteristics'!W88/43560","v":0},null,{"$f":"'2. BMP Characteristics'!Z88/43560","v":0},{"$f":"'2. BMP Characteristics'!AB88/43560","v":0},{"$f":"'2. BMP Characteristics'!AD88/43560","v":0},null,{"$f":"'2. BMP Characteristics'!AG88/43560","v":0},{"$f":"'2. BMP Characteristics'!AI88/43560","v":0},{"$f":"'2. BMP Characteristics'!AK88/43560","v":0},null,{"$f":"'2. BMP Characteristics'!AN88/43560","v":0},{"$f":"'2. BMP Characteristics'!AP88/43560","v":0},{"$f":"'2. BMP Characteristics'!AR88/43560","v":0},null,null,{"$f":"'2. BMP Characteristics'!AZ88/43560","v":0},{"$f":"'2. BMP Characteristics'!AV88/43560","v":0},0]
[null,"     Townhomes (Built after 1995)",{"$f":"'2. BMP Characteristics'!E89/43560","v":0},{"$f":"'2. BMP Characteristics'!G89/43560","v":0},{"$f":"'2. BMP Characteristics'!I89/43560","v":0},null,{"$f":"'2. BMP Characteristics'!L89/43560","v":0},{"$f":"'2. BMP Characteristics'!N89/43560","v":0},{"$f":"'2. BMP Characteristics'!P89/43560","v":0},null,{"$f":"'2. BMP Characteristics'!S89/43560","v":0},{"$f":"'2. BMP Characteristics'!U89/43560","v":0},{"$f":"'2. BMP Characteristics'!W89/43560","v":0},null,{"$f":"'2. BMP Characteristics'!Z89/43560","v":0},{"$f":"'2. BMP Characteristics'!AB89/43560","v":0},{"$f":"'2. BMP Characteristics'!AD89/43560","v":0},null,{"$f":"'2. BMP Characteristics'!AG89/43560","v":0},{"$f":"'2. BMP Characteristics'!AI89/43560","v":0},{"$f":"'2. BMP Characteristics'!AK89/43560","v":0},null,{"$f":"'2. BMP Characteristics'!AN89/43560","v":0},{"$f":"'2. BMP Characteristics'!AP89/43560","v":0},{"$f":"'2. BMP Characteristics'!AR89/43560","v":0},null,null,{"$f":"'2. BMP Characteristics'!AZ89/43560","v":0},{"$f":"'2. BMP Characteristics'!AV89/43560","v":0},0]
[null,"     Townhomes (Built before 1995)",{"$f":"'2. BMP Characteristics'!E90/43560","v":0},{"$f":"'2. BMP Characteristics'!G90/43560","v":0},{"$f":"'2. BMP Characteristics'!I90/43560","v":0},null,{"$f":"'2. BMP Characteristics'!L90/43560","v":0},{"$f":"'2. BMP Characteristics'!N90/43560","v":0},{"$f":"'2. BMP Characteristics'!P90/43560","v":0},null,{"$f":"'2. BMP Characteristics'!S90/43560","v":0},{"$f":"'2. BMP Characteristics'!U90/43560","v":0},{"$f":"'2. BMP Characteristics'!W90/43560","v":0},null,{"$f":"'2. BMP Characteristics'!Z90/43560","v":0},{"$f":"'2. BMP Characteristics'!AB90/43560","v":0},{"$f":"'2. BMP Characteristics'!AD90/43560","v":0},null,{"$f":"'2. BMP Characteristics'!AG90/43560","v":0},{"$f":"'2. BMP Characteristics'!AI90/43560","v":0},{"$f":"'2. BMP Characteristics'!AK90/43560","v":0},null,{"$f":"'2. BMP Characteristics'!AN90/43560","v":0},{"$f":"'2. BMP Characteristics'!AP90/43560","v":0},{"$f":"'2. BMP Characteristics'!AR90/43560","v":0},null,null,{"$f":"'2. BMP Characteristics'!AZ90/43560","v":0},{"$f":"'2. BMP Characteristics'!AV90/43560","v":0},0]
[null,"     Multi-family (New)",{"$f":"'2. BMP Characteristics'!E91/43560","v":0},{"$f":"'2. BMP Characteristics'!G91/43560","v":0},{"$f":"'2. BMP Characteristics'!I91/43560","v":0},null,{"$f":"'2. BMP Characteristics'!L91/43560","v":0},{"$f":"'2. BMP Characteristics'!N91/43560","v":0},{"$f":"'2. BMP Characteristics'!P91/43560","v":0},null,{"$f":"'2. BMP Characteristics'!S91/43560","v":0},{"$f":"'2. BMP Characteristics'!U91/43560","v":0},{"$f":"'2. BMP Characteristics'!W91/43560","v":0},null,{"$f":"'2. BMP Characteristics'!Z91/43560","v":0},{"$f":"'2. BMP Characteristics'!AB91/43560","v":0},{"$f":"'2. BMP Characteristics'!AD91/43560","v":0},null,{"$f":"'2. BMP Characteristics'!AG91/43560","v":0},{"$f":"'2. BMP Characteristics'!AI91/43560","v":0},{"$f":"'2. BMP Characteristics'!AK91/43560","v":0},null,{"$f":"'2. BMP Characteristics'!AN91/43560","v":0},{"$f":"'2. BMP Characteristics'!AP91/43560","v":0},{"$f":"'2. BMP Characteristics'!AR91/43560","v":0},null,null,{"$f":"'2. BMP Characteristics'!AZ91/43560","v":0},{"$f":"'2. BMP Characteristics'!AV91/43560","v":0},0]
[null,"     Multi-family (Built after 1995)",{"$f":"'2. BMP Characteristics'!E92/43560","v":0},{"$f":"'2. BMP Characteristics'!G92/43560","v":0},{"$f":"'2. BMP Characteristics'!I92/43560","v":0},null,{"$f":"'2. BMP Characteristics'!L92/43560","v":0},{"$f":"'2. BMP Characteristics'!N92/43560","v":0},{"$f":"'2. BMP Characteristics'!P92/43560","v":0},null,{"$f":"'2. BMP Characteristics'!S92/43560","v":0},{"$f":"'2. BMP Characteristics'!U92/43560","v":0},{"$f":"'2. BMP Characteristics'!W92/43560","v":0},null,{"$f":"'2. BMP Characteristics'!Z92/43560","v":0},{"$f":"'2. BMP Characteristics'!AB92/43560","v":0},{"$f":"'2. BMP Characteristics'!AD92/43560","v":0},null,{"$f":"'2. BMP Characteristics'!AG92/43560","v":0},{"$f":"'2. BMP Characteristics'!AI92/43560","v":0},{"$f":"'2. BMP Characteristics'!AK92/43560","v":0},null,{"$f":"'2. BMP Characteristics'!AN92/43560","v":0},{"$f":"'2. BMP Characteristics'!AP92/43560","v":0},{"$f":"'2. BMP Characteristics'!AR92/43560","v":0},null,null,{"$f":"'2. BMP Characteristics'!AZ92/43560","v":0},{"$f":"'2. BMP Characteristics'!AV92/43560","v":0},0]
[null,"     Multi-family (Built before 1995)",{"$f":"'2. BMP Characteristics'!E93/43560","v":0},{"$f":"'2. BMP Characteristics'!G93/43560","v":0},{"$f":"'2. BMP Characteristics'!I93/43560","v":0},null,{"$f":"'2. BMP Characteristics'!L93/43560","v":0},{"$f":"'2. BMP Characteristics'!N93/43560","v":0},{"$f":"'2. BMP Characteristics'!P93/43560","v":0},null,{"$f":"'2. BMP Characteristics'!S93/43560","v":0},{"$f":"'2. BMP Characteristics'!U93/43560","v":0},{"$f":"'2. BMP Characteristics'!W93/43560","v":0},null,{"$f":"'2. BMP Characteristics'!Z93/43560","v":0},{"$f":"'2. BMP Characteristics'!AB93/43560","v":0},{"$f":"'2. BMP Characteristics'!AD93/43560","v":0},null,{"$f":"'2. BMP Characteristics'!AG93/43560","v":0},{"$f":"'2. BMP Characteristics'!AI93/43560","v":0},{"$f":"'2. BMP Characteristics'!AK93/43560","v":0},null,{"$f":"'2. BMP Characteristics'!AN93/43560","v":0},{"$f":"'2. BMP Characteristics'!AP93/43560","v":0},{"$f":"'2. BMP Characteristics'!AR93/43560","v":0},null,null,{"$f":"'2. BMP Characteristics'!AZ93/43560","v":0},{"$f":"'2. BMP Characteristics'!AV93/43560","v":0},0]
[null,"     Custom Lot Size (New)",{"$f":"'2. BMP Characteristics'!E94/43560","v":0},{"$f":"'2. BMP Characteristics'!G94/43560","v":0},{"$f":"'2. BMP Characteristics'!I94/43560","v":0},null,{"$f":"'2. BMP Characteristics'!L94/43560","v":0},{"$f":"'2. BMP Characteristics'!N94/43560","v":0},{"$f":"'2. BMP Characteristics'!P94/43560","v":0},null,{"$f":"'2. BMP Characteristics'!S94/43560","v":0},{"$f":"'2. BMP Characteristics'!U94/43560","v":0},{"$f":"'2. BMP Characteristics'!W94/43560","v":0},null,{"$f":"'2. BMP Characteristics'!Z94/43560","v":0},{"$f":"'2. BMP Characteristics'!AB94/43560","v":0},{"$f":"'2. BMP Characteristics'!AD94/43560","v":0},null,{"$f":"'2. BMP Characteristics'!AG94/43560","v":0},{"$f":"'2. BMP Characteristics'!AI94/43560","v":0},{"$f":"'2. BMP Characteristics'!AK94/43560","v":0},null,{"$f":"'2. BMP Characteristics'!AN94/43560","v":0},{"$f":"'2. BMP Characteristics'!AP94/43560","v":0},{"$f":"'2. BMP Characteristics'!AR94/43560","v":0},null,null,{"$f":"'2. BMP Characteristics'!AZ94/43560","v":0},{"$f":"'2. BMP Characteristics'!AV94/43560","v":0},0]
[null,"     Custom Lot Size (Built after 1995)",{"$f":"'2. BMP Characteristics'!E95/43560","v":0},{"$f":"'2. BMP Characteristics'!G95/43560","v":0},{"$f":"'2. BMP Characteristics'!I95/43560","v":0},null,{"$f":"'2. BMP Characteristics'!L95/43560","v":0},{"$f":"'2. BMP Characteristics'!N95/43560","v":0},{"$f":"'2. BMP Characteristics'!P95/43560","v":0},null,{"$f":"'2. BMP Characteristics'!S95/43560","v":0},{"$f":"'2. BMP Characteristics'!U95/43560","v":0},{"$f":"'2. BMP Characteristics'!W95/43560","v":0},null,{"$f":"'2. BMP Characteristics'!Z95/43560","v":0},{"$f":"'2. BMP Characteristics'!AB95/43560","v":0},{"$f":"'2. BMP Characteristics'!AD95/43560","v":0},null,{"$f":"'2. BMP Characteristics'!AG95/43560","v":0},{"$f":"'2. BMP Characteristics'!AI95/43560","v":0},{"$f":"'2. BMP Characteristics'!AK95/43560","v":0},null,{"$f":"'2. BMP Characteristics'!AN95/43560","v":0},{"$f":"'2. BMP Characteristics'!AP95/43560","v":0},{"$f":"'2. BMP Characteristics'!AR95/43560","v":0},null,null,{"$f":"'2. BMP Characteristics'!AZ95/43560","v":0},{"$f":"'2. BMP Characteristics'!AV95/43560","v":0},0]
[null,"     Custom Lot Size (Built before 1995)",{"$f":"'2. BMP Characteristics'!E96/43560","v":0},{"$f":"'2. BMP Characteristics'!G96/43560","v":0},{"$f":"'2. BMP Characteristics'!I96/43560","v":0},null,{"$f":"'2. BMP Characteristics'!L96/43560","v":0},{"$f":"'2. BMP Characteristics'!N96/43560","v":0},{"$f":"'2. BMP Characteristics'!P96/43560","v":0},null,{"$f":"'2. BMP Characteristics'!S96/43560","v":0},{"$f":"'2. BMP Characteristics'!U96/43560","v":0},{"$f":"'2. BMP Characteristics'!W96/43560","v":0},null,{"$f":"'2. BMP Characteristics'!Z96/43560","v":0},{"$f":"'2. BMP Characteristics'!AB96/43560","v":0},{"$f":"'2. BMP Characteristics'!AD96/43560","v":0},null,{"$f":"'2. BMP Characteristics'!AG96/43560","v":0},{"$f":"'2. BMP Characteristics'!AI96/43560","v":0},{"$f":"'2. BMP Characteristics'!AK96/43560","v":0},null,{"$f":"'2. BMP Characteristics'!AN96/43560","v":0},{"$f":"'2. BMP Characteristics'!AP96/43560","v":0},{"$f":"'2. BMP Characteristics'!AR96/43560","v":0},null,null,{"$f":"'2. BMP Characteristics'!AZ96/43560","v":0},{"$f":"'2. BMP Characteristics'!AV96/43560","v":0},0]
[null,"     Roadway",{"$f":"'2. BMP Characteristics'!E97/43560","v":0},{"$f":"'2. BMP Characteristics'!G97/43560","v":0},{"$f":"'2. BMP Characteristics'!I97/43560","v":0},null,{"$f":"'2. BMP Characteristics'!L97/43560","v":0},{"$f":"'2. BMP Characteristics'!N97/43560","v":0},{"$f":"'2. BMP Characteristics'!P97/43560","v":0},null,{"$f":"'2. BMP Characteristics'!S97/43560","v":0},{"$f":"'2. BMP Characteristics'!U97/43560","v":0},{"$f":"'2. BMP Characteristics'!W97/43560","v":0},null,{"$f":"'2. BMP Characteristics'!Z97/43560","v":0},{"$f":"'2. BMP Characteristics'!AB97/43560","v":0},{"$f":"'2. BMP Characteristics'!AD97/43560","v":0},null,{"$f":"'2. BMP Characteristics'!AG97/43560","v":0},{"$f":"'2. BMP Characteristics'!AI97/43560","v":0},{"$f":"'2. BMP Characteristics'!AK97/43560","v":0},null,{"$f":"'2. BMP Characteristics'!AN97/43560","v":0},{"$f":"'2. BMP Characteristics'!AP97/43560","v":0},{"$f":"'2. BMP Characteristics'!AR97/43560","v":0},null,null,{"$f":"'2. BMP Characteristics'!AZ97/43560","v":0},{"$f":"'2. BMP Characteristics'!AV97/43560","v":0},0]
[null,"     Driveway",{"$f":"'2. BMP Characteristics'!E98/43560","v":0},{"$f":"'2. BMP Characteristics'!G98/43560","v":0},{"$f":"'2. BMP Characteristics'!I98/43560","v":0},null,{"$f":"'2. BMP Characteristics'!L98/43560","v":0},{"$f":"'2. BMP Characteristics'!N98/43560","v":0},{"$f":"'2. BMP Characteristics'!P98/43560","v":0},null,{"$f":"'2. BMP Characteristics'!S98/43560","v":0},{"$f":"'2. BMP Characteristics'!U98/43560","v":0},{"$f":"'2. BMP Characteristics'!W98/43560","v":0},null,{"$f":"'2. BMP Characteristics'!Z98/43560","v":0},{"$f":"'2. BMP Characteristics'!AB98/43560","v":0},{"$f":"'2. BMP Characteristics'!AD98/43560","v":0},null,{"$f":"'2. BMP Characteristics'!AG98/43560","v":0},{"$f":"'2. BMP Characteristics'!AI98/43560","v":0},{"$f":"'2. BMP Characteristics'!AK98/43560","v":0},null,{"$f":"'2. BMP Characteristics'!AN98/43560","v":0},{"$f":"'2. BMP Characteristics'!AP98/43560","v":0},{"$f":"'2. BMP Characteristics'!AR98/43560","v":0},null,null,{"$f":"'2. BMP Characteristics'!AZ98/43560","v":0},{"$f":"'2. BMP Characteristics'!AV98/43560","v":0},0]
[null,"     Parking lot",{"$f":"'2. BMP Characteristics'!E99/43560","v":0},{"$f":"'2. BMP Characteristics'!G99/43560","v":0},{"$f":"'2. BMP Characteristics'!I99/43560","v":0},null,{"$f":"'2. BMP Characteristics'!L99/43560","v":0},{"$f":"'2. BMP Characteristics'!N99/43560","v":0},{"$f":"'2. BMP Characteristics'!P99/43560","v":0},null,{"$f":"'2. BMP Characteristics'!S99/43560","v":0},{"$f":"'2. BMP Characteristics'!U99/43560","v":0},{"$f":"'2. BMP Characteristics'!W99/43560","v":0},null,{"$f":"'2. BMP Characteristics'!Z99/43560","v":0},{"$f":"'2. BMP Characteristics'!AB99/43560","v":0},{"$f":"'2. BMP Characteristics'!AD99/43560","v":0},null,{"$f":"'2. BMP Characteristics'!AG99/43560","v":0},{"$f":"'2. BMP Characteristics'!AI99/43560","v":0},{"$f":"'2. BMP Characteristics'!AK99/43560","v":0},null,{"$f":"'2. BMP Characteristics'!AN99/43560","v":0},{"$f":"'2. BMP Characteristics'!AP99/43560","v":0},{"$f":"'2. BMP Characteristics'!AR99/43560","v":0},null,null,{"$f":"'2. BMP Characteristics'!AZ99/43560","v":0},{"$f":"'2. BMP Characteristics'!AV99/43560","v":0},0]
[null,"     Roof",{"$f":"'2. BMP Characteristics'!E100/43560","v":0},{"$f":"'2. BMP Characteristics'!G100/43560","v":0},{"$f":"'2. BMP Characteristics'!I100/43560","v":0},null,{"$f":"'2. BMP Characteristics'!L100/43560","v":0},{"$f":"'2. BMP Characteristics'!N100/43560","v":0},{"$f":"'2. BMP Characteristics'!P100/43560","v":0},null,{"$f":"'2. BMP Characteristics'!S100/43560","v":0},{"$f":"'2. BMP Characteristics'!U100/43560","v":0},{"$f":"'2. BMP Characteristics'!W100/43560","v":0},null,{"$f":"'2. BMP Characteristics'!Z100/43560","v":0},{"$f":"'2. BMP Characteristics'!AB100/43560","v":0},{"$f":"'2. BMP Characteristics'!AD100/43560","v":0},null,{"$f":"'2. BMP Characteristics'!AG100/43560","v":0},{"$f":"'2. BMP Characteristics'!AI100/43560","v":0},{"$f":"'2. BMP Characteristics'!AK100/43560","v":0},null,{"$f":"'2. BMP Characteristics'!AN100/43560","v":0},{"$f":"'2. BMP Characteristics'!AP100/43560","v":0},{"$f":"'2. BMP Characteristics'!AR100/43560","v":0},null,null,{"$f":"'2. BMP Characteristics'!AZ100/43560","v":0},{"$f":"'2. BMP Characteristics'!AV100/43560","v":0},0]
[null,"     Sidewalk",{"$f":"'2. BMP Characteristics'!E101/43560","v":0},{"$f":"'2. BMP Characteristics'!G101/43560","v":0},{"$f":"'2. BMP Characteristics'!I101/43560","v":0},null,{"$f":"'2. BMP Characteristics'!L101/43560","v":0},{"$f":"'2. BMP Characteristics'!N101/43560","v":0},{"$f":"'2. BMP Characteristics'!P101/43560","v":0},null,{"$f":"'2. BMP Characteristics'!S101/43560","v":0},{"$f":"'2. BMP Characteristics'!U101/43560","v":0},{"$f":"'2. BMP Characteristics'!W101/43560","v":0},null,{"$f":"'2. BMP Characteristics'!Z101/43560","v":0},{"$f":"'2. BMP Characteristics'!AB101/43560","v":0},{"$f":"'2. BMP Characteristics'!AD101/43560","v":0},null,{"$f":"'2. BMP Characteristics'!AG101/43560","v":0},{"$f":"'2. BMP Characteristics'!AI101/43560","v":0},{"$f":"'2. BMP Characteristics'!AK101/43560","v":0},null,{"$f":"'2. BMP Characteristics'!AN101/43560","v":0},{"$f":"'2. BMP Characteristics'!AP101/43560","v":0},{"$f":"'2. BMP Characteristics'!AR101/43560","v":0},null,null,{"$f":"'2. BMP Characteristics'!AZ101/43560","v":0},{"$f":"'2. BMP Characteristics'!AV101/43560","v":0},0]
[null,"     Lawn",{"$f":"'2. BMP Characteristics'!E102/43560","v":0},{"$f":"'2. BMP Characteristics'!G102/43560","v":0},{"$f":"'2. BMP Characteristics'!I102/43560","v":0},null,{"$f":"'2. BMP Characteristics'!L102/43560","v":0},{"$f":"'2. BMP Characteristics'!N102/43560","v":0},{"$f":"'2. BMP Characteristics'!P102/43560","v":0},null,{"$f":"'2. BMP Characteristics'!S102/43560","v":0},{"$f":"'2. BMP Characteristics'!U102/43560","v":0},{"$f":"'2. BMP Characteristics'!W102/43560","v":0},null,{"$f":"'2. BMP Characteristics'!Z102/43560","v":0},{"$f":"'2. BMP Characteristics'!AB102/43560","v":0},{"$f":"'2. BMP Characteristics'!AD102/43560","v":0},null,{"$f":"'2. BMP Characteristics'!AG102/43560","v":0},{"$f":"'2. BMP Characteristics'!AI102/43560","v":0},{"$f":"'2. BMP Characteristics'!AK102/43560","v":0},null,{"$f":"'2. BMP Characteristics'!AN102/43560","v":0},{"$f":"'2. BMP Characteristics'!AP102/43560","v":0},{"$f":"'2. BMP Characteristics'!AR102/43560","v":0},null,null,{"$f":"'2. BMP Characteristics'!AZ102/43560","v":0},{"$f":"'2. BMP Characteristics'!AV102/43560","v":0},0]
[null,"     Managed pervious",{"$f":"'2. BMP Characteristics'!E103/43560","v":0},{"$f":"'2. BMP Characteristics'!G103/43560","v":0},{"$f":"'2. BMP Characteristics'!I103/43560","v":0},null,{"$f":"'2. BMP Characteristics'!L103/43560","v":0},{"$f":"'2. BMP Characteristics'!N103/43560","v":0},{"$f":"'2. BMP Characteristics'!P103/43560","v":0},null,{"$f":"'2. BMP Characteristics'!S103/43560","v":0},{"$f":"'2. BMP Characteristics'!U103/43560","v":0},{"$f":"'2. BMP Characteristics'!W103/43560","v":0},null,{"$f":"'2. BMP Characteristics'!Z103/43560","v":0},{"$f":"'2. BMP Characteristics'!AB103/43560","v":0},{"$f":"'2. BMP Characteristics'!AD103/43560","v":0},null,{"$f":"'2. BMP Characteristics'!AG103/43560","v":0},{"$f":"'2. BMP Characteristics'!AI103/43560","v":0},{"$f":"'2. BMP Characteristics'!AK103/43560","v":0},null,{"$f":"'2. BMP Characteristics'!AN103/43560","v":0},{"$f":"'2. BMP Characteristics'!AP103/43560","v":0},{"$f":"'2. BMP Characteristics'!AR103/43560","v":0},null,null,{"$f":"'2. BMP Characteristics'!AZ103/43560","v":0},{"$f":"'2. BMP Characteristics'!AV103/43560","v":0},0]
[null,"     Woods",{"$f":"'2. BMP Characteristics'!E104/43560","v":0},{"$f":"'2. BMP Characteristics'!G104/43560","v":0},{"$f":"'2. BMP Characteristics'!I104/43560","v":0},null,{"$f":"'2. BMP Characteristics'!L104/43560","v":0},{"$f":"'2. BMP Characteristics'!N104/43560","v":0},{"$f":"'2. BMP Characteristics'!P104/43560","v":0},null,{"$f":"'2. BMP Characteristics'!S104/43560","v":0},{"$f":"'2. BMP Characteristics'!U104/43560","v":0},{"$f":"'2. BMP Characteristics'!W104/43560","v":0},null,{"$f":"'2. BMP Characteristics'!Z104/43560","v":0},{"$f":"'2. BMP Characteristics'!AB104/43560","v":0},{"$f":"'2. BMP Characteristics'!AD104/43560","v":0},null,{"$f":"'2. BMP Characteristics'!AG104/43560","v":0},{"$f":"'2. BMP Characteristics'!AI104/43560","v":0},{"$f":"'2. BMP Characteristics'!AK104/43560","v":0},null,{"$f":"'2. BMP Characteristics'!AN104/43560","v":0},{"$f":"'2. BMP Characteristics'!AP104/43560","v":0},{"$f":"'2. BMP Characteristics'!AR104/43560","v":0},null,null,{"$f":"'2. BMP Characteristics'!AZ104/43560","v":0},{"$f":"'2. BMP Characteristics'!AV104/43560","v":0},0]
[null,"LAND TAKEN UP BY BMP",{"$f":"'2. BMP Characteristics'!E105/43560","v":0},{"$f":"'2. BMP Characteristics'!G105/43560","v":0},{"$f":"'2. BMP Characteristics'!I105/43560","v":0},null,{"$f":"'2. BMP Characteristics'!L105/43560","v":0},{"$f":"'2. BMP Characteristics'!N105/43560","v":0},{"$f":"'2. BMP Characteristics'!P105/43560","v":0},null,{"$f":"'2. BMP Characteristics'!S105/43560","v":0},{"$f":"'2. BMP Characteristics'!U105/43560","v":0},{"$f":"'2. BMP Characteristics'!W105/43560","v":0},null,{"$f":"'2. BMP Characteristics'!Z105/43560","v":0},{"$f":"'2. BMP Characteristics'!AB105/43560","v":0},{"$f":"'2. BMP Characteristics'!AD105/43560","v":0},null,{"$f":"'2. BMP Characteristics'!AG105/43560","v":0},{"$f":"'2. BMP Characteristics'!AI105/43560","v":0},{"$f":"'2. BMP Characteristics'!AK105/43560","v":0},null,{"$f":"'2. BMP Characteristics'!AN105/43560","v":0},{"$f":"'2. BMP Characteristics'!AP105/43560","v":0},{"$f":"'2. BMP Characteristics'!AR105/43560","v":0},null,null,{"$f":"'2. BMP Characteristics'!AZ105/43560","v":0},{"$f":"'2. BMP Characteristics'!AV105/43560","v":0},0]
[null,null,null,null,null,null,null,null,null,null,null,null,null,null,null,null,null,null,null,null,null,null,null,null,null,null,null,{"$f":"SUM(AB136:AB197)","v":0},{"$f":"SUM(AC136:AC197)","v":0},{"$f":"SUM(AD136:AD197)","v":0}]
[]
[null,"PERCENT IMPERVIOUS","% Impervious","% Impervious","% Impervious",null,"% Impervious","% Impervious","% Impervious",null,"% Impervious","% Impervious","% Impervious",null,"% Impervious","% Impervious","% Impervious",null,"% Impervious","% Impervious","% Impervious",null,"% Impervious","% Impervious","% Impervious",null,null,"Post-Dev % Impervious","Post-Dev w/ BMPs % Impervious","Difference"]
[null,"COMMERCIAL"]
[null,"     Parking lot",{"$f":"Assignments!C13","v":1},{"$f":"C202","v":1},{"$f":"C202","v":1},null,{"$f":"E202","v":1},{"$f":"E202","v":1},{"$f":"E202","v":1},null,{"$f":"E202","v":1},{"$f":"E202","v":1},{"$f":"E202","v":1},null,{"$f":"E202","v":1},{"$f":"E202","v":1},{"$f":"E202","v":1},null,{"$f":"E202","v":1},{"$f":"E202","v":1},{"$f":"E202","v":1},null,{"$f":"E202","v":1},{"$f":"E202","v":1},{"$f":"E202","v":1},null,null,{"$f":"Y202","v":1},{"$f":"Y202","v":1},{"$f":"AC202","v":1}]
[null,"     Roof",{"$f":"Assignments!C14","v":1},1,1,null,1,1,1,null,1,1,1,null,1,1,1,null,1,1,1,null,1,1,1,null,null,{"$f":"Y203","v":1},{"$f":"Y203","v":1},{"$f":"AC203","v":1}]
[null,"INDUSTRIAL",0,0,0,null,0,0,0,null,0,0,0,null,0,0,0,null,0,0,0,null,0,0,0,null,null,0,0,0]
[null,"     Parking lot",{"$f":"Assignments!C16","v":1},1,1,null,1,1,1,null,1,1,1,null,1,1,1,null,1,1,1,null,1,1,1,null,null,1,1,1]
[null,"     Roof",{"$f":"Assignments!C17","v":1},1,1,null,1,1,1,null,1,1,1,null,1,1,1,null,1,1,1,null,1,1,1,null,null,1,1,1]
[null,"     Access road",{"$f":"Assignments!C18","v":1},1,1,null,1,1,1,null,1,1,1,null,1,1,1,null,1,1,1,null,1,1,1,null,null,1,1,1]
[null,"     Impervious, uncovered storage",{"$f":"Assignments!C19","v":1},{"$f":"C208","v":1},{"$f":"C208","v":1},null,{"$f":"E208","v":1},{"$f":"E208","v":1},{"$f":"E208","v":1},null,{"$f":"E208","v":1},{"$f":"E208","v":1},{"$f":"E208","v":1},null,{"$f":"E208","v":1},{"$f":"E208","v":1},{"$f":"E208","v":1},null,{"$f":"E208","v":1},{"$f":"E208","v":1},{"$f":"E208","v":1},null,{"$f":"E208","v":1},{"$f":"E208","v":1},{"$f":"E208","v":1},null,null,{"$f":"Y208","v":1},{"$f":"Y208","v":1},{"$f":"AC208","v":1}]
[null,"     Pervious, uncovered storage",{"$f":"Assignments!C20","v":0},0,0,null,0,0,0,null,0,0,0,null,0,0,0,null,0,0,0,null,0,0,0,null,null,0,0,0]
[null,"TRANSPORTATION",0,0,0,null,0,0,0,null,0,0,0,null,0,0,0,null,0,0,0,null,0,0,0,null,null,0,0,0]
[null,"     Primary road EOP",{"$f":"Assignments!C22","v":1},1,1,null,1,1,1,null,1,1,1,null,1,1,1,null,1,1,1,null,1,1,1,null,null,1,1,1]
[null,"     Secondary road EOP",{"$f":"Assignments!C23","v":1},1,1,null,1,1,1,null,1,1,1,null,1,1,1,null,1,1,1,null,1,1,1,null,null,1,1,1]
[null,"     Bridge EOP",{"$f":"Assignments!C24","v":1},1,1,null,1,1,1,null,1,1,1,null,1,1,1,null,1,1,1,null,1,1,1,null,null,1,1,1]
[null,"     Sidewalk",{"$f":"Assignments!C25","v":1},1,1,null,1,1,1,null,1,1,1,null,1,1,1,null,1,1,1,null,1,1,1,null,null,1,1,1]
[null,"REST AREA",0,0,0,null,0,0,0,null,0,0,0,null,0,0,0,null,0,0,0,null,0,0,0,null,null,0,0,0]
[null,"     Parking lot (car)",{"$f":"Assignments!C27","v":1},1,1,null,1,1,1,null,1,1,1,null,1,1,1,null,1,1,1,null,1,1,1,null,null,1,1,1]
[null,"     Parking lot (truck)",{"$f":"Assignments!C28","v":1},1,1,null,1,1,1,null,1,1,1,null,1,1,1,null,1,1,1,null,1,1,1,null,null,1,1,1]
[null,"     Roof",{"$f":"Assignments!C29","v":1},1,1,null,1,1,1,null,1,1,1,null,1,1,1,null,1,1,1,null,1,1,1,null,null,1,1,1]
[null,"MISC. PERVIOUS",0,0,0,null,0,0,0,null,0,0,0,null,0,0,0,null,0,0,0,null,0,0,0,null,null,0,0,0]
[null,"     Managed lawn (fertilized)",{"$f":"Assignments!C31","v":0},0,0,null,0,0,0,null,0,0,0,null,0,0,0,null,0,0,0,null,0,0,0,null,null,0,0,0]
[null,"     Open space (unfertilized)",{"$f":"Assignments!C32","v":0},0,0,null,0,0,0,null,0,0,0,null,0,0,0,null,0,0,0,null,0,0,0,null,null,0,0,0]
[null,"     Open/Landscaped",{"$f":"Assignments!C33","v":0},0,0,null,0,0,0,null,0,0,0,null,0,0,0,null,0,0,0,null,0,0,0,null,null,0,0,0]
[null,"     Agriculture (crop)",{"$f":"Assignments!C34","v":0},0,0,null,0,0,0,null,0,0,0,null,0,0,0,null,0,0,0,null,0,0,0,null,null,0,0,0]
[null,"     Agriculture (pasture)",{"$f":"Assignments!C35","v":0},0,0,null,0,0,0,null,0,0,0,null,0,0,0,null,0,0,0,null,0,0,0,null,null,0,0,0]
[null,"     Forest",{"$f":"Assignments!C36","v":0},0,0,null,0,0,0,null,0,0,0,null,0,0,0,null,0,0,0,null,0,0,0,null,null,0,0,0]
[null,"UNSPECIFIED LAND USE",0,0,0,null,0,0,0,null,0,0,0,null,0,0,0,null,0,0,0,null,0,0,0,null,null,0,0,0]
[null,"     Blank 1",{"$f":"IF(Assignments!C38=\"NA\", 0, Assignments!C38)","v":0},0,0,null,0,0,0,null,0,0,0,null,0,0,0,null,0,0,0,null,0,0,0,null,null,0,0,0]
[null,"     Blank 2",{"$f":"IF(Assignments!C39=\"NA\", 0, Assignments!C39)","v":0},0,0,null,0,0,0,null,0,0,0,null,0,0,0,null,0,0,0,null,0,0,0,null,null,0,0,0]
[null,"RESIDENTIAL",0,0,0,null,0,0,0,null,0,0,0,null,0,0,0,null,0,0,0,null,0,0,0,null,null,0,0,0]
[null,"     2-ac lots (New)",{"$f":"MAX(C231:C232)","v":7.1999999999999995E-2},{"$f":"C230","v":7.1999999999999995E-2},{"$f":"D230","v":7.1999999999999995E-2},null,7.1999999999999995E-2,7.1999999999999995E-2,7.1999999999999995E-2,null,7.1999999999999995E-2,7.1999999999999995E-2,7.1999999999999995E-2,null,7.1999999999999995E-2,7.1999999999999995E-2,7.1999999999999995E-2,null,7.1999999999999995E-2,7.1999999999999995E-2,7.1999999999999995E-2,null,7.1999999999999995E-2,7.1999999999999995E-2,7.1999999999999995E-2,null,null,7.1999999999999995E-2,7.1999999999999995E-2,7.1999999999999995E-2]
[null,"     2-ac lots (Built after 1995)",{"$f":"Assignments!C41","v":2.7E-2},2.7E-2,2.7E-2,null,2.7E-2,2.7E-2,2.7E-2,null,2.7E-2,2.7E-2,2.7E-2,null,2.7E-2,2.7E-2,2.7E-2,null,2.7E-2,2.7E-2,2.7E-2,null,2.7E-2,2.7E-2,2.7E-2,null,null,2.7E-2,2.7E-2,2.7E-2]
[null,"     2-ac lots (Built before 1995)",{"$f":"Assignments!C49","v":7.1999999999999995E-2},7.1999999999999995E-2,7.1999999999999995E-2,null,7.1999999999999995E-2,7.1999999999999995E-2,7.1999999999999995E-2,null,7.1999999999999995E-2,7.1999999999999995E-2,7.1999999999999995E-2,null,7.1999999999999995E-2,7.1999999999999995E-2,7.1999999999999995E-2,null,7.1999999999999995E-2,7.1999999999999995E-2,7.1999999999999995E-2,null,7.1999999999999995E-2,7.1999999999999995E-2,7.1999999999999995E-2,null,null,7.1999999999999995E-2,7.1999999999999995E-2,7.1999999999999995E-2]
[null,"     1-ac lots (New)",{"$f":"MAX(C234:C235)","v":0.16500000000000001},{"$f":"C233","v":0.16500000000000001},{"$f":"D233","v":0.16500000000000001},null,0.16500000000000001,0.16500000000000001,0.16500000000000001,null,0.16500000000000001,0.16500000000000001,0.16500000000000001,null,0.16500000000000001,0.16500000000000001,0.16500000000000001,null,0.16500000000000001,0.16500000000000001,0.16500000000000001,null,0.16500000000000001,0.16500000000000001,0.16500000000000001,null,null,0.16500000000000001,0.16500000000000001,0.16500000000000001]
[null,"     1-ac lots (Built after 1995)",{"$f":"Assignments!C42","v":0.16500000000000001},0.16500000000000001,0.16500000000000001,null,0.16500000000000001,0.16500000000000001,0.16500000000000001,null,0.16500000000000001,0.16500000000000001,0.16500000000000001,null,0.16500000000000001,0.16500000000000001,0.16500000000000001,null,0.16500000000000001,0.16500000000000001,0.16500000000000001,null,0.16500000000000001,0.16500000000000001,0.16500000000000001,null,null,0.16500000000000001,0.16500000000000001,0.16500000000000001]
[null,"     1-ac lots (Built before 1995)",{"$f":"Assignments!C50","v":0.12},0.12,0.12,null,0.12,0.12,0.12,null,0.12,0.12,0.12,null,0.12,0.12,0.12,null,0.12,0.12,0.12,null,0.12,0.12,0.12,null,null,0.12,0.12,0.12]
[null,"     ½-ac lots (New)",{"$f":"MAX(C237:C238)","v":0.2455},{"$f":"C236","v":0.2455},{"$f":"D236","v":0.2455},null,0.2455,0.2455,0.2455,null,0.2455,0.2455,0.2455,null,0.2455,0.2455,0.2455,null,0.2455,0.2455,0.2455,null,0.2455,0.2455,0.2455,null,null,0.2455,0.2455,0.2455]
[null,"     ½-ac lots (Built after 1995)",{"$f":"Assignments!C43","v":0.2455},0.2455,0.2455,null,0.2455,0.2455,0.2455,null,0.2455,0.2455,0.2455,null,0.2455,0.2455,0.2455,null,0.2455,0.2455,0.2455,null,0.2455,0.2455,0.2455,null,null,0.2455,0.2455,0.2455]
[null,"     ½-ac lots (Built before 1995)",{"$f":"Assignments!C51","v":0.17849999999999999},0.17849999999999999,0.17849999999999999,null,0.17849999999999999,0.17849999999999999,0.17849999999999999,null,0.17849999999999999,0.17849999999999999,0.17849999999999999,null,0.17849999999999999,0.17849999999999999,0.17849999999999999,null,0.17849999999999999,0.17849999999999999,0.17849999999999999,null,0.17849999999999999,0.17849999999999999,0.17849999999999999,null,null,0.17849999999999999,0.17849999999999999,0.17849999999999999]
[null,"     ¼-ac lots (New)",{"$f":"MAX(C240:C241)","v":0.32200000000000001},{"$f":"C239","v":0.32200000000000001},{"$f":"D239","v":0.32200000000000001},null,0.32200000000000001,0.32200000000000001,0.32200000000000001,null,0.32200000000000001,0.32200000000000001,0.32200000000000001,null,0.32200000000000001,0.32200000000000001,0.32200000000000001,null,0.32200000000000001,0.32200000000000001,0.32200000000000001,null,0.32200000000000001,0.32200000000000001,0.32200000000000001,null,null,0.32200000000000001,0.32200000000000001,0.32200000000000001]
[null,"     ¼-ac lots (Built after 1995)",{"$f":"Assignments!C44","v":0.32200000000000001},0.32200000000000001,0.32200000000000001,null,0.32200000000000001,0.32200000000000001,0.32200000000000001,null,0.32200000000000001,0.32200000000000001,0.32200000000000001,null,0.32200000000000001,0.32200000000000001,0.32200000000000001,null,0.32200000000000001,0.32200000000000001,0.32200000000000001,null,0.32200000000000001,0.32200000000000001,0.32200000000000001,null,null,0.32200000000000001,0.32200000000000001,0.32200000000000001]
[null,"     ¼-ac lots (Built before 1995)",{"$f":"Assignments!C52","v":0.23400000000000001},0.23400000000000001,0.23400000000000001,null,0.23400000000000001,0.23400000000000001,0.23400000000000001,null,0.23400000000000001,0.23400000000000001,0.23400000000000001,null,0.23400000000000001,0.23400000000000001,0.23400000000000001,null,0.23400000000000001,0.23400000000000001,0.23400000000000001,null,0.23400000000000001,0.23400000000000001,0.23400000000000001,null,null,0.23400000000000001,0.23400000000000001,0.23400000000000001]
[null,"     ⅛-ac lots (New)",{"$f":"MAX(C243:C244)","v":0.35439999999999999},{"$f":"C242","v":0.35439999999999999},{"$f":"D242","v":0.35439999999999999},null,0.35439999999999999,0.35439999999999999,0.35439999999999999,null,0.35439999999999999,0.35439999999999999,0.35439999999999999,null,0.35439999999999999,0.35439999999999999,0.35439999999999999,null,0.35439999999999999,0.35439999999999999,0.35439999999999999,null,0.35439999999999999,0.35439999999999999,0.35439999999999999,null,null,0.35439999999999999,0.35439999999999999,0.35439999999999999]
[null,"     ⅛-ac lots (Built after 1995)",{"$f":"Assignments!C45","v":0.35439999999999999},0.35439999999999999,0.35439999999999999,null,0.35439999999999999,0.35439999999999999,0.35439999999999999,null,0.35439999999999999,0.35439999999999999,0.35439999999999999,null,0.35439999999999999,0.35439999999999999,0.35439999999999999,null,0.35439999999999999,0.35439999999999999,0.35439999999999999,null,0.35439999999999999,0.35439999999999999,0.35439999999999999,null,null,0.35439999999999999,0.35439999999999999,0.35439999999999999]
[null,"     ⅛-ac lots (Built before 1995)",{"$f":"Assignments!C53","v":0.29759999999999998},0.29759999999999998,0.29759999999999998,null,0.29759999999999998,0.29759999999999998,0.29759999999999998,null,0.29759999999999998,0.29759999999999998,0.29759999999999998,null,0.29759999999999998,0.29759999999999998,0.29759999999999998,null,0.29759999999999998,0.29759999999999998,0.29759999999999998,null,0.29759999999999998,0.29759999999999998,0.29759999999999998,null,null,0.29759999999999998,0.29759999999999998,0.29759999999999998]
[null,"     Townhomes (New)",{"$f":"MAX(C246:C247)","v":0.40960000000000002},{"$f":"C245","v":0.40960000000000002},{"$f":"D245","v":0.40960000000000002},null,0.40960000000000002,0.40960000000000002,0.40960000000000002,null,0.40960000000000002,0.40960000000000002,0.40960000000000002,null,0.40960000000000002,0.40960000000000002,0.40960000000000002,null,0.40960000000000002,0.40960000000000002,0.40960000000000002,null,0.40960000000000002,0.40960000000000002,0.40960000000000002,null,null,0.40960000000000002,0.40960000000000002,0.40960000000000002]
[null,"     Townhomes (Built after 1995)",{"$f":"Assignments!C46","v":0.40839999999999999},0.40839999999999999,0.40839999999999999,null,0.40839999999999999,0.40839999999999999,0.40839999999999999,null,0.40839999999999999,0.40839999999999999,0.40839999999999999,null,0.40839999999999999,0.40839999999999999,0.40839999999999999,null,0.40839999999999999,0.40839999999999999,0.40839999999999999,null,0.40839999999999999,0.40839999999999999,0.40839999999999999,null,null,0.40839999999999999,0.40839999999999999,0.40839999999999999]
[null,"     Townhomes (Built before 1995)",{"$f":"Assignments!C54","v":0.40960000000000002},0.40960000000000002,0.40960000000000002,null,0.40960000000000002,0.40960000000000002,0.40960000000000002,null,0.40960000000000002,0.40960000000000002,0.40960000000000002,null,0.40960000000000002,0.40960000000000002,0.40960000000000002,null,0.40960000000000002,0.40960000000000002,0.40960000000000002,null,0.40960000000000002,0.40960000000000002,0.40960000000000002,null,null,0.40960000000000002,0.40960000000000002,0.40960000000000002]
[null,"     Multi-family (New)",{"$f":"MAX(C249:C250)","v":0.44469999999999998},{"$f":"C248","v":0.44469999999999998},{"$f":"D248","v":0.44469999999999998},null,0.44469999999999998,0.44469999999999998,0.44469999999999998,null,0.44469999999999998,0.44469999999999998,0.44469999999999998,null,0.44469999999999998,0.44469999999999998,0.44469999999999998,null,0.44469999999999998,0.44469999999999998,0.44469999999999998,null,0.44469999999999998,0.44469999999999998,0.44469999999999998,null,null,0.44469999999999998,0.44469999999999998,0.44469999999999998]
[null,"     Multi-family (Built after 1995)",{"$f":"Assignments!C47","v":0.44330000000000003},0.44330000000000003,0.44330000000000003,null,0.44330000000000003,0.44330000000000003,0.44330000000000003,null,0.44330000000000003,0.44330000000000003,0.44330000000000003,null,0.44330000000000003,0.44330000000000003,0.44330000000000003,null,0.44330000000000003,0.44330000000000003,0.44330000000000003,null,0.44330000000000003,0.44330000000000003,0.44330000000000003,null,null,0.44330000000000003,0.44330000000000003,0.44330000000000003]
[null,"     Multi-family (Built before 1995)",{"$f":"Assignments!C55","v":0.44469999999999998},0.44469999999999998,0.44469999999999998,null,0.44469999999999998,0.44469999999999998,0.44469999999999998,null,0.44469999999999998,0.44469999999999998,0.44469999999999998,null,0.44469999999999998,0.44469999999999998,0.44469999999999998,null,0.44469999999999998,0.44469999999999998,0.44469999999999998,null,0.44469999999999998,0.44469999999999998,0.44469999999999998,null,null,0.44469999999999998,0.44469999999999998,0.44469999999999998]
[null,"     Custom Lot Size (New)",{"$f":"'WS Calcs'!F43","v":0},{"$f":"C251","v":0},{"$f":"D251","v":0},null,0,0,0,null,0,0,0,null,0,0,0,null,0,0,0,null,0,0,0,null,null,0,0,0]
[null,"     Custom Lot Size (Built after 1995)",{"$f":"IF('2. BMP Characteristics'!E95<>0,Assignments!C48,0)","v":0},{"$f":"IF('2. BMP Characteristics'!G95<>0,Assignments!C48,0)","v":0},{"$f":"IF('2. BMP Characteristics'!I95<>0,Assignments!C48,0)","v":0},null,{"$f":"IF('2. BMP Characteristics'!L95<>0,Assignments!C48,0)","v":0},{"$f":"IF('2. BMP Characteristics'!N95<>0,Assignments!C48,0)","v":0},{"$f":"IF('2. BMP Characteristics'!P95<>0,Assignments!C48,0)","v":0},null,{"$f":"IF('2. BMP Characteristics'!S95<>0,Assignments!C48,0)","v":0},{"$f":"IF('2. BMP Characteristics'!U95<>0,Assignments!C48,0)","v":0},{"$f":"IF('2. BMP Characteristics'!W95<>0,Assignments!C48,0)","v":0},null,{"$f":"IF('2. BMP Characteristics'!Z95<>0,Assignments!C48,0)","v":0},{"$f":"IF('2. BMP Characteristics'!AB95<>0,Assignments!C48,0)","v":0},{"$f":"IF('2. BMP Characteristics'!AD95<>0,Assignments!C48,0)","v":0},null,{"$f":"IF('2. BMP Characteristics'!AG95<>0,Assignments!C48,0)","v":0},{"$f":"IF('2. BMP Characteristics'!AI95<>0,Assignments!C48,0)","v":0},{"$f":"IF('2. BMP Characteristics'!AK95<>0,Assignments!C48,0)","v":0},null,{"$f":"IF('2. BMP Characteristics'!AN95<>0,Assignments!C48,0)","v":0},{"$f":"IF('2. BMP Characteristics'!AP95<>0,Assignments!C48,0)","v":0},{"$f":"IF('2. BMP Characteristics'!AR95<>0,Assignments!C48,0)","v":0},null,null,0,0,0]
[null,"     Custom Lot Size (Built before 1995)",{"$f":"IF('2. BMP Characteristics'!E96<>0,Assignments!C56,0)","v":0},{"$f":"IF('2. BMP Characteristics'!G96<>0,Assignments!C56,0)","v":0},{"$f":"IF('2. BMP Characteristics'!I96<>0,Assignments!C56,0)","v":0},null,{"$f":"IF('2. BMP Characteristics'!L96<>0,Assignments!C56,0)","v":0},{"$f":"IF('2. BMP Characteristics'!N96<>0,Assignments!C56,0)","v":0},{"$f":"IF('2. BMP Characteristics'!P96<>0,Assignments!C56,0)","v":0},null,{"$f":"IF('2. BMP Characteristics'!S96<>0,Assignments!C56,0)","v":0},{"$f":"IF('2. BMP Characteristics'!U96<>0,Assignments!C56,0)","v":0},{"$f":"IF('2. BMP Characteristics'!W96<>0,Assignments!C56,0)","v":0},null,{"$f":"IF('2. BMP Characteristics'!Z96<>0,Assignments!C56,0)","v":0},{"$f":"IF('2. BMP Characteristics'!AB96<>0,Assignments!C56,0)","v":0},{"$f":"IF('2. BMP Characteristics'!AD96<>0,Assignments!C56,0)","v":0},null,{"$f":"IF('2. BMP Characteristics'!AG96<>0,Assignments!C56,0)","v":0},{"$f":"IF('2. BMP Characteristics'!AI96<>0,Assignments!C56,0)","v":0},{"$f":"IF('2. BMP Characteristics'!AK96<>0,Assignments!C56,0)","v":0},null,{"$f":"IF('2. BMP Characteristics'!AN96<>0,Assignments!C56,0)","v":0},{"$f":"IF('2. BMP Characteristics'!AP96<>0,Assignments!C56,0)","v":0},{"$f":"IF('2. BMP Characteristics'!AR96<>0,Assignments!C56,0)","v":0},null,null,0,0,0]
[null,"     Roadway",{"$f":"Assignments!C57","v":1},1,1,null,1,1,1,null,1,1,1,null,1,1,1,null,1,1,1,null,1,1,1,null,null,1,1,1]
[null,"     Driveway",{"$f":"Assignments!C58","v":1},1,1,null,1,1,1,null,1,1,1,null,1,1,1,null,1,1,1,null,1,1,1,null,null,1,1,1]
[null,"     Parking lot",{"$f":"Assignments!C59","v":1},1,1,null,1,1,1,null,1,1,1,null,1,1,1,null,1,1,1,null,1,1,1,null,null,1,1,1]
[null,"     Roof",{"$f":"Assignments!C60","v":1},1,1,null,1,1,1,null,1,1,1,null,1,1,1,null,1,1,1,null,1,1,1,null,null,1,1,1]
[null,"     Sidewalk",{"$f":"Assignments!C61","v":1},1,1,null,1,1,1,null,1,1,1,null,1,1,1,null,1,1,1,null,1,1,1,null,null,1,1,1]
[null,"     Lawn",{"$f":"Assignments!C62","v":0},0,0,null,0,0,0,null,0,0,0,null,0,0,0,null,0,0,0,null,0,0,0,null,null,0,0,0]
[null,"     Managed pervious",{"$f":"Assignments!C63","v":0},0,0,null,0,0,0,null,0,0,0,null,0,0,0,null,0,0,0,null,0,0,0,null,null,0,0,0]
[null,"     Woods",{"$f":"Assignments!C64","v":0},0,0,null,0,0,0,null,0,0,0,null,0,0,0,null,0,0,0,null,0,0,0,null,null,0,0,0]
[null,"LAND TAKEN UP BY BMP",{"$f":"Assignments!C65","v":1},{"$f":"C262","v":1},{"$f":"C262","v":1},null,{"$f":"E262","v":1},{"$f":"E262","v":1},{"$f":"E262","v":1},null,{"$f":"E262","v":1},{"$f":"E262","v":1},{"$f":"E262","v":1},null,{"$f":"E262","v":1},{"$f":"E262","v":1},{"$f":"E262","v":1},null,{"$f":"E262","v":1},{"$f":"E262","v":1},{"$f":"E262","v":1},null,{"$f":"E262","v":1},{"$f":"E262","v":1},{"$f":"E262","v":1},null,null,{"$f":"Y262","v":1},{"$f":"Y262","v":1},1]
[]
[null,"PERCENT OF TOTAL DRAINAGE AREA","%","%","%",null,"%","%","%",null,"%","%","%",null,"%","%","%",null,"%","%","%",null,"%","%","%",null,null,null,"Post-Dev w/ BMPs (land-based)","Difference (volume-based)","Difference (land-based)"]
[null,"COMMERCIAL",{"$f":"IF(C$10=0,0,C394/C456)","v":0},{"$f":"IF(D$10=0,0,D394/$D$456)","v":0},{"$f":"IF(E$10=0,0,E394/$E$456)","v":0},{"$f":"IF(F$10=0,0,F394/F456)","v":0},{"$f":"IF(G$10=0,0,G394/$G$456)","v":0},{"$f":"IF(H$10=0,0,H394/$H$456)","v":0},{"$f":"IF(I$10=0,0,I394/$I$456)","v":0},{"$f":"IF(J$10=0,0,J394/J456)","v":0},{"$f":"IF(K$10=0,0,K394/$K$456)","v":0},{"$f":"IF(L$10=0,0,L394/$L$456)","v":0},{"$f":"IF(M$10=0,0,M394/$M$456)","v":0},{"$f":"IF(N$10=0,0,N394/N456)","v":0},{"$f":"IF(O$10=0,0,O394/$O$456)","v":0},{"$f":"IF(P$10=0,0,P394/$P$456)","v":0},{"$f":"IF(Q$10=0,0,Q394/$Q$456)","v":0},{"$f":"IF(R$10=0,0,R394/R456)","v":0},{"$f":"IF(S$10=0,0,S394/$S$456)","v":0},{"$f":"IF(T$10=0,0,T394/$T$456)","v":0},{"$f":"IF(U$10=0,0,U394/$U$456)","v":0},{"$f":"IF(V$10=0,0,V394/V456)","v":0},{"$f":"IF(W$10=0,0,W394/$W$456)","v":0},{"$f":"IF(X$10=0,0,X394/$X$456)","v":0},{"$f":"IF(Y$10=0,0,Y394/Y456)","v":0},{"$f":"IF(Z$10=0,0,Z394/Z456)","v":0},null,null,{"$f":"AC136/$AC$198","v":{"$error":"#DIV/0!"}},{"$f":"AD394/$AD$456","v":{"$error":"#N/A"}},{"$f":"AD136/$AD$198","v":{"$error":"#DIV/0!"}}]
[null,"     Parking lot",{"$f":"IF(C$10=0,0,C395/$C$456)","v":0},0,0,{"$f":"IF(F$10=0,0,F137/F$10)","v":0},0,0,0,{"$f":"IF(J$10=0,0,J137/J$10)","v":0},0,0,0,{"$f":"IF(N$10=0,0,N137/N$10)","v":0},0,0,0,{"$f":"IF(R$10=0,0,R137/R$10)","v":0},0,0,0,{"$f":"IF(V$10=0,0,V137/V$10)","v":0},0,0,{"$f":"IF(Y$10=0,0,Y395/$Y$456)","v":0},null,null,null,{"$error":"#DIV/0!"},{"$error":"#N/A"},{"$error":"#DIV/0!"}]
[null,"     Roof",0,0,0,0,0,0,0,0,0,0,0,0,0,0,0,0,0,0,0,0,0,0,0,null,null,null,{"$error":"#DIV/0!"},{"$error":"#N/A"},{"$error":"#DIV/0!"}]
[null,"INDUSTRIAL",0,0,0,0,0,0,0,0,0,0,0,0,0,0,0,0,0,0,0,0,0,0,0,null,null,null,{"$error":"#DIV/0!"},{"$error":"#N/A"},{"$error":"#DIV/0!"}]
[null,"     Parking lot",0,0,0,0,0,0,0,0,0,0,0,0,0,0,0,0,0,0,0,0,0,0,0,null,null,null,{"$error":"#DIV/0!"},{"$error":"#N/A"},{"$error":"#DIV/0!"}]
[null,"     Roof",0,0,0,0,0,0,0,0,0,0,0,0,0,0,0,0,0,0,0,0,0,0,0,null,null,null,{"$error":"#DIV/0!"},{"$error":"#N/A"},{"$error":"#DIV/0!"}]
[null,"     Access road",0,0,0,0,0,0,0,0,0,0,0,0,0,0,0,0,0,0,0,0,0,0,0,null,null,null,{"$error":"#DIV/0!"},{"$error":"#N/A"},{"$error":"#DIV/0!"}]
[null,"     Impervious, uncovered storage",0,0,0,{"$f":"IF(F$10=0,0,F143/F$10)","v":0},0,0,0,{"$f":"IF(J$10=0,0,J143/J$10)","v":0},0,0,0,{"$f":"IF(N$10=0,0,N143/N$10)","v":0},0,0,0,{"$f":"IF(R$10=0,0,R143/R$10)","v":0},0,0,0,{"$f":"IF(V$10=0,0,V143/V$10)","v":0},0,0,0,null,null,null,{"$f":"AC143/$AC$198","v":{"$error":"#DIV/0!"}},{"$f":"AD401/$AD$456","v":{"$error":"#N/A"}},{"$f":"AD143/$AD$198","v":{"$error":"#DIV/0!"}}]
[null,"     Pervious, uncovered storage",0,0,0,0,0,0,0,0,0,0,0,0,0,0,0,0,0,0,0,0,0,0,0,null,null,null,{"$error":"#DIV/0!"},{"$error":"#N/A"},{"$error":"#DIV/0!"}]
[null,"TRANSPORTATION",0,0,0,0,0,0,0,0,0,0,0,0,0,0,0,0,0,0,0,0,0,0,0,null,null,null,{"$error":"#DIV/0!"},{"$error":"#N/A"},{"$error":"#DIV/0!"}]
[null,"     Primary road EOP",0,0,0,0,0,0,0,0,0,0,0,0,0,0,0,0,0,0,0,0,0,0,0,null,null,null,{"$error":"#DIV/0!"},{"$error":"#N/A"},{"$error":"#DIV/0!"}]
[null,"     Secondary road EOP",0,0,0,0,0,0,0,0,0,0,0,0,0,0,0,0,0,0,0,0,0,0,0,null,null,null,{"$error":"#DIV/0!"},{"$error":"#N/A"},{"$error":"#DIV/0!"}]
[null,"     Bridge EOP",0,0,0,0,0,0,0,0,0,0,0,0,0,0,0,0,0,0,0,0,0,0,0,null,null,null,{"$error":"#DIV/0!"},{"$error":"#N/A"},{"$error":"#DIV/0!"}]
[null,"     Sidewalk",0,0,0,0,0,0,0,0,0,0,0,0,0,0,0,0,0,0,0,0,0,0,0,null,null,null,{"$error":"#DIV/0!"},{"$error":"#N/A"},{"$error":"#DIV/0!"}]
[null,"REST AREA",0,0,0,0,0,0,0,0,0,0,0,0,0,0,0,0,0,0,0,0,0,0,0,null,null,null,{"$error":"#DIV/0!"},{"$error":"#N/A"},{"$error":"#DIV/0!"}]
[null,"     Parking lot (car)",0,0,0,0,0,0,0,0,0,0,0,0,0,0,0,0,0,0,0,0,0,0,0,null,null,null,{"$error":"#DIV/0!"},{"$error":"#N/A"},{"$error":"#DIV/0!"}]
[null,"     Parking lot (truck)",0,0,0,0,0,0,0,0,0,0,0,0,0,0,0,0,0,0,0,0,0,0,0,null,null,null,{"$error":"#DIV/0!"},{"$error":"#N/A"},{"$error":"#DIV/0!"}]
[null,"     Roof",0,0,0,0,0,0,0,0,0,0,0,0,0,0,0,0,0,0,0,0,0,0,0,null,null,null,{"$error":"#DIV/0!"},{"$error":"#N/A"},{"$error":"#DIV/0!"}]
[null,"MISC. PERVIOUS",0,0,0,0,0,0,0,0,0,0,0,0,0,0,0,0,0,0,0,0,0,0,0,null,null,null,{"$error":"#DIV/0!"},{"$error":"#N/A"},{"$error":"#DIV/0!"}]
[null,"     Managed lawn (fertilized)",0,0,0,0,0,0,0,0,0,0,0,0,0,0,0,0,0,0,0,0,0,0,0,null,null,null,{"$error":"#DIV/0!"},{"$error":"#N/A"},{"$error":"#DIV/0!"}]
[null,"     Open space (unfertilized)",0,0,0,0,0,0,0,0,0,0,0,0,0,0,0,0,0,0,0,0,0,0,0,null,null,null,{"$error":"#DIV/0!"},{"$error":"#N/A"},{"$error":"#DIV/0!"}]
[null,"     Open/Landscaped",0,0,0,0,0,0,0,0,0,0,0,0,0,0,0,0,0,0,0,0,0,0,0,null,null,null,{"$error":"#DIV/0!"},{"$error":"#N/A"},{"$error":"#DIV/0!"}]
[null,"     Agriculture (crop)",0,0,0,0,0,0,0,0,0,0,0,0,0,0,0,0,0,0,0,0,0,0,0,null,null,null,{"$error":"#DIV/0!"},{"$error":"#N/A"},{"$error":"#DIV/0!"}]
[null,"     Agriculture (pasture)",0,0,0,0,0,0,0,0,0,0,0,0,0,0,0,0,0,0,0,0,0,0,0,null,null,null,{"$error":"#DIV/0!"},{"$error":"#N/A"},{"$error":"#DIV/0!"}]
[null,"     Forest",0,0,0,0,0,0,0,0,0,0,0,0,0,0,0,0,0,0,0,0,0,0,0,null,null,null,{"$error":"#DIV/0!"},{"$error":"#N/A"},{"$error":"#DIV/0!"}]
[null,"UNSPECIFIED LAND USE",0,0,0,0,0,0,0,0,0,0,0,0,0,0,0,0,0,0,0,0,0,0,0,null,null,null,{"$error":"#DIV/0!"},{"$error":"#N/A"},{"$error":"#DIV/0!"}]
[null,"     Blank 1",0,0,0,0,0,0,0,0,0,0,0,0,0,0,0,0,0,0,0,0,0,0,0,null,null,null,{"$error":"#DIV/0!"},{"$error":"#N/A"},{"$error":"#DIV/0!"}]
[null,"     Blank 2",0,0,0,0,0,0,0,0,0,0,0,0,0,0,0,0,0,0,0,0,0,0,0,null,null,null,{"$error":"#DIV/0!"},{"$error":"#N/A"},{"$error":"#DIV/0!"}]
[null,"RESIDENTIAL",0,0,0,{"$f":"IF(F$10=0,0,F164/F$10)","v":0},0,0,0,{"$f":"IF(J$10=0,0,J164/J$10)","v":0},0,0,0,{"$f":"IF(N$10=0,0,N164/N$10)","v":0},0,0,0,{"$f":"IF(R$10=0,0,R164/R$10)","v":0},0,0,0,{"$f":"IF(V$10=0,0,V164/V$10)","v":0},0,0,0,null,null,null,{"$f":"AC164/$AC$198","v":{"$error":"#DIV/0!"}},{"$f":"AD422/$AD$456","v":{"$error":"#N/A"}},{"$f":"AD164/$AD$198","v":{"$error":"#DIV/0!"}}]
[null,"     2-ac lots (New)",0,0,0,0,0,0,0,0,0,0,0,0,0,0,0,0,0,0,0,0,0,0,0,null,null,null,{"$error":"#DIV/0!"},{"$error":"#N/A"},{"$error":"#DIV/0!"}]
[null,"     2-ac lots (Built after 1995)",0,0,0,0,0,0,0,0,0,0,0,0,0,0,0,0,0,0,0,0,0,0,0,null,null,null,{"$error":"#DIV/0!"},{"$error":"#N/A"},{"$error":"#DIV/0!"}]
[null,"     2-ac lots (Built before 1995)",0,0,0,0,0,0,0,0,0,0,0,0,0,0,0,0,0,0,0,0,0,0,0,null,null,null,{"$error":"#DIV/0!"},{"$error":"#N/A"},{"$error":"#DIV/0!"}]
[null,"     1-ac lots (New)",0,{"$f":"IF(D$10=0,0,D426/$D$456)","v":0},{"$f":"IF(E$10=0,0,E426/$E$456)","v":0},0,{"$f":"IF(G$10=0,0,G426/$G$456)","v":0},{"$f":"IF(H$10=0,0,H426/$H$456)","v":0},{"$f":"IF(I$10=0,0,I426/$I$456)","v":0},0,{"$f":"IF(K$10=0,0,K426/$K$456)","v":0},{"$f":"IF(L$10=0,0,L426/$L$456)","v":0},{"$f":"IF(M$10=0,0,M426/$M$456)","v":0},0,{"$f":"IF(O$10=0,0,O426/$O$456)","v":0},{"$f":"IF(P$10=0,0,P426/$P$456)","v":0},{"$f":"IF(Q$10=0,0,Q426/$Q$456)","v":0},0,{"$f":"IF(S$10=0,0,S426/$S$456)","v":0},{"$f":"IF(T$10=0,0,T426/$T$456)","v":0},{"$f":"IF(U$10=0,0,U426/$U$456)","v":0},0,{"$f":"IF(W$10=0,0,W426/$W$456)","v":0},{"$f":"IF(X$10=0,0,X426/$X$456)","v":0},0,null,null,null,{"$error":"#DIV/0!"},{"$error":"#N/A"},{"$error":"#DIV/0!"}]
[null,"     1-ac lots (Built after 1995)",{"$f":"IF(C$10=0,0,C427/$C$456)","v":0},0,0,0,0,0,0,0,0,0,0,0,0,0,0,0,0,0,0,0,0,0,{"$f":"IF(Y$10=0,0,Y427/$Y$456)","v":0},null,null,null,{"$error":"#DIV/0!"},{"$error":"#N/A"},{"$error":"#DIV/0!"}]
[null,"     1-ac lots (Built before 1995)",0,0,0,0,0,0,0,0,0,0,0,0,0,0,0,0,0,0,0,0,0,0,0,null,null,null,{"$error":"#DIV/0!"},{"$error":"#N/A"},{"$error":"#DIV/0!"}]
[null,"     ½-ac lots (New)",0,0,0,0,0,0,0,0,0,0,0,0,0,0,0,0,0,0,0,0,0,0,0,null,null,null,{"$error":"#DIV/0!"},{"$error":"#N/A"},{"$error":"#DIV/0!"}]
[null,"     ½-ac lots (Built after 1995)",0,0,0,0,0,0,0,0,0,0,0,0,0,0,0,0,0,0,0,0,0,0,0,null,null,null,{"$error":"#DIV/0!"},{"$error":"#N/A"},{"$error":"#DIV/0!"}]
[null,"     ½-ac lots (Built before 1995)",0,0,0,0,0,0,0,0,0,0,0,0,0,0,0,0,0,0,0,0,0,0,0,null,null,null,{"$error":"#DIV/0!"},{"$error":"#N/A"},{"$error":"#DIV/0!"}]
[null,"     ¼-ac lots (New)",0,0,0,0,0,0,0,0,0,0,0,0,0,0,0,0,0,0,0,0,0,0,0,null,null,null,{"$error":"#DIV/0!"},{"$error":"#N/A"},{"$error":"#DIV/0!"}]
[null,"     ¼-ac lots (Built after 1995)",0,0,0,0,0,0,0,0,0,0,0,0,0,0,0,0,0,0,0,0,0,0,0,null,null,null,{"$error":"#DIV/0!"},{"$error":"#N/A"},{"$error":"#DIV/0!"}]
[null,"     ¼-ac lots (Built before 1995)",0,0,0,0,0,0,0,0,0,0,0,0,0,0,0,0,0,0,0,0,0,0,0,null,null,null,{"$error":"#DIV/0!"},{"$error":"#N/A"},{"$error":"#DIV/0!"}]
[null,"     ⅛-ac lots (New)",0,0,0,0,0,0,0,0,0,0,0,0,0,0,0,0,0,0,0,0,0,0,0,null,null,null,{"$error":"#DIV/0!"},{"$error":"#N/A"},{"$error":"#DIV/0!"}]
[null,"     ⅛-ac lots (Built after 1995)",0,0,0,0,0,0,0,0,0,0,0,0,0,0,0,0,0,0,0,0,0,0,0,null,null,null,{"$error":"#DIV/0!"},{"$error":"#N/A"},{"$error":"#DIV/0!"}]
[null,"     ⅛-ac lots (Built before 1995)",0,0,0,0,0,0,0,0,0,0,0,0,0,0,0,0,0,0,0,0,0,0,0,null,null,null,{"$error":"#DIV/0!"},{"$error":"#N/A"},{"$error":"#DIV/0!"}]
[null,"     Townhomes (New)",0,0,0,0,0,0,0,0,0,0,0,0,0,0,0,0,0,0,0,0,0,0,0,null,null,null,{"$error":"#DIV/0!"},{"$error":"#N/A"},{"$error":"#DIV/0!"}]
[null,"     Townhomes (Built after 1995)",0,0,0,0,0,0,0,0,0,0,0,0,0,0,0,0,0,0,0,0,0,0,0,null,null,null,{"$error":"#DIV/0!"},{"$error":"#N/A"},{"$error":"#DIV/0!"}]
[null,"     Townhomes (Built before 1995)",0,0,0,0,0,0,0,0,0,0,0,0,0,0,0,0,0,0,0,0,0,0,0,null,null,null,{"$error":"#DIV/0!"},{"$error":"#N/A"},{"$error":"#DIV/0!"}]
[null,"     Multi-family (New)",0,0,0,0,0,0,0,0,0,0,0,0,0,0,0,0,0,0,0,0,0,0,0,null,null,null,{"$error":"#DIV/0!"},{"$error":"#N/A"},{"$error":"#DIV/0!"}]
[null,"     Multi-family (Built after 1995)",0,0,0,0,0,0,0,0,0,0,0,0,0,0,0,0,0,0,0,0,0,0,0,null,null,null,{"$error":"#DIV/0!"},{"$error":"#N/A"},{"$error":"#DIV/0!"}]
[null,"     Multi-family (Built before 1995)",0,0,0,0,0,0,0,0,0,0,0,0,0,0,0,0,0,0,0,0,0,0,0,null,null,null,{"$error":"#DIV/0!"},{"$error":"#N/A"},{"$error":"#DIV/0!"}]
[null,"     Custom Lot Size (New)",0,0,0,0,0,0,0,0,0,0,0,0,0,0,0,0,0,0,0,0,0,0,0,null,null,null,{"$error":"#DIV/0!"},{"$error":"#N/A"},{"$error":"#DIV/0!"}]
[null,"     Custom Lot Size (Built after 1995)",0,0,0,0,0,0,0,0,0,0,0,0,0,0,0,0,0,0,0,0,0,0,0,null,null,null,{"$error":"#DIV/0!"},{"$error":"#N/A"},{"$error":"#DIV/0!"}]
[null,"     Custom Lot Size (Built before 1995)",0,0,0,0,0,0,0,0,0,0,0,0,0,0,0,0,0,0,0,0,0,0,0,null,null,null,{"$error":"#DIV/0!"},{"$error":"#N/A"},{"$error":"#DIV/0!"}]
[null,"     Roadway",0,0,0,0,0,0,0,0,0,0,0,0,0,0,0,0,0,0,0,0,0,0,0,null,null,null,{"$error":"#DIV/0!"},{"$error":"#N/A"},{"$error":"#DIV/0!"}]
[null,"     Driveway",0,0,0,0,0,0,0,0,0,0,0,0,0,0,0,0,0,0,0,0,0,0,0,null,null,null,{"$error":"#DIV/0!"},{"$error":"#N/A"},{"$error":"#DIV/0!"}]
[null,"     Parking lot",0,0,0,0,0,0,0,0,0,0,0,0,0,0,0,0,0,0,0,0,0,0,0,null,null,null,{"$error":"#DIV/0!"},{"$error":"#N/A"},{"$error":"#DIV/0!"}]
[null,"     Roof",0,0,0,0,0,0,0,0,0,0,0,0,0,0,0,0,0,0,0,0,0,0,0,null,null,null,{"$error":"#DIV/0!"},{"$error":"#N/A"},{"$error":"#DIV/0!"}]
[null,"     Sidewalk",0,0,0,0,0,0,0,0,0,0,0,0,0,0,0,0,0,0,0,0,0,0,0,null,null,null,{"$error":"#DIV/0!"},{"$error":"#N/A"},{"$error":"#DIV/0!"}]
[null,"     Lawn",0,0,0,0,0,0,0,0,0,0,0,0,0,0,0,0,0,0,0,0,0,0,0,null,null,null,{"$error":"#DIV/0!"},{"$error":"#N/A"},{"$error":"#DIV/0!"}]
[null,"     Managed pervious",0,0,0,0,0,0,0,0,0,0,0,0,0,0,0,0,0,0,0,0,0,0,0,null,null,null,{"$error":"#DIV/0!"},{"$error":"#N/A"},{"$error":"#DIV/0!"}]
[null,"     Woods",0,0,0,0,0,0,0,0,0,0,0,0,0,0,0,0,0,0,0,0,0,0,0,null,null,null,{"$error":"#DIV/0!"},{"$error":"#N/A"},{"$error":"#DIV/0!"}]
[null,"LAND TAKEN UP BY BMP",0,0,0,0,0,0,0,0,0,0,0,0,0,0,0,0,0,0,0,0,0,0,0,null,null,null,{"$error":"#DIV/0!"},{"$error":"#N/A"},{"$error":"#DIV/0!"}]
[]
[null,"Rv","Rv","Rv","Rv",null,"Rv","Rv","Rv",null,"Rv","Rv","Rv",null,"Rv","Rv","Rv",null,"Rv","Rv","Rv",null,"Rv","Rv","Rv",null,null,"Rv","Rv"]
[null,"COMMERCIAL"]
[null,"     Parking lot",{"$f":"0.05+(0.009*(C202*100))","v":0.95},0.95,0.95,null,{"$f":"0.05+(0.009*(G202*100))","v":0.95},0.95,0.95,null,{"$f":"0.05+(0.009*(K202*100))","v":0.95},0.95,0.95,null,{"$f":"0.05+(0.009*(O202*100))","v":0.95},0.95,0.95,null,{"$f":"0.05+(0.009*(S202*100))","v":0.95},0.95,0.95,null,{"$f":"0.05+(0.009*(W202*100))","v":0.95},0.95,0.95,null,null,{"$f":"0.05+(0.009*(AB202*100))","v":0.95},0.95,0.95]
[null,"     Roof",0.95,0.95,0.95,null,0.95,0.95,0.95,null,0.95,0.95,0.95,null,0.95,0.95,0.95,null,0.95,0.95,0.95,null,0.95,0.95,0.95,null,null,0.95,0.95,0.95]
[null,"INDUSTRIAL",0.05,0.05,0.05,null,0.05,0.05,0.05,null,0.05,0.05,0.05,null,0.05,0.05,0.05,null,0.05,0.05,0.05,null,0.05,0.05,0.05,null,null,0.05,0.05,0.05]
[null,"     Parking lot",0.95,0.95,0.95,null,0.95,0.95,0.95,null,0.95,0.95,0.95,null,0.95,0.95,0.95,null,0.95,0.95,0.95,null,0.95,0.95,0.95,null,null,0.95,0.95,0.95]
[null,"     Roof",0.95,0.95,0.95,null,0.95,0.95,0.95,null,0.95,0.95,0.95,null,0.95,0.95,0.95,null,0.95,0.95,0.95,null,0.95,0.95,0.95,null,null,0.95,0.95,0.95]
[null,"     Access road",0.95,0.95,0.95,null,0.95,0.95,0.95,null,0.95,0.95,0.95,null,0.95,0.95,0.95,null,0.95,0.95,0.95,null,0.95,0.95,0.95,null,null,0.95,0.95,0.95]
[null,"     Impervious, uncovered storage",{"$f":"0.05+(0.009*(C208*100))","v":0.95},0.95,0.95,null,{"$f":"0.05+(0.009*(G208*100))","v":0.95},0.95,0.95,null,{"$f":"0.05+(0.009*(K208*100))","v":0.95},0.95,0.95,null,{"$f":"0.05+(0.009*(O208*100))","v":0.95},0.95,0.95,null,{"$f":"0.05+(0.009*(S208*100))","v":0.95},0.95,0.95,null,{"$f":"0.05+(0.009*(W208*100))","v":0.95},0.95,0.95,null,null,{"$f":"0.05+(0.009*(AB208*100))","v":0.95},0.95,0.95]
[null,"     Pervious, uncovered storage",{"$f":"0.05+(0.009*(C209*100))","v":0.05},0.05,0.05,null,{"$f":"0.05+(0.009*(G209*100))","v":0.05},0.05,0.05,null,{"$f":"0.05+(0.009*(K209*100))","v":0.05},0.05,0.05,null,{"$f":"0.05+(0.009*(O209*100))","v":0.05},0.05,0.05,null,{"$f":"0.05+(0.009*(S209*100))","v":0.05},0.05,0.05,null,{"$f":"0.05+(0.009*(W209*100))","v":0.05},0.05,0.05,null,null,{"$f":"0.05+(0.009*(AB209*100))","v":0.05},0.05,0.05]
[null,"TRANSPORTATION",{"$f":"0.05+(0.009*(C210*100))","v":0.05},0.05,0.05,null,{"$f":"0.05+(0.009*(G210*100))","v":0.05},0.05,0.05,null,{"$f":"0.05+(0.009*(K210*100))","v":0.05},0.05,0.05,null,{"$f":"0.05+(0.009*(O210*100))","v":0.05},0.05,0.05,null,{"$f":"0.05+(0.009*(S210*100))","v":0.05},0.05,0.05,null,{"$f":"0.05+(0.009*(W210*100))","v":0.05},0.05,0.05,null,null,{"$f":"0.05+(0.009*(AB210*100))","v":0.05},0.05,0.05]
[null,"     Primary road EOP",{"$f":"0.05+(0.009*(C211*100))","v":0.95},0.95,0.95,null,{"$f":"0.05+(0.009*(G211*100))","v":0.95},0.95,0.95,null,{"$f":"0.05+(0.009*(K211*100))","v":0.95},0.95,0.95,null,{"$f":"0.05+(0.009*(O211*100))","v":0.95},0.95,0.95,null,{"$f":"0.05+(0.009*(S211*100))","v":0.95},0.95,0.95,null,{"$f":"0.05+(0.009*(W211*100))","v":0.95},0.95,0.95,null,null,{"$f":"0.05+(0.009*(AB211*100))","v":0.95},0.95,0.95]
[null,"     Secondary road EOP",{"$f":"0.05+(0.009*(C212*100))","v":0.95},0.95,0.95,null,{"$f":"0.05+(0.009*(G212*100))","v":0.95},0.95,0.95,null,{"$f":"0.05+(0.009*(K212*100))","v":0.95},0.95,0.95,null,{"$f":"0.05+(0.009*(O212*100))","v":0.95},0.95,0.95,null,{"$f":"0.05+(0.009*(S212*100))","v":0.95},0.95,0.95,null,{"$f":"0.05+(0.009*(W212*100))","v":0.95},0.95,0.95,null,null,{"$f":"0.05+(0.009*(AB212*100))","v":0.95},0.95,0.95]
[null,"     Bridge EOP",{"$f":"0.05+(0.009*(C213*100))","v":0.95},0.95,0.95,null,{"$f":"0.05+(0.009*(G213*100))","v":0.95},0.95,0.95,null,{"$f":"0.05+(0.009*(K213*100))","v":0.95},0.95,0.95,null,{"$f":"0.05+(0.009*(O213*100))","v":0.95},0.95,0.95,null,{"$f":"0.05+(0.009*(S213*100))","v":0.95},0.95,0.95,null,{"$f":"0.05+(0.009*(W213*100))","v":0.95},0.95,0.95,null,null,{"$f":"0.05+(0.009*(AB213*100))","v":0.95},0.95,0.95]
[null,"     Sidewalk",{"$f":"0.05+(0.009*(C214*100))","v":0.95},0.95,0.95,null,{"$f":"0.05+(0.009*(G214*100))","v":0.95},0.95,0.95,null,{"$f":"0.05+(0.009*(K214*100))","v":0.95},0.95,0.95,null,{"$f":"0.05+(0.009*(O214*100))","v":0.95},0.95,0.95,null,{"$f":"0.05+(0.009*(S214*100))","v":0.95},0.95,0.95,null,{"$f":"0.05+(0.009*(W214*100))","v":0.95},0.95,0.95,null,null,{"$f":"0.05+(0.009*(AB214*100))","v":0.95},0.95,0.95]
[null,"REST AREA",{"$f":"0.05+(0.009*(C215*100))","v":0.05},0.05,0.05,null,{"$f":"0.05+(0.009*(G215*100))","v":0.05},0.05,0.05,null,{"$f":"0.05+(0.009*(K215*100))","v":0.05},0.05,0.05,null,{"$f":"0.05+(0.009*(O215*100))","v":0.05},0.05,0.05,null,{"$f":"0.05+(0.009*(S215*100))","v":0.05},0.05,0.05,null,{"$f":"0.05+(0.009*(W215*100))","v":0.05},0.05,0.05,null,null,{"$f":"0.05+(0.009*(AB215*100))","v":0.05},0.05,0.05]
[null,"     Parking lot (car)",{"$f":"0.05+(0.009*(C216*100))","v":0.95},0.95,0.95,null,{"$f":"0.05+(0.009*(G216*100))","v":0.95},0.95,0.95,null,{"$f":"0.05+(0.009*(K216*100))","v":0.95},0.95,0.95,null,{"$f":"0.05+(0.009*(O216*100))","v":0.95},0.95,0.95,null,{"$f":"0.05+(0.009*(S216*100))","v":0.95},0.95,0.95,null,{"$f":"0.05+(0.009*(W216*100))","v":0.95},0.95,0.95,null,null,{"$f":"0.05+(0.009*(AB216*100))","v":0.95},0.95,0.95]
[null,"     Parking lot (truck)",{"$f":"0.05+(0.009*(C217*100))","v":0.95},0.95,0.95,null,{"$f":"0.05+(0.009*(G217*100))","v":0.95},0.95,0.95,null,{"$f":"0.05+(0.009*(K217*100))","v":0.95},0.95,0.95,null,{"$f":"0.05+(0.009*(O217*100))","v":0.95},0.95,0.95,null,{"$f":"0.05+(0.009*(S217*100))","v":0.95},0.95,0.95,null,{"$f":"0.05+(0.009*(W217*100))","v":0.95},0.95,0.95,null,null,{"$f":"0.05+(0.009*(AB217*100))","v":0.95},0.95,0.95]
[null,"     Roof",{"$f":"0.05+(0.009*(C218*100))","v":0.95},0.95,0.95,null,{"$f":"0.05+(0.009*(G218*100))","v":0.95},0.95,0.95,null,{"$f":"0.05+(0.009*(K218*100))","v":0.95},0.95,0.95,null,{"$f":"0.05+(0.009*(O218*100))","v":0.95},0.95,0.95,null,{"$f":"0.05+(0.009*(S218*100))","v":0.95},0.95,0.95,null,{"$f":"0.05+(0.009*(W218*100))","v":0.95},0.95,0.95,null,null,{"$f":"0.05+(0.009*(AB218*100))","v":0.95},0.95,0.95]
[null,"MISC. PERVIOUS",{"$f":"0.05+(0.009*(C219*100))","v":0.05},0.05,0.05,null,{"$f":"0.05+(0.009*(G219*100))","v":0.05},0.05,0.05,null,{"$f":"0.05+(0.009*(K219*100))","v":0.05},0.05,0.05,null,{"$f":"0.05+(0.009*(O219*100))","v":0.05},0.05,0.05,null,{"$f":"0.05+(0.009*(S219*100))","v":0.05},0.05,0.05,null,{"$f":"0.05+(0.009*(W219*100))","v":0.05},0.05,0.05,null,null,{"$f":"0.05+(0.009*(AB219*100))","v":0.05},0.05,0.05]
[null,"     Managed lawn (fertilized)",{"$f":"0.05+(0.009*(C220*100))","v":0.05},0.05,0.05,null,{"$f":"0.05+(0.009*(G220*100))","v":0.05},0.05,0.05,null,{"$f":"0.05+(0.009*(K220*100))","v":0.05},0.05,0.05,null,{"$f":"0.05+(0.009*(O220*100))","v":0.05},0.05,0.05,null,{"$f":"0.05+(0.009*(S220*100))","v":0.05},0.05,0.05,null,{"$f":"0.05+(0.009*(W220*100))","v":0.05},0.05,0.05,null,null,{"$f":"0.05+(0.009*(AB220*100))","v":0.05},0.05,0.05]
[null,"     Open space (unfertilized)",{"$f":"0.05+(0.009*(C221*100))","v":0.05},0.05,0.05,null,{"$f":"0.05+(0.009*(G221*100))","v":0.05},0.05,0.05,null,{"$f":"0.05+(0.009*(K221*100))","v":0.05},0.05,0.05,null,{"$f":"0.05+(0.009*(O221*100))","v":0.05},0.05,0.05,null,{"$f":"0.05+(0.009*(S221*100))","v":0.05},0.05,0.05,null,{"$f":"0.05+(0.009*(W221*100))","v":0.05},0.05,0.05,null,null,{"$f":"0.05+(0.009*(AB221*100))","v":0.05},0.05,0.05]
[null,"     Open/Landscaped",{"$f":"0.05+(0.009*(C222*100))","v":0.05},0.05,0.05,null,{"$f":"0.05+(0.009*(G222*100))","v":0.05},0.05,0.05,null,{"$f":"0.05+(0.009*(K222*100))","v":0.05},0.05,0.05,null,{"$f":"0.05+(0.009*(O222*100))","v":0.05},0.05,0.05,null,{"$f":"0.05+(0.009*(S222*100))","v":0.05},0.05,0.05,null,{"$f":"0.05+(0.009*(W222*100))","v":0.05},0.05,0.05,null,null,{"$f":"0.05+(0.009*(AB222*100))","v":0.05},0.05,0.05]
[null,"     Agriculture (crop)",{"$f":"0.05+(0.009*(C223*100))","v":0.05},0.05,0.05,null,{"$f":"0.05+(0.009*(G223*100))","v":0.05},0.05,0.05,null,{"$f":"0.05+(0.009*(K223*100))","v":0.05},0.05,0.05,null,{"$f":"0.05+(0.009*(O223*100))","v":0.05},0.05,0.05,null,{"$f":"0.05+(0.009*(S223*100))","v":0.05},0.05,0.05,null,{"$f":"0.05+(0.009*(W223*100))","v":0.05},0.05,0.05,null,null,{"$f":"0.05+(0.009*(AB223*100))","v":0.05},0.05,0.05]
[null,"     Agriculture (pasture)",{"$f":"0.05+(0.009*(C224*100))","v":0.05},0.05,0.05,null,{"$f":"0.05+(0.009*(G224*100))","v":0.05},0.05,0.05,null,{"$f":"0.05+(0.009*(K224*100))","v":0.05},0.05,0.05,null,{"$f":"0.05+(0.009*(O224*100))","v":0.05},0.05,0.05,null,{"$f":"0.05+(0.009*(S224*100))","v":0.05},0.05,0.05,null,{"$f":"0.05+(0.009*(W224*100))","v":0.05},0.05,0.05,null,null,{"$f":"0.05+(0.009*(AB224*100))","v":0.05},0.05,0.05]
[null,"     Forest",{"$f":"0.05+(0.009*(C225*100))","v":0.05},0.05,0.05,null,{"$f":"0.05+(0.009*(G225*100))","v":0.05},0.05,0.05,null,{"$f":"0.05+(0.009*(K225*100))","v":0.05},0.05,0.05,null,{"$f":"0.05+(0.009*(O225*100))","v":0.05},0.05,0.05,null,{"$f":"0.05+(0.009*(S225*100))","v":0.05},0.05,0.05,null,{"$f":"0.05+(0.009*(W225*100))","v":0.05},0.05,0.05,null,null,{"$f":"0.05+(0.009*(AB225*100))","v":0.05},0.05,0.05]
[null,"UNSPECIFIED LAND USE",{"$f":"0.05+(0.009*(C226*100))","v":0.05},0.05,0.05,null,{"$f":"0.05+(0.009*(G226*100))","v":0.05},0.05,0.05,null,{"$f":"0.05+(0.009*(K226*100))","v":0.05},0.05,0.05,null,{"$f":"0.05+(0.009*(O226*100))","v":0.05},0.05,0.05,null,{"$f":"0.05+(0.009*(S226*100))","v":0.05},0.05,0.05,null,{"$f":"0.05+(0.009*(W226*100))","v":0.05},0.05,0.05,null,null,{"$f":"0.05+(0.009*(AB226*100))","v":0.05},0.05,0.05]
[null,"     Blank 1",{"$f":"0.05+(0.009*(C227*100))","v":0.05},0.05,0.05,null,{"$f":"0.05+(0.009*(G227*100))","v":0.05},0.05,0.05,null,{"$f":"0.05+(0.009*(K227*100))","v":0.05},0.05,0.05,null,{"$f":"0.05+(0.009*(O227*100))","v":0.05},0.05,0.05,null,{"$f":"0.05+(0.009*(S227*100))","v":0.05},0.05,0.05,null,{"$f":"0.05+(0.009*(W227*100))","v":0.05},0.05,0.05,null,null,{"$f":"0.05+(0.009*(AB227*100))","v":0.05},0.05,0.05]
[null,"     Blank 2",{"$f":"0.05+(0.009*(C228*100))","v":0.05},0.05,0.05,null,{"$f":"0.05+(0.009*(G228*100))","v":0.05},0.05,0.05,null,{"$f":"0.05+(0.009*(K228*100))","v":0.05},0.05,0.05,null,{"$f":"0.05+(0.009*(O228*100))","v":0.05},0.05,0.05,null,{"$f":"0.05+(0.009*(S228*100))","v":0.05},0.05,0.05,null,{"$f":"0.05+(0.009*(W228*100))","v":0.05},0.05,0.05,null,null,{"$f":"0.05+(0.009*(AB228*100))","v":0.05},0.05,0.05]
[null,"RESIDENTIAL",{"$f":"0.05+(0.009*(C229*100))","v":0.05},0.05,0.05,null,{"$f":"0.05+(0.009*(G229*100))","v":0.05},0.05,0.05,null,{"$f":"0.05+(0.009*(K229*100))","v":0.05},0.05,0.05,null,{"$f":"0.05+(0.009*(O229*100))","v":0.05},0.05,0.05,null,{"$f":"0.05+(0.009*(S229*100))","v":0.05},0.05,0.05,null,{"$f":"0.05+(0.009*(W229*100))","v":0.05},0.05,0.05,null,null,{"$f":"0.05+(0.009*(AB229*100))","v":0.05},0.05,0.05]
[null,"     2-ac lots (New)",0.11479999999999999,0.11479999999999999,0.11479999999999999,null,0.11479999999999999,0.11479999999999999,0.11479999999999999,null,0.11479999999999999,0.11479999999999999,0.11479999999999999,null,0.11479999999999999,0.11479999999999999,0.11479999999999999,null,0.11479999999999999,0.11479999999999999,0.11479999999999999,null,0.11479999999999999,0.11479999999999999,0.11479999999999999,null,null,0.11479999999999999,0.11479999999999999,0.11479999999999999]
[null,"     2-ac lots (Built after 1995)",7.4300000000000005E-2,7.4300000000000005E-2,7.4300000000000005E-2,null,7.4300000000000005E-2,7.4300000000000005E-2,7.4300000000000005E-2,null,7.4300000000000005E-2,7.4300000000000005E-2,7.4300000000000005E-2,null,7.4300000000000005E-2,7.4300000000000005E-2,7.4300000000000005E-2,null,7.4300000000000005E-2,7.4300000000000005E-2,7.4300000000000005E-2,null,7.4300000000000005E-2,7.4300000000000005E-2,7.4300000000000005E-2,null,null,7.4300000000000005E-2,7.4300000000000005E-2,7.4300000000000005E-2]
[null,"     2-ac lots (Built before 1995)",0.11479999999999999,0.11479999999999999,0.11479999999999999,null,0.11479999999999999,0.11479999999999999,0.11479999999999999,null,0.11479999999999999,0.11479999999999999,0.11479999999999999,null,0.11479999999999999,0.11479999999999999,0.11479999999999999,null,0.11479999999999999,0.11479999999999999,0.11479999999999999,null,0.11479999999999999,0.11479999999999999,0.11479999999999999,null,null,0.11479999999999999,0.11479999999999999,0.11479999999999999]
[null,"     1-ac lots (New)",0.19850000000000001,0.19850000000000001,0.19850000000000001,null,0.19850000000000001,0.19850000000000001,0.19850000000000001,null,0.19850000000000001,0.19850000000000001,0.19850000000000001,null,0.19850000000000001,0.19850000000000001,0.19850000000000001,null,0.19850000000000001,0.19850000000000001,0.19850000000000001,null,0.19850000000000001,0.19850000000000001,0.19850000000000001,null,null,0.19850000000000001,0.19850000000000001,0.19850000000000001]
[null,"     1-ac lots (Built after 1995)",0.19850000000000001,0.19850000000000001,0.19850000000000001,null,0.19850000000000001,0.19850000000000001,0.19850000000000001,null,0.19850000000000001,0.19850000000000001,0.19850000000000001,null,0.19850000000000001,0.19850000000000001,0.19850000000000001,null,0.19850000000000001,0.19850000000000001,0.19850000000000001,null,0.19850000000000001,0.19850000000000001,0.19850000000000001,null,null,0.19850000000000001,0.19850000000000001,0.19850000000000001]
[null,"     1-ac lots (Built before 1995)",0.15799999999999997,0.15799999999999997,0.15799999999999997,null,0.15799999999999997,0.15799999999999997,0.15799999999999997,null,0.15799999999999997,0.15799999999999997,0.15799999999999997,null,0.15799999999999997,0.15799999999999997,0.15799999999999997,null,0.15799999999999997,0.15799999999999997,0.15799999999999997,null,0.15799999999999997,0.15799999999999997,0.15799999999999997,null,null,0.15799999999999997,0.15799999999999997,0.15799999999999997]
[null,"     ½-ac lots (New)",0.27094999999999997,0.27094999999999997,0.27094999999999997,null,0.27094999999999997,0.27094999999999997,0.27094999999999997,null,0.27094999999999997,0.27094999999999997,0.27094999999999997,null,0.27094999999999997,0.27094999999999997,0.27094999999999997,null,0.27094999999999997,0.27094999999999997,0.27094999999999997,null,0.27094999999999997,0.27094999999999997,0.27094999999999997,null,null,0.27094999999999997,0.27094999999999997,0.27094999999999997]
[null,"     ½-ac lots (Built after 1995)",0.27094999999999997,0.27094999999999997,0.27094999999999997,null,0.27094999999999997,0.27094999999999997,0.27094999999999997,null,0.27094999999999997,0.27094999999999997,0.27094999999999997,null,0.27094999999999997,0.27094999999999997,0.27094999999999997,null,0.27094999999999997,0.27094999999999997,0.27094999999999997,null,0.27094999999999997,0.27094999999999997,0.27094999999999997,null,null,0.27094999999999997,0.27094999999999997,0.27094999999999997]
[null,"     ½-ac lots (Built before 1995)",0.21064999999999995,0.21064999999999995,0.21064999999999995,null,0.21064999999999995,0.21064999999999995,0.21064999999999995,null,0.21064999999999995,0.21064999999999995,0.21064999999999995,null,0.21064999999999995,0.21064999999999995,0.21064999999999995,null,0.21064999999999995,0.21064999999999995,0.21064999999999995,null,0.21064999999999995,0.21064999999999995,0.21064999999999995,null,null,0.21064999999999995,0.21064999999999995,0.21064999999999995]
[null,"     ¼-ac lots (New)",0.33979999999999999,0.33979999999999999,0.33979999999999999,null,0.33979999999999999,0.33979999999999999,0.33979999999999999,null,0.33979999999999999,0.33979999999999999,0.33979999999999999,null,0.33979999999999999,0.33979999999999999,0.33979999999999999,null,0.33979999999999999,0.33979999999999999,0.33979999999999999,null,0.33979999999999999,0.33979999999999999,0.33979999999999999,null,null,0.33979999999999999,0.33979999999999999,0.33979999999999999]
[null,"     ¼-ac lots (Built after 1995)",0.33979999999999999,0.33979999999999999,0.33979999999999999,null,0.33979999999999999,0.33979999999999999,0.33979999999999999,null,0.33979999999999999,0.33979999999999999,0.33979999999999999,null,0.33979999999999999,0.33979999999999999,0.33979999999999999,null,0.33979999999999999,0.33979999999999999,0.33979999999999999,null,0.33979999999999999,0.33979999999999999,0.33979999999999999,null,null,0.33979999999999999,0.33979999999999999,0.33979999999999999]
[null,"     ¼-ac lots (Built before 1995)",0.2606,0.2606,0.2606,null,0.2606,0.2606,0.2606,null,0.2606,0.2606,0.2606,null,0.2606,0.2606,0.2606,null,0.2606,0.2606,0.2606,null,0.2606,0.2606,0.2606,null,null,0.2606,0.2606,0.2606]
[null,"     ⅛-ac lots (New)",0.36895999999999995,0.36895999999999995,0.36895999999999995,null,0.36895999999999995,0.36895999999999995,0.36895999999999995,null,0.36895999999999995,0.36895999999999995,0.36895999999999995,null,0.36895999999999995,0.36895999999999995,0.36895999999999995,null,0.36895999999999995,0.36895999999999995,0.36895999999999995,null,0.36895999999999995,0.36895999999999995,0.36895999999999995,null,null,0.36895999999999995,0.36895999999999995,0.36895999999999995]
[null,"     ⅛-ac lots (Built after 1995)",0.36895999999999995,0.36895999999999995,0.36895999999999995,null,0.36895999999999995,0.36895999999999995,0.36895999999999995,null,0.36895999999999995,0.36895999999999995,0.36895999999999995,null,0.36895999999999995,0.36895999999999995,0.36895999999999995,null,0.36895999999999995,0.36895999999999995,0.36895999999999995,null,0.36895999999999995,0.36895999999999995,0.36895999999999995,null,null,0.36895999999999995,0.36895999999999995,0.36895999999999995]
[null,"     ⅛-ac lots (Built before 1995)",0.31783999999999996,0.31783999999999996,0.31783999999999996,null,0.31783999999999996,0.31783999999999996,0.31783999999999996,null,0.31783999999999996,0.31783999999999996,0.31783999999999996,null,0.31783999999999996,0.31783999999999996,0.31783999999999996,null,0.31783999999999996,0.31783999999999996,0.31783999999999996,null,0.31783999999999996,0.31783999999999996,0.31783999999999996,null,null,0.31783999999999996,0.31783999999999996,0.31783999999999996]
[null,"     Townhomes (New)",0.41863999999999996,0.41863999999999996,0.41863999999999996,null,0.41863999999999996,0.41863999999999996,0.41863999999999996,null,0.41863999999999996,0.41863999999999996,0.41863999999999996,null,0.41863999999999996,0.41863999999999996,0.41863999999999996,null,0.41863999999999996,0.41863999999999996,0.41863999999999996,null,0.41863999999999996,0.41863999999999996,0.41863999999999996,null,null,0.41863999999999996,0.41863999999999996,0.41863999999999996]
[null,"     Townhomes (Built after 1995)",0.41755999999999993,0.41755999999999993,0.41755999999999993,null,0.41755999999999993,0.41755999999999993,0.41755999999999993,null,0.41755999999999993,0.41755999999999993,0.41755999999999993,null,0.41755999999999993,0.41755999999999993,0.41755999999999993,null,0.41755999999999993,0.41755999999999993,0.41755999999999993,null,0.41755999999999993,0.41755999999999993,0.41755999999999993,null,null,0.41755999999999993,0.41755999999999993,0.41755999999999993]
[null,"     Townhomes (Built before 1995)",0.41863999999999996,0.41863999999999996,0.41863999999999996,null,0.41863999999999996,0.41863999999999996,0.41863999999999996,null,0.41863999999999996,0.41863999999999996,0.41863999999999996,null,0.41863999999999996,0.41863999999999996,0.41863999999999996,null,0.41863999999999996,0.41863999999999996,0.41863999999999996,null,0.41863999999999996,0.41863999999999996,0.41863999999999996,null,null,0.41863999999999996,0.41863999999999996,0.41863999999999996]
[null,"     Multi-family (New)",0.45022999999999996,0.45022999999999996,0.45022999999999996,null,0.45022999999999996,0.45022999999999996,0.45022999999999996,null,0.45022999999999996,0.45022999999999996,0.45022999999999996,null,0.45022999999999996,0.45022999999999996,0.45022999999999996,null,0.45022999999999996,0.45022999999999996,0.45022999999999996,null,0.45022999999999996,0.45022999999999996,0.45022999999999996,null,null,0.45022999999999996,0.45022999999999996,0.45022999999999996]
[null,"     Multi-family (Built after 1995)",{"$f":"0.05+(0.009*(C249*100))","v":0.44896999999999998},0.44896999999999998,0.44896999999999998,null,{"$f":"0.05+(0.009*(G249*100))","v":0.44896999999999998},0.44896999999999998,0.44896999999999998,null,{"$f":"0.05+(0.009*(K249*100))","v":0.44896999999999998},0.44896999999999998,0.44896999999999998,null,{"$f":"0.05+(0.009*(O249*100))","v":0.44896999999999998},0.44896999999999998,0.44896999999999998,null,{"$f":"0.05+(0.009*(S249*100))","v":0.44896999999999998},0.44896999999999998,0.44896999999999998,null,{"$f":"0.05+(0.009*(W249*100))","v":0.44896999999999998},0.44896999999999998,0.44896999999999998,null,null,{"$f":"0.05+(0.009*(AB249*100))","v":0.44896999999999998},0.44896999999999998,0.44896999999999998]
[null,"     Multi-family (Built before 1995)",0.45022999999999996,0.45022999999999996,0.45022999999999996,null,0.45022999999999996,0.45022999999999996,0.45022999999999996,null,0.45022999999999996,0.45022999999999996,0.45022999999999996,null,0.45022999999999996,0.45022999999999996,0.45022999999999996,null,0.45022999999999996,0.45022999999999996,0.45022999999999996,null,0.45022999999999996,0.45022999999999996,0.45022999999999996,null,null,0.45022999999999996,0.45022999999999996,0.45022999999999996]
[null,"     Custom Lot Size (New)",0.05,0.05,0.05,null,0.05,0.05,0.05,null,0.05,0.05,0.05,null,0.05,0.05,0.05,null,0.05,0.05,0.05,null,0.05,0.05,0.05,null,null,0.05,0.05,0.05]
[null,"     Custom Lot Size (Built after 1995)",0.05,0.05,0.05,null,0.05,0.05,0.05,null,0.05,0.05,0.05,null,0.05,0.05,0.05,null,0.05,0.05,0.05,null,0.05,0.05,0.05,null,null,0.05,0.05,0.05]
[null,"     Custom Lot Size (Built before 1995)",0.05,0.05,0.05,null,0.05,0.05,0.05,null,0.05,0.05,0.05,null,0.05,0.05,0.05,null,0.05,0.05,0.05,null,0.05,0.05,0.05,null,null,0.05,0.05,0.05]
[null,"     Roadway",0.95,0.95,0.95,null,0.95,0.95,0.95,null,0.95,0.95,0.95,null,0.95,0.95,0.95,null,0.95,0.95,0.95,null,0.95,0.95,0.95,null,null,0.95,0.95,0.95]
[null,"     Driveway",0.95,0.95,0.95,null,0.95,0.95,0.95,null,0.95,0.95,0.95,null,0.95,0.95,0.95,null,0.95,0.95,0.95,null,0.95,0.95,0.95,null,null,0.95,0.95,0.95]
[null,"     Parking lot",0.95,0.95,0.95,null,0.95,0.95,0.95,null,0.95,0.95,0.95,null,0.95,0.95,0.95,null,0.95,0.95,0.95,null,0.95,0.95,0.95,null,null,0.95,0.95,0.95]
[null,"     Roof",0.95,0.95,0.95,null,0.95,0.95,0.95,null,0.95,0.95,0.95,null,0.95,0.95,0.95,null,0.95,0.95,0.95,null,0.95,0.95,0.95,null,null,0.95,0.95,0.95]
[null,"     Sidewalk",0.95,0.95,0.95,null,0.95,0.95,0.95,null,0.95,0.95,0.95,null,0.95,0.95,0.95,null,0.95,0.95,0.95,null,0.95,0.95,0.95,null,null,0.95,0.95,0.95]
[null,"     Lawn",0.05,0.05,0.05,null,0.05,0.05,0.05,null,0.05,0.05,0.05,null,0.05,0.05,0.05,null,0.05,0.05,0.05,null,0.05,0.05,0.05,null,null,0.05,0.05,0.05]
[null,"     Managed pervious",0.05,0.05,0.05,null,0.05,0.05,0.05,null,0.05,0.05,0.05,null,0.05,0.05,0.05,null,0.05,0.05,0.05,null,0.05,0.05,0.05,null,null,0.05,0.05,0.05]
[null,"     Woods",0.05,0.05,0.05,null,0.05,0.05,0.05,null,0.05,0.05,0.05,null,0.05,0.05,0.05,null,0.05,0.05,0.05,null,0.05,0.05,0.05,null,null,0.05,0.05,0.05]
[null,"LAND TAKEN UP BY BMP",1,1,1,1,1,1,1,null,1,1,1,null,1,1,1,1,1,1,1,null,1,1,1,null,null,1,1,1]
[null,"Composite Rv:",{"$f":"(C266*C330)+(C267*C331)+(C269*C333)+(C270*C334)+(C271*C335)+(C272*C336)+(C273*C337)+(C275*C339)+(C276*C340)+(C277*C341)+(C278*C342)+(C280*C344)+(C281*C345)+(C282*C346)+(C284*C348)+(C285*C349)+(C286*C350)+(C287*C351)+(C288*C352)+(C289*C353)+(C291*C355)+(C292*C356)+(C294*C358)+(C295*C359)+(C296*C360)+(C297*C361)+(C298*C362)+(C299*C363)+(C300*C364)+(C301*C365)+(C302*C366)+(C303*C367)+(C304*C368)+(C305*C369)+(C306*C370)+(C307*C371)+(C308*C372)+(C309*C373)+(C310*C374)+(C311*C375)+(C312*C376)+(C313*C377)+(C314*C378)+(C315*C379)+(C316*C380)+(C317*C381)+(C318*C382)+(C319*C383)+(C320*C384)+(C321*C385)+(C322*C386)+(C323*C387)+(C324*C388)+(C325*C389)+(C326*C390)","v":0},{"$f":"(D266*D330)+(D267*D331)+(D269*D333)+(D270*D334)+(D271*D335)+(D272*D336)+(D273*D337)+(D275*D339)+(D276*D340)+(D277*D341)+(D278*D342)+(D280*D344)+(D281*D345)+(D282*D346)+(D284*D348)+(D285*D349)+(D286*D350)+(D287*D351)+(D288*D352)+(D289*D353)+(D291*D355)+(D292*D356)+(D294*D358)+(D295*D359)+(D296*D360)+(D297*D361)+(D298*D362)+(D299*D363)+(D300*D364)+(D301*D365)+(D302*D366)+(D303*D367)+(D304*D368)+(D305*D369)+(D306*D370)+(D307*D371)+(D308*D372)+(D309*D373)+(D310*D374)+(D311*D375)+(D312*D376)+(D313*D377)+(D314*D378)+(D315*D379)+(D316*D380)+(D317*D381)+(D318*D382)+(D319*D383)+(D320*D384)+(D321*D385)+(D322*D386)+(D323*D387)+(D324*D388)+(D325*D389)+(D326*D390)","v":0},0,0,0,0,0,0,0,0,0,0,0,0,0,0,0,0,0,0,0,0,0]
[]
[null,"RUNOFF VOLUME","Runoff Volume (c.f.)","Runoff Volume (c.f.)","Runoff Volume (c.f.)",null,"Runoff Volume (c.f.)","Runoff Volume (c.f.)","Runoff Volume (c.f.)",null,"Runoff Volume (c.f.)","Runoff Volume (c.f.)","Runoff Volume (c.f.)",null,"Runoff Volume (c.f.)","Runoff Volume (c.f.)","Runoff Volume (c.f.)",null,"Runoff Volume (c.f.)","Runoff Volume (c.f.)","Runoff Volume (c.f.)",null,"Runoff Volume (c.f.)","Runoff Volume (c.f.)","Runoff Volume (c.f.)",null,null,null,"Post-Dev w/ BMPs Volume"]
[null,"COMMERCIAL"]
[null,"     Parking lot",{"$f":"C330*(C137*43560)*($D$1/12)","v":{"$error":"#N/A"}},{"$f":"D330*(43560*D137)*($D$1/12)","v":{"$error":"#N/A"}},{"$error":"#N/A"},{"$f":"F330*F136*($D$1/12)","v":{"$error":"#N/A"}},{"$f":"G330*(G137*43560)*($D$1/12)","v":{"$error":"#N/A"}},{"$f":"H330*(43560*H137)*($D$1/12)","v":{"$error":"#N/A"}},{"$f":"I330*(I137*43560)*($D$1/12)","v":{"$error":"#N/A"}},{"$f":"J330*J136*($D$1/12)","v":{"$error":"#N/A"}},{"$f":"K330*(43560*K137)*($D$1/12)","v":{"$error":"#N/A"}},{"$error":"#N/A"},{"$error":"#N/A"},{"$f":"N330*N136*($D$1/12)","v":{"$error":"#N/A"}},{"$f":"O330*(43560*O137)*($D$1/12)","v":{"$error":"#N/A"}},{"$error":"#N/A"},{"$error":"#N/A"},{"$f":"R330*R136*($D$1/12)","v":{"$error":"#N/A"}},{"$f":"S330*(43560*S137)*($D$1/12)","v":{"$error":"#N/A"}},{"$error":"#N/A"},{"$error":"#N/A"},{"$f":"V330*V136*($D$1/12)","v":{"$error":"#N/A"}},{"$f":"W330*(43560*W137)*($D$1/12)","v":{"$error":"#N/A"}},{"$f":"X330*(43560*X137)*($D$1/12)","v":{"$error":"#N/A"}},{"$f":"Y330*(43560*Y137)*($D$1/12)","v":{"$error":"#N/A"}},{"$f":"Z330*(43560*Z137)*($D$1/12)","v":{"$error":"#N/A"}},null,null,{"$f":"AC330*(43560*AC137)*($D$1/12)","v":{"$error":"#N/A"}},{"$error":"#N/A"}]
[null,"     Roof",{"$error":"#N/A"},{"$error":"#N/A"},{"$error":"#N/A"},{"$f":"F331*F137*($D$1/12)","v":{"$error":"#N/A"}},{"$error":"#N/A"},{"$error":"#N/A"},{"$error":"#N/A"},{"$f":"J331*J137*($D$1/12)","v":{"$error":"#N/A"}},{"$error":"#N/A"},{"$error":"#N/A"},{"$error":"#N/A"},{"$f":"N331*N137*($D$1/12)","v":{"$error":"#N/A"}},{"$error":"#N/A"},{"$error":"#N/A"},{"$error":"#N/A"},{"$f":"R331*R137*($D$1/12)","v":{"$error":"#N/A"}},{"$error":"#N/A"},{"$error":"#N/A"},{"$error":"#N/A"},{"$f":"V331*V137*($D$1/12)","v":{"$error":"#N/A"}},{"$f":"W331*(43560*W138)*($D$1/12)","v":{"$error":"#N/A"}},{"$error":"#N/A"},{"$error":"#N/A"},{"$f":"Z331*Z137*($D$1/12)","v":{"$error":"#N/A"}},null,null,{"$error":"#N/A"},{"$error":"#N/A"}]
[null,"INDUSTRIAL",{"$error":"#N/A"},{"$error":"#N/A"},{"$error":"#N/A"},{"$f":"F332*#REF!*($D$1/12)","v":{"$error":"#REF!"}},{"$error":"#N/A"},{"$error":"#N/A"},{"$error":"#N/A"},{"$f":"J332*#REF!*($D$1/12)","v":{"$error":"#REF!"}},{"$error":"#N/A"},{"$error":"#N/A"},{"$error":"#N/A"},{"$f":"N332*#REF!*($D$1/12)","v":{"$error":"#REF!"}},{"$error":"#N/A"},{"$error":"#N/A"},{"$error":"#N/A"},{"$f":"R332*#REF!*($D$1/12)","v":{"$error":"#REF!"}},{"$error":"#N/A"},{"$error":"#N/A"},{"$error":"#N/A"},{"$f":"V332*#REF!*($D$1/12)","v":{"$error":"#REF!"}},{"$error":"#N/A"},{"$error":"#N/A"},{"$error":"#N/A"},{"$f":"Z332*#REF!*($D$1/12)","v":{"$error":"#REF!"}},null,null,{"$error":"#N/A"},{"$error":"#N/A"}]
[null,"     Parking lot",{"$error":"#N/A"},{"$error":"#N/A"},{"$error":"#N/A"},{"$f":"F333*F139*($D$1/12)","v":{"$error":"#N/A"}},{"$error":"#N/A"},{"$error":"#N/A"},{"$error":"#N/A"},{"$f":"J333*J139*($D$1/12)","v":{"$error":"#N/A"}},{"$error":"#N/A"},{"$error":"#N/A"},{"$error":"#N/A"},{"$f":"N333*N139*($D$1/12)","v":{"$error":"#N/A"}},{"$error":"#N/A"},{"$error":"#N/A"},{"$error":"#N/A"},{"$f":"R333*R139*($D$1/12)","v":{"$error":"#N/A"}},{"$error":"#N/A"},{"$error":"#N/A"},{"$error":"#N/A"},{"$f":"V333*V139*($D$1/12)","v":{"$error":"#N/A"}},{"$error":"#N/A"},{"$error":"#N/A"},{"$error":"#N/A"},{"$f":"Z333*Z139*($D$1/12)","v":{"$error":"#N/A"}},null,null,{"$error":"#N/A"},{"$error":"#N/A"}]
[null,"     Roof",{"$error":"#N/A"},{"$error":"#N/A"},{"$error":"#N/A"},{"$f":"F334*F140*($D$1/12)","v":{"$error":"#N/A"}},{"$error":"#N/A"},{"$error":"#N/A"},{"$error":"#N/A"},{"$f":"J334*J140*($D$1/12)","v":{"$error":"#N/A"}},{"$error":"#N/A"},{"$error":"#N/A"},{"$error":"#N/A"},{"$f":"N334*N140*($D$1/12)","v":{"$error":"#N/A"}},{"$error":"#N/A"},{"$error":"#N/A"},{"$error":"#N/A"},{"$f":"R334*R140*($D$1/12)","v":{"$error":"#N/A"}},{"$error":"#N/A"},{"$error":"#N/A"},{"$error":"#N/A"},{"$f":"V334*V140*($D$1/12)","v":{"$error":"#N/A"}},{"$error":"#N/A"},{"$error":"#N/A"},{"$error":"#N/A"},{"$f":"Z334*Z140*($D$1/12)","v":{"$error":"#N/A"}},null,null,{"$error":"#N/A"},{"$error":"#N/A"}]
[null,"     Access road",{"$error":"#N/A"},{"$error":"#N/A"},{"$error":"#N/A"},{"$f":"F335*F141*($D$1/12)","v":{"$error":"#N/A"}},{"$error":"#N/A"},{"$error":"#N/A"},{"$error":"#N/A"},{"$f":"J335*J141*($D$1/12)","v":{"$error":"#N/A"}},{"$error":"#N/A"},{"$error":"#N/A"},{"$error":"#N/A"},{"$f":"N335*N141*($D$1/12)","v":{"$error":"#N/A"}},{"$error":"#N/A"},{"$error":"#N/A"},{"$error":"#N/A"},{"$f":"R335*R141*($D$1/12)","v":{"$error":"#N/A"}},{"$error":"#N/A"},{"$error":"#N/A"},{"$error":"#N/A"},{"$f":"V335*V141*($D$1/12)","v":{"$error":"#N/A"}},{"$error":"#N/A"},{"$error":"#N/A"},{"$error":"#N/A"},{"$f":"Z335*Z141*($D$1/12)","v":{"$error":"#N/A"}},null,null,{"$error":"#N/A"},{"$error":"#N/A"}]
[null,"     Impervious, uncovered storage",{"$f":"C336*(C143*43560)*($D$1/12)","v":{"$error":"#N/A"}},{"$f":"D336*(43560*D143)*($D$1/12)","v":{"$error":"#N/A"}},{"$error":"#N/A"},{"$f":"F336*F142*($D$1/12)","v":{"$error":"#N/A"}},{"$f":"G336*(G143*43560)*($D$1/12)","v":{"$error":"#N/A"}},{"$f":"H336*(43560*H143)*($D$1/12)","v":{"$error":"#N/A"}},{"$f":"I336*(I143*43560)*($D$1/12)","v":{"$error":"#N/A"}},{"$f":"J336*J142*($D$1/12)","v":{"$error":"#N/A"}},{"$f":"K336*(43560*K143)*($D$1/12)","v":{"$error":"#N/A"}},{"$error":"#N/A"},{"$error":"#N/A"},{"$f":"N336*N142*($D$1/12)","v":{"$error":"#N/A"}},{"$f":"O336*(43560*O143)*($D$1/12)","v":{"$error":"#N/A"}},{"$error":"#N/A"},{"$error":"#N/A"},{"$f":"R336*R142*($D$1/12)","v":{"$error":"#N/A"}},{"$f":"S336*(43560*S143)*($D$1/12)","v":{"$error":"#N/A"}},{"$error":"#N/A"},{"$error":"#N/A"},{"$f":"V336*V142*($D$1/12)","v":{"$error":"#N/A"}},{"$f":"W336*(43560*W143)*($D$1/12)","v":{"$error":"#N/A"}},{"$error":"#N/A"},{"$error":"#N/A"},null,null,null,{"$f":"AC336*(43560*AC143)*($D$1/12)","v":{"$error":"#N/A"}},{"$error":"#N/A"}]
[null,"     Pervious, uncovered storage",{"$error":"#N/A"},{"$f":"D337*(43560*D144)*($D$1/12)","v":{"$error":"#N/A"}},{"$error":"#N/A"},{"$error":"#N/A"},{"$error":"#N/A"},{"$error":"#N/A"},{"$error":"#N/A"},{"$error":"#N/A"},{"$f":"K337*(43560*K144)*($D$1/12)","v":{"$error":"#N/A"}},{"$error":"#N/A"},{"$error":"#N/A"},{"$error":"#N/A"},{"$f":"O337*(43560*O144)*($D$1/12)","v":{"$error":"#N/A"}},{"$error":"#N/A"},{"$error":"#N/A"},{"$error":"#N/A"},{"$f":"S337*(43560*S144)*($D$1/12)","v":{"$error":"#N/A"}},{"$error":"#N/A"},{"$error":"#N/A"},{"$error":"#N/A"},{"$f":"W337*(43560*W144)*($D$1/12)","v":{"$error":"#N/A"}},{"$error":"#N/A"},{"$error":"#N/A"},null,null,null,{"$f":"AC337*(43560*AC144)*($D$1/12)","v":{"$error":"#N/A"}},{"$error":"#N/A"}]
[null,"TRANSPORTATION",{"$error":"#N/A"},{"$f":"D338*(43560*D145)*($D$1/12)","v":{"$error":"#N/A"}},{"$error":"#N/A"},{"$error":"#N/A"},{"$error":"#N/A"},{"$error":"#N/A"},{"$error":"#N/A"},{"$error":"#N/A"},{"$f":"K338*(43560*K145)*($D$1/12)","v":{"$error":"#N/A"}},{"$error":"#N/A"},{"$error":"#N/A"},{"$error":"#N/A"},{"$f":"O338*(43560*O145)*($D$1/12)","v":{"$error":"#N/A"}},{"$error":"#N/A"},{"$error":"#N/A"},{"$error":"#N/A"},{"$f":"S338*(43560*S145)*($D$1/12)","v":{"$error":"#N/A"}},{"$error":"#N/A"},{"$error":"#N/A"},{"$error":"#N/A"},{"$f":"W338*(43560*W145)*($D$1/12)","v":{"$error":"#N/A"}},{"$error":"#N/A"},{"$error":"#N/A"},{"$f":"Z338*Z142*($D$1/12)","v":{"$error":"#N/A"}},null,null,{"$f":"AC338*(43560*AC145)*($D$1/12)","v":{"$error":"#N/A"}},{"$error":"#N/A"}]
[null,"     Primary road EOP",{"$error":"#N/A"},{"$f":"D339*(43560*D146)*($D$1/12)","v":{"$error":"#N/A"}},{"$error":"#N/A"},{"$error":"#N/A"},{"$error":"#N/A"},{"$error":"#N/A"},{"$error":"#N/A"},{"$error":"#N/A"},{"$f":"K339*(43560*K146)*($D$1/12)","v":{"$error":"#N/A"}},{"$error":"#N/A"},{"$error":"#N/A"},{"$error":"#N/A"},{"$f":"O339*(43560*O146)*($D$1/12)","v":{"$error":"#N/A"}},{"$error":"#N/A"},{"$error":"#N/A"},{"$error":"#N/A"},{"$f":"S339*(43560*S146)*($D$1/12)","v":{"$error":"#N/A"}},{"$error":"#N/A"},{"$error":"#N/A"},{"$error":"#N/A"},{"$f":"W339*(43560*W146)*($D$1/12)","v":{"$error":"#N/A"}},{"$error":"#N/A"},{"$error":"#N/A"},{"$f":"Z339*Z145*($D$1/12)","v":{"$error":"#N/A"}},null,null,{"$f":"AC339*(43560*AC146)*($D$1/12)","v":{"$error":"#N/A"}},{"$error":"#N/A"}]
[null,"     Secondary road EOP",{"$error":"#N/A"},{"$f":"D340*(43560*D147)*($D$1/12)","v":{"$error":"#N/A"}},{"$error":"#N/A"},{"$error":"#N/A"},{"$error":"#N/A"},{"$error":"#N/A"},{"$error":"#N/A"},{"$error":"#N/A"},{"$f":"K340*(43560*K147)*($D$1/12)","v":{"$error":"#N/A"}},{"$error":"#N/A"},{"$error":"#N/A"},{"$error":"#N/A"},{"$f":"O340*(43560*O147)*($D$1/12)","v":{"$error":"#N/A"}},{"$error":"#N/A"},{"$error":"#N/A"},{"$error":"#N/A"},{"$f":"S340*(43560*S147)*($D$1/12)","v":{"$error":"#N/A"}},{"$error":"#N/A"},{"$error":"#N/A"},{"$error":"#N/A"},{"$f":"W340*(43560*W147)*($D$1/12)","v":{"$error":"#N/A"}},{"$error":"#N/A"},{"$error":"#N/A"},{"$f":"Z340*Z146*($D$1/12)","v":{"$error":"#N/A"}},null,null,{"$f":"AC340*(43560*AC147)*($D$1/12)","v":{"$error":"#N/A"}},{"$error":"#N/A"}]
[null,"     Bridge EOP",{"$error":"#N/A"},{"$f":"D341*(43560*D148)*($D$1/12)","v":{"$error":"#N/A"}},{"$error":"#N/A"},{"$error":"#N/A"},{"$error":"#N/A"},{"$error":"#N/A"},{"$error":"#N/A"},{"$error":"#N/A"},{"$f":"K341*(43560*K148)*($D$1/12)","v":{"$error":"#N/A"}},{"$error":"#N/A"},{"$error":"#N/A"},{"$error":"#N/A"},{"$f":"O341*(43560*O148)*($D$1/12)","v":{"$error":"#N/A"}},{"$error":"#N/A"},{"$error":"#N/A"},{"$error":"#N/A"},{"$f":"S341*(43560*S148)*($D$1/12)","v":{"$error":"#N/A"}},{"$error":"#N/A"},{"$error":"#N/A"},{"$error":"#N/A"},{"$f":"W341*(43560*W148)*($D$1/12)","v":{"$error":"#N/A"}},{"$error":"#N/A"},{"$error":"#N/A"},{"$f":"Z341*Z147*($D$1/12)","v":{"$error":"#N/A"}},null,null,{"$f":"AC341*(43560*AC148)*($D$1/12)","v":{"$error":"#N/A"}},{"$error":"#N/A"}]
[null,"     Sidewalk",{"$error":"#N/A"},{"$f":"D342*(43560*D149)*($D$1/12)","v":{"$error":"#N/A"}},{"$error":"#N/A"},{"$error":"#N/A"},{"$error":"#N/A"},{"$error":"#N/A"},{"$error":"#N/A"},{"$error":"#N/A"},{"$f":"K342*(43560*K149)*($D$1/12)","v":{"$error":"#N/A"}},{"$error":"#N/A"},{"$error":"#N/A"},{"$error":"#N/A"},{"$f":"O342*(43560*O149)*($D$1/12)","v":{"$error":"#N/A"}},{"$error":"#N/A"},{"$error":"#N/A"},{"$error":"#N/A"},{"$f":"S342*(43560*S149)*($D$1/12)","v":{"$error":"#N/A"}},{"$error":"#N/A"},{"$error":"#N/A"},{"$error":"#N/A"},{"$f":"W342*(43560*W149)*($D$1/12)","v":{"$error":"#N/A"}},{"$error":"#N/A"},{"$error":"#N/A"},{"$f":"Z342*Z148*($D$1/12)","v":{"$error":"#N/A"}},null,null,{"$f":"AC342*(43560*AC149)*($D$1/12)","v":{"$error":"#N/A"}},{"$error":"#N/A"}]
[null,"REST AREA",{"$error":"#N/A"},{"$f":"D343*(43560*D150)*($D$1/12)","v":{"$error":"#N/A"}},{"$error":"#N/A"},{"$error":"#N/A"},{"$error":"#N/A"},{"$error":"#N/A"},{"$error":"#N/A"},{"$error":"#N/A"},{"$f":"K343*(43560*K150)*($D$1/12)","v":{"$error":"#N/A"}},{"$error":"#N/A"},{"$error":"#N/A"},{"$error":"#N/A"},{"$f":"O343*(43560*O150)*($D$1/12)","v":{"$error":"#N/A"}},{"$error":"#N/A"},{"$error":"#N/A"},{"$error":"#N/A"},{"$f":"S343*(43560*S150)*($D$1/12)","v":{"$error":"#N/A"}},{"$error":"#N/A"},{"$error":"#N/A"},{"$error":"#N/A"},{"$f":"W343*(43560*W150)*($D$1/12)","v":{"$error":"#N/A"}},{"$error":"#N/A"},{"$error":"#N/A"},null,null,null,{"$f":"AC343*(43560*AC150)*($D$1/12)","v":{"$error":"#N/A"}},{"$error":"#N/A"}]
[null,"     Parking lot (car)",{"$error":"#N/A"},{"$f":"D344*(43560*D151)*($D$1/12)","v":{"$error":"#N/A"}},{"$error":"#N/A"},{"$error":"#N/A"},{"$error":"#N/A"},{"$error":"#N/A"},{"$error":"#N/A"},{"$error":"#N/A"},{"$f":"K344*(43560*K151)*($D$1/12)","v":{"$error":"#N/A"}},{"$error":"#N/A"},{"$error":"#N/A"},{"$error":"#N/A"},{"$f":"O344*(43560*O151)*($D$1/12)","v":{"$error":"#N/A"}},{"$error":"#N/A"},{"$error":"#N/A"},{"$error":"#N/A"},{"$f":"S344*(43560*S151)*($D$1/12)","v":{"$error":"#N/A"}},{"$error":"#N/A"},{"$error":"#N/A"},{"$error":"#N/A"},{"$f":"W344*(43560*W151)*($D$1/12)","v":{"$error":"#N/A"}},{"$error":"#N/A"},{"$error":"#N/A"},null,null,null,{"$f":"AC344*(43560*AC151)*($D$1/12)","v":{"$error":"#N/A"}},{"$error":"#N/A"}]
[null,"     Parking lot (truck)",{"$error":"#N/A"},{"$f":"D345*(43560*D152)*($D$1/12)","v":{"$error":"#N/A"}},{"$error":"#N/A"},{"$error":"#N/A"},{"$error":"#N/A"},{"$error":"#N/A"},{"$error":"#N/A"},{"$error":"#N/A"},{"$f":"K345*(43560*K152)*($D$1/12)","v":{"$error":"#N/A"}},{"$error":"#N/A"},{"$error":"#N/A"},{"$error":"#N/A"},{"$f":"O345*(43560*O152)*($D$1/12)","v":{"$error":"#N/A"}},{"$error":"#N/A"},{"$error":"#N/A"},{"$error":"#N/A"},{"$f":"S345*(43560*S152)*($D$1/12)","v":{"$error":"#N/A"}},{"$error":"#N/A"},{"$error":"#N/A"},{"$error":"#N/A"},{"$f":"W345*(43560*W152)*($D$1/12)","v":{"$error":"#N/A"}},{"$error":"#N/A"},{"$error":"#N/A"},null,null,null,{"$f":"AC345*(43560*AC152)*($D$1/12)","v":{"$error":"#N/A"}},{"$error":"#N/A"}]
[null,"     Roof",{"$error":"#N/A"},{"$f":"D346*(43560*D153)*($D$1/12)","v":{"$error":"#N/A"}},{"$error":"#N/A"},{"$error":"#N/A"},{"$error":"#N/A"},{"$error":"#N/A"},{"$error":"#N/A"},{"$error":"#N/A"},{"$f":"K346*(43560*K153)*($D$1/12)","v":{"$error":"#N/A"}},{"$error":"#N/A"},{"$error":"#N/A"},{"$error":"#N/A"},{"$f":"O346*(43560*O153)*($D$1/12)","v":{"$error":"#N/A"}},{"$error":"#N/A"},{"$error":"#N/A"},{"$error":"#N/A"},{"$f":"S346*(43560*S153)*($D$1/12)","v":{"$error":"#N/A"}},{"$error":"#N/A"},{"$error":"#N/A"},{"$error":"#N/A"},{"$f":"W346*(43560*W153)*($D$1/12)","v":{"$error":"#N/A"}},{"$error":"#N/A"},{"$error":"#N/A"},null,null,null,{"$f":"AC346*(43560*AC153)*($D$1/12)","v":{"$error":"#N/A"}},{"$error":"#N/A"}]
[null,"MISC. PERVIOUS",{"$error":"#N/A"},{"$f":"D347*(43560*D154)*($D$1/12)","v":{"$error":"#N/A"}},{"$error":"#N/A"},{"$error":"#N/A"},{"$error":"#N/A"},{"$error":"#N/A"},{"$error":"#N/A"},{"$error":"#N/A"},{"$f":"K347*(43560*K154)*($D$1/12)","v":{"$error":"#N/A"}},{"$error":"#N/A"},{"$error":"#N/A"},{"$error":"#N/A"},{"$f":"O347*(43560*O154)*($D$1/12)","v":{"$error":"#N/A"}},{"$error":"#N/A"},{"$error":"#N/A"},{"$error":"#N/A"},{"$f":"S347*(43560*S154)*($D$1/12)","v":{"$error":"#N/A"}},{"$error":"#N/A"},{"$error":"#N/A"},{"$error":"#N/A"},{"$f":"W347*(43560*W154)*($D$1/12)","v":{"$error":"#N/A"}},{"$error":"#N/A"},{"$error":"#N/A"},{"$f":"Z347*Z149*($D$1/12)","v":{"$error":"#N/A"}},null,null,{"$f":"AC347*(43560*AC154)*($D$1/12)","v":{"$error":"#N/A"}},{"$error":"#N/A"}]
[null,"     Managed lawn (fertilized)",{"$error":"#N/A"},{"$f":"D348*(43560*D155)*($D$1/12)","v":{"$error":"#N/A"}},{"$error":"#N/A"},{"$error":"#N/A"},{"$error":"#N/A"},{"$error":"#N/A"},{"$error":"#N/A"},{"$error":"#N/A"},{"$f":"K348*(43560*K155)*($D$1/12)","v":{"$error":"#N/A"}},{"$error":"#N/A"},{"$error":"#N/A"},{"$error":"#N/A"},{"$f":"O348*(43560*O155)*($D$1/12)","v":{"$error":"#N/A"}},{"$error":"#N/A"},{"$error":"#N/A"},{"$error":"#N/A"},{"$f":"S348*(43560*S155)*($D$1/12)","v":{"$error":"#N/A"}},{"$error":"#N/A"},{"$error":"#N/A"},{"$error":"#N/A"},{"$f":"W348*(43560*W155)*($D$1/12)","v":{"$error":"#N/A"}},{"$error":"#N/A"},{"$error":"#N/A"},{"$f":"Z348*Z154*($D$1/12)","v":{"$error":"#N/A"}},null,null,{"$f":"AC348*(43560*AC155)*($D$1/12)","v":{"$error":"#N/A"}},{"$error":"#N/A"}]
[null,"     Open space (unfertilized)",{"$error":"#N/A"},{"$f":"D349*(43560*D156)*($D$1/12)","v":{"$error":"#N/A"}},{"$error":"#N/A"},{"$error":"#N/A"},{"$error":"#N/A"},{"$error":"#N/A"},{"$error":"#N/A"},{"$error":"#N/A"},{"$f":"K349*(43560*K156)*($D$1/12)","v":{"$error":"#N/A"}},{"$error":"#N/A"},{"$error":"#N/A"},{"$error":"#N/A"},{"$f":"O349*(43560*O156)*($D$1/12)","v":{"$error":"#N/A"}},{"$error":"#N/A"},{"$error":"#N/A"},{"$error":"#N/A"},{"$f":"S349*(43560*S156)*($D$1/12)","v":{"$error":"#N/A"}},{"$error":"#N/A"},{"$error":"#N/A"},{"$error":"#N/A"},{"$f":"W349*(43560*W156)*($D$1/12)","v":{"$error":"#N/A"}},{"$error":"#N/A"},{"$error":"#N/A"},{"$f":"Z349*Z155*($D$1/12)","v":{"$error":"#N/A"}},null,null,{"$f":"AC349*(43560*AC156)*($D$1/12)","v":{"$error":"#N/A"}},{"$error":"#N/A"}]
[null,"     Open/Landscaped",{"$error":"#N/A"},{"$f":"D350*(43560*D157)*($D$1/12)","v":{"$error":"#N/A"}},{"$error":"#N/A"},{"$error":"#N/A"},{"$error":"#N/A"},{"$error":"#N/A"},{"$error":"#N/A"},{"$error":"#N/A"},{"$f":"K350*(43560*K157)*($D$1/12)","v":{"$error":"#N/A"}},{"$error":"#N/A"},{"$error":"#N/A"},{"$error":"#N/A"},{"$f":"O350*(43560*O157)*($D$1/12)","v":{"$error":"#N/A"}},{"$error":"#N/A"},{"$error":"#N/A"},{"$error":"#N/A"},{"$f":"S350*(43560*S157)*($D$1/12)","v":{"$error":"#N/A"}},{"$error":"#N/A"},{"$error":"#N/A"},{"$error":"#N/A"},{"$f":"W350*(43560*W157)*($D$1/12)","v":{"$error":"#N/A"}},{"$error":"#N/A"},{"$error":"#N/A"},null,null,null,{"$f":"AC350*(43560*AC157)*($D$1/12)","v":{"$error":"#N/A"}},{"$error":"#N/A"}]
[null,"     Agriculture (crop)",{"$error":"#N/A"},{"$f":"D351*(43560*D158)*($D$1/12)","v":{"$error":"#N/A"}},{"$error":"#N/A"},{"$error":"#N/A"},{"$error":"#N/A"},{"$error":"#N/A"},{"$error":"#N/A"},{"$error":"#N/A"},{"$f":"K351*(43560*K158)*($D$1/12)","v":{"$error":"#N/A"}},{"$error":"#N/A"},{"$error":"#N/A"},{"$error":"#N/A"},{"$f":"O351*(43560*O158)*($D$1/12)","v":{"$error":"#N/A"}},{"$error":"#N/A"},{"$error":"#N/A"},{"$error":"#N/A"},{"$f":"S351*(43560*S158)*($D$1/12)","v":{"$error":"#N/A"}},{"$error":"#N/A"},{"$error":"#N/A"},{"$error":"#N/A"},{"$f":"W351*(43560*W158)*($D$1/12)","v":{"$error":"#N/A"}},{"$error":"#N/A"},{"$error":"#N/A"},null,null,null,{"$f":"AC351*(43560*AC158)*($D$1/12)","v":{"$error":"#N/A"}},{"$error":"#N/A"}]
[null,"     Agriculture (pasture)",{"$error":"#N/A"},{"$f":"D352*(43560*D159)*($D$1/12)","v":{"$error":"#N/A"}},{"$error":"#N/A"},{"$error":"#N/A"},{"$error":"#N/A"},{"$error":"#N/A"},{"$error":"#N/A"},{"$error":"#N/A"},{"$f":"K352*(43560*K159)*($D$1/12)","v":{"$error":"#N/A"}},{"$error":"#N/A"},{"$error":"#N/A"},{"$error":"#N/A"},{"$f":"O352*(43560*O159)*($D$1/12)","v":{"$error":"#N/A"}},{"$error":"#N/A"},{"$error":"#N/A"},{"$error":"#N/A"},{"$f":"S352*(43560*S159)*($D$1/12)","v":{"$error":"#N/A"}},{"$error":"#N/A"},{"$error":"#N/A"},{"$error":"#N/A"},{"$f":"W352*(43560*W159)*($D$1/12)","v":{"$error":"#N/A"}},{"$error":"#N/A"},{"$error":"#N/A"},null,null,null,{"$f":"AC352*(43560*AC159)*($D$1/12)","v":{"$error":"#N/A"}},{"$error":"#N/A"}]
[null,"     Forest",{"$error":"#N/A"},{"$f":"D353*(43560*D160)*($D$1/12)","v":{"$error":"#N/A"}},{"$error":"#N/A"},{"$error":"#N/A"},{"$error":"#N/A"},{"$error":"#N/A"},{"$error":"#N/A"},{"$error":"#N/A"},{"$f":"K353*(43560*K160)*($D$1/12)","v":{"$error":"#N/A"}},{"$error":"#N/A"},{"$error":"#N/A"},{"$error":"#N/A"},{"$f":"O353*(43560*O160)*($D$1/12)","v":{"$error":"#N/A"}},{"$error":"#N/A"},{"$error":"#N/A"},{"$error":"#N/A"},{"$f":"S353*(43560*S160)*($D$1/12)","v":{"$error":"#N/A"}},{"$error":"#N/A"},{"$error":"#N/A"},{"$error":"#N/A"},{"$f":"W353*(43560*W160)*($D$1/12)","v":{"$error":"#N/A"}},{"$error":"#N/A"},{"$error":"#N/A"},{"$f":"Z353*Z156*($D$1/12)","v":{"$error":"#N/A"}},null,null,{"$f":"AC353*(43560*AC160)*($D$1/12)","v":{"$error":"#N/A"}},{"$error":"#N/A"}]
[null,"UNSPECIFIED LAND USE",{"$error":"#N/A"},{"$f":"D354*(43560*D161)*($D$1/12)","v":{"$error":"#N/A"}},{"$error":"#N/A"},{"$error":"#N/A"},{"$error":"#N/A"},{"$error":"#N/A"},{"$error":"#N/A"},{"$error":"#N/A"},{"$f":"K354*(43560*K161)*($D$1/12)","v":{"$error":"#N/A"}},{"$error":"#N/A"},{"$error":"#N/A"},{"$error":"#N/A"},{"$f":"O354*(43560*O161)*($D$1/12)","v":{"$error":"#N/A"}},{"$error":"#N/A"},{"$error":"#N/A"},{"$error":"#N/A"},{"$f":"S354*(43560*S161)*($D$1/12)","v":{"$error":"#N/A"}},{"$error":"#N/A"},{"$error":"#N/A"},{"$error":"#N/A"},{"$f":"W354*(43560*W161)*($D$1/12)","v":{"$error":"#N/A"}},{"$error":"#N/A"},{"$error":"#N/A"},null,null,null,{"$f":"AC354*(43560*AC161)*($D$1/12)","v":{"$error":"#N/A"}},{"$error":"#N/A"}]
[null,"     Blank 1",{"$error":"#N/A"},{"$f":"D355*(43560*D162)*($D$1/12)","v":{"$error":"#N/A"}},{"$error":"#N/A"},{"$error":"#N/A"},{"$error":"#N/A"},{"$error":"#N/A"},{"$error":"#N/A"},{"$error":"#N/A"},{"$f":"K355*(43560*K162)*($D$1/12)","v":{"$error":"#N/A"}},{"$error":"#N/A"},{"$error":"#N/A"},{"$error":"#N/A"},{"$f":"O355*(43560*O162)*($D$1/12)","v":{"$error":"#N/A"}},{"$error":"#N/A"},{"$error":"#N/A"},{"$error":"#N/A"},{"$f":"S355*(43560*S162)*($D$1/12)","v":{"$error":"#N/A"}},{"$error":"#N/A"},{"$error":"#N/A"},{"$error":"#N/A"},{"$f":"W355*(43560*W162)*($D$1/12)","v":{"$error":"#N/A"}},{"$error":"#N/A"},{"$error":"#N/A"},null,null,null,{"$f":"AC355*(43560*AC162)*($D$1/12)","v":{"$error":"#N/A"}},{"$error":"#N/A"}]
[null,"     Blank 2",{"$error":"#N/A"},{"$f":"D356*(43560*D163)*($D$1/12)","v":{"$error":"#N/A"}},{"$error":"#N/A"},{"$error":"#N/A"},{"$error":"#N/A"},{"$error":"#N/A"},{"$error":"#N/A"},{"$error":"#N/A"},{"$f":"K356*(43560*K163)*($D$1/12)","v":{"$error":"#N/A"}},{"$error":"#N/A"},{"$error":"#N/A"},{"$error":"#N/A"},{"$f":"O356*(43560*O163)*($D$1/12)","v":{"$error":"#N/A"}},{"$error":"#N/A"},{"$error":"#N/A"},{"$error":"#N/A"},{"$f":"S356*(43560*S163)*($D$1/12)","v":{"$error":"#N/A"}},{"$error":"#N/A"},{"$error":"#N/A"},{"$error":"#N/A"},{"$f":"W356*(43560*W163)*($D$1/12)","v":{"$error":"#N/A"}},{"$error":"#N/A"},{"$error":"#N/A"},null,null,null,{"$f":"AC356*(43560*AC163)*($D$1/12)","v":{"$error":"#N/A"}},{"$error":"#N/A"}]
[null,"RESIDENTIAL",{"$f":"C357*(C164*43560)*($D$1/12)","v":{"$error":"#N/A"}},{"$f":"D357*(43560*D164)*($D$1/12)","v":{"$error":"#N/A"}},{"$error":"#N/A"},{"$f":"F357*F160*($D$1/12)","v":{"$error":"#N/A"}},{"$f":"G357*(G164*43560)*($D$1/12)","v":{"$error":"#N/A"}},{"$f":"H357*(43560*H164)*($D$1/12)","v":{"$error":"#N/A"}},{"$f":"I357*(I164*43560)*($D$1/12)","v":{"$error":"#N/A"}},{"$f":"J357*J160*($D$1/12)","v":{"$error":"#N/A"}},{"$f":"K357*(43560*K164)*($D$1/12)","v":{"$error":"#N/A"}},{"$error":"#N/A"},{"$error":"#N/A"},{"$f":"N357*N160*($D$1/12)","v":{"$error":"#N/A"}},{"$f":"O357*(43560*O164)*($D$1/12)","v":{"$error":"#N/A"}},{"$error":"#N/A"},{"$error":"#N/A"},{"$f":"R357*R160*($D$1/12)","v":{"$error":"#N/A"}},{"$f":"S357*(43560*S164)*($D$1/12)","v":{"$error":"#N/A"}},{"$error":"#N/A"},{"$error":"#N/A"},{"$f":"V357*V160*($D$1/12)","v":{"$error":"#N/A"}},{"$f":"W357*(43560*W164)*($D$1/12)","v":{"$error":"#N/A"}},{"$error":"#N/A"},{"$error":"#N/A"},{"$f":"Z357*Z160*($D$1/12)","v":{"$error":"#N/A"}},null,null,{"$f":"AC357*(43560*AC164)*($D$1/12)","v":{"$error":"#N/A"}},{"$error":"#N/A"}]
[null,"     2-ac lots (New)",{"$error":"#N/A"},{"$error":"#N/A"},{"$error":"#N/A"},{"$f":"F358*F164*($D$1/12)","v":{"$error":"#N/A"}},{"$error":"#N/A"},{"$error":"#N/A"},{"$error":"#N/A"},{"$f":"J358*J164*($D$1/12)","v":{"$error":"#N/A"}},{"$error":"#N/A"},{"$error":"#N/A"},{"$error":"#N/A"},{"$f":"N358*N164*($D$1/12)","v":{"$error":"#N/A"}},{"$error":"#N/A"},{"$error":"#N/A"},{"$error":"#N/A"},{"$f":"R358*R164*($D$1/12)","v":{"$error":"#N/A"}},{"$error":"#N/A"},{"$error":"#N/A"},{"$error":"#N/A"},{"$f":"V358*V164*($D$1/12)","v":{"$error":"#N/A"}},{"$error":"#N/A"},{"$error":"#N/A"},{"$error":"#N/A"},null,null,null,{"$error":"#N/A"},{"$error":"#N/A"}]
[null,"     2-ac lots (Built after 1995)",{"$error":"#N/A"},{"$error":"#N/A"},{"$error":"#N/A"},{"$error":"#N/A"},{"$error":"#N/A"},{"$error":"#N/A"},{"$error":"#N/A"},{"$error":"#N/A"},{"$error":"#N/A"},{"$error":"#N/A"},{"$error":"#N/A"},{"$error":"#N/A"},{"$error":"#N/A"},{"$error":"#N/A"},{"$error":"#N/A"},{"$error":"#N/A"},{"$error":"#N/A"},{"$error":"#N/A"},{"$error":"#N/A"},{"$error":"#N/A"},{"$error":"#N/A"},{"$error":"#N/A"},{"$error":"#N/A"},{"$f":"Z359*Z164*($D$1/12)","v":{"$error":"#N/A"}},null,null,{"$error":"#N/A"},{"$error":"#N/A"}]
[null,"     2-ac lots (Built before 1995)",{"$error":"#N/A"},{"$error":"#N/A"},{"$error":"#N/A"},{"$error":"#N/A"},{"$error":"#N/A"},{"$error":"#N/A"},{"$error":"#N/A"},{"$error":"#N/A"},{"$error":"#N/A"},{"$error":"#N/A"},{"$error":"#N/A"},{"$error":"#N/A"},{"$error":"#N/A"},{"$error":"#N/A"},{"$error":"#N/A"},{"$error":"#N/A"},{"$error":"#N/A"},{"$error":"#N/A"},{"$error":"#N/A"},{"$error":"#N/A"},{"$error":"#N/A"},{"$error":"#N/A"},{"$error":"#N/A"},{"$f":"Z360*Z166*($D$1/12)","v":{"$error":"#N/A"}},null,null,{"$error":"#N/A"},{"$error":"#N/A"}]
[null,"     1-ac lots (New)",{"$error":"#N/A"},{"$error":"#N/A"},{"$error":"#N/A"},{"$error":"#N/A"},{"$error":"#N/A"},{"$error":"#N/A"},{"$error":"#N/A"},{"$error":"#N/A"},{"$error":"#N/A"},{"$error":"#N/A"},{"$error":"#N/A"},{"$error":"#N/A"},{"$error":"#N/A"},{"$error":"#N/A"},{"$error":"#N/A"},{"$error":"#N/A"},{"$error":"#N/A"},{"$error":"#N/A"},{"$error":"#N/A"},{"$error":"#N/A"},{"$error":"#N/A"},{"$error":"#N/A"},{"$error":"#N/A"},null,null,null,{"$error":"#N/A"},{"$error":"#N/A"}]
[null,"     1-ac lots (Built after 1995)",{"$error":"#N/A"},{"$error":"#N/A"},{"$error":"#N/A"},{"$error":"#N/A"},{"$error":"#N/A"},{"$error":"#N/A"},{"$error":"#N/A"},{"$error":"#N/A"},{"$error":"#N/A"},{"$error":"#N/A"},{"$error":"#N/A"},{"$error":"#N/A"},{"$error":"#N/A"},{"$error":"#N/A"},{"$error":"#N/A"},{"$error":"#N/A"},{"$error":"#N/A"},{"$error":"#N/A"},{"$error":"#N/A"},{"$error":"#N/A"},{"$error":"#N/A"},{"$error":"#N/A"},{"$error":"#N/A"},{"$f":"Z362*Z167*($D$1/12)","v":{"$error":"#N/A"}},null,null,{"$error":"#N/A"},{"$error":"#N/A"}]
[null,"     1-ac lots (Built before 1995)",{"$error":"#N/A"},{"$error":"#N/A"},{"$error":"#N/A"},{"$error":"#N/A"},{"$error":"#N/A"},{"$error":"#N/A"},{"$error":"#N/A"},{"$error":"#N/A"},{"$error":"#N/A"},{"$error":"#N/A"},{"$error":"#N/A"},{"$error":"#N/A"},{"$error":"#N/A"},{"$error":"#N/A"},{"$error":"#N/A"},{"$error":"#N/A"},{"$error":"#N/A"},{"$error":"#N/A"},{"$error":"#N/A"},{"$error":"#N/A"},{"$error":"#N/A"},{"$error":"#N/A"},{"$error":"#N/A"},{"$f":"Z363*Z169*($D$1/12)","v":{"$error":"#N/A"}},null,null,{"$error":"#N/A"},{"$error":"#N/A"}]
[null,"     ½-ac lots (New)",{"$error":"#N/A"},{"$error":"#N/A"},{"$error":"#N/A"},{"$error":"#N/A"},{"$error":"#N/A"},{"$error":"#N/A"},{"$error":"#N/A"},{"$error":"#N/A"},{"$error":"#N/A"},{"$error":"#N/A"},{"$error":"#N/A"},{"$error":"#N/A"},{"$error":"#N/A"},{"$error":"#N/A"},{"$error":"#N/A"},{"$error":"#N/A"},{"$error":"#N/A"},{"$error":"#N/A"},{"$error":"#N/A"},{"$error":"#N/A"},{"$error":"#N/A"},{"$error":"#N/A"},{"$error":"#N/A"},null,null,null,{"$error":"#N/A"},{"$error":"#N/A"}]
[null,"     ½-ac lots (Built after 1995)",{"$error":"#N/A"},{"$error":"#N/A"},{"$error":"#N/A"},{"$error":"#N/A"},{"$error":"#N/A"},{"$error":"#N/A"},{"$error":"#N/A"},{"$error":"#N/A"},{"$error":"#N/A"},{"$error":"#N/A"},{"$error":"#N/A"},{"$error":"#N/A"},{"$error":"#N/A"},{"$error":"#N/A"},{"$error":"#N/A"},{"$error":"#N/A"},{"$error":"#N/A"},{"$error":"#N/A"},{"$error":"#N/A"},{"$error":"#N/A"},{"$error":"#N/A"},{"$error":"#N/A"},{"$error":"#N/A"},{"$f":"Z365*Z170*($D$1/12)","v":{"$error":"#N/A"}},null,null,{"$error":"#N/A"},{"$error":"#N/A"}]
[null,"     ½-ac lots (Built before 1995)",{"$error":"#N/A"},{"$error":"#N/A"},{"$error":"#N/A"},{"$error":"#N/A"},{"$error":"#N/A"},{"$error":"#N/A"},{"$error":"#N/A"},{"$error":"#N/A"},{"$error":"#N/A"},{"$error":"#N/A"},{"$error":"#N/A"},{"$error":"#N/A"},{"$error":"#N/A"},{"$error":"#N/A"},{"$error":"#N/A"},{"$error":"#N/A"},{"$error":"#N/A"},{"$error":"#N/A"},{"$error":"#N/A"},{"$error":"#N/A"},{"$error":"#N/A"},{"$error":"#N/A"},{"$error":"#N/A"},{"$f":"Z366*Z172*($D$1/12)","v":{"$error":"#N/A"}},null,null,{"$error":"#N/A"},{"$error":"#N/A"}]
[null,"     ¼-ac lots (New)",{"$error":"#N/A"},{"$error":"#N/A"},{"$error":"#N/A"},{"$error":"#N/A"},{"$error":"#N/A"},{"$error":"#N/A"},{"$error":"#N/A"},{"$error":"#N/A"},{"$error":"#N/A"},{"$error":"#N/A"},{"$error":"#N/A"},{"$error":"#N/A"},{"$error":"#N/A"},{"$error":"#N/A"},{"$error":"#N/A"},{"$error":"#N/A"},{"$error":"#N/A"},{"$error":"#N/A"},{"$error":"#N/A"},{"$error":"#N/A"},{"$error":"#N/A"},{"$error":"#N/A"},{"$error":"#N/A"},null,null,null,{"$error":"#N/A"},{"$error":"#N/A"}]
[null,"     ¼-ac lots (Built after 1995)",{"$error":"#N/A"},{"$error":"#N/A"},{"$error":"#N/A"},{"$error":"#N/A"},{"$error":"#N/A"},{"$error":"#N/A"},{"$error":"#N/A"},{"$error":"#N/A"},{"$error":"#N/A"},{"$error":"#N/A"},{"$error":"#N/A"},{"$error":"#N/A"},{"$error":"#N/A"},{"$error":"#N/A"},{"$error":"#N/A"},{"$error":"#N/A"},{"$error":"#N/A"},{"$error":"#N/A"},{"$error":"#N/A"},{"$error":"#N/A"},{"$error":"#N/A"},{"$error":"#N/A"},{"$error":"#N/A"},{"$f":"Z368*Z173*($D$1/12)","v":{"$error":"#N/A"}},null,null,{"$error":"#N/A"},{"$error":"#N/A"}]
[null,"     ¼-ac lots (Built before 1995)",{"$error":"#N/A"},{"$error":"#N/A"},{"$error":"#N/A"},{"$error":"#N/A"},{"$error":"#N/A"},{"$error":"#N/A"},{"$error":"#N/A"},{"$error":"#N/A"},{"$error":"#N/A"},{"$error":"#N/A"},{"$error":"#N/A"},{"$error":"#N/A"},{"$error":"#N/A"},{"$error":"#N/A"},{"$error":"#N/A"},{"$error":"#N/A"},{"$error":"#N/A"},{"$error":"#N/A"},{"$error":"#N/A"},{"$error":"#N/A"},{"$error":"#N/A"},{"$error":"#N/A"},{"$error":"#N/A"},{"$f":"Z369*Z175*($D$1/12)","v":{"$error":"#N/A"}},null,null,{"$error":"#N/A"},{"$error":"#N/A"}]
[null,"     ⅛-ac lots (New)",{"$error":"#N/A"},{"$error":"#N/A"},{"$error":"#N/A"},{"$error":"#N/A"},{"$error":"#N/A"},{"$error":"#N/A"},{"$error":"#N/A"},{"$error":"#N/A"},{"$error":"#N/A"},{"$error":"#N/A"},{"$error":"#N/A"},{"$error":"#N/A"},{"$error":"#N/A"},{"$error":"#N/A"},{"$error":"#N/A"},{"$error":"#N/A"},{"$error":"#N/A"},{"$error":"#N/A"},{"$error":"#N/A"},{"$error":"#N/A"},{"$error":"#N/A"},{"$error":"#N/A"},{"$error":"#N/A"},null,null,null,{"$error":"#N/A"},{"$error":"#N/A"}]
[null,"     ⅛-ac lots (Built after 1995)",{"$error":"#N/A"},{"$error":"#N/A"},{"$error":"#N/A"},{"$error":"#N/A"},{"$error":"#N/A"},{"$error":"#N/A"},{"$error":"#N/A"},{"$error":"#N/A"},{"$error":"#N/A"},{"$error":"#N/A"},{"$error":"#N/A"},{"$error":"#N/A"},{"$error":"#N/A"},{"$error":"#N/A"},{"$error":"#N/A"},{"$error":"#N/A"},{"$error":"#N/A"},{"$error":"#N/A"},{"$error":"#N/A"},{"$error":"#N/A"},{"$error":"#N/A"},{"$error":"#N/A"},{"$error":"#N/A"},{"$f":"Z371*Z176*($D$1/12)","v":{"$error":"#N/A"}},null,null,{"$error":"#N/A"},{"$error":"#N/A"}]
[null,"     ⅛-ac lots (Built before 1995)",{"$error":"#N/A"},{"$error":"#N/A"},{"$error":"#N/A"},{"$error":"#N/A"},{"$error":"#N/A"},{"$error":"#N/A"},{"$error":"#N/A"},{"$error":"#N/A"},{"$error":"#N/A"},{"$error":"#N/A"},{"$error":"#N/A"},{"$error":"#N/A"},{"$error":"#N/A"},{"$error":"#N/A"},{"$error":"#N/A"},{"$error":"#N/A"},{"$error":"#N/A"},{"$error":"#N/A"},{"$error":"#N/A"},{"$error":"#N/A"},{"$error":"#N/A"},{"$error":"#N/A"},{"$error":"#N/A"},{"$f":"Z372*Z178*($D$1/12)","v":{"$error":"#N/A"}},null,null,{"$error":"#N/A"},{"$error":"#N/A"}]
[null,"     Townhomes (New)",{"$error":"#N/A"},{"$error":"#N/A"},{"$error":"#N/A"},{"$error":"#N/A"},{"$error":"#N/A"},{"$error":"#N/A"},{"$error":"#N/A"},{"$error":"#N/A"},{"$error":"#N/A"},{"$error":"#N/A"},{"$error":"#N/A"},{"$error":"#N/A"},{"$error":"#N/A"},{"$error":"#N/A"},{"$error":"#N/A"},{"$error":"#N/A"},{"$error":"#N/A"},{"$error":"#N/A"},{"$error":"#N/A"},{"$error":"#N/A"},{"$error":"#N/A"},{"$error":"#N/A"},{"$error":"#N/A"},null,null,null,{"$error":"#N/A"},{"$error":"#N/A"}]
[null,"     Townhomes (Built after 1995)",{"$error":"#N/A"},{"$error":"#N/A"},{"$error":"#N/A"},{"$error":"#N/A"},{"$error":"#N/A"},{"$error":"#N/A"},{"$error":"#N/A"},{"$error":"#N/A"},{"$error":"#N/A"},{"$error":"#N/A"},{"$error":"#N/A"},{"$error":"#N/A"},{"$error":"#N/A"},{"$error":"#N/A"},{"$error":"#N/A"},{"$error":"#N/A"},{"$error":"#N/A"},{"$error":"#N/A"},{"$error":"#N/A"},{"$error":"#N/A"},{"$error":"#N/A"},{"$error":"#N/A"},{"$error":"#N/A"},{"$f":"Z374*Z179*($D$1/12)","v":{"$error":"#N/A"}},null,null,{"$error":"#N/A"},{"$error":"#N/A"}]
[null,"     Townhomes (Built before 1995)",{"$error":"#N/A"},{"$error":"#N/A"},{"$error":"#N/A"},{"$error":"#N/A"},{"$error":"#N/A"},{"$error":"#N/A"},{"$error":"#N/A"},{"$error":"#N/A"},{"$error":"#N/A"},{"$error":"#N/A"},{"$error":"#N/A"},{"$error":"#N/A"},{"$error":"#N/A"},{"$error":"#N/A"},{"$error":"#N/A"},{"$error":"#N/A"},{"$error":"#N/A"},{"$error":"#N/A"},{"$error":"#N/A"},{"$error":"#N/A"},{"$error":"#N/A"},{"$error":"#N/A"},{"$error":"#N/A"},{"$f":"Z375*Z181*($D$1/12)","v":{"$error":"#N/A"}},null,null,{"$error":"#N/A"},{"$error":"#N/A"}]
[null,"     Multi-family (New)",{"$error":"#N/A"},{"$error":"#N/A"},{"$error":"#N/A"},{"$error":"#N/A"},{"$error":"#N/A"},{"$error":"#N/A"},{"$error":"#N/A"},{"$error":"#N/A"},{"$error":"#N/A"},{"$error":"#N/A"},{"$error":"#N/A"},{"$error":"#N/A"},{"$error":"#N/A"},{"$error":"#N/A"},{"$error":"#N/A"},{"$error":"#N/A"},{"$error":"#N/A"},{"$error":"#N/A"},{"$error":"#N/A"},{"$error":"#N/A"},{"$error":"#N/A"},{"$error":"#N/A"},{"$error":"#N/A"},null,null,null,{"$error":"#N/A"},{"$error":"#N/A"}]
[null,"     Multi-family (Built after 1995)",{"$error":"#N/A"},{"$f":"D377*(43560*D184)*($D$1/12)","v":{"$error":"#N/A"}},{"$error":"#N/A"},{"$error":"#N/A"},{"$error":"#N/A"},{"$error":"#N/A"},{"$error":"#N/A"},{"$error":"#N/A"},{"$f":"K377*(43560*K184)*($D$1/12)","v":{"$error":"#N/A"}},{"$error":"#N/A"},{"$error":"#N/A"},{"$error":"#N/A"},{"$f":"O377*(43560*O184)*($D$1/12)","v":{"$error":"#N/A"}},{"$error":"#N/A"},{"$error":"#N/A"},{"$error":"#N/A"},{"$f":"S377*(43560*S184)*($D$1/12)","v":{"$error":"#N/A"}},{"$error":"#N/A"},{"$error":"#N/A"},{"$error":"#N/A"},{"$f":"W377*(43560*W184)*($D$1/12)","v":{"$error":"#N/A"}},{"$error":"#N/A"},{"$error":"#N/A"},{"$f":"Z377*Z182*($D$1/12)","v":{"$error":"#N/A"}},null,null,{"$error":"#N/A"},{"$error":"#N/A"}]
[null,"     Multi-family (Built before 1995)",{"$error":"#N/A"},{"$error":"#N/A"},{"$error":"#N/A"},{"$error":"#N/A"},{"$error":"#N/A"},{"$error":"#N/A"},{"$error":"#N/A"},{"$error":"#N/A"},{"$error":"#N/A"},{"$error":"#N/A"},{"$error":"#N/A"},{"$error":"#N/A"},{"$error":"#N/A"},{"$error":"#N/A"},{"$error":"#N/A"},{"$error":"#N/A"},{"$error":"#N/A"},{"$error":"#N/A"},{"$error":"#N/A"},{"$error":"#N/A"},{"$error":"#N/A"},{"$error":"#N/A"},{"$error":"#N/A"},{"$f":"Z378*Z184*($D$1/12)","v":{"$error":"#N/A"}},null,null,{"$error":"#N/A"},{"$error":"#N/A"}]
[null,"     Custom Lot Size (New)",{"$error":"#N/A"},{"$error":"#N/A"},{"$error":"#N/A"},{"$error":"#N/A"},{"$error":"#N/A"},{"$error":"#N/A"},{"$error":"#N/A"},{"$error":"#N/A"},{"$error":"#N/A"},{"$error":"#N/A"},{"$error":"#N/A"},{"$error":"#N/A"},{"$error":"#N/A"},{"$error":"#N/A"},{"$error":"#N/A"},{"$error":"#N/A"},{"$error":"#N/A"},{"$error":"#N/A"},{"$error":"#N/A"},{"$error":"#N/A"},{"$error":"#N/A"},{"$error":"#N/A"},{"$error":"#N/A"},null,null,null,{"$error":"#N/A"},{"$error":"#N/A"}]
[null,"     Custom Lot Size (Built after 1995)",{"$error":"#N/A"},{"$error":"#N/A"},{"$error":"#N/A"},{"$error":"#N/A"},{"$error":"#N/A"},{"$error":"#N/A"},{"$error":"#N/A"},{"$error":"#N/A"},{"$error":"#N/A"},{"$error":"#N/A"},{"$error":"#N/A"},{"$error":"#N/A"},{"$error":"#N/A"},{"$error":"#N/A"},{"$error":"#N/A"},{"$error":"#N/A"},{"$error":"#N/A"},{"$error":"#N/A"},{"$error":"#N/A"},{"$error":"#N/A"},{"$error":"#N/A"},{"$error":"#N/A"},{"$error":"#N/A"},null,null,null,{"$error":"#N/A"},{"$error":"#N/A"}]
[null,"     Custom Lot Size (Built before 1995)",{"$error":"#N/A"},{"$error":"#N/A"},{"$error":"#N/A"},{"$error":"#N/A"},{"$error":"#N/A"},{"$error":"#N/A"},{"$error":"#N/A"},{"$error":"#N/A"},{"$error":"#N/A"},{"$error":"#N/A"},{"$error":"#N/A"},{"$error":"#N/A"},{"$error":"#N/A"},{"$error":"#N/A"},{"$error":"#N/A"},{"$error":"#N/A"},{"$error":"#N/A"},{"$error":"#N/A"},{"$error":"#N/A"},{"$error":"#N/A"},{"$error":"#N/A"},{"$error":"#N/A"},{"$error":"#N/A"},null,null,null,{"$error":"#N/A"},{"$error":"#N/A"}]
[null,"     Roadway",{"$error":"#N/A"},{"$error":"#N/A"},{"$error":"#N/A"},{"$f":"F383*F188*($D$1/12)","v":{"$error":"#N/A"}},{"$error":"#N/A"},{"$error":"#N/A"},{"$error":"#N/A"},{"$f":"J383*J188*($D$1/12)","v":{"$error":"#N/A"}},{"$error":"#N/A"},{"$error":"#N/A"},{"$error":"#N/A"},{"$f":"N383*N188*($D$1/12)","v":{"$error":"#N/A"}},{"$error":"#N/A"},{"$error":"#N/A"},{"$error":"#N/A"},{"$f":"R383*R188*($D$1/12)","v":{"$error":"#N/A"}},{"$error":"#N/A"},{"$error":"#N/A"},{"$error":"#N/A"},{"$f":"V383*V188*($D$1/12)","v":{"$error":"#N/A"}},{"$error":"#N/A"},{"$error":"#N/A"},{"$error":"#N/A"},{"$f":"Z381*Z185*($D$1/12)","v":{"$error":"#N/A"}},null,null,{"$f":"AC383*(43560*AC189)*($D$1/12)","v":{"$error":"#N/A"}},{"$f":"AD382*(43560*AD189)*($D$1/12)","v":{"$error":"#N/A"}}]
[null,"     Driveway",{"$error":"#N/A"},{"$error":"#N/A"},{"$error":"#N/A"},{"$error":"#N/A"},{"$error":"#N/A"},{"$error":"#N/A"},{"$error":"#N/A"},{"$error":"#N/A"},{"$error":"#N/A"},{"$error":"#N/A"},{"$error":"#N/A"},{"$error":"#N/A"},{"$error":"#N/A"},{"$error":"#N/A"},{"$error":"#N/A"},{"$error":"#N/A"},{"$error":"#N/A"},{"$error":"#N/A"},{"$error":"#N/A"},{"$error":"#N/A"},{"$error":"#N/A"},{"$error":"#N/A"},{"$error":"#N/A"},{"$f":"Z383*Z189*($D$1/12)","v":{"$error":"#N/A"}},null,null,{"$error":"#N/A"},{"$error":"#N/A"}]
[null,"     Parking lot",{"$error":"#N/A"},{"$error":"#N/A"},{"$error":"#N/A"},{"$error":"#N/A"},{"$error":"#N/A"},{"$error":"#N/A"},{"$error":"#N/A"},{"$error":"#N/A"},{"$error":"#N/A"},{"$error":"#N/A"},{"$error":"#N/A"},{"$error":"#N/A"},{"$error":"#N/A"},{"$error":"#N/A"},{"$error":"#N/A"},{"$error":"#N/A"},{"$error":"#N/A"},{"$error":"#N/A"},{"$error":"#N/A"},{"$error":"#N/A"},{"$error":"#N/A"},{"$error":"#N/A"},{"$error":"#N/A"},{"$error":"#N/A"},null,null,{"$error":"#N/A"},{"$error":"#N/A"}]
[null,"     Roof",{"$error":"#N/A"},{"$error":"#N/A"},{"$error":"#N/A"},{"$error":"#N/A"},{"$error":"#N/A"},{"$error":"#N/A"},{"$error":"#N/A"},{"$error":"#N/A"},{"$error":"#N/A"},{"$error":"#N/A"},{"$error":"#N/A"},{"$error":"#N/A"},{"$error":"#N/A"},{"$error":"#N/A"},{"$error":"#N/A"},{"$error":"#N/A"},{"$error":"#N/A"},{"$error":"#N/A"},{"$error":"#N/A"},{"$error":"#N/A"},{"$error":"#N/A"},{"$error":"#N/A"},{"$error":"#N/A"},{"$error":"#N/A"},null,null,{"$error":"#N/A"},{"$error":"#N/A"}]
[null,"     Sidewalk",{"$error":"#N/A"},{"$error":"#N/A"},{"$error":"#N/A"},{"$error":"#N/A"},{"$error":"#N/A"},{"$error":"#N/A"},{"$error":"#N/A"},{"$error":"#N/A"},{"$error":"#N/A"},{"$error":"#N/A"},{"$error":"#N/A"},{"$error":"#N/A"},{"$error":"#N/A"},{"$error":"#N/A"},{"$error":"#N/A"},{"$error":"#N/A"},{"$error":"#N/A"},{"$error":"#N/A"},{"$error":"#N/A"},{"$error":"#N/A"},{"$error":"#N/A"},{"$error":"#N/A"},{"$error":"#N/A"},{"$error":"#N/A"},null,null,{"$error":"#N/A"},{"$error":"#N/A"}]
[null,"     Lawn",{"$error":"#N/A"},{"$error":"#N/A"},{"$error":"#N/A"},{"$error":"#N/A"},{"$error":"#N/A"},{"$error":"#N/A"},{"$error":"#N/A"},{"$error":"#N/A"},{"$error":"#N/A"},{"$error":"#N/A"},{"$error":"#N/A"},{"$error":"#N/A"},{"$error":"#N/A"},{"$error":"#N/A"},{"$error":"#N/A"},{"$error":"#N/A"},{"$error":"#N/A"},{"$error":"#N/A"},{"$error":"#N/A"},{"$error":"#N/A"},{"$error":"#N/A"},{"$error":"#N/A"},{"$error":"#N/A"},{"$error":"#N/A"},null,null,{"$error":"#N/A"},{"$error":"#N/A"}]
[null,"     Managed pervious",{"$error":"#N/A"},{"$error":"#N/A"},{"$error":"#N/A"},{"$error":"#N/A"},{"$error":"#N/A"},{"$error":"#N/A"},{"$error":"#N/A"},{"$error":"#N/A"},{"$error":"#N/A"},{"$error":"#N/A"},{"$error":"#N/A"},{"$error":"#N/A"},{"$error":"#N/A"},{"$error":"#N/A"},{"$error":"#N/A"},{"$error":"#N/A"},{"$error":"#N/A"},{"$error":"#N/A"},{"$error":"#N/A"},{"$error":"#N/A"},{"$error":"#N/A"},{"$error":"#N/A"},{"$error":"#N/A"},{"$error":"#N/A"},null,null,{"$error":"#N/A"},{"$error":"#N/A"}]
[null,"     Woods",{"$error":"#N/A"},{"$error":"#N/A"},{"$error":"#N/A"},{"$f":"F391*F195*($D$1/12)","v":{"$error":"#N/A"}},{"$error":"#N/A"},{"$error":"#N/A"},{"$error":"#N/A"},{"$f":"J391*J195*($D$1/12)","v":{"$error":"#N/A"}},{"$error":"#N/A"},{"$error":"#N/A"},{"$error":"#N/A"},{"$f":"N391*N195*($D$1/12)","v":{"$error":"#N/A"}},{"$error":"#N/A"},{"$error":"#N/A"},{"$error":"#N/A"},{"$f":"R391*R195*($D$1/12)","v":{"$error":"#N/A"}},{"$error":"#N/A"},{"$error":"#N/A"},{"$error":"#N/A"},{"$f":"V391*V195*($D$1/12)","v":{"$error":"#N/A"}},{"$error":"#N/A"},{"$error":"#N/A"},{"$error":"#N/A"},{"$error":"#N/A"},null,null,{"$f":"AC391*(43560*AC196)*($D$1/12)","v":{"$error":"#N/A"}},{"$error":"#N/A"}]
[null,"LAND TAKEN UP BY BMP",{"$error":"#N/A"},{"$error":"#N/A"},{"$error":"#N/A"},{"$f":"F392*F196*($D$1/12)","v":{"$error":"#N/A"}},{"$error":"#N/A"},{"$error":"#N/A"},{"$error":"#N/A"},{"$f":"J392*J196*($D$1/12)","v":{"$error":"#N/A"}},{"$error":"#N/A"},{"$error":"#N/A"},{"$error":"#N/A"},{"$f":"N392*N196*($D$1/12)","v":{"$error":"#N/A"}},{"$error":"#N/A"},{"$error":"#N/A"},{"$error":"#N/A"},{"$f":"R392*R196*($D$1/12)","v":{"$error":"#N/A"}},{"$error":"#N/A"},{"$error":"#N/A"},{"$error":"#N/A"},{"$f":"V392*V196*($D$1/12)","v":{"$error":"#N/A"}},{"$error":"#N/A"},{"$error":"#N/A"},{"$error":"#N/A"},{"$error":"#N/A"},null,null,{"$f":"AC392*(43560*AC197)*($D$1/12)","v":{"$error":"#N/A"}},{"$error":"#N/A"}]
[null,"TOTAL",{"$f":"SUM(C395:C455)","v":{"$error":"#N/A"}},{"$error":"#N/A"},{"$error":"#N/A"},{"$error":"#N/A"},{"$error":"#N/A"},{"$error":"#N/A"},{"$error":"#N/A"},{"$error":"#N/A"},{"$error":"#N/A"},{"$error":"#N/A"},{"$error":"#N/A"},{"$error":"#N/A"},{"$error":"#N/A"},{"$error":"#N/A"},{"$error":"#N/A"},{"$error":"#N/A"},{"$error":"#N/A"},{"$error":"#N/A"},{"$error":"#N/A"},{"$error":"#N/A"},{"$error":"#N/A"},{"$error":"#N/A"},{"$error":"#N/A"},null,null,null,{"$f":"SUM(AC395:AC455)","v":{"$error":"#N/A"}},{"$f":"SUM(AD395:AD455)","v":{"$error":"#N/A"}}]
[]
[]
[null,"TOTAL NITROGEN\nPOLLUTANT LOADING","TN (lbs)","TN (lbs)","TN (lbs)",null,"TN (lbs)","TN (lbs)","TN (lbs)",null,"TN (lbs)","TN (lbs)","TN (lbs)",null,"TN (lbs)","TN (lbs)","TN (lbs)",null,"TN (lbs)","TN (lbs)","TN (lbs)",null,"TN (lbs)","TN (lbs)","TN (lbs)",null,null,null,"TN (lbs)"]
[null,"COMMERCIAL"]
[null,"     Parking lot",{"$f":"('WS Calcs'!$L$2*'BMP Calcs'!C330/12)*Assignments!$D13*'BMP Calcs'!C137*2.72","v":{"$error":"#N/A"}},{"$f":"('WS Calcs'!$L$2*'WS Calcs'!$L$3*('BMP Calcs'!D330/12))*Assignments!$D13*'BMP Calcs'!D137*2.72","v":{"$error":"#N/A"}},{"$f":"('WS Calcs'!$L$2*'WS Calcs'!$L$3*('BMP Calcs'!E330/12))*Assignments!$D13*'BMP Calcs'!E137*2.72","v":{"$error":"#N/A"}},null,{"$f":"('WS Calcs'!$L$2*'WS Calcs'!$L$3*('BMP Calcs'!G330/12))*Assignments!$D13*'BMP Calcs'!G137*2.72","v":{"$error":"#N/A"}},{"$f":"('WS Calcs'!$L$2*'WS Calcs'!$L$3*('BMP Calcs'!H330/12))*Assignments!$D13*'BMP Calcs'!H137*2.72","v":{"$error":"#N/A"}},{"$f":"('WS Calcs'!$L$2*'WS Calcs'!$L$3*('BMP Calcs'!I330/12))*Assignments!$D13*'BMP Calcs'!I137*2.72","v":{"$error":"#N/A"}},null,{"$f":"('WS Calcs'!$L$2*'WS Calcs'!$L$3*('BMP Calcs'!K330/12))*Assignments!$D13*'BMP Calcs'!K137*2.72","v":{"$error":"#N/A"}},{"$f":"('WS Calcs'!$L$2*'WS Calcs'!$L$3*('BMP Calcs'!L330/12))*Assignments!$D13*'BMP Calcs'!L137*2.72","v":{"$error":"#N/A"}},{"$f":"('WS Calcs'!$L$2*'WS Calcs'!$L$3*('BMP Calcs'!M330/12))*Assignments!$D13*'BMP Calcs'!M137*2.72","v":{"$error":"#N/A"}},null,{"$f":"('WS Calcs'!$L$2*'WS Calcs'!$L$3*('BMP Calcs'!O330/12))*Assignments!$D13*'BMP Calcs'!O137*2.72","v":{"$error":"#N/A"}},{"$f":"('WS Calcs'!$L$2*'WS Calcs'!$L$3*('BMP Calcs'!P330/12))*Assignments!$D13*'BMP Calcs'!P137*2.72","v":{"$error":"#N/A"}},{"$f":"('WS Calcs'!$L$2*'WS Calcs'!$L$3*('BMP Calcs'!Q330/12))*Assignments!$D13*'BMP Calcs'!Q137*2.72","v":{"$error":"#N/A"}},null,{"$f":"('WS Calcs'!$L$2*'WS Calcs'!$L$3*('BMP Calcs'!S330/12))*Assignments!$D13*'BMP Calcs'!S137*2.72","v":{"$error":"#N/A"}},{"$f":"('WS Calcs'!$L$2*'WS Calcs'!$L$3*('BMP Calcs'!T330/12))*Assignments!$D13*'BMP Calcs'!T137*2.72","v":{"$error":"#N/A"}},{"$f":"('WS Calcs'!$L$2*'WS Calcs'!$L$3*('BMP Calcs'!U330/12))*Assignments!$D13*'BMP Calcs'!U137*2.72","v":{"$error":"#N/A"}},null,{"$f":"('WS Calcs'!$L$2*'WS Calcs'!$L$3*('BMP Calcs'!W330/12))*Assignments!$D13*'BMP Calcs'!W137*2.72","v":{"$error":"#N/A"}},{"$f":"('WS Calcs'!$L$2*'WS Calcs'!$L$3*('BMP Calcs'!X330/12))*Assignments!$D13*'BMP Calcs'!X137*2.72","v":{"$error":"#N/A"}},{"$f":"('WS Calcs'!$L$2*'WS Calcs'!$L$3*('BMP Calcs'!Y330/12))*Assignments!$D13*'BMP Calcs'!Y137*2.72","v":{"$error":"#N/A"}},{"$f":"('WS Calcs'!$L$2*'WS Calcs'!$L$3*('BMP Calcs'!Z330/12))*Assignments!$D13*'BMP Calcs'!Z$10*2.72","v":{"$error":"#N/A"}},null,null,{"$f":"('WS Calcs'!$L$2*'WS Calcs'!$L$3*('BMP Calcs'!AC330/12))*Assignments!$D13*'BMP Calcs'!AC137*2.72","v":{"$error":"#N/A"}},{"$f":"('WS Calcs'!$L$2*'WS Calcs'!$L$3*('BMP Calcs'!AD330/12))*Assignments!$D13*'BMP Calcs'!AD137*2.72","v":{"$error":"#N/A"}}]
[null,"     Roof",{"$f":"('WS Calcs'!$L$2*'BMP Calcs'!C331/12)*Assignments!$D14*'BMP Calcs'!C138*2.72","v":{"$error":"#N/A"}},{"$f":"('WS Calcs'!$L$2*'WS Calcs'!$L$3*('BMP Calcs'!D331/12))*Assignments!$D14*'BMP Calcs'!D138*2.72","v":{"$error":"#N/A"}},{"$f":"('WS Calcs'!$L$2*'WS Calcs'!$L$3*('BMP Calcs'!E331/12))*Assignments!$D14*'BMP Calcs'!E138*2.72","v":{"$error":"#N/A"}},null,{"$f":"('WS Calcs'!$L$2*'WS Calcs'!$L$3*('BMP Calcs'!G331/12))*Assignments!$D14*'BMP Calcs'!G138*2.72","v":{"$error":"#N/A"}},{"$f":"('WS Calcs'!$L$2*'WS Calcs'!$L$3*('BMP Calcs'!H331/12))*Assignments!$D14*'BMP Calcs'!H138*2.72","v":{"$error":"#N/A"}},{"$f":"('WS Calcs'!$L$2*'WS Calcs'!$L$3*('BMP Calcs'!I331/12))*Assignments!$D14*'BMP Calcs'!I138*2.72","v":{"$error":"#N/A"}},null,{"$f":"('WS Calcs'!$L$2*'WS Calcs'!$L$3*('BMP Calcs'!K331/12))*Assignments!$D14*'BMP Calcs'!K138*2.72","v":{"$error":"#N/A"}},{"$f":"('WS Calcs'!$L$2*'WS Calcs'!$L$3*('BMP Calcs'!L331/12))*Assignments!$D14*'BMP Calcs'!L138*2.72","v":{"$error":"#N/A"}},{"$f":"('WS Calcs'!$L$2*'WS Calcs'!$L$3*('BMP Calcs'!M331/12))*Assignments!$D14*'BMP Calcs'!M138*2.72","v":{"$error":"#N/A"}},null,{"$f":"('WS Calcs'!$L$2*'WS Calcs'!$L$3*('BMP Calcs'!O331/12))*Assignments!$D14*'BMP Calcs'!O138*2.72","v":{"$error":"#N/A"}},{"$f":"('WS Calcs'!$L$2*'WS Calcs'!$L$3*('BMP Calcs'!P331/12))*Assignments!$D14*'BMP Calcs'!P138*2.72","v":{"$error":"#N/A"}},{"$f":"('WS Calcs'!$L$2*'WS Calcs'!$L$3*('BMP Calcs'!Q331/12))*Assignments!$D14*'BMP Calcs'!Q138*2.72","v":{"$error":"#N/A"}},null,{"$f":"('WS Calcs'!$L$2*'WS Calcs'!$L$3*('BMP Calcs'!S331/12))*Assignments!$D14*'BMP Calcs'!S138*2.72","v":{"$error":"#N/A"}},{"$f":"('WS Calcs'!$L$2*'WS Calcs'!$L$3*('BMP Calcs'!T331/12))*Assignments!$D14*'BMP Calcs'!T138*2.72","v":{"$error":"#N/A"}},{"$f":"('WS Calcs'!$L$2*'WS Calcs'!$L$3*('BMP Calcs'!U331/12))*Assignments!$D14*'BMP Calcs'!U138*2.72","v":{"$error":"#N/A"}},null,{"$f":"('WS Calcs'!$L$2*'WS Calcs'!$L$3*('BMP Calcs'!W331/12))*Assignments!$D14*'BMP Calcs'!W138*2.72","v":{"$error":"#N/A"}},{"$f":"('WS Calcs'!$L$2*'WS Calcs'!$L$3*('BMP Calcs'!X331/12))*Assignments!$D14*'BMP Calcs'!X138*2.72","v":{"$error":"#N/A"}},{"$f":"('WS Calcs'!$L$2*'WS Calcs'!$L$3*('BMP Calcs'!Y331/12))*Assignments!$D14*'BMP Calcs'!Y138*2.72","v":{"$error":"#N/A"}},{"$f":"('WS Calcs'!$L$2*'WS Calcs'!$L$3*('BMP Calcs'!Z331/12))*Assignments!$D14*'BMP Calcs'!Z$10*2.72","v":{"$error":"#N/A"}},null,null,{"$f":"('WS Calcs'!$L$2*'WS Calcs'!$L$3*('BMP Calcs'!AC331/12))*Assignments!$D14*'BMP Calcs'!AC138*2.72","v":{"$error":"#N/A"}},{"$f":"('WS Calcs'!$L$2*'WS Calcs'!$L$3*('BMP Calcs'!AD331/12))*Assignments!$D14*'BMP Calcs'!AD138*2.72","v":{"$error":"#N/A"}}]
[null,"INDUSTRIAL",{"$f":"('WS Calcs'!$L$2*'BMP Calcs'!C332/12)*Assignments!$D15*'BMP Calcs'!C139*2.72","v":{"$error":"#N/A"}},{"$f":"('WS Calcs'!$L$2*'WS Calcs'!$L$3*('BMP Calcs'!D332/12))*Assignments!$D15*'BMP Calcs'!D139*2.72","v":{"$error":"#N/A"}},{"$f":"('WS Calcs'!$L$2*'WS Calcs'!$L$3*('BMP Calcs'!E332/12))*Assignments!$D15*'BMP Calcs'!E139*2.72","v":{"$error":"#N/A"}},null,{"$f":"('WS Calcs'!$L$2*'WS Calcs'!$L$3*('BMP Calcs'!G332/12))*Assignments!$D15*'BMP Calcs'!G139*2.72","v":{"$error":"#N/A"}},{"$f":"('WS Calcs'!$L$2*'WS Calcs'!$L$3*('BMP Calcs'!H332/12))*Assignments!$D15*'BMP Calcs'!H139*2.72","v":{"$error":"#N/A"}},{"$f":"('WS Calcs'!$L$2*'WS Calcs'!$L$3*('BMP Calcs'!I332/12))*Assignments!$D15*'BMP Calcs'!I139*2.72","v":{"$error":"#N/A"}},null,{"$f":"('WS Calcs'!$L$2*'WS Calcs'!$L$3*('BMP Calcs'!K332/12))*Assignments!$D15*'BMP Calcs'!K139*2.72","v":{"$error":"#N/A"}},{"$f":"('WS Calcs'!$L$2*'WS Calcs'!$L$3*('BMP Calcs'!L332/12))*Assignments!$D15*'BMP Calcs'!L139*2.72","v":{"$error":"#N/A"}},{"$f":"('WS Calcs'!$L$2*'WS Calcs'!$L$3*('BMP Calcs'!M332/12))*Assignments!$D15*'BMP Calcs'!M139*2.72","v":{"$error":"#N/A"}},null,{"$f":"('WS Calcs'!$L$2*'WS Calcs'!$L$3*('BMP Calcs'!O332/12))*Assignments!$D15*'BMP Calcs'!O139*2.72","v":{"$error":"#N/A"}},{"$f":"('WS Calcs'!$L$2*'WS Calcs'!$L$3*('BMP Calcs'!P332/12))*Assignments!$D15*'BMP Calcs'!P139*2.72","v":{"$error":"#N/A"}},{"$f":"('WS Calcs'!$L$2*'WS Calcs'!$L$3*('BMP Calcs'!Q332/12))*Assignments!$D15*'BMP Calcs'!Q139*2.72","v":{"$error":"#N/A"}},null,{"$f":"('WS Calcs'!$L$2*'WS Calcs'!$L$3*('BMP Calcs'!S332/12))*Assignments!$D15*'BMP Calcs'!S139*2.72","v":{"$error":"#N/A"}},{"$f":"('WS Calcs'!$L$2*'WS Calcs'!$L$3*('BMP Calcs'!T332/12))*Assignments!$D15*'BMP Calcs'!T139*2.72","v":{"$error":"#N/A"}},{"$f":"('WS Calcs'!$L$2*'WS Calcs'!$L$3*('BMP Calcs'!U332/12))*Assignments!$D15*'BMP Calcs'!U139*2.72","v":{"$error":"#N/A"}},null,{"$f":"('WS Calcs'!$L$2*'WS Calcs'!$L$3*('BMP Calcs'!W332/12))*Assignments!$D15*'BMP Calcs'!W139*2.72","v":{"$error":"#N/A"}},{"$f":"('WS Calcs'!$L$2*'WS Calcs'!$L$3*('BMP Calcs'!X332/12))*Assignments!$D15*'BMP Calcs'!X139*2.72","v":{"$error":"#N/A"}},{"$f":"('WS Calcs'!$L$2*'WS Calcs'!$L$3*('BMP Calcs'!Y332/12))*Assignments!$D15*'BMP Calcs'!Y139*2.72","v":{"$error":"#N/A"}},{"$f":"('WS Calcs'!$L$2*'WS Calcs'!$L$3*('BMP Calcs'!Z332/12))*Assignments!$D15*'BMP Calcs'!Z$10*2.72","v":{"$error":"#N/A"}},null,null,{"$f":"('WS Calcs'!$L$2*'WS Calcs'!$L$3*('BMP Calcs'!AC332/12))*Assignments!$D15*'BMP Calcs'!AC139*2.72","v":{"$error":"#N/A"}},{"$f":"('WS Calcs'!$L$2*'WS Calcs'!$L$3*('BMP Calcs'!AD332/12))*Assignments!$D15*'BMP Calcs'!AD139*2.72","v":{"$error":"#N/A"}}]
[null,"     Parking lot",{"$f":"('WS Calcs'!$L$2*'BMP Calcs'!C333/12)*Assignments!$D16*'BMP Calcs'!C140*2.72","v":{"$error":"#N/A"}},{"$f":"('WS Calcs'!$L$2*'WS Calcs'!$L$3*('BMP Calcs'!D333/12))*Assignments!$D16*'BMP Calcs'!D140*2.72","v":{"$error":"#N/A"}},{"$f":"('WS Calcs'!$L$2*'WS Calcs'!$L$3*('BMP Calcs'!E333/12))*Assignments!$D16*'BMP Calcs'!E140*2.72","v":{"$error":"#N/A"}},null,{"$f":"('WS Calcs'!$L$2*'WS Calcs'!$L$3*('BMP Calcs'!G333/12))*Assignments!$D16*'BMP Calcs'!G140*2.72","v":{"$error":"#N/A"}},{"$f":"('WS Calcs'!$L$2*'WS Calcs'!$L$3*('BMP Calcs'!H333/12))*Assignments!$D16*'BMP Calcs'!H140*2.72","v":{"$error":"#N/A"}},{"$f":"('WS Calcs'!$L$2*'WS Calcs'!$L$3*('BMP Calcs'!I333/12))*Assignments!$D16*'BMP Calcs'!I140*2.72","v":{"$error":"#N/A"}},null,{"$f":"('WS Calcs'!$L$2*'WS Calcs'!$L$3*('BMP Calcs'!K333/12))*Assignments!$D16*'BMP Calcs'!K140*2.72","v":{"$error":"#N/A"}},{"$f":"('WS Calcs'!$L$2*'WS Calcs'!$L$3*('BMP Calcs'!L333/12))*Assignments!$D16*'BMP Calcs'!L140*2.72","v":{"$error":"#N/A"}},{"$f":"('WS Calcs'!$L$2*'WS Calcs'!$L$3*('BMP Calcs'!M333/12))*Assignments!$D16*'BMP Calcs'!M140*2.72","v":{"$error":"#N/A"}},null,{"$f":"('WS Calcs'!$L$2*'WS Calcs'!$L$3*('BMP Calcs'!O333/12))*Assignments!$D16*'BMP Calcs'!O140*2.72","v":{"$error":"#N/A"}},{"$f":"('WS Calcs'!$L$2*'WS Calcs'!$L$3*('BMP Calcs'!P333/12))*Assignments!$D16*'BMP Calcs'!P140*2.72","v":{"$error":"#N/A"}},{"$f":"('WS Calcs'!$L$2*'WS Calcs'!$L$3*('BMP Calcs'!Q333/12))*Assignments!$D16*'BMP Calcs'!Q140*2.72","v":{"$error":"#N/A"}},null,{"$f":"('WS Calcs'!$L$2*'WS Calcs'!$L$3*('BMP Calcs'!S333/12))*Assignments!$D16*'BMP Calcs'!S140*2.72","v":{"$error":"#N/A"}},{"$f":"('WS Calcs'!$L$2*'WS Calcs'!$L$3*('BMP Calcs'!T333/12))*Assignments!$D16*'BMP Calcs'!T140*2.72","v":{"$error":"#N/A"}},{"$f":"('WS Calcs'!$L$2*'WS Calcs'!$L$3*('BMP Calcs'!U333/12))*Assignments!$D16*'BMP Calcs'!U140*2.72","v":{"$error":"#N/A"}},null,{"$f":"('WS Calcs'!$L$2*'WS Calcs'!$L$3*('BMP Calcs'!W333/12))*Assignments!$D16*'BMP Calcs'!W140*2.72","v":{"$error":"#N/A"}},{"$f":"('WS Calcs'!$L$2*'WS Calcs'!$L$3*('BMP Calcs'!X333/12))*Assignments!$D16*'BMP Calcs'!X140*2.72","v":{"$error":"#N/A"}},{"$f":"('WS Calcs'!$L$2*'WS Calcs'!$L$3*('BMP Calcs'!Y333/12))*Assignments!$D16*'BMP Calcs'!Y140*2.72","v":{"$error":"#N/A"}},{"$f":"('WS Calcs'!$L$2*'WS Calcs'!$L$3*('BMP Calcs'!Z333/12))*Assignments!$D16*'BMP Calcs'!Z$10*2.72","v":{"$error":"#N/A"}},null,null,{"$f":"('WS Calcs'!$L$2*'WS Calcs'!$L$3*('BMP Calcs'!AC333/12))*Assignments!$D16*'BMP Calcs'!AC140*2.72","v":{"$error":"#N/A"}},{"$f":"('WS Calcs'!$L$2*'WS Calcs'!$L$3*('BMP Calcs'!AD333/12))*Assignments!$D16*'BMP Calcs'!AD140*2.72","v":{"$error":"#N/A"}}]
[null,"     Roof",{"$f":"('WS Calcs'!$L$2*'BMP Calcs'!C334/12)*Assignments!$D17*'BMP Calcs'!C141*2.72","v":{"$error":"#N/A"}},{"$f":"('WS Calcs'!$L$2*'WS Calcs'!$L$3*('BMP Calcs'!D334/12))*Assignments!$D17*'BMP Calcs'!D141*2.72","v":{"$error":"#N/A"}},{"$f":"('WS Calcs'!$L$2*'WS Calcs'!$L$3*('BMP Calcs'!E334/12))*Assignments!$D17*'BMP Calcs'!E141*2.72","v":{"$error":"#N/A"}},null,{"$f":"('WS Calcs'!$L$2*'WS Calcs'!$L$3*('BMP Calcs'!G334/12))*Assignments!$D17*'BMP Calcs'!G141*2.72","v":{"$error":"#N/A"}},{"$f":"('WS Calcs'!$L$2*'WS Calcs'!$L$3*('BMP Calcs'!H334/12))*Assignments!$D17*'BMP Calcs'!H141*2.72","v":{"$error":"#N/A"}},{"$f":"('WS Calcs'!$L$2*'WS Calcs'!$L$3*('BMP Calcs'!I334/12))*Assignments!$D17*'BMP Calcs'!I141*2.72","v":{"$error":"#N/A"}},null,{"$f":"('WS Calcs'!$L$2*'WS Calcs'!$L$3*('BMP Calcs'!K334/12))*Assignments!$D17*'BMP Calcs'!K141*2.72","v":{"$error":"#N/A"}},{"$f":"('WS Calcs'!$L$2*'WS Calcs'!$L$3*('BMP Calcs'!L334/12))*Assignments!$D17*'BMP Calcs'!L141*2.72","v":{"$error":"#N/A"}},{"$f":"('WS Calcs'!$L$2*'WS Calcs'!$L$3*('BMP Calcs'!M334/12))*Assignments!$D17*'BMP Calcs'!M141*2.72","v":{"$error":"#N/A"}},null,{"$f":"('WS Calcs'!$L$2*'WS Calcs'!$L$3*('BMP Calcs'!O334/12))*Assignments!$D17*'BMP Calcs'!O141*2.72","v":{"$error":"#N/A"}},{"$f":"('WS Calcs'!$L$2*'WS Calcs'!$L$3*('BMP Calcs'!P334/12))*Assignments!$D17*'BMP Calcs'!P141*2.72","v":{"$error":"#N/A"}},{"$f":"('WS Calcs'!$L$2*'WS Calcs'!$L$3*('BMP Calcs'!Q334/12))*Assignments!$D17*'BMP Calcs'!Q141*2.72","v":{"$error":"#N/A"}},null,{"$f":"('WS Calcs'!$L$2*'WS Calcs'!$L$3*('BMP Calcs'!S334/12))*Assignments!$D17*'BMP Calcs'!S141*2.72","v":{"$error":"#N/A"}},{"$f":"('WS Calcs'!$L$2*'WS Calcs'!$L$3*('BMP Calcs'!T334/12))*Assignments!$D17*'BMP Calcs'!T141*2.72","v":{"$error":"#N/A"}},{"$f":"('WS Calcs'!$L$2*'WS Calcs'!$L$3*('BMP Calcs'!U334/12))*Assignments!$D17*'BMP Calcs'!U141*2.72","v":{"$error":"#N/A"}},null,{"$f":"('WS Calcs'!$L$2*'WS Calcs'!$L$3*('BMP Calcs'!W334/12))*Assignments!$D17*'BMP Calcs'!W141*2.72","v":{"$error":"#N/A"}},{"$f":"('WS Calcs'!$L$2*'WS Calcs'!$L$3*('BMP Calcs'!X334/12))*Assignments!$D17*'BMP Calcs'!X141*2.72","v":{"$error":"#N/A"}},{"$f":"('WS Calcs'!$L$2*'WS Calcs'!$L$3*('BMP Calcs'!Y334/12))*Assignments!$D17*'BMP Calcs'!Y141*2.72","v":{"$error":"#N/A"}},{"$f":"('WS Calcs'!$L$2*'WS Calcs'!$L$3*('BMP Calcs'!Z334/12))*Assignments!$D17*'BMP Calcs'!Z$10*2.72","v":{"$error":"#N/A"}},null,null,{"$f":"('WS Calcs'!$L$2*'WS Calcs'!$L$3*('BMP Calcs'!AC334/12))*Assignments!$D17*'BMP Calcs'!AC141*2.72","v":{"$error":"#N/A"}},{"$f":"('WS Calcs'!$L$2*'WS Calcs'!$L$3*('BMP Calcs'!AD334/12))*Assignments!$D17*'BMP Calcs'!AD141*2.72","v":{"$error":"#N/A"}}]
[null,"     Access road",{"$f":"('WS Calcs'!$L$2*'BMP Calcs'!C335/12)*Assignments!$D18*'BMP Calcs'!C142*2.72","v":{"$error":"#N/A"}},{"$f":"('WS Calcs'!$L$2*'WS Calcs'!$L$3*('BMP Calcs'!D335/12))*Assignments!$D18*'BMP Calcs'!D142*2.72","v":{"$error":"#N/A"}},{"$f":"('WS Calcs'!$L$2*'WS Calcs'!$L$3*('BMP Calcs'!E335/12))*Assignments!$D18*'BMP Calcs'!E142*2.72","v":{"$error":"#N/A"}},null,{"$f":"('WS Calcs'!$L$2*'WS Calcs'!$L$3*('BMP Calcs'!G335/12))*Assignments!$D18*'BMP Calcs'!G142*2.72","v":{"$error":"#N/A"}},{"$f":"('WS Calcs'!$L$2*'WS Calcs'!$L$3*('BMP Calcs'!H335/12))*Assignments!$D18*'BMP Calcs'!H142*2.72","v":{"$error":"#N/A"}},{"$f":"('WS Calcs'!$L$2*'WS Calcs'!$L$3*('BMP Calcs'!I335/12))*Assignments!$D18*'BMP Calcs'!I142*2.72","v":{"$error":"#N/A"}},null,{"$f":"('WS Calcs'!$L$2*'WS Calcs'!$L$3*('BMP Calcs'!K335/12))*Assignments!$D18*'BMP Calcs'!K142*2.72","v":{"$error":"#N/A"}},{"$f":"('WS Calcs'!$L$2*'WS Calcs'!$L$3*('BMP Calcs'!L335/12))*Assignments!$D18*'BMP Calcs'!L142*2.72","v":{"$error":"#N/A"}},{"$f":"('WS Calcs'!$L$2*'WS Calcs'!$L$3*('BMP Calcs'!M335/12))*Assignments!$D18*'BMP Calcs'!M142*2.72","v":{"$error":"#N/A"}},null,{"$f":"('WS Calcs'!$L$2*'WS Calcs'!$L$3*('BMP Calcs'!O335/12))*Assignments!$D18*'BMP Calcs'!O142*2.72","v":{"$error":"#N/A"}},{"$f":"('WS Calcs'!$L$2*'WS Calcs'!$L$3*('BMP Calcs'!P335/12))*Assignments!$D18*'BMP Calcs'!P142*2.72","v":{"$error":"#N/A"}},{"$f":"('WS Calcs'!$L$2*'WS Calcs'!$L$3*('BMP Calcs'!Q335/12))*Assignments!$D18*'BMP Calcs'!Q142*2.72","v":{"$error":"#N/A"}},null,{"$f":"('WS Calcs'!$L$2*'WS Calcs'!$L$3*('BMP Calcs'!S335/12))*Assignments!$D18*'BMP Calcs'!S142*2.72","v":{"$error":"#N/A"}},{"$f":"('WS Calcs'!$L$2*'WS Calcs'!$L$3*('BMP Calcs'!T335/12))*Assignments!$D18*'BMP Calcs'!T142*2.72","v":{"$error":"#N/A"}},{"$f":"('WS Calcs'!$L$2*'WS Calcs'!$L$3*('BMP Calcs'!U335/12))*Assignments!$D18*'BMP Calcs'!U142*2.72","v":{"$error":"#N/A"}},null,{"$f":"('WS Calcs'!$L$2*'WS Calcs'!$L$3*('BMP Calcs'!W335/12))*Assignments!$D18*'BMP Calcs'!W142*2.72","v":{"$error":"#N/A"}},{"$f":"('WS Calcs'!$L$2*'WS Calcs'!$L$3*('BMP Calcs'!X335/12))*Assignments!$D18*'BMP Calcs'!X142*2.72","v":{"$error":"#N/A"}},{"$f":"('WS Calcs'!$L$2*'WS Calcs'!$L$3*('BMP Calcs'!Y335/12))*Assignments!$D18*'BMP Calcs'!Y142*2.72","v":{"$error":"#N/A"}},{"$f":"('WS Calcs'!$L$2*'BMP Calcs'!Z335/12)*Assignments!$D18*'BMP Calcs'!Z142*2.72","v":{"$error":"#N/A"}},null,null,{"$f":"('WS Calcs'!$L$2*'WS Calcs'!$L$3*('BMP Calcs'!AC335/12))*Assignments!$D18*'BMP Calcs'!AC142*2.72","v":{"$error":"#N/A"}},{"$f":"('WS Calcs'!$L$2*'WS Calcs'!$L$3*('BMP Calcs'!AD335/12))*Assignments!$D18*'BMP Calcs'!AD142*2.72","v":{"$error":"#N/A"}}]
[null,"     Impervious, uncovered storage",{"$f":"('WS Calcs'!$L$2*'BMP Calcs'!C336/12)*Assignments!$D19*'BMP Calcs'!C143*2.72","v":{"$error":"#N/A"}},{"$f":"('WS Calcs'!$L$2*'WS Calcs'!$L$3*('BMP Calcs'!D336/12))*Assignments!$D19*'BMP Calcs'!D143*2.72","v":{"$error":"#N/A"}},{"$f":"('WS Calcs'!$L$2*'WS Calcs'!$L$3*('BMP Calcs'!E336/12))*Assignments!$D19*'BMP Calcs'!E143*2.72","v":{"$error":"#N/A"}},null,{"$f":"('WS Calcs'!$L$2*'WS Calcs'!$L$3*('BMP Calcs'!G336/12))*Assignments!$D19*'BMP Calcs'!G143*2.72","v":{"$error":"#N/A"}},{"$f":"('WS Calcs'!$L$2*'WS Calcs'!$L$3*('BMP Calcs'!H336/12))*Assignments!$D19*'BMP Calcs'!H143*2.72","v":{"$error":"#N/A"}},{"$f":"('WS Calcs'!$L$2*'WS Calcs'!$L$3*('BMP Calcs'!I336/12))*Assignments!$D19*'BMP Calcs'!I143*2.72","v":{"$error":"#N/A"}},null,{"$f":"('WS Calcs'!$L$2*'WS Calcs'!$L$3*('BMP Calcs'!K336/12))*Assignments!$D19*'BMP Calcs'!K143*2.72","v":{"$error":"#N/A"}},{"$f":"('WS Calcs'!$L$2*'WS Calcs'!$L$3*('BMP Calcs'!L336/12))*Assignments!$D19*'BMP Calcs'!L143*2.72","v":{"$error":"#N/A"}},{"$f":"('WS Calcs'!$L$2*'WS Calcs'!$L$3*('BMP Calcs'!M336/12))*Assignments!$D19*'BMP Calcs'!M143*2.72","v":{"$error":"#N/A"}},null,{"$f":"('WS Calcs'!$L$2*'WS Calcs'!$L$3*('BMP Calcs'!O336/12))*Assignments!$D19*'BMP Calcs'!O143*2.72","v":{"$error":"#N/A"}},{"$f":"('WS Calcs'!$L$2*'WS Calcs'!$L$3*('BMP Calcs'!P336/12))*Assignments!$D19*'BMP Calcs'!P143*2.72","v":{"$error":"#N/A"}},{"$f":"('WS Calcs'!$L$2*'WS Calcs'!$L$3*('BMP Calcs'!Q336/12))*Assignments!$D19*'BMP Calcs'!Q143*2.72","v":{"$error":"#N/A"}},null,{"$f":"('WS Calcs'!$L$2*'WS Calcs'!$L$3*('BMP Calcs'!S336/12))*Assignments!$D19*'BMP Calcs'!S143*2.72","v":{"$error":"#N/A"}},{"$f":"('WS Calcs'!$L$2*'WS Calcs'!$L$3*('BMP Calcs'!T336/12))*Assignments!$D19*'BMP Calcs'!T143*2.72","v":{"$error":"#N/A"}},{"$f":"('WS Calcs'!$L$2*'WS Calcs'!$L$3*('BMP Calcs'!U336/12))*Assignments!$D19*'BMP Calcs'!U143*2.72","v":{"$error":"#N/A"}},null,{"$f":"('WS Calcs'!$L$2*'WS Calcs'!$L$3*('BMP Calcs'!W336/12))*Assignments!$D19*'BMP Calcs'!W143*2.72","v":{"$error":"#N/A"}},{"$f":"('WS Calcs'!$L$2*'WS Calcs'!$L$3*('BMP Calcs'!X336/12))*Assignments!$D19*'BMP Calcs'!X143*2.72","v":{"$error":"#N/A"}},{"$f":"('WS Calcs'!$L$2*'WS Calcs'!$L$3*('BMP Calcs'!Y336/12))*Assignments!$D19*'BMP Calcs'!Y143*2.72","v":{"$error":"#N/A"}},{"$f":"('WS Calcs'!$L$2*'BMP Calcs'!Z336/12)*Assignments!$D19*'BMP Calcs'!Z143*2.72","v":{"$error":"#N/A"}},null,null,{"$f":"('WS Calcs'!$L$2*'WS Calcs'!$L$3*('BMP Calcs'!AC336/12))*Assignments!$D19*'BMP Calcs'!AC143*2.72","v":{"$error":"#N/A"}},{"$f":"('WS Calcs'!$L$2*'WS Calcs'!$L$3*('BMP Calcs'!AD336/12))*Assignments!$D19*'BMP Calcs'!AD143*2.72","v":{"$error":"#N/A"}}]
[null,"     Pervious, uncovered storage",{"$f":"('WS Calcs'!$L$2*'BMP Calcs'!C337/12)*Assignments!$D20*'BMP Calcs'!C144*2.72","v":{"$error":"#N/A"}},{"$f":"('WS Calcs'!$L$2*'WS Calcs'!$L$3*('BMP Calcs'!D337/12))*Assignments!$D20*'BMP Calcs'!D144*2.72","v":{"$error":"#N/A"}},{"$f":"('WS Calcs'!$L$2*'WS Calcs'!$L$3*('BMP Calcs'!E337/12))*Assignments!$D20*'BMP Calcs'!E144*2.72","v":{"$error":"#N/A"}},null,{"$f":"('WS Calcs'!$L$2*'WS Calcs'!$L$3*('BMP Calcs'!G337/12))*Assignments!$D20*'BMP Calcs'!G144*2.72","v":{"$error":"#N/A"}},{"$f":"('WS Calcs'!$L$2*'WS Calcs'!$L$3*('BMP Calcs'!H337/12))*Assignments!$D20*'BMP Calcs'!H144*2.72","v":{"$error":"#N/A"}},{"$f":"('WS Calcs'!$L$2*'WS Calcs'!$L$3*('BMP Calcs'!I337/12))*Assignments!$D20*'BMP Calcs'!I144*2.72","v":{"$error":"#N/A"}},null,{"$f":"('WS Calcs'!$L$2*'WS Calcs'!$L$3*('BMP Calcs'!K337/12))*Assignments!$D20*'BMP Calcs'!K144*2.72","v":{"$error":"#N/A"}},{"$f":"('WS Calcs'!$L$2*'WS Calcs'!$L$3*('BMP Calcs'!L337/12))*Assignments!$D20*'BMP Calcs'!L144*2.72","v":{"$error":"#N/A"}},{"$f":"('WS Calcs'!$L$2*'WS Calcs'!$L$3*('BMP Calcs'!M337/12))*Assignments!$D20*'BMP Calcs'!M144*2.72","v":{"$error":"#N/A"}},null,{"$f":"('WS Calcs'!$L$2*'WS Calcs'!$L$3*('BMP Calcs'!O337/12))*Assignments!$D20*'BMP Calcs'!O144*2.72","v":{"$error":"#N/A"}},{"$f":"('WS Calcs'!$L$2*'WS Calcs'!$L$3*('BMP Calcs'!P337/12))*Assignments!$D20*'BMP Calcs'!P144*2.72","v":{"$error":"#N/A"}},{"$f":"('WS Calcs'!$L$2*'WS Calcs'!$L$3*('BMP Calcs'!Q337/12))*Assignments!$D20*'BMP Calcs'!Q144*2.72","v":{"$error":"#N/A"}},null,{"$f":"('WS Calcs'!$L$2*'WS Calcs'!$L$3*('BMP Calcs'!S337/12))*Assignments!$D20*'BMP Calcs'!S144*2.72","v":{"$error":"#N/A"}},{"$f":"('WS Calcs'!$L$2*'WS Calcs'!$L$3*('BMP Calcs'!T337/12))*Assignments!$D20*'BMP Calcs'!T144*2.72","v":{"$error":"#N/A"}},{"$f":"('WS Calcs'!$L$2*'WS Calcs'!$L$3*('BMP Calcs'!U337/12))*Assignments!$D20*'BMP Calcs'!U144*2.72","v":{"$error":"#N/A"}},null,{"$f":"('WS Calcs'!$L$2*'WS Calcs'!$L$3*('BMP Calcs'!W337/12))*Assignments!$D20*'BMP Calcs'!W144*2.72","v":{"$error":"#N/A"}},{"$f":"('WS Calcs'!$L$2*'WS Calcs'!$L$3*('BMP Calcs'!X337/12))*Assignments!$D20*'BMP Calcs'!X144*2.72","v":{"$error":"#N/A"}},{"$f":"('WS Calcs'!$L$2*'WS Calcs'!$L$3*('BMP Calcs'!Y337/12))*Assignments!$D20*'BMP Calcs'!Y144*2.72","v":{"$error":"#N/A"}},{"$f":"('WS Calcs'!$L$2*'BMP Calcs'!Z337/12)*Assignments!$D20*'BMP Calcs'!Z144*2.72","v":{"$error":"#N/A"}},null,null,{"$f":"('WS Calcs'!$L$2*'WS Calcs'!$L$3*('BMP Calcs'!AC337/12))*Assignments!$D20*'BMP Calcs'!AC144*2.72","v":{"$error":"#N/A"}},{"$f":"('WS Calcs'!$L$2*'WS Calcs'!$L$3*('BMP Calcs'!AD337/12))*Assignments!$D20*'BMP Calcs'!AD144*2.72","v":{"$error":"#N/A"}}]
[null,"TRANSPORTATION",{"$f":"('WS Calcs'!$L$2*'BMP Calcs'!C338/12)*Assignments!$D21*'BMP Calcs'!C145*2.72","v":{"$error":"#N/A"}},{"$f":"('WS Calcs'!$L$2*'WS Calcs'!$L$3*('BMP Calcs'!D338/12))*Assignments!$D21*'BMP Calcs'!D145*2.72","v":{"$error":"#N/A"}},{"$f":"('WS Calcs'!$L$2*'WS Calcs'!$L$3*('BMP Calcs'!E338/12))*Assignments!$D21*'BMP Calcs'!E145*2.72","v":{"$error":"#N/A"}},null,{"$f":"('WS Calcs'!$L$2*'WS Calcs'!$L$3*('BMP Calcs'!G338/12))*Assignments!$D21*'BMP Calcs'!G145*2.72","v":{"$error":"#N/A"}},{"$f":"('WS Calcs'!$L$2*'WS Calcs'!$L$3*('BMP Calcs'!H338/12))*Assignments!$D21*'BMP Calcs'!H145*2.72","v":{"$error":"#N/A"}},{"$f":"('WS Calcs'!$L$2*'WS Calcs'!$L$3*('BMP Calcs'!I338/12))*Assignments!$D21*'BMP Calcs'!I145*2.72","v":{"$error":"#N/A"}},null,{"$f":"('WS Calcs'!$L$2*'WS Calcs'!$L$3*('BMP Calcs'!K338/12))*Assignments!$D21*'BMP Calcs'!K145*2.72","v":{"$error":"#N/A"}},{"$f":"('WS Calcs'!$L$2*'WS Calcs'!$L$3*('BMP Calcs'!L338/12))*Assignments!$D21*'BMP Calcs'!L145*2.72","v":{"$error":"#N/A"}},{"$f":"('WS Calcs'!$L$2*'WS Calcs'!$L$3*('BMP Calcs'!M338/12))*Assignments!$D21*'BMP Calcs'!M145*2.72","v":{"$error":"#N/A"}},null,{"$f":"('WS Calcs'!$L$2*'WS Calcs'!$L$3*('BMP Calcs'!O338/12))*Assignments!$D21*'BMP Calcs'!O145*2.72","v":{"$error":"#N/A"}},{"$f":"('WS Calcs'!$L$2*'WS Calcs'!$L$3*('BMP Calcs'!P338/12))*Assignments!$D21*'BMP Calcs'!P145*2.72","v":{"$error":"#N/A"}},{"$f":"('WS Calcs'!$L$2*'WS Calcs'!$L$3*('BMP Calcs'!Q338/12))*Assignments!$D21*'BMP Calcs'!Q145*2.72","v":{"$error":"#N/A"}},null,{"$f":"('WS Calcs'!$L$2*'WS Calcs'!$L$3*('BMP Calcs'!S338/12))*Assignments!$D21*'BMP Calcs'!S145*2.72","v":{"$error":"#N/A"}},{"$f":"('WS Calcs'!$L$2*'WS Calcs'!$L$3*('BMP Calcs'!T338/12))*Assignments!$D21*'BMP Calcs'!T145*2.72","v":{"$error":"#N/A"}},{"$f":"('WS Calcs'!$L$2*'WS Calcs'!$L$3*('BMP Calcs'!U338/12))*Assignments!$D21*'BMP Calcs'!U145*2.72","v":{"$error":"#N/A"}},null,{"$f":"('WS Calcs'!$L$2*'WS Calcs'!$L$3*('BMP Calcs'!W338/12))*Assignments!$D21*'BMP Calcs'!W145*2.72","v":{"$error":"#N/A"}},{"$f":"('WS Calcs'!$L$2*'WS Calcs'!$L$3*('BMP Calcs'!X338/12))*Assignments!$D21*'BMP Calcs'!X145*2.72","v":{"$error":"#N/A"}},{"$f":"('WS Calcs'!$L$2*'WS Calcs'!$L$3*('BMP Calcs'!Y338/12))*Assignments!$D21*'BMP Calcs'!Y145*2.72","v":{"$error":"#N/A"}},{"$f":"('WS Calcs'!$L$2*'WS Calcs'!$L$3*('BMP Calcs'!Z338/12))*Assignments!$D21*'BMP Calcs'!Z$10*2.72","v":{"$error":"#N/A"}},null,null,{"$f":"('WS Calcs'!$L$2*'WS Calcs'!$L$3*('BMP Calcs'!AC338/12))*Assignments!$D21*'BMP Calcs'!AC145*2.72","v":{"$error":"#N/A"}},{"$f":"('WS Calcs'!$L$2*'WS Calcs'!$L$3*('BMP Calcs'!AD338/12))*Assignments!$D21*'BMP Calcs'!AD145*2.72","v":{"$error":"#N/A"}}]
[null,"     Primary road EOP",{"$f":"('WS Calcs'!$L$2*'BMP Calcs'!C339/12)*Assignments!$D22*'BMP Calcs'!C146*2.72","v":{"$error":"#N/A"}},{"$f":"('WS Calcs'!$L$2*'WS Calcs'!$L$3*('BMP Calcs'!D339/12))*Assignments!$D22*'BMP Calcs'!D146*2.72","v":{"$error":"#N/A"}},{"$f":"('WS Calcs'!$L$2*'WS Calcs'!$L$3*('BMP Calcs'!E339/12))*Assignments!$D22*'BMP Calcs'!E146*2.72","v":{"$error":"#N/A"}},null,{"$f":"('WS Calcs'!$L$2*'WS Calcs'!$L$3*('BMP Calcs'!G339/12))*Assignments!$D22*'BMP Calcs'!G146*2.72","v":{"$error":"#N/A"}},{"$f":"('WS Calcs'!$L$2*'WS Calcs'!$L$3*('BMP Calcs'!H339/12))*Assignments!$D22*'BMP Calcs'!H146*2.72","v":{"$error":"#N/A"}},{"$f":"('WS Calcs'!$L$2*'WS Calcs'!$L$3*('BMP Calcs'!I339/12))*Assignments!$D22*'BMP Calcs'!I146*2.72","v":{"$error":"#N/A"}},null,{"$f":"('WS Calcs'!$L$2*'WS Calcs'!$L$3*('BMP Calcs'!K339/12))*Assignments!$D22*'BMP Calcs'!K146*2.72","v":{"$error":"#N/A"}},{"$f":"('WS Calcs'!$L$2*'WS Calcs'!$L$3*('BMP Calcs'!L339/12))*Assignments!$D22*'BMP Calcs'!L146*2.72","v":{"$error":"#N/A"}},{"$f":"('WS Calcs'!$L$2*'WS Calcs'!$L$3*('BMP Calcs'!M339/12))*Assignments!$D22*'BMP Calcs'!M146*2.72","v":{"$error":"#N/A"}},null,{"$f":"('WS Calcs'!$L$2*'WS Calcs'!$L$3*('BMP Calcs'!O339/12))*Assignments!$D22*'BMP Calcs'!O146*2.72","v":{"$error":"#N/A"}},{"$f":"('WS Calcs'!$L$2*'WS Calcs'!$L$3*('BMP Calcs'!P339/12))*Assignments!$D22*'BMP Calcs'!P146*2.72","v":{"$error":"#N/A"}},{"$f":"('WS Calcs'!$L$2*'WS Calcs'!$L$3*('BMP Calcs'!Q339/12))*Assignments!$D22*'BMP Calcs'!Q146*2.72","v":{"$error":"#N/A"}},null,{"$f":"('WS Calcs'!$L$2*'WS Calcs'!$L$3*('BMP Calcs'!S339/12))*Assignments!$D22*'BMP Calcs'!S146*2.72","v":{"$error":"#N/A"}},{"$f":"('WS Calcs'!$L$2*'WS Calcs'!$L$3*('BMP Calcs'!T339/12))*Assignments!$D22*'BMP Calcs'!T146*2.72","v":{"$error":"#N/A"}},{"$f":"('WS Calcs'!$L$2*'WS Calcs'!$L$3*('BMP Calcs'!U339/12))*Assignments!$D22*'BMP Calcs'!U146*2.72","v":{"$error":"#N/A"}},null,{"$f":"('WS Calcs'!$L$2*'WS Calcs'!$L$3*('BMP Calcs'!W339/12))*Assignments!$D22*'BMP Calcs'!W146*2.72","v":{"$error":"#N/A"}},{"$f":"('WS Calcs'!$L$2*'WS Calcs'!$L$3*('BMP Calcs'!X339/12))*Assignments!$D22*'BMP Calcs'!X146*2.72","v":{"$error":"#N/A"}},{"$f":"('WS Calcs'!$L$2*'WS Calcs'!$L$3*('BMP Calcs'!Y339/12))*Assignments!$D22*'BMP Calcs'!Y146*2.72","v":{"$error":"#N/A"}},{"$f":"('WS Calcs'!$L$2*'WS Calcs'!$L$3*('BMP Calcs'!Z339/12))*Assignments!$D22*'BMP Calcs'!Z$10*2.72","v":{"$error":"#N/A"}},null,null,{"$f":"('WS Calcs'!$L$2*'WS Calcs'!$L$3*('BMP Calcs'!AC339/12))*Assignments!$D22*'BMP Calcs'!AC146*2.72","v":{"$error":"#N/A"}},{"$f":"('WS Calcs'!$L$2*'WS Calcs'!$L$3*('BMP Calcs'!AD339/12))*Assignments!$D22*'BMP Calcs'!AD146*2.72","v":{"$error":"#N/A"}}]
[null,"     Secondary road EOP",{"$f":"('WS Calcs'!$L$2*'BMP Calcs'!C340/12)*Assignments!$D23*'BMP Calcs'!C147*2.72","v":{"$error":"#N/A"}},{"$f":"('WS Calcs'!$L$2*'WS Calcs'!$L$3*('BMP Calcs'!D340/12))*Assignments!$D23*'BMP Calcs'!D147*2.72","v":{"$error":"#N/A"}},{"$f":"('WS Calcs'!$L$2*'WS Calcs'!$L$3*('BMP Calcs'!E340/12))*Assignments!$D23*'BMP Calcs'!E147*2.72","v":{"$error":"#N/A"}},null,{"$f":"('WS Calcs'!$L$2*'WS Calcs'!$L$3*('BMP Calcs'!G340/12))*Assignments!$D23*'BMP Calcs'!G147*2.72","v":{"$error":"#N/A"}},{"$f":"('WS Calcs'!$L$2*'WS Calcs'!$L$3*('BMP Calcs'!H340/12))*Assignments!$D23*'BMP Calcs'!H147*2.72","v":{"$error":"#N/A"}},{"$f":"('WS Calcs'!$L$2*'WS Calcs'!$L$3*('BMP Calcs'!I340/12))*Assignments!$D23*'BMP Calcs'!I147*2.72","v":{"$error":"#N/A"}},null,{"$f":"('WS Calcs'!$L$2*'WS Calcs'!$L$3*('BMP Calcs'!K340/12))*Assignments!$D23*'BMP Calcs'!K147*2.72","v":{"$error":"#N/A"}},{"$f":"('WS Calcs'!$L$2*'WS Calcs'!$L$3*('BMP Calcs'!L340/12))*Assignments!$D23*'BMP Calcs'!L147*2.72","v":{"$error":"#N/A"}},{"$f":"('WS Calcs'!$L$2*'WS Calcs'!$L$3*('BMP Calcs'!M340/12))*Assignments!$D23*'BMP Calcs'!M147*2.72","v":{"$error":"#N/A"}},null,{"$f":"('WS Calcs'!$L$2*'WS Calcs'!$L$3*('BMP Calcs'!O340/12))*Assignments!$D23*'BMP Calcs'!O147*2.72","v":{"$error":"#N/A"}},{"$f":"('WS Calcs'!$L$2*'WS Calcs'!$L$3*('BMP Calcs'!P340/12))*Assignments!$D23*'BMP Calcs'!P147*2.72","v":{"$error":"#N/A"}},{"$f":"('WS Calcs'!$L$2*'WS Calcs'!$L$3*('BMP Calcs'!Q340/12))*Assignments!$D23*'BMP Calcs'!Q147*2.72","v":{"$error":"#N/A"}},null,{"$f":"('WS Calcs'!$L$2*'WS Calcs'!$L$3*('BMP Calcs'!S340/12))*Assignments!$D23*'BMP Calcs'!S147*2.72","v":{"$error":"#N/A"}},{"$f":"('WS Calcs'!$L$2*'WS Calcs'!$L$3*('BMP Calcs'!T340/12))*Assignments!$D23*'BMP Calcs'!T147*2.72","v":{"$error":"#N/A"}},{"$f":"('WS Calcs'!$L$2*'WS Calcs'!$L$3*('BMP Calcs'!U340/12))*Assignments!$D23*'BMP Calcs'!U147*2.72","v":{"$error":"#N/A"}},null,{"$f":"('WS Calcs'!$L$2*'WS Calcs'!$L$3*('BMP Calcs'!W340/12))*Assignments!$D23*'BMP Calcs'!W147*2.72","v":{"$error":"#N/A"}},{"$f":"('WS Calcs'!$L$2*'WS Calcs'!$L$3*('BMP Calcs'!X340/12))*Assignments!$D23*'BMP Calcs'!X147*2.72","v":{"$error":"#N/A"}},{"$f":"('WS Calcs'!$L$2*'WS Calcs'!$L$3*('BMP Calcs'!Y340/12))*Assignments!$D23*'BMP Calcs'!Y147*2.72","v":{"$error":"#N/A"}},{"$f":"('WS Calcs'!$L$2*'WS Calcs'!$L$3*('BMP Calcs'!Z340/12))*Assignments!$D23*'BMP Calcs'!Z$10*2.72","v":{"$error":"#N/A"}},null,null,{"$f":"('WS Calcs'!$L$2*'WS Calcs'!$L$3*('BMP Calcs'!AC340/12))*Assignments!$D23*'BMP Calcs'!AC147*2.72","v":{"$error":"#N/A"}},{"$f":"('WS Calcs'!$L$2*'WS Calcs'!$L$3*('BMP Calcs'!AD340/12))*Assignments!$D23*'BMP Calcs'!AD147*2.72","v":{"$error":"#N/A"}}]
[null,"     Bridge EOP",{"$f":"('WS Calcs'!$L$2*'BMP Calcs'!C341/12)*Assignments!$D24*'BMP Calcs'!C148*2.72","v":{"$error":"#N/A"}},{"$f":"('WS Calcs'!$L$2*'WS Calcs'!$L$3*('BMP Calcs'!D341/12))*Assignments!$D24*'BMP Calcs'!D148*2.72","v":{"$error":"#N/A"}},{"$f":"('WS Calcs'!$L$2*'WS Calcs'!$L$3*('BMP Calcs'!E341/12))*Assignments!$D24*'BMP Calcs'!E148*2.72","v":{"$error":"#N/A"}},null,{"$f":"('WS Calcs'!$L$2*'WS Calcs'!$L$3*('BMP Calcs'!G341/12))*Assignments!$D24*'BMP Calcs'!G148*2.72","v":{"$error":"#N/A"}},{"$f":"('WS Calcs'!$L$2*'WS Calcs'!$L$3*('BMP Calcs'!H341/12))*Assignments!$D24*'BMP Calcs'!H148*2.72","v":{"$error":"#N/A"}},{"$f":"('WS Calcs'!$L$2*'WS Calcs'!$L$3*('BMP Calcs'!I341/12))*Assignments!$D24*'BMP Calcs'!I148*2.72","v":{"$error":"#N/A"}},null,{"$f":"('WS Calcs'!$L$2*'WS Calcs'!$L$3*('BMP Calcs'!K341/12))*Assignments!$D24*'BMP Calcs'!K148*2.72","v":{"$error":"#N/A"}},{"$f":"('WS Calcs'!$L$2*'WS Calcs'!$L$3*('BMP Calcs'!L341/12))*Assignments!$D24*'BMP Calcs'!L148*2.72","v":{"$error":"#N/A"}},{"$f":"('WS Calcs'!$L$2*'WS Calcs'!$L$3*('BMP Calcs'!M341/12))*Assignments!$D24*'BMP Calcs'!M148*2.72","v":{"$error":"#N/A"}},null,{"$f":"('WS Calcs'!$L$2*'WS Calcs'!$L$3*('BMP Calcs'!O341/12))*Assignments!$D24*'BMP Calcs'!O148*2.72","v":{"$error":"#N/A"}},{"$f":"('WS Calcs'!$L$2*'WS Calcs'!$L$3*('BMP Calcs'!P341/12))*Assignments!$D24*'BMP Calcs'!P148*2.72","v":{"$error":"#N/A"}},{"$f":"('WS Calcs'!$L$2*'WS Calcs'!$L$3*('BMP Calcs'!Q341/12))*Assignments!$D24*'BMP Calcs'!Q148*2.72","v":{"$error":"#N/A"}},null,{"$f":"('WS Calcs'!$L$2*'WS Calcs'!$L$3*('BMP Calcs'!S341/12))*Assignments!$D24*'BMP Calcs'!S148*2.72","v":{"$error":"#N/A"}},{"$f":"('WS Calcs'!$L$2*'WS Calcs'!$L$3*('BMP Calcs'!T341/12))*Assignments!$D24*'BMP Calcs'!T148*2.72","v":{"$error":"#N/A"}},{"$f":"('WS Calcs'!$L$2*'WS Calcs'!$L$3*('BMP Calcs'!U341/12))*Assignments!$D24*'BMP Calcs'!U148*2.72","v":{"$error":"#N/A"}},null,{"$f":"('WS Calcs'!$L$2*'WS Calcs'!$L$3*('BMP Calcs'!W341/12))*Assignments!$D24*'BMP Calcs'!W148*2.72","v":{"$error":"#N/A"}},{"$f":"('WS Calcs'!$L$2*'WS Calcs'!$L$3*('BMP Calcs'!X341/12))*Assignments!$D24*'BMP Calcs'!X148*2.72","v":{"$error":"#N/A"}},{"$f":"('WS Calcs'!$L$2*'WS Calcs'!$L$3*('BMP Calcs'!Y341/12))*Assignments!$D24*'BMP Calcs'!Y148*2.72","v":{"$error":"#N/A"}},{"$f":"('WS Calcs'!$L$2*'WS Calcs'!$L$3*('BMP Calcs'!Z341/12))*Assignments!$D24*'BMP Calcs'!Z$10*2.72","v":{"$error":"#N/A"}},null,null,{"$f":"('WS Calcs'!$L$2*'WS Calcs'!$L$3*('BMP Calcs'!AC341/12))*Assignments!$D24*'BMP Calcs'!AC148*2.72","v":{"$error":"#N/A"}},{"$f":"('WS Calcs'!$L$2*'WS Calcs'!$L$3*('BMP Calcs'!AD341/12))*Assignments!$D24*'BMP Calcs'!AD148*2.72","v":{"$error":"#N/A"}}]
[null,"     Sidewalk",{"$f":"('WS Calcs'!$L$2*'BMP Calcs'!C342/12)*Assignments!$D25*'BMP Calcs'!C149*2.72","v":{"$error":"#N/A"}},{"$f":"('WS Calcs'!$L$2*'WS Calcs'!$L$3*('BMP Calcs'!D342/12))*Assignments!$D25*'BMP Calcs'!D149*2.72","v":{"$error":"#N/A"}},{"$f":"('WS Calcs'!$L$2*'WS Calcs'!$L$3*('BMP Calcs'!E342/12))*Assignments!$D25*'BMP Calcs'!E149*2.72","v":{"$error":"#N/A"}},null,{"$f":"('WS Calcs'!$L$2*'WS Calcs'!$L$3*('BMP Calcs'!G342/12))*Assignments!$D25*'BMP Calcs'!G149*2.72","v":{"$error":"#N/A"}},{"$f":"('WS Calcs'!$L$2*'WS Calcs'!$L$3*('BMP Calcs'!H342/12))*Assignments!$D25*'BMP Calcs'!H149*2.72","v":{"$error":"#N/A"}},{"$f":"('WS Calcs'!$L$2*'WS Calcs'!$L$3*('BMP Calcs'!I342/12))*Assignments!$D25*'BMP Calcs'!I149*2.72","v":{"$error":"#N/A"}},null,{"$f":"('WS Calcs'!$L$2*'WS Calcs'!$L$3*('BMP Calcs'!K342/12))*Assignments!$D25*'BMP Calcs'!K149*2.72","v":{"$error":"#N/A"}},{"$f":"('WS Calcs'!$L$2*'WS Calcs'!$L$3*('BMP Calcs'!L342/12))*Assignments!$D25*'BMP Calcs'!L149*2.72","v":{"$error":"#N/A"}},{"$f":"('WS Calcs'!$L$2*'WS Calcs'!$L$3*('BMP Calcs'!M342/12))*Assignments!$D25*'BMP Calcs'!M149*2.72","v":{"$error":"#N/A"}},null,{"$f":"('WS Calcs'!$L$2*'WS Calcs'!$L$3*('BMP Calcs'!O342/12))*Assignments!$D25*'BMP Calcs'!O149*2.72","v":{"$error":"#N/A"}},{"$f":"('WS Calcs'!$L$2*'WS Calcs'!$L$3*('BMP Calcs'!P342/12))*Assignments!$D25*'BMP Calcs'!P149*2.72","v":{"$error":"#N/A"}},{"$f":"('WS Calcs'!$L$2*'WS Calcs'!$L$3*('BMP Calcs'!Q342/12))*Assignments!$D25*'BMP Calcs'!Q149*2.72","v":{"$error":"#N/A"}},null,{"$f":"('WS Calcs'!$L$2*'WS Calcs'!$L$3*('BMP Calcs'!S342/12))*Assignments!$D25*'BMP Calcs'!S149*2.72","v":{"$error":"#N/A"}},{"$f":"('WS Calcs'!$L$2*'WS Calcs'!$L$3*('BMP Calcs'!T342/12))*Assignments!$D25*'BMP Calcs'!T149*2.72","v":{"$error":"#N/A"}},{"$f":"('WS Calcs'!$L$2*'WS Calcs'!$L$3*('BMP Calcs'!U342/12))*Assignments!$D25*'BMP Calcs'!U149*2.72","v":{"$error":"#N/A"}},null,{"$f":"('WS Calcs'!$L$2*'WS Calcs'!$L$3*('BMP Calcs'!W342/12))*Assignments!$D25*'BMP Calcs'!W149*2.72","v":{"$error":"#N/A"}},{"$f":"('WS Calcs'!$L$2*'WS Calcs'!$L$3*('BMP Calcs'!X342/12))*Assignments!$D25*'BMP Calcs'!X149*2.72","v":{"$error":"#N/A"}},{"$f":"('WS Calcs'!$L$2*'WS Calcs'!$L$3*('BMP Calcs'!Y342/12))*Assignments!$D25*'BMP Calcs'!Y149*2.72","v":{"$error":"#N/A"}},{"$f":"('WS Calcs'!$L$2*'WS Calcs'!$L$3*('BMP Calcs'!Z342/12))*Assignments!$D25*'BMP Calcs'!Z$10*2.72","v":{"$error":"#N/A"}},null,null,{"$f":"('WS Calcs'!$L$2*'WS Calcs'!$L$3*('BMP Calcs'!AC342/12))*Assignments!$D25*'BMP Calcs'!AC149*2.72","v":{"$error":"#N/A"}},{"$f":"('WS Calcs'!$L$2*'WS Calcs'!$L$3*('BMP Calcs'!AD342/12))*Assignments!$D25*'BMP Calcs'!AD149*2.72","v":{"$error":"#N/A"}}]
[null,"REST AREA",{"$f":"('WS Calcs'!$L$2*'BMP Calcs'!C343/12)*Assignments!$D26*'BMP Calcs'!C150*2.72","v":{"$error":"#N/A"}},{"$f":"('WS Calcs'!$L$2*'WS Calcs'!$L$3*('BMP Calcs'!D343/12))*Assignments!$D26*'BMP Calcs'!D150*2.72","v":{"$error":"#N/A"}},{"$f":"('WS Calcs'!$L$2*'WS Calcs'!$L$3*('BMP Calcs'!E343/12))*Assignments!$D26*'BMP Calcs'!E150*2.72","v":{"$error":"#N/A"}},null,{"$f":"('WS Calcs'!$L$2*'WS Calcs'!$L$3*('BMP Calcs'!G343/12))*Assignments!$D26*'BMP Calcs'!G150*2.72","v":{"$error":"#N/A"}},{"$f":"('WS Calcs'!$L$2*'WS Calcs'!$L$3*('BMP Calcs'!H343/12))*Assignments!$D26*'BMP Calcs'!H150*2.72","v":{"$error":"#N/A"}},{"$f":"('WS Calcs'!$L$2*'WS Calcs'!$L$3*('BMP Calcs'!I343/12))*Assignments!$D26*'BMP Calcs'!I150*2.72","v":{"$error":"#N/A"}},null,{"$f":"('WS Calcs'!$L$2*'WS Calcs'!$L$3*('BMP Calcs'!K343/12))*Assignments!$D26*'BMP Calcs'!K150*2.72","v":{"$error":"#N/A"}},{"$f":"('WS Calcs'!$L$2*'WS Calcs'!$L$3*('BMP Calcs'!L343/12))*Assignments!$D26*'BMP Calcs'!L150*2.72","v":{"$error":"#N/A"}},{"$f":"('WS Calcs'!$L$2*'WS Calcs'!$L$3*('BMP Calcs'!M343/12))*Assignments!$D26*'BMP Calcs'!M150*2.72","v":{"$error":"#N/A"}},null,{"$f":"('WS Calcs'!$L$2*'WS Calcs'!$L$3*('BMP Calcs'!O343/12))*Assignments!$D26*'BMP Calcs'!O150*2.72","v":{"$error":"#N/A"}},{"$f":"('WS Calcs'!$L$2*'WS Calcs'!$L$3*('BMP Calcs'!P343/12))*Assignments!$D26*'BMP Calcs'!P150*2.72","v":{"$error":"#N/A"}},{"$f":"('WS Calcs'!$L$2*'WS Calcs'!$L$3*('BMP Calcs'!Q343/12))*Assignments!$D26*'BMP Calcs'!Q150*2.72","v":{"$error":"#N/A"}},null,{"$f":"('WS Calcs'!$L$2*'WS Calcs'!$L$3*('BMP Calcs'!S343/12))*Assignments!$D26*'BMP Calcs'!S150*2.72","v":{"$error":"#N/A"}},{"$f":"('WS Calcs'!$L$2*'WS Calcs'!$L$3*('BMP Calcs'!T343/12))*Assignments!$D26*'BMP Calcs'!T150*2.72","v":{"$error":"#N/A"}},{"$f":"('WS Calcs'!$L$2*'WS Calcs'!$L$3*('BMP Calcs'!U343/12))*Assignments!$D26*'BMP Calcs'!U150*2.72","v":{"$error":"#N/A"}},null,{"$f":"('WS Calcs'!$L$2*'WS Calcs'!$L$3*('BMP Calcs'!W343/12))*Assignments!$D26*'BMP Calcs'!W150*2.72","v":{"$error":"#N/A"}},{"$f":"('WS Calcs'!$L$2*'WS Calcs'!$L$3*('BMP Calcs'!X343/12))*Assignments!$D26*'BMP Calcs'!X150*2.72","v":{"$error":"#N/A"}},{"$f":"('WS Calcs'!$L$2*'WS Calcs'!$L$3*('BMP Calcs'!Y343/12))*Assignments!$D26*'BMP Calcs'!Y150*2.72","v":{"$error":"#N/A"}},null,null,null,{"$f":"('WS Calcs'!$L$2*'WS Calcs'!$L$3*('BMP Calcs'!AC343/12))*Assignments!$D26*'BMP Calcs'!AC150*2.72","v":{"$error":"#N/A"}},{"$f":"('WS Calcs'!$L$2*'WS Calcs'!$L$3*('BMP Calcs'!AD343/12))*Assignments!$D26*'BMP Calcs'!AD150*2.72","v":{"$error":"#N/A"}}]
[null,"     Parking lot (car)",{"$f":"('WS Calcs'!$L$2*'BMP Calcs'!C344/12)*Assignments!$D27*'BMP Calcs'!C151*2.72","v":{"$error":"#N/A"}},{"$f":"('WS Calcs'!$L$2*'WS Calcs'!$L$3*('BMP Calcs'!D344/12))*Assignments!$D27*'BMP Calcs'!D151*2.72","v":{"$error":"#N/A"}},{"$f":"('WS Calcs'!$L$2*'WS Calcs'!$L$3*('BMP Calcs'!E344/12))*Assignments!$D27*'BMP Calcs'!E151*2.72","v":{"$error":"#N/A"}},null,{"$f":"('WS Calcs'!$L$2*'WS Calcs'!$L$3*('BMP Calcs'!G344/12))*Assignments!$D27*'BMP Calcs'!G151*2.72","v":{"$error":"#N/A"}},{"$f":"('WS Calcs'!$L$2*'WS Calcs'!$L$3*('BMP Calcs'!H344/12))*Assignments!$D27*'BMP Calcs'!H151*2.72","v":{"$error":"#N/A"}},{"$f":"('WS Calcs'!$L$2*'WS Calcs'!$L$3*('BMP Calcs'!I344/12))*Assignments!$D27*'BMP Calcs'!I151*2.72","v":{"$error":"#N/A"}},null,{"$f":"('WS Calcs'!$L$2*'WS Calcs'!$L$3*('BMP Calcs'!K344/12))*Assignments!$D27*'BMP Calcs'!K151*2.72","v":{"$error":"#N/A"}},{"$f":"('WS Calcs'!$L$2*'WS Calcs'!$L$3*('BMP Calcs'!L344/12))*Assignments!$D27*'BMP Calcs'!L151*2.72","v":{"$error":"#N/A"}},{"$f":"('WS Calcs'!$L$2*'WS Calcs'!$L$3*('BMP Calcs'!M344/12))*Assignments!$D27*'BMP Calcs'!M151*2.72","v":{"$error":"#N/A"}},null,{"$f":"('WS Calcs'!$L$2*'WS Calcs'!$L$3*('BMP Calcs'!O344/12))*Assignments!$D27*'BMP Calcs'!O151*2.72","v":{"$error":"#N/A"}},{"$f":"('WS Calcs'!$L$2*'WS Calcs'!$L$3*('BMP Calcs'!P344/12))*Assignments!$D27*'BMP Calcs'!P151*2.72","v":{"$error":"#N/A"}},{"$f":"('WS Calcs'!$L$2*'WS Calcs'!$L$3*('BMP Calcs'!Q344/12))*Assignments!$D27*'BMP Calcs'!Q151*2.72","v":{"$error":"#N/A"}},null,{"$f":"('WS Calcs'!$L$2*'WS Calcs'!$L$3*('BMP Calcs'!S344/12))*Assignments!$D27*'BMP Calcs'!S151*2.72","v":{"$error":"#N/A"}},{"$f":"('WS Calcs'!$L$2*'WS Calcs'!$L$3*('BMP Calcs'!T344/12))*Assignments!$D27*'BMP Calcs'!T151*2.72","v":{"$error":"#N/A"}},{"$f":"('WS Calcs'!$L$2*'WS Calcs'!$L$3*('BMP Calcs'!U344/12))*Assignments!$D27*'BMP Calcs'!U151*2.72","v":{"$error":"#N/A"}},null,{"$f":"('WS Calcs'!$L$2*'WS Calcs'!$L$3*('BMP Calcs'!W344/12))*Assignments!$D27*'BMP Calcs'!W151*2.72","v":{"$error":"#N/A"}},{"$f":"('WS Calcs'!$L$2*'WS Calcs'!$L$3*('BMP Calcs'!X344/12))*Assignments!$D27*'BMP Calcs'!X151*2.72","v":{"$error":"#N/A"}},{"$f":"('WS Calcs'!$L$2*'WS Calcs'!$L$3*('BMP Calcs'!Y344/12))*Assignments!$D27*'BMP Calcs'!Y151*2.72","v":{"$error":"#N/A"}},null,null,null,{"$f":"('WS Calcs'!$L$2*'WS Calcs'!$L$3*('BMP Calcs'!AC344/12))*Assignments!$D27*'BMP Calcs'!AC151*2.72","v":{"$error":"#N/A"}},{"$f":"('WS Calcs'!$L$2*'WS Calcs'!$L$3*('BMP Calcs'!AD344/12))*Assignments!$D27*'BMP Calcs'!AD151*2.72","v":{"$error":"#N/A"}}]
[null,"     Parking lot (truck)",{"$f":"('WS Calcs'!$L$2*'BMP Calcs'!C345/12)*Assignments!$D28*'BMP Calcs'!C152*2.72","v":{"$error":"#N/A"}},{"$f":"('WS Calcs'!$L$2*'WS Calcs'!$L$3*('BMP Calcs'!D345/12))*Assignments!$D28*'BMP Calcs'!D152*2.72","v":{"$error":"#N/A"}},{"$f":"('WS Calcs'!$L$2*'WS Calcs'!$L$3*('BMP Calcs'!E345/12))*Assignments!$D28*'BMP Calcs'!E152*2.72","v":{"$error":"#N/A"}},null,{"$f":"('WS Calcs'!$L$2*'WS Calcs'!$L$3*('BMP Calcs'!G345/12))*Assignments!$D28*'BMP Calcs'!G152*2.72","v":{"$error":"#N/A"}},{"$f":"('WS Calcs'!$L$2*'WS Calcs'!$L$3*('BMP Calcs'!H345/12))*Assignments!$D28*'BMP Calcs'!H152*2.72","v":{"$error":"#N/A"}},{"$f":"('WS Calcs'!$L$2*'WS Calcs'!$L$3*('BMP Calcs'!I345/12))*Assignments!$D28*'BMP Calcs'!I152*2.72","v":{"$error":"#N/A"}},null,{"$f":"('WS Calcs'!$L$2*'WS Calcs'!$L$3*('BMP Calcs'!K345/12))*Assignments!$D28*'BMP Calcs'!K152*2.72","v":{"$error":"#N/A"}},{"$f":"('WS Calcs'!$L$2*'WS Calcs'!$L$3*('BMP Calcs'!L345/12))*Assignments!$D28*'BMP Calcs'!L152*2.72","v":{"$error":"#N/A"}},{"$f":"('WS Calcs'!$L$2*'WS Calcs'!$L$3*('BMP Calcs'!M345/12))*Assignments!$D28*'BMP Calcs'!M152*2.72","v":{"$error":"#N/A"}},null,{"$f":"('WS Calcs'!$L$2*'WS Calcs'!$L$3*('BMP Calcs'!O345/12))*Assignments!$D28*'BMP Calcs'!O152*2.72","v":{"$error":"#N/A"}},{"$f":"('WS Calcs'!$L$2*'WS Calcs'!$L$3*('BMP Calcs'!P345/12))*Assignments!$D28*'BMP Calcs'!P152*2.72","v":{"$error":"#N/A"}},{"$f":"('WS Calcs'!$L$2*'WS Calcs'!$L$3*('BMP Calcs'!Q345/12))*Assignments!$D28*'BMP Calcs'!Q152*2.72","v":{"$error":"#N/A"}},null,{"$f":"('WS Calcs'!$L$2*'WS Calcs'!$L$3*('BMP Calcs'!S345/12))*Assignments!$D28*'BMP Calcs'!S152*2.72","v":{"$error":"#N/A"}},{"$f":"('WS Calcs'!$L$2*'WS Calcs'!$L$3*('BMP Calcs'!T345/12))*Assignments!$D28*'BMP Calcs'!T152*2.72","v":{"$error":"#N/A"}},{"$f":"('WS Calcs'!$L$2*'WS Calcs'!$L$3*('BMP Calcs'!U345/12))*Assignments!$D28*'BMP Calcs'!U152*2.72","v":{"$error":"#N/A"}},null,{"$f":"('WS Calcs'!$L$2*'WS Calcs'!$L$3*('BMP Calcs'!W345/12))*Assignments!$D28*'BMP Calcs'!W152*2.72","v":{"$error":"#N/A"}},{"$f":"('WS Calcs'!$L$2*'WS Calcs'!$L$3*('BMP Calcs'!X345/12))*Assignments!$D28*'BMP Calcs'!X152*2.72","v":{"$error":"#N/A"}},{"$f":"('WS Calcs'!$L$2*'WS Calcs'!$L$3*('BMP Calcs'!Y345/12))*Assignments!$D28*'BMP Calcs'!Y152*2.72","v":{"$error":"#N/A"}},null,null,null,{"$f":"('WS Calcs'!$L$2*'WS Calcs'!$L$3*('BMP Calcs'!AC345/12))*Assignments!$D28*'BMP Calcs'!AC152*2.72","v":{"$error":"#N/A"}},{"$f":"('WS Calcs'!$L$2*'WS Calcs'!$L$3*('BMP Calcs'!AD345/12))*Assignments!$D28*'BMP Calcs'!AD152*2.72","v":{"$error":"#N/A"}}]
[null,"     Roof",{"$f":"('WS Calcs'!$L$2*'BMP Calcs'!C346/12)*Assignments!$D29*'BMP Calcs'!C153*2.72","v":{"$error":"#N/A"}},{"$f":"('WS Calcs'!$L$2*'WS Calcs'!$L$3*('BMP Calcs'!D346/12))*Assignments!$D29*'BMP Calcs'!D153*2.72","v":{"$error":"#N/A"}},{"$f":"('WS Calcs'!$L$2*'WS Calcs'!$L$3*('BMP Calcs'!E346/12))*Assignments!$D29*'BMP Calcs'!E153*2.72","v":{"$error":"#N/A"}},null,{"$f":"('WS Calcs'!$L$2*'WS Calcs'!$L$3*('BMP Calcs'!G346/12))*Assignments!$D29*'BMP Calcs'!G153*2.72","v":{"$error":"#N/A"}},{"$f":"('WS Calcs'!$L$2*'WS Calcs'!$L$3*('BMP Calcs'!H346/12))*Assignments!$D29*'BMP Calcs'!H153*2.72","v":{"$error":"#N/A"}},{"$f":"('WS Calcs'!$L$2*'WS Calcs'!$L$3*('BMP Calcs'!I346/12))*Assignments!$D29*'BMP Calcs'!I153*2.72","v":{"$error":"#N/A"}},null,{"$f":"('WS Calcs'!$L$2*'WS Calcs'!$L$3*('BMP Calcs'!K346/12))*Assignments!$D29*'BMP Calcs'!K153*2.72","v":{"$error":"#N/A"}},{"$f":"('WS Calcs'!$L$2*'WS Calcs'!$L$3*('BMP Calcs'!L346/12))*Assignments!$D29*'BMP Calcs'!L153*2.72","v":{"$error":"#N/A"}},{"$f":"('WS Calcs'!$L$2*'WS Calcs'!$L$3*('BMP Calcs'!M346/12))*Assignments!$D29*'BMP Calcs'!M153*2.72","v":{"$error":"#N/A"}},null,{"$f":"('WS Calcs'!$L$2*'WS Calcs'!$L$3*('BMP Calcs'!O346/12))*Assignments!$D29*'BMP Calcs'!O153*2.72","v":{"$error":"#N/A"}},{"$f":"('WS Calcs'!$L$2*'WS Calcs'!$L$3*('BMP Calcs'!P346/12))*Assignments!$D29*'BMP Calcs'!P153*2.72","v":{"$error":"#N/A"}},{"$f":"('WS Calcs'!$L$2*'WS Calcs'!$L$3*('BMP Calcs'!Q346/12))*Assignments!$D29*'BMP Calcs'!Q153*2.72","v":{"$error":"#N/A"}},null,{"$f":"('WS Calcs'!$L$2*'WS Calcs'!$L$3*('BMP Calcs'!S346/12))*Assignments!$D29*'BMP Calcs'!S153*2.72","v":{"$error":"#N/A"}},{"$f":"('WS Calcs'!$L$2*'WS Calcs'!$L$3*('BMP Calcs'!T346/12))*Assignments!$D29*'BMP Calcs'!T153*2.72","v":{"$error":"#N/A"}},{"$f":"('WS Calcs'!$L$2*'WS Calcs'!$L$3*('BMP Calcs'!U346/12))*Assignments!$D29*'BMP Calcs'!U153*2.72","v":{"$error":"#N/A"}},null,{"$f":"('WS Calcs'!$L$2*'WS Calcs'!$L$3*('BMP Calcs'!W346/12))*Assignments!$D29*'BMP Calcs'!W153*2.72","v":{"$error":"#N/A"}},{"$f":"('WS Calcs'!$L$2*'WS Calcs'!$L$3*('BMP Calcs'!X346/12))*Assignments!$D29*'BMP Calcs'!X153*2.72","v":{"$error":"#N/A"}},{"$f":"('WS Calcs'!$L$2*'WS Calcs'!$L$3*('BMP Calcs'!Y346/12))*Assignments!$D29*'BMP Calcs'!Y153*2.72","v":{"$error":"#N/A"}},null,null,null,{"$f":"('WS Calcs'!$L$2*'WS Calcs'!$L$3*('BMP Calcs'!AC346/12))*Assignments!$D29*'BMP Calcs'!AC153*2.72","v":{"$error":"#N/A"}},{"$f":"('WS Calcs'!$L$2*'WS Calcs'!$L$3*('BMP Calcs'!AD346/12))*Assignments!$D29*'BMP Calcs'!AD153*2.72","v":{"$error":"#N/A"}}]
[null,"MISC. PERVIOUS",{"$f":"('WS Calcs'!$L$2*'BMP Calcs'!C347/12)*Assignments!$D30*'BMP Calcs'!C154*2.72","v":{"$error":"#N/A"}},{"$f":"('WS Calcs'!$L$2*'WS Calcs'!$L$3*('BMP Calcs'!D347/12))*Assignments!$D30*'BMP Calcs'!D154*2.72","v":{"$error":"#N/A"}},{"$f":"('WS Calcs'!$L$2*'WS Calcs'!$L$3*('BMP Calcs'!E347/12))*Assignments!$D30*'BMP Calcs'!E154*2.72","v":{"$error":"#N/A"}},null,{"$f":"('WS Calcs'!$L$2*'WS Calcs'!$L$3*('BMP Calcs'!G347/12))*Assignments!$D30*'BMP Calcs'!G154*2.72","v":{"$error":"#N/A"}},{"$f":"('WS Calcs'!$L$2*'WS Calcs'!$L$3*('BMP Calcs'!H347/12))*Assignments!$D30*'BMP Calcs'!H154*2.72","v":{"$error":"#N/A"}},{"$f":"('WS Calcs'!$L$2*'WS Calcs'!$L$3*('BMP Calcs'!I347/12))*Assignments!$D30*'BMP Calcs'!I154*2.72","v":{"$error":"#N/A"}},null,{"$f":"('WS Calcs'!$L$2*'WS Calcs'!$L$3*('BMP Calcs'!K347/12))*Assignments!$D30*'BMP Calcs'!K154*2.72","v":{"$error":"#N/A"}},{"$f":"('WS Calcs'!$L$2*'WS Calcs'!$L$3*('BMP Calcs'!L347/12))*Assignments!$D30*'BMP Calcs'!L154*2.72","v":{"$error":"#N/A"}},{"$f":"('WS Calcs'!$L$2*'WS Calcs'!$L$3*('BMP Calcs'!M347/12))*Assignments!$D30*'BMP Calcs'!M154*2.72","v":{"$error":"#N/A"}},null,{"$f":"('WS Calcs'!$L$2*'WS Calcs'!$L$3*('BMP Calcs'!O347/12))*Assignments!$D30*'BMP Calcs'!O154*2.72","v":{"$error":"#N/A"}},{"$f":"('WS Calcs'!$L$2*'WS Calcs'!$L$3*('BMP Calcs'!P347/12))*Assignments!$D30*'BMP Calcs'!P154*2.72","v":{"$error":"#N/A"}},{"$f":"('WS Calcs'!$L$2*'WS Calcs'!$L$3*('BMP Calcs'!Q347/12))*Assignments!$D30*'BMP Calcs'!Q154*2.72","v":{"$error":"#N/A"}},null,{"$f":"('WS Calcs'!$L$2*'WS Calcs'!$L$3*('BMP Calcs'!S347/12))*Assignments!$D30*'BMP Calcs'!S154*2.72","v":{"$error":"#N/A"}},{"$f":"('WS Calcs'!$L$2*'WS Calcs'!$L$3*('BMP Calcs'!T347/12))*Assignments!$D30*'BMP Calcs'!T154*2.72","v":{"$error":"#N/A"}},{"$f":"('WS Calcs'!$L$2*'WS Calcs'!$L$3*('BMP Calcs'!U347/12))*Assignments!$D30*'BMP Calcs'!U154*2.72","v":{"$error":"#N/A"}},null,{"$f":"('WS Calcs'!$L$2*'WS Calcs'!$L$3*('BMP Calcs'!W347/12))*Assignments!$D30*'BMP Calcs'!W154*2.72","v":{"$error":"#N/A"}},{"$f":"('WS Calcs'!$L$2*'WS Calcs'!$L$3*('BMP Calcs'!X347/12))*Assignments!$D30*'BMP Calcs'!X154*2.72","v":{"$error":"#N/A"}},{"$f":"('WS Calcs'!$L$2*'WS Calcs'!$L$3*('BMP Calcs'!Y347/12))*Assignments!$D30*'BMP Calcs'!Y154*2.72","v":{"$error":"#N/A"}},{"$f":"('WS Calcs'!$L$2*'WS Calcs'!$L$3*('BMP Calcs'!Z347/12))*Assignments!$D30*'BMP Calcs'!Z$10*2.72","v":{"$error":"#N/A"}},null,null,{"$f":"('WS Calcs'!$L$2*'WS Calcs'!$L$3*('BMP Calcs'!AC347/12))*Assignments!$D30*'BMP Calcs'!AC154*2.72","v":{"$error":"#N/A"}},{"$f":"('WS Calcs'!$L$2*'WS Calcs'!$L$3*('BMP Calcs'!AD347/12))*Assignments!$D30*'BMP Calcs'!AD154*2.72","v":{"$error":"#N/A"}}]
[null,"     Managed lawn (fertilized)",{"$f":"('WS Calcs'!$L$2*'BMP Calcs'!C348/12)*Assignments!$D31*'BMP Calcs'!C155*2.72","v":{"$error":"#N/A"}},{"$f":"('WS Calcs'!$L$2*'WS Calcs'!$L$3*('BMP Calcs'!D348/12))*Assignments!$D31*'BMP Calcs'!D155*2.72","v":{"$error":"#N/A"}},{"$f":"('WS Calcs'!$L$2*'WS Calcs'!$L$3*('BMP Calcs'!E348/12))*Assignments!$D31*'BMP Calcs'!E155*2.72","v":{"$error":"#N/A"}},null,{"$f":"('WS Calcs'!$L$2*'WS Calcs'!$L$3*('BMP Calcs'!G348/12))*Assignments!$D31*'BMP Calcs'!G155*2.72","v":{"$error":"#N/A"}},{"$f":"('WS Calcs'!$L$2*'WS Calcs'!$L$3*('BMP Calcs'!H348/12))*Assignments!$D31*'BMP Calcs'!H155*2.72","v":{"$error":"#N/A"}},{"$f":"('WS Calcs'!$L$2*'WS Calcs'!$L$3*('BMP Calcs'!I348/12))*Assignments!$D31*'BMP Calcs'!I155*2.72","v":{"$error":"#N/A"}},null,{"$f":"('WS Calcs'!$L$2*'WS Calcs'!$L$3*('BMP Calcs'!K348/12))*Assignments!$D31*'BMP Calcs'!K155*2.72","v":{"$error":"#N/A"}},{"$f":"('WS Calcs'!$L$2*'WS Calcs'!$L$3*('BMP Calcs'!L348/12))*Assignments!$D31*'BMP Calcs'!L155*2.72","v":{"$error":"#N/A"}},{"$f":"('WS Calcs'!$L$2*'WS Calcs'!$L$3*('BMP Calcs'!M348/12))*Assignments!$D31*'BMP Calcs'!M155*2.72","v":{"$error":"#N/A"}},null,{"$f":"('WS Calcs'!$L$2*'WS Calcs'!$L$3*('BMP Calcs'!O348/12))*Assignments!$D31*'BMP Calcs'!O155*2.72","v":{"$error":"#N/A"}},{"$f":"('WS Calcs'!$L$2*'WS Calcs'!$L$3*('BMP Calcs'!P348/12))*Assignments!$D31*'BMP Calcs'!P155*2.72","v":{"$error":"#N/A"}},{"$f":"('WS Calcs'!$L$2*'WS Calcs'!$L$3*('BMP Calcs'!Q348/12))*Assignments!$D31*'BMP Calcs'!Q155*2.72","v":{"$error":"#N/A"}},null,{"$f":"('WS Calcs'!$L$2*'WS Calcs'!$L$3*('BMP Calcs'!S348/12))*Assignments!$D31*'BMP Calcs'!S155*2.72","v":{"$error":"#N/A"}},{"$f":"('WS Calcs'!$L$2*'WS Calcs'!$L$3*('BMP Calcs'!T348/12))*Assignments!$D31*'BMP Calcs'!T155*2.72","v":{"$error":"#N/A"}},{"$f":"('WS Calcs'!$L$2*'WS Calcs'!$L$3*('BMP Calcs'!U348/12))*Assignments!$D31*'BMP Calcs'!U155*2.72","v":{"$error":"#N/A"}},null,{"$f":"('WS Calcs'!$L$2*'WS Calcs'!$L$3*('BMP Calcs'!W348/12))*Assignments!$D31*'BMP Calcs'!W155*2.72","v":{"$error":"#N/A"}},{"$f":"('WS Calcs'!$L$2*'WS Calcs'!$L$3*('BMP Calcs'!X348/12))*Assignments!$D31*'BMP Calcs'!X155*2.72","v":{"$error":"#N/A"}},{"$f":"('WS Calcs'!$L$2*'WS Calcs'!$L$3*('BMP Calcs'!Y348/12))*Assignments!$D31*'BMP Calcs'!Y155*2.72","v":{"$error":"#N/A"}},{"$f":"('WS Calcs'!$L$2*'WS Calcs'!$L$3*('BMP Calcs'!Z348/12))*Assignments!$D31*'BMP Calcs'!Z$10*2.72","v":{"$error":"#N/A"}},null,null,{"$f":"('WS Calcs'!$L$2*'WS Calcs'!$L$3*('BMP Calcs'!AC348/12))*Assignments!$D31*'BMP Calcs'!AC155*2.72","v":{"$error":"#N/A"}},{"$f":"('WS Calcs'!$L$2*'WS Calcs'!$L$3*('BMP Calcs'!AD348/12))*Assignments!$D31*'BMP Calcs'!AD155*2.72","v":{"$error":"#N/A"}}]
[null,"     Open space (unfertilized)",{"$f":"('WS Calcs'!$L$2*'BMP Calcs'!C349/12)*Assignments!$D32*'BMP Calcs'!C156*2.72","v":{"$error":"#N/A"}},{"$f":"('WS Calcs'!$L$2*'WS Calcs'!$L$3*('BMP Calcs'!D349/12))*Assignments!$D32*'BMP Calcs'!D156*2.72","v":{"$error":"#N/A"}},{"$f":"('WS Calcs'!$L$2*'WS Calcs'!$L$3*('BMP Calcs'!E349/12))*Assignments!$D32*'BMP Calcs'!E156*2.72","v":{"$error":"#N/A"}},null,{"$f":"('WS Calcs'!$L$2*'WS Calcs'!$L$3*('BMP Calcs'!G349/12))*Assignments!$D32*'BMP Calcs'!G156*2.72","v":{"$error":"#N/A"}},{"$f":"('WS Calcs'!$L$2*'WS Calcs'!$L$3*('BMP Calcs'!H349/12))*Assignments!$D32*'BMP Calcs'!H156*2.72","v":{"$error":"#N/A"}},{"$f":"('WS Calcs'!$L$2*'WS Calcs'!$L$3*('BMP Calcs'!I349/12))*Assignments!$D32*'BMP Calcs'!I156*2.72","v":{"$error":"#N/A"}},null,{"$f":"('WS Calcs'!$L$2*'WS Calcs'!$L$3*('BMP Calcs'!K349/12))*Assignments!$D32*'BMP Calcs'!K156*2.72","v":{"$error":"#N/A"}},{"$f":"('WS Calcs'!$L$2*'WS Calcs'!$L$3*('BMP Calcs'!L349/12))*Assignments!$D32*'BMP Calcs'!L156*2.72","v":{"$error":"#N/A"}},{"$f":"('WS Calcs'!$L$2*'WS Calcs'!$L$3*('BMP Calcs'!M349/12))*Assignments!$D32*'BMP Calcs'!M156*2.72","v":{"$error":"#N/A"}},null,{"$f":"('WS Calcs'!$L$2*'WS Calcs'!$L$3*('BMP Calcs'!O349/12))*Assignments!$D32*'BMP Calcs'!O156*2.72","v":{"$error":"#N/A"}},{"$f":"('WS Calcs'!$L$2*'WS Calcs'!$L$3*('BMP Calcs'!P349/12))*Assignments!$D32*'BMP Calcs'!P156*2.72","v":{"$error":"#N/A"}},{"$f":"('WS Calcs'!$L$2*'WS Calcs'!$L$3*('BMP Calcs'!Q349/12))*Assignments!$D32*'BMP Calcs'!Q156*2.72","v":{"$error":"#N/A"}},null,{"$f":"('WS Calcs'!$L$2*'WS Calcs'!$L$3*('BMP Calcs'!S349/12))*Assignments!$D32*'BMP Calcs'!S156*2.72","v":{"$error":"#N/A"}},{"$f":"('WS Calcs'!$L$2*'WS Calcs'!$L$3*('BMP Calcs'!T349/12))*Assignments!$D32*'BMP Calcs'!T156*2.72","v":{"$error":"#N/A"}},{"$f":"('WS Calcs'!$L$2*'WS Calcs'!$L$3*('BMP Calcs'!U349/12))*Assignments!$D32*'BMP Calcs'!U156*2.72","v":{"$error":"#N/A"}},null,{"$f":"('WS Calcs'!$L$2*'WS Calcs'!$L$3*('BMP Calcs'!W349/12))*Assignments!$D32*'BMP Calcs'!W156*2.72","v":{"$error":"#N/A"}},{"$f":"('WS Calcs'!$L$2*'WS Calcs'!$L$3*('BMP Calcs'!X349/12))*Assignments!$D32*'BMP Calcs'!X156*2.72","v":{"$error":"#N/A"}},{"$f":"('WS Calcs'!$L$2*'WS Calcs'!$L$3*('BMP Calcs'!Y349/12))*Assignments!$D32*'BMP Calcs'!Y156*2.72","v":{"$error":"#N/A"}},{"$f":"('WS Calcs'!$L$2*'WS Calcs'!$L$3*('BMP Calcs'!Z349/12))*Assignments!$D32*'BMP Calcs'!Z$10*2.72","v":{"$error":"#N/A"}},null,null,{"$f":"('WS Calcs'!$L$2*'WS Calcs'!$L$3*('BMP Calcs'!AC349/12))*Assignments!$D32*'BMP Calcs'!AC156*2.72","v":{"$error":"#N/A"}},{"$f":"('WS Calcs'!$L$2*'WS Calcs'!$L$3*('BMP Calcs'!AD349/12))*Assignments!$D32*'BMP Calcs'!AD156*2.72","v":{"$error":"#N/A"}}]
[null,"     Open/Landscaped",{"$f":"('WS Calcs'!$L$2*'BMP Calcs'!C350/12)*Assignments!$D33*'BMP Calcs'!C157*2.72","v":{"$error":"#N/A"}},{"$f":"('WS Calcs'!$L$2*'WS Calcs'!$L$3*('BMP Calcs'!D350/12))*Assignments!$D33*'BMP Calcs'!D157*2.72","v":{"$error":"#N/A"}},{"$f":"('WS Calcs'!$L$2*'WS Calcs'!$L$3*('BMP Calcs'!E350/12))*Assignments!$D33*'BMP Calcs'!E157*2.72","v":{"$error":"#N/A"}},null,{"$f":"('WS Calcs'!$L$2*'WS Calcs'!$L$3*('BMP Calcs'!G350/12))*Assignments!$D33*'BMP Calcs'!G157*2.72","v":{"$error":"#N/A"}},{"$f":"('WS Calcs'!$L$2*'WS Calcs'!$L$3*('BMP Calcs'!H350/12))*Assignments!$D33*'BMP Calcs'!H157*2.72","v":{"$error":"#N/A"}},{"$f":"('WS Calcs'!$L$2*'WS Calcs'!$L$3*('BMP Calcs'!I350/12))*Assignments!$D33*'BMP Calcs'!I157*2.72","v":{"$error":"#N/A"}},null,{"$f":"('WS Calcs'!$L$2*'WS Calcs'!$L$3*('BMP Calcs'!K350/12))*Assignments!$D33*'BMP Calcs'!K157*2.72","v":{"$error":"#N/A"}},{"$f":"('WS Calcs'!$L$2*'WS Calcs'!$L$3*('BMP Calcs'!L350/12))*Assignments!$D33*'BMP Calcs'!L157*2.72","v":{"$error":"#N/A"}},{"$f":"('WS Calcs'!$L$2*'WS Calcs'!$L$3*('BMP Calcs'!M350/12))*Assignments!$D33*'BMP Calcs'!M157*2.72","v":{"$error":"#N/A"}},null,{"$f":"('WS Calcs'!$L$2*'WS Calcs'!$L$3*('BMP Calcs'!O350/12))*Assignments!$D33*'BMP Calcs'!O157*2.72","v":{"$error":"#N/A"}},{"$f":"('WS Calcs'!$L$2*'WS Calcs'!$L$3*('BMP Calcs'!P350/12))*Assignments!$D33*'BMP Calcs'!P157*2.72","v":{"$error":"#N/A"}},{"$f":"('WS Calcs'!$L$2*'WS Calcs'!$L$3*('BMP Calcs'!Q350/12))*Assignments!$D33*'BMP Calcs'!Q157*2.72","v":{"$error":"#N/A"}},null,{"$f":"('WS Calcs'!$L$2*'WS Calcs'!$L$3*('BMP Calcs'!S350/12))*Assignments!$D33*'BMP Calcs'!S157*2.72","v":{"$error":"#N/A"}},{"$f":"('WS Calcs'!$L$2*'WS Calcs'!$L$3*('BMP Calcs'!T350/12))*Assignments!$D33*'BMP Calcs'!T157*2.72","v":{"$error":"#N/A"}},{"$f":"('WS Calcs'!$L$2*'WS Calcs'!$L$3*('BMP Calcs'!U350/12))*Assignments!$D33*'BMP Calcs'!U157*2.72","v":{"$error":"#N/A"}},null,{"$f":"('WS Calcs'!$L$2*'WS Calcs'!$L$3*('BMP Calcs'!W350/12))*Assignments!$D33*'BMP Calcs'!W157*2.72","v":{"$error":"#N/A"}},{"$f":"('WS Calcs'!$L$2*'WS Calcs'!$L$3*('BMP Calcs'!X350/12))*Assignments!$D33*'BMP Calcs'!X157*2.72","v":{"$error":"#N/A"}},{"$f":"('WS Calcs'!$L$2*'WS Calcs'!$L$3*('BMP Calcs'!Y350/12))*Assignments!$D33*'BMP Calcs'!Y157*2.72","v":{"$error":"#N/A"}},null,null,null,{"$f":"('WS Calcs'!$L$2*'WS Calcs'!$L$3*('BMP Calcs'!AC350/12))*Assignments!$D33*'BMP Calcs'!AC157*2.72","v":{"$error":"#N/A"}},{"$f":"('WS Calcs'!$L$2*'WS Calcs'!$L$3*('BMP Calcs'!AD350/12))*Assignments!$D33*'BMP Calcs'!AD157*2.72","v":{"$error":"#N/A"}}]
[null,"     Agriculture (crop)",{"$f":"('WS Calcs'!$L$2*'BMP Calcs'!C351/12)*Assignments!$D34*'BMP Calcs'!C158*2.72","v":{"$error":"#N/A"}},{"$f":"('WS Calcs'!$L$2*'WS Calcs'!$L$3*('BMP Calcs'!D351/12))*Assignments!$D34*'BMP Calcs'!D158*2.72","v":{"$error":"#N/A"}},{"$f":"('WS Calcs'!$L$2*'WS Calcs'!$L$3*('BMP Calcs'!E351/12))*Assignments!$D34*'BMP Calcs'!E158*2.72","v":{"$error":"#N/A"}},null,{"$f":"('WS Calcs'!$L$2*'WS Calcs'!$L$3*('BMP Calcs'!G351/12))*Assignments!$D34*'BMP Calcs'!G158*2.72","v":{"$error":"#N/A"}},{"$f":"('WS Calcs'!$L$2*'WS Calcs'!$L$3*('BMP Calcs'!H351/12))*Assignments!$D34*'BMP Calcs'!H158*2.72","v":{"$error":"#N/A"}},{"$f":"('WS Calcs'!$L$2*'WS Calcs'!$L$3*('BMP Calcs'!I351/12))*Assignments!$D34*'BMP Calcs'!I158*2.72","v":{"$error":"#N/A"}},null,{"$f":"('WS Calcs'!$L$2*'WS Calcs'!$L$3*('BMP Calcs'!K351/12))*Assignments!$D34*'BMP Calcs'!K158*2.72","v":{"$error":"#N/A"}},{"$f":"('WS Calcs'!$L$2*'WS Calcs'!$L$3*('BMP Calcs'!L351/12))*Assignments!$D34*'BMP Calcs'!L158*2.72","v":{"$error":"#N/A"}},{"$f":"('WS Calcs'!$L$2*'WS Calcs'!$L$3*('BMP Calcs'!M351/12))*Assignments!$D34*'BMP Calcs'!M158*2.72","v":{"$error":"#N/A"}},null,{"$f":"('WS Calcs'!$L$2*'WS Calcs'!$L$3*('BMP Calcs'!O351/12))*Assignments!$D34*'BMP Calcs'!O158*2.72","v":{"$error":"#N/A"}},{"$f":"('WS Calcs'!$L$2*'WS Calcs'!$L$3*('BMP Calcs'!P351/12))*Assignments!$D34*'BMP Calcs'!P158*2.72","v":{"$error":"#N/A"}},{"$f":"('WS Calcs'!$L$2*'WS Calcs'!$L$3*('BMP Calcs'!Q351/12))*Assignments!$D34*'BMP Calcs'!Q158*2.72","v":{"$error":"#N/A"}},null,{"$f":"('WS Calcs'!$L$2*'WS Calcs'!$L$3*('BMP Calcs'!S351/12))*Assignments!$D34*'BMP Calcs'!S158*2.72","v":{"$error":"#N/A"}},{"$f":"('WS Calcs'!$L$2*'WS Calcs'!$L$3*('BMP Calcs'!T351/12))*Assignments!$D34*'BMP Calcs'!T158*2.72","v":{"$error":"#N/A"}},{"$f":"('WS Calcs'!$L$2*'WS Calcs'!$L$3*('BMP Calcs'!U351/12))*Assignments!$D34*'BMP Calcs'!U158*2.72","v":{"$error":"#N/A"}},null,{"$f":"('WS Calcs'!$L$2*'WS Calcs'!$L$3*('BMP Calcs'!W351/12))*Assignments!$D34*'BMP Calcs'!W158*2.72","v":{"$error":"#N/A"}},{"$f":"('WS Calcs'!$L$2*'WS Calcs'!$L$3*('BMP Calcs'!X351/12))*Assignments!$D34*'BMP Calcs'!X158*2.72","v":{"$error":"#N/A"}},{"$f":"('WS Calcs'!$L$2*'WS Calcs'!$L$3*('BMP Calcs'!Y351/12))*Assignments!$D34*'BMP Calcs'!Y158*2.72","v":{"$error":"#N/A"}},null,null,null,{"$f":"('WS Calcs'!$L$2*'WS Calcs'!$L$3*('BMP Calcs'!AC351/12))*Assignments!$D34*'BMP Calcs'!AC158*2.72","v":{"$error":"#N/A"}},{"$f":"('WS Calcs'!$L$2*'WS Calcs'!$L$3*('BMP Calcs'!AD351/12))*Assignments!$D34*'BMP Calcs'!AD158*2.72","v":{"$error":"#N/A"}}]
[null,"     Agriculture (pasture)",{"$f":"('WS Calcs'!$L$2*'BMP Calcs'!C352/12)*Assignments!$D35*'BMP Calcs'!C159*2.72","v":{"$error":"#N/A"}},{"$f":"('WS Calcs'!$L$2*'WS Calcs'!$L$3*('BMP Calcs'!D352/12))*Assignments!$D35*'BMP Calcs'!D159*2.72","v":{"$error":"#N/A"}},{"$f":"('WS Calcs'!$L$2*'WS Calcs'!$L$3*('BMP Calcs'!E352/12))*Assignments!$D35*'BMP Calcs'!E159*2.72","v":{"$error":"#N/A"}},null,{"$f":"('WS Calcs'!$L$2*'WS Calcs'!$L$3*('BMP Calcs'!G352/12))*Assignments!$D35*'BMP Calcs'!G159*2.72","v":{"$error":"#N/A"}},{"$f":"('WS Calcs'!$L$2*'WS Calcs'!$L$3*('BMP Calcs'!H352/12))*Assignments!$D35*'BMP Calcs'!H159*2.72","v":{"$error":"#N/A"}},{"$f":"('WS Calcs'!$L$2*'WS Calcs'!$L$3*('BMP Calcs'!I352/12))*Assignments!$D35*'BMP Calcs'!I159*2.72","v":{"$error":"#N/A"}},null,{"$f":"('WS Calcs'!$L$2*'WS Calcs'!$L$3*('BMP Calcs'!K352/12))*Assignments!$D35*'BMP Calcs'!K159*2.72","v":{"$error":"#N/A"}},{"$f":"('WS Calcs'!$L$2*'WS Calcs'!$L$3*('BMP Calcs'!L352/12))*Assignments!$D35*'BMP Calcs'!L159*2.72","v":{"$error":"#N/A"}},{"$f":"('WS Calcs'!$L$2*'WS Calcs'!$L$3*('BMP Calcs'!M352/12))*Assignments!$D35*'BMP Calcs'!M159*2.72","v":{"$error":"#N/A"}},null,{"$f":"('WS Calcs'!$L$2*'WS Calcs'!$L$3*('BMP Calcs'!O352/12))*Assignments!$D35*'BMP Calcs'!O159*2.72","v":{"$error":"#N/A"}},{"$f":"('WS Calcs'!$L$2*'WS Calcs'!$L$3*('BMP Calcs'!P352/12))*Assignments!$D35*'BMP Calcs'!P159*2.72","v":{"$error":"#N/A"}},{"$f":"('WS Calcs'!$L$2*'WS Calcs'!$L$3*('BMP Calcs'!Q352/12))*Assignments!$D35*'BMP Calcs'!Q159*2.72","v":{"$error":"#N/A"}},null,{"$f":"('WS Calcs'!$L$2*'WS Calcs'!$L$3*('BMP Calcs'!S352/12))*Assignments!$D35*'BMP Calcs'!S159*2.72","v":{"$error":"#N/A"}},{"$f":"('WS Calcs'!$L$2*'WS Calcs'!$L$3*('BMP Calcs'!T352/12))*Assignments!$D35*'BMP Calcs'!T159*2.72","v":{"$error":"#N/A"}},{"$f":"('WS Calcs'!$L$2*'WS Calcs'!$L$3*('BMP Calcs'!U352/12))*Assignments!$D35*'BMP Calcs'!U159*2.72","v":{"$error":"#N/A"}},null,{"$f":"('WS Calcs'!$L$2*'WS Calcs'!$L$3*('BMP Calcs'!W352/12))*Assignments!$D35*'BMP Calcs'!W159*2.72","v":{"$error":"#N/A"}},{"$f":"('WS Calcs'!$L$2*'WS Calcs'!$L$3*('BMP Calcs'!X352/12))*Assignments!$D35*'BMP Calcs'!X159*2.72","v":{"$error":"#N/A"}},{"$f":"('WS Calcs'!$L$2*'WS Calcs'!$L$3*('BMP Calcs'!Y352/12))*Assignments!$D35*'BMP Calcs'!Y159*2.72","v":{"$error":"#N/A"}},null,null,null,{"$f":"('WS Calcs'!$L$2*'WS Calcs'!$L$3*('BMP Calcs'!AC352/12))*Assignments!$D35*'BMP Calcs'!AC159*2.72","v":{"$error":"#N/A"}},{"$f":"('WS Calcs'!$L$2*'WS Calcs'!$L$3*('BMP Calcs'!AD352/12))*Assignments!$D35*'BMP Calcs'!AD159*2.72","v":{"$error":"#N/A"}}]
[null,"     Forest",{"$f":"('WS Calcs'!$L$2*'BMP Calcs'!C353/12)*Assignments!$D36*'BMP Calcs'!C160*2.72","v":{"$error":"#N/A"}},{"$f":"('WS Calcs'!$L$2*'WS Calcs'!$L$3*('BMP Calcs'!D353/12))*Assignments!$D36*'BMP Calcs'!D160*2.72","v":{"$error":"#N/A"}},{"$f":"('WS Calcs'!$L$2*'WS Calcs'!$L$3*('BMP Calcs'!E353/12))*Assignments!$D36*'BMP Calcs'!E160*2.72","v":{"$error":"#N/A"}},null,{"$f":"('WS Calcs'!$L$2*'WS Calcs'!$L$3*('BMP Calcs'!G353/12))*Assignments!$D36*'BMP Calcs'!G160*2.72","v":{"$error":"#N/A"}},{"$f":"('WS Calcs'!$L$2*'WS Calcs'!$L$3*('BMP Calcs'!H353/12))*Assignments!$D36*'BMP Calcs'!H160*2.72","v":{"$error":"#N/A"}},{"$f":"('WS Calcs'!$L$2*'WS Calcs'!$L$3*('BMP Calcs'!I353/12))*Assignments!$D36*'BMP Calcs'!I160*2.72","v":{"$error":"#N/A"}},null,{"$f":"('WS Calcs'!$L$2*'WS Calcs'!$L$3*('BMP Calcs'!K353/12))*Assignments!$D36*'BMP Calcs'!K160*2.72","v":{"$error":"#N/A"}},{"$f":"('WS Calcs'!$L$2*'WS Calcs'!$L$3*('BMP Calcs'!L353/12))*Assignments!$D36*'BMP Calcs'!L160*2.72","v":{"$error":"#N/A"}},{"$f":"('WS Calcs'!$L$2*'WS Calcs'!$L$3*('BMP Calcs'!M353/12))*Assignments!$D36*'BMP Calcs'!M160*2.72","v":{"$error":"#N/A"}},null,{"$f":"('WS Calcs'!$L$2*'WS Calcs'!$L$3*('BMP Calcs'!O353/12))*Assignments!$D36*'BMP Calcs'!O160*2.72","v":{"$error":"#N/A"}},{"$f":"('WS Calcs'!$L$2*'WS Calcs'!$L$3*('BMP Calcs'!P353/12))*Assignments!$D36*'BMP Calcs'!P160*2.72","v":{"$error":"#N/A"}},{"$f":"('WS Calcs'!$L$2*'WS Calcs'!$L$3*('BMP Calcs'!Q353/12))*Assignments!$D36*'BMP Calcs'!Q160*2.72","v":{"$error":"#N/A"}},null,{"$f":"('WS Calcs'!$L$2*'WS Calcs'!$L$3*('BMP Calcs'!S353/12))*Assignments!$D36*'BMP Calcs'!S160*2.72","v":{"$error":"#N/A"}},{"$f":"('WS Calcs'!$L$2*'WS Calcs'!$L$3*('BMP Calcs'!T353/12))*Assignments!$D36*'BMP Calcs'!T160*2.72","v":{"$error":"#N/A"}},{"$f":"('WS Calcs'!$L$2*'WS Calcs'!$L$3*('BMP Calcs'!U353/12))*Assignments!$D36*'BMP Calcs'!U160*2.72","v":{"$error":"#N/A"}},null,{"$f":"('WS Calcs'!$L$2*'WS Calcs'!$L$3*('BMP Calcs'!W353/12))*Assignments!$D36*'BMP Calcs'!W160*2.72","v":{"$error":"#N/A"}},{"$f":"('WS Calcs'!$L$2*'WS Calcs'!$L$3*('BMP Calcs'!X353/12))*Assignments!$D36*'BMP Calcs'!X160*2.72","v":{"$error":"#N/A"}},{"$f":"('WS Calcs'!$L$2*'WS Calcs'!$L$3*('BMP Calcs'!Y353/12))*Assignments!$D36*'BMP Calcs'!Y160*2.72","v":{"$error":"#N/A"}},{"$f":"('WS Calcs'!$L$2*'WS Calcs'!$L$3*('BMP Calcs'!Z353/12))*Assignments!$D36*'BMP Calcs'!Z$10*2.72","v":{"$error":"#N/A"}},null,null,{"$f":"('WS Calcs'!$L$2*'WS Calcs'!$L$3*('BMP Calcs'!AC353/12))*Assignments!$D36*'BMP Calcs'!AC160*2.72","v":{"$error":"#N/A"}},{"$f":"('WS Calcs'!$L$2*'WS Calcs'!$L$3*('BMP Calcs'!AD353/12))*Assignments!$D36*'BMP Calcs'!AD160*2.72","v":{"$error":"#N/A"}}]
[null,"UNSPECIFIED LAND USE",{"$f":"('WS Calcs'!$L$2*'BMP Calcs'!C354/12)*Assignments!$D37*'BMP Calcs'!C161*2.72","v":{"$error":"#N/A"}},{"$f":"('WS Calcs'!$L$2*'WS Calcs'!$L$3*('BMP Calcs'!D354/12))*Assignments!$D37*'BMP Calcs'!D161*2.72","v":{"$error":"#N/A"}},{"$f":"('WS Calcs'!$L$2*'WS Calcs'!$L$3*('BMP Calcs'!E354/12))*Assignments!$D37*'BMP Calcs'!E161*2.72","v":{"$error":"#N/A"}},null,{"$f":"('WS Calcs'!$L$2*'WS Calcs'!$L$3*('BMP Calcs'!G354/12))*Assignments!$D37*'BMP Calcs'!G161*2.72","v":{"$error":"#N/A"}},{"$f":"('WS Calcs'!$L$2*'WS Calcs'!$L$3*('BMP Calcs'!H354/12))*Assignments!$D37*'BMP Calcs'!H161*2.72","v":{"$error":"#N/A"}},{"$f":"('WS Calcs'!$L$2*'WS Calcs'!$L$3*('BMP Calcs'!I354/12))*Assignments!$D37*'BMP Calcs'!I161*2.72","v":{"$error":"#N/A"}},null,{"$f":"('WS Calcs'!$L$2*'WS Calcs'!$L$3*('BMP Calcs'!K354/12))*Assignments!$D37*'BMP Calcs'!K161*2.72","v":{"$error":"#N/A"}},{"$f":"('WS Calcs'!$L$2*'WS Calcs'!$L$3*('BMP Calcs'!L354/12))*Assignments!$D37*'BMP Calcs'!L161*2.72","v":{"$error":"#N/A"}},{"$f":"('WS Calcs'!$L$2*'WS Calcs'!$L$3*('BMP Calcs'!M354/12))*Assignments!$D37*'BMP Calcs'!M161*2.72","v":{"$error":"#N/A"}},null,{"$f":"('WS Calcs'!$L$2*'WS Calcs'!$L$3*('BMP Calcs'!O354/12))*Assignments!$D37*'BMP Calcs'!O161*2.72","v":{"$error":"#N/A"}},{"$f":"('WS Calcs'!$L$2*'WS Calcs'!$L$3*('BMP Calcs'!P354/12))*Assignments!$D37*'BMP Calcs'!P161*2.72","v":{"$error":"#N/A"}},{"$f":"('WS Calcs'!$L$2*'WS Calcs'!$L$3*('BMP Calcs'!Q354/12))*Assignments!$D37*'BMP Calcs'!Q161*2.72","v":{"$error":"#N/A"}},null,{"$f":"('WS Calcs'!$L$2*'WS Calcs'!$L$3*('BMP Calcs'!S354/12))*Assignments!$D37*'BMP Calcs'!S161*2.72","v":{"$error":"#N/A"}},{"$f":"('WS Calcs'!$L$2*'WS Calcs'!$L$3*('BMP Calcs'!T354/12))*Assignments!$D37*'BMP Calcs'!T161*2.72","v":{"$error":"#N/A"}},{"$f":"('WS Calcs'!$L$2*'WS Calcs'!$L$3*('BMP Calcs'!U354/12))*Assignments!$D37*'BMP Calcs'!U161*2.72","v":{"$error":"#N/A"}},null,{"$f":"('WS Calcs'!$L$2*'WS Calcs'!$L$3*('BMP Calcs'!W354/12))*Assignments!$D37*'BMP Calcs'!W161*2.72","v":{"$error":"#N/A"}},{"$f":"('WS Calcs'!$L$2*'WS Calcs'!$L$3*('BMP Calcs'!X354/12))*Assignments!$D37*'BMP Calcs'!X161*2.72","v":{"$error":"#N/A"}},{"$f":"('WS Calcs'!$L$2*'WS Calcs'!$L$3*('BMP Calcs'!Y354/12))*Assignments!$D37*'BMP Calcs'!Y161*2.72","v":{"$error":"#N/A"}},null,null,null,{"$f":"('WS Calcs'!$L$2*'WS Calcs'!$L$3*('BMP Calcs'!AC354/12))*Assignments!$D37*'BMP Calcs'!AC161*2.72","v":{"$error":"#N/A"}},{"$f":"('WS Calcs'!$L$2*'WS Calcs'!$L$3*('BMP Calcs'!AD354/12))*Assignments!$D37*'BMP Calcs'!AD161*2.72","v":{"$error":"#N/A"}}]
[null,"     Blank 1",{"$f":"IF(Assignments!D38=\"NA\",0,('WS Calcs'!$L$2*'BMP Calcs'!C355/12)*Assignments!$D38*'BMP Calcs'!C162*2.72)","v":0},{"$f":"IF(Assignments!D38=\"NA\",0,('WS Calcs'!$L$2*'WS Calcs'!$L$3*('BMP Calcs'!D355/12))*Assignments!$D38*'BMP Calcs'!D162*2.72)","v":0},{"$f":"IF(Assignments!D38=\"NA\",0,('WS Calcs'!$L$2*'WS Calcs'!$L$3*('BMP Calcs'!E355/12))*Assignments!$D38*'BMP Calcs'!E162*2.72)","v":0},null,{"$f":"IF(Assignments!D38=\"NA\",0,('WS Calcs'!$L$2*'WS Calcs'!$L$3*('BMP Calcs'!G355/12))*Assignments!$D38*'BMP Calcs'!G162*2.72)","v":0},{"$f":"IF(Assignments!D38=\"NA\",0,('WS Calcs'!$L$2*'WS Calcs'!$L$3*('BMP Calcs'!H355/12))*Assignments!$D38*'BMP Calcs'!H162*2.72)","v":0},{"$f":"IF(Assignments!D38=\"NA\",0,('WS Calcs'!$L$2*'WS Calcs'!$L$3*('BMP Calcs'!I355/12))*Assignments!$D38*'BMP Calcs'!I162*2.72)","v":0},null,{"$f":"IF(Assignments!D38=\"NA\",0,('WS Calcs'!$L$2*'WS Calcs'!$L$3*('BMP Calcs'!K355/12))*Assignments!$D38*'BMP Calcs'!K162*2.72)","v":0},{"$f":"IF(Assignments!D38=\"NA\",0,('WS Calcs'!$L$2*'WS Calcs'!$L$3*('BMP Calcs'!L355/12))*Assignments!$D38*'BMP Calcs'!L162*2.72)","v":0},{"$f":"IF(Assignments!D38=\"NA\",0,('WS Calcs'!$L$2*'WS Calcs'!$L$3*('BMP Calcs'!M355/12))*Assignments!$D38*'BMP Calcs'!M162*2.72)","v":0},null,{"$f":"IF(Assignments!D38=\"NA\",0,('WS Calcs'!$L$2*'WS Calcs'!$L$3*('BMP Calcs'!O355/12))*Assignments!$D38*'BMP Calcs'!O162*2.72)","v":0},{"$f":"IF(Assignments!D38=\"NA\",0,('WS Calcs'!$L$2*'WS Calcs'!$L$3*('BMP Calcs'!P355/12))*Assignments!$D38*'BMP Calcs'!P162*2.72)","v":0},{"$f":"IF(Assignments!D38=\"NA\",0,('WS Calcs'!$L$2*'WS Calcs'!$L$3*('BMP Calcs'!Q355/12))*Assignments!$D38*'BMP Calcs'!Q162*2.72)","v":0},null,{"$f":"IF(Assignments!D38=\"NA\",0,('WS Calcs'!$L$2*'WS Calcs'!$L$3*('BMP Calcs'!S355/12))*Assignments!$D38*'BMP Calcs'!S162*2.72)","v":0},{"$f":"IF(Assignments!D38=\"NA\",0,('WS Calcs'!$L$2*'WS Calcs'!$L$3*('BMP Calcs'!T355/12))*Assignments!$D38*'BMP Calcs'!T162*2.72)","v":0},{"$f":"IF(Assignments!D38=\"NA\",0,('WS Calcs'!$L$2*'WS Calcs'!$L$3*('BMP Calcs'!U355/12))*Assignments!$D38*'BMP Calcs'!U162*2.72)","v":0},null,{"$f":"IF(Assignments!D38=\"NA\",0,('WS Calcs'!$L$2*'WS Calcs'!$L$3*('BMP Calcs'!W355/12))*Assignments!$D38*'BMP Calcs'!W162*2.72)","v":0},{"$f":"IF(Assignments!D38=\"NA\",0,('WS Calcs'!$L$2*'WS Calcs'!$L$3*('BMP Calcs'!X355/12))*Assignments!$D38*'BMP Calcs'!X162*2.72)","v":0},{"$f":"IF(Assignments!D38=\"NA\",0,('WS Calcs'!$L$2*'WS Calcs'!$L$3*('BMP Calcs'!Y355/12))*Assignments!$D38*'BMP Calcs'!Y162*2.72)","v":0},null,null,null,{"$f":"IF(Assignments!D38=\"NA\",0,('WS Calcs'!$L$2*'WS Calcs'!$L$3*('BMP Calcs'!AC355/12))*Assignments!$D38*'BMP Calcs'!AC162*2.72)","v":0},{"$f":"IF(Assignments!D38=\"NA\",0,('WS Calcs'!$L$2*'WS Calcs'!$L$3*('BMP Calcs'!AD355/12))*Assignments!$D38*'BMP Calcs'!AD162*2.72)","v":0}]
[null,"     Blank 2",{"$f":"IF(Assignments!D39=\"NA\",0,('WS Calcs'!$L$2*'BMP Calcs'!C356/12)*Assignments!$D39*'BMP Calcs'!C163*2.72)","v":0},{"$f":"IF(Assignments!D39=\"NA\",0,('WS Calcs'!$L$2*'WS Calcs'!$L$3*('BMP Calcs'!D356/12))*Assignments!$D39*'BMP Calcs'!D163*2.72)","v":0},{"$f":"IF(Assignments!D39=\"NA\",0,('WS Calcs'!$L$2*'WS Calcs'!$L$3*('BMP Calcs'!E356/12))*Assignments!$D39*'BMP Calcs'!E163*2.72)","v":0},null,{"$f":"IF(Assignments!D39=\"NA\",0,('WS Calcs'!$L$2*'WS Calcs'!$L$3*('BMP Calcs'!G356/12))*Assignments!$D39*'BMP Calcs'!G163*2.72)","v":0},{"$f":"IF(Assignments!D39=\"NA\",0,('WS Calcs'!$L$2*'WS Calcs'!$L$3*('BMP Calcs'!H356/12))*Assignments!$D39*'BMP Calcs'!H163*2.72)","v":0},{"$f":"IF(Assignments!D39=\"NA\",0,('WS Calcs'!$L$2*'WS Calcs'!$L$3*('BMP Calcs'!I356/12))*Assignments!$D39*'BMP Calcs'!I163*2.72)","v":0},null,{"$f":"IF(Assignments!D39=\"NA\",0,('WS Calcs'!$L$2*'WS Calcs'!$L$3*('BMP Calcs'!K356/12))*Assignments!$D39*'BMP Calcs'!K163*2.72)","v":0},{"$f":"IF(Assignments!D39=\"NA\",0,('WS Calcs'!$L$2*'WS Calcs'!$L$3*('BMP Calcs'!L356/12))*Assignments!$D39*'BMP Calcs'!L163*2.72)","v":0},{"$f":"IF(Assignments!D39=\"NA\",0,('WS Calcs'!$L$2*'WS Calcs'!$L$3*('BMP Calcs'!M356/12))*Assignments!$D39*'BMP Calcs'!M163*2.72)","v":0},null,{"$f":"IF(Assignments!D39=\"NA\",0,('WS Calcs'!$L$2*'WS Calcs'!$L$3*('BMP Calcs'!O356/12))*Assignments!$D39*'BMP Calcs'!O163*2.72)","v":0},{"$f":"IF(Assignments!D39=\"NA\",0,('WS Calcs'!$L$2*'WS Calcs'!$L$3*('BMP Calcs'!P356/12))*Assignments!$D39*'BMP Calcs'!P163*2.72)","v":0},{"$f":"IF(Assignments!D39=\"NA\",0,('WS Calcs'!$L$2*'WS Calcs'!$L$3*('BMP Calcs'!Q356/12))*Assignments!$D39*'BMP Calcs'!Q163*2.72)","v":0},null,{"$f":"IF(Assignments!D39=\"NA\",0,('WS Calcs'!$L$2*'WS Calcs'!$L$3*('BMP Calcs'!S356/12))*Assignments!$D39*'BMP Calcs'!S163*2.72)","v":0},{"$f":"IF(Assignments!D39=\"NA\",0,('WS Calcs'!$L$2*'WS Calcs'!$L$3*('BMP Calcs'!T356/12))*Assignments!$D39*'BMP Calcs'!T163*2.72)","v":0},{"$f":"IF(Assignments!D39=\"NA\",0,('WS Calcs'!$L$2*'WS Calcs'!$L$3*('BMP Calcs'!U356/12))*Assignments!$D39*'BMP Calcs'!U163*2.72)","v":0},null,{"$f":"IF(Assignments!D39=\"NA\",0,('WS Calcs'!$L$2*'WS Calcs'!$L$3*('BMP Calcs'!W356/12))*Assignments!$D39*'BMP Calcs'!W163*2.72)","v":0},{"$f":"IF(Assignments!D39=\"NA\",0,('WS Calcs'!$L$2*'WS Calcs'!$L$3*('BMP Calcs'!X356/12))*Assignments!$D39*'BMP Calcs'!X163*2.72)","v":0},{"$f":"IF(Assignments!D39=\"NA\",0,('WS Calcs'!$L$2*'WS Calcs'!$L$3*('BMP Calcs'!Y356/12))*Assignments!$D39*'BMP Calcs'!Y163*2.72)","v":0},null,null,null,{"$f":"IF(Assignments!D39=\"NA\",0,('WS Calcs'!$L$2*'WS Calcs'!$L$3*('BMP Calcs'!AC356/12))*Assignments!$D39*'BMP Calcs'!AC163*2.72)","v":0},{"$f":"IF(Assignments!D39=\"NA\",0,('WS Calcs'!$L$2*'WS Calcs'!$L$3*('BMP Calcs'!AD356/12))*Assignments!$D39*'BMP Calcs'!AD163*2.72)","v":0}]
[null,"RESIDENTIAL",{"$f":"('WS Calcs'!$L$2*'BMP Calcs'!C357/12)*Assignments!$D40*'BMP Calcs'!C164*2.72","v":{"$error":"#N/A"}},{"$f":"('WS Calcs'!$L$2*'WS Calcs'!$L$3*('BMP Calcs'!D357/12))*Assignments!$D40*'BMP Calcs'!D164*2.72","v":{"$error":"#N/A"}},{"$f":"('WS Calcs'!$L$2*'WS Calcs'!$L$3*('BMP Calcs'!E357/12))*Assignments!$D40*'BMP Calcs'!E164*2.72","v":{"$error":"#N/A"}},null,{"$f":"('WS Calcs'!$L$2*'WS Calcs'!$L$3*('BMP Calcs'!G357/12))*Assignments!$D40*'BMP Calcs'!G164*2.72","v":{"$error":"#N/A"}},{"$f":"('WS Calcs'!$L$2*'WS Calcs'!$L$3*('BMP Calcs'!H357/12))*Assignments!$D40*'BMP Calcs'!H164*2.72","v":{"$error":"#N/A"}},{"$f":"('WS Calcs'!$L$2*'WS Calcs'!$L$3*('BMP Calcs'!I357/12))*Assignments!$D40*'BMP Calcs'!I164*2.72","v":{"$error":"#N/A"}},null,{"$f":"('WS Calcs'!$L$2*'WS Calcs'!$L$3*('BMP Calcs'!K357/12))*Assignments!$D40*'BMP Calcs'!K164*2.72","v":{"$error":"#N/A"}},{"$f":"('WS Calcs'!$L$2*'WS Calcs'!$L$3*('BMP Calcs'!L357/12))*Assignments!$D40*'BMP Calcs'!L164*2.72","v":{"$error":"#N/A"}},{"$f":"('WS Calcs'!$L$2*'WS Calcs'!$L$3*('BMP Calcs'!M357/12))*Assignments!$D40*'BMP Calcs'!M164*2.72","v":{"$error":"#N/A"}},null,{"$f":"('WS Calcs'!$L$2*'WS Calcs'!$L$3*('BMP Calcs'!O357/12))*Assignments!$D40*'BMP Calcs'!O164*2.72","v":{"$error":"#N/A"}},{"$f":"('WS Calcs'!$L$2*'WS Calcs'!$L$3*('BMP Calcs'!P357/12))*Assignments!$D40*'BMP Calcs'!P164*2.72","v":{"$error":"#N/A"}},{"$f":"('WS Calcs'!$L$2*'WS Calcs'!$L$3*('BMP Calcs'!Q357/12))*Assignments!$D40*'BMP Calcs'!Q164*2.72","v":{"$error":"#N/A"}},null,{"$f":"('WS Calcs'!$L$2*'WS Calcs'!$L$3*('BMP Calcs'!S357/12))*Assignments!$D40*'BMP Calcs'!S164*2.72","v":{"$error":"#N/A"}},{"$f":"('WS Calcs'!$L$2*'WS Calcs'!$L$3*('BMP Calcs'!T357/12))*Assignments!$D40*'BMP Calcs'!T164*2.72","v":{"$error":"#N/A"}},{"$f":"('WS Calcs'!$L$2*'WS Calcs'!$L$3*('BMP Calcs'!U357/12))*Assignments!$D40*'BMP Calcs'!U164*2.72","v":{"$error":"#N/A"}},null,{"$f":"('WS Calcs'!$L$2*'WS Calcs'!$L$3*('BMP Calcs'!W357/12))*Assignments!$D40*'BMP Calcs'!W164*2.72","v":{"$error":"#N/A"}},{"$f":"('WS Calcs'!$L$2*'WS Calcs'!$L$3*('BMP Calcs'!X357/12))*Assignments!$D40*'BMP Calcs'!X164*2.72","v":{"$error":"#N/A"}},{"$f":"('WS Calcs'!$L$2*'WS Calcs'!$L$3*('BMP Calcs'!Y357/12))*Assignments!$D40*'BMP Calcs'!Y164*2.72","v":{"$error":"#N/A"}},{"$f":"('WS Calcs'!$L$2*'WS Calcs'!$L$3*('BMP Calcs'!Z357/12))*Assignments!$D40*'BMP Calcs'!Z$10*2.72","v":{"$error":"#N/A"}},null,null,{"$f":"('WS Calcs'!$L$2*'WS Calcs'!$L$3*('BMP Calcs'!AC357/12))*Assignments!$D40*'BMP Calcs'!AC164*2.72","v":{"$error":"#N/A"}},{"$f":"('WS Calcs'!$L$2*'WS Calcs'!$L$3*('BMP Calcs'!AD357/12))*Assignments!$D40*'BMP Calcs'!AD164*2.72","v":{"$error":"#N/A"}}]
[null,"     2-ac lots (New)",{"$f":"('WS Calcs'!$L$2*'BMP Calcs'!C358/12)*(MAX(Assignments!$D41,Assignments!$D49))*'BMP Calcs'!C165*2.72","v":{"$error":"#N/A"}},{"$f":"('WS Calcs'!$L$2*'WS Calcs'!$L$3*'BMP Calcs'!D358/12)*(MAX(Assignments!$D41,Assignments!$D49))*'BMP Calcs'!D165*2.72","v":{"$error":"#N/A"}},{"$f":"('WS Calcs'!$L$2*'WS Calcs'!$L$3*'BMP Calcs'!E358/12)*(MAX(Assignments!$D41,Assignments!$D49))*'BMP Calcs'!E165*2.72","v":{"$error":"#N/A"}},{"$f":"('WS Calcs'!$L$2*'WS Calcs'!$L$3*'BMP Calcs'!F358/12)*(MAX(Assignments!$D41,Assignments!$D49))*'BMP Calcs'!F165*2.72","v":{"$error":"#N/A"}},{"$f":"('WS Calcs'!$L$2*'WS Calcs'!$L$3*'BMP Calcs'!G358/12)*(MAX(Assignments!$D41,Assignments!$D49))*'BMP Calcs'!G165*2.72","v":{"$error":"#N/A"}},{"$f":"('WS Calcs'!$L$2*'WS Calcs'!$L$3*'BMP Calcs'!H358/12)*(MAX(Assignments!$D41,Assignments!$D49))*'BMP Calcs'!H165*2.72","v":{"$error":"#N/A"}},{"$f":"('WS Calcs'!$L$2*'WS Calcs'!$L$3*'BMP Calcs'!I358/12)*(MAX(Assignments!$D41,Assignments!$D49))*'BMP Calcs'!I165*2.72","v":{"$error":"#N/A"}},{"$f":"('WS Calcs'!$L$2*'WS Calcs'!$L$3*'BMP Calcs'!J358/12)*(MAX(Assignments!$D41,Assignments!$D49))*'BMP Calcs'!J165*2.72","v":{"$error":"#N/A"}},{"$f":"('WS Calcs'!$L$2*'WS Calcs'!$L$3*'BMP Calcs'!K358/12)*(MAX(Assignments!$D41,Assignments!$D49))*'BMP Calcs'!K165*2.72","v":{"$error":"#N/A"}},{"$f":"('WS Calcs'!$L$2*'WS Calcs'!$L$3*'BMP Calcs'!L358/12)*(MAX(Assignments!$D41,Assignments!$D49))*'BMP Calcs'!L165*2.72","v":{"$error":"#N/A"}},{"$f":"('WS Calcs'!$L$2*'WS Calcs'!$L$3*'BMP Calcs'!M358/12)*(MAX(Assignments!$D41,Assignments!$D49))*'BMP Calcs'!M165*2.72","v":{"$error":"#N/A"}},{"$f":"('WS Calcs'!$L$2*'WS Calcs'!$L$3*'BMP Calcs'!N358/12)*(MAX(Assignments!$D41,Assignments!$D49))*'BMP Calcs'!N165*2.72","v":{"$error":"#N/A"}},{"$f":"('WS Calcs'!$L$2*'WS Calcs'!$L$3*'BMP Calcs'!O358/12)*(MAX(Assignments!$D41,Assignments!$D49))*'BMP Calcs'!O165*2.72","v":{"$error":"#N/A"}},{"$f":"('WS Calcs'!$L$2*'WS Calcs'!$L$3*'BMP Calcs'!P358/12)*(MAX(Assignments!$D41,Assignments!$D49))*'BMP Calcs'!P165*2.72","v":{"$error":"#N/A"}},{"$f":"('WS Calcs'!$L$2*'WS Calcs'!$L$3*'BMP Calcs'!Q358/12)*(MAX(Assignments!$D41,Assignments!$D49))*'BMP Calcs'!Q165*2.72","v":{"$error":"#N/A"}},{"$f":"('WS Calcs'!$L$2*'WS Calcs'!$L$3*'BMP Calcs'!R358/12)*(MAX(Assignments!$D41,Assignments!$D49))*'BMP Calcs'!R165*2.72","v":{"$error":"#N/A"}},{"$f":"('WS Calcs'!$L$2*'WS Calcs'!$L$3*'BMP Calcs'!S358/12)*(MAX(Assignments!$D41,Assignments!$D49))*'BMP Calcs'!S165*2.72","v":{"$error":"#N/A"}},{"$f":"('WS Calcs'!$L$2*'WS Calcs'!$L$3*'BMP Calcs'!T358/12)*(MAX(Assignments!$D41,Assignments!$D49))*'BMP Calcs'!T165*2.72","v":{"$error":"#N/A"}},{"$f":"('WS Calcs'!$L$2*'WS Calcs'!$L$3*'BMP Calcs'!U358/12)*(MAX(Assignments!$D41,Assignments!$D49))*'BMP Calcs'!U165*2.72","v":{"$error":"#N/A"}},{"$f":"('WS Calcs'!$L$2*'WS Calcs'!$L$3*'BMP Calcs'!V358/12)*(MAX(Assignments!$D41,Assignments!$D49))*'BMP Calcs'!V165*2.72","v":{"$error":"#N/A"}},{"$f":"('WS Calcs'!$L$2*'WS Calcs'!$L$3*'BMP Calcs'!W358/12)*(MAX(Assignments!$D41,Assignments!$D49))*'BMP Calcs'!W165*2.72","v":{"$error":"#N/A"}},{"$f":"('WS Calcs'!$L$2*'WS Calcs'!$L$3*'BMP Calcs'!X358/12)*(MAX(Assignments!$D41,Assignments!$D49))*'BMP Calcs'!X165*2.72","v":{"$error":"#N/A"}},{"$f":"('WS Calcs'!$L$2*'WS Calcs'!$L$3*'BMP Calcs'!Y358/12)*(MAX(Assignments!$D41,Assignments!$D49))*'BMP Calcs'!Y165*2.72","v":{"$error":"#N/A"}},{"$f":"('WS Calcs'!$L$2*'WS Calcs'!$L$3*'BMP Calcs'!Z358/12)*(MAX(Assignments!$D41,Assignments!$D49))*'BMP Calcs'!Z165*2.72","v":{"$error":"#N/A"}},null,null,{"$f":"('WS Calcs'!$L$2*'WS Calcs'!$L$3*'BMP Calcs'!AC358/12)*(MAX(Assignments!$D41,Assignments!$D49))*'BMP Calcs'!AC165*2.72","v":{"$error":"#N/A"}},{"$f":"('WS Calcs'!$L$2*'WS Calcs'!$L$3*'BMP Calcs'!AD358/12)*(MAX(Assignments!$D41,Assignments!$D49))*'BMP Calcs'!AD165*2.72","v":{"$error":"#N/A"}}]
[null,"     2-ac lots (Built after 1995)",{"$f":"('WS Calcs'!$L$2*'BMP Calcs'!C359/12)*Assignments!$D41*'BMP Calcs'!C166*2.72","v":{"$error":"#N/A"}},{"$f":"('WS Calcs'!$L$2*'WS Calcs'!$L$3*'BMP Calcs'!D359/12)*Assignments!$D41*'BMP Calcs'!D166*2.72","v":{"$error":"#N/A"}},{"$f":"('WS Calcs'!$L$2*'WS Calcs'!$L$3*'BMP Calcs'!E359/12)*Assignments!$D41*'BMP Calcs'!E166*2.72","v":{"$error":"#N/A"}},{"$f":"('WS Calcs'!$L$2*'WS Calcs'!$L$3*'BMP Calcs'!F359/12)*Assignments!$D41*'BMP Calcs'!F166*2.72","v":{"$error":"#N/A"}},{"$f":"('WS Calcs'!$L$2*'WS Calcs'!$L$3*'BMP Calcs'!G359/12)*Assignments!$D41*'BMP Calcs'!G166*2.72","v":{"$error":"#N/A"}},{"$f":"('WS Calcs'!$L$2*'WS Calcs'!$L$3*'BMP Calcs'!H359/12)*Assignments!$D41*'BMP Calcs'!H166*2.72","v":{"$error":"#N/A"}},{"$f":"('WS Calcs'!$L$2*'WS Calcs'!$L$3*'BMP Calcs'!I359/12)*Assignments!$D41*'BMP Calcs'!I166*2.72","v":{"$error":"#N/A"}},{"$f":"('WS Calcs'!$L$2*'WS Calcs'!$L$3*'BMP Calcs'!J359/12)*Assignments!$D41*'BMP Calcs'!J166*2.72","v":{"$error":"#N/A"}},{"$f":"('WS Calcs'!$L$2*'WS Calcs'!$L$3*'BMP Calcs'!K359/12)*Assignments!$D41*'BMP Calcs'!K166*2.72","v":{"$error":"#N/A"}},{"$f":"('WS Calcs'!$L$2*'WS Calcs'!$L$3*'BMP Calcs'!L359/12)*Assignments!$D41*'BMP Calcs'!L166*2.72","v":{"$error":"#N/A"}},{"$f":"('WS Calcs'!$L$2*'WS Calcs'!$L$3*'BMP Calcs'!M359/12)*Assignments!$D41*'BMP Calcs'!M166*2.72","v":{"$error":"#N/A"}},{"$f":"('WS Calcs'!$L$2*'WS Calcs'!$L$3*'BMP Calcs'!N359/12)*Assignments!$D41*'BMP Calcs'!N166*2.72","v":{"$error":"#N/A"}},{"$f":"('WS Calcs'!$L$2*'WS Calcs'!$L$3*'BMP Calcs'!O359/12)*Assignments!$D41*'BMP Calcs'!O166*2.72","v":{"$error":"#N/A"}},{"$f":"('WS Calcs'!$L$2*'WS Calcs'!$L$3*'BMP Calcs'!P359/12)*Assignments!$D41*'BMP Calcs'!P166*2.72","v":{"$error":"#N/A"}},{"$f":"('WS Calcs'!$L$2*'WS Calcs'!$L$3*'BMP Calcs'!Q359/12)*Assignments!$D41*'BMP Calcs'!Q166*2.72","v":{"$error":"#N/A"}},{"$f":"('WS Calcs'!$L$2*'WS Calcs'!$L$3*'BMP Calcs'!R359/12)*Assignments!$D41*'BMP Calcs'!R166*2.72","v":{"$error":"#N/A"}},{"$f":"('WS Calcs'!$L$2*'WS Calcs'!$L$3*'BMP Calcs'!S359/12)*Assignments!$D41*'BMP Calcs'!S166*2.72","v":{"$error":"#N/A"}},{"$f":"('WS Calcs'!$L$2*'WS Calcs'!$L$3*'BMP Calcs'!T359/12)*Assignments!$D41*'BMP Calcs'!T166*2.72","v":{"$error":"#N/A"}},{"$f":"('WS Calcs'!$L$2*'WS Calcs'!$L$3*'BMP Calcs'!U359/12)*Assignments!$D41*'BMP Calcs'!U166*2.72","v":{"$error":"#N/A"}},{"$f":"('WS Calcs'!$L$2*'WS Calcs'!$L$3*'BMP Calcs'!V359/12)*Assignments!$D41*'BMP Calcs'!V166*2.72","v":{"$error":"#N/A"}},{"$f":"('WS Calcs'!$L$2*'WS Calcs'!$L$3*'BMP Calcs'!W359/12)*Assignments!$D41*'BMP Calcs'!W166*2.72","v":{"$error":"#N/A"}},{"$f":"('WS Calcs'!$L$2*'WS Calcs'!$L$3*'BMP Calcs'!X359/12)*Assignments!$D41*'BMP Calcs'!X166*2.72","v":{"$error":"#N/A"}},{"$f":"('WS Calcs'!$L$2*'WS Calcs'!$L$3*'BMP Calcs'!Y359/12)*Assignments!$D41*'BMP Calcs'!Y166*2.72","v":{"$error":"#N/A"}},{"$f":"('WS Calcs'!$L$2*'WS Calcs'!$L$3*('BMP Calcs'!Z359/12))*Assignments!$D41*'BMP Calcs'!Z$10*2.72","v":{"$error":"#N/A"}},null,null,{"$f":"('WS Calcs'!$L$2*'WS Calcs'!$L$3*('BMP Calcs'!AC359/12))*Assignments!$D41*'BMP Calcs'!AC166*2.72","v":{"$error":"#N/A"}},{"$f":"('WS Calcs'!$L$2*'WS Calcs'!$L$3*('BMP Calcs'!AD359/12))*Assignments!$D41*'BMP Calcs'!AD166*2.72","v":{"$error":"#N/A"}}]
[null,"     2-ac lots (Built before 1995)",{"$f":"('WS Calcs'!$L$2*'BMP Calcs'!C360/12)*Assignments!$D49*'BMP Calcs'!C167*2.72","v":{"$error":"#N/A"}},{"$f":"('WS Calcs'!$L$2*'WS Calcs'!$L$3*'BMP Calcs'!D360/12)*Assignments!$D49*'BMP Calcs'!D167*2.72","v":{"$error":"#N/A"}},{"$f":"('WS Calcs'!$L$2*'WS Calcs'!$L$3*'BMP Calcs'!E360/12)*Assignments!$D49*'BMP Calcs'!E167*2.72","v":{"$error":"#N/A"}},{"$f":"('WS Calcs'!$L$2*'WS Calcs'!$L$3*'BMP Calcs'!F360/12)*Assignments!$D49*'BMP Calcs'!F167*2.72","v":{"$error":"#N/A"}},{"$f":"('WS Calcs'!$L$2*'WS Calcs'!$L$3*'BMP Calcs'!G360/12)*Assignments!$D49*'BMP Calcs'!G167*2.72","v":{"$error":"#N/A"}},{"$f":"('WS Calcs'!$L$2*'WS Calcs'!$L$3*'BMP Calcs'!H360/12)*Assignments!$D49*'BMP Calcs'!H167*2.72","v":{"$error":"#N/A"}},{"$f":"('WS Calcs'!$L$2*'WS Calcs'!$L$3*'BMP Calcs'!I360/12)*Assignments!$D49*'BMP Calcs'!I167*2.72","v":{"$error":"#N/A"}},{"$f":"('WS Calcs'!$L$2*'WS Calcs'!$L$3*'BMP Calcs'!J360/12)*Assignments!$D49*'BMP Calcs'!J167*2.72","v":{"$error":"#N/A"}},{"$f":"('WS Calcs'!$L$2*'WS Calcs'!$L$3*'BMP Calcs'!K360/12)*Assignments!$D49*'BMP Calcs'!K167*2.72","v":{"$error":"#N/A"}},{"$f":"('WS Calcs'!$L$2*'WS Calcs'!$L$3*'BMP Calcs'!L360/12)*Assignments!$D49*'BMP Calcs'!L167*2.72","v":{"$error":"#N/A"}},{"$f":"('WS Calcs'!$L$2*'WS Calcs'!$L$3*'BMP Calcs'!M360/12)*Assignments!$D49*'BMP Calcs'!M167*2.72","v":{"$error":"#N/A"}},{"$f":"('WS Calcs'!$L$2*'WS Calcs'!$L$3*'BMP Calcs'!N360/12)*Assignments!$D49*'BMP Calcs'!N167*2.72","v":{"$error":"#N/A"}},{"$f":"('WS Calcs'!$L$2*'WS Calcs'!$L$3*'BMP Calcs'!O360/12)*Assignments!$D49*'BMP Calcs'!O167*2.72","v":{"$error":"#N/A"}},{"$f":"('WS Calcs'!$L$2*'WS Calcs'!$L$3*'BMP Calcs'!P360/12)*Assignments!$D49*'BMP Calcs'!P167*2.72","v":{"$error":"#N/A"}},{"$f":"('WS Calcs'!$L$2*'WS Calcs'!$L$3*'BMP Calcs'!Q360/12)*Assignments!$D49*'BMP Calcs'!Q167*2.72","v":{"$error":"#N/A"}},{"$f":"('WS Calcs'!$L$2*'WS Calcs'!$L$3*'BMP Calcs'!R360/12)*Assignments!$D49*'BMP Calcs'!R167*2.72","v":{"$error":"#N/A"}},{"$f":"('WS Calcs'!$L$2*'WS Calcs'!$L$3*'BMP Calcs'!S360/12)*Assignments!$D49*'BMP Calcs'!S167*2.72","v":{"$error":"#N/A"}},{"$f":"('WS Calcs'!$L$2*'WS Calcs'!$L$3*'BMP Calcs'!T360/12)*Assignments!$D49*'BMP Calcs'!T167*2.72","v":{"$error":"#N/A"}},{"$f":"('WS Calcs'!$L$2*'WS Calcs'!$L$3*'BMP Calcs'!U360/12)*Assignments!$D49*'BMP Calcs'!U167*2.72","v":{"$error":"#N/A"}},{"$f":"('WS Calcs'!$L$2*'WS Calcs'!$L$3*'BMP Calcs'!V360/12)*Assignments!$D49*'BMP Calcs'!V167*2.72","v":{"$error":"#N/A"}},{"$f":"('WS Calcs'!$L$2*'WS Calcs'!$L$3*'BMP Calcs'!W360/12)*Assignments!$D49*'BMP Calcs'!W167*2.72","v":{"$error":"#N/A"}},{"$f":"('WS Calcs'!$L$2*'WS Calcs'!$L$3*'BMP Calcs'!X360/12)*Assignments!$D49*'BMP Calcs'!X167*2.72","v":{"$error":"#N/A"}},{"$f":"('WS Calcs'!$L$2*'WS Calcs'!$L$3*'BMP Calcs'!Y360/12)*Assignments!$D49*'BMP Calcs'!Y167*2.72","v":{"$error":"#N/A"}},{"$f":"('WS Calcs'!$L$2*'WS Calcs'!$L$3*('BMP Calcs'!Z360/12))*Assignments!$D49*'BMP Calcs'!Z$10*2.72","v":{"$error":"#N/A"}},null,null,{"$f":"('WS Calcs'!$L$2*'WS Calcs'!$L$3*('BMP Calcs'!AC360/12))*Assignments!$D42*'BMP Calcs'!AC167*2.72","v":{"$error":"#N/A"}},{"$f":"('WS Calcs'!$L$2*'WS Calcs'!$L$3*('BMP Calcs'!AD360/12))*Assignments!$D42*'BMP Calcs'!AD167*2.72","v":{"$error":"#N/A"}}]
[null,"     1-ac lots (New)",{"$f":"('WS Calcs'!$L$2*'BMP Calcs'!C361/12)*(MAX(Assignments!$D42,Assignments!$D50))*'BMP Calcs'!C168*2.72","v":{"$error":"#N/A"}},{"$f":"('WS Calcs'!$L$2*'WS Calcs'!$L$3*'BMP Calcs'!D361/12)*(MAX(Assignments!$D42,Assignments!$D50))*'BMP Calcs'!D168*2.72","v":{"$error":"#N/A"}},{"$f":"('WS Calcs'!$L$2*'WS Calcs'!$L$3*'BMP Calcs'!E361/12)*(MAX(Assignments!$D42,Assignments!$D50))*'BMP Calcs'!E168*2.72","v":{"$error":"#N/A"}},{"$f":"('WS Calcs'!$L$2*'WS Calcs'!$L$3*'BMP Calcs'!F361/12)*(MAX(Assignments!$D42,Assignments!$D50))*'BMP Calcs'!F168*2.72","v":{"$error":"#N/A"}},{"$f":"('WS Calcs'!$L$2*'WS Calcs'!$L$3*'BMP Calcs'!G361/12)*(MAX(Assignments!$D42,Assignments!$D50))*'BMP Calcs'!G168*2.72","v":{"$error":"#N/A"}},{"$f":"('WS Calcs'!$L$2*'WS Calcs'!$L$3*'BMP Calcs'!H361/12)*(MAX(Assignments!$D42,Assignments!$D50))*'BMP Calcs'!H168*2.72","v":{"$error":"#N/A"}},{"$f":"('WS Calcs'!$L$2*'WS Calcs'!$L$3*'BMP Calcs'!I361/12)*(MAX(Assignments!$D42,Assignments!$D50))*'BMP Calcs'!I168*2.72","v":{"$error":"#N/A"}},{"$f":"('WS Calcs'!$L$2*'WS Calcs'!$L$3*'BMP Calcs'!J361/12)*(MAX(Assignments!$D42,Assignments!$D50))*'BMP Calcs'!J168*2.72","v":{"$error":"#N/A"}},{"$f":"('WS Calcs'!$L$2*'WS Calcs'!$L$3*'BMP Calcs'!K361/12)*(MAX(Assignments!$D42,Assignments!$D50))*'BMP Calcs'!K168*2.72","v":{"$error":"#N/A"}},{"$f":"('WS Calcs'!$L$2*'WS Calcs'!$L$3*'BMP Calcs'!L361/12)*(MAX(Assignments!$D42,Assignments!$D50))*'BMP Calcs'!L168*2.72","v":{"$error":"#N/A"}},{"$f":"('WS Calcs'!$L$2*'WS Calcs'!$L$3*'BMP Calcs'!M361/12)*(MAX(Assignments!$D42,Assignments!$D50))*'BMP Calcs'!M168*2.72","v":{"$error":"#N/A"}},{"$f":"('WS Calcs'!$L$2*'WS Calcs'!$L$3*'BMP Calcs'!N361/12)*(MAX(Assignments!$D42,Assignments!$D50))*'BMP Calcs'!N168*2.72","v":{"$error":"#N/A"}},{"$f":"('WS Calcs'!$L$2*'WS Calcs'!$L$3*'BMP Calcs'!O361/12)*(MAX(Assignments!$D42,Assignments!$D50))*'BMP Calcs'!O168*2.72","v":{"$error":"#N/A"}},{"$f":"('WS Calcs'!$L$2*'WS Calcs'!$L$3*'BMP Calcs'!P361/12)*(MAX(Assignments!$D42,Assignments!$D50))*'BMP Calcs'!P168*2.72","v":{"$error":"#N/A"}},{"$f":"('WS Calcs'!$L$2*'WS Calcs'!$L$3*'BMP Calcs'!Q361/12)*(MAX(Assignments!$D42,Assignments!$D50))*'BMP Calcs'!Q168*2.72","v":{"$error":"#N/A"}},{"$f":"('WS Calcs'!$L$2*'WS Calcs'!$L$3*'BMP Calcs'!R361/12)*(MAX(Assignments!$D42,Assignments!$D50))*'BMP Calcs'!R168*2.72","v":{"$error":"#N/A"}},{"$f":"('WS Calcs'!$L$2*'WS Calcs'!$L$3*'BMP Calcs'!S361/12)*(MAX(Assignments!$D42,Assignments!$D50))*'BMP Calcs'!S168*2.72","v":{"$error":"#N/A"}},{"$f":"('WS Calcs'!$L$2*'WS Calcs'!$L$3*'BMP Calcs'!T361/12)*(MAX(Assignments!$D42,Assignments!$D50))*'BMP Calcs'!T168*2.72","v":{"$error":"#N/A"}},{"$f":"('WS Calcs'!$L$2*'WS Calcs'!$L$3*'BMP Calcs'!U361/12)*(MAX(Assignments!$D42,Assignments!$D50))*'BMP Calcs'!U168*2.72","v":{"$error":"#N/A"}},{"$f":"('WS Calcs'!$L$2*'WS Calcs'!$L$3*'BMP Calcs'!V361/12)*(MAX(Assignments!$D42,Assignments!$D50))*'BMP Calcs'!V168*2.72","v":{"$error":"#N/A"}},{"$f":"('WS Calcs'!$L$2*'WS Calcs'!$L$3*'BMP Calcs'!W361/12)*(MAX(Assignments!$D42,Assignments!$D50))*'BMP Calcs'!W168*2.72","v":{"$error":"#N/A"}},{"$f":"('WS Calcs'!$L$2*'WS Calcs'!$L$3*'BMP Calcs'!X361/12)*(MAX(Assignments!$D42,Assignments!$D50))*'BMP Calcs'!X168*2.72","v":{"$error":"#N/A"}},{"$f":"('WS Calcs'!$L$2*'WS Calcs'!$L$3*'BMP Calcs'!Y361/12)*(MAX(Assignments!$D42,Assignments!$D50))*'BMP Calcs'!Y168*2.72","v":{"$error":"#N/A"}},{"$f":"('WS Calcs'!$L$2*'WS Calcs'!$L$3*'BMP Calcs'!Z361/12)*(MAX(Assignments!$D42,Assignments!$D50))*'BMP Calcs'!Z168*2.72","v":{"$error":"#N/A"}},null,null,{"$f":"('WS Calcs'!$L$2*'WS Calcs'!$L$3*'BMP Calcs'!AC361/12)*(MAX(Assignments!$D42,Assignments!$D50))*'BMP Calcs'!AC168*2.72","v":{"$error":"#N/A"}},{"$f":"('WS Calcs'!$L$2*'WS Calcs'!$L$3*'BMP Calcs'!AD361/12)*(MAX(Assignments!$D42,Assignments!$D50))*'BMP Calcs'!AD168*2.72","v":{"$error":"#N/A"}}]
[null,"     1-ac lots (Built after 1995)",{"$f":"('WS Calcs'!$L$2*'BMP Calcs'!C362/12)*Assignments!$D42*'BMP Calcs'!C169*2.72","v":{"$error":"#N/A"}},{"$f":"('WS Calcs'!$L$2*'WS Calcs'!$L$3*'BMP Calcs'!D362/12)*Assignments!$D42*'BMP Calcs'!D169*2.72","v":{"$error":"#N/A"}},{"$f":"('WS Calcs'!$L$2*'WS Calcs'!$L$3*'BMP Calcs'!E362/12)*Assignments!$D42*'BMP Calcs'!E169*2.72","v":{"$error":"#N/A"}},{"$f":"('WS Calcs'!$L$2*'WS Calcs'!$L$3*'BMP Calcs'!F362/12)*Assignments!$D42*'BMP Calcs'!F169*2.72","v":{"$error":"#N/A"}},{"$f":"('WS Calcs'!$L$2*'WS Calcs'!$L$3*'BMP Calcs'!G362/12)*Assignments!$D42*'BMP Calcs'!G169*2.72","v":{"$error":"#N/A"}},{"$f":"('WS Calcs'!$L$2*'WS Calcs'!$L$3*'BMP Calcs'!H362/12)*Assignments!$D42*'BMP Calcs'!H169*2.72","v":{"$error":"#N/A"}},{"$f":"('WS Calcs'!$L$2*'WS Calcs'!$L$3*'BMP Calcs'!I362/12)*Assignments!$D42*'BMP Calcs'!I169*2.72","v":{"$error":"#N/A"}},{"$f":"('WS Calcs'!$L$2*'WS Calcs'!$L$3*'BMP Calcs'!J362/12)*Assignments!$D42*'BMP Calcs'!J169*2.72","v":{"$error":"#N/A"}},{"$f":"('WS Calcs'!$L$2*'WS Calcs'!$L$3*'BMP Calcs'!K362/12)*Assignments!$D42*'BMP Calcs'!K169*2.72","v":{"$error":"#N/A"}},{"$f":"('WS Calcs'!$L$2*'WS Calcs'!$L$3*'BMP Calcs'!L362/12)*Assignments!$D42*'BMP Calcs'!L169*2.72","v":{"$error":"#N/A"}},{"$f":"('WS Calcs'!$L$2*'WS Calcs'!$L$3*'BMP Calcs'!M362/12)*Assignments!$D42*'BMP Calcs'!M169*2.72","v":{"$error":"#N/A"}},{"$f":"('WS Calcs'!$L$2*'WS Calcs'!$L$3*'BMP Calcs'!N362/12)*Assignments!$D42*'BMP Calcs'!N169*2.72","v":{"$error":"#N/A"}},{"$f":"('WS Calcs'!$L$2*'WS Calcs'!$L$3*'BMP Calcs'!O362/12)*Assignments!$D42*'BMP Calcs'!O169*2.72","v":{"$error":"#N/A"}},{"$f":"('WS Calcs'!$L$2*'WS Calcs'!$L$3*'BMP Calcs'!P362/12)*Assignments!$D42*'BMP Calcs'!P169*2.72","v":{"$error":"#N/A"}},{"$f":"('WS Calcs'!$L$2*'WS Calcs'!$L$3*'BMP Calcs'!Q362/12)*Assignments!$D42*'BMP Calcs'!Q169*2.72","v":{"$error":"#N/A"}},{"$f":"('WS Calcs'!$L$2*'WS Calcs'!$L$3*'BMP Calcs'!R362/12)*Assignments!$D42*'BMP Calcs'!R169*2.72","v":{"$error":"#N/A"}},{"$f":"('WS Calcs'!$L$2*'WS Calcs'!$L$3*'BMP Calcs'!S362/12)*Assignments!$D42*'BMP Calcs'!S169*2.72","v":{"$error":"#N/A"}},{"$f":"('WS Calcs'!$L$2*'WS Calcs'!$L$3*'BMP Calcs'!T362/12)*Assignments!$D42*'BMP Calcs'!T169*2.72","v":{"$error":"#N/A"}},{"$f":"('WS Calcs'!$L$2*'WS Calcs'!$L$3*'BMP Calcs'!U362/12)*Assignments!$D42*'BMP Calcs'!U169*2.72","v":{"$error":"#N/A"}},{"$f":"('WS Calcs'!$L$2*'WS Calcs'!$L$3*'BMP Calcs'!V362/12)*Assignments!$D42*'BMP Calcs'!V169*2.72","v":{"$error":"#N/A"}},{"$f":"('WS Calcs'!$L$2*'WS Calcs'!$L$3*'BMP Calcs'!W362/12)*Assignments!$D42*'BMP Calcs'!W169*2.72","v":{"$error":"#N/A"}},{"$f":"('WS Calcs'!$L$2*'WS Calcs'!$L$3*'BMP Calcs'!X362/12)*Assignments!$D42*'BMP Calcs'!X169*2.72","v":{"$error":"#N/A"}},{"$f":"('WS Calcs'!$L$2*'WS Calcs'!$L$3*'BMP Calcs'!Y362/12)*Assignments!$D42*'BMP Calcs'!Y169*2.72","v":{"$error":"#N/A"}},{"$f":"('WS Calcs'!$L$2*'WS Calcs'!$L$3*('BMP Calcs'!Z362/12))*Assignments!$D42*'BMP Calcs'!Z$10*2.72","v":{"$error":"#N/A"}},null,null,{"$f":"('WS Calcs'!$L$2*'WS Calcs'!$L$3*('BMP Calcs'!AC362/12))*Assignments!$D43*'BMP Calcs'!AC169*2.72","v":{"$error":"#N/A"}},{"$f":"('WS Calcs'!$L$2*'WS Calcs'!$L$3*('BMP Calcs'!AD362/12))*Assignments!$D43*'BMP Calcs'!AD169*2.72","v":{"$error":"#N/A"}}]
[null,"     1-ac lots (Built before 1995)",{"$f":"('WS Calcs'!$L$2*'BMP Calcs'!C363/12)*Assignments!$D50*'BMP Calcs'!C170*2.72","v":{"$error":"#N/A"}},{"$f":"('WS Calcs'!$L$2*'WS Calcs'!$L$3*'BMP Calcs'!D363/12)*Assignments!$D50*'BMP Calcs'!D170*2.72","v":{"$error":"#N/A"}},{"$f":"('WS Calcs'!$L$2*'WS Calcs'!$L$3*'BMP Calcs'!E363/12)*Assignments!$D50*'BMP Calcs'!E170*2.72","v":{"$error":"#N/A"}},{"$f":"('WS Calcs'!$L$2*'WS Calcs'!$L$3*'BMP Calcs'!F363/12)*Assignments!$D50*'BMP Calcs'!F170*2.72","v":{"$error":"#N/A"}},{"$f":"('WS Calcs'!$L$2*'WS Calcs'!$L$3*'BMP Calcs'!G363/12)*Assignments!$D50*'BMP Calcs'!G170*2.72","v":{"$error":"#N/A"}},{"$f":"('WS Calcs'!$L$2*'WS Calcs'!$L$3*'BMP Calcs'!H363/12)*Assignments!$D50*'BMP Calcs'!H170*2.72","v":{"$error":"#N/A"}},{"$f":"('WS Calcs'!$L$2*'WS Calcs'!$L$3*'BMP Calcs'!I363/12)*Assignments!$D50*'BMP Calcs'!I170*2.72","v":{"$error":"#N/A"}},{"$f":"('WS Calcs'!$L$2*'WS Calcs'!$L$3*'BMP Calcs'!J363/12)*Assignments!$D50*'BMP Calcs'!J170*2.72","v":{"$error":"#N/A"}},{"$f":"('WS Calcs'!$L$2*'WS Calcs'!$L$3*'BMP Calcs'!K363/12)*Assignments!$D50*'BMP Calcs'!K170*2.72","v":{"$error":"#N/A"}},{"$f":"('WS Calcs'!$L$2*'WS Calcs'!$L$3*'BMP Calcs'!L363/12)*Assignments!$D50*'BMP Calcs'!L170*2.72","v":{"$error":"#N/A"}},{"$f":"('WS Calcs'!$L$2*'WS Calcs'!$L$3*'BMP Calcs'!M363/12)*Assignments!$D50*'BMP Calcs'!M170*2.72","v":{"$error":"#N/A"}},{"$f":"('WS Calcs'!$L$2*'WS Calcs'!$L$3*'BMP Calcs'!N363/12)*Assignments!$D50*'BMP Calcs'!N170*2.72","v":{"$error":"#N/A"}},{"$f":"('WS Calcs'!$L$2*'WS Calcs'!$L$3*'BMP Calcs'!O363/12)*Assignments!$D50*'BMP Calcs'!O170*2.72","v":{"$error":"#N/A"}},{"$f":"('WS Calcs'!$L$2*'WS Calcs'!$L$3*'BMP Calcs'!P363/12)*Assignments!$D50*'BMP Calcs'!P170*2.72","v":{"$error":"#N/A"}},{"$f":"('WS Calcs'!$L$2*'WS Calcs'!$L$3*'BMP Calcs'!Q363/12)*Assignments!$D50*'BMP Calcs'!Q170*2.72","v":{"$error":"#N/A"}},{"$f":"('WS Calcs'!$L$2*'WS Calcs'!$L$3*'BMP Calcs'!R363/12)*Assignments!$D50*'BMP Calcs'!R170*2.72","v":{"$error":"#N/A"}},{"$f":"('WS Calcs'!$L$2*'WS Calcs'!$L$3*'BMP Calcs'!S363/12)*Assignments!$D50*'BMP Calcs'!S170*2.72","v":{"$error":"#N/A"}},{"$f":"('WS Calcs'!$L$2*'WS Calcs'!$L$3*'BMP Calcs'!T363/12)*Assignments!$D50*'BMP Calcs'!T170*2.72","v":{"$error":"#N/A"}},{"$f":"('WS Calcs'!$L$2*'WS Calcs'!$L$3*'BMP Calcs'!U363/12)*Assignments!$D50*'BMP Calcs'!U170*2.72","v":{"$error":"#N/A"}},{"$f":"('WS Calcs'!$L$2*'WS Calcs'!$L$3*'BMP Calcs'!V363/12)*Assignments!$D50*'BMP Calcs'!V170*2.72","v":{"$error":"#N/A"}},{"$f":"('WS Calcs'!$L$2*'WS Calcs'!$L$3*'BMP Calcs'!W363/12)*Assignments!$D50*'BMP Calcs'!W170*2.72","v":{"$error":"#N/A"}},{"$f":"('WS Calcs'!$L$2*'WS Calcs'!$L$3*'BMP Calcs'!X363/12)*Assignments!$D50*'BMP Calcs'!X170*2.72","v":{"$error":"#N/A"}},{"$f":"('WS Calcs'!$L$2*'WS Calcs'!$L$3*'BMP Calcs'!Y363/12)*Assignments!$D50*'BMP Calcs'!Y170*2.72","v":{"$error":"#N/A"}},{"$f":"('WS Calcs'!$L$2*'WS Calcs'!$L$3*('BMP Calcs'!Z363/12))*Assignments!$D50*'BMP Calcs'!Z$10*2.72","v":{"$error":"#N/A"}},null,null,{"$f":"('WS Calcs'!$L$2*'WS Calcs'!$L$3*('BMP Calcs'!AC363/12))*Assignments!$D44*'BMP Calcs'!AC170*2.72","v":{"$error":"#N/A"}},{"$f":"('WS Calcs'!$L$2*'WS Calcs'!$L$3*('BMP Calcs'!AD363/12))*Assignments!$D44*'BMP Calcs'!AD170*2.72","v":{"$error":"#N/A"}}]
[null,"     ½-ac lots (New)",{"$f":"('WS Calcs'!$L$2*'BMP Calcs'!C364/12)*(MAX(Assignments!$D43,Assignments!$D51))*'BMP Calcs'!C171*2.72","v":{"$error":"#N/A"}},{"$f":"('WS Calcs'!$L$2*'WS Calcs'!$L$3*'BMP Calcs'!D364/12)*(MAX(Assignments!$D43,Assignments!$D51))*'BMP Calcs'!D171*2.72","v":{"$error":"#N/A"}},{"$f":"('WS Calcs'!$L$2*'WS Calcs'!$L$3*'BMP Calcs'!E364/12)*(MAX(Assignments!$D43,Assignments!$D51))*'BMP Calcs'!E171*2.72","v":{"$error":"#N/A"}},{"$f":"('WS Calcs'!$L$2*'WS Calcs'!$L$3*'BMP Calcs'!F364/12)*(MAX(Assignments!$D43,Assignments!$D51))*'BMP Calcs'!F171*2.72","v":{"$error":"#N/A"}},{"$f":"('WS Calcs'!$L$2*'WS Calcs'!$L$3*'BMP Calcs'!G364/12)*(MAX(Assignments!$D43,Assignments!$D51))*'BMP Calcs'!G171*2.72","v":{"$error":"#N/A"}},{"$f":"('WS Calcs'!$L$2*'WS Calcs'!$L$3*'BMP Calcs'!H364/12)*(MAX(Assignments!$D43,Assignments!$D51))*'BMP Calcs'!H171*2.72","v":{"$error":"#N/A"}},{"$f":"('WS Calcs'!$L$2*'WS Calcs'!$L$3*'BMP Calcs'!I364/12)*(MAX(Assignments!$D43,Assignments!$D51))*'BMP Calcs'!I171*2.72","v":{"$error":"#N/A"}},{"$f":"('WS Calcs'!$L$2*'WS Calcs'!$L$3*'BMP Calcs'!J364/12)*(MAX(Assignments!$D43,Assignments!$D51))*'BMP Calcs'!J171*2.72","v":{"$error":"#N/A"}},{"$f":"('WS Calcs'!$L$2*'WS Calcs'!$L$3*'BMP Calcs'!K364/12)*(MAX(Assignments!$D43,Assignments!$D51))*'BMP Calcs'!K171*2.72","v":{"$error":"#N/A"}},{"$f":"('WS Calcs'!$L$2*'WS Calcs'!$L$3*'BMP Calcs'!L364/12)*(MAX(Assignments!$D43,Assignments!$D51))*'BMP Calcs'!L171*2.72","v":{"$error":"#N/A"}},{"$f":"('WS Calcs'!$L$2*'WS Calcs'!$L$3*'BMP Calcs'!M364/12)*(MAX(Assignments!$D43,Assignments!$D51))*'BMP Calcs'!M171*2.72","v":{"$error":"#N/A"}},{"$f":"('WS Calcs'!$L$2*'WS Calcs'!$L$3*'BMP Calcs'!N364/12)*(MAX(Assignments!$D43,Assignments!$D51))*'BMP Calcs'!N171*2.72","v":{"$error":"#N/A"}},{"$f":"('WS Calcs'!$L$2*'WS Calcs'!$L$3*'BMP Calcs'!O364/12)*(MAX(Assignments!$D43,Assignments!$D51))*'BMP Calcs'!O171*2.72","v":{"$error":"#N/A"}},{"$f":"('WS Calcs'!$L$2*'WS Calcs'!$L$3*'BMP Calcs'!P364/12)*(MAX(Assignments!$D43,Assignments!$D51))*'BMP Calcs'!P171*2.72","v":{"$error":"#N/A"}},{"$f":"('WS Calcs'!$L$2*'WS Calcs'!$L$3*'BMP Calcs'!Q364/12)*(MAX(Assignments!$D43,Assignments!$D51))*'BMP Calcs'!Q171*2.72","v":{"$error":"#N/A"}},{"$f":"('WS Calcs'!$L$2*'WS Calcs'!$L$3*'BMP Calcs'!R364/12)*(MAX(Assignments!$D43,Assignments!$D51))*'BMP Calcs'!R171*2.72","v":{"$error":"#N/A"}},{"$f":"('WS Calcs'!$L$2*'WS Calcs'!$L$3*'BMP Calcs'!S364/12)*(MAX(Assignments!$D43,Assignments!$D51))*'BMP Calcs'!S171*2.72","v":{"$error":"#N/A"}},{"$f":"('WS Calcs'!$L$2*'WS Calcs'!$L$3*'BMP Calcs'!T364/12)*(MAX(Assignments!$D43,Assignments!$D51))*'BMP Calcs'!T171*2.72","v":{"$error":"#N/A"}},{"$f":"('WS Calcs'!$L$2*'WS Calcs'!$L$3*'BMP Calcs'!U364/12)*(MAX(Assignments!$D43,Assignments!$D51))*'BMP Calcs'!U171*2.72","v":{"$error":"#N/A"}},{"$f":"('WS Calcs'!$L$2*'WS Calcs'!$L$3*'BMP Calcs'!V364/12)*(MAX(Assignments!$D43,Assignments!$D51))*'BMP Calcs'!V171*2.72","v":{"$error":"#N/A"}},{"$f":"('WS Calcs'!$L$2*'WS Calcs'!$L$3*'BMP Calcs'!W364/12)*(MAX(Assignments!$D43,Assignments!$D51))*'BMP Calcs'!W171*2.72","v":{"$error":"#N/A"}},{"$f":"('WS Calcs'!$L$2*'WS Calcs'!$L$3*'BMP Calcs'!X364/12)*(MAX(Assignments!$D43,Assignments!$D51))*'BMP Calcs'!X171*2.72","v":{"$error":"#N/A"}},{"$f":"('WS Calcs'!$L$2*'WS Calcs'!$L$3*'BMP Calcs'!Y364/12)*(MAX(Assignments!$D43,Assignments!$D51))*'BMP Calcs'!Y171*2.72","v":{"$error":"#N/A"}},{"$f":"('WS Calcs'!$L$2*'WS Calcs'!$L$3*'BMP Calcs'!Z364/12)*(MAX(Assignments!$D43,Assignments!$D51))*'BMP Calcs'!Z171*2.72","v":{"$error":"#N/A"}},null,null,{"$f":"('WS Calcs'!$L$2*'WS Calcs'!$L$3*'BMP Calcs'!AC364/12)*(MAX(Assignments!$D43,Assignments!$D51))*'BMP Calcs'!AC171*2.72","v":{"$error":"#N/A"}},{"$f":"('WS Calcs'!$L$2*'WS Calcs'!$L$3*'BMP Calcs'!AD364/12)*(MAX(Assignments!$D43,Assignments!$D51))*'BMP Calcs'!AD171*2.72","v":{"$error":"#N/A"}}]
[null,"     ½-ac lots (Built after 1995)",{"$f":"('WS Calcs'!$L$2*'BMP Calcs'!C365/12)*Assignments!$D43*'BMP Calcs'!C172*2.72","v":{"$error":"#N/A"}},{"$f":"('WS Calcs'!$L$2*'WS Calcs'!$L$3*'BMP Calcs'!D365/12)*Assignments!$D43*'BMP Calcs'!D172*2.72","v":{"$error":"#N/A"}},{"$f":"('WS Calcs'!$L$2*'WS Calcs'!$L$3*'BMP Calcs'!E365/12)*Assignments!$D43*'BMP Calcs'!E172*2.72","v":{"$error":"#N/A"}},{"$f":"('WS Calcs'!$L$2*'WS Calcs'!$L$3*'BMP Calcs'!F365/12)*Assignments!$D43*'BMP Calcs'!F172*2.72","v":{"$error":"#N/A"}},{"$f":"('WS Calcs'!$L$2*'WS Calcs'!$L$3*'BMP Calcs'!G365/12)*Assignments!$D43*'BMP Calcs'!G172*2.72","v":{"$error":"#N/A"}},{"$f":"('WS Calcs'!$L$2*'WS Calcs'!$L$3*'BMP Calcs'!H365/12)*Assignments!$D43*'BMP Calcs'!H172*2.72","v":{"$error":"#N/A"}},{"$f":"('WS Calcs'!$L$2*'WS Calcs'!$L$3*'BMP Calcs'!I365/12)*Assignments!$D43*'BMP Calcs'!I172*2.72","v":{"$error":"#N/A"}},{"$f":"('WS Calcs'!$L$2*'WS Calcs'!$L$3*'BMP Calcs'!J365/12)*Assignments!$D43*'BMP Calcs'!J172*2.72","v":{"$error":"#N/A"}},{"$f":"('WS Calcs'!$L$2*'WS Calcs'!$L$3*'BMP Calcs'!K365/12)*Assignments!$D43*'BMP Calcs'!K172*2.72","v":{"$error":"#N/A"}},{"$f":"('WS Calcs'!$L$2*'WS Calcs'!$L$3*'BMP Calcs'!L365/12)*Assignments!$D43*'BMP Calcs'!L172*2.72","v":{"$error":"#N/A"}},{"$f":"('WS Calcs'!$L$2*'WS Calcs'!$L$3*'BMP Calcs'!M365/12)*Assignments!$D43*'BMP Calcs'!M172*2.72","v":{"$error":"#N/A"}},{"$f":"('WS Calcs'!$L$2*'WS Calcs'!$L$3*'BMP Calcs'!N365/12)*Assignments!$D43*'BMP Calcs'!N172*2.72","v":{"$error":"#N/A"}},{"$f":"('WS Calcs'!$L$2*'WS Calcs'!$L$3*'BMP Calcs'!O365/12)*Assignments!$D43*'BMP Calcs'!O172*2.72","v":{"$error":"#N/A"}},{"$f":"('WS Calcs'!$L$2*'WS Calcs'!$L$3*'BMP Calcs'!P365/12)*Assignments!$D43*'BMP Calcs'!P172*2.72","v":{"$error":"#N/A"}},{"$f":"('WS Calcs'!$L$2*'WS Calcs'!$L$3*'BMP Calcs'!Q365/12)*Assignments!$D43*'BMP Calcs'!Q172*2.72","v":{"$error":"#N/A"}},{"$f":"('WS Calcs'!$L$2*'WS Calcs'!$L$3*'BMP Calcs'!R365/12)*Assignments!$D43*'BMP Calcs'!R172*2.72","v":{"$error":"#N/A"}},{"$f":"('WS Calcs'!$L$2*'WS Calcs'!$L$3*'BMP Calcs'!S365/12)*Assignments!$D43*'BMP Calcs'!S172*2.72","v":{"$error":"#N/A"}},{"$f":"('WS Calcs'!$L$2*'WS Calcs'!$L$3*'BMP Calcs'!T365/12)*Assignments!$D43*'BMP Calcs'!T172*2.72","v":{"$error":"#N/A"}},{"$f":"('WS Calcs'!$L$2*'WS Calcs'!$L$3*'BMP Calcs'!U365/12)*Assignments!$D43*'BMP Calcs'!U172*2.72","v":{"$error":"#N/A"}},{"$f":"('WS Calcs'!$L$2*'WS Calcs'!$L$3*'BMP Calcs'!V365/12)*Assignments!$D43*'BMP Calcs'!V172*2.72","v":{"$error":"#N/A"}},{"$f":"('WS Calcs'!$L$2*'WS Calcs'!$L$3*'BMP Calcs'!W365/12)*Assignments!$D43*'BMP Calcs'!W172*2.72","v":{"$error":"#N/A"}},{"$f":"('WS Calcs'!$L$2*'WS Calcs'!$L$3*'BMP Calcs'!X365/12)*Assignments!$D43*'BMP Calcs'!X172*2.72","v":{"$error":"#N/A"}},{"$f":"('WS Calcs'!$L$2*'WS Calcs'!$L$3*'BMP Calcs'!Y365/12)*Assignments!$D43*'BMP Calcs'!Y172*2.72","v":{"$error":"#N/A"}},{"$f":"('WS Calcs'!$L$2*'WS Calcs'!$L$3*('BMP Calcs'!Z365/12))*Assignments!$D43*'BMP Calcs'!Z$10*2.72","v":{"$error":"#N/A"}},null,null,{"$f":"('WS Calcs'!$L$2*'WS Calcs'!$L$3*('BMP Calcs'!AC365/12))*Assignments!$D45*'BMP Calcs'!AC172*2.72","v":{"$error":"#N/A"}},{"$f":"('WS Calcs'!$L$2*'WS Calcs'!$L$3*('BMP Calcs'!AD365/12))*Assignments!$D45*'BMP Calcs'!AD172*2.72","v":{"$error":"#N/A"}}]
[null,"     ½-ac lots (Built before 1995)",{"$f":"('WS Calcs'!$L$2*'BMP Calcs'!C366/12)*Assignments!$D51*'BMP Calcs'!C173*2.72","v":{"$error":"#N/A"}},{"$f":"('WS Calcs'!$L$2*'WS Calcs'!$L$3*'BMP Calcs'!D366/12)*Assignments!$D51*'BMP Calcs'!D173*2.72","v":{"$error":"#N/A"}},{"$f":"('WS Calcs'!$L$2*'WS Calcs'!$L$3*'BMP Calcs'!E366/12)*Assignments!$D51*'BMP Calcs'!E173*2.72","v":{"$error":"#N/A"}},{"$f":"('WS Calcs'!$L$2*'WS Calcs'!$L$3*'BMP Calcs'!F366/12)*Assignments!$D51*'BMP Calcs'!F173*2.72","v":{"$error":"#N/A"}},{"$f":"('WS Calcs'!$L$2*'WS Calcs'!$L$3*'BMP Calcs'!G366/12)*Assignments!$D51*'BMP Calcs'!G173*2.72","v":{"$error":"#N/A"}},{"$f":"('WS Calcs'!$L$2*'WS Calcs'!$L$3*'BMP Calcs'!H366/12)*Assignments!$D51*'BMP Calcs'!H173*2.72","v":{"$error":"#N/A"}},{"$f":"('WS Calcs'!$L$2*'WS Calcs'!$L$3*'BMP Calcs'!I366/12)*Assignments!$D51*'BMP Calcs'!I173*2.72","v":{"$error":"#N/A"}},{"$f":"('WS Calcs'!$L$2*'WS Calcs'!$L$3*'BMP Calcs'!J366/12)*Assignments!$D51*'BMP Calcs'!J173*2.72","v":{"$error":"#N/A"}},{"$f":"('WS Calcs'!$L$2*'WS Calcs'!$L$3*'BMP Calcs'!K366/12)*Assignments!$D51*'BMP Calcs'!K173*2.72","v":{"$error":"#N/A"}},{"$f":"('WS Calcs'!$L$2*'WS Calcs'!$L$3*'BMP Calcs'!L366/12)*Assignments!$D51*'BMP Calcs'!L173*2.72","v":{"$error":"#N/A"}},{"$f":"('WS Calcs'!$L$2*'WS Calcs'!$L$3*'BMP Calcs'!M366/12)*Assignments!$D51*'BMP Calcs'!M173*2.72","v":{"$error":"#N/A"}},{"$f":"('WS Calcs'!$L$2*'WS Calcs'!$L$3*'BMP Calcs'!N366/12)*Assignments!$D51*'BMP Calcs'!N173*2.72","v":{"$error":"#N/A"}},{"$f":"('WS Calcs'!$L$2*'WS Calcs'!$L$3*'BMP Calcs'!O366/12)*Assignments!$D51*'BMP Calcs'!O173*2.72","v":{"$error":"#N/A"}},{"$f":"('WS Calcs'!$L$2*'WS Calcs'!$L$3*'BMP Calcs'!P366/12)*Assignments!$D51*'BMP Calcs'!P173*2.72","v":{"$error":"#N/A"}},{"$f":"('WS Calcs'!$L$2*'WS Calcs'!$L$3*'BMP Calcs'!Q366/12)*Assignments!$D51*'BMP Calcs'!Q173*2.72","v":{"$error":"#N/A"}},{"$f":"('WS Calcs'!$L$2*'WS Calcs'!$L$3*'BMP Calcs'!R366/12)*Assignments!$D51*'BMP Calcs'!R173*2.72","v":{"$error":"#N/A"}},{"$f":"('WS Calcs'!$L$2*'WS Calcs'!$L$3*'BMP Calcs'!S366/12)*Assignments!$D51*'BMP Calcs'!S173*2.72","v":{"$error":"#N/A"}},{"$f":"('WS Calcs'!$L$2*'WS Calcs'!$L$3*'BMP Calcs'!T366/12)*Assignments!$D51*'BMP Calcs'!T173*2.72","v":{"$error":"#N/A"}},{"$f":"('WS Calcs'!$L$2*'WS Calcs'!$L$3*'BMP Calcs'!U366/12)*Assignments!$D51*'BMP Calcs'!U173*2.72","v":{"$error":"#N/A"}},{"$f":"('WS Calcs'!$L$2*'WS Calcs'!$L$3*'BMP Calcs'!V366/12)*Assignments!$D51*'BMP Calcs'!V173*2.72","v":{"$error":"#N/A"}},{"$f":"('WS Calcs'!$L$2*'WS Calcs'!$L$3*'BMP Calcs'!W366/12)*Assignments!$D51*'BMP Calcs'!W173*2.72","v":{"$error":"#N/A"}},{"$f":"('WS Calcs'!$L$2*'WS Calcs'!$L$3*'BMP Calcs'!X366/12)*Assignments!$D51*'BMP Calcs'!X173*2.72","v":{"$error":"#N/A"}},{"$f":"('WS Calcs'!$L$2*'WS Calcs'!$L$3*'BMP Calcs'!Y366/12)*Assignments!$D51*'BMP Calcs'!Y173*2.72","v":{"$error":"#N/A"}},{"$f":"('WS Calcs'!$L$2*'WS Calcs'!$L$3*('BMP Calcs'!Z366/12))*Assignments!$D51*'BMP Calcs'!Z$10*2.72","v":{"$error":"#N/A"}},null,null,{"$f":"('WS Calcs'!$L$2*'WS Calcs'!$L$3*('BMP Calcs'!AC366/12))*Assignments!$D46*'BMP Calcs'!AC173*2.72","v":{"$error":"#N/A"}},{"$f":"('WS Calcs'!$L$2*'WS Calcs'!$L$3*('BMP Calcs'!AD366/12))*Assignments!$D46*'BMP Calcs'!AD173*2.72","v":{"$error":"#N/A"}}]
[null,"     ¼-ac lots (New)",{"$f":"('WS Calcs'!$L$2*'BMP Calcs'!C367/12)*(MAX(Assignments!$D44,Assignments!$D52))*'BMP Calcs'!C174*2.72","v":{"$error":"#N/A"}},{"$f":"('WS Calcs'!$L$2*'WS Calcs'!$L$3*'BMP Calcs'!D367/12)*(MAX(Assignments!$D44,Assignments!$D52))*'BMP Calcs'!D174*2.72","v":{"$error":"#N/A"}},{"$f":"('WS Calcs'!$L$2*'WS Calcs'!$L$3*'BMP Calcs'!E367/12)*(MAX(Assignments!$D44,Assignments!$D52))*'BMP Calcs'!E174*2.72","v":{"$error":"#N/A"}},{"$f":"('WS Calcs'!$L$2*'WS Calcs'!$L$3*'BMP Calcs'!F367/12)*(MAX(Assignments!$D44,Assignments!$D52))*'BMP Calcs'!F174*2.72","v":{"$error":"#N/A"}},{"$f":"('WS Calcs'!$L$2*'WS Calcs'!$L$3*'BMP Calcs'!G367/12)*(MAX(Assignments!$D44,Assignments!$D52))*'BMP Calcs'!G174*2.72","v":{"$error":"#N/A"}},{"$f":"('WS Calcs'!$L$2*'WS Calcs'!$L$3*'BMP Calcs'!H367/12)*(MAX(Assignments!$D44,Assignments!$D52))*'BMP Calcs'!H174*2.72","v":{"$error":"#N/A"}},{"$f":"('WS Calcs'!$L$2*'WS Calcs'!$L$3*'BMP Calcs'!I367/12)*(MAX(Assignments!$D44,Assignments!$D52))*'BMP Calcs'!I174*2.72","v":{"$error":"#N/A"}},{"$f":"('WS Calcs'!$L$2*'WS Calcs'!$L$3*'BMP Calcs'!J367/12)*(MAX(Assignments!$D44,Assignments!$D52))*'BMP Calcs'!J174*2.72","v":{"$error":"#N/A"}},{"$f":"('WS Calcs'!$L$2*'WS Calcs'!$L$3*'BMP Calcs'!K367/12)*(MAX(Assignments!$D44,Assignments!$D52))*'BMP Calcs'!K174*2.72","v":{"$error":"#N/A"}},{"$f":"('WS Calcs'!$L$2*'WS Calcs'!$L$3*'BMP Calcs'!L367/12)*(MAX(Assignments!$D44,Assignments!$D52))*'BMP Calcs'!L174*2.72","v":{"$error":"#N/A"}},{"$f":"('WS Calcs'!$L$2*'WS Calcs'!$L$3*'BMP Calcs'!M367/12)*(MAX(Assignments!$D44,Assignments!$D52))*'BMP Calcs'!M174*2.72","v":{"$error":"#N/A"}},{"$f":"('WS Calcs'!$L$2*'WS Calcs'!$L$3*'BMP Calcs'!N367/12)*(MAX(Assignments!$D44,Assignments!$D52))*'BMP Calcs'!N174*2.72","v":{"$error":"#N/A"}},{"$f":"('WS Calcs'!$L$2*'WS Calcs'!$L$3*'BMP Calcs'!O367/12)*(MAX(Assignments!$D44,Assignments!$D52))*'BMP Calcs'!O174*2.72","v":{"$error":"#N/A"}},{"$f":"('WS Calcs'!$L$2*'WS Calcs'!$L$3*'BMP Calcs'!P367/12)*(MAX(Assignments!$D44,Assignments!$D52))*'BMP Calcs'!P174*2.72","v":{"$error":"#N/A"}},{"$f":"('WS Calcs'!$L$2*'WS Calcs'!$L$3*'BMP Calcs'!Q367/12)*(MAX(Assignments!$D44,Assignments!$D52))*'BMP Calcs'!Q174*2.72","v":{"$error":"#N/A"}},{"$f":"('WS Calcs'!$L$2*'WS Calcs'!$L$3*'BMP Calcs'!R367/12)*(MAX(Assignments!$D44,Assignments!$D52))*'BMP Calcs'!R174*2.72","v":{"$error":"#N/A"}},{"$f":"('WS Calcs'!$L$2*'WS Calcs'!$L$3*'BMP Calcs'!S367/12)*(MAX(Assignments!$D44,Assignments!$D52))*'BMP Calcs'!S174*2.72","v":{"$error":"#N/A"}},{"$f":"('WS Calcs'!$L$2*'WS Calcs'!$L$3*'BMP Calcs'!T367/12)*(MAX(Assignments!$D44,Assignments!$D52))*'BMP Calcs'!T174*2.72","v":{"$error":"#N/A"}},{"$f":"('WS Calcs'!$L$2*'WS Calcs'!$L$3*'BMP Calcs'!U367/12)*(MAX(Assignments!$D44,Assignments!$D52))*'BMP Calcs'!U174*2.72","v":{"$error":"#N/A"}},{"$f":"('WS Calcs'!$L$2*'WS Calcs'!$L$3*'BMP Calcs'!V367/12)*(MAX(Assignments!$D44,Assignments!$D52))*'BMP Calcs'!V174*2.72","v":{"$error":"#N/A"}},{"$f":"('WS Calcs'!$L$2*'WS Calcs'!$L$3*'BMP Calcs'!W367/12)*(MAX(Assignments!$D44,Assignments!$D52))*'BMP Calcs'!W174*2.72","v":{"$error":"#N/A"}},{"$f":"('WS Calcs'!$L$2*'WS Calcs'!$L$3*'BMP Calcs'!X367/12)*(MAX(Assignments!$D44,Assignments!$D52))*'BMP Calcs'!X174*2.72","v":{"$error":"#N/A"}},{"$f":"('WS Calcs'!$L$2*'WS Calcs'!$L$3*'BMP Calcs'!Y367/12)*(MAX(Assignments!$D44,Assignments!$D52))*'BMP Calcs'!Y174*2.72","v":{"$error":"#N/A"}},{"$f":"('WS Calcs'!$L$2*'WS Calcs'!$L$3*'BMP Calcs'!Z367/12)*(MAX(Assignments!$D44,Assignments!$D52))*'BMP Calcs'!Z174*2.72","v":{"$error":"#N/A"}},null,null,{"$f":"('WS Calcs'!$L$2*'WS Calcs'!$L$3*'BMP Calcs'!AC367/12)*(MAX(Assignments!$D44,Assignments!$D52))*'BMP Calcs'!AC174*2.72","v":{"$error":"#N/A"}},{"$f":"('WS Calcs'!$L$2*'WS Calcs'!$L$3*'BMP Calcs'!AD367/12)*(MAX(Assignments!$D44,Assignments!$D52))*'BMP Calcs'!AD174*2.72","v":{"$error":"#N/A"}}]
[null,"     ¼-ac lots (Built after 1995)",{"$f":"('WS Calcs'!$L$2*'BMP Calcs'!C368/12)*Assignments!$D44*'BMP Calcs'!C175*2.72","v":{"$error":"#N/A"}},{"$f":"('WS Calcs'!$L$2*'WS Calcs'!$L$3*'BMP Calcs'!D368/12)*Assignments!$D44*'BMP Calcs'!D175*2.72","v":{"$error":"#N/A"}},{"$f":"('WS Calcs'!$L$2*'WS Calcs'!$L$3*'BMP Calcs'!E368/12)*Assignments!$D44*'BMP Calcs'!E175*2.72","v":{"$error":"#N/A"}},{"$f":"('WS Calcs'!$L$2*'WS Calcs'!$L$3*'BMP Calcs'!F368/12)*Assignments!$D44*'BMP Calcs'!F175*2.72","v":{"$error":"#N/A"}},{"$f":"('WS Calcs'!$L$2*'WS Calcs'!$L$3*'BMP Calcs'!G368/12)*Assignments!$D44*'BMP Calcs'!G175*2.72","v":{"$error":"#N/A"}},{"$f":"('WS Calcs'!$L$2*'WS Calcs'!$L$3*'BMP Calcs'!H368/12)*Assignments!$D44*'BMP Calcs'!H175*2.72","v":{"$error":"#N/A"}},{"$f":"('WS Calcs'!$L$2*'WS Calcs'!$L$3*'BMP Calcs'!I368/12)*Assignments!$D44*'BMP Calcs'!I175*2.72","v":{"$error":"#N/A"}},{"$f":"('WS Calcs'!$L$2*'WS Calcs'!$L$3*'BMP Calcs'!J368/12)*Assignments!$D44*'BMP Calcs'!J175*2.72","v":{"$error":"#N/A"}},{"$f":"('WS Calcs'!$L$2*'WS Calcs'!$L$3*'BMP Calcs'!K368/12)*Assignments!$D44*'BMP Calcs'!K175*2.72","v":{"$error":"#N/A"}},{"$f":"('WS Calcs'!$L$2*'WS Calcs'!$L$3*'BMP Calcs'!L368/12)*Assignments!$D44*'BMP Calcs'!L175*2.72","v":{"$error":"#N/A"}},{"$f":"('WS Calcs'!$L$2*'WS Calcs'!$L$3*'BMP Calcs'!M368/12)*Assignments!$D44*'BMP Calcs'!M175*2.72","v":{"$error":"#N/A"}},{"$f":"('WS Calcs'!$L$2*'WS Calcs'!$L$3*'BMP Calcs'!N368/12)*Assignments!$D44*'BMP Calcs'!N175*2.72","v":{"$error":"#N/A"}},{"$f":"('WS Calcs'!$L$2*'WS Calcs'!$L$3*'BMP Calcs'!O368/12)*Assignments!$D44*'BMP Calcs'!O175*2.72","v":{"$error":"#N/A"}},{"$f":"('WS Calcs'!$L$2*'WS Calcs'!$L$3*'BMP Calcs'!P368/12)*Assignments!$D44*'BMP Calcs'!P175*2.72","v":{"$error":"#N/A"}},{"$f":"('WS Calcs'!$L$2*'WS Calcs'!$L$3*'BMP Calcs'!Q368/12)*Assignments!$D44*'BMP Calcs'!Q175*2.72","v":{"$error":"#N/A"}},{"$f":"('WS Calcs'!$L$2*'WS Calcs'!$L$3*'BMP Calcs'!R368/12)*Assignments!$D44*'BMP Calcs'!R175*2.72","v":{"$error":"#N/A"}},{"$f":"('WS Calcs'!$L$2*'WS Calcs'!$L$3*'BMP Calcs'!S368/12)*Assignments!$D44*'BMP Calcs'!S175*2.72","v":{"$error":"#N/A"}},{"$f":"('WS Calcs'!$L$2*'WS Calcs'!$L$3*'BMP Calcs'!T368/12)*Assignments!$D44*'BMP Calcs'!T175*2.72","v":{"$error":"#N/A"}},{"$f":"('WS Calcs'!$L$2*'WS Calcs'!$L$3*'BMP Calcs'!U368/12)*Assignments!$D44*'BMP Calcs'!U175*2.72","v":{"$error":"#N/A"}},{"$f":"('WS Calcs'!$L$2*'WS Calcs'!$L$3*'BMP Calcs'!V368/12)*Assignments!$D44*'BMP Calcs'!V175*2.72","v":{"$error":"#N/A"}},{"$f":"('WS Calcs'!$L$2*'WS Calcs'!$L$3*'BMP Calcs'!W368/12)*Assignments!$D44*'BMP Calcs'!W175*2.72","v":{"$error":"#N/A"}},{"$f":"('WS Calcs'!$L$2*'WS Calcs'!$L$3*'BMP Calcs'!X368/12)*Assignments!$D44*'BMP Calcs'!X175*2.72","v":{"$error":"#N/A"}},{"$f":"('WS Calcs'!$L$2*'WS Calcs'!$L$3*'BMP Calcs'!Y368/12)*Assignments!$D44*'BMP Calcs'!Y175*2.72","v":{"$error":"#N/A"}},{"$f":"('WS Calcs'!$L$2*'WS Calcs'!$L$3*('BMP Calcs'!Z368/12))*Assignments!$D44*'BMP Calcs'!Z$10*2.72","v":{"$error":"#N/A"}},null,null,{"$f":"('WS Calcs'!$L$2*'WS Calcs'!$L$3*('BMP Calcs'!AC368/12))*Assignments!$D47*'BMP Calcs'!AC175*2.72","v":{"$error":"#N/A"}},{"$f":"('WS Calcs'!$L$2*'WS Calcs'!$L$3*('BMP Calcs'!AD368/12))*Assignments!$D47*'BMP Calcs'!AD175*2.72","v":{"$error":"#N/A"}}]
[null,"     ¼-ac lots (Built before 1995)",{"$f":"('WS Calcs'!$L$2*'BMP Calcs'!C369/12)*Assignments!$D52*'BMP Calcs'!C176*2.72","v":{"$error":"#N/A"}},{"$f":"('WS Calcs'!$L$2*'WS Calcs'!$L$3*'BMP Calcs'!D369/12)*Assignments!$D52*'BMP Calcs'!D176*2.72","v":{"$error":"#N/A"}},{"$f":"('WS Calcs'!$L$2*'WS Calcs'!$L$3*'BMP Calcs'!E369/12)*Assignments!$D52*'BMP Calcs'!E176*2.72","v":{"$error":"#N/A"}},{"$f":"('WS Calcs'!$L$2*'WS Calcs'!$L$3*'BMP Calcs'!F369/12)*Assignments!$D52*'BMP Calcs'!F176*2.72","v":{"$error":"#N/A"}},{"$f":"('WS Calcs'!$L$2*'WS Calcs'!$L$3*'BMP Calcs'!G369/12)*Assignments!$D52*'BMP Calcs'!G176*2.72","v":{"$error":"#N/A"}},{"$f":"('WS Calcs'!$L$2*'WS Calcs'!$L$3*'BMP Calcs'!H369/12)*Assignments!$D52*'BMP Calcs'!H176*2.72","v":{"$error":"#N/A"}},{"$f":"('WS Calcs'!$L$2*'WS Calcs'!$L$3*'BMP Calcs'!I369/12)*Assignments!$D52*'BMP Calcs'!I176*2.72","v":{"$error":"#N/A"}},{"$f":"('WS Calcs'!$L$2*'WS Calcs'!$L$3*'BMP Calcs'!J369/12)*Assignments!$D52*'BMP Calcs'!J176*2.72","v":{"$error":"#N/A"}},{"$f":"('WS Calcs'!$L$2*'WS Calcs'!$L$3*'BMP Calcs'!K369/12)*Assignments!$D52*'BMP Calcs'!K176*2.72","v":{"$error":"#N/A"}},{"$f":"('WS Calcs'!$L$2*'WS Calcs'!$L$3*'BMP Calcs'!L369/12)*Assignments!$D52*'BMP Calcs'!L176*2.72","v":{"$error":"#N/A"}},{"$f":"('WS Calcs'!$L$2*'WS Calcs'!$L$3*'BMP Calcs'!M369/12)*Assignments!$D52*'BMP Calcs'!M176*2.72","v":{"$error":"#N/A"}},{"$f":"('WS Calcs'!$L$2*'WS Calcs'!$L$3*'BMP Calcs'!N369/12)*Assignments!$D52*'BMP Calcs'!N176*2.72","v":{"$error":"#N/A"}},{"$f":"('WS Calcs'!$L$2*'WS Calcs'!$L$3*'BMP Calcs'!O369/12)*Assignments!$D52*'BMP Calcs'!O176*2.72","v":{"$error":"#N/A"}},{"$f":"('WS Calcs'!$L$2*'WS Calcs'!$L$3*'BMP Calcs'!P369/12)*Assignments!$D52*'BMP Calcs'!P176*2.72","v":{"$error":"#N/A"}},{"$f":"('WS Calcs'!$L$2*'WS Calcs'!$L$3*'BMP Calcs'!Q369/12)*Assignments!$D52*'BMP Calcs'!Q176*2.72","v":{"$error":"#N/A"}},{"$f":"('WS Calcs'!$L$2*'WS Calcs'!$L$3*'BMP Calcs'!R369/12)*Assignments!$D52*'BMP Calcs'!R176*2.72","v":{"$error":"#N/A"}},{"$f":"('WS Calcs'!$L$2*'WS Calcs'!$L$3*'BMP Calcs'!S369/12)*Assignments!$D52*'BMP Calcs'!S176*2.72","v":{"$error":"#N/A"}},{"$f":"('WS Calcs'!$L$2*'WS Calcs'!$L$3*'BMP Calcs'!T369/12)*Assignments!$D52*'BMP Calcs'!T176*2.72","v":{"$error":"#N/A"}},{"$f":"('WS Calcs'!$L$2*'WS Calcs'!$L$3*'BMP Calcs'!U369/12)*Assignments!$D52*'BMP Calcs'!U176*2.72","v":{"$error":"#N/A"}},{"$f":"('WS Calcs'!$L$2*'WS Calcs'!$L$3*'BMP Calcs'!V369/12)*Assignments!$D52*'BMP Calcs'!V176*2.72","v":{"$error":"#N/A"}},{"$f":"('WS Calcs'!$L$2*'WS Calcs'!$L$3*'BMP Calcs'!W369/12)*Assignments!$D52*'BMP Calcs'!W176*2.72","v":{"$error":"#N/A"}},{"$f":"('WS Calcs'!$L$2*'WS Calcs'!$L$3*'BMP Calcs'!X369/12)*Assignments!$D52*'BMP Calcs'!X176*2.72","v":{"$error":"#N/A"}},{"$f":"('WS Calcs'!$L$2*'WS Calcs'!$L$3*'BMP Calcs'!Y369/12)*Assignments!$D52*'BMP Calcs'!Y176*2.72","v":{"$error":"#N/A"}},{"$f":"('WS Calcs'!$L$2*'WS Calcs'!$L$3*('BMP Calcs'!Z369/12))*Assignments!$D52*'BMP Calcs'!Z$10*2.72","v":{"$error":"#N/A"}},null,null,{"$f":"('WS Calcs'!$L$2*'WS Calcs'!$L$3*('BMP Calcs'!AC369/12))*Assignments!$D49*'BMP Calcs'!AC176*2.72","v":{"$error":"#N/A"}},{"$f":"('WS Calcs'!$L$2*'WS Calcs'!$L$3*('BMP Calcs'!AD369/12))*Assignments!$D49*'BMP Calcs'!AD176*2.72","v":{"$error":"#N/A"}}]
[null,"     ⅛-ac lots (New)",{"$f":"('WS Calcs'!$L$2*'BMP Calcs'!C370/12)*MAX(Assignments!$D45,Assignments!$D53)*'BMP Calcs'!C177*2.72","v":{"$error":"#N/A"}},{"$f":"('WS Calcs'!$L$2*'WS Calcs'!$L$3*'BMP Calcs'!D370/12)*MAX(Assignments!$D45,Assignments!$D53)*'BMP Calcs'!D177*2.72","v":{"$error":"#N/A"}},{"$f":"('WS Calcs'!$L$2*'WS Calcs'!$L$3*'BMP Calcs'!E370/12)*MAX(Assignments!$D45,Assignments!$D53)*'BMP Calcs'!E177*2.72","v":{"$error":"#N/A"}},{"$f":"('WS Calcs'!$L$2*'WS Calcs'!$L$3*'BMP Calcs'!F370/12)*MAX(Assignments!$D45,Assignments!$D53)*'BMP Calcs'!F177*2.72","v":{"$error":"#N/A"}},{"$f":"('WS Calcs'!$L$2*'WS Calcs'!$L$3*'BMP Calcs'!G370/12)*MAX(Assignments!$D45,Assignments!$D53)*'BMP Calcs'!G177*2.72","v":{"$error":"#N/A"}},{"$f":"('WS Calcs'!$L$2*'WS Calcs'!$L$3*'BMP Calcs'!H370/12)*MAX(Assignments!$D45,Assignments!$D53)*'BMP Calcs'!H177*2.72","v":{"$error":"#N/A"}},{"$f":"('WS Calcs'!$L$2*'WS Calcs'!$L$3*'BMP Calcs'!I370/12)*MAX(Assignments!$D45,Assignments!$D53)*'BMP Calcs'!I177*2.72","v":{"$error":"#N/A"}},{"$f":"('WS Calcs'!$L$2*'WS Calcs'!$L$3*'BMP Calcs'!J370/12)*MAX(Assignments!$D45,Assignments!$D53)*'BMP Calcs'!J177*2.72","v":{"$error":"#N/A"}},{"$f":"('WS Calcs'!$L$2*'WS Calcs'!$L$3*'BMP Calcs'!K370/12)*MAX(Assignments!$D45,Assignments!$D53)*'BMP Calcs'!K177*2.72","v":{"$error":"#N/A"}},{"$f":"('WS Calcs'!$L$2*'WS Calcs'!$L$3*'BMP Calcs'!L370/12)*MAX(Assignments!$D45,Assignments!$D53)*'BMP Calcs'!L177*2.72","v":{"$error":"#N/A"}},{"$f":"('WS Calcs'!$L$2*'WS Calcs'!$L$3*'BMP Calcs'!M370/12)*MAX(Assignments!$D45,Assignments!$D53)*'BMP Calcs'!M177*2.72","v":{"$error":"#N/A"}},{"$f":"('WS Calcs'!$L$2*'WS Calcs'!$L$3*'BMP Calcs'!N370/12)*MAX(Assignments!$D45,Assignments!$D53)*'BMP Calcs'!N177*2.72","v":{"$error":"#N/A"}},{"$f":"('WS Calcs'!$L$2*'WS Calcs'!$L$3*'BMP Calcs'!O370/12)*MAX(Assignments!$D45,Assignments!$D53)*'BMP Calcs'!O177*2.72","v":{"$error":"#N/A"}},{"$f":"('WS Calcs'!$L$2*'WS Calcs'!$L$3*'BMP Calcs'!P370/12)*MAX(Assignments!$D45,Assignments!$D53)*'BMP Calcs'!P177*2.72","v":{"$error":"#N/A"}},{"$f":"('WS Calcs'!$L$2*'WS Calcs'!$L$3*'BMP Calcs'!Q370/12)*MAX(Assignments!$D45,Assignments!$D53)*'BMP Calcs'!Q177*2.72","v":{"$error":"#N/A"}},{"$f":"('WS Calcs'!$L$2*'WS Calcs'!$L$3*'BMP Calcs'!R370/12)*MAX(Assignments!$D45,Assignments!$D53)*'BMP Calcs'!R177*2.72","v":{"$error":"#N/A"}},{"$f":"('WS Calcs'!$L$2*'WS Calcs'!$L$3*'BMP Calcs'!S370/12)*MAX(Assignments!$D45,Assignments!$D53)*'BMP Calcs'!S177*2.72","v":{"$error":"#N/A"}},{"$f":"('WS Calcs'!$L$2*'WS Calcs'!$L$3*'BMP Calcs'!T370/12)*MAX(Assignments!$D45,Assignments!$D53)*'BMP Calcs'!T177*2.72","v":{"$error":"#N/A"}},{"$f":"('WS Calcs'!$L$2*'WS Calcs'!$L$3*'BMP Calcs'!U370/12)*MAX(Assignments!$D45,Assignments!$D53)*'BMP Calcs'!U177*2.72","v":{"$error":"#N/A"}},{"$f":"('WS Calcs'!$L$2*'WS Calcs'!$L$3*'BMP Calcs'!V370/12)*MAX(Assignments!$D45,Assignments!$D53)*'BMP Calcs'!V177*2.72","v":{"$error":"#N/A"}},{"$f":"('WS Calcs'!$L$2*'WS Calcs'!$L$3*'BMP Calcs'!W370/12)*MAX(Assignments!$D45,Assignments!$D53)*'BMP Calcs'!W177*2.72","v":{"$error":"#N/A"}},{"$f":"('WS Calcs'!$L$2*'WS Calcs'!$L$3*'BMP Calcs'!X370/12)*MAX(Assignments!$D45,Assignments!$D53)*'BMP Calcs'!X177*2.72","v":{"$error":"#N/A"}},{"$f":"('WS Calcs'!$L$2*'WS Calcs'!$L$3*'BMP Calcs'!Y370/12)*MAX(Assignments!$D45,Assignments!$D53)*'BMP Calcs'!Y177*2.72","v":{"$error":"#N/A"}},{"$f":"('WS Calcs'!$L$2*'WS Calcs'!$L$3*'BMP Calcs'!Z370/12)*MAX(Assignments!$D45,Assignments!$D53)*'BMP Calcs'!Z177*2.72","v":{"$error":"#N/A"}},null,null,{"$f":"('WS Calcs'!$L$2*'WS Calcs'!$L$3*'BMP Calcs'!AC370/12)*MAX(Assignments!$D45,Assignments!$D53)*'BMP Calcs'!AC177*2.72","v":{"$error":"#N/A"}},{"$f":"('WS Calcs'!$L$2*'WS Calcs'!$L$3*'BMP Calcs'!AD370/12)*MAX(Assignments!$D45,Assignments!$D53)*'BMP Calcs'!AD177*2.72","v":{"$error":"#N/A"}}]
[null,"     ⅛-ac lots (Built after 1995)",{"$f":"('WS Calcs'!$L$2*'BMP Calcs'!C371/12)*Assignments!$D45*'BMP Calcs'!C178*2.72","v":{"$error":"#N/A"}},{"$f":"('WS Calcs'!$L$2*'WS Calcs'!$L$3*'BMP Calcs'!D371/12)*Assignments!$D45*'BMP Calcs'!D178*2.72","v":{"$error":"#N/A"}},{"$f":"('WS Calcs'!$L$2*'WS Calcs'!$L$3*'BMP Calcs'!E371/12)*Assignments!$D45*'BMP Calcs'!E178*2.72","v":{"$error":"#N/A"}},{"$f":"('WS Calcs'!$L$2*'WS Calcs'!$L$3*'BMP Calcs'!F371/12)*Assignments!$D45*'BMP Calcs'!F178*2.72","v":{"$error":"#N/A"}},{"$f":"('WS Calcs'!$L$2*'WS Calcs'!$L$3*'BMP Calcs'!G371/12)*Assignments!$D45*'BMP Calcs'!G178*2.72","v":{"$error":"#N/A"}},{"$f":"('WS Calcs'!$L$2*'WS Calcs'!$L$3*'BMP Calcs'!H371/12)*Assignments!$D45*'BMP Calcs'!H178*2.72","v":{"$error":"#N/A"}},{"$f":"('WS Calcs'!$L$2*'WS Calcs'!$L$3*'BMP Calcs'!I371/12)*Assignments!$D45*'BMP Calcs'!I178*2.72","v":{"$error":"#N/A"}},{"$f":"('WS Calcs'!$L$2*'WS Calcs'!$L$3*'BMP Calcs'!J371/12)*Assignments!$D45*'BMP Calcs'!J178*2.72","v":{"$error":"#N/A"}},{"$f":"('WS Calcs'!$L$2*'WS Calcs'!$L$3*'BMP Calcs'!K371/12)*Assignments!$D45*'BMP Calcs'!K178*2.72","v":{"$error":"#N/A"}},{"$f":"('WS Calcs'!$L$2*'WS Calcs'!$L$3*'BMP Calcs'!L371/12)*Assignments!$D45*'BMP Calcs'!L178*2.72","v":{"$error":"#N/A"}},{"$f":"('WS Calcs'!$L$2*'WS Calcs'!$L$3*'BMP Calcs'!M371/12)*Assignments!$D45*'BMP Calcs'!M178*2.72","v":{"$error":"#N/A"}},{"$f":"('WS Calcs'!$L$2*'WS Calcs'!$L$3*'BMP Calcs'!N371/12)*Assignments!$D45*'BMP Calcs'!N178*2.72","v":{"$error":"#N/A"}},{"$f":"('WS Calcs'!$L$2*'WS Calcs'!$L$3*'BMP Calcs'!O371/12)*Assignments!$D45*'BMP Calcs'!O178*2.72","v":{"$error":"#N/A"}},{"$f":"('WS Calcs'!$L$2*'WS Calcs'!$L$3*'BMP Calcs'!P371/12)*Assignments!$D45*'BMP Calcs'!P178*2.72","v":{"$error":"#N/A"}},{"$f":"('WS Calcs'!$L$2*'WS Calcs'!$L$3*'BMP Calcs'!Q371/12)*Assignments!$D45*'BMP Calcs'!Q178*2.72","v":{"$error":"#N/A"}},{"$f":"('WS Calcs'!$L$2*'WS Calcs'!$L$3*'BMP Calcs'!R371/12)*Assignments!$D45*'BMP Calcs'!R178*2.72","v":{"$error":"#N/A"}},{"$f":"('WS Calcs'!$L$2*'WS Calcs'!$L$3*'BMP Calcs'!S371/12)*Assignments!$D45*'BMP Calcs'!S178*2.72","v":{"$error":"#N/A"}},{"$f":"('WS Calcs'!$L$2*'WS Calcs'!$L$3*'BMP Calcs'!T371/12)*Assignments!$D45*'BMP Calcs'!T178*2.72","v":{"$error":"#N/A"}},{"$f":"('WS Calcs'!$L$2*'WS Calcs'!$L$3*'BMP Calcs'!U371/12)*Assignments!$D45*'BMP Calcs'!U178*2.72","v":{"$error":"#N/A"}},{"$f":"('WS Calcs'!$L$2*'WS Calcs'!$L$3*'BMP Calcs'!V371/12)*Assignments!$D45*'BMP Calcs'!V178*2.72","v":{"$error":"#N/A"}},{"$f":"('WS Calcs'!$L$2*'WS Calcs'!$L$3*'BMP Calcs'!W371/12)*Assignments!$D45*'BMP Calcs'!W178*2.72","v":{"$error":"#N/A"}},{"$f":"('WS Calcs'!$L$2*'WS Calcs'!$L$3*'BMP Calcs'!X371/12)*Assignments!$D45*'BMP Calcs'!X178*2.72","v":{"$error":"#N/A"}},{"$f":"('WS Calcs'!$L$2*'WS Calcs'!$L$3*'BMP Calcs'!Y371/12)*Assignments!$D45*'BMP Calcs'!Y178*2.72","v":{"$error":"#N/A"}},{"$f":"('WS Calcs'!$L$2*'WS Calcs'!$L$3*('BMP Calcs'!Z371/12))*Assignments!$D45*'BMP Calcs'!Z$10*2.72","v":{"$error":"#N/A"}},null,null,{"$f":"('WS Calcs'!$L$2*'WS Calcs'!$L$3*('BMP Calcs'!AC371/12))*Assignments!$D50*'BMP Calcs'!AC178*2.72","v":{"$error":"#N/A"}},{"$f":"('WS Calcs'!$L$2*'WS Calcs'!$L$3*('BMP Calcs'!AD371/12))*Assignments!$D50*'BMP Calcs'!AD178*2.72","v":{"$error":"#N/A"}}]
[null,"     ⅛-ac lots (Built before 1995)",{"$f":"('WS Calcs'!$L$2*'BMP Calcs'!C372/12)*Assignments!$D53*'BMP Calcs'!C179*2.72","v":{"$error":"#N/A"}},{"$f":"('WS Calcs'!$L$2*'WS Calcs'!$L$3*'BMP Calcs'!D372/12)*Assignments!$D53*'BMP Calcs'!D179*2.72","v":{"$error":"#N/A"}},{"$f":"('WS Calcs'!$L$2*'WS Calcs'!$L$3*'BMP Calcs'!E372/12)*Assignments!$D53*'BMP Calcs'!E179*2.72","v":{"$error":"#N/A"}},{"$f":"('WS Calcs'!$L$2*'WS Calcs'!$L$3*'BMP Calcs'!F372/12)*Assignments!$D53*'BMP Calcs'!F179*2.72","v":{"$error":"#N/A"}},{"$f":"('WS Calcs'!$L$2*'WS Calcs'!$L$3*'BMP Calcs'!G372/12)*Assignments!$D53*'BMP Calcs'!G179*2.72","v":{"$error":"#N/A"}},{"$f":"('WS Calcs'!$L$2*'WS Calcs'!$L$3*'BMP Calcs'!H372/12)*Assignments!$D53*'BMP Calcs'!H179*2.72","v":{"$error":"#N/A"}},{"$f":"('WS Calcs'!$L$2*'WS Calcs'!$L$3*'BMP Calcs'!I372/12)*Assignments!$D53*'BMP Calcs'!I179*2.72","v":{"$error":"#N/A"}},{"$f":"('WS Calcs'!$L$2*'WS Calcs'!$L$3*'BMP Calcs'!J372/12)*Assignments!$D53*'BMP Calcs'!J179*2.72","v":{"$error":"#N/A"}},{"$f":"('WS Calcs'!$L$2*'WS Calcs'!$L$3*'BMP Calcs'!K372/12)*Assignments!$D53*'BMP Calcs'!K179*2.72","v":{"$error":"#N/A"}},{"$f":"('WS Calcs'!$L$2*'WS Calcs'!$L$3*'BMP Calcs'!L372/12)*Assignments!$D53*'BMP Calcs'!L179*2.72","v":{"$error":"#N/A"}},{"$f":"('WS Calcs'!$L$2*'WS Calcs'!$L$3*'BMP Calcs'!M372/12)*Assignments!$D53*'BMP Calcs'!M179*2.72","v":{"$error":"#N/A"}},{"$f":"('WS Calcs'!$L$2*'WS Calcs'!$L$3*'BMP Calcs'!N372/12)*Assignments!$D53*'BMP Calcs'!N179*2.72","v":{"$error":"#N/A"}},{"$f":"('WS Calcs'!$L$2*'WS Calcs'!$L$3*'BMP Calcs'!O372/12)*Assignments!$D53*'BMP Calcs'!O179*2.72","v":{"$error":"#N/A"}},{"$f":"('WS Calcs'!$L$2*'WS Calcs'!$L$3*'BMP Calcs'!P372/12)*Assignments!$D53*'BMP Calcs'!P179*2.72","v":{"$error":"#N/A"}},{"$f":"('WS Calcs'!$L$2*'WS Calcs'!$L$3*'BMP Calcs'!Q372/12)*Assignments!$D53*'BMP Calcs'!Q179*2.72","v":{"$error":"#N/A"}},{"$f":"('WS Calcs'!$L$2*'WS Calcs'!$L$3*'BMP Calcs'!R372/12)*Assignments!$D53*'BMP Calcs'!R179*2.72","v":{"$error":"#N/A"}},{"$f":"('WS Calcs'!$L$2*'WS Calcs'!$L$3*'BMP Calcs'!S372/12)*Assignments!$D53*'BMP Calcs'!S179*2.72","v":{"$error":"#N/A"}},{"$f":"('WS Calcs'!$L$2*'WS Calcs'!$L$3*'BMP Calcs'!T372/12)*Assignments!$D53*'BMP Calcs'!T179*2.72","v":{"$error":"#N/A"}},{"$f":"('WS Calcs'!$L$2*'WS Calcs'!$L$3*'BMP Calcs'!U372/12)*Assignments!$D53*'BMP Calcs'!U179*2.72","v":{"$error":"#N/A"}},{"$f":"('WS Calcs'!$L$2*'WS Calcs'!$L$3*'BMP Calcs'!V372/12)*Assignments!$D53*'BMP Calcs'!V179*2.72","v":{"$error":"#N/A"}},{"$f":"('WS Calcs'!$L$2*'WS Calcs'!$L$3*'BMP Calcs'!W372/12)*Assignments!$D53*'BMP Calcs'!W179*2.72","v":{"$error":"#N/A"}},{"$f":"('WS Calcs'!$L$2*'WS Calcs'!$L$3*'BMP Calcs'!X372/12)*Assignments!$D53*'BMP Calcs'!X179*2.72","v":{"$error":"#N/A"}},{"$f":"('WS Calcs'!$L$2*'WS Calcs'!$L$3*'BMP Calcs'!Y372/12)*Assignments!$D53*'BMP Calcs'!Y179*2.72","v":{"$error":"#N/A"}},{"$f":"('WS Calcs'!$L$2*'WS Calcs'!$L$3*('BMP Calcs'!Z372/12))*Assignments!$D53*'BMP Calcs'!Z$10*2.72","v":{"$error":"#N/A"}},null,null,{"$f":"('WS Calcs'!$L$2*'WS Calcs'!$L$3*('BMP Calcs'!AC372/12))*Assignments!$D51*'BMP Calcs'!AC179*2.72","v":{"$error":"#N/A"}},{"$f":"('WS Calcs'!$L$2*'WS Calcs'!$L$3*('BMP Calcs'!AD372/12))*Assignments!$D51*'BMP Calcs'!AD179*2.72","v":{"$error":"#N/A"}}]
[null,"     Townhomes (New)",{"$f":"('WS Calcs'!$L$2*'BMP Calcs'!C373/12)*(MAX(Assignments!$D46,Assignments!$D54))*'BMP Calcs'!C180*2.72","v":{"$error":"#N/A"}},{"$f":"('WS Calcs'!$L$2*'WS Calcs'!$L$3*'BMP Calcs'!D373/12)*(MAX(Assignments!$D46,Assignments!$D54))*'BMP Calcs'!D180*2.72","v":{"$error":"#N/A"}},{"$f":"('WS Calcs'!$L$2*'WS Calcs'!$L$3*'BMP Calcs'!E373/12)*(MAX(Assignments!$D46,Assignments!$D54))*'BMP Calcs'!E180*2.72","v":{"$error":"#N/A"}},{"$f":"('WS Calcs'!$L$2*'WS Calcs'!$L$3*'BMP Calcs'!F373/12)*(MAX(Assignments!$D46,Assignments!$D54))*'BMP Calcs'!F180*2.72","v":{"$error":"#N/A"}},{"$f":"('WS Calcs'!$L$2*'WS Calcs'!$L$3*'BMP Calcs'!G373/12)*(MAX(Assignments!$D46,Assignments!$D54))*'BMP Calcs'!G180*2.72","v":{"$error":"#N/A"}},{"$f":"('WS Calcs'!$L$2*'WS Calcs'!$L$3*'BMP Calcs'!H373/12)*(MAX(Assignments!$D46,Assignments!$D54))*'BMP Calcs'!H180*2.72","v":{"$error":"#N/A"}},{"$f":"('WS Calcs'!$L$2*'WS Calcs'!$L$3*'BMP Calcs'!I373/12)*(MAX(Assignments!$D46,Assignments!$D54))*'BMP Calcs'!I180*2.72","v":{"$error":"#N/A"}},{"$f":"('WS Calcs'!$L$2*'WS Calcs'!$L$3*'BMP Calcs'!J373/12)*(MAX(Assignments!$D46,Assignments!$D54))*'BMP Calcs'!J180*2.72","v":{"$error":"#N/A"}},{"$f":"('WS Calcs'!$L$2*'WS Calcs'!$L$3*'BMP Calcs'!K373/12)*(MAX(Assignments!$D46,Assignments!$D54))*'BMP Calcs'!K180*2.72","v":{"$error":"#N/A"}},{"$f":"('WS Calcs'!$L$2*'WS Calcs'!$L$3*'BMP Calcs'!L373/12)*(MAX(Assignments!$D46,Assignments!$D54))*'BMP Calcs'!L180*2.72","v":{"$error":"#N/A"}},{"$f":"('WS Calcs'!$L$2*'WS Calcs'!$L$3*'BMP Calcs'!M373/12)*(MAX(Assignments!$D46,Assignments!$D54))*'BMP Calcs'!M180*2.72","v":{"$error":"#N/A"}},{"$f":"('WS Calcs'!$L$2*'WS Calcs'!$L$3*'BMP Calcs'!N373/12)*(MAX(Assignments!$D46,Assignments!$D54))*'BMP Calcs'!N180*2.72","v":{"$error":"#N/A"}},{"$f":"('WS Calcs'!$L$2*'WS Calcs'!$L$3*'BMP Calcs'!O373/12)*(MAX(Assignments!$D46,Assignments!$D54))*'BMP Calcs'!O180*2.72","v":{"$error":"#N/A"}},{"$f":"('WS Calcs'!$L$2*'WS Calcs'!$L$3*'BMP Calcs'!P373/12)*(MAX(Assignments!$D46,Assignments!$D54))*'BMP Calcs'!P180*2.72","v":{"$error":"#N/A"}},{"$f":"('WS Calcs'!$L$2*'WS Calcs'!$L$3*'BMP Calcs'!Q373/12)*(MAX(Assignments!$D46,Assignments!$D54))*'BMP Calcs'!Q180*2.72","v":{"$error":"#N/A"}},{"$f":"('WS Calcs'!$L$2*'WS Calcs'!$L$3*'BMP Calcs'!R373/12)*(MAX(Assignments!$D46,Assignments!$D54))*'BMP Calcs'!R180*2.72","v":{"$error":"#N/A"}},{"$f":"('WS Calcs'!$L$2*'WS Calcs'!$L$3*'BMP Calcs'!S373/12)*(MAX(Assignments!$D46,Assignments!$D54))*'BMP Calcs'!S180*2.72","v":{"$error":"#N/A"}},{"$f":"('WS Calcs'!$L$2*'WS Calcs'!$L$3*'BMP Calcs'!T373/12)*(MAX(Assignments!$D46,Assignments!$D54))*'BMP Calcs'!T180*2.72","v":{"$error":"#N/A"}},{"$f":"('WS Calcs'!$L$2*'WS Calcs'!$L$3*'BMP Calcs'!U373/12)*(MAX(Assignments!$D46,Assignments!$D54))*'BMP Calcs'!U180*2.72","v":{"$error":"#N/A"}},{"$f":"('WS Calcs'!$L$2*'WS Calcs'!$L$3*'BMP Calcs'!V373/12)*(MAX(Assignments!$D46,Assignments!$D54))*'BMP Calcs'!V180*2.72","v":{"$error":"#N/A"}},{"$f":"('WS Calcs'!$L$2*'WS Calcs'!$L$3*'BMP Calcs'!W373/12)*(MAX(Assignments!$D46,Assignments!$D54))*'BMP Calcs'!W180*2.72","v":{"$error":"#N/A"}},{"$f":"('WS Calcs'!$L$2*'WS Calcs'!$L$3*'BMP Calcs'!X373/12)*(MAX(Assignments!$D46,Assignments!$D54))*'BMP Calcs'!X180*2.72","v":{"$error":"#N/A"}},{"$f":"('WS Calcs'!$L$2*'WS Calcs'!$L$3*'BMP Calcs'!Y373/12)*(MAX(Assignments!$D46,Assignments!$D54))*'BMP Calcs'!Y180*2.72","v":{"$error":"#N/A"}},{"$f":"('WS Calcs'!$L$2*'WS Calcs'!$L$3*'BMP Calcs'!Z373/12)*(MAX(Assignments!$D46,Assignments!$D54))*'BMP Calcs'!Z180*2.72","v":{"$error":"#N/A"}},null,null,{"$f":"('WS Calcs'!$L$2*'WS Calcs'!$L$3*'BMP Calcs'!AC373/12)*(MAX(Assignments!$D46,Assignments!$D54))*'BMP Calcs'!AC180*2.72","v":{"$error":"#N/A"}},{"$f":"('WS Calcs'!$L$2*'WS Calcs'!$L$3*'BMP Calcs'!AD373/12)*(MAX(Assignments!$D46,Assignments!$D54))*'BMP Calcs'!AD180*2.72","v":{"$error":"#N/A"}}]
[null,"     Townhomes (Built after 1995)",{"$f":"('WS Calcs'!$L$2*'BMP Calcs'!C374/12)*Assignments!$D46*'BMP Calcs'!C181*2.72","v":{"$error":"#N/A"}},{"$f":"('WS Calcs'!$L$2*'WS Calcs'!$L$3*'BMP Calcs'!D374/12)*Assignments!$D46*'BMP Calcs'!D181*2.72","v":{"$error":"#N/A"}},{"$f":"('WS Calcs'!$L$2*'WS Calcs'!$L$3*'BMP Calcs'!E374/12)*Assignments!$D46*'BMP Calcs'!E181*2.72","v":{"$error":"#N/A"}},{"$f":"('WS Calcs'!$L$2*'WS Calcs'!$L$3*'BMP Calcs'!F374/12)*Assignments!$D46*'BMP Calcs'!F181*2.72","v":{"$error":"#N/A"}},{"$f":"('WS Calcs'!$L$2*'WS Calcs'!$L$3*'BMP Calcs'!G374/12)*Assignments!$D46*'BMP Calcs'!G181*2.72","v":{"$error":"#N/A"}},{"$f":"('WS Calcs'!$L$2*'WS Calcs'!$L$3*'BMP Calcs'!H374/12)*Assignments!$D46*'BMP Calcs'!H181*2.72","v":{"$error":"#N/A"}},{"$f":"('WS Calcs'!$L$2*'WS Calcs'!$L$3*'BMP Calcs'!I374/12)*Assignments!$D46*'BMP Calcs'!I181*2.72","v":{"$error":"#N/A"}},{"$f":"('WS Calcs'!$L$2*'WS Calcs'!$L$3*'BMP Calcs'!J374/12)*Assignments!$D46*'BMP Calcs'!J181*2.72","v":{"$error":"#N/A"}},{"$f":"('WS Calcs'!$L$2*'WS Calcs'!$L$3*'BMP Calcs'!K374/12)*Assignments!$D46*'BMP Calcs'!K181*2.72","v":{"$error":"#N/A"}},{"$f":"('WS Calcs'!$L$2*'WS Calcs'!$L$3*'BMP Calcs'!L374/12)*Assignments!$D46*'BMP Calcs'!L181*2.72","v":{"$error":"#N/A"}},{"$f":"('WS Calcs'!$L$2*'WS Calcs'!$L$3*'BMP Calcs'!M374/12)*Assignments!$D46*'BMP Calcs'!M181*2.72","v":{"$error":"#N/A"}},{"$f":"('WS Calcs'!$L$2*'WS Calcs'!$L$3*'BMP Calcs'!N374/12)*Assignments!$D46*'BMP Calcs'!N181*2.72","v":{"$error":"#N/A"}},{"$f":"('WS Calcs'!$L$2*'WS Calcs'!$L$3*'BMP Calcs'!O374/12)*Assignments!$D46*'BMP Calcs'!O181*2.72","v":{"$error":"#N/A"}},{"$f":"('WS Calcs'!$L$2*'WS Calcs'!$L$3*'BMP Calcs'!P374/12)*Assignments!$D46*'BMP Calcs'!P181*2.72","v":{"$error":"#N/A"}},{"$f":"('WS Calcs'!$L$2*'WS Calcs'!$L$3*'BMP Calcs'!Q374/12)*Assignments!$D46*'BMP Calcs'!Q181*2.72","v":{"$error":"#N/A"}},{"$f":"('WS Calcs'!$L$2*'WS Calcs'!$L$3*'BMP Calcs'!R374/12)*Assignments!$D46*'BMP Calcs'!R181*2.72","v":{"$error":"#N/A"}},{"$f":"('WS Calcs'!$L$2*'WS Calcs'!$L$3*'BMP Calcs'!S374/12)*Assignments!$D46*'BMP Calcs'!S181*2.72","v":{"$error":"#N/A"}},{"$f":"('WS Calcs'!$L$2*'WS Calcs'!$L$3*'BMP Calcs'!T374/12)*Assignments!$D46*'BMP Calcs'!T181*2.72","v":{"$error":"#N/A"}},{"$f":"('WS Calcs'!$L$2*'WS Calcs'!$L$3*'BMP Calcs'!U374/12)*Assignments!$D46*'BMP Calcs'!U181*2.72","v":{"$error":"#N/A"}},{"$f":"('WS Calcs'!$L$2*'WS Calcs'!$L$3*'BMP Calcs'!V374/12)*Assignments!$D46*'BMP Calcs'!V181*2.72","v":{"$error":"#N/A"}},{"$f":"('WS Calcs'!$L$2*'WS Calcs'!$L$3*'BMP Calcs'!W374/12)*Assignments!$D46*'BMP Calcs'!W181*2.72","v":{"$error":"#N/A"}},{"$f":"('WS Calcs'!$L$2*'WS Calcs'!$L$3*'BMP Calcs'!X374/12)*Assignments!$D46*'BMP Calcs'!X181*2.72","v":{"$error":"#N/A"}},{"$f":"('WS Calcs'!$L$2*'WS Calcs'!$L$3*'BMP Calcs'!Y374/12)*Assignments!$D46*'BMP Calcs'!Y181*2.72","v":{"$error":"#N/A"}},{"$f":"('WS Calcs'!$L$2*'WS Calcs'!$L$3*('BMP Calcs'!Z374/12))*Assignments!$D46*'BMP Calcs'!Z$10*2.72","v":{"$error":"#N/A"}},null,null,{"$f":"('WS Calcs'!$L$2*'WS Calcs'!$L$3*('BMP Calcs'!AC374/12))*Assignments!$D52*'BMP Calcs'!AC181*2.72","v":{"$error":"#N/A"}},{"$f":"('WS Calcs'!$L$2*'WS Calcs'!$L$3*('BMP Calcs'!AD374/12))*Assignments!$D52*'BMP Calcs'!AD181*2.72","v":{"$error":"#N/A"}}]
[null,"     Townhomes (Built before 1995)",{"$f":"('WS Calcs'!$L$2*'BMP Calcs'!C375/12)*Assignments!$D54*'BMP Calcs'!C182*2.72","v":{"$error":"#N/A"}},{"$f":"('WS Calcs'!$L$2*'WS Calcs'!$L$3*'BMP Calcs'!D375/12)*Assignments!$D54*'BMP Calcs'!D182*2.72","v":{"$error":"#N/A"}},{"$f":"('WS Calcs'!$L$2*'WS Calcs'!$L$3*'BMP Calcs'!E375/12)*Assignments!$D54*'BMP Calcs'!E182*2.72","v":{"$error":"#N/A"}},{"$f":"('WS Calcs'!$L$2*'WS Calcs'!$L$3*'BMP Calcs'!F375/12)*Assignments!$D54*'BMP Calcs'!F182*2.72","v":{"$error":"#N/A"}},{"$f":"('WS Calcs'!$L$2*'WS Calcs'!$L$3*'BMP Calcs'!G375/12)*Assignments!$D54*'BMP Calcs'!G182*2.72","v":{"$error":"#N/A"}},{"$f":"('WS Calcs'!$L$2*'WS Calcs'!$L$3*'BMP Calcs'!H375/12)*Assignments!$D54*'BMP Calcs'!H182*2.72","v":{"$error":"#N/A"}},{"$f":"('WS Calcs'!$L$2*'WS Calcs'!$L$3*'BMP Calcs'!I375/12)*Assignments!$D54*'BMP Calcs'!I182*2.72","v":{"$error":"#N/A"}},{"$f":"('WS Calcs'!$L$2*'WS Calcs'!$L$3*'BMP Calcs'!J375/12)*Assignments!$D54*'BMP Calcs'!J182*2.72","v":{"$error":"#N/A"}},{"$f":"('WS Calcs'!$L$2*'WS Calcs'!$L$3*'BMP Calcs'!K375/12)*Assignments!$D54*'BMP Calcs'!K182*2.72","v":{"$error":"#N/A"}},{"$f":"('WS Calcs'!$L$2*'WS Calcs'!$L$3*'BMP Calcs'!L375/12)*Assignments!$D54*'BMP Calcs'!L182*2.72","v":{"$error":"#N/A"}},{"$f":"('WS Calcs'!$L$2*'WS Calcs'!$L$3*'BMP Calcs'!M375/12)*Assignments!$D54*'BMP Calcs'!M182*2.72","v":{"$error":"#N/A"}},{"$f":"('WS Calcs'!$L$2*'WS Calcs'!$L$3*'BMP Calcs'!N375/12)*Assignments!$D54*'BMP Calcs'!N182*2.72","v":{"$error":"#N/A"}},{"$f":"('WS Calcs'!$L$2*'WS Calcs'!$L$3*'BMP Calcs'!O375/12)*Assignments!$D54*'BMP Calcs'!O182*2.72","v":{"$error":"#N/A"}},{"$f":"('WS Calcs'!$L$2*'WS Calcs'!$L$3*'BMP Calcs'!P375/12)*Assignments!$D54*'BMP Calcs'!P182*2.72","v":{"$error":"#N/A"}},{"$f":"('WS Calcs'!$L$2*'WS Calcs'!$L$3*'BMP Calcs'!Q375/12)*Assignments!$D54*'BMP Calcs'!Q182*2.72","v":{"$error":"#N/A"}},{"$f":"('WS Calcs'!$L$2*'WS Calcs'!$L$3*'BMP Calcs'!R375/12)*Assignments!$D54*'BMP Calcs'!R182*2.72","v":{"$error":"#N/A"}},{"$f":"('WS Calcs'!$L$2*'WS Calcs'!$L$3*'BMP Calcs'!S375/12)*Assignments!$D54*'BMP Calcs'!S182*2.72","v":{"$error":"#N/A"}},{"$f":"('WS Calcs'!$L$2*'WS Calcs'!$L$3*'BMP Calcs'!T375/12)*Assignments!$D54*'BMP Calcs'!T182*2.72","v":{"$error":"#N/A"}},{"$f":"('WS Calcs'!$L$2*'WS Calcs'!$L$3*'BMP Calcs'!U375/12)*Assignments!$D54*'BMP Calcs'!U182*2.72","v":{"$error":"#N/A"}},{"$f":"('WS Calcs'!$L$2*'WS Calcs'!$L$3*'BMP Calcs'!V375/12)*Assignments!$D54*'BMP Calcs'!V182*2.72","v":{"$error":"#N/A"}},{"$f":"('WS Calcs'!$L$2*'WS Calcs'!$L$3*'BMP Calcs'!W375/12)*Assignments!$D54*'BMP Calcs'!W182*2.72","v":{"$error":"#N/A"}},{"$f":"('WS Calcs'!$L$2*'WS Calcs'!$L$3*'BMP Calcs'!X375/12)*Assignments!$D54*'BMP Calcs'!X182*2.72","v":{"$error":"#N/A"}},{"$f":"('WS Calcs'!$L$2*'WS Calcs'!$L$3*'BMP Calcs'!Y375/12)*Assignments!$D54*'BMP Calcs'!Y182*2.72","v":{"$error":"#N/A"}},{"$f":"('WS Calcs'!$L$2*'WS Calcs'!$L$3*('BMP Calcs'!Z375/12))*Assignments!$D54*'BMP Calcs'!Z$10*2.72","v":{"$error":"#N/A"}},null,null,{"$f":"('WS Calcs'!$L$2*'WS Calcs'!$L$3*('BMP Calcs'!AC375/12))*Assignments!$D53*'BMP Calcs'!AC182*2.72","v":{"$error":"#N/A"}},{"$f":"('WS Calcs'!$L$2*'WS Calcs'!$L$3*('BMP Calcs'!AD375/12))*Assignments!$D53*'BMP Calcs'!AD182*2.72","v":{"$error":"#N/A"}}]
[null,"     Multi-family (New)",{"$f":"('WS Calcs'!$L$2*'BMP Calcs'!C376/12)*(MAX(Assignments!$D47,Assignments!$D55))*'BMP Calcs'!C183*2.72","v":{"$error":"#N/A"}},{"$f":"('WS Calcs'!$L$2*'WS Calcs'!$L$3*'BMP Calcs'!D376/12)*(MAX(Assignments!$D47,Assignments!$D55))*'BMP Calcs'!D183*2.72","v":{"$error":"#N/A"}},{"$f":"('WS Calcs'!$L$2*'WS Calcs'!$L$3*'BMP Calcs'!E376/12)*(MAX(Assignments!$D47,Assignments!$D55))*'BMP Calcs'!E183*2.72","v":{"$error":"#N/A"}},{"$f":"('WS Calcs'!$L$2*'WS Calcs'!$L$3*'BMP Calcs'!F376/12)*(MAX(Assignments!$D47,Assignments!$D55))*'BMP Calcs'!F183*2.72","v":{"$error":"#N/A"}},{"$f":"('WS Calcs'!$L$2*'WS Calcs'!$L$3*'BMP Calcs'!G376/12)*(MAX(Assignments!$D47,Assignments!$D55))*'BMP Calcs'!G183*2.72","v":{"$error":"#N/A"}},{"$f":"('WS Calcs'!$L$2*'WS Calcs'!$L$3*'BMP Calcs'!H376/12)*(MAX(Assignments!$D47,Assignments!$D55))*'BMP Calcs'!H183*2.72","v":{"$error":"#N/A"}},{"$f":"('WS Calcs'!$L$2*'WS Calcs'!$L$3*'BMP Calcs'!I376/12)*(MAX(Assignments!$D47,Assignments!$D55))*'BMP Calcs'!I183*2.72","v":{"$error":"#N/A"}},{"$f":"('WS Calcs'!$L$2*'WS Calcs'!$L$3*'BMP Calcs'!J376/12)*(MAX(Assignments!$D47,Assignments!$D55))*'BMP Calcs'!J183*2.72","v":{"$error":"#N/A"}},{"$f":"('WS Calcs'!$L$2*'WS Calcs'!$L$3*'BMP Calcs'!K376/12)*(MAX(Assignments!$D47,Assignments!$D55))*'BMP Calcs'!K183*2.72","v":{"$error":"#N/A"}},{"$f":"('WS Calcs'!$L$2*'WS Calcs'!$L$3*'BMP Calcs'!L376/12)*(MAX(Assignments!$D47,Assignments!$D55))*'BMP Calcs'!L183*2.72","v":{"$error":"#N/A"}},{"$f":"('WS Calcs'!$L$2*'WS Calcs'!$L$3*'BMP Calcs'!M376/12)*(MAX(Assignments!$D47,Assignments!$D55))*'BMP Calcs'!M183*2.72","v":{"$error":"#N/A"}},{"$f":"('WS Calcs'!$L$2*'WS Calcs'!$L$3*'BMP Calcs'!N376/12)*(MAX(Assignments!$D47,Assignments!$D55))*'BMP Calcs'!N183*2.72","v":{"$error":"#N/A"}},{"$f":"('WS Calcs'!$L$2*'WS Calcs'!$L$3*'BMP Calcs'!O376/12)*(MAX(Assignments!$D47,Assignments!$D55))*'BMP Calcs'!O183*2.72","v":{"$error":"#N/A"}},{"$f":"('WS Calcs'!$L$2*'WS Calcs'!$L$3*'BMP Calcs'!P376/12)*(MAX(Assignments!$D47,Assignments!$D55))*'BMP Calcs'!P183*2.72","v":{"$error":"#N/A"}},{"$f":"('WS Calcs'!$L$2*'WS Calcs'!$L$3*'BMP Calcs'!Q376/12)*(MAX(Assignments!$D47,Assignments!$D55))*'BMP Calcs'!Q183*2.72","v":{"$error":"#N/A"}},{"$f":"('WS Calcs'!$L$2*'WS Calcs'!$L$3*'BMP Calcs'!R376/12)*(MAX(Assignments!$D47,Assignments!$D55))*'BMP Calcs'!R183*2.72","v":{"$error":"#N/A"}},{"$f":"('WS Calcs'!$L$2*'WS Calcs'!$L$3*'BMP Calcs'!S376/12)*(MAX(Assignments!$D47,Assignments!$D55))*'BMP Calcs'!S183*2.72","v":{"$error":"#N/A"}},{"$f":"('WS Calcs'!$L$2*'WS Calcs'!$L$3*'BMP Calcs'!T376/12)*(MAX(Assignments!$D47,Assignments!$D55))*'BMP Calcs'!T183*2.72","v":{"$error":"#N/A"}},{"$f":"('WS Calcs'!$L$2*'WS Calcs'!$L$3*'BMP Calcs'!U376/12)*(MAX(Assignments!$D47,Assignments!$D55))*'BMP Calcs'!U183*2.72","v":{"$error":"#N/A"}},{"$f":"('WS Calcs'!$L$2*'WS Calcs'!$L$3*'BMP Calcs'!V376/12)*(MAX(Assignments!$D47,Assignments!$D55))*'BMP Calcs'!V183*2.72","v":{"$error":"#N/A"}},{"$f":"('WS Calcs'!$L$2*'WS Calcs'!$L$3*'BMP Calcs'!W376/12)*(MAX(Assignments!$D47,Assignments!$D55))*'BMP Calcs'!W183*2.72","v":{"$error":"#N/A"}},{"$f":"('WS Calcs'!$L$2*'WS Calcs'!$L$3*'BMP Calcs'!X376/12)*(MAX(Assignments!$D47,Assignments!$D55))*'BMP Calcs'!X183*2.72","v":{"$error":"#N/A"}},{"$f":"('WS Calcs'!$L$2*'WS Calcs'!$L$3*'BMP Calcs'!Y376/12)*(MAX(Assignments!$D47,Assignments!$D55))*'BMP Calcs'!Y183*2.72","v":{"$error":"#N/A"}},{"$f":"('WS Calcs'!$L$2*'WS Calcs'!$L$3*'BMP Calcs'!Z376/12)*(MAX(Assignments!$D47,Assignments!$D55))*'BMP Calcs'!Z183*2.72","v":{"$error":"#N/A"}},null,null,{"$f":"('WS Calcs'!$L$2*'WS Calcs'!$L$3*'BMP Calcs'!AC376/12)*(MAX(Assignments!$D47,Assignments!$D55))*'BMP Calcs'!AC183*2.72","v":{"$error":"#N/A"}},{"$f":"('WS Calcs'!$L$2*'WS Calcs'!$L$3*'BMP Calcs'!AD376/12)*(MAX(Assignments!$D47,Assignments!$D55))*'BMP Calcs'!AD183*2.72","v":{"$error":"#N/A"}}]
[null,"     Multi-family (Built after 1995)",{"$f":"('WS Calcs'!$L$2*'BMP Calcs'!C377/12)*Assignments!$D47*'BMP Calcs'!C184*2.72","v":{"$error":"#N/A"}},{"$f":"('WS Calcs'!$L$2*'WS Calcs'!$L$3*'BMP Calcs'!D377/12)*Assignments!$D47*'BMP Calcs'!D184*2.72","v":{"$error":"#N/A"}},{"$f":"('WS Calcs'!$L$2*'WS Calcs'!$L$3*'BMP Calcs'!E377/12)*Assignments!$D47*'BMP Calcs'!E184*2.72","v":{"$error":"#N/A"}},{"$f":"('WS Calcs'!$L$2*'WS Calcs'!$L$3*'BMP Calcs'!F377/12)*Assignments!$D47*'BMP Calcs'!F184*2.72","v":{"$error":"#N/A"}},{"$f":"('WS Calcs'!$L$2*'WS Calcs'!$L$3*'BMP Calcs'!G377/12)*Assignments!$D47*'BMP Calcs'!G184*2.72","v":{"$error":"#N/A"}},{"$f":"('WS Calcs'!$L$2*'WS Calcs'!$L$3*'BMP Calcs'!H377/12)*Assignments!$D47*'BMP Calcs'!H184*2.72","v":{"$error":"#N/A"}},{"$f":"('WS Calcs'!$L$2*'WS Calcs'!$L$3*'BMP Calcs'!I377/12)*Assignments!$D47*'BMP Calcs'!I184*2.72","v":{"$error":"#N/A"}},{"$f":"('WS Calcs'!$L$2*'WS Calcs'!$L$3*'BMP Calcs'!J377/12)*Assignments!$D47*'BMP Calcs'!J184*2.72","v":{"$error":"#N/A"}},{"$f":"('WS Calcs'!$L$2*'WS Calcs'!$L$3*'BMP Calcs'!K377/12)*Assignments!$D47*'BMP Calcs'!K184*2.72","v":{"$error":"#N/A"}},{"$f":"('WS Calcs'!$L$2*'WS Calcs'!$L$3*'BMP Calcs'!L377/12)*Assignments!$D47*'BMP Calcs'!L184*2.72","v":{"$error":"#N/A"}},{"$f":"('WS Calcs'!$L$2*'WS Calcs'!$L$3*'BMP Calcs'!M377/12)*Assignments!$D47*'BMP Calcs'!M184*2.72","v":{"$error":"#N/A"}},{"$f":"('WS Calcs'!$L$2*'WS Calcs'!$L$3*'BMP Calcs'!N377/12)*Assignments!$D47*'BMP Calcs'!N184*2.72","v":{"$error":"#N/A"}},{"$f":"('WS Calcs'!$L$2*'WS Calcs'!$L$3*'BMP Calcs'!O377/12)*Assignments!$D47*'BMP Calcs'!O184*2.72","v":{"$error":"#N/A"}},{"$f":"('WS Calcs'!$L$2*'WS Calcs'!$L$3*'BMP Calcs'!P377/12)*Assignments!$D47*'BMP Calcs'!P184*2.72","v":{"$error":"#N/A"}},{"$f":"('WS Calcs'!$L$2*'WS Calcs'!$L$3*'BMP Calcs'!Q377/12)*Assignments!$D47*'BMP Calcs'!Q184*2.72","v":{"$error":"#N/A"}},{"$f":"('WS Calcs'!$L$2*'WS Calcs'!$L$3*'BMP Calcs'!R377/12)*Assignments!$D47*'BMP Calcs'!R184*2.72","v":{"$error":"#N/A"}},{"$f":"('WS Calcs'!$L$2*'WS Calcs'!$L$3*'BMP Calcs'!S377/12)*Assignments!$D47*'BMP Calcs'!S184*2.72","v":{"$error":"#N/A"}},{"$f":"('WS Calcs'!$L$2*'WS Calcs'!$L$3*'BMP Calcs'!T377/12)*Assignments!$D47*'BMP Calcs'!T184*2.72","v":{"$error":"#N/A"}},{"$f":"('WS Calcs'!$L$2*'WS Calcs'!$L$3*'BMP Calcs'!U377/12)*Assignments!$D47*'BMP Calcs'!U184*2.72","v":{"$error":"#N/A"}},{"$f":"('WS Calcs'!$L$2*'WS Calcs'!$L$3*'BMP Calcs'!V377/12)*Assignments!$D47*'BMP Calcs'!V184*2.72","v":{"$error":"#N/A"}},{"$f":"('WS Calcs'!$L$2*'WS Calcs'!$L$3*'BMP Calcs'!W377/12)*Assignments!$D47*'BMP Calcs'!W184*2.72","v":{"$error":"#N/A"}},{"$f":"('WS Calcs'!$L$2*'WS Calcs'!$L$3*'BMP Calcs'!X377/12)*Assignments!$D47*'BMP Calcs'!X184*2.72","v":{"$error":"#N/A"}},{"$f":"('WS Calcs'!$L$2*'WS Calcs'!$L$3*'BMP Calcs'!Y377/12)*Assignments!$D47*'BMP Calcs'!Y184*2.72","v":{"$error":"#N/A"}},{"$f":"('WS Calcs'!$L$2*'WS Calcs'!$L$3*('BMP Calcs'!Z377/12))*Assignments!$D47*'BMP Calcs'!Z$10*2.72","v":{"$error":"#N/A"}},null,null,{"$f":"('WS Calcs'!$L$2*'WS Calcs'!$L$3*('BMP Calcs'!AC377/12))*Assignments!$D54*'BMP Calcs'!AC184*2.72","v":{"$error":"#N/A"}},{"$f":"('WS Calcs'!$L$2*'WS Calcs'!$L$3*('BMP Calcs'!AD377/12))*Assignments!$D54*'BMP Calcs'!AD184*2.72","v":{"$error":"#N/A"}}]
[null,"     Multi-family (Built before 1995)",{"$f":"('WS Calcs'!$L$2*'BMP Calcs'!C378/12)*Assignments!$D55*'BMP Calcs'!C185*2.72","v":{"$error":"#N/A"}},{"$f":"('WS Calcs'!$L$2*'WS Calcs'!$L$3*'BMP Calcs'!D378/12)*Assignments!$D55*'BMP Calcs'!D185*2.72","v":{"$error":"#N/A"}},{"$f":"('WS Calcs'!$L$2*'WS Calcs'!$L$3*'BMP Calcs'!E378/12)*Assignments!$D55*'BMP Calcs'!E185*2.72","v":{"$error":"#N/A"}},{"$f":"('WS Calcs'!$L$2*'WS Calcs'!$L$3*'BMP Calcs'!F378/12)*Assignments!$D55*'BMP Calcs'!F185*2.72","v":{"$error":"#N/A"}},{"$f":"('WS Calcs'!$L$2*'WS Calcs'!$L$3*'BMP Calcs'!G378/12)*Assignments!$D55*'BMP Calcs'!G185*2.72","v":{"$error":"#N/A"}},{"$f":"('WS Calcs'!$L$2*'WS Calcs'!$L$3*'BMP Calcs'!H378/12)*Assignments!$D55*'BMP Calcs'!H185*2.72","v":{"$error":"#N/A"}},{"$f":"('WS Calcs'!$L$2*'WS Calcs'!$L$3*'BMP Calcs'!I378/12)*Assignments!$D55*'BMP Calcs'!I185*2.72","v":{"$error":"#N/A"}},{"$f":"('WS Calcs'!$L$2*'WS Calcs'!$L$3*'BMP Calcs'!J378/12)*Assignments!$D55*'BMP Calcs'!J185*2.72","v":{"$error":"#N/A"}},{"$f":"('WS Calcs'!$L$2*'WS Calcs'!$L$3*'BMP Calcs'!K378/12)*Assignments!$D55*'BMP Calcs'!K185*2.72","v":{"$error":"#N/A"}},{"$f":"('WS Calcs'!$L$2*'WS Calcs'!$L$3*'BMP Calcs'!L378/12)*Assignments!$D55*'BMP Calcs'!L185*2.72","v":{"$error":"#N/A"}},{"$f":"('WS Calcs'!$L$2*'WS Calcs'!$L$3*'BMP Calcs'!M378/12)*Assignments!$D55*'BMP Calcs'!M185*2.72","v":{"$error":"#N/A"}},{"$f":"('WS Calcs'!$L$2*'WS Calcs'!$L$3*'BMP Calcs'!N378/12)*Assignments!$D55*'BMP Calcs'!N185*2.72","v":{"$error":"#N/A"}},{"$f":"('WS Calcs'!$L$2*'WS Calcs'!$L$3*'BMP Calcs'!O378/12)*Assignments!$D55*'BMP Calcs'!O185*2.72","v":{"$error":"#N/A"}},{"$f":"('WS Calcs'!$L$2*'WS Calcs'!$L$3*'BMP Calcs'!P378/12)*Assignments!$D55*'BMP Calcs'!P185*2.72","v":{"$error":"#N/A"}},{"$f":"('WS Calcs'!$L$2*'WS Calcs'!$L$3*'BMP Calcs'!Q378/12)*Assignments!$D55*'BMP Calcs'!Q185*2.72","v":{"$error":"#N/A"}},{"$f":"('WS Calcs'!$L$2*'WS Calcs'!$L$3*'BMP Calcs'!R378/12)*Assignments!$D55*'BMP Calcs'!R185*2.72","v":{"$error":"#N/A"}},{"$f":"('WS Calcs'!$L$2*'WS Calcs'!$L$3*'BMP Calcs'!S378/12)*Assignments!$D55*'BMP Calcs'!S185*2.72","v":{"$error":"#N/A"}},{"$f":"('WS Calcs'!$L$2*'WS Calcs'!$L$3*'BMP Calcs'!T378/12)*Assignments!$D55*'BMP Calcs'!T185*2.72","v":{"$error":"#N/A"}},{"$f":"('WS Calcs'!$L$2*'WS Calcs'!$L$3*'BMP Calcs'!U378/12)*Assignments!$D55*'BMP Calcs'!U185*2.72","v":{"$error":"#N/A"}},{"$f":"('WS Calcs'!$L$2*'WS Calcs'!$L$3*'BMP Calcs'!V378/12)*Assignments!$D55*'BMP Calcs'!V185*2.72","v":{"$error":"#N/A"}},{"$f":"('WS Calcs'!$L$2*'WS Calcs'!$L$3*'BMP Calcs'!W378/12)*Assignments!$D55*'BMP Calcs'!W185*2.72","v":{"$error":"#N/A"}},{"$f":"('WS Calcs'!$L$2*'WS Calcs'!$L$3*'BMP Calcs'!X378/12)*Assignments!$D55*'BMP Calcs'!X185*2.72","v":{"$error":"#N/A"}},{"$f":"('WS Calcs'!$L$2*'WS Calcs'!$L$3*'BMP Calcs'!Y378/12)*Assignments!$D55*'BMP Calcs'!Y185*2.72","v":{"$error":"#N/A"}},{"$f":"('WS Calcs'!$L$2*'WS Calcs'!$L$3*('BMP Calcs'!Z378/12))*Assignments!$D55*'BMP Calcs'!Z$10*2.72","v":{"$error":"#N/A"}},null,null,{"$f":"('WS Calcs'!$L$2*'WS Calcs'!$L$3*('BMP Calcs'!AC378/12))*Assignments!$D55*'BMP Calcs'!AC185*2.72","v":{"$error":"#N/A"}},{"$f":"('WS Calcs'!$L$2*'WS Calcs'!$L$3*('BMP Calcs'!AD378/12))*Assignments!$D55*'BMP Calcs'!AD185*2.72","v":{"$error":"#N/A"}}]
[null,"     Custom Lot Size (New)",{"$f":"IF(C186>0,('WS Calcs'!$L$2*'BMP Calcs'!C379/12)*Assignments!$D$66*'BMP Calcs'!C186*2.72, 0)","v":0},{"$f":"IF(D186>0,('WS Calcs'!$L$2*'BMP Calcs'!D379/12)*Assignments!$D$66*'BMP Calcs'!D186*2.72, 0)","v":0},{"$f":"IF(E186>0,('WS Calcs'!$L$2*'BMP Calcs'!E379/12)*Assignments!$D$66*'BMP Calcs'!E186*2.72, 0)","v":0},{"$f":"IF(F186>0,('WS Calcs'!$L$2*'BMP Calcs'!F379/12)*Assignments!$D$66*'BMP Calcs'!F186*2.72, 0)","v":0},{"$f":"IF(G186>0,('WS Calcs'!$L$2*'BMP Calcs'!G379/12)*Assignments!$D$66*'BMP Calcs'!G186*2.72, 0)","v":0},{"$f":"IF(H186>0,('WS Calcs'!$L$2*'BMP Calcs'!H379/12)*Assignments!$D$66*'BMP Calcs'!H186*2.72, 0)","v":0},{"$f":"IF(I186>0,('WS Calcs'!$L$2*'BMP Calcs'!I379/12)*Assignments!$D$66*'BMP Calcs'!I186*2.72, 0)","v":0},{"$f":"IF(J186>0,('WS Calcs'!$L$2*'BMP Calcs'!J379/12)*Assignments!$D$66*'BMP Calcs'!J186*2.72, 0)","v":0},{"$f":"IF(K186>0,('WS Calcs'!$L$2*'BMP Calcs'!K379/12)*Assignments!$D$66*'BMP Calcs'!K186*2.72, 0)","v":0},{"$f":"IF(L186>0,('WS Calcs'!$L$2*'BMP Calcs'!L379/12)*Assignments!$D$66*'BMP Calcs'!L186*2.72, 0)","v":0},{"$f":"IF(M186>0,('WS Calcs'!$L$2*'BMP Calcs'!M379/12)*Assignments!$D$66*'BMP Calcs'!M186*2.72, 0)","v":0},{"$f":"IF(N186>0,('WS Calcs'!$L$2*'BMP Calcs'!N379/12)*Assignments!$D$66*'BMP Calcs'!N186*2.72, 0)","v":0},{"$f":"IF(O186>0,('WS Calcs'!$L$2*'BMP Calcs'!O379/12)*Assignments!$D$66*'BMP Calcs'!O186*2.72, 0)","v":0},{"$f":"IF(P186>0,('WS Calcs'!$L$2*'BMP Calcs'!P379/12)*Assignments!$D$66*'BMP Calcs'!P186*2.72, 0)","v":0},{"$f":"IF(Q186>0,('WS Calcs'!$L$2*'BMP Calcs'!Q379/12)*Assignments!$D$66*'BMP Calcs'!Q186*2.72, 0)","v":0},{"$f":"IF(R186>0,('WS Calcs'!$L$2*'BMP Calcs'!R379/12)*Assignments!$D$66*'BMP Calcs'!R186*2.72, 0)","v":0},{"$f":"IF(S186>0,('WS Calcs'!$L$2*'BMP Calcs'!S379/12)*Assignments!$D$66*'BMP Calcs'!S186*2.72, 0)","v":0},{"$f":"IF(T186>0,('WS Calcs'!$L$2*'BMP Calcs'!T379/12)*Assignments!$D$66*'BMP Calcs'!T186*2.72, 0)","v":0},{"$f":"IF(U186>0,('WS Calcs'!$L$2*'BMP Calcs'!U379/12)*Assignments!$D$66*'BMP Calcs'!U186*2.72, 0)","v":0},{"$f":"IF(V186>0,('WS Calcs'!$L$2*'BMP Calcs'!V379/12)*Assignments!$D$66*'BMP Calcs'!V186*2.72, 0)","v":0},{"$f":"IF(W186>0,('WS Calcs'!$L$2*'BMP Calcs'!W379/12)*Assignments!$D$66*'BMP Calcs'!W186*2.72, 0)","v":0},{"$f":"IF(X186>0,('WS Calcs'!$L$2*'BMP Calcs'!X379/12)*Assignments!$D$66*'BMP Calcs'!X186*2.72, 0)","v":0},{"$f":"IF(Y186>0,('WS Calcs'!$L$2*'BMP Calcs'!Y379/12)*Assignments!$D$66*'BMP Calcs'!Y186*2.72, 0)","v":0},{"$f":"IF(Z186>0,('WS Calcs'!$L$2*'BMP Calcs'!Z379/12)*Assignments!$D$66*'BMP Calcs'!Z186*2.72, 0)","v":0},null,null,{"$f":"IF(AC186>0,('WS Calcs'!$L$2*'BMP Calcs'!AC379/12)*Assignments!$D$66*'BMP Calcs'!AC186*2.72, 0)","v":0},{"$f":"IF(AD186>0,('WS Calcs'!$L$2*'BMP Calcs'!AD379/12)*Assignments!$D$66*'BMP Calcs'!AD186*2.72, 0)","v":0}]
[null,"     Custom Lot Size (Built after 1995)",{"$f":"IF('2. BMP Characteristics'!E95<>0,('WS Calcs'!$L$2*'BMP Calcs'!C380/12)*Assignments!$D48*'BMP Calcs'!C187*2.72,0)","v":0},{"$f":"IF('2. BMP Characteristics'!G95<>0,('WS Calcs'!$L$2*'WS Calcs'!$L$3*'BMP Calcs'!D380/12)*Assignments!$D48*'BMP Calcs'!D187*2.72,0)","v":0},{"$f":"IF('2. BMP Characteristics'!I95<>0,('WS Calcs'!$L$2*'WS Calcs'!$L$3*'BMP Calcs'!E380/12)*Assignments!$D48*'BMP Calcs'!E187*2.72,0)","v":0},{"$f":"('WS Calcs'!$L$2*'WS Calcs'!$L$3*'BMP Calcs'!F380/12)*Assignments!$D48*'BMP Calcs'!F187*2.72","v":{"$error":"#N/A"}},{"$f":"IF('2. BMP Characteristics'!L95<>0,('WS Calcs'!$L$2*'WS Calcs'!$L$3*'BMP Calcs'!G380/12)*Assignments!$D48*'BMP Calcs'!G187*2.72,0)","v":0},{"$f":"IF('2. BMP Characteristics'!N95<>0,('WS Calcs'!$L$2*'WS Calcs'!$L$3*'BMP Calcs'!H380/12)*Assignments!$D48*'BMP Calcs'!H187*2.72,0)","v":0},{"$f":"IF('2. BMP Characteristics'!P95<>0,('WS Calcs'!$L$2*'WS Calcs'!$L$3*'BMP Calcs'!I380/12)*Assignments!$D48*'BMP Calcs'!I187*2.72,0)","v":0},{"$f":"('WS Calcs'!$L$2*'WS Calcs'!$L$3*'BMP Calcs'!J380/12)*Assignments!$D48*'BMP Calcs'!J187*2.72","v":{"$error":"#N/A"}},{"$f":"IF('2. BMP Characteristics'!S95<>0,('WS Calcs'!$L$2*'WS Calcs'!$L$3*'BMP Calcs'!K380/12)*Assignments!$D48*'BMP Calcs'!K187*2.72,0)","v":0},{"$f":"IF('2. BMP Characteristics'!U95<>0,('WS Calcs'!$L$2*'WS Calcs'!$L$3*'BMP Calcs'!L380/12)*Assignments!$D48*'BMP Calcs'!L187*2.72,0)","v":0},{"$f":"IF('2. BMP Characteristics'!W95<>0,('WS Calcs'!$L$2*'WS Calcs'!$L$3*'BMP Calcs'!M380/12)*Assignments!$D48*'BMP Calcs'!M187*2.72,0)","v":0},{"$f":"('WS Calcs'!$L$2*'WS Calcs'!$L$3*'BMP Calcs'!N380/12)*Assignments!$D48*'BMP Calcs'!N187*2.72","v":{"$error":"#N/A"}},{"$f":"IF('2. BMP Characteristics'!Z95<>0,('WS Calcs'!$L$2*'WS Calcs'!$L$3*'BMP Calcs'!O380/12)*Assignments!$D48*'BMP Calcs'!O187*2.72,0)","v":0},{"$f":"IF('2. BMP Characteristics'!AB95,('WS Calcs'!$L$2*'WS Calcs'!$L$3*'BMP Calcs'!P380/12)*Assignments!$D48*'BMP Calcs'!P187*2.72,0)","v":0},{"$f":"IF('2. BMP Characteristics'!AD95<>0,('WS Calcs'!$L$2*'WS Calcs'!$L$3*'BMP Calcs'!Q380/12)*Assignments!$D48*'BMP Calcs'!Q187*2.72,0)","v":0},{"$f":"('WS Calcs'!$L$2*'WS Calcs'!$L$3*'BMP Calcs'!R380/12)*Assignments!$D48*'BMP Calcs'!R187*2.72","v":{"$error":"#N/A"}},{"$f":"IF('2. BMP Characteristics'!AG95<>0,('WS Calcs'!$L$2*'WS Calcs'!$L$3*'BMP Calcs'!S380/12)*Assignments!$D48*'BMP Calcs'!S187*2.72,0)","v":0},{"$f":"IF('2. BMP Characteristics'!AI95<>0,('WS Calcs'!$L$2*'WS Calcs'!$L$3*'BMP Calcs'!T380/12)*Assignments!$D48*'BMP Calcs'!T187*2.72,0)","v":0},{"$f":"IF('2. BMP Characteristics'!AK95<>0,('WS Calcs'!$L$2*'WS Calcs'!$L$3*'BMP Calcs'!U380/12)*Assignments!$D48*'BMP Calcs'!U187*2.72,0)","v":0},{"$f":"('WS Calcs'!$L$2*'WS Calcs'!$L$3*'BMP Calcs'!V380/12)*Assignments!$D48*'BMP Calcs'!V187*2.72","v":{"$error":"#N/A"}},{"$f":"IF('2. BMP Characteristics'!AN95<>0,('WS Calcs'!$L$2*'WS Calcs'!$L$3*'BMP Calcs'!W380/12)*Assignments!$D48*'BMP Calcs'!W187*2.72,0)","v":0},{"$f":"IF('2. BMP Characteristics'!AP95<>0,('WS Calcs'!$L$2*'WS Calcs'!$L$3*'BMP Calcs'!X380/12)*Assignments!$D48*'BMP Calcs'!X187*2.72,0)","v":0},{"$f":"IF('2. BMP Characteristics'!AR95<>0,('WS Calcs'!$L$2*'WS Calcs'!$L$3*'BMP Calcs'!Y380/12)*Assignments!$D48*'BMP Calcs'!Y187*2.72,0)","v":0},{"$f":"('WS Calcs'!$L$2*'WS Calcs'!$L$3*'BMP Calcs'!Z380/12)*Assignments!$D48*'BMP Calcs'!Z187*2.72","v":{"$error":"#N/A"}},null,null,{"$f":"IF('2. BMP Characteristics'!AV95<>0,('WS Calcs'!$L$2*'WS Calcs'!$L$3*'BMP Calcs'!AC380/12)*Assignments!$D48*'BMP Calcs'!AC187*2.72,0)","v":0},{"$f":"IF('2. BMP Characteristics'!AW95<>0,('WS Calcs'!$L$2*'WS Calcs'!$L$3*'BMP Calcs'!AD380/12)*Assignments!$D48*'BMP Calcs'!AD187*2.72,0)","v":0}]
[null,"     Custom Lot Size (Built before 1995)",{"$f":"IF('2. BMP Characteristics'!E96<>0,('WS Calcs'!$L$2*'BMP Calcs'!C381/12)*Assignments!$D56*'BMP Calcs'!C188*2.72,0)","v":0},{"$f":"IF('2. BMP Characteristics'!G96<>0,('WS Calcs'!$L$2*'WS Calcs'!$L$3*'BMP Calcs'!D381/12)*Assignments!$D56*'BMP Calcs'!D188*2.72,0)","v":0},{"$f":"IF('2. BMP Characteristics'!I96<>0,('WS Calcs'!$L$2*'WS Calcs'!$L$3*'BMP Calcs'!E381/12)*Assignments!$D56*'BMP Calcs'!E188*2.72,0)","v":0},{"$f":"('WS Calcs'!$L$2*'WS Calcs'!$L$3*'BMP Calcs'!F381/12)*Assignments!$D56*'BMP Calcs'!F188*2.72","v":{"$error":"#N/A"}},{"$f":"IF('2. BMP Characteristics'!L96<>0,('WS Calcs'!$L$2*'WS Calcs'!$L$3*'BMP Calcs'!G381/12)*Assignments!$D56*'BMP Calcs'!G188*2.72,0)","v":0},{"$f":"IF('2. BMP Characteristics'!N96<>0,('WS Calcs'!$L$2*'WS Calcs'!$L$3*'BMP Calcs'!H381/12)*Assignments!$D56*'BMP Calcs'!H188*2.72,0)","v":0},{"$f":"IF('2. BMP Characteristics'!P96<>0,('WS Calcs'!$L$2*'WS Calcs'!$L$3*'BMP Calcs'!I381/12)*Assignments!$D56*'BMP Calcs'!I188*2.72,0)","v":0},{"$f":"('WS Calcs'!$L$2*'WS Calcs'!$L$3*'BMP Calcs'!J381/12)*Assignments!$D56*'BMP Calcs'!J188*2.72","v":{"$error":"#N/A"}},{"$f":"IF('2. BMP Characteristics'!S96<>0,('WS Calcs'!$L$2*'WS Calcs'!$L$3*'BMP Calcs'!K381/12)*Assignments!$D56*'BMP Calcs'!K188*2.72,0)","v":0},{"$f":"IF('2. BMP Characteristics'!U96<>0,('WS Calcs'!$L$2*'WS Calcs'!$L$3*'BMP Calcs'!L381/12)*Assignments!$D56*'BMP Calcs'!L188*2.72,0)","v":0},{"$f":"IF('2. BMP Characteristics'!W96<>0,('WS Calcs'!$L$2*'WS Calcs'!$L$3*'BMP Calcs'!M381/12)*Assignments!$D56*'BMP Calcs'!M188*2.72,0)","v":0},{"$f":"('WS Calcs'!$L$2*'WS Calcs'!$L$3*'BMP Calcs'!N381/12)*Assignments!$D56*'BMP Calcs'!N188*2.72","v":{"$error":"#N/A"}},{"$f":"IF('2. BMP Characteristics'!Z96<>0,('WS Calcs'!$L$2*'WS Calcs'!$L$3*'BMP Calcs'!O381/12)*Assignments!$D56*'BMP Calcs'!O188*2.72,0)","v":0},{"$f":"IF('2. BMP Characteristics'!AB96,('WS Calcs'!$L$2*'WS Calcs'!$L$3*'BMP Calcs'!P381/12)*Assignments!$D56*'BMP Calcs'!P188*2.72,0)","v":0},{"$f":"IF('2. BMP Characteristics'!AD96<>0,('WS Calcs'!$L$2*'WS Calcs'!$L$3*'BMP Calcs'!Q381/12)*Assignments!$D56*'BMP Calcs'!Q188*2.72,0)","v":0},{"$f":"('WS Calcs'!$L$2*'WS Calcs'!$L$3*'BMP Calcs'!R381/12)*Assignments!$D56*'BMP Calcs'!R188*2.72","v":{"$error":"#N/A"}},{"$f":"IF('2. BMP Characteristics'!AG96,('WS Calcs'!$L$2*'WS Calcs'!$L$3*'BMP Calcs'!S381/12)*Assignments!$D56*'BMP Calcs'!S188*2.72,0)","v":0},{"$f":"IF('2. BMP Characteristics'!AI96<>0,('WS Calcs'!$L$2*'WS Calcs'!$L$3*'BMP Calcs'!T381/12)*Assignments!$D56*'BMP Calcs'!T188*2.72,0)","v":0},{"$f":"IF('2. BMP Characteristics'!AK96<>0,('WS Calcs'!$L$2*'WS Calcs'!$L$3*'BMP Calcs'!U381/12)*Assignments!$D56*'BMP Calcs'!U188*2.72,0)","v":0},{"$f":"('WS Calcs'!$L$2*'WS Calcs'!$L$3*'BMP Calcs'!V381/12)*Assignments!$D56*'BMP Calcs'!V188*2.72","v":{"$error":"#N/A"}},{"$f":"IF('2. BMP Characteristics'!AN96<>0,('WS Calcs'!$L$2*'WS Calcs'!$L$3*'BMP Calcs'!W381/12)*Assignments!$D56*'BMP Calcs'!W188*2.72,0)","v":0},{"$f":"IF('2. BMP Characteristics'!AP96,('WS Calcs'!$L$2*'WS Calcs'!$L$3*'BMP Calcs'!X381/12)*Assignments!$D56*'BMP Calcs'!X188*2.72,0)","v":0},{"$f":"IF('2. BMP Characteristics'!AR96<>0,('WS Calcs'!$L$2*'WS Calcs'!$L$3*'BMP Calcs'!Y381/12)*Assignments!$D56*'BMP Calcs'!Y188*2.72,0)","v":0},{"$f":"('WS Calcs'!$L$2*'WS Calcs'!$L$3*'BMP Calcs'!Z381/12)*Assignments!$D56*'BMP Calcs'!Z188*2.72","v":{"$error":"#N/A"}},null,null,{"$f":"IF('2. BMP Characteristics'!AV96<>0,('WS Calcs'!$L$2*'WS Calcs'!$L$3*'BMP Calcs'!AC381/12)*Assignments!$D56*'BMP Calcs'!AC188*2.72,0)","v":0},{"$f":"IF('2. BMP Characteristics'!AW96<>0,('WS Calcs'!$L$2*'WS Calcs'!$L$3*'BMP Calcs'!AD381/12)*Assignments!$D56*'BMP Calcs'!AD188*2.72,0)","v":0}]
[null,"     Roadway",{"$f":"('WS Calcs'!$L$2*'BMP Calcs'!C382/12)*Assignments!$D57*'BMP Calcs'!C189*2.72","v":{"$error":"#N/A"}},{"$f":"('WS Calcs'!$L$2*'WS Calcs'!$L$3*('BMP Calcs'!D382/12))*Assignments!$D57*'BMP Calcs'!D189*2.72","v":{"$error":"#N/A"}},{"$f":"('WS Calcs'!$L$2*'WS Calcs'!$L$3*('BMP Calcs'!E382/12))*Assignments!$D57*'BMP Calcs'!E189*2.72","v":{"$error":"#N/A"}},null,{"$f":"('WS Calcs'!$L$2*'WS Calcs'!$L$3*('BMP Calcs'!G382/12))*Assignments!$D57*'BMP Calcs'!G189*2.72","v":{"$error":"#N/A"}},{"$f":"('WS Calcs'!$L$2*'WS Calcs'!$L$3*('BMP Calcs'!H382/12))*Assignments!$D57*'BMP Calcs'!H189*2.72","v":{"$error":"#N/A"}},{"$f":"('WS Calcs'!$L$2*'WS Calcs'!$L$3*('BMP Calcs'!I382/12))*Assignments!$D57*'BMP Calcs'!I189*2.72","v":{"$error":"#N/A"}},null,{"$f":"('WS Calcs'!$L$2*'WS Calcs'!$L$3*('BMP Calcs'!K382/12))*Assignments!$D57*'BMP Calcs'!K189*2.72","v":{"$error":"#N/A"}},{"$f":"('WS Calcs'!$L$2*'WS Calcs'!$L$3*('BMP Calcs'!L382/12))*Assignments!$D57*'BMP Calcs'!L189*2.72","v":{"$error":"#N/A"}},{"$f":"('WS Calcs'!$L$2*'WS Calcs'!$L$3*('BMP Calcs'!M382/12))*Assignments!$D57*'BMP Calcs'!M189*2.72","v":{"$error":"#N/A"}},null,{"$f":"('WS Calcs'!$L$2*'WS Calcs'!$L$3*('BMP Calcs'!O382/12))*Assignments!$D57*'BMP Calcs'!O189*2.72","v":{"$error":"#N/A"}},{"$f":"('WS Calcs'!$L$2*'WS Calcs'!$L$3*('BMP Calcs'!P382/12))*Assignments!$D57*'BMP Calcs'!P189*2.72","v":{"$error":"#N/A"}},{"$f":"('WS Calcs'!$L$2*'WS Calcs'!$L$3*('BMP Calcs'!Q382/12))*Assignments!$D57*'BMP Calcs'!Q189*2.72","v":{"$error":"#N/A"}},null,{"$f":"('WS Calcs'!$L$2*'WS Calcs'!$L$3*('BMP Calcs'!S382/12))*Assignments!$D57*'BMP Calcs'!S189*2.72","v":{"$error":"#N/A"}},{"$f":"('WS Calcs'!$L$2*'WS Calcs'!$L$3*('BMP Calcs'!T382/12))*Assignments!$D57*'BMP Calcs'!T189*2.72","v":{"$error":"#N/A"}},{"$f":"('WS Calcs'!$L$2*'WS Calcs'!$L$3*('BMP Calcs'!U382/12))*Assignments!$D57*'BMP Calcs'!U189*2.72","v":{"$error":"#N/A"}},null,{"$f":"('WS Calcs'!$L$2*'WS Calcs'!$L$3*('BMP Calcs'!W382/12))*Assignments!$D57*'BMP Calcs'!W189*2.72","v":{"$error":"#N/A"}},{"$f":"('WS Calcs'!$L$2*'WS Calcs'!$L$3*('BMP Calcs'!X382/12))*Assignments!$D57*'BMP Calcs'!X189*2.72","v":{"$error":"#N/A"}},{"$f":"('WS Calcs'!$L$2*'WS Calcs'!$L$3*('BMP Calcs'!Y382/12))*Assignments!$D57*'BMP Calcs'!Y189*2.72","v":{"$error":"#N/A"}},{"$f":"('WS Calcs'!$L$2*'WS Calcs'!$L$3*('BMP Calcs'!Z381/12))*Assignments!$D57*'BMP Calcs'!Z$10*2.72","v":{"$error":"#N/A"}},null,null,{"$f":"('WS Calcs'!$L$2*'WS Calcs'!$L$3*('BMP Calcs'!AC382/12))*Assignments!$D57*'BMP Calcs'!AC189*2.72","v":{"$error":"#N/A"}},{"$f":"('WS Calcs'!$L$2*'WS Calcs'!$L$3*('BMP Calcs'!AD382/12))*Assignments!$D57*'BMP Calcs'!AD189*2.72","v":{"$error":"#N/A"}}]
[null,"     Driveway",{"$f":"('WS Calcs'!$L$2*'BMP Calcs'!C383/12)*Assignments!$D58*'BMP Calcs'!C190*2.72","v":{"$error":"#N/A"}},{"$f":"('WS Calcs'!$L$2*'WS Calcs'!$L$3*('BMP Calcs'!D383/12))*Assignments!$D58*'BMP Calcs'!D190*2.72","v":{"$error":"#N/A"}},{"$f":"('WS Calcs'!$L$2*'WS Calcs'!$L$3*('BMP Calcs'!E383/12))*Assignments!$D58*'BMP Calcs'!E190*2.72","v":{"$error":"#N/A"}},null,{"$f":"('WS Calcs'!$L$2*'WS Calcs'!$L$3*('BMP Calcs'!G383/12))*Assignments!$D58*'BMP Calcs'!G190*2.72","v":{"$error":"#N/A"}},{"$f":"('WS Calcs'!$L$2*'WS Calcs'!$L$3*('BMP Calcs'!H383/12))*Assignments!$D58*'BMP Calcs'!H190*2.72","v":{"$error":"#N/A"}},{"$f":"('WS Calcs'!$L$2*'WS Calcs'!$L$3*('BMP Calcs'!I383/12))*Assignments!$D58*'BMP Calcs'!I190*2.72","v":{"$error":"#N/A"}},null,{"$f":"('WS Calcs'!$L$2*'WS Calcs'!$L$3*('BMP Calcs'!K383/12))*Assignments!$D58*'BMP Calcs'!K190*2.72","v":{"$error":"#N/A"}},{"$f":"('WS Calcs'!$L$2*'WS Calcs'!$L$3*('BMP Calcs'!L383/12))*Assignments!$D58*'BMP Calcs'!L190*2.72","v":{"$error":"#N/A"}},{"$f":"('WS Calcs'!$L$2*'WS Calcs'!$L$3*('BMP Calcs'!M383/12))*Assignments!$D58*'BMP Calcs'!M190*2.72","v":{"$error":"#N/A"}},null,{"$f":"('WS Calcs'!$L$2*'WS Calcs'!$L$3*('BMP Calcs'!O383/12))*Assignments!$D58*'BMP Calcs'!O190*2.72","v":{"$error":"#N/A"}},{"$f":"('WS Calcs'!$L$2*'WS Calcs'!$L$3*('BMP Calcs'!P383/12))*Assignments!$D58*'BMP Calcs'!P190*2.72","v":{"$error":"#N/A"}},{"$f":"('WS Calcs'!$L$2*'WS Calcs'!$L$3*('BMP Calcs'!Q383/12))*Assignments!$D58*'BMP Calcs'!Q190*2.72","v":{"$error":"#N/A"}},null,{"$f":"('WS Calcs'!$L$2*'WS Calcs'!$L$3*('BMP Calcs'!S383/12))*Assignments!$D58*'BMP Calcs'!S190*2.72","v":{"$error":"#N/A"}},{"$f":"('WS Calcs'!$L$2*'WS Calcs'!$L$3*('BMP Calcs'!T383/12))*Assignments!$D58*'BMP Calcs'!T190*2.72","v":{"$error":"#N/A"}},{"$f":"('WS Calcs'!$L$2*'WS Calcs'!$L$3*('BMP Calcs'!U383/12))*Assignments!$D58*'BMP Calcs'!U190*2.72","v":{"$error":"#N/A"}},null,{"$f":"('WS Calcs'!$L$2*'WS Calcs'!$L$3*('BMP Calcs'!W383/12))*Assignments!$D58*'BMP Calcs'!W190*2.72","v":{"$error":"#N/A"}},{"$f":"('WS Calcs'!$L$2*'WS Calcs'!$L$3*('BMP Calcs'!X383/12))*Assignments!$D58*'BMP Calcs'!X190*2.72","v":{"$error":"#N/A"}},{"$f":"('WS Calcs'!$L$2*'WS Calcs'!$L$3*('BMP Calcs'!Y383/12))*Assignments!$D58*'BMP Calcs'!Y190*2.72","v":{"$error":"#N/A"}},{"$f":"('WS Calcs'!$L$2*'WS Calcs'!$L$3*('BMP Calcs'!Z383/12))*Assignments!$D58*'BMP Calcs'!Z$10*2.72","v":{"$error":"#N/A"}},null,null,{"$f":"('WS Calcs'!$L$2*'WS Calcs'!$L$3*('BMP Calcs'!AC383/12))*Assignments!$D58*'BMP Calcs'!AC190*2.72","v":{"$error":"#N/A"}},{"$f":"('WS Calcs'!$L$2*'WS Calcs'!$L$3*('BMP Calcs'!AD383/12))*Assignments!$D58*'BMP Calcs'!AD190*2.72","v":{"$error":"#N/A"}}]
[null,"     Parking lot",{"$f":"('WS Calcs'!$L$2*'BMP Calcs'!C384/12)*Assignments!$D59*'BMP Calcs'!C191*2.72","v":{"$error":"#N/A"}},{"$f":"('WS Calcs'!$L$2*'WS Calcs'!$L$3*('BMP Calcs'!D384/12))*Assignments!$D59*'BMP Calcs'!D191*2.72","v":{"$error":"#N/A"}},{"$f":"('WS Calcs'!$L$2*'WS Calcs'!$L$3*('BMP Calcs'!E384/12))*Assignments!$D59*'BMP Calcs'!E191*2.72","v":{"$error":"#N/A"}},null,{"$f":"('WS Calcs'!$L$2*'WS Calcs'!$L$3*('BMP Calcs'!G384/12))*Assignments!$D59*'BMP Calcs'!G191*2.72","v":{"$error":"#N/A"}},{"$f":"('WS Calcs'!$L$2*'WS Calcs'!$L$3*('BMP Calcs'!H384/12))*Assignments!$D59*'BMP Calcs'!H191*2.72","v":{"$error":"#N/A"}},{"$f":"('WS Calcs'!$L$2*'WS Calcs'!$L$3*('BMP Calcs'!I384/12))*Assignments!$D59*'BMP Calcs'!I191*2.72","v":{"$error":"#N/A"}},null,{"$f":"('WS Calcs'!$L$2*'WS Calcs'!$L$3*('BMP Calcs'!K384/12))*Assignments!$D59*'BMP Calcs'!K191*2.72","v":{"$error":"#N/A"}},{"$f":"('WS Calcs'!$L$2*'WS Calcs'!$L$3*('BMP Calcs'!L384/12))*Assignments!$D59*'BMP Calcs'!L191*2.72","v":{"$error":"#N/A"}},{"$f":"('WS Calcs'!$L$2*'WS Calcs'!$L$3*('BMP Calcs'!M384/12))*Assignments!$D59*'BMP Calcs'!M191*2.72","v":{"$error":"#N/A"}},null,{"$f":"('WS Calcs'!$L$2*'WS Calcs'!$L$3*('BMP Calcs'!O384/12))*Assignments!$D59*'BMP Calcs'!O191*2.72","v":{"$error":"#N/A"}},{"$f":"('WS Calcs'!$L$2*'WS Calcs'!$L$3*('BMP Calcs'!P384/12))*Assignments!$D59*'BMP Calcs'!P191*2.72","v":{"$error":"#N/A"}},{"$f":"('WS Calcs'!$L$2*'WS Calcs'!$L$3*('BMP Calcs'!Q384/12))*Assignments!$D59*'BMP Calcs'!Q191*2.72","v":{"$error":"#N/A"}},null,{"$f":"('WS Calcs'!$L$2*'WS Calcs'!$L$3*('BMP Calcs'!S384/12))*Assignments!$D59*'BMP Calcs'!S191*2.72","v":{"$error":"#N/A"}},{"$f":"('WS Calcs'!$L$2*'WS Calcs'!$L$3*('BMP Calcs'!T384/12))*Assignments!$D59*'BMP Calcs'!T191*2.72","v":{"$error":"#N/A"}},{"$f":"('WS Calcs'!$L$2*'WS Calcs'!$L$3*('BMP Calcs'!U384/12))*Assignments!$D59*'BMP Calcs'!U191*2.72","v":{"$error":"#N/A"}},null,{"$f":"('WS Calcs'!$L$2*'WS Calcs'!$L$3*('BMP Calcs'!W384/12))*Assignments!$D59*'BMP Calcs'!W191*2.72","v":{"$error":"#N/A"}},{"$f":"('WS Calcs'!$L$2*'WS Calcs'!$L$3*('BMP Calcs'!X384/12))*Assignments!$D59*'BMP Calcs'!X191*2.72","v":{"$error":"#N/A"}},{"$f":"('WS Calcs'!$L$2*'WS Calcs'!$L$3*('BMP Calcs'!Y384/12))*Assignments!$D59*'BMP Calcs'!Y191*2.72","v":{"$error":"#N/A"}},{"$f":"('WS Calcs'!$L$2*'WS Calcs'!$L$3*('BMP Calcs'!Z384/12))*Assignments!$D59*'BMP Calcs'!Z$10*2.72","v":{"$error":"#N/A"}},null,null,{"$f":"('WS Calcs'!$L$2*'WS Calcs'!$L$3*('BMP Calcs'!AC384/12))*Assignments!$D59*'BMP Calcs'!AC191*2.72","v":{"$error":"#N/A"}},{"$f":"('WS Calcs'!$L$2*'WS Calcs'!$L$3*('BMP Calcs'!AD384/12))*Assignments!$D59*'BMP Calcs'!AD191*2.72","v":{"$error":"#N/A"}}]
[null,"     Roof",{"$f":"('WS Calcs'!$L$2*'BMP Calcs'!C385/12)*Assignments!$D60*'BMP Calcs'!C192*2.72","v":{"$error":"#N/A"}},{"$f":"('WS Calcs'!$L$2*'WS Calcs'!$L$3*('BMP Calcs'!D385/12))*Assignments!$D60*'BMP Calcs'!D192*2.72","v":{"$error":"#N/A"}},{"$f":"('WS Calcs'!$L$2*'WS Calcs'!$L$3*('BMP Calcs'!E385/12))*Assignments!$D60*'BMP Calcs'!E192*2.72","v":{"$error":"#N/A"}},null,{"$f":"('WS Calcs'!$L$2*'WS Calcs'!$L$3*('BMP Calcs'!G385/12))*Assignments!$D60*'BMP Calcs'!G192*2.72","v":{"$error":"#N/A"}},{"$f":"('WS Calcs'!$L$2*'WS Calcs'!$L$3*('BMP Calcs'!H385/12))*Assignments!$D60*'BMP Calcs'!H192*2.72","v":{"$error":"#N/A"}},{"$f":"('WS Calcs'!$L$2*'WS Calcs'!$L$3*('BMP Calcs'!I385/12))*Assignments!$D60*'BMP Calcs'!I192*2.72","v":{"$error":"#N/A"}},null,{"$f":"('WS Calcs'!$L$2*'WS Calcs'!$L$3*('BMP Calcs'!K385/12))*Assignments!$D60*'BMP Calcs'!K192*2.72","v":{"$error":"#N/A"}},{"$f":"('WS Calcs'!$L$2*'WS Calcs'!$L$3*('BMP Calcs'!L385/12))*Assignments!$D60*'BMP Calcs'!L192*2.72","v":{"$error":"#N/A"}},{"$f":"('WS Calcs'!$L$2*'WS Calcs'!$L$3*('BMP Calcs'!M385/12))*Assignments!$D60*'BMP Calcs'!M192*2.72","v":{"$error":"#N/A"}},null,{"$f":"('WS Calcs'!$L$2*'WS Calcs'!$L$3*('BMP Calcs'!O385/12))*Assignments!$D60*'BMP Calcs'!O192*2.72","v":{"$error":"#N/A"}},{"$f":"('WS Calcs'!$L$2*'WS Calcs'!$L$3*('BMP Calcs'!P385/12))*Assignments!$D60*'BMP Calcs'!P192*2.72","v":{"$error":"#N/A"}},{"$f":"('WS Calcs'!$L$2*'WS Calcs'!$L$3*('BMP Calcs'!Q385/12))*Assignments!$D60*'BMP Calcs'!Q192*2.72","v":{"$error":"#N/A"}},null,{"$f":"('WS Calcs'!$L$2*'WS Calcs'!$L$3*('BMP Calcs'!S385/12))*Assignments!$D60*'BMP Calcs'!S192*2.72","v":{"$error":"#N/A"}},{"$f":"('WS Calcs'!$L$2*'WS Calcs'!$L$3*('BMP Calcs'!T385/12))*Assignments!$D60*'BMP Calcs'!T192*2.72","v":{"$error":"#N/A"}},{"$f":"('WS Calcs'!$L$2*'WS Calcs'!$L$3*('BMP Calcs'!U385/12))*Assignments!$D60*'BMP Calcs'!U192*2.72","v":{"$error":"#N/A"}},null,{"$f":"('WS Calcs'!$L$2*'WS Calcs'!$L$3*('BMP Calcs'!W385/12))*Assignments!$D60*'BMP Calcs'!W192*2.72","v":{"$error":"#N/A"}},{"$f":"('WS Calcs'!$L$2*'WS Calcs'!$L$3*('BMP Calcs'!X385/12))*Assignments!$D60*'BMP Calcs'!X192*2.72","v":{"$error":"#N/A"}},{"$f":"('WS Calcs'!$L$2*'WS Calcs'!$L$3*('BMP Calcs'!Y385/12))*Assignments!$D60*'BMP Calcs'!Y192*2.72","v":{"$error":"#N/A"}},{"$f":"('WS Calcs'!$L$2*'WS Calcs'!$L$3*('BMP Calcs'!Z385/12))*Assignments!$D60*'BMP Calcs'!Z$10*2.72","v":{"$error":"#N/A"}},null,null,{"$f":"('WS Calcs'!$L$2*'WS Calcs'!$L$3*('BMP Calcs'!AC385/12))*Assignments!$D60*'BMP Calcs'!AC192*2.72","v":{"$error":"#N/A"}},{"$f":"('WS Calcs'!$L$2*'WS Calcs'!$L$3*('BMP Calcs'!AD385/12))*Assignments!$D60*'BMP Calcs'!AD192*2.72","v":{"$error":"#N/A"}}]
[null,"     Sidewalk",{"$f":"('WS Calcs'!$L$2*'BMP Calcs'!C386/12)*Assignments!$D61*'BMP Calcs'!C193*2.72","v":{"$error":"#N/A"}},{"$f":"('WS Calcs'!$L$2*'WS Calcs'!$L$3*('BMP Calcs'!D386/12))*Assignments!$D61*'BMP Calcs'!D193*2.72","v":{"$error":"#N/A"}},{"$f":"('WS Calcs'!$L$2*'WS Calcs'!$L$3*('BMP Calcs'!E386/12))*Assignments!$D61*'BMP Calcs'!E193*2.72","v":{"$error":"#N/A"}},null,{"$f":"('WS Calcs'!$L$2*'WS Calcs'!$L$3*('BMP Calcs'!G386/12))*Assignments!$D61*'BMP Calcs'!G193*2.72","v":{"$error":"#N/A"}},{"$f":"('WS Calcs'!$L$2*'WS Calcs'!$L$3*('BMP Calcs'!H386/12))*Assignments!$D61*'BMP Calcs'!H193*2.72","v":{"$error":"#N/A"}},{"$f":"('WS Calcs'!$L$2*'WS Calcs'!$L$3*('BMP Calcs'!I386/12))*Assignments!$D61*'BMP Calcs'!I193*2.72","v":{"$error":"#N/A"}},null,{"$f":"('WS Calcs'!$L$2*'WS Calcs'!$L$3*('BMP Calcs'!K386/12))*Assignments!$D61*'BMP Calcs'!K193*2.72","v":{"$error":"#N/A"}},{"$f":"('WS Calcs'!$L$2*'WS Calcs'!$L$3*('BMP Calcs'!L386/12))*Assignments!$D61*'BMP Calcs'!L193*2.72","v":{"$error":"#N/A"}},{"$f":"('WS Calcs'!$L$2*'WS Calcs'!$L$3*('BMP Calcs'!M386/12))*Assignments!$D61*'BMP Calcs'!M193*2.72","v":{"$error":"#N/A"}},null,{"$f":"('WS Calcs'!$L$2*'WS Calcs'!$L$3*('BMP Calcs'!O386/12))*Assignments!$D61*'BMP Calcs'!O193*2.72","v":{"$error":"#N/A"}},{"$f":"('WS Calcs'!$L$2*'WS Calcs'!$L$3*('BMP Calcs'!P386/12))*Assignments!$D61*'BMP Calcs'!P193*2.72","v":{"$error":"#N/A"}},{"$f":"('WS Calcs'!$L$2*'WS Calcs'!$L$3*('BMP Calcs'!Q386/12))*Assignments!$D61*'BMP Calcs'!Q193*2.72","v":{"$error":"#N/A"}},null,{"$f":"('WS Calcs'!$L$2*'WS Calcs'!$L$3*('BMP Calcs'!S386/12))*Assignments!$D61*'BMP Calcs'!S193*2.72","v":{"$error":"#N/A"}},{"$f":"('WS Calcs'!$L$2*'WS Calcs'!$L$3*('BMP Calcs'!T386/12))*Assignments!$D61*'BMP Calcs'!T193*2.72","v":{"$error":"#N/A"}},{"$f":"('WS Calcs'!$L$2*'WS Calcs'!$L$3*('BMP Calcs'!U386/12))*Assignments!$D61*'BMP Calcs'!U193*2.72","v":{"$error":"#N/A"}},null,{"$f":"('WS Calcs'!$L$2*'WS Calcs'!$L$3*('BMP Calcs'!W386/12))*Assignments!$D61*'BMP Calcs'!W193*2.72","v":{"$error":"#N/A"}},{"$f":"('WS Calcs'!$L$2*'WS Calcs'!$L$3*('BMP Calcs'!X386/12))*Assignments!$D61*'BMP Calcs'!X193*2.72","v":{"$error":"#N/A"}},{"$f":"('WS Calcs'!$L$2*'WS Calcs'!$L$3*('BMP Calcs'!Y386/12))*Assignments!$D61*'BMP Calcs'!Y193*2.72","v":{"$error":"#N/A"}},{"$f":"('WS Calcs'!$L$2*'WS Calcs'!$L$3*('BMP Calcs'!Z386/12))*Assignments!$D61*'BMP Calcs'!Z$10*2.72","v":{"$error":"#N/A"}},null,null,{"$f":"('WS Calcs'!$L$2*'WS Calcs'!$L$3*('BMP Calcs'!AC386/12))*Assignments!$D61*'BMP Calcs'!AC193*2.72","v":{"$error":"#N/A"}},{"$f":"('WS Calcs'!$L$2*'WS Calcs'!$L$3*('BMP Calcs'!AD386/12))*Assignments!$D61*'BMP Calcs'!AD193*2.72","v":{"$error":"#N/A"}}]
[null,"     Lawn",{"$f":"('WS Calcs'!$L$2*'BMP Calcs'!C387/12)*Assignments!$D62*'BMP Calcs'!C194*2.72","v":{"$error":"#N/A"}},{"$f":"('WS Calcs'!$L$2*'WS Calcs'!$L$3*('BMP Calcs'!D387/12))*Assignments!$D62*'BMP Calcs'!D194*2.72","v":{"$error":"#N/A"}},{"$f":"('WS Calcs'!$L$2*'WS Calcs'!$L$3*('BMP Calcs'!E387/12))*Assignments!$D62*'BMP Calcs'!E194*2.72","v":{"$error":"#N/A"}},null,{"$f":"('WS Calcs'!$L$2*'WS Calcs'!$L$3*('BMP Calcs'!G387/12))*Assignments!$D62*'BMP Calcs'!G194*2.72","v":{"$error":"#N/A"}},{"$f":"('WS Calcs'!$L$2*'WS Calcs'!$L$3*('BMP Calcs'!H387/12))*Assignments!$D62*'BMP Calcs'!H194*2.72","v":{"$error":"#N/A"}},{"$f":"('WS Calcs'!$L$2*'WS Calcs'!$L$3*('BMP Calcs'!I387/12))*Assignments!$D62*'BMP Calcs'!I194*2.72","v":{"$error":"#N/A"}},null,{"$f":"('WS Calcs'!$L$2*'WS Calcs'!$L$3*('BMP Calcs'!K387/12))*Assignments!$D62*'BMP Calcs'!K194*2.72","v":{"$error":"#N/A"}},{"$f":"('WS Calcs'!$L$2*'WS Calcs'!$L$3*('BMP Calcs'!L387/12))*Assignments!$D62*'BMP Calcs'!L194*2.72","v":{"$error":"#N/A"}},{"$f":"('WS Calcs'!$L$2*'WS Calcs'!$L$3*('BMP Calcs'!M387/12))*Assignments!$D62*'BMP Calcs'!M194*2.72","v":{"$error":"#N/A"}},null,{"$f":"('WS Calcs'!$L$2*'WS Calcs'!$L$3*('BMP Calcs'!O387/12))*Assignments!$D62*'BMP Calcs'!O194*2.72","v":{"$error":"#N/A"}},{"$f":"('WS Calcs'!$L$2*'WS Calcs'!$L$3*('BMP Calcs'!P387/12))*Assignments!$D62*'BMP Calcs'!P194*2.72","v":{"$error":"#N/A"}},{"$f":"('WS Calcs'!$L$2*'WS Calcs'!$L$3*('BMP Calcs'!Q387/12))*Assignments!$D62*'BMP Calcs'!Q194*2.72","v":{"$error":"#N/A"}},null,{"$f":"('WS Calcs'!$L$2*'WS Calcs'!$L$3*('BMP Calcs'!S387/12))*Assignments!$D62*'BMP Calcs'!S194*2.72","v":{"$error":"#N/A"}},{"$f":"('WS Calcs'!$L$2*'WS Calcs'!$L$3*('BMP Calcs'!T387/12))*Assignments!$D62*'BMP Calcs'!T194*2.72","v":{"$error":"#N/A"}},{"$f":"('WS Calcs'!$L$2*'WS Calcs'!$L$3*('BMP Calcs'!U387/12))*Assignments!$D62*'BMP Calcs'!U194*2.72","v":{"$error":"#N/A"}},null,{"$f":"('WS Calcs'!$L$2*'WS Calcs'!$L$3*('BMP Calcs'!W387/12))*Assignments!$D62*'BMP Calcs'!W194*2.72","v":{"$error":"#N/A"}},{"$f":"('WS Calcs'!$L$2*'WS Calcs'!$L$3*('BMP Calcs'!X387/12))*Assignments!$D62*'BMP Calcs'!X194*2.72","v":{"$error":"#N/A"}},{"$f":"('WS Calcs'!$L$2*'WS Calcs'!$L$3*('BMP Calcs'!Y387/12))*Assignments!$D62*'BMP Calcs'!Y194*2.72","v":{"$error":"#N/A"}},{"$f":"('WS Calcs'!$L$2*'WS Calcs'!$L$3*('BMP Calcs'!Z387/12))*Assignments!$D62*'BMP Calcs'!Z$10*2.72","v":{"$error":"#N/A"}},null,null,{"$f":"('WS Calcs'!$L$2*'WS Calcs'!$L$3*('BMP Calcs'!AC387/12))*Assignments!$D62*'BMP Calcs'!AC194*2.72","v":{"$error":"#N/A"}},{"$f":"('WS Calcs'!$L$2*'WS Calcs'!$L$3*('BMP Calcs'!AD387/12))*Assignments!$D62*'BMP Calcs'!AD194*2.72","v":{"$error":"#N/A"}}]
[null,"     Managed pervious",{"$f":"('WS Calcs'!$L$2*'BMP Calcs'!C388/12)*Assignments!$D63*'BMP Calcs'!C195*2.72","v":{"$error":"#N/A"}},{"$f":"('WS Calcs'!$L$2*'WS Calcs'!$L$3*('BMP Calcs'!D388/12))*Assignments!$D63*'BMP Calcs'!D195*2.72","v":{"$error":"#N/A"}},{"$f":"('WS Calcs'!$L$2*'WS Calcs'!$L$3*('BMP Calcs'!E388/12))*Assignments!$D63*'BMP Calcs'!E195*2.72","v":{"$error":"#N/A"}},null,{"$f":"('WS Calcs'!$L$2*'WS Calcs'!$L$3*('BMP Calcs'!G388/12))*Assignments!$D63*'BMP Calcs'!G195*2.72","v":{"$error":"#N/A"}},{"$f":"('WS Calcs'!$L$2*'WS Calcs'!$L$3*('BMP Calcs'!H388/12))*Assignments!$D63*'BMP Calcs'!H195*2.72","v":{"$error":"#N/A"}},{"$f":"('WS Calcs'!$L$2*'WS Calcs'!$L$3*('BMP Calcs'!I388/12))*Assignments!$D63*'BMP Calcs'!I195*2.72","v":{"$error":"#N/A"}},null,{"$f":"('WS Calcs'!$L$2*'WS Calcs'!$L$3*('BMP Calcs'!K388/12))*Assignments!$D63*'BMP Calcs'!K195*2.72","v":{"$error":"#N/A"}},{"$f":"('WS Calcs'!$L$2*'WS Calcs'!$L$3*('BMP Calcs'!L388/12))*Assignments!$D63*'BMP Calcs'!L195*2.72","v":{"$error":"#N/A"}},{"$f":"('WS Calcs'!$L$2*'WS Calcs'!$L$3*('BMP Calcs'!M388/12))*Assignments!$D63*'BMP Calcs'!M195*2.72","v":{"$error":"#N/A"}},null,{"$f":"('WS Calcs'!$L$2*'WS Calcs'!$L$3*('BMP Calcs'!O388/12))*Assignments!$D63*'BMP Calcs'!O195*2.72","v":{"$error":"#N/A"}},{"$f":"('WS Calcs'!$L$2*'WS Calcs'!$L$3*('BMP Calcs'!P388/12))*Assignments!$D63*'BMP Calcs'!P195*2.72","v":{"$error":"#N/A"}},{"$f":"('WS Calcs'!$L$2*'WS Calcs'!$L$3*('BMP Calcs'!Q388/12))*Assignments!$D63*'BMP Calcs'!Q195*2.72","v":{"$error":"#N/A"}},null,{"$f":"('WS Calcs'!$L$2*'WS Calcs'!$L$3*('BMP Calcs'!S388/12))*Assignments!$D63*'BMP Calcs'!S195*2.72","v":{"$error":"#N/A"}},{"$f":"('WS Calcs'!$L$2*'WS Calcs'!$L$3*('BMP Calcs'!T388/12))*Assignments!$D63*'BMP Calcs'!T195*2.72","v":{"$error":"#N/A"}},{"$f":"('WS Calcs'!$L$2*'WS Calcs'!$L$3*('BMP Calcs'!U388/12))*Assignments!$D63*'BMP Calcs'!U195*2.72","v":{"$error":"#N/A"}},null,{"$f":"('WS Calcs'!$L$2*'WS Calcs'!$L$3*('BMP Calcs'!W388/12))*Assignments!$D63*'BMP Calcs'!W195*2.72","v":{"$error":"#N/A"}},{"$f":"('WS Calcs'!$L$2*'WS Calcs'!$L$3*('BMP Calcs'!X388/12))*Assignments!$D63*'BMP Calcs'!X195*2.72","v":{"$error":"#N/A"}},{"$f":"('WS Calcs'!$L$2*'WS Calcs'!$L$3*('BMP Calcs'!Y388/12))*Assignments!$D63*'BMP Calcs'!Y195*2.72","v":{"$error":"#N/A"}},{"$f":"('WS Calcs'!$L$2*'WS Calcs'!$L$3*('BMP Calcs'!Z388/12))*Assignments!$D63*'BMP Calcs'!Z$10*2.72","v":{"$error":"#N/A"}},null,null,{"$f":"('WS Calcs'!$L$2*'WS Calcs'!$L$3*('BMP Calcs'!AC388/12))*Assignments!$D63*'BMP Calcs'!AC195*2.72","v":{"$error":"#N/A"}},{"$f":"('WS Calcs'!$L$2*'WS Calcs'!$L$3*('BMP Calcs'!AD388/12))*Assignments!$D63*'BMP Calcs'!AD195*2.72","v":{"$error":"#N/A"}}]
[null,"     Woods",{"$f":"('WS Calcs'!$L$2*'BMP Calcs'!C389/12)*Assignments!$D64*'BMP Calcs'!C196*2.72","v":{"$error":"#N/A"}},{"$f":"('WS Calcs'!$L$2*'WS Calcs'!$L$3*('BMP Calcs'!D389/12))*Assignments!$D64*'BMP Calcs'!D196*2.72","v":{"$error":"#N/A"}},{"$f":"('WS Calcs'!$L$2*'WS Calcs'!$L$3*('BMP Calcs'!E389/12))*Assignments!$D64*'BMP Calcs'!E196*2.72","v":{"$error":"#N/A"}},null,{"$f":"('WS Calcs'!$L$2*'WS Calcs'!$L$3*('BMP Calcs'!G389/12))*Assignments!$D64*'BMP Calcs'!G196*2.72","v":{"$error":"#N/A"}},{"$f":"('WS Calcs'!$L$2*'WS Calcs'!$L$3*('BMP Calcs'!H389/12))*Assignments!$D64*'BMP Calcs'!H196*2.72","v":{"$error":"#N/A"}},{"$f":"('WS Calcs'!$L$2*'WS Calcs'!$L$3*('BMP Calcs'!I389/12))*Assignments!$D64*'BMP Calcs'!I196*2.72","v":{"$error":"#N/A"}},null,{"$f":"('WS Calcs'!$L$2*'WS Calcs'!$L$3*('BMP Calcs'!K389/12))*Assignments!$D64*'BMP Calcs'!K196*2.72","v":{"$error":"#N/A"}},{"$f":"('WS Calcs'!$L$2*'WS Calcs'!$L$3*('BMP Calcs'!L389/12))*Assignments!$D64*'BMP Calcs'!L196*2.72","v":{"$error":"#N/A"}},{"$f":"('WS Calcs'!$L$2*'WS Calcs'!$L$3*('BMP Calcs'!M389/12))*Assignments!$D64*'BMP Calcs'!M196*2.72","v":{"$error":"#N/A"}},null,{"$f":"('WS Calcs'!$L$2*'WS Calcs'!$L$3*('BMP Calcs'!O389/12))*Assignments!$D64*'BMP Calcs'!O196*2.72","v":{"$error":"#N/A"}},{"$f":"('WS Calcs'!$L$2*'WS Calcs'!$L$3*('BMP Calcs'!P389/12))*Assignments!$D64*'BMP Calcs'!P196*2.72","v":{"$error":"#N/A"}},{"$f":"('WS Calcs'!$L$2*'WS Calcs'!$L$3*('BMP Calcs'!Q389/12))*Assignments!$D64*'BMP Calcs'!Q196*2.72","v":{"$error":"#N/A"}},null,{"$f":"('WS Calcs'!$L$2*'WS Calcs'!$L$3*('BMP Calcs'!S389/12))*Assignments!$D64*'BMP Calcs'!S196*2.72","v":{"$error":"#N/A"}},{"$f":"('WS Calcs'!$L$2*'WS Calcs'!$L$3*('BMP Calcs'!T389/12))*Assignments!$D64*'BMP Calcs'!T196*2.72","v":{"$error":"#N/A"}},{"$f":"('WS Calcs'!$L$2*'WS Calcs'!$L$3*('BMP Calcs'!U389/12))*Assignments!$D64*'BMP Calcs'!U196*2.72","v":{"$error":"#N/A"}},null,{"$f":"('WS Calcs'!$L$2*'WS Calcs'!$L$3*('BMP Calcs'!W389/12))*Assignments!$D64*'BMP Calcs'!W196*2.72","v":{"$error":"#N/A"}},{"$f":"('WS Calcs'!$L$2*'WS Calcs'!$L$3*('BMP Calcs'!X389/12))*Assignments!$D64*'BMP Calcs'!X196*2.72","v":{"$error":"#N/A"}},{"$f":"('WS Calcs'!$L$2*'WS Calcs'!$L$3*('BMP Calcs'!Y389/12))*Assignments!$D64*'BMP Calcs'!Y196*2.72","v":{"$error":"#N/A"}},{"$f":"('WS Calcs'!$L$2*'WS Calcs'!$L$3*('BMP Calcs'!Z389/12))*Assignments!$D64*'BMP Calcs'!Z$10*2.72","v":{"$error":"#N/A"}},null,null,{"$f":"('WS Calcs'!$L$2*'WS Calcs'!$L$3*('BMP Calcs'!AC389/12))*Assignments!$D64*'BMP Calcs'!AC196*2.72","v":{"$error":"#N/A"}},{"$f":"('WS Calcs'!$L$2*'WS Calcs'!$L$3*('BMP Calcs'!AD389/12))*Assignments!$D64*'BMP Calcs'!AD196*2.72","v":{"$error":"#N/A"}}]
[null,"LAND TAKEN UP BY BMP",{"$f":"('WS Calcs'!$L$2*'BMP Calcs'!C390/12)*Assignments!$D65*'BMP Calcs'!C197*2.72","v":{"$error":"#N/A"}},{"$f":"('WS Calcs'!$L$2*'WS Calcs'!$L$3*('BMP Calcs'!D390/12))*Assignments!$D65*'BMP Calcs'!D197*2.72","v":{"$error":"#N/A"}},{"$f":"('WS Calcs'!$L$2*'WS Calcs'!$L$3*('BMP Calcs'!E390/12))*Assignments!$D65*'BMP Calcs'!E197*2.72","v":{"$error":"#N/A"}},null,{"$f":"('WS Calcs'!$L$2*'WS Calcs'!$L$3*('BMP Calcs'!G390/12))*Assignments!$D65*'BMP Calcs'!G197*2.72","v":{"$error":"#N/A"}},{"$f":"('WS Calcs'!$L$2*'WS Calcs'!$L$3*('BMP Calcs'!H390/12))*Assignments!$D65*'BMP Calcs'!H197*2.72","v":{"$error":"#N/A"}},{"$f":"('WS Calcs'!$L$2*'WS Calcs'!$L$3*('BMP Calcs'!I390/12))*Assignments!$D65*'BMP Calcs'!I197*2.72","v":{"$error":"#N/A"}},null,{"$f":"('WS Calcs'!$L$2*'WS Calcs'!$L$3*('BMP Calcs'!K390/12))*Assignments!$D65*'BMP Calcs'!K197*2.72","v":{"$error":"#N/A"}},{"$f":"('WS Calcs'!$L$2*'WS Calcs'!$L$3*('BMP Calcs'!L390/12))*Assignments!$D65*'BMP Calcs'!L197*2.72","v":{"$error":"#N/A"}},{"$f":"('WS Calcs'!$L$2*'WS Calcs'!$L$3*('BMP Calcs'!M390/12))*Assignments!$D65*'BMP Calcs'!M197*2.72","v":{"$error":"#N/A"}},null,{"$f":"('WS Calcs'!$L$2*'WS Calcs'!$L$3*('BMP Calcs'!O390/12))*Assignments!$D65*'BMP Calcs'!O197*2.72","v":{"$error":"#N/A"}},{"$f":"('WS Calcs'!$L$2*'WS Calcs'!$L$3*('BMP Calcs'!P390/12))*Assignments!$D65*'BMP Calcs'!P197*2.72","v":{"$error":"#N/A"}},{"$f":"('WS Calcs'!$L$2*'WS Calcs'!$L$3*('BMP Calcs'!Q390/12))*Assignments!$D65*'BMP Calcs'!Q197*2.72","v":{"$error":"#N/A"}},null,{"$f":"('WS Calcs'!$L$2*'WS Calcs'!$L$3*('BMP Calcs'!S390/12))*Assignments!$D65*'BMP Calcs'!S197*2.72","v":{"$error":"#N/A"}},{"$f":"('WS Calcs'!$L$2*'WS Calcs'!$L$3*('BMP Calcs'!T390/12))*Assignments!$D65*'BMP Calcs'!T197*2.72","v":{"$error":"#N/A"}},{"$f":"('WS Calcs'!$L$2*'WS Calcs'!$L$3*('BMP Calcs'!U390/12))*Assignments!$D65*'BMP Calcs'!U197*2.72","v":{"$error":"#N/A"}},null,{"$f":"('WS Calcs'!$L$2*'WS Calcs'!$L$3*('BMP Calcs'!W390/12))*Assignments!$D65*'BMP Calcs'!W197*2.72","v":{"$error":"#N/A"}},{"$f":"('WS Calcs'!$L$2*'WS Calcs'!$L$3*('BMP Calcs'!X390/12))*Assignments!$D65*'BMP Calcs'!X197*2.72","v":{"$error":"#N/A"}},{"$f":"('WS Calcs'!$L$2*'WS Calcs'!$L$3*('BMP Calcs'!Y390/12))*Assignments!$D65*'BMP Calcs'!Y197*2.72","v":{"$error":"#N/A"}},{"$f":"('WS Calcs'!$L$2*'WS Calcs'!$L$3*('BMP Calcs'!Z390/12))*Assignments!$D65*'BMP Calcs'!Z$10*2.72","v":{"$error":"#N/A"}},null,null,{"$f":"('WS Calcs'!$L$2*'WS Calcs'!$L$3*('BMP Calcs'!AC390/12))*Assignments!$D65*'BMP Calcs'!AC197*2.72","v":{"$error":"#N/A"}},{"$f":"('WS Calcs'!$L$2*'WS Calcs'!$L$3*('BMP Calcs'!AD390/12))*Assignments!$D65*'BMP Calcs'!AD197*2.72","v":{"$error":"#N/A"}}]
[null,null,null,null,null,null,null,null,null,null,null,null,null,null,null,null,null,null,null,null,null,null,null,null,null,null,null,null,"TOTAL:",{"$f":"SUM(AD460:AD521)","v":{"$error":"#N/A"}}]
[null,"TOTAL NITROGEN\nEMC ","TN (mg/L)","TN (mg/L)","TN (mg/L)",null,"TN (mg/L)","TN (mg/L)","TN (mg/L)",null,"TN (mg/L)","TN (mg/L)","TN (mg/L)",null,"TN (mg/L)","TN (mg/L)","TN (mg/L)",null,"TN (mg/L)","TN (mg/L)","TN (mg/L)",null,"TN (mg/L)","TN (mg/L)","TN (mg/L)",null,null,null,"TN (mg/L)","TN (mg/L)"]
[null,"COMMERCIAL"]
[null,"     Parking lot",{"$f":"Assignments!D13","v":1.44},{"$f":"C525","v":1.44},{"$f":"C525","v":1.44},null,{"$f":"C525","v":1.44},{"$f":"C525","v":1.44},{"$f":"C525","v":1.44},null,{"$f":"C525","v":1.44},{"$f":"C525","v":1.44},{"$f":"C525","v":1.44},null,{"$f":"C525","v":1.44},{"$f":"C525","v":1.44},{"$f":"C525","v":1.44},null,{"$f":"C525","v":1.44},{"$f":"C525","v":1.44},{"$f":"C525","v":1.44},null,{"$f":"C525","v":1.44},{"$f":"C525","v":1.44},{"$f":"C525","v":1.44},{"$f":"D525","v":1.44},null,null,{"$f":"G525","v":1.44},{"$f":"AC525","v":1.44}]
[null,"     Roof",{"$f":"Assignments!D14","v":1.08},1.08,1.08,null,1.08,1.08,1.08,null,1.08,1.08,1.08,null,1.08,1.08,1.08,null,1.08,1.08,1.08,null,1.08,1.08,1.08,null,null,null,1.08,{"$f":"AC526","v":1.08}]
[null,"INDUSTRIAL",{"$f":"Assignments!D15","v":0},0,0,null,0,0,0,null,0,0,0,null,0,0,0,null,0,0,0,null,0,0,0,null,null,null,0,0]
[null,"     Parking lot",{"$f":"Assignments!D16","v":1.44},1.44,1.44,null,1.44,1.44,1.44,null,1.44,1.44,1.44,null,1.44,1.44,1.44,null,1.44,1.44,1.44,null,1.44,1.44,1.44,null,null,null,1.44,1.44]
[null,"     Roof",{"$f":"Assignments!D17","v":1.08},1.08,1.08,null,1.08,1.08,1.08,null,1.08,1.08,1.08,null,1.08,1.08,1.08,null,1.08,1.08,1.08,null,1.08,1.08,1.08,null,null,null,1.08,1.08]
[null,"     Access road",{"$f":"Assignments!D18","v":1.72},1.72,1.72,null,1.72,1.72,1.72,null,1.72,1.72,1.72,null,1.72,1.72,1.72,null,1.72,1.72,1.72,null,1.72,1.72,1.72,null,null,null,1.72,1.72]
[null,"     Impervious, uncovered storage",{"$f":"Assignments!D19","v":1.72},{"$f":"C531","v":1.72},{"$f":"C531","v":1.72},null,{"$f":"C531","v":1.72},{"$f":"C531","v":1.72},{"$f":"C531","v":1.72},null,{"$f":"C531","v":1.72},{"$f":"C531","v":1.72},{"$f":"C531","v":1.72},null,{"$f":"C531","v":1.72},{"$f":"C531","v":1.72},{"$f":"C531","v":1.72},null,{"$f":"C531","v":1.72},{"$f":"C531","v":1.72},{"$f":"C531","v":1.72},null,{"$f":"C531","v":1.72},{"$f":"C531","v":1.72},{"$f":"C531","v":1.72},null,null,null,{"$f":"G531","v":1.72},{"$f":"AC531","v":1.72}]
[null,"     Pervious, uncovered storage",{"$f":"Assignments!D20","v":1.47},1.47,1.47,null,1.47,1.47,1.47,null,1.47,1.47,1.47,null,1.47,1.47,1.47,null,1.47,1.47,1.47,null,1.47,1.47,1.47,null,null,null,1.47,1.47]
[null,"TRANSPORTATION",{"$f":"Assignments!D21","v":0},0,0,null,0,0,0,null,0,0,0,null,0,0,0,null,0,0,0,null,0,0,0,null,null,null,0,0]
[null,"     Primary road EOP",{"$f":"Assignments!D22","v":1.46},1.46,1.46,null,1.46,1.46,1.46,null,1.46,1.46,1.46,null,1.46,1.46,1.46,null,1.46,1.46,1.46,null,1.46,1.46,1.46,null,null,null,1.46,1.46]
[null,"     Secondary road EOP",{"$f":"Assignments!D23","v":0.54},0.54,0.54,null,0.54,0.54,0.54,null,0.54,0.54,0.54,null,0.54,0.54,0.54,null,0.54,0.54,0.54,null,0.54,0.54,0.54,null,null,null,0.54,0.54]
[null,"     Bridge EOP",{"$f":"Assignments!D24","v":0.98},0.98,0.98,null,0.98,0.98,0.98,null,0.98,0.98,0.98,null,0.98,0.98,0.98,null,0.98,0.98,0.98,null,0.98,0.98,0.98,null,null,null,0.98,0.98]
[null,"     Sidewalk",{"$f":"Assignments!D25","v":1.4},1.4,1.4,null,1.4,1.4,1.4,null,1.4,1.4,1.4,null,1.4,1.4,1.4,null,1.4,1.4,1.4,null,1.4,1.4,1.4,null,null,null,1.4,1.4]
[null,"REST AREA",{"$f":"Assignments!D26","v":0},{"$f":"C538","v":0},{"$f":"C538","v":0},null,{"$f":"C538","v":0},{"$f":"C538","v":0},{"$f":"C538","v":0},null,{"$f":"C538","v":0},{"$f":"C538","v":0},{"$f":"C538","v":0},null,{"$f":"C538","v":0},{"$f":"C538","v":0},{"$f":"C538","v":0},null,{"$f":"C538","v":0},{"$f":"C538","v":0},{"$f":"C538","v":0},null,{"$f":"C538","v":0},{"$f":"C538","v":0},{"$f":"C538","v":0},null,null,null,0,0]
[null,"     Parking lot (car)",{"$f":"Assignments!D27","v":2.13},2.13,2.13,null,2.13,2.13,2.13,null,2.13,2.13,2.13,null,2.13,2.13,2.13,null,2.13,2.13,2.13,null,2.13,2.13,2.13,null,null,null,2.13,2.13]
[null,"     Parking lot (truck)",{"$f":"Assignments!D28","v":3.21},3.21,3.21,null,3.21,3.21,3.21,null,3.21,3.21,3.21,null,3.21,3.21,3.21,null,3.21,3.21,3.21,null,3.21,3.21,3.21,null,null,null,3.21,3.21]
[null,"     Roof",{"$f":"Assignments!D29","v":1.08},1.08,1.08,null,1.08,1.08,1.08,null,1.08,1.08,1.08,null,1.08,1.08,1.08,null,1.08,1.08,1.08,null,1.08,1.08,1.08,null,null,null,1.08,1.08]
[null,"MISC. PERVIOUS",{"$f":"Assignments!D30","v":0},0,0,null,0,0,0,null,0,0,0,null,0,0,0,null,0,0,0,null,0,0,0,null,null,null,0,0]
[null,"     Managed lawn (fertilized)",{"$f":"Assignments!D31","v":3.06},3.06,3.06,null,3.06,3.06,3.06,null,3.06,3.06,3.06,null,3.06,3.06,3.06,null,3.06,3.06,3.06,null,3.06,3.06,3.06,null,null,null,3.06,3.06]
[null,"     Open space (unfertilized)",{"$f":"Assignments!D32","v":1.47},1.47,1.47,null,1.47,1.47,1.47,null,1.47,1.47,1.47,null,1.47,1.47,1.47,null,1.47,1.47,1.47,null,1.47,1.47,1.47,null,null,null,1.47,1.47]
[null,"     Open/Landscaped",{"$f":"Assignments!D33","v":2.2400000000000002},{"$f":"C545","v":2.2400000000000002},{"$f":"C545","v":2.2400000000000002},null,{"$f":"C545","v":2.2400000000000002},{"$f":"C545","v":2.2400000000000002},{"$f":"C545","v":2.2400000000000002},null,{"$f":"C545","v":2.2400000000000002},{"$f":"C545","v":2.2400000000000002},{"$f":"C545","v":2.2400000000000002},null,{"$f":"C545","v":2.2400000000000002},{"$f":"C545","v":2.2400000000000002},{"$f":"C545","v":2.2400000000000002},null,{"$f":"C545","v":2.2400000000000002},{"$f":"C545","v":2.2400000000000002},{"$f":"C545","v":2.2400000000000002},null,{"$f":"C545","v":2.2400000000000002},{"$f":"C545","v":2.2400000000000002},{"$f":"C545","v":2.2400000000000002},null,null,null,2.2400000000000002,2.2400000000000002]
[null,"     Agriculture (crop)",{"$f":"Assignments!D34","v":4.2300000000000004},4.2300000000000004,4.2300000000000004,null,4.2300000000000004,4.2300000000000004,4.2300000000000004,null,4.2300000000000004,4.2300000000000004,4.2300000000000004,null,4.2300000000000004,4.2300000000000004,4.2300000000000004,null,4.2300000000000004,4.2300000000000004,4.2300000000000004,null,4.2300000000000004,4.2300000000000004,4.2300000000000004,null,null,null,4.2300000000000004,4.2300000000000004]
[null,"     Agriculture (pasture)",{"$f":"Assignments!D35","v":3.61},3.61,3.61,null,3.61,3.61,3.61,null,3.61,3.61,3.61,null,3.61,3.61,3.61,null,3.61,3.61,3.61,null,3.61,3.61,3.61,null,null,null,3.61,3.61]
[null,"     Forest",{"$f":"Assignments!D36","v":1.47},1.47,1.47,null,1.47,1.47,1.47,null,1.47,1.47,1.47,null,1.47,1.47,1.47,null,1.47,1.47,1.47,null,1.47,1.47,1.47,null,null,null,1.47,1.47]
[null,"UNSPECIFIED LAND USE",{"$f":"Assignments!D37","v":0},{"$f":"C549","v":0},{"$f":"C549","v":0},null,{"$f":"C549","v":0},{"$f":"C549","v":0},{"$f":"C549","v":0},null,{"$f":"C549","v":0},{"$f":"C549","v":0},{"$f":"C549","v":0},null,{"$f":"C549","v":0},{"$f":"C549","v":0},{"$f":"C549","v":0},null,{"$f":"C549","v":0},{"$f":"C549","v":0},{"$f":"C549","v":0},null,{"$f":"C549","v":0},{"$f":"C549","v":0},{"$f":"C549","v":0},null,null,null,0,0]
[null,"     Blank 1",{"$f":"IF(Assignments!D38=\"NA\", 0,Assignments!D38)","v":0},0,0,null,0,0,0,null,0,0,0,null,0,0,0,null,0,0,0,null,0,0,0,null,null,null,0,0]
[null,"     Blank 2",{"$f":"IF(Assignments!D39=\"NA\", 0,Assignments!D39)","v":0},0,0,null,0,0,0,null,0,0,0,null,0,0,0,null,0,0,0,null,0,0,0,null,null,null,0,0]
[null,"RESIDENTIAL",{"$f":"Assignments!D40","v":0},0,0,null,0,0,0,null,0,0,0,null,0,0,0,null,0,0,0,null,0,0,0,null,null,null,0,0]
[null,"     2-ac lots (New)",{"$f":"MAX(C554:C555)","v":2.2198515000000003},{"$f":"C553","v":2.2198515000000003},{"$f":"C553","v":2.2198515000000003},null,{"$f":"C553","v":2.2198515000000003},{"$f":"C553","v":2.2198515000000003},{"$f":"C553","v":2.2198515000000003},null,{"$f":"C553","v":2.2198515000000003},{"$f":"C553","v":2.2198515000000003},{"$f":"C553","v":2.2198515000000003},null,{"$f":"C553","v":2.2198515000000003},{"$f":"C553","v":2.2198515000000003},{"$f":"C553","v":2.2198515000000003},null,{"$f":"C553","v":2.2198515000000003},{"$f":"C553","v":2.2198515000000003},{"$f":"C553","v":2.2198515000000003},null,{"$f":"C553","v":2.2198515000000003},{"$f":"C553","v":2.2198515000000003},{"$f":"C553","v":2.2198515000000003},null,null,null,2.2198515000000003,2.2198515000000003]
[null,"     2-ac lots (Built after 1995)",{"$f":"Assignments!D41","v":2.2198515000000003},2.2198515000000003,2.2198515000000003,null,2.2198515000000003,2.2198515000000003,2.2198515000000003,null,2.2198515000000003,2.2198515000000003,2.2198515000000003,null,2.2198515000000003,2.2198515000000003,2.2198515000000003,null,2.2198515000000003,2.2198515000000003,2.2198515000000003,null,2.2198515000000003,2.2198515000000003,2.2198515000000003,null,null,null,2.2198515000000003,2.2198515000000003]
[null,"     2-ac lots (Built before 1995)",{"$f":"Assignments!D49","v":2.1862919999999999},2.1862919999999999,2.1862919999999999,null,2.1862919999999999,2.1862919999999999,2.1862919999999999,null,2.1862919999999999,2.1862919999999999,2.1862919999999999,null,2.1862919999999999,2.1862919999999999,2.1862919999999999,null,2.1862919999999999,2.1862919999999999,2.1862919999999999,null,2.1862919999999999,2.1862919999999999,2.1862919999999999,null,null,null,2.1862919999999999,2.1862919999999999]
[null,"     1-ac lots (New)",{"$f":"MAX(C557:C558)","v":2.1515823300000001},2.1515823300000001,2.1515823300000001,null,2.1515823300000001,2.1515823300000001,2.1515823300000001,null,2.1515823300000001,2.1515823300000001,2.1515823300000001,null,2.1515823300000001,2.1515823300000001,2.1515823300000001,null,2.1515823300000001,2.1515823300000001,2.1515823300000001,null,2.1515823300000001,2.1515823300000001,2.1515823300000001,null,null,null,2.1515823300000001,2.1515823300000001]
[null,"     1-ac lots (Built after 1995)",{"$f":"Assignments!D42","v":2.1183376700000003},2.1183376700000003,2.1183376700000003,null,2.1183376700000003,2.1183376700000003,2.1183376700000003,null,2.1183376700000003,2.1183376700000003,2.1183376700000003,null,2.1183376700000003,2.1183376700000003,2.1183376700000003,null,2.1183376700000003,2.1183376700000003,2.1183376700000003,null,2.1183376700000003,2.1183376700000003,2.1183376700000003,null,null,null,2.1183376700000003,2.1183376700000003]
[null,"     1-ac lots (Built before 1995)",{"$f":"Assignments!D50","v":2.1515823300000001},2.1515823300000001,2.1515823300000001,null,2.1515823300000001,2.1515823300000001,2.1515823300000001,null,2.1515823300000001,2.1515823300000001,2.1515823300000001,null,2.1515823300000001,2.1515823300000001,2.1515823300000001,null,2.1515823300000001,2.1515823300000001,2.1515823300000001,null,2.1515823300000001,2.1515823300000001,2.1515823300000001,null,null,null,2.1515823300000001,2.1515823300000001]
[null,"     ½-ac lots (New)",{"$f":"MAX(C560:C561)","v":2.1085947700000003},2.1085947700000003,2.1085947700000003,null,2.1085947700000003,2.1085947700000003,2.1085947700000003,null,2.1085947700000003,2.1085947700000003,2.1085947700000003,null,2.1085947700000003,2.1085947700000003,2.1085947700000003,null,2.1085947700000003,2.1085947700000003,2.1085947700000003,null,2.1085947700000003,2.1085947700000003,2.1085947700000003,null,null,null,2.1085947700000003,2.1085947700000003]
[null,"     ½-ac lots (Built after 1995)",{"$f":"Assignments!D43","v":2.0591852300000002},2.0591852300000002,2.0591852300000002,null,2.0591852300000002,2.0591852300000002,2.0591852300000002,null,2.0591852300000002,2.0591852300000002,2.0591852300000002,null,2.0591852300000002,2.0591852300000002,2.0591852300000002,null,2.0591852300000002,2.0591852300000002,2.0591852300000002,null,2.0591852300000002,2.0591852300000002,2.0591852300000002,null,null,null,2.0591852300000002,2.0591852300000002]
[null,"     ½-ac lots (Built before 1995)",{"$f":"Assignments!D51","v":2.1085947700000003},2.1085947700000003,2.1085947700000003,null,2.1085947700000003,2.1085947700000003,2.1085947700000003,null,2.1085947700000003,2.1085947700000003,2.1085947700000003,null,2.1085947700000003,2.1085947700000003,2.1085947700000003,null,2.1085947700000003,2.1085947700000003,2.1085947700000003,null,2.1085947700000003,2.1085947700000003,2.1085947700000003,null,null,null,2.1085947700000003,2.1085947700000003]
[null,"     ¼-ac lots (New)",{"$f":"MAX(C563:C564)","v":2.06661603},2.06661603,2.06661603,null,2.06661603,2.06661603,2.06661603,null,2.06661603,2.06661603,2.06661603,null,2.06661603,2.06661603,2.06661603,null,2.06661603,2.06661603,2.06661603,null,2.06661603,2.06661603,2.06661603,null,null,null,2.06661603,2.06661603]
[null,"     ¼-ac lots (Built after 1995)",{"$f":"Assignments!D44","v":2.0014239700000003},2.0014239700000003,2.0014239700000003,null,2.0014239700000003,2.0014239700000003,2.0014239700000003,null,2.0014239700000003,2.0014239700000003,2.0014239700000003,null,2.0014239700000003,2.0014239700000003,2.0014239700000003,null,2.0014239700000003,2.0014239700000003,2.0014239700000003,null,2.0014239700000003,2.0014239700000003,2.0014239700000003,null,null,null,2.0014239700000003,2.0014239700000003]
[null,"     ¼-ac lots (Built before 1995)",{"$f":"Assignments!D52","v":2.06661603},2.06661603,2.06661603,null,2.06661603,2.06661603,2.06661603,null,2.06661603,2.06661603,2.06661603,null,2.06661603,2.06661603,2.06661603,null,2.06661603,2.06661603,2.06661603,null,2.06661603,2.06661603,2.06661603,null,null,null,2.06661603,2.06661603]
[null,"     ⅛-ac lots (New)",{"$f":"MAX(C566:C567)","v":2.0187305699999998},2.0187305699999998,2.0187305699999998,null,2.0187305699999998,2.0187305699999998,2.0187305699999998,null,2.0187305699999998,2.0187305699999998,2.0187305699999998,null,2.0187305699999998,2.0187305699999998,2.0187305699999998,null,2.0187305699999998,2.0187305699999998,2.0187305699999998,null,2.0187305699999998,2.0187305699999998,2.0187305699999998,null,null,null,2.0187305699999998,2.0187305699999998]
[null,"     ⅛-ac lots (Built after 1995)",{"$f":"Assignments!D45","v":1.9764694299999999},1.9764694299999999,1.9764694299999999,null,1.9764694299999999,1.9764694299999999,1.9764694299999999,null,1.9764694299999999,1.9764694299999999,1.9764694299999999,null,1.9764694299999999,1.9764694299999999,1.9764694299999999,null,1.9764694299999999,1.9764694299999999,1.9764694299999999,null,1.9764694299999999,1.9764694299999999,1.9764694299999999,null,null,null,1.9764694299999999,1.9764694299999999]
[null,"     ⅛-ac lots (Built before 1995)",{"$f":"Assignments!D53","v":2.0187305699999998},2.0187305699999998,2.0187305699999998,null,2.0187305699999998,2.0187305699999998,2.0187305699999998,null,2.0187305699999998,2.0187305699999998,2.0187305699999998,null,2.0187305699999998,2.0187305699999998,2.0187305699999998,null,2.0187305699999998,2.0187305699999998,2.0187305699999998,null,2.0187305699999998,2.0187305699999998,2.0187305699999998,null,null,null,2.0187305699999998,2.0187305699999998]
[null,"     Townhomes (New)",{"$f":"MAX(C569:C570)","v":1.94469443},1.94469443,1.94469443,null,1.94469443,1.94469443,1.94469443,null,1.94469443,1.94469443,1.94469443,null,1.94469443,1.94469443,1.94469443,null,1.94469443,1.94469443,1.94469443,null,1.94469443,1.94469443,1.94469443,null,null,null,1.94469443,1.94469443]
[null,"     Townhomes (Built after 1995)",{"$f":"Assignments!D46","v":1.94469443},1.94469443,1.94469443,null,1.94469443,1.94469443,1.94469443,null,1.94469443,1.94469443,1.94469443,null,1.94469443,1.94469443,1.94469443,null,1.94469443,1.94469443,1.94469443,null,1.94469443,1.94469443,1.94469443,null,null,null,1.94469443,1.94469443]
[null,"     Townhomes (Built before 1995)",{"$f":"Assignments!D54","v":1.9438055700000003},1.9438055700000003,1.9438055700000003,null,1.9438055700000003,1.9438055700000003,1.9438055700000003,null,1.9438055700000003,1.9438055700000003,1.9438055700000003,null,1.9438055700000003,1.9438055700000003,1.9438055700000003,null,1.9438055700000003,1.9438055700000003,1.9438055700000003,null,1.9438055700000003,1.9438055700000003,1.9438055700000003,null,null,null,1.9438055700000003,1.9438055700000003]
[null,"     Multi-family (New)",{"$f":"MAX(C572:C573)","v":1.9181142800000002},1.9181142800000002,1.9181142800000002,null,1.9181142800000002,1.9181142800000002,1.9181142800000002,null,1.9181142800000002,1.9181142800000002,1.9181142800000002,null,1.9181142800000002,1.9181142800000002,1.9181142800000002,null,1.9181142800000002,1.9181142800000002,1.9181142800000002,null,1.9181142800000002,1.9181142800000002,1.9181142800000002,null,null,null,1.9181142800000002,1.9181142800000002]
[null,"     Multi-family (Built after 1995)",{"$f":"Assignments!D47","v":1.9181142800000002},1.9181142800000002,1.9181142800000002,null,1.9181142800000002,1.9181142800000002,1.9181142800000002,null,1.9181142800000002,1.9181142800000002,1.9181142800000002,null,1.9181142800000002,1.9181142800000002,1.9181142800000002,null,1.9181142800000002,1.9181142800000002,1.9181142800000002,null,1.9181142800000002,1.9181142800000002,1.9181142800000002,null,null,null,1.9181142800000002,1.9181142800000002]
[null,"     Multi-family (Built before 1995)",{"$f":"Assignments!D55","v":1.9171457200000002},1.9171457200000002,1.9171457200000002,null,1.9171457200000002,1.9171457200000002,1.9171457200000002,null,1.9171457200000002,1.9171457200000002,1.9171457200000002,null,1.9171457200000002,1.9171457200000002,1.9171457200000002,null,1.9171457200000002,1.9171457200000002,1.9171457200000002,null,1.9171457200000002,1.9171457200000002,1.9171457200000002,null,null,null,1.9171457200000002,1.9171457200000002]
[null,"     Custom Lot Size (New)",{"$f":"'WS Calcs'!D43","v":0},0,0,null,0,0,0,null,0,0,0,null,0,0,0,null,0,0,0,null,0,0,0,null,null,null,0,0]
[null,"     Custom Lot Size (Built after 1995)",{"$f":"IF('2. BMP Characteristics'!E95<>0,Assignments!D48,0)","v":0},{"$f":"IF('2. BMP Characteristics'!G95<>0,Assignments!D48,0)","v":0},{"$f":"IF('2. BMP Characteristics'!I95<>0,Assignments!D48,0)","v":0},null,{"$f":"IF('2. BMP Characteristics'!L95<>0,Assignments!D48,0)","v":0},{"$f":"IF('2. BMP Characteristics'!N95<>0,Assignments!D48,0)","v":0},{"$f":"IF('2. BMP Characteristics'!P95<>0,Assignments!D48,0)","v":0},null,{"$f":"IF('2. BMP Characteristics'!S95<>0,Assignments!D48,0)","v":0},{"$f":"IF('2. BMP Characteristics'!U95<>0,Assignments!D48,0)","v":0},{"$f":"IF('2. BMP Characteristics'!W95<>0,Assignments!D48,0)","v":0},null,{"$f":"IF('2. BMP Characteristics'!Z95<>0,Assignments!D48,0)","v":0},{"$f":"IF('2. BMP Characteristics'!AB95<>0,Assignments!D48,0)","v":0},{"$f":"IF('2. BMP Characteristics'!AD95<>0,Assignments!D48,0)","v":0},null,{"$f":"IF('2. BMP Characteristics'!AG95<>0,Assignments!D48,0)","v":0},{"$f":"IF('2. BMP Characteristics'!AI95<>0,Assignments!D48,0)","v":0},{"$f":"IF('2. BMP Characteristics'!AK95<>0,Assignments!D48,0)","v":0},null,{"$f":"IF('2. BMP Characteristics'!AN95<>0,Assignments!D48,0)","v":0},{"$f":"IF('2. BMP Characteristics'!AP95<>0,Assignments!D48,0)","v":0},{"$f":"IF('2. BMP Characteristics'!AR95<>0,Assignments!D48,0)","v":0},null,null,null,0,0]
[null,"     Custom Lot Size (Built before 1995)",{"$f":"IF('2. BMP Characteristics'!E96<>0,Assignments!D56,0)","v":0},{"$f":"IF('2. BMP Characteristics'!G96<>0,Assignments!D56,0)","v":0},{"$f":"IF('2. BMP Characteristics'!I96<>0,Assignments!D56,0)","v":0},null,{"$f":"IF('2. BMP Characteristics'!L96<>0,Assignments!D56,0)","v":0},{"$f":"IF('2. BMP Characteristics'!N96<>0,Assignments!D56,0)","v":0},{"$f":"IF('2. BMP Characteristics'!P96<>0,Assignments!D56,0)","v":0},null,{"$f":"IF('2. BMP Characteristics'!S96<>0,Assignments!D56,0)","v":0},{"$f":"IF('2. BMP Characteristics'!U96<>0,Assignments!D56,0)","v":0},{"$f":"IF('2. BMP Characteristics'!W96<>0,Assignments!D56,0)","v":0},null,{"$f":"IF('2. BMP Characteristics'!Z96<>0,Assignments!D56,0)","v":0},{"$f":"IF('2. BMP Characteristics'!AB96<>0,Assignments!D56,0)","v":0},{"$f":"IF('2. BMP Characteristics'!AD96<>0,Assignments!D56,0)","v":0},null,{"$f":"IF('2. BMP Characteristics'!AG96<>0,Assignments!D56,0)","v":0},{"$f":"IF('2. BMP Characteristics'!AI96<>0,Assignments!D56,0)","v":0},{"$f":"IF('2. BMP Characteristics'!AK96<>0,Assignments!D56,0)","v":0},null,{"$f":"IF('2. BMP Characteristics'!AN96<>0,Assignments!D56,0)","v":0},{"$f":"IF('2. BMP Characteristics'!AP96<>0,Assignments!D56,0)","v":0},{"$f":"IF('2. BMP Characteristics'!AR96<>0,Assignments!D56,0)","v":0},null,null,null,0,0]
[null,"     Roadway",{"$f":"Assignments!D57","v":1.4},1.4,1.4,null,1.4,1.4,1.4,null,1.4,1.4,1.4,null,1.4,1.4,1.4,null,1.4,1.4,1.4,null,1.4,1.4,1.4,null,null,null,1.4,1.4]
[null,"     Driveway",{"$f":"Assignments!D58","v":1.44},1.44,1.44,null,1.44,1.44,1.44,null,1.44,1.44,1.44,null,1.44,1.44,1.44,null,1.44,1.44,1.44,null,1.44,1.44,1.44,null,null,null,1.44,1.44]
[null,"     Parking lot",{"$f":"Assignments!D59","v":1.44},1.44,1.44,null,1.44,1.44,1.44,null,1.44,1.44,1.44,null,1.44,1.44,1.44,null,1.44,1.44,1.44,null,1.44,1.44,1.44,null,null,null,1.44,1.44]
[null,"     Roof",{"$f":"Assignments!D60","v":1.08},1.08,1.08,null,1.08,1.08,1.08,null,1.08,1.08,1.08,null,1.08,1.08,1.08,null,1.08,1.08,1.08,null,1.08,1.08,1.08,null,null,null,1.08,1.08]
[null,"     Sidewalk",{"$f":"Assignments!D61","v":1.4},1.4,1.4,null,1.4,1.4,1.4,null,1.4,1.4,1.4,null,1.4,1.4,1.4,null,1.4,1.4,1.4,null,1.4,1.4,1.4,null,null,null,1.4,1.4]
[null,"     Lawn",{"$f":"Assignments!D62","v":2.2400000000000002},2.2400000000000002,2.2400000000000002,null,2.2400000000000002,2.2400000000000002,2.2400000000000002,null,2.2400000000000002,2.2400000000000002,2.2400000000000002,null,2.2400000000000002,2.2400000000000002,2.2400000000000002,null,2.2400000000000002,2.2400000000000002,2.2400000000000002,null,2.2400000000000002,2.2400000000000002,2.2400000000000002,null,null,null,2.2400000000000002,2.2400000000000002]
[null,"     Managed pervious",{"$f":"Assignments!D63","v":3.06},3.06,3.06,null,3.06,3.06,3.06,null,3.06,3.06,3.06,null,3.06,3.06,3.06,null,3.06,3.06,3.06,null,3.06,3.06,3.06,null,null,null,3.06,3.06]
[null,"     Woods",{"$f":"Assignments!D64","v":1.47},1.47,1.47,null,1.47,1.47,1.47,null,1.47,1.47,1.47,null,1.47,1.47,1.47,null,1.47,1.47,1.47,null,1.47,1.47,1.47,null,null,null,1.47,1.47]
[null,"LAND TAKEN UP BY BMP",{"$f":"Assignments!D65","v":1.08},{"$f":"C585","v":1.08},{"$f":"C585","v":1.08},null,{"$f":"C585","v":1.08},{"$f":"C585","v":1.08},{"$f":"C585","v":1.08},null,{"$f":"C585","v":1.08},{"$f":"C585","v":1.08},{"$f":"C585","v":1.08},null,{"$f":"C585","v":1.08},{"$f":"C585","v":1.08},{"$f":"C585","v":1.08},null,{"$f":"C585","v":1.08},{"$f":"C585","v":1.08},{"$f":"C585","v":1.08},null,{"$f":"C585","v":1.08},{"$f":"C585","v":1.08},{"$f":"C585","v":1.08},null,null,null,{"$f":"G585","v":1.08},1.08]
[null,"Composite TN EMC",{"$f":"(C525*C266)+(C526*C267)+(C528*C269)+(C529*C270)+(C530*C271)+(C534*C275)+(C535*C276)+(C536*C277)+(C537*C278)+(C543*C284)+(C544*C285)+(C548*C289)+(C554*C295)+(C555*C296)+(C557*C298)+(C558*C299)+(C560*C301)+(C561*C302)+(C563*C304)+(C564*C305)+(C566*C307)+(C567*C308)+(C569*C310)+(C570*C311)+(C572*C313)+(C573*C314)+(C577*C318)+(C578*C319)+(C579*C320)+(C580*C321)+(C581*C322)+(C582*C323)+(C583*C324)+(C584*C325)+(C553*C294)+(C297*C556)+(C559*C300)+(C303*C562)+(C565*C306)+(C568*C309)+(C312*C571)+(C574*C315)+(C316*C575)+(C317*C576)+(C585*C326)+(C272*C531)+(C273*C532)+(C280*C539)+(C281*C540)+(C282*C541)+(C286*C545)+(C287*C546)+(C288*C547)+(C291*C550)+(C292*C551)","v":0},{"$f":"(D525*D266)+(D526*D267)+(D528*D269)+(D529*D270)+(D530*D271)+(D534*D275)+(D535*D276)+(D536*D277)+(D537*D278)+(D543*D284)+(D544*D285)+(D548*D289)+(D554*D295)+(D555*D296)+(D557*D298)+(D558*D299)+(D560*D301)+(D561*D302)+(D563*D304)+(D564*D305)+(D566*D307)+(D567*D308)+(D569*D310)+(D570*D311)+(D572*D313)+(D573*D314)+(D577*D318)+(D578*D319)+(D579*D320)+(D580*D321)+(D581*D322)+(D582*D323)+(D583*D324)+(D584*D325)+(D553*D294)+(D297*D556)+(D559*D300)+(D303*D562)+(D565*D306)+(D568*D309)+(D312*D571)+(D574*D315)+(D316*D575)+(D317*D576)+(D585*D326)+(D272*D531)+(D273*D532)+(D280*D539)+(D281*D540)+(D282*D541)+(D286*D545)+(D287*D546)+(D288*D547)+(D291*D550)+(D292*D551)","v":0},0,0,0,0,0,0,0,0,0,0,0,0,0,0,0,0,0,0,0,0,0,{"$f":"(Z525*Z266)+(Z526*Z267)+(Z528*Z269)+(Z529*Z270)+(Z530*Z271)+(Z534*Z275)+(Z535*Z276)+(Z536*Z277)+(Z537*Z278)+(Z543*Z284)+(Z544*Z285)+(Z548*Z289)+(Z554*Z295)+(Z555*Z296)+(Z557*Z298)+(Z558*Z299)+(Z560*Z301)+(Z561*Z302)+(Z563*Z304)+(Z564*Z305)+(Z566*Z307)+(Z567*Z308)+(Z569*Z310)+(Z570*Z311)+(Z572*Z313)+(Z573*Z314)+(Z577*Z318)+(Z578*Z319)+(Z579*Z320)+(Z580*Z321)+(Z581*Z322)+(Z582*Z323)+(Z583*Z324)+(Z584*Z325)+(Z553*Z294)+(Z297*Z556)+(Z559*Z300)+(Z303*Z562)+(Z565*Z306)+(Z568*Z309)+(Z312*Z571)+(Z574*Z315)+(Z316*Z575)+(Z317*Z576)+(Z585*Z326)+(Z272*Z531)+(Z273*Z532)+(Z280*Z539)+(Z281*Z540)+(Z282*Z541)+(Z286*Z545)+(Z287*Z546)+(Z288*Z547)+(Z291*Z550)+(Z292*Z551)","v":0},null,null,{"$f":"(AC525*AC266)+(AC526*AC267)+(AC528*AC269)+(AC529*AC270)+(AC530*AC271)+(AC534*AC275)+(AC535*AC276)+(AC536*AC277)+(AC537*AC278)+(AC543*AC284)+(AC544*AC285)+(AC548*AC289)+(AC554*AC295)+(AC555*AC296)+(AC557*AC298)+(AC558*AC299)+(AC560*AC301)+(AC561*AC302)+(AC563*AC304)+(AC564*AC305)+(AC566*AC307)+(AC567*AC308)+(AC569*AC310)+(AC570*AC311)+(AC572*AC313)+(AC573*AC314)+(AC577*AC318)+(AC578*AC319)+(AC579*AC320)+(AC580*AC321)+(AC581*AC322)+(AC582*AC323)+(AC583*AC324)+(AC584*AC325)+(AC553*AC294)+(AC297*AC556)+(AC559*AC300)+(AC303*AC562)+(AC565*AC306)+(AC568*AC309)+(AC312*AC571)+(AC574*AC315)+(AC316*AC575)+(AC317*AC576)+(AC585*AC326)+(AC272*AC531)+(AC273*AC532)+(AC280*AC539)+(AC281*AC540)+(AC282*AC541)+(AC286*AC545)+(AC287*AC546)+(AC288*AC547)+(AC291*AC550)+(AC292*AC551)","v":{"$error":"#DIV/0!"}},{"$f":"(AD525*AD266)+(AD526*AD267)+(AD528*AD269)+(AD529*AD270)+(AD530*AD271)+(AD534*AD275)+(AD535*AD276)+(AD536*AD277)+(AD537*AD278)+(AD543*AD284)+(AD544*AD285)+(AD548*AD289)+(AD554*AD295)+(AD555*AD296)+(AD557*AD298)+(AD558*AD299)+(AD560*AD301)+(AD561*AD302)+(AD563*AD304)+(AD564*AD305)+(AD566*AD307)+(AD567*AD308)+(AD569*AD310)+(AD570*AD311)+(AD572*AD313)+(AD573*AD314)+(AD577*AD318)+(AD578*AD319)+(AD579*AD320)+(AD580*AD321)+(AD581*AD322)+(AD582*AD323)+(AD583*AD324)+(AD584*AD325)+(AD553*AD294)+(AD297*AD556)+(AD559*AD300)+(AD303*AD562)+(AD565*AD306)+(AD568*AD309)+(AD312*AD571)+(AD574*AD315)+(AD316*AD575)+(AD317*AD576)+(AD585*AD326)+(AD272*AD531)+(AD273*AD532)+(AD280*AD539)+(AD281*AD540)+(AD282*AD541)+(AD286*AD545)+(AD287*AD546)+(AD288*AD547)+(AD291*AD550)+(AD292*AD551)","v":{"$error":"#N/A"}}]
[]
[null,"TOTAL PHOSPHORUS\nPOLLUTANT LOADING","TP (lbs)","TP (lbs)","TP (lbs)",null,"TP (lbs)","TP (lbs)","TP (lbs)",null,"TP (lbs)","TP (lbs)","TP (lbs)",null,"TP (lbs)","TP (lbs)","TP (lbs)",null,"TP (lbs)","TP (lbs)","TP (lbs)",null,"TP (lbs)","TP (lbs)","TP (lbs)",null,null,null,"TP (lbs)","TP (lbs)"]
[null,"COMMERCIAL"]
[null,"     Parking lot",{"$f":"('WS Calcs'!$L$2*'WS Calcs'!$L$3*('BMP Calcs'!C330/12))*Assignments!$E13*'BMP Calcs'!C137*2.72","v":{"$error":"#N/A"}},{"$f":"('WS Calcs'!$L$2*'WS Calcs'!$L$3*('BMP Calcs'!D330/12))*Assignments!$E13*'BMP Calcs'!D137*2.72","v":{"$error":"#N/A"}},{"$f":"('WS Calcs'!$L$2*'WS Calcs'!$L$3*('BMP Calcs'!E330/12))*Assignments!$E13*'BMP Calcs'!E137*2.72","v":{"$error":"#N/A"}},null,{"$f":"('WS Calcs'!$L$2*'WS Calcs'!$L$3*('BMP Calcs'!G330/12))*Assignments!$E13*'BMP Calcs'!G137*2.72","v":{"$error":"#N/A"}},{"$f":"('WS Calcs'!$L$2*'WS Calcs'!$L$3*('BMP Calcs'!H330/12))*Assignments!$E13*'BMP Calcs'!H137*2.72","v":{"$error":"#N/A"}},{"$f":"('WS Calcs'!$L$2*'WS Calcs'!$L$3*('BMP Calcs'!I330/12))*Assignments!$E13*'BMP Calcs'!I137*2.72","v":{"$error":"#N/A"}},null,{"$f":"('WS Calcs'!$L$2*'WS Calcs'!$L$3*('BMP Calcs'!K330/12))*Assignments!$E13*'BMP Calcs'!K137*2.72","v":{"$error":"#N/A"}},{"$f":"('WS Calcs'!$L$2*'WS Calcs'!$L$3*('BMP Calcs'!L330/12))*Assignments!$E13*'BMP Calcs'!L137*2.72","v":{"$error":"#N/A"}},{"$f":"('WS Calcs'!$L$2*'WS Calcs'!$L$3*('BMP Calcs'!M330/12))*Assignments!$E13*'BMP Calcs'!M137*2.72","v":{"$error":"#N/A"}},null,{"$f":"('WS Calcs'!$L$2*'WS Calcs'!$L$3*('BMP Calcs'!O330/12))*Assignments!$E13*'BMP Calcs'!O137*2.72","v":{"$error":"#N/A"}},{"$f":"('WS Calcs'!$L$2*'WS Calcs'!$L$3*('BMP Calcs'!P330/12))*Assignments!$E13*'BMP Calcs'!P137*2.72","v":{"$error":"#N/A"}},{"$f":"('WS Calcs'!$L$2*'WS Calcs'!$L$3*('BMP Calcs'!Q330/12))*Assignments!$E13*'BMP Calcs'!Q137*2.72","v":{"$error":"#N/A"}},null,{"$f":"('WS Calcs'!$L$2*'WS Calcs'!$L$3*('BMP Calcs'!S330/12))*Assignments!$E13*'BMP Calcs'!S137*2.72","v":{"$error":"#N/A"}},{"$f":"('WS Calcs'!$L$2*'WS Calcs'!$L$3*('BMP Calcs'!T330/12))*Assignments!$E13*'BMP Calcs'!T137*2.72","v":{"$error":"#N/A"}},{"$f":"('WS Calcs'!$L$2*'WS Calcs'!$L$3*('BMP Calcs'!U330/12))*Assignments!$E13*'BMP Calcs'!U137*2.72","v":{"$error":"#N/A"}},null,{"$f":"('WS Calcs'!$L$2*'WS Calcs'!$L$3*('BMP Calcs'!W330/12))*Assignments!$E13*'BMP Calcs'!W137*2.72","v":{"$error":"#N/A"}},{"$f":"('WS Calcs'!$L$2*'WS Calcs'!$L$3*('BMP Calcs'!X330/12))*Assignments!$E13*'BMP Calcs'!X137*2.72","v":{"$error":"#N/A"}},{"$f":"('WS Calcs'!$L$2*'WS Calcs'!$L$3*('BMP Calcs'!Y330/12))*Assignments!$E13*'BMP Calcs'!Y137*2.72","v":{"$error":"#N/A"}},{"$f":"('WS Calcs'!$L$2*'WS Calcs'!$L$3*('BMP Calcs'!Z330/12))*Assignments!$E13*'BMP Calcs'!Z$136*2.72","v":{"$error":"#N/A"}},null,null,{"$f":"('WS Calcs'!$L$2*'WS Calcs'!$L$3*('BMP Calcs'!AC330/12))*Assignments!$E13*'BMP Calcs'!AC137*2.72","v":{"$error":"#N/A"}},{"$f":"('WS Calcs'!$L$2*'WS Calcs'!$L$3*('BMP Calcs'!AD330/12))*Assignments!$E13*'BMP Calcs'!AD137*2.72","v":{"$error":"#N/A"}}]
[null,"     Roof",{"$f":"('WS Calcs'!$L$2*'WS Calcs'!$L$3*('BMP Calcs'!C331/12))*Assignments!$E14*'BMP Calcs'!C138*2.72","v":{"$error":"#N/A"}},{"$f":"('WS Calcs'!$L$2*'WS Calcs'!$L$3*('BMP Calcs'!D331/12))*Assignments!$E14*'BMP Calcs'!D138*2.72","v":{"$error":"#N/A"}},{"$f":"('WS Calcs'!$L$2*'WS Calcs'!$L$3*('BMP Calcs'!E331/12))*Assignments!$E14*'BMP Calcs'!E138*2.72","v":{"$error":"#N/A"}},null,{"$f":"('WS Calcs'!$L$2*'WS Calcs'!$L$3*('BMP Calcs'!G331/12))*Assignments!$E14*'BMP Calcs'!G138*2.72","v":{"$error":"#N/A"}},{"$f":"('WS Calcs'!$L$2*'WS Calcs'!$L$3*('BMP Calcs'!H331/12))*Assignments!$E14*'BMP Calcs'!H138*2.72","v":{"$error":"#N/A"}},{"$f":"('WS Calcs'!$L$2*'WS Calcs'!$L$3*('BMP Calcs'!I331/12))*Assignments!$E14*'BMP Calcs'!I138*2.72","v":{"$error":"#N/A"}},null,{"$f":"('WS Calcs'!$L$2*'WS Calcs'!$L$3*('BMP Calcs'!K331/12))*Assignments!$E14*'BMP Calcs'!K138*2.72","v":{"$error":"#N/A"}},{"$f":"('WS Calcs'!$L$2*'WS Calcs'!$L$3*('BMP Calcs'!L331/12))*Assignments!$E14*'BMP Calcs'!L138*2.72","v":{"$error":"#N/A"}},{"$f":"('WS Calcs'!$L$2*'WS Calcs'!$L$3*('BMP Calcs'!M331/12))*Assignments!$E14*'BMP Calcs'!M138*2.72","v":{"$error":"#N/A"}},null,{"$f":"('WS Calcs'!$L$2*'WS Calcs'!$L$3*('BMP Calcs'!O331/12))*Assignments!$E14*'BMP Calcs'!O138*2.72","v":{"$error":"#N/A"}},{"$f":"('WS Calcs'!$L$2*'WS Calcs'!$L$3*('BMP Calcs'!P331/12))*Assignments!$E14*'BMP Calcs'!P138*2.72","v":{"$error":"#N/A"}},{"$f":"('WS Calcs'!$L$2*'WS Calcs'!$L$3*('BMP Calcs'!Q331/12))*Assignments!$E14*'BMP Calcs'!Q138*2.72","v":{"$error":"#N/A"}},null,{"$f":"('WS Calcs'!$L$2*'WS Calcs'!$L$3*('BMP Calcs'!S331/12))*Assignments!$E14*'BMP Calcs'!S138*2.72","v":{"$error":"#N/A"}},{"$f":"('WS Calcs'!$L$2*'WS Calcs'!$L$3*('BMP Calcs'!T331/12))*Assignments!$E14*'BMP Calcs'!T138*2.72","v":{"$error":"#N/A"}},{"$f":"('WS Calcs'!$L$2*'WS Calcs'!$L$3*('BMP Calcs'!U331/12))*Assignments!$E14*'BMP Calcs'!U138*2.72","v":{"$error":"#N/A"}},null,{"$f":"('WS Calcs'!$L$2*'WS Calcs'!$L$3*('BMP Calcs'!W331/12))*Assignments!$E14*'BMP Calcs'!W138*2.72","v":{"$error":"#N/A"}},{"$f":"('WS Calcs'!$L$2*'WS Calcs'!$L$3*('BMP Calcs'!X331/12))*Assignments!$E14*'BMP Calcs'!X138*2.72","v":{"$error":"#N/A"}},{"$f":"('WS Calcs'!$L$2*'WS Calcs'!$L$3*('BMP Calcs'!Y331/12))*Assignments!$E14*'BMP Calcs'!Y138*2.72","v":{"$error":"#N/A"}},null,null,null,{"$f":"('WS Calcs'!$L$2*'WS Calcs'!$L$3*('BMP Calcs'!AC331/12))*Assignments!$E14*'BMP Calcs'!AC138*2.72","v":{"$error":"#N/A"}},{"$f":"('WS Calcs'!$L$2*'WS Calcs'!$L$3*('BMP Calcs'!AD331/12))*Assignments!$E14*'BMP Calcs'!AD138*2.72","v":{"$error":"#N/A"}}]
[null,"INDUSTRIAL",{"$f":"('WS Calcs'!$L$2*'WS Calcs'!$L$3*('BMP Calcs'!C332/12))*Assignments!$E15*'BMP Calcs'!C139*2.72","v":{"$error":"#N/A"}},{"$f":"('WS Calcs'!$L$2*'WS Calcs'!$L$3*('BMP Calcs'!D332/12))*Assignments!$E15*'BMP Calcs'!D139*2.72","v":{"$error":"#N/A"}},{"$f":"('WS Calcs'!$L$2*'WS Calcs'!$L$3*('BMP Calcs'!E332/12))*Assignments!$E15*'BMP Calcs'!E139*2.72","v":{"$error":"#N/A"}},null,{"$f":"('WS Calcs'!$L$2*'WS Calcs'!$L$3*('BMP Calcs'!G332/12))*Assignments!$E15*'BMP Calcs'!G139*2.72","v":{"$error":"#N/A"}},{"$f":"('WS Calcs'!$L$2*'WS Calcs'!$L$3*('BMP Calcs'!H332/12))*Assignments!$E15*'BMP Calcs'!H139*2.72","v":{"$error":"#N/A"}},{"$f":"('WS Calcs'!$L$2*'WS Calcs'!$L$3*('BMP Calcs'!I332/12))*Assignments!$E15*'BMP Calcs'!I139*2.72","v":{"$error":"#N/A"}},null,{"$f":"('WS Calcs'!$L$2*'WS Calcs'!$L$3*('BMP Calcs'!K332/12))*Assignments!$E15*'BMP Calcs'!K139*2.72","v":{"$error":"#N/A"}},{"$f":"('WS Calcs'!$L$2*'WS Calcs'!$L$3*('BMP Calcs'!L332/12))*Assignments!$E15*'BMP Calcs'!L139*2.72","v":{"$error":"#N/A"}},{"$f":"('WS Calcs'!$L$2*'WS Calcs'!$L$3*('BMP Calcs'!M332/12))*Assignments!$E15*'BMP Calcs'!M139*2.72","v":{"$error":"#N/A"}},null,{"$f":"('WS Calcs'!$L$2*'WS Calcs'!$L$3*('BMP Calcs'!O332/12))*Assignments!$E15*'BMP Calcs'!O139*2.72","v":{"$error":"#N/A"}},{"$f":"('WS Calcs'!$L$2*'WS Calcs'!$L$3*('BMP Calcs'!P332/12))*Assignments!$E15*'BMP Calcs'!P139*2.72","v":{"$error":"#N/A"}},{"$f":"('WS Calcs'!$L$2*'WS Calcs'!$L$3*('BMP Calcs'!Q332/12))*Assignments!$E15*'BMP Calcs'!Q139*2.72","v":{"$error":"#N/A"}},null,{"$f":"('WS Calcs'!$L$2*'WS Calcs'!$L$3*('BMP Calcs'!S332/12))*Assignments!$E15*'BMP Calcs'!S139*2.72","v":{"$error":"#N/A"}},{"$f":"('WS Calcs'!$L$2*'WS Calcs'!$L$3*('BMP Calcs'!T332/12))*Assignments!$E15*'BMP Calcs'!T139*2.72","v":{"$error":"#N/A"}},{"$f":"('WS Calcs'!$L$2*'WS Calcs'!$L$3*('BMP Calcs'!U332/12))*Assignments!$E15*'BMP Calcs'!U139*2.72","v":{"$error":"#N/A"}},null,{"$f":"('WS Calcs'!$L$2*'WS Calcs'!$L$3*('BMP Calcs'!W332/12))*Assignments!$E15*'BMP Calcs'!W139*2.72","v":{"$error":"#N/A"}},{"$f":"('WS Calcs'!$L$2*'WS Calcs'!$L$3*('BMP Calcs'!X332/12))*Assignments!$E15*'BMP Calcs'!X139*2.72","v":{"$error":"#N/A"}},{"$f":"('WS Calcs'!$L$2*'WS Calcs'!$L$3*('BMP Calcs'!Y332/12))*Assignments!$E15*'BMP Calcs'!Y139*2.72","v":{"$error":"#N/A"}},null,null,null,{"$f":"('WS Calcs'!$L$2*'WS Calcs'!$L$3*('BMP Calcs'!AC332/12))*Assignments!$E15*'BMP Calcs'!AC139*2.72","v":{"$error":"#N/A"}},{"$f":"('WS Calcs'!$L$2*'WS Calcs'!$L$3*('BMP Calcs'!AD332/12))*Assignments!$E15*'BMP Calcs'!AD139*2.72","v":{"$error":"#N/A"}}]
[null,"     Parking lot",{"$f":"('WS Calcs'!$L$2*'WS Calcs'!$L$3*('BMP Calcs'!C333/12))*Assignments!$E16*'BMP Calcs'!C140*2.72","v":{"$error":"#N/A"}},{"$f":"('WS Calcs'!$L$2*'WS Calcs'!$L$3*('BMP Calcs'!D333/12))*Assignments!$E16*'BMP Calcs'!D140*2.72","v":{"$error":"#N/A"}},{"$f":"('WS Calcs'!$L$2*'WS Calcs'!$L$3*('BMP Calcs'!E333/12))*Assignments!$E16*'BMP Calcs'!E140*2.72","v":{"$error":"#N/A"}},null,{"$f":"('WS Calcs'!$L$2*'WS Calcs'!$L$3*('BMP Calcs'!G333/12))*Assignments!$E16*'BMP Calcs'!G140*2.72","v":{"$error":"#N/A"}},{"$f":"('WS Calcs'!$L$2*'WS Calcs'!$L$3*('BMP Calcs'!H333/12))*Assignments!$E16*'BMP Calcs'!H140*2.72","v":{"$error":"#N/A"}},{"$f":"('WS Calcs'!$L$2*'WS Calcs'!$L$3*('BMP Calcs'!I333/12))*Assignments!$E16*'BMP Calcs'!I140*2.72","v":{"$error":"#N/A"}},null,{"$f":"('WS Calcs'!$L$2*'WS Calcs'!$L$3*('BMP Calcs'!K333/12))*Assignments!$E16*'BMP Calcs'!K140*2.72","v":{"$error":"#N/A"}},{"$f":"('WS Calcs'!$L$2*'WS Calcs'!$L$3*('BMP Calcs'!L333/12))*Assignments!$E16*'BMP Calcs'!L140*2.72","v":{"$error":"#N/A"}},{"$f":"('WS Calcs'!$L$2*'WS Calcs'!$L$3*('BMP Calcs'!M333/12))*Assignments!$E16*'BMP Calcs'!M140*2.72","v":{"$error":"#N/A"}},null,{"$f":"('WS Calcs'!$L$2*'WS Calcs'!$L$3*('BMP Calcs'!O333/12))*Assignments!$E16*'BMP Calcs'!O140*2.72","v":{"$error":"#N/A"}},{"$f":"('WS Calcs'!$L$2*'WS Calcs'!$L$3*('BMP Calcs'!P333/12))*Assignments!$E16*'BMP Calcs'!P140*2.72","v":{"$error":"#N/A"}},{"$f":"('WS Calcs'!$L$2*'WS Calcs'!$L$3*('BMP Calcs'!Q333/12))*Assignments!$E16*'BMP Calcs'!Q140*2.72","v":{"$error":"#N/A"}},null,{"$f":"('WS Calcs'!$L$2*'WS Calcs'!$L$3*('BMP Calcs'!S333/12))*Assignments!$E16*'BMP Calcs'!S140*2.72","v":{"$error":"#N/A"}},{"$f":"('WS Calcs'!$L$2*'WS Calcs'!$L$3*('BMP Calcs'!T333/12))*Assignments!$E16*'BMP Calcs'!T140*2.72","v":{"$error":"#N/A"}},{"$f":"('WS Calcs'!$L$2*'WS Calcs'!$L$3*('BMP Calcs'!U333/12))*Assignments!$E16*'BMP Calcs'!U140*2.72","v":{"$error":"#N/A"}},null,{"$f":"('WS Calcs'!$L$2*'WS Calcs'!$L$3*('BMP Calcs'!W333/12))*Assignments!$E16*'BMP Calcs'!W140*2.72","v":{"$error":"#N/A"}},{"$f":"('WS Calcs'!$L$2*'WS Calcs'!$L$3*('BMP Calcs'!X333/12))*Assignments!$E16*'BMP Calcs'!X140*2.72","v":{"$error":"#N/A"}},{"$f":"('WS Calcs'!$L$2*'WS Calcs'!$L$3*('BMP Calcs'!Y333/12))*Assignments!$E16*'BMP Calcs'!Y140*2.72","v":{"$error":"#N/A"}},null,null,null,{"$f":"('WS Calcs'!$L$2*'WS Calcs'!$L$3*('BMP Calcs'!AC333/12))*Assignments!$E16*'BMP Calcs'!AC140*2.72","v":{"$error":"#N/A"}},{"$f":"('WS Calcs'!$L$2*'WS Calcs'!$L$3*('BMP Calcs'!AD333/12))*Assignments!$E16*'BMP Calcs'!AD140*2.72","v":{"$error":"#N/A"}}]
[null,"     Roof",{"$f":"('WS Calcs'!$L$2*'WS Calcs'!$L$3*('BMP Calcs'!C334/12))*Assignments!$E17*'BMP Calcs'!C141*2.72","v":{"$error":"#N/A"}},{"$f":"('WS Calcs'!$L$2*'WS Calcs'!$L$3*('BMP Calcs'!D334/12))*Assignments!$E17*'BMP Calcs'!D141*2.72","v":{"$error":"#N/A"}},{"$f":"('WS Calcs'!$L$2*'WS Calcs'!$L$3*('BMP Calcs'!E334/12))*Assignments!$E17*'BMP Calcs'!E141*2.72","v":{"$error":"#N/A"}},null,{"$f":"('WS Calcs'!$L$2*'WS Calcs'!$L$3*('BMP Calcs'!G334/12))*Assignments!$E17*'BMP Calcs'!G141*2.72","v":{"$error":"#N/A"}},{"$f":"('WS Calcs'!$L$2*'WS Calcs'!$L$3*('BMP Calcs'!H334/12))*Assignments!$E17*'BMP Calcs'!H141*2.72","v":{"$error":"#N/A"}},{"$f":"('WS Calcs'!$L$2*'WS Calcs'!$L$3*('BMP Calcs'!I334/12))*Assignments!$E17*'BMP Calcs'!I141*2.72","v":{"$error":"#N/A"}},null,{"$f":"('WS Calcs'!$L$2*'WS Calcs'!$L$3*('BMP Calcs'!K334/12))*Assignments!$E17*'BMP Calcs'!K141*2.72","v":{"$error":"#N/A"}},{"$f":"('WS Calcs'!$L$2*'WS Calcs'!$L$3*('BMP Calcs'!L334/12))*Assignments!$E17*'BMP Calcs'!L141*2.72","v":{"$error":"#N/A"}},{"$f":"('WS Calcs'!$L$2*'WS Calcs'!$L$3*('BMP Calcs'!M334/12))*Assignments!$E17*'BMP Calcs'!M141*2.72","v":{"$error":"#N/A"}},null,{"$f":"('WS Calcs'!$L$2*'WS Calcs'!$L$3*('BMP Calcs'!O334/12))*Assignments!$E17*'BMP Calcs'!O141*2.72","v":{"$error":"#N/A"}},{"$f":"('WS Calcs'!$L$2*'WS Calcs'!$L$3*('BMP Calcs'!P334/12))*Assignments!$E17*'BMP Calcs'!P141*2.72","v":{"$error":"#N/A"}},{"$f":"('WS Calcs'!$L$2*'WS Calcs'!$L$3*('BMP Calcs'!Q334/12))*Assignments!$E17*'BMP Calcs'!Q141*2.72","v":{"$error":"#N/A"}},null,{"$f":"('WS Calcs'!$L$2*'WS Calcs'!$L$3*('BMP Calcs'!S334/12))*Assignments!$E17*'BMP Calcs'!S141*2.72","v":{"$error":"#N/A"}},{"$f":"('WS Calcs'!$L$2*'WS Calcs'!$L$3*('BMP Calcs'!T334/12))*Assignments!$E17*'BMP Calcs'!T141*2.72","v":{"$error":"#N/A"}},{"$f":"('WS Calcs'!$L$2*'WS Calcs'!$L$3*('BMP Calcs'!U334/12))*Assignments!$E17*'BMP Calcs'!U141*2.72","v":{"$error":"#N/A"}},null,{"$f":"('WS Calcs'!$L$2*'WS Calcs'!$L$3*('BMP Calcs'!W334/12))*Assignments!$E17*'BMP Calcs'!W141*2.72","v":{"$error":"#N/A"}},{"$f":"('WS Calcs'!$L$2*'WS Calcs'!$L$3*('BMP Calcs'!X334/12))*Assignments!$E17*'BMP Calcs'!X141*2.72","v":{"$error":"#N/A"}},{"$f":"('WS Calcs'!$L$2*'WS Calcs'!$L$3*('BMP Calcs'!Y334/12))*Assignments!$E17*'BMP Calcs'!Y141*2.72","v":{"$error":"#N/A"}},null,null,null,{"$f":"('WS Calcs'!$L$2*'WS Calcs'!$L$3*('BMP Calcs'!AC334/12))*Assignments!$E17*'BMP Calcs'!AC141*2.72","v":{"$error":"#N/A"}},{"$f":"('WS Calcs'!$L$2*'WS Calcs'!$L$3*('BMP Calcs'!AD334/12))*Assignments!$E17*'BMP Calcs'!AD141*2.72","v":{"$error":"#N/A"}}]
[null,"     Access road",{"$f":"('WS Calcs'!$L$2*'WS Calcs'!$L$3*('BMP Calcs'!C335/12))*Assignments!$E18*'BMP Calcs'!C142*2.72","v":{"$error":"#N/A"}},{"$f":"('WS Calcs'!$L$2*'WS Calcs'!$L$3*('BMP Calcs'!D335/12))*Assignments!$E18*'BMP Calcs'!D142*2.72","v":{"$error":"#N/A"}},{"$f":"('WS Calcs'!$L$2*'WS Calcs'!$L$3*('BMP Calcs'!E335/12))*Assignments!$E18*'BMP Calcs'!E142*2.72","v":{"$error":"#N/A"}},null,{"$f":"('WS Calcs'!$L$2*'WS Calcs'!$L$3*('BMP Calcs'!G335/12))*Assignments!$E18*'BMP Calcs'!G142*2.72","v":{"$error":"#N/A"}},{"$f":"('WS Calcs'!$L$2*'WS Calcs'!$L$3*('BMP Calcs'!H335/12))*Assignments!$E18*'BMP Calcs'!H142*2.72","v":{"$error":"#N/A"}},{"$f":"('WS Calcs'!$L$2*'WS Calcs'!$L$3*('BMP Calcs'!I335/12))*Assignments!$E18*'BMP Calcs'!I142*2.72","v":{"$error":"#N/A"}},null,{"$f":"('WS Calcs'!$L$2*'WS Calcs'!$L$3*('BMP Calcs'!K335/12))*Assignments!$E18*'BMP Calcs'!K142*2.72","v":{"$error":"#N/A"}},{"$f":"('WS Calcs'!$L$2*'WS Calcs'!$L$3*('BMP Calcs'!L335/12))*Assignments!$E18*'BMP Calcs'!L142*2.72","v":{"$error":"#N/A"}},{"$f":"('WS Calcs'!$L$2*'WS Calcs'!$L$3*('BMP Calcs'!M335/12))*Assignments!$E18*'BMP Calcs'!M142*2.72","v":{"$error":"#N/A"}},null,{"$f":"('WS Calcs'!$L$2*'WS Calcs'!$L$3*('BMP Calcs'!O335/12))*Assignments!$E18*'BMP Calcs'!O142*2.72","v":{"$error":"#N/A"}},{"$f":"('WS Calcs'!$L$2*'WS Calcs'!$L$3*('BMP Calcs'!P335/12))*Assignments!$E18*'BMP Calcs'!P142*2.72","v":{"$error":"#N/A"}},{"$f":"('WS Calcs'!$L$2*'WS Calcs'!$L$3*('BMP Calcs'!Q335/12))*Assignments!$E18*'BMP Calcs'!Q142*2.72","v":{"$error":"#N/A"}},null,{"$f":"('WS Calcs'!$L$2*'WS Calcs'!$L$3*('BMP Calcs'!S335/12))*Assignments!$E18*'BMP Calcs'!S142*2.72","v":{"$error":"#N/A"}},{"$f":"('WS Calcs'!$L$2*'WS Calcs'!$L$3*('BMP Calcs'!T335/12))*Assignments!$E18*'BMP Calcs'!T142*2.72","v":{"$error":"#N/A"}},{"$f":"('WS Calcs'!$L$2*'WS Calcs'!$L$3*('BMP Calcs'!U335/12))*Assignments!$E18*'BMP Calcs'!U142*2.72","v":{"$error":"#N/A"}},null,{"$f":"('WS Calcs'!$L$2*'WS Calcs'!$L$3*('BMP Calcs'!W335/12))*Assignments!$E18*'BMP Calcs'!W142*2.72","v":{"$error":"#N/A"}},{"$f":"('WS Calcs'!$L$2*'WS Calcs'!$L$3*('BMP Calcs'!X335/12))*Assignments!$E18*'BMP Calcs'!X142*2.72","v":{"$error":"#N/A"}},{"$f":"('WS Calcs'!$L$2*'WS Calcs'!$L$3*('BMP Calcs'!Y335/12))*Assignments!$E18*'BMP Calcs'!Y142*2.72","v":{"$error":"#N/A"}},null,null,null,{"$f":"('WS Calcs'!$L$2*'WS Calcs'!$L$3*('BMP Calcs'!AC335/12))*Assignments!$E18*'BMP Calcs'!AC142*2.72","v":{"$error":"#N/A"}},{"$f":"('WS Calcs'!$L$2*'WS Calcs'!$L$3*('BMP Calcs'!AD335/12))*Assignments!$E18*'BMP Calcs'!AD142*2.72","v":{"$error":"#N/A"}}]
[null,"     Impervious, uncovered storage",{"$f":"('WS Calcs'!$L$2*'WS Calcs'!$L$3*('BMP Calcs'!C336/12))*Assignments!$E19*'BMP Calcs'!C143*2.72","v":{"$error":"#N/A"}},{"$f":"('WS Calcs'!$L$2*'WS Calcs'!$L$3*('BMP Calcs'!D336/12))*Assignments!$E19*'BMP Calcs'!D143*2.72","v":{"$error":"#N/A"}},{"$f":"('WS Calcs'!$L$2*'WS Calcs'!$L$3*('BMP Calcs'!E336/12))*Assignments!$E19*'BMP Calcs'!E143*2.72","v":{"$error":"#N/A"}},null,{"$f":"('WS Calcs'!$L$2*'WS Calcs'!$L$3*('BMP Calcs'!G336/12))*Assignments!$E19*'BMP Calcs'!G143*2.72","v":{"$error":"#N/A"}},{"$f":"('WS Calcs'!$L$2*'WS Calcs'!$L$3*('BMP Calcs'!H336/12))*Assignments!$E19*'BMP Calcs'!H143*2.72","v":{"$error":"#N/A"}},{"$f":"('WS Calcs'!$L$2*'WS Calcs'!$L$3*('BMP Calcs'!I336/12))*Assignments!$E19*'BMP Calcs'!I143*2.72","v":{"$error":"#N/A"}},null,{"$f":"('WS Calcs'!$L$2*'WS Calcs'!$L$3*('BMP Calcs'!K336/12))*Assignments!$E19*'BMP Calcs'!K143*2.72","v":{"$error":"#N/A"}},{"$f":"('WS Calcs'!$L$2*'WS Calcs'!$L$3*('BMP Calcs'!L336/12))*Assignments!$E19*'BMP Calcs'!L143*2.72","v":{"$error":"#N/A"}},{"$f":"('WS Calcs'!$L$2*'WS Calcs'!$L$3*('BMP Calcs'!M336/12))*Assignments!$E19*'BMP Calcs'!M143*2.72","v":{"$error":"#N/A"}},null,{"$f":"('WS Calcs'!$L$2*'WS Calcs'!$L$3*('BMP Calcs'!O336/12))*Assignments!$E19*'BMP Calcs'!O143*2.72","v":{"$error":"#N/A"}},{"$f":"('WS Calcs'!$L$2*'WS Calcs'!$L$3*('BMP Calcs'!P336/12))*Assignments!$E19*'BMP Calcs'!P143*2.72","v":{"$error":"#N/A"}},{"$f":"('WS Calcs'!$L$2*'WS Calcs'!$L$3*('BMP Calcs'!Q336/12))*Assignments!$E19*'BMP Calcs'!Q143*2.72","v":{"$error":"#N/A"}},null,{"$f":"('WS Calcs'!$L$2*'WS Calcs'!$L$3*('BMP Calcs'!S336/12))*Assignments!$E19*'BMP Calcs'!S143*2.72","v":{"$error":"#N/A"}},{"$f":"('WS Calcs'!$L$2*'WS Calcs'!$L$3*('BMP Calcs'!T336/12))*Assignments!$E19*'BMP Calcs'!T143*2.72","v":{"$error":"#N/A"}},{"$f":"('WS Calcs'!$L$2*'WS Calcs'!$L$3*('BMP Calcs'!U336/12))*Assignments!$E19*'BMP Calcs'!U143*2.72","v":{"$error":"#N/A"}},null,{"$f":"('WS Calcs'!$L$2*'WS Calcs'!$L$3*('BMP Calcs'!W336/12))*Assignments!$E19*'BMP Calcs'!W143*2.72","v":{"$error":"#N/A"}},{"$f":"('WS Calcs'!$L$2*'WS Calcs'!$L$3*('BMP Calcs'!X336/12))*Assignments!$E19*'BMP Calcs'!X143*2.72","v":{"$error":"#N/A"}},{"$f":"('WS Calcs'!$L$2*'WS Calcs'!$L$3*('BMP Calcs'!Y336/12))*Assignments!$E19*'BMP Calcs'!Y143*2.72","v":{"$error":"#N/A"}},null,null,null,{"$f":"('WS Calcs'!$L$2*'WS Calcs'!$L$3*('BMP Calcs'!AC336/12))*Assignments!$E19*'BMP Calcs'!AC143*2.72","v":{"$error":"#N/A"}},{"$f":"('WS Calcs'!$L$2*'WS Calcs'!$L$3*('BMP Calcs'!AD336/12))*Assignments!$E19*'BMP Calcs'!AD143*2.72","v":{"$error":"#N/A"}}]
[null,"     Pervious, uncovered storage",{"$f":"('WS Calcs'!$L$2*'WS Calcs'!$L$3*('BMP Calcs'!C337/12))*Assignments!$E20*'BMP Calcs'!C144*2.72","v":{"$error":"#N/A"}},{"$f":"('WS Calcs'!$L$2*'WS Calcs'!$L$3*('BMP Calcs'!D337/12))*Assignments!$E20*'BMP Calcs'!D144*2.72","v":{"$error":"#N/A"}},{"$f":"('WS Calcs'!$L$2*'WS Calcs'!$L$3*('BMP Calcs'!E337/12))*Assignments!$E20*'BMP Calcs'!E144*2.72","v":{"$error":"#N/A"}},null,{"$f":"('WS Calcs'!$L$2*'WS Calcs'!$L$3*('BMP Calcs'!G337/12))*Assignments!$E20*'BMP Calcs'!G144*2.72","v":{"$error":"#N/A"}},{"$f":"('WS Calcs'!$L$2*'WS Calcs'!$L$3*('BMP Calcs'!H337/12))*Assignments!$E20*'BMP Calcs'!H144*2.72","v":{"$error":"#N/A"}},{"$f":"('WS Calcs'!$L$2*'WS Calcs'!$L$3*('BMP Calcs'!I337/12))*Assignments!$E20*'BMP Calcs'!I144*2.72","v":{"$error":"#N/A"}},null,{"$f":"('WS Calcs'!$L$2*'WS Calcs'!$L$3*('BMP Calcs'!K337/12))*Assignments!$E20*'BMP Calcs'!K144*2.72","v":{"$error":"#N/A"}},{"$f":"('WS Calcs'!$L$2*'WS Calcs'!$L$3*('BMP Calcs'!L337/12))*Assignments!$E20*'BMP Calcs'!L144*2.72","v":{"$error":"#N/A"}},{"$f":"('WS Calcs'!$L$2*'WS Calcs'!$L$3*('BMP Calcs'!M337/12))*Assignments!$E20*'BMP Calcs'!M144*2.72","v":{"$error":"#N/A"}},null,{"$f":"('WS Calcs'!$L$2*'WS Calcs'!$L$3*('BMP Calcs'!O337/12))*Assignments!$E20*'BMP Calcs'!O144*2.72","v":{"$error":"#N/A"}},{"$f":"('WS Calcs'!$L$2*'WS Calcs'!$L$3*('BMP Calcs'!P337/12))*Assignments!$E20*'BMP Calcs'!P144*2.72","v":{"$error":"#N/A"}},{"$f":"('WS Calcs'!$L$2*'WS Calcs'!$L$3*('BMP Calcs'!Q337/12))*Assignments!$E20*'BMP Calcs'!Q144*2.72","v":{"$error":"#N/A"}},null,{"$f":"('WS Calcs'!$L$2*'WS Calcs'!$L$3*('BMP Calcs'!S337/12))*Assignments!$E20*'BMP Calcs'!S144*2.72","v":{"$error":"#N/A"}},{"$f":"('WS Calcs'!$L$2*'WS Calcs'!$L$3*('BMP Calcs'!T337/12))*Assignments!$E20*'BMP Calcs'!T144*2.72","v":{"$error":"#N/A"}},{"$f":"('WS Calcs'!$L$2*'WS Calcs'!$L$3*('BMP Calcs'!U337/12))*Assignments!$E20*'BMP Calcs'!U144*2.72","v":{"$error":"#N/A"}},null,{"$f":"('WS Calcs'!$L$2*'WS Calcs'!$L$3*('BMP Calcs'!W337/12))*Assignments!$E20*'BMP Calcs'!W144*2.72","v":{"$error":"#N/A"}},{"$f":"('WS Calcs'!$L$2*'WS Calcs'!$L$3*('BMP Calcs'!X337/12))*Assignments!$E20*'BMP Calcs'!X144*2.72","v":{"$error":"#N/A"}},{"$f":"('WS Calcs'!$L$2*'WS Calcs'!$L$3*('BMP Calcs'!Y337/12))*Assignments!$E20*'BMP Calcs'!Y144*2.72","v":{"$error":"#N/A"}},null,null,null,{"$f":"('WS Calcs'!$L$2*'WS Calcs'!$L$3*('BMP Calcs'!AC337/12))*Assignments!$E20*'BMP Calcs'!AC144*2.72","v":{"$error":"#N/A"}},{"$f":"('WS Calcs'!$L$2*'WS Calcs'!$L$3*('BMP Calcs'!AD337/12))*Assignments!$E20*'BMP Calcs'!AD144*2.72","v":{"$error":"#N/A"}}]
[null,"TRANSPORTATION",{"$f":"('WS Calcs'!$L$2*'WS Calcs'!$L$3*('BMP Calcs'!C338/12))*Assignments!$E21*'BMP Calcs'!C145*2.72","v":{"$error":"#N/A"}},{"$f":"('WS Calcs'!$L$2*'WS Calcs'!$L$3*('BMP Calcs'!D338/12))*Assignments!$E21*'BMP Calcs'!D145*2.72","v":{"$error":"#N/A"}},{"$f":"('WS Calcs'!$L$2*'WS Calcs'!$L$3*('BMP Calcs'!E338/12))*Assignments!$E21*'BMP Calcs'!E145*2.72","v":{"$error":"#N/A"}},null,{"$f":"('WS Calcs'!$L$2*'WS Calcs'!$L$3*('BMP Calcs'!G338/12))*Assignments!$E21*'BMP Calcs'!G145*2.72","v":{"$error":"#N/A"}},{"$f":"('WS Calcs'!$L$2*'WS Calcs'!$L$3*('BMP Calcs'!H338/12))*Assignments!$E21*'BMP Calcs'!H145*2.72","v":{"$error":"#N/A"}},{"$f":"('WS Calcs'!$L$2*'WS Calcs'!$L$3*('BMP Calcs'!I338/12))*Assignments!$E21*'BMP Calcs'!I145*2.72","v":{"$error":"#N/A"}},null,{"$f":"('WS Calcs'!$L$2*'WS Calcs'!$L$3*('BMP Calcs'!K338/12))*Assignments!$E21*'BMP Calcs'!K145*2.72","v":{"$error":"#N/A"}},{"$f":"('WS Calcs'!$L$2*'WS Calcs'!$L$3*('BMP Calcs'!L338/12))*Assignments!$E21*'BMP Calcs'!L145*2.72","v":{"$error":"#N/A"}},{"$f":"('WS Calcs'!$L$2*'WS Calcs'!$L$3*('BMP Calcs'!M338/12))*Assignments!$E21*'BMP Calcs'!M145*2.72","v":{"$error":"#N/A"}},null,{"$f":"('WS Calcs'!$L$2*'WS Calcs'!$L$3*('BMP Calcs'!O338/12))*Assignments!$E21*'BMP Calcs'!O145*2.72","v":{"$error":"#N/A"}},{"$f":"('WS Calcs'!$L$2*'WS Calcs'!$L$3*('BMP Calcs'!P338/12))*Assignments!$E21*'BMP Calcs'!P145*2.72","v":{"$error":"#N/A"}},{"$f":"('WS Calcs'!$L$2*'WS Calcs'!$L$3*('BMP Calcs'!Q338/12))*Assignments!$E21*'BMP Calcs'!Q145*2.72","v":{"$error":"#N/A"}},null,{"$f":"('WS Calcs'!$L$2*'WS Calcs'!$L$3*('BMP Calcs'!S338/12))*Assignments!$E21*'BMP Calcs'!S145*2.72","v":{"$error":"#N/A"}},{"$f":"('WS Calcs'!$L$2*'WS Calcs'!$L$3*('BMP Calcs'!T338/12))*Assignments!$E21*'BMP Calcs'!T145*2.72","v":{"$error":"#N/A"}},{"$f":"('WS Calcs'!$L$2*'WS Calcs'!$L$3*('BMP Calcs'!U338/12))*Assignments!$E21*'BMP Calcs'!U145*2.72","v":{"$error":"#N/A"}},null,{"$f":"('WS Calcs'!$L$2*'WS Calcs'!$L$3*('BMP Calcs'!W338/12))*Assignments!$E21*'BMP Calcs'!W145*2.72","v":{"$error":"#N/A"}},{"$f":"('WS Calcs'!$L$2*'WS Calcs'!$L$3*('BMP Calcs'!X338/12))*Assignments!$E21*'BMP Calcs'!X145*2.72","v":{"$error":"#N/A"}},{"$f":"('WS Calcs'!$L$2*'WS Calcs'!$L$3*('BMP Calcs'!Y338/12))*Assignments!$E21*'BMP Calcs'!Y145*2.72","v":{"$error":"#N/A"}},null,null,null,{"$f":"('WS Calcs'!$L$2*'WS Calcs'!$L$3*('BMP Calcs'!AC338/12))*Assignments!$E21*'BMP Calcs'!AC145*2.72","v":{"$error":"#N/A"}},{"$f":"('WS Calcs'!$L$2*'WS Calcs'!$L$3*('BMP Calcs'!AD338/12))*Assignments!$E21*'BMP Calcs'!AD145*2.72","v":{"$error":"#N/A"}}]
[null,"     Primary road EOP",{"$f":"('WS Calcs'!$L$2*'WS Calcs'!$L$3*('BMP Calcs'!C339/12))*Assignments!$E22*'BMP Calcs'!C146*2.72","v":{"$error":"#N/A"}},{"$f":"('WS Calcs'!$L$2*'WS Calcs'!$L$3*('BMP Calcs'!D339/12))*Assignments!$E22*'BMP Calcs'!D146*2.72","v":{"$error":"#N/A"}},{"$f":"('WS Calcs'!$L$2*'WS Calcs'!$L$3*('BMP Calcs'!E339/12))*Assignments!$E22*'BMP Calcs'!E146*2.72","v":{"$error":"#N/A"}},null,{"$f":"('WS Calcs'!$L$2*'WS Calcs'!$L$3*('BMP Calcs'!G339/12))*Assignments!$E22*'BMP Calcs'!G146*2.72","v":{"$error":"#N/A"}},{"$f":"('WS Calcs'!$L$2*'WS Calcs'!$L$3*('BMP Calcs'!H339/12))*Assignments!$E22*'BMP Calcs'!H146*2.72","v":{"$error":"#N/A"}},{"$f":"('WS Calcs'!$L$2*'WS Calcs'!$L$3*('BMP Calcs'!I339/12))*Assignments!$E22*'BMP Calcs'!I146*2.72","v":{"$error":"#N/A"}},null,{"$f":"('WS Calcs'!$L$2*'WS Calcs'!$L$3*('BMP Calcs'!K339/12))*Assignments!$E22*'BMP Calcs'!K146*2.72","v":{"$error":"#N/A"}},{"$f":"('WS Calcs'!$L$2*'WS Calcs'!$L$3*('BMP Calcs'!L339/12))*Assignments!$E22*'BMP Calcs'!L146*2.72","v":{"$error":"#N/A"}},{"$f":"('WS Calcs'!$L$2*'WS Calcs'!$L$3*('BMP Calcs'!M339/12))*Assignments!$E22*'BMP Calcs'!M146*2.72","v":{"$error":"#N/A"}},null,{"$f":"('WS Calcs'!$L$2*'WS Calcs'!$L$3*('BMP Calcs'!O339/12))*Assignments!$E22*'BMP Calcs'!O146*2.72","v":{"$error":"#N/A"}},{"$f":"('WS Calcs'!$L$2*'WS Calcs'!$L$3*('BMP Calcs'!P339/12))*Assignments!$E22*'BMP Calcs'!P146*2.72","v":{"$error":"#N/A"}},{"$f":"('WS Calcs'!$L$2*'WS Calcs'!$L$3*('BMP Calcs'!Q339/12))*Assignments!$E22*'BMP Calcs'!Q146*2.72","v":{"$error":"#N/A"}},null,{"$f":"('WS Calcs'!$L$2*'WS Calcs'!$L$3*('BMP Calcs'!S339/12))*Assignments!$E22*'BMP Calcs'!S146*2.72","v":{"$error":"#N/A"}},{"$f":"('WS Calcs'!$L$2*'WS Calcs'!$L$3*('BMP Calcs'!T339/12))*Assignments!$E22*'BMP Calcs'!T146*2.72","v":{"$error":"#N/A"}},{"$f":"('WS Calcs'!$L$2*'WS Calcs'!$L$3*('BMP Calcs'!U339/12))*Assignments!$E22*'BMP Calcs'!U146*2.72","v":{"$error":"#N/A"}},null,{"$f":"('WS Calcs'!$L$2*'WS Calcs'!$L$3*('BMP Calcs'!W339/12))*Assignments!$E22*'BMP Calcs'!W146*2.72","v":{"$error":"#N/A"}},{"$f":"('WS Calcs'!$L$2*'WS Calcs'!$L$3*('BMP Calcs'!X339/12))*Assignments!$E22*'BMP Calcs'!X146*2.72","v":{"$error":"#N/A"}},{"$f":"('WS Calcs'!$L$2*'WS Calcs'!$L$3*('BMP Calcs'!Y339/12))*Assignments!$E22*'BMP Calcs'!Y146*2.72","v":{"$error":"#N/A"}},null,null,null,{"$f":"('WS Calcs'!$L$2*'WS Calcs'!$L$3*('BMP Calcs'!AC339/12))*Assignments!$E22*'BMP Calcs'!AC146*2.72","v":{"$error":"#N/A"}},{"$f":"('WS Calcs'!$L$2*'WS Calcs'!$L$3*('BMP Calcs'!AD339/12))*Assignments!$E22*'BMP Calcs'!AD146*2.72","v":{"$error":"#N/A"}}]
[null,"     Secondary road EOP",{"$f":"('WS Calcs'!$L$2*'WS Calcs'!$L$3*('BMP Calcs'!C340/12))*Assignments!$E23*'BMP Calcs'!C147*2.72","v":{"$error":"#N/A"}},{"$f":"('WS Calcs'!$L$2*'WS Calcs'!$L$3*('BMP Calcs'!D340/12))*Assignments!$E23*'BMP Calcs'!D147*2.72","v":{"$error":"#N/A"}},{"$f":"('WS Calcs'!$L$2*'WS Calcs'!$L$3*('BMP Calcs'!E340/12))*Assignments!$E23*'BMP Calcs'!E147*2.72","v":{"$error":"#N/A"}},null,{"$f":"('WS Calcs'!$L$2*'WS Calcs'!$L$3*('BMP Calcs'!G340/12))*Assignments!$E23*'BMP Calcs'!G147*2.72","v":{"$error":"#N/A"}},{"$f":"('WS Calcs'!$L$2*'WS Calcs'!$L$3*('BMP Calcs'!H340/12))*Assignments!$E23*'BMP Calcs'!H147*2.72","v":{"$error":"#N/A"}},{"$f":"('WS Calcs'!$L$2*'WS Calcs'!$L$3*('BMP Calcs'!I340/12))*Assignments!$E23*'BMP Calcs'!I147*2.72","v":{"$error":"#N/A"}},null,{"$f":"('WS Calcs'!$L$2*'WS Calcs'!$L$3*('BMP Calcs'!K340/12))*Assignments!$E23*'BMP Calcs'!K147*2.72","v":{"$error":"#N/A"}},{"$f":"('WS Calcs'!$L$2*'WS Calcs'!$L$3*('BMP Calcs'!L340/12))*Assignments!$E23*'BMP Calcs'!L147*2.72","v":{"$error":"#N/A"}},{"$f":"('WS Calcs'!$L$2*'WS Calcs'!$L$3*('BMP Calcs'!M340/12))*Assignments!$E23*'BMP Calcs'!M147*2.72","v":{"$error":"#N/A"}},null,{"$f":"('WS Calcs'!$L$2*'WS Calcs'!$L$3*('BMP Calcs'!O340/12))*Assignments!$E23*'BMP Calcs'!O147*2.72","v":{"$error":"#N/A"}},{"$f":"('WS Calcs'!$L$2*'WS Calcs'!$L$3*('BMP Calcs'!P340/12))*Assignments!$E23*'BMP Calcs'!P147*2.72","v":{"$error":"#N/A"}},{"$f":"('WS Calcs'!$L$2*'WS Calcs'!$L$3*('BMP Calcs'!Q340/12))*Assignments!$E23*'BMP Calcs'!Q147*2.72","v":{"$error":"#N/A"}},null,{"$f":"('WS Calcs'!$L$2*'WS Calcs'!$L$3*('BMP Calcs'!S340/12))*Assignments!$E23*'BMP Calcs'!S147*2.72","v":{"$error":"#N/A"}},{"$f":"('WS Calcs'!$L$2*'WS Calcs'!$L$3*('BMP Calcs'!T340/12))*Assignments!$E23*'BMP Calcs'!T147*2.72","v":{"$error":"#N/A"}},{"$f":"('WS Calcs'!$L$2*'WS Calcs'!$L$3*('BMP Calcs'!U340/12))*Assignments!$E23*'BMP Calcs'!U147*2.72","v":{"$error":"#N/A"}},null,{"$f":"('WS Calcs'!$L$2*'WS Calcs'!$L$3*('BMP Calcs'!W340/12))*Assignments!$E23*'BMP Calcs'!W147*2.72","v":{"$error":"#N/A"}},{"$f":"('WS Calcs'!$L$2*'WS Calcs'!$L$3*('BMP Calcs'!X340/12))*Assignments!$E23*'BMP Calcs'!X147*2.72","v":{"$error":"#N/A"}},{"$f":"('WS Calcs'!$L$2*'WS Calcs'!$L$3*('BMP Calcs'!Y340/12))*Assignments!$E23*'BMP Calcs'!Y147*2.72","v":{"$error":"#N/A"}},null,null,null,{"$f":"('WS Calcs'!$L$2*'WS Calcs'!$L$3*('BMP Calcs'!AC340/12))*Assignments!$E23*'BMP Calcs'!AC147*2.72","v":{"$error":"#N/A"}},{"$f":"('WS Calcs'!$L$2*'WS Calcs'!$L$3*('BMP Calcs'!AD340/12))*Assignments!$E23*'BMP Calcs'!AD147*2.72","v":{"$error":"#N/A"}}]
[null,"     Bridge EOP",{"$f":"('WS Calcs'!$L$2*'WS Calcs'!$L$3*('BMP Calcs'!C341/12))*Assignments!$E24*'BMP Calcs'!C148*2.72","v":{"$error":"#N/A"}},{"$f":"('WS Calcs'!$L$2*'WS Calcs'!$L$3*('BMP Calcs'!D341/12))*Assignments!$E24*'BMP Calcs'!D148*2.72","v":{"$error":"#N/A"}},{"$f":"('WS Calcs'!$L$2*'WS Calcs'!$L$3*('BMP Calcs'!E341/12))*Assignments!$E24*'BMP Calcs'!E148*2.72","v":{"$error":"#N/A"}},null,{"$f":"('WS Calcs'!$L$2*'WS Calcs'!$L$3*('BMP Calcs'!G341/12))*Assignments!$E24*'BMP Calcs'!G148*2.72","v":{"$error":"#N/A"}},{"$f":"('WS Calcs'!$L$2*'WS Calcs'!$L$3*('BMP Calcs'!H341/12))*Assignments!$E24*'BMP Calcs'!H148*2.72","v":{"$error":"#N/A"}},{"$f":"('WS Calcs'!$L$2*'WS Calcs'!$L$3*('BMP Calcs'!I341/12))*Assignments!$E24*'BMP Calcs'!I148*2.72","v":{"$error":"#N/A"}},null,{"$f":"('WS Calcs'!$L$2*'WS Calcs'!$L$3*('BMP Calcs'!K341/12))*Assignments!$E24*'BMP Calcs'!K148*2.72","v":{"$error":"#N/A"}},{"$f":"('WS Calcs'!$L$2*'WS Calcs'!$L$3*('BMP Calcs'!L341/12))*Assignments!$E24*'BMP Calcs'!L148*2.72","v":{"$error":"#N/A"}},{"$f":"('WS Calcs'!$L$2*'WS Calcs'!$L$3*('BMP Calcs'!M341/12))*Assignments!$E24*'BMP Calcs'!M148*2.72","v":{"$error":"#N/A"}},null,{"$f":"('WS Calcs'!$L$2*'WS Calcs'!$L$3*('BMP Calcs'!O341/12))*Assignments!$E24*'BMP Calcs'!O148*2.72","v":{"$error":"#N/A"}},{"$f":"('WS Calcs'!$L$2*'WS Calcs'!$L$3*('BMP Calcs'!P341/12))*Assignments!$E24*'BMP Calcs'!P148*2.72","v":{"$error":"#N/A"}},{"$f":"('WS Calcs'!$L$2*'WS Calcs'!$L$3*('BMP Calcs'!Q341/12))*Assignments!$E24*'BMP Calcs'!Q148*2.72","v":{"$error":"#N/A"}},null,{"$f":"('WS Calcs'!$L$2*'WS Calcs'!$L$3*('BMP Calcs'!S341/12))*Assignments!$E24*'BMP Calcs'!S148*2.72","v":{"$error":"#N/A"}},{"$f":"('WS Calcs'!$L$2*'WS Calcs'!$L$3*('BMP Calcs'!T341/12))*Assignments!$E24*'BMP Calcs'!T148*2.72","v":{"$error":"#N/A"}},{"$f":"('WS Calcs'!$L$2*'WS Calcs'!$L$3*('BMP Calcs'!U341/12))*Assignments!$E24*'BMP Calcs'!U148*2.72","v":{"$error":"#N/A"}},null,{"$f":"('WS Calcs'!$L$2*'WS Calcs'!$L$3*('BMP Calcs'!W341/12))*Assignments!$E24*'BMP Calcs'!W148*2.72","v":{"$error":"#N/A"}},{"$f":"('WS Calcs'!$L$2*'WS Calcs'!$L$3*('BMP Calcs'!X341/12))*Assignments!$E24*'BMP Calcs'!X148*2.72","v":{"$error":"#N/A"}},{"$f":"('WS Calcs'!$L$2*'WS Calcs'!$L$3*('BMP Calcs'!Y341/12))*Assignments!$E24*'BMP Calcs'!Y148*2.72","v":{"$error":"#N/A"}},null,null,null,{"$f":"('WS Calcs'!$L$2*'WS Calcs'!$L$3*('BMP Calcs'!AC341/12))*Assignments!$E24*'BMP Calcs'!AC148*2.72","v":{"$error":"#N/A"}},{"$f":"('WS Calcs'!$L$2*'WS Calcs'!$L$3*('BMP Calcs'!AD341/12))*Assignments!$E24*'BMP Calcs'!AD148*2.72","v":{"$error":"#N/A"}}]
[null,"     Sidewalk",{"$f":"('WS Calcs'!$L$2*'WS Calcs'!$L$3*('BMP Calcs'!C342/12))*Assignments!$E25*'BMP Calcs'!C149*2.72","v":{"$error":"#N/A"}},{"$f":"('WS Calcs'!$L$2*'WS Calcs'!$L$3*('BMP Calcs'!D342/12))*Assignments!$E25*'BMP Calcs'!D149*2.72","v":{"$error":"#N/A"}},{"$f":"('WS Calcs'!$L$2*'WS Calcs'!$L$3*('BMP Calcs'!E342/12))*Assignments!$E25*'BMP Calcs'!E149*2.72","v":{"$error":"#N/A"}},null,{"$f":"('WS Calcs'!$L$2*'WS Calcs'!$L$3*('BMP Calcs'!G342/12))*Assignments!$E25*'BMP Calcs'!G149*2.72","v":{"$error":"#N/A"}},{"$f":"('WS Calcs'!$L$2*'WS Calcs'!$L$3*('BMP Calcs'!H342/12))*Assignments!$E25*'BMP Calcs'!H149*2.72","v":{"$error":"#N/A"}},{"$f":"('WS Calcs'!$L$2*'WS Calcs'!$L$3*('BMP Calcs'!I342/12))*Assignments!$E25*'BMP Calcs'!I149*2.72","v":{"$error":"#N/A"}},null,{"$f":"('WS Calcs'!$L$2*'WS Calcs'!$L$3*('BMP Calcs'!K342/12))*Assignments!$E25*'BMP Calcs'!K149*2.72","v":{"$error":"#N/A"}},{"$f":"('WS Calcs'!$L$2*'WS Calcs'!$L$3*('BMP Calcs'!L342/12))*Assignments!$E25*'BMP Calcs'!L149*2.72","v":{"$error":"#N/A"}},{"$f":"('WS Calcs'!$L$2*'WS Calcs'!$L$3*('BMP Calcs'!M342/12))*Assignments!$E25*'BMP Calcs'!M149*2.72","v":{"$error":"#N/A"}},null,{"$f":"('WS Calcs'!$L$2*'WS Calcs'!$L$3*('BMP Calcs'!O342/12))*Assignments!$E25*'BMP Calcs'!O149*2.72","v":{"$error":"#N/A"}},{"$f":"('WS Calcs'!$L$2*'WS Calcs'!$L$3*('BMP Calcs'!P342/12))*Assignments!$E25*'BMP Calcs'!P149*2.72","v":{"$error":"#N/A"}},{"$f":"('WS Calcs'!$L$2*'WS Calcs'!$L$3*('BMP Calcs'!Q342/12))*Assignments!$E25*'BMP Calcs'!Q149*2.72","v":{"$error":"#N/A"}},null,{"$f":"('WS Calcs'!$L$2*'WS Calcs'!$L$3*('BMP Calcs'!S342/12))*Assignments!$E25*'BMP Calcs'!S149*2.72","v":{"$error":"#N/A"}},{"$f":"('WS Calcs'!$L$2*'WS Calcs'!$L$3*('BMP Calcs'!T342/12))*Assignments!$E25*'BMP Calcs'!T149*2.72","v":{"$error":"#N/A"}},{"$f":"('WS Calcs'!$L$2*'WS Calcs'!$L$3*('BMP Calcs'!U342/12))*Assignments!$E25*'BMP Calcs'!U149*2.72","v":{"$error":"#N/A"}},null,{"$f":"('WS Calcs'!$L$2*'WS Calcs'!$L$3*('BMP Calcs'!W342/12))*Assignments!$E25*'BMP Calcs'!W149*2.72","v":{"$error":"#N/A"}},{"$f":"('WS Calcs'!$L$2*'WS Calcs'!$L$3*('BMP Calcs'!X342/12))*Assignments!$E25*'BMP Calcs'!X149*2.72","v":{"$error":"#N/A"}},{"$f":"('WS Calcs'!$L$2*'WS Calcs'!$L$3*('BMP Calcs'!Y342/12))*Assignments!$E25*'BMP Calcs'!Y149*2.72","v":{"$error":"#N/A"}},null,null,null,{"$f":"('WS Calcs'!$L$2*'WS Calcs'!$L$3*('BMP Calcs'!AC342/12))*Assignments!$E25*'BMP Calcs'!AC149*2.72","v":{"$error":"#N/A"}},{"$f":"('WS Calcs'!$L$2*'WS Calcs'!$L$3*('BMP Calcs'!AD342/12))*Assignments!$E25*'BMP Calcs'!AD149*2.72","v":{"$error":"#N/A"}}]
[null,"REST AREA",{"$f":"('WS Calcs'!$L$2*'WS Calcs'!$L$3*('BMP Calcs'!C343/12))*Assignments!$E26*'BMP Calcs'!C150*2.72","v":{"$error":"#N/A"}},{"$f":"('WS Calcs'!$L$2*'WS Calcs'!$L$3*('BMP Calcs'!D343/12))*Assignments!$E26*'BMP Calcs'!D150*2.72","v":{"$error":"#N/A"}},{"$f":"('WS Calcs'!$L$2*'WS Calcs'!$L$3*('BMP Calcs'!E343/12))*Assignments!$E26*'BMP Calcs'!E150*2.72","v":{"$error":"#N/A"}},null,{"$f":"('WS Calcs'!$L$2*'WS Calcs'!$L$3*('BMP Calcs'!G343/12))*Assignments!$E26*'BMP Calcs'!G150*2.72","v":{"$error":"#N/A"}},{"$f":"('WS Calcs'!$L$2*'WS Calcs'!$L$3*('BMP Calcs'!H343/12))*Assignments!$E26*'BMP Calcs'!H150*2.72","v":{"$error":"#N/A"}},{"$f":"('WS Calcs'!$L$2*'WS Calcs'!$L$3*('BMP Calcs'!I343/12))*Assignments!$E26*'BMP Calcs'!I150*2.72","v":{"$error":"#N/A"}},null,{"$f":"('WS Calcs'!$L$2*'WS Calcs'!$L$3*('BMP Calcs'!K343/12))*Assignments!$E26*'BMP Calcs'!K150*2.72","v":{"$error":"#N/A"}},{"$f":"('WS Calcs'!$L$2*'WS Calcs'!$L$3*('BMP Calcs'!L343/12))*Assignments!$E26*'BMP Calcs'!L150*2.72","v":{"$error":"#N/A"}},{"$f":"('WS Calcs'!$L$2*'WS Calcs'!$L$3*('BMP Calcs'!M343/12))*Assignments!$E26*'BMP Calcs'!M150*2.72","v":{"$error":"#N/A"}},null,{"$f":"('WS Calcs'!$L$2*'WS Calcs'!$L$3*('BMP Calcs'!O343/12))*Assignments!$E26*'BMP Calcs'!O150*2.72","v":{"$error":"#N/A"}},{"$f":"('WS Calcs'!$L$2*'WS Calcs'!$L$3*('BMP Calcs'!P343/12))*Assignments!$E26*'BMP Calcs'!P150*2.72","v":{"$error":"#N/A"}},{"$f":"('WS Calcs'!$L$2*'WS Calcs'!$L$3*('BMP Calcs'!Q343/12))*Assignments!$E26*'BMP Calcs'!Q150*2.72","v":{"$error":"#N/A"}},null,{"$f":"('WS Calcs'!$L$2*'WS Calcs'!$L$3*('BMP Calcs'!S343/12))*Assignments!$E26*'BMP Calcs'!S150*2.72","v":{"$error":"#N/A"}},{"$f":"('WS Calcs'!$L$2*'WS Calcs'!$L$3*('BMP Calcs'!T343/12))*Assignments!$E26*'BMP Calcs'!T150*2.72","v":{"$error":"#N/A"}},{"$f":"('WS Calcs'!$L$2*'WS Calcs'!$L$3*('BMP Calcs'!U343/12))*Assignments!$E26*'BMP Calcs'!U150*2.72","v":{"$error":"#N/A"}},null,{"$f":"('WS Calcs'!$L$2*'WS Calcs'!$L$3*('BMP Calcs'!W343/12))*Assignments!$E26*'BMP Calcs'!W150*2.72","v":{"$error":"#N/A"}},{"$f":"('WS Calcs'!$L$2*'WS Calcs'!$L$3*('BMP Calcs'!X343/12))*Assignments!$E26*'BMP Calcs'!X150*2.72","v":{"$error":"#N/A"}},{"$f":"('WS Calcs'!$L$2*'WS Calcs'!$L$3*('BMP Calcs'!Y343/12))*Assignments!$E26*'BMP Calcs'!Y150*2.72","v":{"$error":"#N/A"}},null,null,null,{"$f":"('WS Calcs'!$L$2*'WS Calcs'!$L$3*('BMP Calcs'!AC343/12))*Assignments!$E26*'BMP Calcs'!AC150*2.72","v":{"$error":"#N/A"}},{"$f":"('WS Calcs'!$L$2*'WS Calcs'!$L$3*('BMP Calcs'!AD343/12))*Assignments!$E26*'BMP Calcs'!AD150*2.72","v":{"$error":"#N/A"}}]
[null,"     Parking lot (car)",{"$f":"('WS Calcs'!$L$2*'WS Calcs'!$L$3*('BMP Calcs'!C344/12))*Assignments!$E27*'BMP Calcs'!C151*2.72","v":{"$error":"#N/A"}},{"$f":"('WS Calcs'!$L$2*'WS Calcs'!$L$3*('BMP Calcs'!D344/12))*Assignments!$E27*'BMP Calcs'!D151*2.72","v":{"$error":"#N/A"}},{"$f":"('WS Calcs'!$L$2*'WS Calcs'!$L$3*('BMP Calcs'!E344/12))*Assignments!$E27*'BMP Calcs'!E151*2.72","v":{"$error":"#N/A"}},null,{"$f":"('WS Calcs'!$L$2*'WS Calcs'!$L$3*('BMP Calcs'!G344/12))*Assignments!$E27*'BMP Calcs'!G151*2.72","v":{"$error":"#N/A"}},{"$f":"('WS Calcs'!$L$2*'WS Calcs'!$L$3*('BMP Calcs'!H344/12))*Assignments!$E27*'BMP Calcs'!H151*2.72","v":{"$error":"#N/A"}},{"$f":"('WS Calcs'!$L$2*'WS Calcs'!$L$3*('BMP Calcs'!I344/12))*Assignments!$E27*'BMP Calcs'!I151*2.72","v":{"$error":"#N/A"}},null,{"$f":"('WS Calcs'!$L$2*'WS Calcs'!$L$3*('BMP Calcs'!K344/12))*Assignments!$E27*'BMP Calcs'!K151*2.72","v":{"$error":"#N/A"}},{"$f":"('WS Calcs'!$L$2*'WS Calcs'!$L$3*('BMP Calcs'!L344/12))*Assignments!$E27*'BMP Calcs'!L151*2.72","v":{"$error":"#N/A"}},{"$f":"('WS Calcs'!$L$2*'WS Calcs'!$L$3*('BMP Calcs'!M344/12))*Assignments!$E27*'BMP Calcs'!M151*2.72","v":{"$error":"#N/A"}},null,{"$f":"('WS Calcs'!$L$2*'WS Calcs'!$L$3*('BMP Calcs'!O344/12))*Assignments!$E27*'BMP Calcs'!O151*2.72","v":{"$error":"#N/A"}},{"$f":"('WS Calcs'!$L$2*'WS Calcs'!$L$3*('BMP Calcs'!P344/12))*Assignments!$E27*'BMP Calcs'!P151*2.72","v":{"$error":"#N/A"}},{"$f":"('WS Calcs'!$L$2*'WS Calcs'!$L$3*('BMP Calcs'!Q344/12))*Assignments!$E27*'BMP Calcs'!Q151*2.72","v":{"$error":"#N/A"}},null,{"$f":"('WS Calcs'!$L$2*'WS Calcs'!$L$3*('BMP Calcs'!S344/12))*Assignments!$E27*'BMP Calcs'!S151*2.72","v":{"$error":"#N/A"}},{"$f":"('WS Calcs'!$L$2*'WS Calcs'!$L$3*('BMP Calcs'!T344/12))*Assignments!$E27*'BMP Calcs'!T151*2.72","v":{"$error":"#N/A"}},{"$f":"('WS Calcs'!$L$2*'WS Calcs'!$L$3*('BMP Calcs'!U344/12))*Assignments!$E27*'BMP Calcs'!U151*2.72","v":{"$error":"#N/A"}},null,{"$f":"('WS Calcs'!$L$2*'WS Calcs'!$L$3*('BMP Calcs'!W344/12))*Assignments!$E27*'BMP Calcs'!W151*2.72","v":{"$error":"#N/A"}},{"$f":"('WS Calcs'!$L$2*'WS Calcs'!$L$3*('BMP Calcs'!X344/12))*Assignments!$E27*'BMP Calcs'!X151*2.72","v":{"$error":"#N/A"}},{"$f":"('WS Calcs'!$L$2*'WS Calcs'!$L$3*('BMP Calcs'!Y344/12))*Assignments!$E27*'BMP Calcs'!Y151*2.72","v":{"$error":"#N/A"}},null,null,null,{"$f":"('WS Calcs'!$L$2*'WS Calcs'!$L$3*('BMP Calcs'!AC344/12))*Assignments!$E27*'BMP Calcs'!AC151*2.72","v":{"$error":"#N/A"}},{"$f":"('WS Calcs'!$L$2*'WS Calcs'!$L$3*('BMP Calcs'!AD344/12))*Assignments!$E27*'BMP Calcs'!AD151*2.72","v":{"$error":"#N/A"}}]
[null,"     Parking lot (truck)",{"$f":"('WS Calcs'!$L$2*'WS Calcs'!$L$3*('BMP Calcs'!C345/12))*Assignments!$E28*'BMP Calcs'!C152*2.72","v":{"$error":"#N/A"}},{"$f":"('WS Calcs'!$L$2*'WS Calcs'!$L$3*('BMP Calcs'!D345/12))*Assignments!$E28*'BMP Calcs'!D152*2.72","v":{"$error":"#N/A"}},{"$f":"('WS Calcs'!$L$2*'WS Calcs'!$L$3*('BMP Calcs'!E345/12))*Assignments!$E28*'BMP Calcs'!E152*2.72","v":{"$error":"#N/A"}},null,{"$f":"('WS Calcs'!$L$2*'WS Calcs'!$L$3*('BMP Calcs'!G345/12))*Assignments!$E28*'BMP Calcs'!G152*2.72","v":{"$error":"#N/A"}},{"$f":"('WS Calcs'!$L$2*'WS Calcs'!$L$3*('BMP Calcs'!H345/12))*Assignments!$E28*'BMP Calcs'!H152*2.72","v":{"$error":"#N/A"}},{"$f":"('WS Calcs'!$L$2*'WS Calcs'!$L$3*('BMP Calcs'!I345/12))*Assignments!$E28*'BMP Calcs'!I152*2.72","v":{"$error":"#N/A"}},null,{"$f":"('WS Calcs'!$L$2*'WS Calcs'!$L$3*('BMP Calcs'!K345/12))*Assignments!$E28*'BMP Calcs'!K152*2.72","v":{"$error":"#N/A"}},{"$f":"('WS Calcs'!$L$2*'WS Calcs'!$L$3*('BMP Calcs'!L345/12))*Assignments!$E28*'BMP Calcs'!L152*2.72","v":{"$error":"#N/A"}},{"$f":"('WS Calcs'!$L$2*'WS Calcs'!$L$3*('BMP Calcs'!M345/12))*Assignments!$E28*'BMP Calcs'!M152*2.72","v":{"$error":"#N/A"}},null,{"$f":"('WS Calcs'!$L$2*'WS Calcs'!$L$3*('BMP Calcs'!O345/12))*Assignments!$E28*'BMP Calcs'!O152*2.72","v":{"$error":"#N/A"}},{"$f":"('WS Calcs'!$L$2*'WS Calcs'!$L$3*('BMP Calcs'!P345/12))*Assignments!$E28*'BMP Calcs'!P152*2.72","v":{"$error":"#N/A"}},{"$f":"('WS Calcs'!$L$2*'WS Calcs'!$L$3*('BMP Calcs'!Q345/12))*Assignments!$E28*'BMP Calcs'!Q152*2.72","v":{"$error":"#N/A"}},null,{"$f":"('WS Calcs'!$L$2*'WS Calcs'!$L$3*('BMP Calcs'!S345/12))*Assignments!$E28*'BMP Calcs'!S152*2.72","v":{"$error":"#N/A"}},{"$f":"('WS Calcs'!$L$2*'WS Calcs'!$L$3*('BMP Calcs'!T345/12))*Assignments!$E28*'BMP Calcs'!T152*2.72","v":{"$error":"#N/A"}},{"$f":"('WS Calcs'!$L$2*'WS Calcs'!$L$3*('BMP Calcs'!U345/12))*Assignments!$E28*'BMP Calcs'!U152*2.72","v":{"$error":"#N/A"}},null,{"$f":"('WS Calcs'!$L$2*'WS Calcs'!$L$3*('BMP Calcs'!W345/12))*Assignments!$E28*'BMP Calcs'!W152*2.72","v":{"$error":"#N/A"}},{"$f":"('WS Calcs'!$L$2*'WS Calcs'!$L$3*('BMP Calcs'!X345/12))*Assignments!$E28*'BMP Calcs'!X152*2.72","v":{"$error":"#N/A"}},{"$f":"('WS Calcs'!$L$2*'WS Calcs'!$L$3*('BMP Calcs'!Y345/12))*Assignments!$E28*'BMP Calcs'!Y152*2.72","v":{"$error":"#N/A"}},null,null,null,{"$f":"('WS Calcs'!$L$2*'WS Calcs'!$L$3*('BMP Calcs'!AC345/12))*Assignments!$E28*'BMP Calcs'!AC152*2.72","v":{"$error":"#N/A"}},{"$f":"('WS Calcs'!$L$2*'WS Calcs'!$L$3*('BMP Calcs'!AD345/12))*Assignments!$E28*'BMP Calcs'!AD152*2.72","v":{"$error":"#N/A"}}]
[null,"     Roof",{"$f":"('WS Calcs'!$L$2*'WS Calcs'!$L$3*('BMP Calcs'!C346/12))*Assignments!$E29*'BMP Calcs'!C153*2.72","v":{"$error":"#N/A"}},{"$f":"('WS Calcs'!$L$2*'WS Calcs'!$L$3*('BMP Calcs'!D346/12))*Assignments!$E29*'BMP Calcs'!D153*2.72","v":{"$error":"#N/A"}},{"$f":"('WS Calcs'!$L$2*'WS Calcs'!$L$3*('BMP Calcs'!E346/12))*Assignments!$E29*'BMP Calcs'!E153*2.72","v":{"$error":"#N/A"}},null,{"$f":"('WS Calcs'!$L$2*'WS Calcs'!$L$3*('BMP Calcs'!G346/12))*Assignments!$E29*'BMP Calcs'!G153*2.72","v":{"$error":"#N/A"}},{"$f":"('WS Calcs'!$L$2*'WS Calcs'!$L$3*('BMP Calcs'!H346/12))*Assignments!$E29*'BMP Calcs'!H153*2.72","v":{"$error":"#N/A"}},{"$f":"('WS Calcs'!$L$2*'WS Calcs'!$L$3*('BMP Calcs'!I346/12))*Assignments!$E29*'BMP Calcs'!I153*2.72","v":{"$error":"#N/A"}},null,{"$f":"('WS Calcs'!$L$2*'WS Calcs'!$L$3*('BMP Calcs'!K346/12))*Assignments!$E29*'BMP Calcs'!K153*2.72","v":{"$error":"#N/A"}},{"$f":"('WS Calcs'!$L$2*'WS Calcs'!$L$3*('BMP Calcs'!L346/12))*Assignments!$E29*'BMP Calcs'!L153*2.72","v":{"$error":"#N/A"}},{"$f":"('WS Calcs'!$L$2*'WS Calcs'!$L$3*('BMP Calcs'!M346/12))*Assignments!$E29*'BMP Calcs'!M153*2.72","v":{"$error":"#N/A"}},null,{"$f":"('WS Calcs'!$L$2*'WS Calcs'!$L$3*('BMP Calcs'!O346/12))*Assignments!$E29*'BMP Calcs'!O153*2.72","v":{"$error":"#N/A"}},{"$f":"('WS Calcs'!$L$2*'WS Calcs'!$L$3*('BMP Calcs'!P346/12))*Assignments!$E29*'BMP Calcs'!P153*2.72","v":{"$error":"#N/A"}},{"$f":"('WS Calcs'!$L$2*'WS Calcs'!$L$3*('BMP Calcs'!Q346/12))*Assignments!$E29*'BMP Calcs'!Q153*2.72","v":{"$error":"#N/A"}},null,{"$f":"('WS Calcs'!$L$2*'WS Calcs'!$L$3*('BMP Calcs'!S346/12))*Assignments!$E29*'BMP Calcs'!S153*2.72","v":{"$error":"#N/A"}},{"$f":"('WS Calcs'!$L$2*'WS Calcs'!$L$3*('BMP Calcs'!T346/12))*Assignments!$E29*'BMP Calcs'!T153*2.72","v":{"$error":"#N/A"}},{"$f":"('WS Calcs'!$L$2*'WS Calcs'!$L$3*('BMP Calcs'!U346/12))*Assignments!$E29*'BMP Calcs'!U153*2.72","v":{"$error":"#N/A"}},null,{"$f":"('WS Calcs'!$L$2*'WS Calcs'!$L$3*('BMP Calcs'!W346/12))*Assignments!$E29*'BMP Calcs'!W153*2.72","v":{"$error":"#N/A"}},{"$f":"('WS Calcs'!$L$2*'WS Calcs'!$L$3*('BMP Calcs'!X346/12))*Assignments!$E29*'BMP Calcs'!X153*2.72","v":{"$error":"#N/A"}},{"$f":"('WS Calcs'!$L$2*'WS Calcs'!$L$3*('BMP Calcs'!Y346/12))*Assignments!$E29*'BMP Calcs'!Y153*2.72","v":{"$error":"#N/A"}},null,null,null,{"$f":"('WS Calcs'!$L$2*'WS Calcs'!$L$3*('BMP Calcs'!AC346/12))*Assignments!$E29*'BMP Calcs'!AC153*2.72","v":{"$error":"#N/A"}},{"$f":"('WS Calcs'!$L$2*'WS Calcs'!$L$3*('BMP Calcs'!AD346/12))*Assignments!$E29*'BMP Calcs'!AD153*2.72","v":{"$error":"#N/A"}}]
[null,"MISC. PERVIOUS",{"$f":"('WS Calcs'!$L$2*'WS Calcs'!$L$3*('BMP Calcs'!C347/12))*Assignments!$E30*'BMP Calcs'!C154*2.72","v":{"$error":"#N/A"}},{"$f":"('WS Calcs'!$L$2*'WS Calcs'!$L$3*('BMP Calcs'!D347/12))*Assignments!$E30*'BMP Calcs'!D154*2.72","v":{"$error":"#N/A"}},{"$f":"('WS Calcs'!$L$2*'WS Calcs'!$L$3*('BMP Calcs'!E347/12))*Assignments!$E30*'BMP Calcs'!E154*2.72","v":{"$error":"#N/A"}},null,{"$f":"('WS Calcs'!$L$2*'WS Calcs'!$L$3*('BMP Calcs'!G347/12))*Assignments!$E30*'BMP Calcs'!G154*2.72","v":{"$error":"#N/A"}},{"$f":"('WS Calcs'!$L$2*'WS Calcs'!$L$3*('BMP Calcs'!H347/12))*Assignments!$E30*'BMP Calcs'!H154*2.72","v":{"$error":"#N/A"}},{"$f":"('WS Calcs'!$L$2*'WS Calcs'!$L$3*('BMP Calcs'!I347/12))*Assignments!$E30*'BMP Calcs'!I154*2.72","v":{"$error":"#N/A"}},null,{"$f":"('WS Calcs'!$L$2*'WS Calcs'!$L$3*('BMP Calcs'!K347/12))*Assignments!$E30*'BMP Calcs'!K154*2.72","v":{"$error":"#N/A"}},{"$f":"('WS Calcs'!$L$2*'WS Calcs'!$L$3*('BMP Calcs'!L347/12))*Assignments!$E30*'BMP Calcs'!L154*2.72","v":{"$error":"#N/A"}},{"$f":"('WS Calcs'!$L$2*'WS Calcs'!$L$3*('BMP Calcs'!M347/12))*Assignments!$E30*'BMP Calcs'!M154*2.72","v":{"$error":"#N/A"}},null,{"$f":"('WS Calcs'!$L$2*'WS Calcs'!$L$3*('BMP Calcs'!O347/12))*Assignments!$E30*'BMP Calcs'!O154*2.72","v":{"$error":"#N/A"}},{"$f":"('WS Calcs'!$L$2*'WS Calcs'!$L$3*('BMP Calcs'!P347/12))*Assignments!$E30*'BMP Calcs'!P154*2.72","v":{"$error":"#N/A"}},{"$f":"('WS Calcs'!$L$2*'WS Calcs'!$L$3*('BMP Calcs'!Q347/12))*Assignments!$E30*'BMP Calcs'!Q154*2.72","v":{"$error":"#N/A"}},null,{"$f":"('WS Calcs'!$L$2*'WS Calcs'!$L$3*('BMP Calcs'!S347/12))*Assignments!$E30*'BMP Calcs'!S154*2.72","v":{"$error":"#N/A"}},{"$f":"('WS Calcs'!$L$2*'WS Calcs'!$L$3*('BMP Calcs'!T347/12))*Assignments!$E30*'BMP Calcs'!T154*2.72","v":{"$error":"#N/A"}},{"$f":"('WS Calcs'!$L$2*'WS Calcs'!$L$3*('BMP Calcs'!U347/12))*Assignments!$E30*'BMP Calcs'!U154*2.72","v":{"$error":"#N/A"}},null,{"$f":"('WS Calcs'!$L$2*'WS Calcs'!$L$3*('BMP Calcs'!W347/12))*Assignments!$E30*'BMP Calcs'!W154*2.72","v":{"$error":"#N/A"}},{"$f":"('WS Calcs'!$L$2*'WS Calcs'!$L$3*('BMP Calcs'!X347/12))*Assignments!$E30*'BMP Calcs'!X154*2.72","v":{"$error":"#N/A"}},{"$f":"('WS Calcs'!$L$2*'WS Calcs'!$L$3*('BMP Calcs'!Y347/12))*Assignments!$E30*'BMP Calcs'!Y154*2.72","v":{"$error":"#N/A"}},null,null,null,{"$f":"('WS Calcs'!$L$2*'WS Calcs'!$L$3*('BMP Calcs'!AC347/12))*Assignments!$E30*'BMP Calcs'!AC154*2.72","v":{"$error":"#N/A"}},{"$f":"('WS Calcs'!$L$2*'WS Calcs'!$L$3*('BMP Calcs'!AD347/12))*Assignments!$E30*'BMP Calcs'!AD154*2.72","v":{"$error":"#N/A"}}]
[null,"     Managed lawn (fertilized)",{"$f":"('WS Calcs'!$L$2*'WS Calcs'!$L$3*('BMP Calcs'!C348/12))*Assignments!$E31*'BMP Calcs'!C155*2.72","v":{"$error":"#N/A"}},{"$f":"('WS Calcs'!$L$2*'WS Calcs'!$L$3*('BMP Calcs'!D348/12))*Assignments!$E31*'BMP Calcs'!D155*2.72","v":{"$error":"#N/A"}},{"$f":"('WS Calcs'!$L$2*'WS Calcs'!$L$3*('BMP Calcs'!E348/12))*Assignments!$E31*'BMP Calcs'!E155*2.72","v":{"$error":"#N/A"}},null,{"$f":"('WS Calcs'!$L$2*'WS Calcs'!$L$3*('BMP Calcs'!G348/12))*Assignments!$E31*'BMP Calcs'!G155*2.72","v":{"$error":"#N/A"}},{"$f":"('WS Calcs'!$L$2*'WS Calcs'!$L$3*('BMP Calcs'!H348/12))*Assignments!$E31*'BMP Calcs'!H155*2.72","v":{"$error":"#N/A"}},{"$f":"('WS Calcs'!$L$2*'WS Calcs'!$L$3*('BMP Calcs'!I348/12))*Assignments!$E31*'BMP Calcs'!I155*2.72","v":{"$error":"#N/A"}},null,{"$f":"('WS Calcs'!$L$2*'WS Calcs'!$L$3*('BMP Calcs'!K348/12))*Assignments!$E31*'BMP Calcs'!K155*2.72","v":{"$error":"#N/A"}},{"$f":"('WS Calcs'!$L$2*'WS Calcs'!$L$3*('BMP Calcs'!L348/12))*Assignments!$E31*'BMP Calcs'!L155*2.72","v":{"$error":"#N/A"}},{"$f":"('WS Calcs'!$L$2*'WS Calcs'!$L$3*('BMP Calcs'!M348/12))*Assignments!$E31*'BMP Calcs'!M155*2.72","v":{"$error":"#N/A"}},null,{"$f":"('WS Calcs'!$L$2*'WS Calcs'!$L$3*('BMP Calcs'!O348/12))*Assignments!$E31*'BMP Calcs'!O155*2.72","v":{"$error":"#N/A"}},{"$f":"('WS Calcs'!$L$2*'WS Calcs'!$L$3*('BMP Calcs'!P348/12))*Assignments!$E31*'BMP Calcs'!P155*2.72","v":{"$error":"#N/A"}},{"$f":"('WS Calcs'!$L$2*'WS Calcs'!$L$3*('BMP Calcs'!Q348/12))*Assignments!$E31*'BMP Calcs'!Q155*2.72","v":{"$error":"#N/A"}},null,{"$f":"('WS Calcs'!$L$2*'WS Calcs'!$L$3*('BMP Calcs'!S348/12))*Assignments!$E31*'BMP Calcs'!S155*2.72","v":{"$error":"#N/A"}},{"$f":"('WS Calcs'!$L$2*'WS Calcs'!$L$3*('BMP Calcs'!T348/12))*Assignments!$E31*'BMP Calcs'!T155*2.72","v":{"$error":"#N/A"}},{"$f":"('WS Calcs'!$L$2*'WS Calcs'!$L$3*('BMP Calcs'!U348/12))*Assignments!$E31*'BMP Calcs'!U155*2.72","v":{"$error":"#N/A"}},null,{"$f":"('WS Calcs'!$L$2*'WS Calcs'!$L$3*('BMP Calcs'!W348/12))*Assignments!$E31*'BMP Calcs'!W155*2.72","v":{"$error":"#N/A"}},{"$f":"('WS Calcs'!$L$2*'WS Calcs'!$L$3*('BMP Calcs'!X348/12))*Assignments!$E31*'BMP Calcs'!X155*2.72","v":{"$error":"#N/A"}},{"$f":"('WS Calcs'!$L$2*'WS Calcs'!$L$3*('BMP Calcs'!Y348/12))*Assignments!$E31*'BMP Calcs'!Y155*2.72","v":{"$error":"#N/A"}},null,null,null,{"$f":"('WS Calcs'!$L$2*'WS Calcs'!$L$3*('BMP Calcs'!AC348/12))*Assignments!$E31*'BMP Calcs'!AC155*2.72","v":{"$error":"#N/A"}},{"$f":"('WS Calcs'!$L$2*'WS Calcs'!$L$3*('BMP Calcs'!AD348/12))*Assignments!$E31*'BMP Calcs'!AD155*2.72","v":{"$error":"#N/A"}}]
[null,"     Open space (unfertilized)",{"$f":"('WS Calcs'!$L$2*'WS Calcs'!$L$3*('BMP Calcs'!C349/12))*Assignments!$E32*'BMP Calcs'!C156*2.72","v":{"$error":"#N/A"}},{"$f":"('WS Calcs'!$L$2*'WS Calcs'!$L$3*('BMP Calcs'!D349/12))*Assignments!$E32*'BMP Calcs'!D156*2.72","v":{"$error":"#N/A"}},{"$f":"('WS Calcs'!$L$2*'WS Calcs'!$L$3*('BMP Calcs'!E349/12))*Assignments!$E32*'BMP Calcs'!E156*2.72","v":{"$error":"#N/A"}},null,{"$f":"('WS Calcs'!$L$2*'WS Calcs'!$L$3*('BMP Calcs'!G349/12))*Assignments!$E32*'BMP Calcs'!G156*2.72","v":{"$error":"#N/A"}},{"$f":"('WS Calcs'!$L$2*'WS Calcs'!$L$3*('BMP Calcs'!H349/12))*Assignments!$E32*'BMP Calcs'!H156*2.72","v":{"$error":"#N/A"}},{"$f":"('WS Calcs'!$L$2*'WS Calcs'!$L$3*('BMP Calcs'!I349/12))*Assignments!$E32*'BMP Calcs'!I156*2.72","v":{"$error":"#N/A"}},null,{"$f":"('WS Calcs'!$L$2*'WS Calcs'!$L$3*('BMP Calcs'!K349/12))*Assignments!$E32*'BMP Calcs'!K156*2.72","v":{"$error":"#N/A"}},{"$f":"('WS Calcs'!$L$2*'WS Calcs'!$L$3*('BMP Calcs'!L349/12))*Assignments!$E32*'BMP Calcs'!L156*2.72","v":{"$error":"#N/A"}},{"$f":"('WS Calcs'!$L$2*'WS Calcs'!$L$3*('BMP Calcs'!M349/12))*Assignments!$E32*'BMP Calcs'!M156*2.72","v":{"$error":"#N/A"}},null,{"$f":"('WS Calcs'!$L$2*'WS Calcs'!$L$3*('BMP Calcs'!O349/12))*Assignments!$E32*'BMP Calcs'!O156*2.72","v":{"$error":"#N/A"}},{"$f":"('WS Calcs'!$L$2*'WS Calcs'!$L$3*('BMP Calcs'!P349/12))*Assignments!$E32*'BMP Calcs'!P156*2.72","v":{"$error":"#N/A"}},{"$f":"('WS Calcs'!$L$2*'WS Calcs'!$L$3*('BMP Calcs'!Q349/12))*Assignments!$E32*'BMP Calcs'!Q156*2.72","v":{"$error":"#N/A"}},null,{"$f":"('WS Calcs'!$L$2*'WS Calcs'!$L$3*('BMP Calcs'!S349/12))*Assignments!$E32*'BMP Calcs'!S156*2.72","v":{"$error":"#N/A"}},{"$f":"('WS Calcs'!$L$2*'WS Calcs'!$L$3*('BMP Calcs'!T349/12))*Assignments!$E32*'BMP Calcs'!T156*2.72","v":{"$error":"#N/A"}},{"$f":"('WS Calcs'!$L$2*'WS Calcs'!$L$3*('BMP Calcs'!U349/12))*Assignments!$E32*'BMP Calcs'!U156*2.72","v":{"$error":"#N/A"}},null,{"$f":"('WS Calcs'!$L$2*'WS Calcs'!$L$3*('BMP Calcs'!W349/12))*Assignments!$E32*'BMP Calcs'!W156*2.72","v":{"$error":"#N/A"}},{"$f":"('WS Calcs'!$L$2*'WS Calcs'!$L$3*('BMP Calcs'!X349/12))*Assignments!$E32*'BMP Calcs'!X156*2.72","v":{"$error":"#N/A"}},{"$f":"('WS Calcs'!$L$2*'WS Calcs'!$L$3*('BMP Calcs'!Y349/12))*Assignments!$E32*'BMP Calcs'!Y156*2.72","v":{"$error":"#N/A"}},null,null,null,{"$f":"('WS Calcs'!$L$2*'WS Calcs'!$L$3*('BMP Calcs'!AC349/12))*Assignments!$E32*'BMP Calcs'!AC156*2.72","v":{"$error":"#N/A"}},{"$f":"('WS Calcs'!$L$2*'WS Calcs'!$L$3*('BMP Calcs'!AD349/12))*Assignments!$E32*'BMP Calcs'!AD156*2.72","v":{"$error":"#N/A"}}]
[null,"     Open/Landscaped",{"$f":"('WS Calcs'!$L$2*'WS Calcs'!$L$3*('BMP Calcs'!C350/12))*Assignments!$E33*'BMP Calcs'!C157*2.72","v":{"$error":"#N/A"}},{"$f":"('WS Calcs'!$L$2*'WS Calcs'!$L$3*('BMP Calcs'!D350/12))*Assignments!$E33*'BMP Calcs'!D157*2.72","v":{"$error":"#N/A"}},{"$f":"('WS Calcs'!$L$2*'WS Calcs'!$L$3*('BMP Calcs'!E350/12))*Assignments!$E33*'BMP Calcs'!E157*2.72","v":{"$error":"#N/A"}},null,{"$f":"('WS Calcs'!$L$2*'WS Calcs'!$L$3*('BMP Calcs'!G350/12))*Assignments!$E33*'BMP Calcs'!G157*2.72","v":{"$error":"#N/A"}},{"$f":"('WS Calcs'!$L$2*'WS Calcs'!$L$3*('BMP Calcs'!H350/12))*Assignments!$E33*'BMP Calcs'!H157*2.72","v":{"$error":"#N/A"}},{"$f":"('WS Calcs'!$L$2*'WS Calcs'!$L$3*('BMP Calcs'!I350/12))*Assignments!$E33*'BMP Calcs'!I157*2.72","v":{"$error":"#N/A"}},null,{"$f":"('WS Calcs'!$L$2*'WS Calcs'!$L$3*('BMP Calcs'!K350/12))*Assignments!$E33*'BMP Calcs'!K157*2.72","v":{"$error":"#N/A"}},{"$f":"('WS Calcs'!$L$2*'WS Calcs'!$L$3*('BMP Calcs'!L350/12))*Assignments!$E33*'BMP Calcs'!L157*2.72","v":{"$error":"#N/A"}},{"$f":"('WS Calcs'!$L$2*'WS Calcs'!$L$3*('BMP Calcs'!M350/12))*Assignments!$E33*'BMP Calcs'!M157*2.72","v":{"$error":"#N/A"}},null,{"$f":"('WS Calcs'!$L$2*'WS Calcs'!$L$3*('BMP Calcs'!O350/12))*Assignments!$E33*'BMP Calcs'!O157*2.72","v":{"$error":"#N/A"}},{"$f":"('WS Calcs'!$L$2*'WS Calcs'!$L$3*('BMP Calcs'!P350/12))*Assignments!$E33*'BMP Calcs'!P157*2.72","v":{"$error":"#N/A"}},{"$f":"('WS Calcs'!$L$2*'WS Calcs'!$L$3*('BMP Calcs'!Q350/12))*Assignments!$E33*'BMP Calcs'!Q157*2.72","v":{"$error":"#N/A"}},null,{"$f":"('WS Calcs'!$L$2*'WS Calcs'!$L$3*('BMP Calcs'!S350/12))*Assignments!$E33*'BMP Calcs'!S157*2.72","v":{"$error":"#N/A"}},{"$f":"('WS Calcs'!$L$2*'WS Calcs'!$L$3*('BMP Calcs'!T350/12))*Assignments!$E33*'BMP Calcs'!T157*2.72","v":{"$error":"#N/A"}},{"$f":"('WS Calcs'!$L$2*'WS Calcs'!$L$3*('BMP Calcs'!U350/12))*Assignments!$E33*'BMP Calcs'!U157*2.72","v":{"$error":"#N/A"}},null,{"$f":"('WS Calcs'!$L$2*'WS Calcs'!$L$3*('BMP Calcs'!W350/12))*Assignments!$E33*'BMP Calcs'!W157*2.72","v":{"$error":"#N/A"}},{"$f":"('WS Calcs'!$L$2*'WS Calcs'!$L$3*('BMP Calcs'!X350/12))*Assignments!$E33*'BMP Calcs'!X157*2.72","v":{"$error":"#N/A"}},{"$f":"('WS Calcs'!$L$2*'WS Calcs'!$L$3*('BMP Calcs'!Y350/12))*Assignments!$E33*'BMP Calcs'!Y157*2.72","v":{"$error":"#N/A"}},null,null,null,{"$f":"('WS Calcs'!$L$2*'WS Calcs'!$L$3*('BMP Calcs'!AC350/12))*Assignments!$E33*'BMP Calcs'!AC157*2.72","v":{"$error":"#N/A"}},{"$f":"('WS Calcs'!$L$2*'WS Calcs'!$L$3*('BMP Calcs'!AD350/12))*Assignments!$E33*'BMP Calcs'!AD157*2.72","v":{"$error":"#N/A"}}]
[null,"     Agriculture (crop)",{"$f":"('WS Calcs'!$L$2*'WS Calcs'!$L$3*('BMP Calcs'!C351/12))*Assignments!$E34*'BMP Calcs'!C158*2.72","v":{"$error":"#N/A"}},{"$f":"('WS Calcs'!$L$2*'WS Calcs'!$L$3*('BMP Calcs'!D351/12))*Assignments!$E34*'BMP Calcs'!D158*2.72","v":{"$error":"#N/A"}},{"$f":"('WS Calcs'!$L$2*'WS Calcs'!$L$3*('BMP Calcs'!E351/12))*Assignments!$E34*'BMP Calcs'!E158*2.72","v":{"$error":"#N/A"}},null,{"$f":"('WS Calcs'!$L$2*'WS Calcs'!$L$3*('BMP Calcs'!G351/12))*Assignments!$E34*'BMP Calcs'!G158*2.72","v":{"$error":"#N/A"}},{"$f":"('WS Calcs'!$L$2*'WS Calcs'!$L$3*('BMP Calcs'!H351/12))*Assignments!$E34*'BMP Calcs'!H158*2.72","v":{"$error":"#N/A"}},{"$f":"('WS Calcs'!$L$2*'WS Calcs'!$L$3*('BMP Calcs'!I351/12))*Assignments!$E34*'BMP Calcs'!I158*2.72","v":{"$error":"#N/A"}},null,{"$f":"('WS Calcs'!$L$2*'WS Calcs'!$L$3*('BMP Calcs'!K351/12))*Assignments!$E34*'BMP Calcs'!K158*2.72","v":{"$error":"#N/A"}},{"$f":"('WS Calcs'!$L$2*'WS Calcs'!$L$3*('BMP Calcs'!L351/12))*Assignments!$E34*'BMP Calcs'!L158*2.72","v":{"$error":"#N/A"}},{"$f":"('WS Calcs'!$L$2*'WS Calcs'!$L$3*('BMP Calcs'!M351/12))*Assignments!$E34*'BMP Calcs'!M158*2.72","v":{"$error":"#N/A"}},null,{"$f":"('WS Calcs'!$L$2*'WS Calcs'!$L$3*('BMP Calcs'!O351/12))*Assignments!$E34*'BMP Calcs'!O158*2.72","v":{"$error":"#N/A"}},{"$f":"('WS Calcs'!$L$2*'WS Calcs'!$L$3*('BMP Calcs'!P351/12))*Assignments!$E34*'BMP Calcs'!P158*2.72","v":{"$error":"#N/A"}},{"$f":"('WS Calcs'!$L$2*'WS Calcs'!$L$3*('BMP Calcs'!Q351/12))*Assignments!$E34*'BMP Calcs'!Q158*2.72","v":{"$error":"#N/A"}},null,{"$f":"('WS Calcs'!$L$2*'WS Calcs'!$L$3*('BMP Calcs'!S351/12))*Assignments!$E34*'BMP Calcs'!S158*2.72","v":{"$error":"#N/A"}},{"$f":"('WS Calcs'!$L$2*'WS Calcs'!$L$3*('BMP Calcs'!T351/12))*Assignments!$E34*'BMP Calcs'!T158*2.72","v":{"$error":"#N/A"}},{"$f":"('WS Calcs'!$L$2*'WS Calcs'!$L$3*('BMP Calcs'!U351/12))*Assignments!$E34*'BMP Calcs'!U158*2.72","v":{"$error":"#N/A"}},null,{"$f":"('WS Calcs'!$L$2*'WS Calcs'!$L$3*('BMP Calcs'!W351/12))*Assignments!$E34*'BMP Calcs'!W158*2.72","v":{"$error":"#N/A"}},{"$f":"('WS Calcs'!$L$2*'WS Calcs'!$L$3*('BMP Calcs'!X351/12))*Assignments!$E34*'BMP Calcs'!X158*2.72","v":{"$error":"#N/A"}},{"$f":"('WS Calcs'!$L$2*'WS Calcs'!$L$3*('BMP Calcs'!Y351/12))*Assignments!$E34*'BMP Calcs'!Y158*2.72","v":{"$error":"#N/A"}},null,null,null,{"$f":"('WS Calcs'!$L$2*'WS Calcs'!$L$3*('BMP Calcs'!AC351/12))*Assignments!$E34*'BMP Calcs'!AC158*2.72","v":{"$error":"#N/A"}},{"$f":"('WS Calcs'!$L$2*'WS Calcs'!$L$3*('BMP Calcs'!AD351/12))*Assignments!$E34*'BMP Calcs'!AD158*2.72","v":{"$error":"#N/A"}}]
[null,"     Agriculture (pasture)",{"$f":"('WS Calcs'!$L$2*'WS Calcs'!$L$3*('BMP Calcs'!C352/12))*Assignments!$E35*'BMP Calcs'!C159*2.72","v":{"$error":"#N/A"}},{"$f":"('WS Calcs'!$L$2*'WS Calcs'!$L$3*('BMP Calcs'!D352/12))*Assignments!$E35*'BMP Calcs'!D159*2.72","v":{"$error":"#N/A"}},{"$f":"('WS Calcs'!$L$2*'WS Calcs'!$L$3*('BMP Calcs'!E352/12))*Assignments!$E35*'BMP Calcs'!E159*2.72","v":{"$error":"#N/A"}},null,{"$f":"('WS Calcs'!$L$2*'WS Calcs'!$L$3*('BMP Calcs'!G352/12))*Assignments!$E35*'BMP Calcs'!G159*2.72","v":{"$error":"#N/A"}},{"$f":"('WS Calcs'!$L$2*'WS Calcs'!$L$3*('BMP Calcs'!H352/12))*Assignments!$E35*'BMP Calcs'!H159*2.72","v":{"$error":"#N/A"}},{"$f":"('WS Calcs'!$L$2*'WS Calcs'!$L$3*('BMP Calcs'!I352/12))*Assignments!$E35*'BMP Calcs'!I159*2.72","v":{"$error":"#N/A"}},null,{"$f":"('WS Calcs'!$L$2*'WS Calcs'!$L$3*('BMP Calcs'!K352/12))*Assignments!$E35*'BMP Calcs'!K159*2.72","v":{"$error":"#N/A"}},{"$f":"('WS Calcs'!$L$2*'WS Calcs'!$L$3*('BMP Calcs'!L352/12))*Assignments!$E35*'BMP Calcs'!L159*2.72","v":{"$error":"#N/A"}},{"$f":"('WS Calcs'!$L$2*'WS Calcs'!$L$3*('BMP Calcs'!M352/12))*Assignments!$E35*'BMP Calcs'!M159*2.72","v":{"$error":"#N/A"}},null,{"$f":"('WS Calcs'!$L$2*'WS Calcs'!$L$3*('BMP Calcs'!O352/12))*Assignments!$E35*'BMP Calcs'!O159*2.72","v":{"$error":"#N/A"}},{"$f":"('WS Calcs'!$L$2*'WS Calcs'!$L$3*('BMP Calcs'!P352/12))*Assignments!$E35*'BMP Calcs'!P159*2.72","v":{"$error":"#N/A"}},{"$f":"('WS Calcs'!$L$2*'WS Calcs'!$L$3*('BMP Calcs'!Q352/12))*Assignments!$E35*'BMP Calcs'!Q159*2.72","v":{"$error":"#N/A"}},null,{"$f":"('WS Calcs'!$L$2*'WS Calcs'!$L$3*('BMP Calcs'!S352/12))*Assignments!$E35*'BMP Calcs'!S159*2.72","v":{"$error":"#N/A"}},{"$f":"('WS Calcs'!$L$2*'WS Calcs'!$L$3*('BMP Calcs'!T352/12))*Assignments!$E35*'BMP Calcs'!T159*2.72","v":{"$error":"#N/A"}},{"$f":"('WS Calcs'!$L$2*'WS Calcs'!$L$3*('BMP Calcs'!U352/12))*Assignments!$E35*'BMP Calcs'!U159*2.72","v":{"$error":"#N/A"}},null,{"$f":"('WS Calcs'!$L$2*'WS Calcs'!$L$3*('BMP Calcs'!W352/12))*Assignments!$E35*'BMP Calcs'!W159*2.72","v":{"$error":"#N/A"}},{"$f":"('WS Calcs'!$L$2*'WS Calcs'!$L$3*('BMP Calcs'!X352/12))*Assignments!$E35*'BMP Calcs'!X159*2.72","v":{"$error":"#N/A"}},{"$f":"('WS Calcs'!$L$2*'WS Calcs'!$L$3*('BMP Calcs'!Y352/12))*Assignments!$E35*'BMP Calcs'!Y159*2.72","v":{"$error":"#N/A"}},null,null,null,{"$f":"('WS Calcs'!$L$2*'WS Calcs'!$L$3*('BMP Calcs'!AC352/12))*Assignments!$E35*'BMP Calcs'!AC159*2.72","v":{"$error":"#N/A"}},{"$f":"('WS Calcs'!$L$2*'WS Calcs'!$L$3*('BMP Calcs'!AD352/12))*Assignments!$E35*'BMP Calcs'!AD159*2.72","v":{"$error":"#N/A"}}]
[null,"     Forest",{"$f":"('WS Calcs'!$L$2*'WS Calcs'!$L$3*('BMP Calcs'!C353/12))*Assignments!$E36*'BMP Calcs'!C160*2.72","v":{"$error":"#N/A"}},{"$f":"('WS Calcs'!$L$2*'WS Calcs'!$L$3*('BMP Calcs'!D353/12))*Assignments!$E36*'BMP Calcs'!D160*2.72","v":{"$error":"#N/A"}},{"$f":"('WS Calcs'!$L$2*'WS Calcs'!$L$3*('BMP Calcs'!E353/12))*Assignments!$E36*'BMP Calcs'!E160*2.72","v":{"$error":"#N/A"}},null,{"$f":"('WS Calcs'!$L$2*'WS Calcs'!$L$3*('BMP Calcs'!G353/12))*Assignments!$E36*'BMP Calcs'!G160*2.72","v":{"$error":"#N/A"}},{"$f":"('WS Calcs'!$L$2*'WS Calcs'!$L$3*('BMP Calcs'!H353/12))*Assignments!$E36*'BMP Calcs'!H160*2.72","v":{"$error":"#N/A"}},{"$f":"('WS Calcs'!$L$2*'WS Calcs'!$L$3*('BMP Calcs'!I353/12))*Assignments!$E36*'BMP Calcs'!I160*2.72","v":{"$error":"#N/A"}},null,{"$f":"('WS Calcs'!$L$2*'WS Calcs'!$L$3*('BMP Calcs'!K353/12))*Assignments!$E36*'BMP Calcs'!K160*2.72","v":{"$error":"#N/A"}},{"$f":"('WS Calcs'!$L$2*'WS Calcs'!$L$3*('BMP Calcs'!L353/12))*Assignments!$E36*'BMP Calcs'!L160*2.72","v":{"$error":"#N/A"}},{"$f":"('WS Calcs'!$L$2*'WS Calcs'!$L$3*('BMP Calcs'!M353/12))*Assignments!$E36*'BMP Calcs'!M160*2.72","v":{"$error":"#N/A"}},null,{"$f":"('WS Calcs'!$L$2*'WS Calcs'!$L$3*('BMP Calcs'!O353/12))*Assignments!$E36*'BMP Calcs'!O160*2.72","v":{"$error":"#N/A"}},{"$f":"('WS Calcs'!$L$2*'WS Calcs'!$L$3*('BMP Calcs'!P353/12))*Assignments!$E36*'BMP Calcs'!P160*2.72","v":{"$error":"#N/A"}},{"$f":"('WS Calcs'!$L$2*'WS Calcs'!$L$3*('BMP Calcs'!Q353/12))*Assignments!$E36*'BMP Calcs'!Q160*2.72","v":{"$error":"#N/A"}},null,{"$f":"('WS Calcs'!$L$2*'WS Calcs'!$L$3*('BMP Calcs'!S353/12))*Assignments!$E36*'BMP Calcs'!S160*2.72","v":{"$error":"#N/A"}},{"$f":"('WS Calcs'!$L$2*'WS Calcs'!$L$3*('BMP Calcs'!T353/12))*Assignments!$E36*'BMP Calcs'!T160*2.72","v":{"$error":"#N/A"}},{"$f":"('WS Calcs'!$L$2*'WS Calcs'!$L$3*('BMP Calcs'!U353/12))*Assignments!$E36*'BMP Calcs'!U160*2.72","v":{"$error":"#N/A"}},null,{"$f":"('WS Calcs'!$L$2*'WS Calcs'!$L$3*('BMP Calcs'!W353/12))*Assignments!$E36*'BMP Calcs'!W160*2.72","v":{"$error":"#N/A"}},{"$f":"('WS Calcs'!$L$2*'WS Calcs'!$L$3*('BMP Calcs'!X353/12))*Assignments!$E36*'BMP Calcs'!X160*2.72","v":{"$error":"#N/A"}},{"$f":"('WS Calcs'!$L$2*'WS Calcs'!$L$3*('BMP Calcs'!Y353/12))*Assignments!$E36*'BMP Calcs'!Y160*2.72","v":{"$error":"#N/A"}},null,null,null,{"$f":"('WS Calcs'!$L$2*'WS Calcs'!$L$3*('BMP Calcs'!AC353/12))*Assignments!$E36*'BMP Calcs'!AC160*2.72","v":{"$error":"#N/A"}},{"$f":"('WS Calcs'!$L$2*'WS Calcs'!$L$3*('BMP Calcs'!AD353/12))*Assignments!$E36*'BMP Calcs'!AD160*2.72","v":{"$error":"#N/A"}}]
[null,"UNSPECIFIED LAND USE",{"$f":"('WS Calcs'!$L$2*'WS Calcs'!$L$3*('BMP Calcs'!C354/12))*Assignments!$E37*'BMP Calcs'!C161*2.72","v":{"$error":"#N/A"}},{"$f":"('WS Calcs'!$L$2*'WS Calcs'!$L$3*('BMP Calcs'!D354/12))*Assignments!$E37*'BMP Calcs'!D161*2.72","v":{"$error":"#N/A"}},{"$f":"('WS Calcs'!$L$2*'WS Calcs'!$L$3*('BMP Calcs'!E354/12))*Assignments!$E37*'BMP Calcs'!E161*2.72","v":{"$error":"#N/A"}},null,{"$f":"('WS Calcs'!$L$2*'WS Calcs'!$L$3*('BMP Calcs'!G354/12))*Assignments!$E37*'BMP Calcs'!G161*2.72","v":{"$error":"#N/A"}},{"$f":"('WS Calcs'!$L$2*'WS Calcs'!$L$3*('BMP Calcs'!H354/12))*Assignments!$E37*'BMP Calcs'!H161*2.72","v":{"$error":"#N/A"}},{"$f":"('WS Calcs'!$L$2*'WS Calcs'!$L$3*('BMP Calcs'!I354/12))*Assignments!$E37*'BMP Calcs'!I161*2.72","v":{"$error":"#N/A"}},null,{"$f":"('WS Calcs'!$L$2*'WS Calcs'!$L$3*('BMP Calcs'!K354/12))*Assignments!$E37*'BMP Calcs'!K161*2.72","v":{"$error":"#N/A"}},{"$f":"('WS Calcs'!$L$2*'WS Calcs'!$L$3*('BMP Calcs'!L354/12))*Assignments!$E37*'BMP Calcs'!L161*2.72","v":{"$error":"#N/A"}},{"$f":"('WS Calcs'!$L$2*'WS Calcs'!$L$3*('BMP Calcs'!M354/12))*Assignments!$E37*'BMP Calcs'!M161*2.72","v":{"$error":"#N/A"}},null,{"$f":"('WS Calcs'!$L$2*'WS Calcs'!$L$3*('BMP Calcs'!O354/12))*Assignments!$E37*'BMP Calcs'!O161*2.72","v":{"$error":"#N/A"}},{"$f":"('WS Calcs'!$L$2*'WS Calcs'!$L$3*('BMP Calcs'!P354/12))*Assignments!$E37*'BMP Calcs'!P161*2.72","v":{"$error":"#N/A"}},{"$f":"('WS Calcs'!$L$2*'WS Calcs'!$L$3*('BMP Calcs'!Q354/12))*Assignments!$E37*'BMP Calcs'!Q161*2.72","v":{"$error":"#N/A"}},null,{"$f":"('WS Calcs'!$L$2*'WS Calcs'!$L$3*('BMP Calcs'!S354/12))*Assignments!$E37*'BMP Calcs'!S161*2.72","v":{"$error":"#N/A"}},{"$f":"('WS Calcs'!$L$2*'WS Calcs'!$L$3*('BMP Calcs'!T354/12))*Assignments!$E37*'BMP Calcs'!T161*2.72","v":{"$error":"#N/A"}},{"$f":"('WS Calcs'!$L$2*'WS Calcs'!$L$3*('BMP Calcs'!U354/12))*Assignments!$E37*'BMP Calcs'!U161*2.72","v":{"$error":"#N/A"}},null,{"$f":"('WS Calcs'!$L$2*'WS Calcs'!$L$3*('BMP Calcs'!W354/12))*Assignments!$E37*'BMP Calcs'!W161*2.72","v":{"$error":"#N/A"}},{"$f":"('WS Calcs'!$L$2*'WS Calcs'!$L$3*('BMP Calcs'!X354/12))*Assignments!$E37*'BMP Calcs'!X161*2.72","v":{"$error":"#N/A"}},{"$f":"('WS Calcs'!$L$2*'WS Calcs'!$L$3*('BMP Calcs'!Y354/12))*Assignments!$E37*'BMP Calcs'!Y161*2.72","v":{"$error":"#N/A"}},null,null,null,{"$f":"('WS Calcs'!$L$2*'WS Calcs'!$L$3*('BMP Calcs'!AC354/12))*Assignments!$E37*'BMP Calcs'!AC161*2.72","v":{"$error":"#N/A"}},{"$f":"('WS Calcs'!$L$2*'WS Calcs'!$L$3*('BMP Calcs'!AD354/12))*Assignments!$E37*'BMP Calcs'!AD161*2.72","v":{"$error":"#N/A"}}]
[null,"     Blank 1",{"$f":"IF(Assignments!E38=\"NA\",0,('WS Calcs'!$L$2*'WS Calcs'!$L$3*('BMP Calcs'!C355/12))*Assignments!$E38*'BMP Calcs'!C162*2.72)","v":0},{"$f":"IF(Assignments!E38=\"NA\",0,('WS Calcs'!$L$2*'WS Calcs'!$L$3*('BMP Calcs'!D355/12))*Assignments!$E38*'BMP Calcs'!D162*2.72)","v":0},{"$f":"IF(Assignments!E38=\"NA\",0,('WS Calcs'!$L$2*'WS Calcs'!$L$3*('BMP Calcs'!E355/12))*Assignments!$E38*'BMP Calcs'!E162*2.72)","v":0},null,{"$f":"IF(Assignments!E38=\"NA\",0,('WS Calcs'!$L$2*'WS Calcs'!$L$3*('BMP Calcs'!G355/12))*Assignments!$E38*'BMP Calcs'!G162*2.72)","v":0},{"$f":"IF(Assignments!E38=\"NA\",0,('WS Calcs'!$L$2*'WS Calcs'!$L$3*('BMP Calcs'!H355/12))*Assignments!$E38*'BMP Calcs'!H162*2.72)","v":0},{"$f":"IF(Assignments!E38=\"NA\",0,('WS Calcs'!$L$2*'WS Calcs'!$L$3*('BMP Calcs'!I355/12))*Assignments!$E38*'BMP Calcs'!I162*2.72)","v":0},null,{"$f":"IF(Assignments!E38=\"NA\",0,('WS Calcs'!$L$2*'WS Calcs'!$L$3*('BMP Calcs'!K355/12))*Assignments!$E38*'BMP Calcs'!K162*2.72)","v":0},{"$f":"IF(Assignments!E38=\"NA\",0,('WS Calcs'!$L$2*'WS Calcs'!$L$3*('BMP Calcs'!L355/12))*Assignments!$E38*'BMP Calcs'!L162*2.72)","v":0},{"$f":"IF(Assignments!E38=\"NA\",0,('WS Calcs'!$L$2*'WS Calcs'!$L$3*('BMP Calcs'!M355/12))*Assignments!$E38*'BMP Calcs'!M162*2.72)","v":0},null,{"$f":"IF(Assignments!E38=\"NA\",0,('WS Calcs'!$L$2*'WS Calcs'!$L$3*('BMP Calcs'!O355/12))*Assignments!$E38*'BMP Calcs'!O162*2.72)","v":0},{"$f":"IF(Assignments!E38=\"NA\",0,('WS Calcs'!$L$2*'WS Calcs'!$L$3*('BMP Calcs'!P355/12))*Assignments!$E38*'BMP Calcs'!P162*2.72)","v":0},{"$f":"IF(Assignments!E38=\"NA\",0,('WS Calcs'!$L$2*'WS Calcs'!$L$3*('BMP Calcs'!Q355/12))*Assignments!$E38*'BMP Calcs'!Q162*2.72)","v":0},null,{"$f":"IF(Assignments!E38=\"NA\",0,('WS Calcs'!$L$2*'WS Calcs'!$L$3*('BMP Calcs'!S355/12))*Assignments!$E38*'BMP Calcs'!S162*2.72)","v":0},{"$f":"IF(Assignments!E38=\"NA\",0,('WS Calcs'!$L$2*'WS Calcs'!$L$3*('BMP Calcs'!T355/12))*Assignments!$E38*'BMP Calcs'!T162*2.72)","v":0},{"$f":"IF(Assignments!E38=\"NA\",0,('WS Calcs'!$L$2*'WS Calcs'!$L$3*('BMP Calcs'!U355/12))*Assignments!$E38*'BMP Calcs'!U162*2.72)","v":0},null,{"$f":"IF(Assignments!E38=\"NA\",0,('WS Calcs'!$L$2*'WS Calcs'!$L$3*('BMP Calcs'!W355/12))*Assignments!$E38*'BMP Calcs'!W162*2.72)","v":0},{"$f":"IF(Assignments!E38=\"NA\",0,('WS Calcs'!$L$2*'WS Calcs'!$L$3*('BMP Calcs'!X355/12))*Assignments!$E38*'BMP Calcs'!X162*2.72)","v":0},{"$f":"IF(Assignments!E38=\"NA\",0,('WS Calcs'!$L$2*'WS Calcs'!$L$3*('BMP Calcs'!Y355/12))*Assignments!$E38*'BMP Calcs'!Y162*2.72)","v":0},null,null,null,{"$f":"IF(Assignments!E38=\"NA\",0,('WS Calcs'!$L$2*'WS Calcs'!$L$3*('BMP Calcs'!AC355/12))*Assignments!$E38*'BMP Calcs'!AC162*2.72)","v":0},{"$f":"IF(Assignments!E38=\"NA\",0,('WS Calcs'!$L$2*'WS Calcs'!$L$3*('BMP Calcs'!AD355/12))*Assignments!$E38*'BMP Calcs'!AD162*2.72)","v":0}]
[null,"     Blank 2",{"$f":"IF(Assignments!E39=\"NA\",0,('WS Calcs'!$L$2*'WS Calcs'!$L$3*('BMP Calcs'!C356/12))*Assignments!$E39*'BMP Calcs'!C163*2.72)","v":0},{"$f":"IF(Assignments!E39=\"NA\",0,('WS Calcs'!$L$2*'WS Calcs'!$L$3*('BMP Calcs'!D356/12))*Assignments!$E39*'BMP Calcs'!D163*2.72)","v":0},{"$f":"IF(Assignments!E39=\"NA\",0,('WS Calcs'!$L$2*'WS Calcs'!$L$3*('BMP Calcs'!E356/12))*Assignments!$E39*'BMP Calcs'!E163*2.72)","v":0},null,{"$f":"IF(Assignments!E39=\"NA\",0,('WS Calcs'!$L$2*'WS Calcs'!$L$3*('BMP Calcs'!G356/12))*Assignments!$E39*'BMP Calcs'!G163*2.72)","v":0},{"$f":"IF(Assignments!E39=\"NA\",0,('WS Calcs'!$L$2*'WS Calcs'!$L$3*('BMP Calcs'!H356/12))*Assignments!$E39*'BMP Calcs'!H163*2.72)","v":0},{"$f":"IF(Assignments!E39=\"NA\",0,('WS Calcs'!$L$2*'WS Calcs'!$L$3*('BMP Calcs'!I356/12))*Assignments!$E39*'BMP Calcs'!I163*2.72)","v":0},null,{"$f":"IF(Assignments!E39=\"NA\",0,('WS Calcs'!$L$2*'WS Calcs'!$L$3*('BMP Calcs'!K356/12))*Assignments!$E39*'BMP Calcs'!K163*2.72)","v":0},{"$f":"IF(Assignments!E39=\"NA\",0,('WS Calcs'!$L$2*'WS Calcs'!$L$3*('BMP Calcs'!L356/12))*Assignments!$E39*'BMP Calcs'!L163*2.72)","v":0},{"$f":"IF(Assignments!E39=\"NA\",0,('WS Calcs'!$L$2*'WS Calcs'!$L$3*('BMP Calcs'!M356/12))*Assignments!$E39*'BMP Calcs'!M163*2.72)","v":0},null,{"$f":"IF(Assignments!E39=\"NA\",0,('WS Calcs'!$L$2*'WS Calcs'!$L$3*('BMP Calcs'!O356/12))*Assignments!$E39*'BMP Calcs'!O163*2.72)","v":0},{"$f":"IF(Assignments!E39=\"NA\",0,('WS Calcs'!$L$2*'WS Calcs'!$L$3*('BMP Calcs'!P356/12))*Assignments!$E39*'BMP Calcs'!P163*2.72)","v":0},{"$f":"IF(Assignments!E39=\"NA\",0,('WS Calcs'!$L$2*'WS Calcs'!$L$3*('BMP Calcs'!Q356/12))*Assignments!$E39*'BMP Calcs'!Q163*2.72)","v":0},null,{"$f":"IF(Assignments!E39=\"NA\",0,('WS Calcs'!$L$2*'WS Calcs'!$L$3*('BMP Calcs'!S356/12))*Assignments!$E39*'BMP Calcs'!S163*2.72)","v":0},{"$f":"IF(Assignments!E39=\"NA\",0,('WS Calcs'!$L$2*'WS Calcs'!$L$3*('BMP Calcs'!T356/12))*Assignments!$E39*'BMP Calcs'!T163*2.72)","v":0},{"$f":"IF(Assignments!E39=\"NA\",0,('WS Calcs'!$L$2*'WS Calcs'!$L$3*('BMP Calcs'!U356/12))*Assignments!$E39*'BMP Calcs'!U163*2.72)","v":0},null,{"$f":"IF(Assignments!E39=\"NA\",0,('WS Calcs'!$L$2*'WS Calcs'!$L$3*('BMP Calcs'!W356/12))*Assignments!$E39*'BMP Calcs'!W163*2.72)","v":0},{"$f":"IF(Assignments!E39=\"NA\",0,('WS Calcs'!$L$2*'WS Calcs'!$L$3*('BMP Calcs'!X356/12))*Assignments!$E39*'BMP Calcs'!X163*2.72)","v":0},{"$f":"IF(Assignments!E39=\"NA\",0,('WS Calcs'!$L$2*'WS Calcs'!$L$3*('BMP Calcs'!Y356/12))*Assignments!$E39*'BMP Calcs'!Y163*2.72)","v":0},null,null,null,{"$f":"IF(Assignments!E39=\"NA\",0,('WS Calcs'!$L$2*'WS Calcs'!$L$3*('BMP Calcs'!AC356/12))*Assignments!$E39*'BMP Calcs'!AC163*2.72)","v":0},{"$f":"IF(Assignments!E39=\"NA\",0,('WS Calcs'!$L$2*'WS Calcs'!$L$3*('BMP Calcs'!AD356/12))*Assignments!$E39*'BMP Calcs'!AD163*2.72)","v":0}]
[null,"RESIDENTIAL",{"$f":"('WS Calcs'!$L$2*'WS Calcs'!$L$3*('BMP Calcs'!C357/12))*Assignments!$E40*'BMP Calcs'!C164*2.72","v":{"$error":"#N/A"}},{"$f":"('WS Calcs'!$L$2*'WS Calcs'!$L$3*('BMP Calcs'!D357/12))*Assignments!$E40*'BMP Calcs'!D164*2.72","v":{"$error":"#N/A"}},{"$f":"('WS Calcs'!$L$2*'WS Calcs'!$L$3*('BMP Calcs'!E357/12))*Assignments!$E40*'BMP Calcs'!E164*2.72","v":{"$error":"#N/A"}},null,{"$f":"('WS Calcs'!$L$2*'WS Calcs'!$L$3*('BMP Calcs'!G357/12))*Assignments!$E40*'BMP Calcs'!G164*2.72","v":{"$error":"#N/A"}},{"$f":"('WS Calcs'!$L$2*'WS Calcs'!$L$3*('BMP Calcs'!H357/12))*Assignments!$E40*'BMP Calcs'!H164*2.72","v":{"$error":"#N/A"}},{"$f":"('WS Calcs'!$L$2*'WS Calcs'!$L$3*('BMP Calcs'!I357/12))*Assignments!$E40*'BMP Calcs'!I164*2.72","v":{"$error":"#N/A"}},null,{"$f":"('WS Calcs'!$L$2*'WS Calcs'!$L$3*('BMP Calcs'!K357/12))*Assignments!$E40*'BMP Calcs'!K164*2.72","v":{"$error":"#N/A"}},{"$f":"('WS Calcs'!$L$2*'WS Calcs'!$L$3*('BMP Calcs'!L357/12))*Assignments!$E40*'BMP Calcs'!L164*2.72","v":{"$error":"#N/A"}},{"$f":"('WS Calcs'!$L$2*'WS Calcs'!$L$3*('BMP Calcs'!M357/12))*Assignments!$E40*'BMP Calcs'!M164*2.72","v":{"$error":"#N/A"}},null,{"$f":"('WS Calcs'!$L$2*'WS Calcs'!$L$3*('BMP Calcs'!O357/12))*Assignments!$E40*'BMP Calcs'!O164*2.72","v":{"$error":"#N/A"}},{"$f":"('WS Calcs'!$L$2*'WS Calcs'!$L$3*('BMP Calcs'!P357/12))*Assignments!$E40*'BMP Calcs'!P164*2.72","v":{"$error":"#N/A"}},{"$f":"('WS Calcs'!$L$2*'WS Calcs'!$L$3*('BMP Calcs'!Q357/12))*Assignments!$E40*'BMP Calcs'!Q164*2.72","v":{"$error":"#N/A"}},null,{"$f":"('WS Calcs'!$L$2*'WS Calcs'!$L$3*('BMP Calcs'!S357/12))*Assignments!$E40*'BMP Calcs'!S164*2.72","v":{"$error":"#N/A"}},{"$f":"('WS Calcs'!$L$2*'WS Calcs'!$L$3*('BMP Calcs'!T357/12))*Assignments!$E40*'BMP Calcs'!T164*2.72","v":{"$error":"#N/A"}},{"$f":"('WS Calcs'!$L$2*'WS Calcs'!$L$3*('BMP Calcs'!U357/12))*Assignments!$E40*'BMP Calcs'!U164*2.72","v":{"$error":"#N/A"}},null,{"$f":"('WS Calcs'!$L$2*'WS Calcs'!$L$3*('BMP Calcs'!W357/12))*Assignments!$E40*'BMP Calcs'!W164*2.72","v":{"$error":"#N/A"}},{"$f":"('WS Calcs'!$L$2*'WS Calcs'!$L$3*('BMP Calcs'!X357/12))*Assignments!$E40*'BMP Calcs'!X164*2.72","v":{"$error":"#N/A"}},{"$f":"('WS Calcs'!$L$2*'WS Calcs'!$L$3*('BMP Calcs'!Y357/12))*Assignments!$E40*'BMP Calcs'!Y164*2.72","v":{"$error":"#N/A"}},null,null,null,{"$f":"('WS Calcs'!$L$2*'WS Calcs'!$L$3*('BMP Calcs'!AC357/12))*Assignments!$E40*'BMP Calcs'!AC164*2.72","v":{"$error":"#N/A"}},{"$f":"('WS Calcs'!$L$2*'WS Calcs'!$L$3*('BMP Calcs'!AD357/12))*Assignments!$E40*'BMP Calcs'!AD164*2.72","v":{"$error":"#N/A"}}]
[null,"     2-ac lots (New)",{"$f":"('WS Calcs'!$L$2*'WS Calcs'!$L$3*('BMP Calcs'!C358/12))*(MAX(Assignments!$E41,Assignments!$E49))*'BMP Calcs'!C165*2.72","v":{"$error":"#N/A"}},{"$f":"('WS Calcs'!$L$2*'WS Calcs'!$L$3*('BMP Calcs'!D358/12))*(MAX(Assignments!$E41,Assignments!$E49))*'BMP Calcs'!D165*2.72","v":{"$error":"#N/A"}},{"$f":"('WS Calcs'!$L$2*'WS Calcs'!$L$3*('BMP Calcs'!E358/12))*(MAX(Assignments!$E41,Assignments!$E49))*'BMP Calcs'!E165*2.72","v":{"$error":"#N/A"}},{"$f":"('WS Calcs'!$L$2*'WS Calcs'!$L$3*('BMP Calcs'!F358/12))*(MAX(Assignments!$E41,Assignments!$E49))*'BMP Calcs'!F165*2.72","v":{"$error":"#N/A"}},{"$f":"('WS Calcs'!$L$2*'WS Calcs'!$L$3*('BMP Calcs'!G358/12))*(MAX(Assignments!$E41,Assignments!$E49))*'BMP Calcs'!G165*2.72","v":{"$error":"#N/A"}},{"$f":"('WS Calcs'!$L$2*'WS Calcs'!$L$3*('BMP Calcs'!H358/12))*(MAX(Assignments!$E41,Assignments!$E49))*'BMP Calcs'!H165*2.72","v":{"$error":"#N/A"}},{"$f":"('WS Calcs'!$L$2*'WS Calcs'!$L$3*('BMP Calcs'!I358/12))*(MAX(Assignments!$E41,Assignments!$E49))*'BMP Calcs'!I165*2.72","v":{"$error":"#N/A"}},{"$f":"('WS Calcs'!$L$2*'WS Calcs'!$L$3*('BMP Calcs'!J358/12))*(MAX(Assignments!$E41,Assignments!$E49))*'BMP Calcs'!J165*2.72","v":{"$error":"#N/A"}},{"$f":"('WS Calcs'!$L$2*'WS Calcs'!$L$3*('BMP Calcs'!K358/12))*(MAX(Assignments!$E41,Assignments!$E49))*'BMP Calcs'!K165*2.72","v":{"$error":"#N/A"}},{"$f":"('WS Calcs'!$L$2*'WS Calcs'!$L$3*('BMP Calcs'!L358/12))*(MAX(Assignments!$E41,Assignments!$E49))*'BMP Calcs'!L165*2.72","v":{"$error":"#N/A"}},{"$f":"('WS Calcs'!$L$2*'WS Calcs'!$L$3*('BMP Calcs'!M358/12))*(MAX(Assignments!$E41,Assignments!$E49))*'BMP Calcs'!M165*2.72","v":{"$error":"#N/A"}},{"$f":"('WS Calcs'!$L$2*'WS Calcs'!$L$3*('BMP Calcs'!N358/12))*(MAX(Assignments!$E41,Assignments!$E49))*'BMP Calcs'!N165*2.72","v":{"$error":"#N/A"}},{"$f":"('WS Calcs'!$L$2*'WS Calcs'!$L$3*('BMP Calcs'!O358/12))*(MAX(Assignments!$E41,Assignments!$E49))*'BMP Calcs'!O165*2.72","v":{"$error":"#N/A"}},{"$f":"('WS Calcs'!$L$2*'WS Calcs'!$L$3*('BMP Calcs'!P358/12))*(MAX(Assignments!$E41,Assignments!$E49))*'BMP Calcs'!P165*2.72","v":{"$error":"#N/A"}},{"$f":"('WS Calcs'!$L$2*'WS Calcs'!$L$3*('BMP Calcs'!Q358/12))*(MAX(Assignments!$E41,Assignments!$E49))*'BMP Calcs'!Q165*2.72","v":{"$error":"#N/A"}},{"$f":"('WS Calcs'!$L$2*'WS Calcs'!$L$3*('BMP Calcs'!R358/12))*(MAX(Assignments!$E41,Assignments!$E49))*'BMP Calcs'!R165*2.72","v":{"$error":"#N/A"}},{"$f":"('WS Calcs'!$L$2*'WS Calcs'!$L$3*('BMP Calcs'!S358/12))*(MAX(Assignments!$E41,Assignments!$E49))*'BMP Calcs'!S165*2.72","v":{"$error":"#N/A"}},{"$f":"('WS Calcs'!$L$2*'WS Calcs'!$L$3*('BMP Calcs'!T358/12))*(MAX(Assignments!$E41,Assignments!$E49))*'BMP Calcs'!T165*2.72","v":{"$error":"#N/A"}},{"$f":"('WS Calcs'!$L$2*'WS Calcs'!$L$3*('BMP Calcs'!U358/12))*(MAX(Assignments!$E41,Assignments!$E49))*'BMP Calcs'!U165*2.72","v":{"$error":"#N/A"}},{"$f":"('WS Calcs'!$L$2*'WS Calcs'!$L$3*('BMP Calcs'!V358/12))*(MAX(Assignments!$E41,Assignments!$E49))*'BMP Calcs'!V165*2.72","v":{"$error":"#N/A"}},{"$f":"('WS Calcs'!$L$2*'WS Calcs'!$L$3*('BMP Calcs'!W358/12))*(MAX(Assignments!$E41,Assignments!$E49))*'BMP Calcs'!W165*2.72","v":{"$error":"#N/A"}},{"$f":"('WS Calcs'!$L$2*'WS Calcs'!$L$3*('BMP Calcs'!X358/12))*(MAX(Assignments!$E41,Assignments!$E49))*'BMP Calcs'!X165*2.72","v":{"$error":"#N/A"}},{"$f":"('WS Calcs'!$L$2*'WS Calcs'!$L$3*('BMP Calcs'!Y358/12))*(MAX(Assignments!$E41,Assignments!$E49))*'BMP Calcs'!Y165*2.72","v":{"$error":"#N/A"}},{"$f":"('WS Calcs'!$L$2*'WS Calcs'!$L$3*('BMP Calcs'!Z358/12))*(MAX(Assignments!$E41,Assignments!$E49))*'BMP Calcs'!Z165*2.72","v":{"$error":"#N/A"}},null,null,{"$f":"('WS Calcs'!$L$2*'WS Calcs'!$L$3*('BMP Calcs'!AC358/12))*(MAX(Assignments!$E41,Assignments!$E49))*'BMP Calcs'!AC165*2.72","v":{"$error":"#N/A"}},{"$f":"('WS Calcs'!$L$2*'WS Calcs'!$L$3*('BMP Calcs'!AD358/12))*(MAX(Assignments!$E41,Assignments!$E49))*'BMP Calcs'!AD165*2.72","v":{"$error":"#N/A"}}]
[null,"     2-ac lots (Built after 1995)",{"$f":"('WS Calcs'!$L$2*'WS Calcs'!$L$3*('BMP Calcs'!C359/12))*Assignments!$E41*'BMP Calcs'!C166*2.72","v":{"$error":"#N/A"}},{"$f":"('WS Calcs'!$L$2*'WS Calcs'!$L$3*('BMP Calcs'!D359/12))*Assignments!$E41*'BMP Calcs'!D166*2.72","v":{"$error":"#N/A"}},{"$f":"('WS Calcs'!$L$2*'WS Calcs'!$L$3*('BMP Calcs'!E359/12))*Assignments!$E41*'BMP Calcs'!E166*2.72","v":{"$error":"#N/A"}},{"$f":"('WS Calcs'!$L$2*'WS Calcs'!$L$3*('BMP Calcs'!F359/12))*Assignments!$E41*'BMP Calcs'!F166*2.72","v":{"$error":"#N/A"}},{"$f":"('WS Calcs'!$L$2*'WS Calcs'!$L$3*('BMP Calcs'!G359/12))*Assignments!$E41*'BMP Calcs'!G166*2.72","v":{"$error":"#N/A"}},{"$f":"('WS Calcs'!$L$2*'WS Calcs'!$L$3*('BMP Calcs'!H359/12))*Assignments!$E41*'BMP Calcs'!H166*2.72","v":{"$error":"#N/A"}},{"$f":"('WS Calcs'!$L$2*'WS Calcs'!$L$3*('BMP Calcs'!I359/12))*Assignments!$E41*'BMP Calcs'!I166*2.72","v":{"$error":"#N/A"}},{"$f":"('WS Calcs'!$L$2*'WS Calcs'!$L$3*('BMP Calcs'!J359/12))*Assignments!$E41*'BMP Calcs'!J166*2.72","v":{"$error":"#N/A"}},{"$f":"('WS Calcs'!$L$2*'WS Calcs'!$L$3*('BMP Calcs'!K359/12))*Assignments!$E41*'BMP Calcs'!K166*2.72","v":{"$error":"#N/A"}},{"$f":"('WS Calcs'!$L$2*'WS Calcs'!$L$3*('BMP Calcs'!L359/12))*Assignments!$E41*'BMP Calcs'!L166*2.72","v":{"$error":"#N/A"}},{"$f":"('WS Calcs'!$L$2*'WS Calcs'!$L$3*('BMP Calcs'!M359/12))*Assignments!$E41*'BMP Calcs'!M166*2.72","v":{"$error":"#N/A"}},{"$f":"('WS Calcs'!$L$2*'WS Calcs'!$L$3*('BMP Calcs'!N359/12))*Assignments!$E41*'BMP Calcs'!N166*2.72","v":{"$error":"#N/A"}},{"$f":"('WS Calcs'!$L$2*'WS Calcs'!$L$3*('BMP Calcs'!O359/12))*Assignments!$E41*'BMP Calcs'!O166*2.72","v":{"$error":"#N/A"}},{"$f":"('WS Calcs'!$L$2*'WS Calcs'!$L$3*('BMP Calcs'!P359/12))*Assignments!$E41*'BMP Calcs'!P166*2.72","v":{"$error":"#N/A"}},{"$f":"('WS Calcs'!$L$2*'WS Calcs'!$L$3*('BMP Calcs'!Q359/12))*Assignments!$E41*'BMP Calcs'!Q166*2.72","v":{"$error":"#N/A"}},{"$f":"('WS Calcs'!$L$2*'WS Calcs'!$L$3*('BMP Calcs'!R359/12))*Assignments!$E41*'BMP Calcs'!R166*2.72","v":{"$error":"#N/A"}},{"$f":"('WS Calcs'!$L$2*'WS Calcs'!$L$3*('BMP Calcs'!S359/12))*Assignments!$E41*'BMP Calcs'!S166*2.72","v":{"$error":"#N/A"}},{"$f":"('WS Calcs'!$L$2*'WS Calcs'!$L$3*('BMP Calcs'!T359/12))*Assignments!$E41*'BMP Calcs'!T166*2.72","v":{"$error":"#N/A"}},{"$f":"('WS Calcs'!$L$2*'WS Calcs'!$L$3*('BMP Calcs'!U359/12))*Assignments!$E41*'BMP Calcs'!U166*2.72","v":{"$error":"#N/A"}},{"$f":"('WS Calcs'!$L$2*'WS Calcs'!$L$3*('BMP Calcs'!V359/12))*Assignments!$E41*'BMP Calcs'!V166*2.72","v":{"$error":"#N/A"}},{"$f":"('WS Calcs'!$L$2*'WS Calcs'!$L$3*('BMP Calcs'!W359/12))*Assignments!$E41*'BMP Calcs'!W166*2.72","v":{"$error":"#N/A"}},{"$f":"('WS Calcs'!$L$2*'WS Calcs'!$L$3*('BMP Calcs'!X359/12))*Assignments!$E41*'BMP Calcs'!X166*2.72","v":{"$error":"#N/A"}},{"$f":"('WS Calcs'!$L$2*'WS Calcs'!$L$3*('BMP Calcs'!Y359/12))*Assignments!$E41*'BMP Calcs'!Y166*2.72","v":{"$error":"#N/A"}},null,null,null,{"$f":"('WS Calcs'!$L$2*'WS Calcs'!$L$3*('BMP Calcs'!AC359/12))*Assignments!$E41*'BMP Calcs'!AC166*2.72","v":{"$error":"#N/A"}},{"$f":"('WS Calcs'!$L$2*'WS Calcs'!$L$3*('BMP Calcs'!AD359/12))*Assignments!$E41*'BMP Calcs'!AD166*2.72","v":{"$error":"#N/A"}}]
[null,"     2-ac lots (Built before 1995)",{"$f":"('WS Calcs'!$L$2*'WS Calcs'!$L$3*('BMP Calcs'!C360/12))*Assignments!$E49*'BMP Calcs'!C167*2.72","v":{"$error":"#N/A"}},{"$f":"('WS Calcs'!$L$2*'WS Calcs'!$L$3*('BMP Calcs'!D360/12))*Assignments!$E49*'BMP Calcs'!D167*2.72","v":{"$error":"#N/A"}},{"$f":"('WS Calcs'!$L$2*'WS Calcs'!$L$3*('BMP Calcs'!E360/12))*Assignments!$E49*'BMP Calcs'!E167*2.72","v":{"$error":"#N/A"}},{"$f":"('WS Calcs'!$L$2*'WS Calcs'!$L$3*('BMP Calcs'!F360/12))*Assignments!$E49*'BMP Calcs'!F167*2.72","v":{"$error":"#N/A"}},{"$f":"('WS Calcs'!$L$2*'WS Calcs'!$L$3*('BMP Calcs'!G360/12))*Assignments!$E49*'BMP Calcs'!G167*2.72","v":{"$error":"#N/A"}},{"$f":"('WS Calcs'!$L$2*'WS Calcs'!$L$3*('BMP Calcs'!H360/12))*Assignments!$E49*'BMP Calcs'!H167*2.72","v":{"$error":"#N/A"}},{"$f":"('WS Calcs'!$L$2*'WS Calcs'!$L$3*('BMP Calcs'!I360/12))*Assignments!$E49*'BMP Calcs'!I167*2.72","v":{"$error":"#N/A"}},{"$f":"('WS Calcs'!$L$2*'WS Calcs'!$L$3*('BMP Calcs'!J360/12))*Assignments!$E49*'BMP Calcs'!J167*2.72","v":{"$error":"#N/A"}},{"$f":"('WS Calcs'!$L$2*'WS Calcs'!$L$3*('BMP Calcs'!K360/12))*Assignments!$E49*'BMP Calcs'!K167*2.72","v":{"$error":"#N/A"}},{"$f":"('WS Calcs'!$L$2*'WS Calcs'!$L$3*('BMP Calcs'!L360/12))*Assignments!$E49*'BMP Calcs'!L167*2.72","v":{"$error":"#N/A"}},{"$f":"('WS Calcs'!$L$2*'WS Calcs'!$L$3*('BMP Calcs'!M360/12))*Assignments!$E49*'BMP Calcs'!M167*2.72","v":{"$error":"#N/A"}},{"$f":"('WS Calcs'!$L$2*'WS Calcs'!$L$3*('BMP Calcs'!N360/12))*Assignments!$E49*'BMP Calcs'!N167*2.72","v":{"$error":"#N/A"}},{"$f":"('WS Calcs'!$L$2*'WS Calcs'!$L$3*('BMP Calcs'!O360/12))*Assignments!$E49*'BMP Calcs'!O167*2.72","v":{"$error":"#N/A"}},{"$f":"('WS Calcs'!$L$2*'WS Calcs'!$L$3*('BMP Calcs'!P360/12))*Assignments!$E49*'BMP Calcs'!P167*2.72","v":{"$error":"#N/A"}},{"$f":"('WS Calcs'!$L$2*'WS Calcs'!$L$3*('BMP Calcs'!Q360/12))*Assignments!$E49*'BMP Calcs'!Q167*2.72","v":{"$error":"#N/A"}},{"$f":"('WS Calcs'!$L$2*'WS Calcs'!$L$3*('BMP Calcs'!R360/12))*Assignments!$E49*'BMP Calcs'!R167*2.72","v":{"$error":"#N/A"}},{"$f":"('WS Calcs'!$L$2*'WS Calcs'!$L$3*('BMP Calcs'!S360/12))*Assignments!$E49*'BMP Calcs'!S167*2.72","v":{"$error":"#N/A"}},{"$f":"('WS Calcs'!$L$2*'WS Calcs'!$L$3*('BMP Calcs'!T360/12))*Assignments!$E49*'BMP Calcs'!T167*2.72","v":{"$error":"#N/A"}},{"$f":"('WS Calcs'!$L$2*'WS Calcs'!$L$3*('BMP Calcs'!U360/12))*Assignments!$E49*'BMP Calcs'!U167*2.72","v":{"$error":"#N/A"}},{"$f":"('WS Calcs'!$L$2*'WS Calcs'!$L$3*('BMP Calcs'!V360/12))*Assignments!$E49*'BMP Calcs'!V167*2.72","v":{"$error":"#N/A"}},{"$f":"('WS Calcs'!$L$2*'WS Calcs'!$L$3*('BMP Calcs'!W360/12))*Assignments!$E49*'BMP Calcs'!W167*2.72","v":{"$error":"#N/A"}},{"$f":"('WS Calcs'!$L$2*'WS Calcs'!$L$3*('BMP Calcs'!X360/12))*Assignments!$E49*'BMP Calcs'!X167*2.72","v":{"$error":"#N/A"}},{"$f":"('WS Calcs'!$L$2*'WS Calcs'!$L$3*('BMP Calcs'!Y360/12))*Assignments!$E49*'BMP Calcs'!Y167*2.72","v":{"$error":"#N/A"}},null,null,null,{"$f":"('WS Calcs'!$L$2*'WS Calcs'!$L$3*('BMP Calcs'!AC360/12))*Assignments!$E42*'BMP Calcs'!AC167*2.72","v":{"$error":"#N/A"}},{"$f":"('WS Calcs'!$L$2*'WS Calcs'!$L$3*('BMP Calcs'!AD360/12))*Assignments!$E42*'BMP Calcs'!AD167*2.72","v":{"$error":"#N/A"}}]
[null,"     1-ac lots (New)",{"$f":"('WS Calcs'!$L$2*'WS Calcs'!$L$3*('BMP Calcs'!C361/12))*(MAX(Assignments!$E42,Assignments!$E50))*'BMP Calcs'!C168*2.72","v":{"$error":"#N/A"}},{"$f":"('WS Calcs'!$L$2*'WS Calcs'!$L$3*('BMP Calcs'!D361/12))*(MAX(Assignments!$E42,Assignments!$E50))*'BMP Calcs'!D168*2.72","v":{"$error":"#N/A"}},{"$f":"('WS Calcs'!$L$2*'WS Calcs'!$L$3*('BMP Calcs'!E361/12))*(MAX(Assignments!$E42,Assignments!$E50))*'BMP Calcs'!E168*2.72","v":{"$error":"#N/A"}},{"$f":"('WS Calcs'!$L$2*'WS Calcs'!$L$3*('BMP Calcs'!F361/12))*(MAX(Assignments!$E42,Assignments!$E50))*'BMP Calcs'!F168*2.72","v":{"$error":"#N/A"}},{"$f":"('WS Calcs'!$L$2*'WS Calcs'!$L$3*('BMP Calcs'!G361/12))*(MAX(Assignments!$E42,Assignments!$E50))*'BMP Calcs'!G168*2.72","v":{"$error":"#N/A"}},{"$f":"('WS Calcs'!$L$2*'WS Calcs'!$L$3*('BMP Calcs'!H361/12))*(MAX(Assignments!$E42,Assignments!$E50))*'BMP Calcs'!H168*2.72","v":{"$error":"#N/A"}},{"$f":"('WS Calcs'!$L$2*'WS Calcs'!$L$3*('BMP Calcs'!I361/12))*(MAX(Assignments!$E42,Assignments!$E50))*'BMP Calcs'!I168*2.72","v":{"$error":"#N/A"}},{"$f":"('WS Calcs'!$L$2*'WS Calcs'!$L$3*('BMP Calcs'!J361/12))*(MAX(Assignments!$E42,Assignments!$E50))*'BMP Calcs'!J168*2.72","v":{"$error":"#N/A"}},{"$f":"('WS Calcs'!$L$2*'WS Calcs'!$L$3*('BMP Calcs'!K361/12))*(MAX(Assignments!$E42,Assignments!$E50))*'BMP Calcs'!K168*2.72","v":{"$error":"#N/A"}},{"$f":"('WS Calcs'!$L$2*'WS Calcs'!$L$3*('BMP Calcs'!L361/12))*(MAX(Assignments!$E42,Assignments!$E50))*'BMP Calcs'!L168*2.72","v":{"$error":"#N/A"}},{"$f":"('WS Calcs'!$L$2*'WS Calcs'!$L$3*('BMP Calcs'!M361/12))*(MAX(Assignments!$E42,Assignments!$E50))*'BMP Calcs'!M168*2.72","v":{"$error":"#N/A"}},{"$f":"('WS Calcs'!$L$2*'WS Calcs'!$L$3*('BMP Calcs'!N361/12))*(MAX(Assignments!$E42,Assignments!$E50))*'BMP Calcs'!N168*2.72","v":{"$error":"#N/A"}},{"$f":"('WS Calcs'!$L$2*'WS Calcs'!$L$3*('BMP Calcs'!O361/12))*(MAX(Assignments!$E42,Assignments!$E50))*'BMP Calcs'!O168*2.72","v":{"$error":"#N/A"}},{"$f":"('WS Calcs'!$L$2*'WS Calcs'!$L$3*('BMP Calcs'!P361/12))*(MAX(Assignments!$E42,Assignments!$E50))*'BMP Calcs'!P168*2.72","v":{"$error":"#N/A"}},{"$f":"('WS Calcs'!$L$2*'WS Calcs'!$L$3*('BMP Calcs'!Q361/12))*(MAX(Assignments!$E42,Assignments!$E50))*'BMP Calcs'!Q168*2.72","v":{"$error":"#N/A"}},{"$f":"('WS Calcs'!$L$2*'WS Calcs'!$L$3*('BMP Calcs'!R361/12))*(MAX(Assignments!$E42,Assignments!$E50))*'BMP Calcs'!R168*2.72","v":{"$error":"#N/A"}},{"$f":"('WS Calcs'!$L$2*'WS Calcs'!$L$3*('BMP Calcs'!S361/12))*(MAX(Assignments!$E42,Assignments!$E50))*'BMP Calcs'!S168*2.72","v":{"$error":"#N/A"}},{"$f":"('WS Calcs'!$L$2*'WS Calcs'!$L$3*('BMP Calcs'!T361/12))*(MAX(Assignments!$E42,Assignments!$E50))*'BMP Calcs'!T168*2.72","v":{"$error":"#N/A"}},{"$f":"('WS Calcs'!$L$2*'WS Calcs'!$L$3*('BMP Calcs'!U361/12))*(MAX(Assignments!$E42,Assignments!$E50))*'BMP Calcs'!U168*2.72","v":{"$error":"#N/A"}},{"$f":"('WS Calcs'!$L$2*'WS Calcs'!$L$3*('BMP Calcs'!V361/12))*(MAX(Assignments!$E42,Assignments!$E50))*'BMP Calcs'!V168*2.72","v":{"$error":"#N/A"}},{"$f":"('WS Calcs'!$L$2*'WS Calcs'!$L$3*('BMP Calcs'!W361/12))*(MAX(Assignments!$E42,Assignments!$E50))*'BMP Calcs'!W168*2.72","v":{"$error":"#N/A"}},{"$f":"('WS Calcs'!$L$2*'WS Calcs'!$L$3*('BMP Calcs'!X361/12))*(MAX(Assignments!$E42,Assignments!$E50))*'BMP Calcs'!X168*2.72","v":{"$error":"#N/A"}},{"$f":"('WS Calcs'!$L$2*'WS Calcs'!$L$3*('BMP Calcs'!Y361/12))*(MAX(Assignments!$E42,Assignments!$E50))*'BMP Calcs'!Y168*2.72","v":{"$error":"#N/A"}},{"$f":"('WS Calcs'!$L$2*'WS Calcs'!$L$3*('BMP Calcs'!Z361/12))*(MAX(Assignments!$E42,Assignments!$E50))*'BMP Calcs'!Z168*2.72","v":{"$error":"#N/A"}},null,null,{"$f":"('WS Calcs'!$L$2*'WS Calcs'!$L$3*('BMP Calcs'!AC361/12))*(MAX(Assignments!$E42,Assignments!$E50))*'BMP Calcs'!AC168*2.72","v":{"$error":"#N/A"}},{"$f":"('WS Calcs'!$L$2*'WS Calcs'!$L$3*('BMP Calcs'!AD361/12))*(MAX(Assignments!$E42,Assignments!$E50))*'BMP Calcs'!AD168*2.72","v":{"$error":"#N/A"}}]
[null,"     1-ac lots (Built after 1995)",{"$f":"('WS Calcs'!$L$2*'WS Calcs'!$L$3*('BMP Calcs'!C362/12))*Assignments!$E42*'BMP Calcs'!C169*2.72","v":{"$error":"#N/A"}},{"$f":"('WS Calcs'!$L$2*'WS Calcs'!$L$3*('BMP Calcs'!D362/12))*Assignments!$E42*'BMP Calcs'!D169*2.72","v":{"$error":"#N/A"}},{"$f":"('WS Calcs'!$L$2*'WS Calcs'!$L$3*('BMP Calcs'!E362/12))*Assignments!$E42*'BMP Calcs'!E169*2.72","v":{"$error":"#N/A"}},{"$f":"('WS Calcs'!$L$2*'WS Calcs'!$L$3*('BMP Calcs'!F362/12))*Assignments!$E42*'BMP Calcs'!F169*2.72","v":{"$error":"#N/A"}},{"$f":"('WS Calcs'!$L$2*'WS Calcs'!$L$3*('BMP Calcs'!G362/12))*Assignments!$E42*'BMP Calcs'!G169*2.72","v":{"$error":"#N/A"}},{"$f":"('WS Calcs'!$L$2*'WS Calcs'!$L$3*('BMP Calcs'!H362/12))*Assignments!$E42*'BMP Calcs'!H169*2.72","v":{"$error":"#N/A"}},{"$f":"('WS Calcs'!$L$2*'WS Calcs'!$L$3*('BMP Calcs'!I362/12))*Assignments!$E42*'BMP Calcs'!I169*2.72","v":{"$error":"#N/A"}},{"$f":"('WS Calcs'!$L$2*'WS Calcs'!$L$3*('BMP Calcs'!J362/12))*Assignments!$E42*'BMP Calcs'!J169*2.72","v":{"$error":"#N/A"}},{"$f":"('WS Calcs'!$L$2*'WS Calcs'!$L$3*('BMP Calcs'!K362/12))*Assignments!$E42*'BMP Calcs'!K169*2.72","v":{"$error":"#N/A"}},{"$f":"('WS Calcs'!$L$2*'WS Calcs'!$L$3*('BMP Calcs'!L362/12))*Assignments!$E42*'BMP Calcs'!L169*2.72","v":{"$error":"#N/A"}},{"$f":"('WS Calcs'!$L$2*'WS Calcs'!$L$3*('BMP Calcs'!M362/12))*Assignments!$E42*'BMP Calcs'!M169*2.72","v":{"$error":"#N/A"}},{"$f":"('WS Calcs'!$L$2*'WS Calcs'!$L$3*('BMP Calcs'!N362/12))*Assignments!$E42*'BMP Calcs'!N169*2.72","v":{"$error":"#N/A"}},{"$f":"('WS Calcs'!$L$2*'WS Calcs'!$L$3*('BMP Calcs'!O362/12))*Assignments!$E42*'BMP Calcs'!O169*2.72","v":{"$error":"#N/A"}},{"$f":"('WS Calcs'!$L$2*'WS Calcs'!$L$3*('BMP Calcs'!P362/12))*Assignments!$E42*'BMP Calcs'!P169*2.72","v":{"$error":"#N/A"}},{"$f":"('WS Calcs'!$L$2*'WS Calcs'!$L$3*('BMP Calcs'!Q362/12))*Assignments!$E42*'BMP Calcs'!Q169*2.72","v":{"$error":"#N/A"}},{"$f":"('WS Calcs'!$L$2*'WS Calcs'!$L$3*('BMP Calcs'!R362/12))*Assignments!$E42*'BMP Calcs'!R169*2.72","v":{"$error":"#N/A"}},{"$f":"('WS Calcs'!$L$2*'WS Calcs'!$L$3*('BMP Calcs'!S362/12))*Assignments!$E42*'BMP Calcs'!S169*2.72","v":{"$error":"#N/A"}},{"$f":"('WS Calcs'!$L$2*'WS Calcs'!$L$3*('BMP Calcs'!T362/12))*Assignments!$E42*'BMP Calcs'!T169*2.72","v":{"$error":"#N/A"}},{"$f":"('WS Calcs'!$L$2*'WS Calcs'!$L$3*('BMP Calcs'!U362/12))*Assignments!$E42*'BMP Calcs'!U169*2.72","v":{"$error":"#N/A"}},{"$f":"('WS Calcs'!$L$2*'WS Calcs'!$L$3*('BMP Calcs'!V362/12))*Assignments!$E42*'BMP Calcs'!V169*2.72","v":{"$error":"#N/A"}},{"$f":"('WS Calcs'!$L$2*'WS Calcs'!$L$3*('BMP Calcs'!W362/12))*Assignments!$E42*'BMP Calcs'!W169*2.72","v":{"$error":"#N/A"}},{"$f":"('WS Calcs'!$L$2*'WS Calcs'!$L$3*('BMP Calcs'!X362/12))*Assignments!$E42*'BMP Calcs'!X169*2.72","v":{"$error":"#N/A"}},{"$f":"('WS Calcs'!$L$2*'WS Calcs'!$L$3*('BMP Calcs'!Y362/12))*Assignments!$E42*'BMP Calcs'!Y169*2.72","v":{"$error":"#N/A"}},null,null,null,{"$f":"('WS Calcs'!$L$2*'WS Calcs'!$L$3*('BMP Calcs'!AC362/12))*Assignments!$E43*'BMP Calcs'!AC169*2.72","v":{"$error":"#N/A"}},{"$f":"('WS Calcs'!$L$2*'WS Calcs'!$L$3*('BMP Calcs'!AD362/12))*Assignments!$E43*'BMP Calcs'!AD169*2.72","v":{"$error":"#N/A"}}]
[null,"     1-ac lots (Built before 1995)",{"$f":"('WS Calcs'!$L$2*'WS Calcs'!$L$3*('BMP Calcs'!C363/12))*Assignments!$E50*'BMP Calcs'!C170*2.72","v":{"$error":"#N/A"}},{"$f":"('WS Calcs'!$L$2*'WS Calcs'!$L$3*('BMP Calcs'!D363/12))*Assignments!$E50*'BMP Calcs'!D170*2.72","v":{"$error":"#N/A"}},{"$f":"('WS Calcs'!$L$2*'WS Calcs'!$L$3*('BMP Calcs'!E363/12))*Assignments!$E50*'BMP Calcs'!E170*2.72","v":{"$error":"#N/A"}},{"$f":"('WS Calcs'!$L$2*'WS Calcs'!$L$3*('BMP Calcs'!F363/12))*Assignments!$E50*'BMP Calcs'!F170*2.72","v":{"$error":"#N/A"}},{"$f":"('WS Calcs'!$L$2*'WS Calcs'!$L$3*('BMP Calcs'!G363/12))*Assignments!$E50*'BMP Calcs'!G170*2.72","v":{"$error":"#N/A"}},{"$f":"('WS Calcs'!$L$2*'WS Calcs'!$L$3*('BMP Calcs'!H363/12))*Assignments!$E50*'BMP Calcs'!H170*2.72","v":{"$error":"#N/A"}},{"$f":"('WS Calcs'!$L$2*'WS Calcs'!$L$3*('BMP Calcs'!I363/12))*Assignments!$E50*'BMP Calcs'!I170*2.72","v":{"$error":"#N/A"}},{"$f":"('WS Calcs'!$L$2*'WS Calcs'!$L$3*('BMP Calcs'!J363/12))*Assignments!$E50*'BMP Calcs'!J170*2.72","v":{"$error":"#N/A"}},{"$f":"('WS Calcs'!$L$2*'WS Calcs'!$L$3*('BMP Calcs'!K363/12))*Assignments!$E50*'BMP Calcs'!K170*2.72","v":{"$error":"#N/A"}},{"$f":"('WS Calcs'!$L$2*'WS Calcs'!$L$3*('BMP Calcs'!L363/12))*Assignments!$E50*'BMP Calcs'!L170*2.72","v":{"$error":"#N/A"}},{"$f":"('WS Calcs'!$L$2*'WS Calcs'!$L$3*('BMP Calcs'!M363/12))*Assignments!$E50*'BMP Calcs'!M170*2.72","v":{"$error":"#N/A"}},{"$f":"('WS Calcs'!$L$2*'WS Calcs'!$L$3*('BMP Calcs'!N363/12))*Assignments!$E50*'BMP Calcs'!N170*2.72","v":{"$error":"#N/A"}},{"$f":"('WS Calcs'!$L$2*'WS Calcs'!$L$3*('BMP Calcs'!O363/12))*Assignments!$E50*'BMP Calcs'!O170*2.72","v":{"$error":"#N/A"}},{"$f":"('WS Calcs'!$L$2*'WS Calcs'!$L$3*('BMP Calcs'!P363/12))*Assignments!$E50*'BMP Calcs'!P170*2.72","v":{"$error":"#N/A"}},{"$f":"('WS Calcs'!$L$2*'WS Calcs'!$L$3*('BMP Calcs'!Q363/12))*Assignments!$E50*'BMP Calcs'!Q170*2.72","v":{"$error":"#N/A"}},{"$f":"('WS Calcs'!$L$2*'WS Calcs'!$L$3*('BMP Calcs'!R363/12))*Assignments!$E50*'BMP Calcs'!R170*2.72","v":{"$error":"#N/A"}},{"$f":"('WS Calcs'!$L$2*'WS Calcs'!$L$3*('BMP Calcs'!S363/12))*Assignments!$E50*'BMP Calcs'!S170*2.72","v":{"$error":"#N/A"}},{"$f":"('WS Calcs'!$L$2*'WS Calcs'!$L$3*('BMP Calcs'!T363/12))*Assignments!$E50*'BMP Calcs'!T170*2.72","v":{"$error":"#N/A"}},{"$f":"('WS Calcs'!$L$2*'WS Calcs'!$L$3*('BMP Calcs'!U363/12))*Assignments!$E50*'BMP Calcs'!U170*2.72","v":{"$error":"#N/A"}},{"$f":"('WS Calcs'!$L$2*'WS Calcs'!$L$3*('BMP Calcs'!V363/12))*Assignments!$E50*'BMP Calcs'!V170*2.72","v":{"$error":"#N/A"}},{"$f":"('WS Calcs'!$L$2*'WS Calcs'!$L$3*('BMP Calcs'!W363/12))*Assignments!$E50*'BMP Calcs'!W170*2.72","v":{"$error":"#N/A"}},{"$f":"('WS Calcs'!$L$2*'WS Calcs'!$L$3*('BMP Calcs'!X363/12))*Assignments!$E50*'BMP Calcs'!X170*2.72","v":{"$error":"#N/A"}},{"$f":"('WS Calcs'!$L$2*'WS Calcs'!$L$3*('BMP Calcs'!Y363/12))*Assignments!$E50*'BMP Calcs'!Y170*2.72","v":{"$error":"#N/A"}},null,null,null,{"$f":"('WS Calcs'!$L$2*'WS Calcs'!$L$3*('BMP Calcs'!AC363/12))*Assignments!$E44*'BMP Calcs'!AC170*2.72","v":{"$error":"#N/A"}},{"$f":"('WS Calcs'!$L$2*'WS Calcs'!$L$3*('BMP Calcs'!AD363/12))*Assignments!$E44*'BMP Calcs'!AD170*2.72","v":{"$error":"#N/A"}}]
[null,"     ½-ac lots (New)",{"$f":"('WS Calcs'!$L$2*'WS Calcs'!$L$3*('BMP Calcs'!C364/12))*(MAX(Assignments!$E43,Assignments!$E51))*'BMP Calcs'!C171*2.72","v":{"$error":"#N/A"}},{"$f":"('WS Calcs'!$L$2*'WS Calcs'!$L$3*('BMP Calcs'!D364/12))*(MAX(Assignments!$E43,Assignments!$E51))*'BMP Calcs'!D171*2.72","v":{"$error":"#N/A"}},{"$f":"('WS Calcs'!$L$2*'WS Calcs'!$L$3*('BMP Calcs'!E364/12))*(MAX(Assignments!$E43,Assignments!$E51))*'BMP Calcs'!E171*2.72","v":{"$error":"#N/A"}},{"$f":"('WS Calcs'!$L$2*'WS Calcs'!$L$3*('BMP Calcs'!F364/12))*(MAX(Assignments!$E43,Assignments!$E51))*'BMP Calcs'!F171*2.72","v":{"$error":"#N/A"}},{"$f":"('WS Calcs'!$L$2*'WS Calcs'!$L$3*('BMP Calcs'!G364/12))*(MAX(Assignments!$E43,Assignments!$E51))*'BMP Calcs'!G171*2.72","v":{"$error":"#N/A"}},{"$f":"('WS Calcs'!$L$2*'WS Calcs'!$L$3*('BMP Calcs'!H364/12))*(MAX(Assignments!$E43,Assignments!$E51))*'BMP Calcs'!H171*2.72","v":{"$error":"#N/A"}},{"$f":"('WS Calcs'!$L$2*'WS Calcs'!$L$3*('BMP Calcs'!I364/12))*(MAX(Assignments!$E43,Assignments!$E51))*'BMP Calcs'!I171*2.72","v":{"$error":"#N/A"}},{"$f":"('WS Calcs'!$L$2*'WS Calcs'!$L$3*('BMP Calcs'!J364/12))*(MAX(Assignments!$E43,Assignments!$E51))*'BMP Calcs'!J171*2.72","v":{"$error":"#N/A"}},{"$f":"('WS Calcs'!$L$2*'WS Calcs'!$L$3*('BMP Calcs'!K364/12))*(MAX(Assignments!$E43,Assignments!$E51))*'BMP Calcs'!K171*2.72","v":{"$error":"#N/A"}},{"$f":"('WS Calcs'!$L$2*'WS Calcs'!$L$3*('BMP Calcs'!L364/12))*(MAX(Assignments!$E43,Assignments!$E51))*'BMP Calcs'!L171*2.72","v":{"$error":"#N/A"}},{"$f":"('WS Calcs'!$L$2*'WS Calcs'!$L$3*('BMP Calcs'!M364/12))*(MAX(Assignments!$E43,Assignments!$E51))*'BMP Calcs'!M171*2.72","v":{"$error":"#N/A"}},{"$f":"('WS Calcs'!$L$2*'WS Calcs'!$L$3*('BMP Calcs'!N364/12))*(MAX(Assignments!$E43,Assignments!$E51))*'BMP Calcs'!N171*2.72","v":{"$error":"#N/A"}},{"$f":"('WS Calcs'!$L$2*'WS Calcs'!$L$3*('BMP Calcs'!O364/12))*(MAX(Assignments!$E43,Assignments!$E51))*'BMP Calcs'!O171*2.72","v":{"$error":"#N/A"}},{"$f":"('WS Calcs'!$L$2*'WS Calcs'!$L$3*('BMP Calcs'!P364/12))*(MAX(Assignments!$E43,Assignments!$E51))*'BMP Calcs'!P171*2.72","v":{"$error":"#N/A"}},{"$f":"('WS Calcs'!$L$2*'WS Calcs'!$L$3*('BMP Calcs'!Q364/12))*(MAX(Assignments!$E43,Assignments!$E51))*'BMP Calcs'!Q171*2.72","v":{"$error":"#N/A"}},{"$f":"('WS Calcs'!$L$2*'WS Calcs'!$L$3*('BMP Calcs'!R364/12))*(MAX(Assignments!$E43,Assignments!$E51))*'BMP Calcs'!R171*2.72","v":{"$error":"#N/A"}},{"$f":"('WS Calcs'!$L$2*'WS Calcs'!$L$3*('BMP Calcs'!S364/12))*(MAX(Assignments!$E43,Assignments!$E51))*'BMP Calcs'!S171*2.72","v":{"$error":"#N/A"}},{"$f":"('WS Calcs'!$L$2*'WS Calcs'!$L$3*('BMP Calcs'!T364/12))*(MAX(Assignments!$E43,Assignments!$E51))*'BMP Calcs'!T171*2.72","v":{"$error":"#N/A"}},{"$f":"('WS Calcs'!$L$2*'WS Calcs'!$L$3*('BMP Calcs'!U364/12))*(MAX(Assignments!$E43,Assignments!$E51))*'BMP Calcs'!U171*2.72","v":{"$error":"#N/A"}},{"$f":"('WS Calcs'!$L$2*'WS Calcs'!$L$3*('BMP Calcs'!V364/12))*(MAX(Assignments!$E43,Assignments!$E51))*'BMP Calcs'!V171*2.72","v":{"$error":"#N/A"}},{"$f":"('WS Calcs'!$L$2*'WS Calcs'!$L$3*('BMP Calcs'!W364/12))*(MAX(Assignments!$E43,Assignments!$E51))*'BMP Calcs'!W171*2.72","v":{"$error":"#N/A"}},{"$f":"('WS Calcs'!$L$2*'WS Calcs'!$L$3*('BMP Calcs'!X364/12))*(MAX(Assignments!$E43,Assignments!$E51))*'BMP Calcs'!X171*2.72","v":{"$error":"#N/A"}},{"$f":"('WS Calcs'!$L$2*'WS Calcs'!$L$3*('BMP Calcs'!Y364/12))*(MAX(Assignments!$E43,Assignments!$E51))*'BMP Calcs'!Y171*2.72","v":{"$error":"#N/A"}},{"$f":"('WS Calcs'!$L$2*'WS Calcs'!$L$3*('BMP Calcs'!Z364/12))*(MAX(Assignments!$E43,Assignments!$E51))*'BMP Calcs'!Z171*2.72","v":{"$error":"#N/A"}},null,null,{"$f":"('WS Calcs'!$L$2*'WS Calcs'!$L$3*('BMP Calcs'!AC364/12))*(MAX(Assignments!$E43,Assignments!$E51))*'BMP Calcs'!AC171*2.72","v":{"$error":"#N/A"}},{"$f":"('WS Calcs'!$L$2*'WS Calcs'!$L$3*('BMP Calcs'!AD364/12))*(MAX(Assignments!$E43,Assignments!$E51))*'BMP Calcs'!AD171*2.72","v":{"$error":"#N/A"}}]
[null,"     ½-ac lots (Built after 1995)",{"$f":"('WS Calcs'!$L$2*'WS Calcs'!$L$3*('BMP Calcs'!C365/12))*Assignments!$E43*'BMP Calcs'!C172*2.72","v":{"$error":"#N/A"}},{"$f":"('WS Calcs'!$L$2*'WS Calcs'!$L$3*('BMP Calcs'!D365/12))*Assignments!$E43*'BMP Calcs'!D172*2.72","v":{"$error":"#N/A"}},{"$f":"('WS Calcs'!$L$2*'WS Calcs'!$L$3*('BMP Calcs'!E365/12))*Assignments!$E43*'BMP Calcs'!E172*2.72","v":{"$error":"#N/A"}},{"$f":"('WS Calcs'!$L$2*'WS Calcs'!$L$3*('BMP Calcs'!F365/12))*Assignments!$E43*'BMP Calcs'!F172*2.72","v":{"$error":"#N/A"}},{"$f":"('WS Calcs'!$L$2*'WS Calcs'!$L$3*('BMP Calcs'!G365/12))*Assignments!$E43*'BMP Calcs'!G172*2.72","v":{"$error":"#N/A"}},{"$f":"('WS Calcs'!$L$2*'WS Calcs'!$L$3*('BMP Calcs'!H365/12))*Assignments!$E43*'BMP Calcs'!H172*2.72","v":{"$error":"#N/A"}},{"$f":"('WS Calcs'!$L$2*'WS Calcs'!$L$3*('BMP Calcs'!I365/12))*Assignments!$E43*'BMP Calcs'!I172*2.72","v":{"$error":"#N/A"}},{"$f":"('WS Calcs'!$L$2*'WS Calcs'!$L$3*('BMP Calcs'!J365/12))*Assignments!$E43*'BMP Calcs'!J172*2.72","v":{"$error":"#N/A"}},{"$f":"('WS Calcs'!$L$2*'WS Calcs'!$L$3*('BMP Calcs'!K365/12))*Assignments!$E43*'BMP Calcs'!K172*2.72","v":{"$error":"#N/A"}},{"$f":"('WS Calcs'!$L$2*'WS Calcs'!$L$3*('BMP Calcs'!L365/12))*Assignments!$E43*'BMP Calcs'!L172*2.72","v":{"$error":"#N/A"}},{"$f":"('WS Calcs'!$L$2*'WS Calcs'!$L$3*('BMP Calcs'!M365/12))*Assignments!$E43*'BMP Calcs'!M172*2.72","v":{"$error":"#N/A"}},{"$f":"('WS Calcs'!$L$2*'WS Calcs'!$L$3*('BMP Calcs'!N365/12))*Assignments!$E43*'BMP Calcs'!N172*2.72","v":{"$error":"#N/A"}},{"$f":"('WS Calcs'!$L$2*'WS Calcs'!$L$3*('BMP Calcs'!O365/12))*Assignments!$E43*'BMP Calcs'!O172*2.72","v":{"$error":"#N/A"}},{"$f":"('WS Calcs'!$L$2*'WS Calcs'!$L$3*('BMP Calcs'!P365/12))*Assignments!$E43*'BMP Calcs'!P172*2.72","v":{"$error":"#N/A"}},{"$f":"('WS Calcs'!$L$2*'WS Calcs'!$L$3*('BMP Calcs'!Q365/12))*Assignments!$E43*'BMP Calcs'!Q172*2.72","v":{"$error":"#N/A"}},{"$f":"('WS Calcs'!$L$2*'WS Calcs'!$L$3*('BMP Calcs'!R365/12))*Assignments!$E43*'BMP Calcs'!R172*2.72","v":{"$error":"#N/A"}},{"$f":"('WS Calcs'!$L$2*'WS Calcs'!$L$3*('BMP Calcs'!S365/12))*Assignments!$E43*'BMP Calcs'!S172*2.72","v":{"$error":"#N/A"}},{"$f":"('WS Calcs'!$L$2*'WS Calcs'!$L$3*('BMP Calcs'!T365/12))*Assignments!$E43*'BMP Calcs'!T172*2.72","v":{"$error":"#N/A"}},{"$f":"('WS Calcs'!$L$2*'WS Calcs'!$L$3*('BMP Calcs'!U365/12))*Assignments!$E43*'BMP Calcs'!U172*2.72","v":{"$error":"#N/A"}},{"$f":"('WS Calcs'!$L$2*'WS Calcs'!$L$3*('BMP Calcs'!V365/12))*Assignments!$E43*'BMP Calcs'!V172*2.72","v":{"$error":"#N/A"}},{"$f":"('WS Calcs'!$L$2*'WS Calcs'!$L$3*('BMP Calcs'!W365/12))*Assignments!$E43*'BMP Calcs'!W172*2.72","v":{"$error":"#N/A"}},{"$f":"('WS Calcs'!$L$2*'WS Calcs'!$L$3*('BMP Calcs'!X365/12))*Assignments!$E43*'BMP Calcs'!X172*2.72","v":{"$error":"#N/A"}},{"$f":"('WS Calcs'!$L$2*'WS Calcs'!$L$3*('BMP Calcs'!Y365/12))*Assignments!$E43*'BMP Calcs'!Y172*2.72","v":{"$error":"#N/A"}},null,null,null,{"$f":"('WS Calcs'!$L$2*'WS Calcs'!$L$3*('BMP Calcs'!AC365/12))*Assignments!$E45*'BMP Calcs'!AC172*2.72","v":{"$error":"#N/A"}},{"$f":"('WS Calcs'!$L$2*'WS Calcs'!$L$3*('BMP Calcs'!AD365/12))*Assignments!$E45*'BMP Calcs'!AD172*2.72","v":{"$error":"#N/A"}}]
[null,"     ½-ac lots (Built before 1995)",{"$f":"('WS Calcs'!$L$2*'WS Calcs'!$L$3*('BMP Calcs'!C366/12))*Assignments!$E51*'BMP Calcs'!C173*2.72","v":{"$error":"#N/A"}},{"$f":"('WS Calcs'!$L$2*'WS Calcs'!$L$3*('BMP Calcs'!D366/12))*Assignments!$E51*'BMP Calcs'!D173*2.72","v":{"$error":"#N/A"}},{"$f":"('WS Calcs'!$L$2*'WS Calcs'!$L$3*('BMP Calcs'!E366/12))*Assignments!$E51*'BMP Calcs'!E173*2.72","v":{"$error":"#N/A"}},{"$f":"('WS Calcs'!$L$2*'WS Calcs'!$L$3*('BMP Calcs'!F366/12))*Assignments!$E51*'BMP Calcs'!F173*2.72","v":{"$error":"#N/A"}},{"$f":"('WS Calcs'!$L$2*'WS Calcs'!$L$3*('BMP Calcs'!G366/12))*Assignments!$E51*'BMP Calcs'!G173*2.72","v":{"$error":"#N/A"}},{"$f":"('WS Calcs'!$L$2*'WS Calcs'!$L$3*('BMP Calcs'!H366/12))*Assignments!$E51*'BMP Calcs'!H173*2.72","v":{"$error":"#N/A"}},{"$f":"('WS Calcs'!$L$2*'WS Calcs'!$L$3*('BMP Calcs'!I366/12))*Assignments!$E51*'BMP Calcs'!I173*2.72","v":{"$error":"#N/A"}},{"$f":"('WS Calcs'!$L$2*'WS Calcs'!$L$3*('BMP Calcs'!J366/12))*Assignments!$E51*'BMP Calcs'!J173*2.72","v":{"$error":"#N/A"}},{"$f":"('WS Calcs'!$L$2*'WS Calcs'!$L$3*('BMP Calcs'!K366/12))*Assignments!$E51*'BMP Calcs'!K173*2.72","v":{"$error":"#N/A"}},{"$f":"('WS Calcs'!$L$2*'WS Calcs'!$L$3*('BMP Calcs'!L366/12))*Assignments!$E51*'BMP Calcs'!L173*2.72","v":{"$error":"#N/A"}},{"$f":"('WS Calcs'!$L$2*'WS Calcs'!$L$3*('BMP Calcs'!M366/12))*Assignments!$E51*'BMP Calcs'!M173*2.72","v":{"$error":"#N/A"}},{"$f":"('WS Calcs'!$L$2*'WS Calcs'!$L$3*('BMP Calcs'!N366/12))*Assignments!$E51*'BMP Calcs'!N173*2.72","v":{"$error":"#N/A"}},{"$f":"('WS Calcs'!$L$2*'WS Calcs'!$L$3*('BMP Calcs'!O366/12))*Assignments!$E51*'BMP Calcs'!O173*2.72","v":{"$error":"#N/A"}},{"$f":"('WS Calcs'!$L$2*'WS Calcs'!$L$3*('BMP Calcs'!P366/12))*Assignments!$E51*'BMP Calcs'!P173*2.72","v":{"$error":"#N/A"}},{"$f":"('WS Calcs'!$L$2*'WS Calcs'!$L$3*('BMP Calcs'!Q366/12))*Assignments!$E51*'BMP Calcs'!Q173*2.72","v":{"$error":"#N/A"}},{"$f":"('WS Calcs'!$L$2*'WS Calcs'!$L$3*('BMP Calcs'!R366/12))*Assignments!$E51*'BMP Calcs'!R173*2.72","v":{"$error":"#N/A"}},{"$f":"('WS Calcs'!$L$2*'WS Calcs'!$L$3*('BMP Calcs'!S366/12))*Assignments!$E51*'BMP Calcs'!S173*2.72","v":{"$error":"#N/A"}},{"$f":"('WS Calcs'!$L$2*'WS Calcs'!$L$3*('BMP Calcs'!T366/12))*Assignments!$E51*'BMP Calcs'!T173*2.72","v":{"$error":"#N/A"}},{"$f":"('WS Calcs'!$L$2*'WS Calcs'!$L$3*('BMP Calcs'!U366/12))*Assignments!$E51*'BMP Calcs'!U173*2.72","v":{"$error":"#N/A"}},{"$f":"('WS Calcs'!$L$2*'WS Calcs'!$L$3*('BMP Calcs'!V366/12))*Assignments!$E51*'BMP Calcs'!V173*2.72","v":{"$error":"#N/A"}},{"$f":"('WS Calcs'!$L$2*'WS Calcs'!$L$3*('BMP Calcs'!W366/12))*Assignments!$E51*'BMP Calcs'!W173*2.72","v":{"$error":"#N/A"}},{"$f":"('WS Calcs'!$L$2*'WS Calcs'!$L$3*('BMP Calcs'!X366/12))*Assignments!$E51*'BMP Calcs'!X173*2.72","v":{"$error":"#N/A"}},{"$f":"('WS Calcs'!$L$2*'WS Calcs'!$L$3*('BMP Calcs'!Y366/12))*Assignments!$E51*'BMP Calcs'!Y173*2.72","v":{"$error":"#N/A"}},null,null,null,{"$f":"('WS Calcs'!$L$2*'WS Calcs'!$L$3*('BMP Calcs'!AC366/12))*Assignments!$E46*'BMP Calcs'!AC173*2.72","v":{"$error":"#N/A"}},{"$f":"('WS Calcs'!$L$2*'WS Calcs'!$L$3*('BMP Calcs'!AD366/12))*Assignments!$E46*'BMP Calcs'!AD173*2.72","v":{"$error":"#N/A"}}]
[null,"     ¼-ac lots (New)",{"$f":"('WS Calcs'!$L$2*'WS Calcs'!$L$3*('BMP Calcs'!C367/12))*(MAX(Assignments!$E44,Assignments!$E52))*'BMP Calcs'!C174*2.72","v":{"$error":"#N/A"}},{"$f":"('WS Calcs'!$L$2*'WS Calcs'!$L$3*('BMP Calcs'!D367/12))*(MAX(Assignments!$E44,Assignments!$E52))*'BMP Calcs'!D174*2.72","v":{"$error":"#N/A"}},{"$f":"('WS Calcs'!$L$2*'WS Calcs'!$L$3*('BMP Calcs'!E367/12))*(MAX(Assignments!$E44,Assignments!$E52))*'BMP Calcs'!E174*2.72","v":{"$error":"#N/A"}},{"$f":"('WS Calcs'!$L$2*'WS Calcs'!$L$3*('BMP Calcs'!F367/12))*(MAX(Assignments!$E44,Assignments!$E52))*'BMP Calcs'!F174*2.72","v":{"$error":"#N/A"}},{"$f":"('WS Calcs'!$L$2*'WS Calcs'!$L$3*('BMP Calcs'!G367/12))*(MAX(Assignments!$E44,Assignments!$E52))*'BMP Calcs'!G174*2.72","v":{"$error":"#N/A"}},{"$f":"('WS Calcs'!$L$2*'WS Calcs'!$L$3*('BMP Calcs'!H367/12))*(MAX(Assignments!$E44,Assignments!$E52))*'BMP Calcs'!H174*2.72","v":{"$error":"#N/A"}},{"$f":"('WS Calcs'!$L$2*'WS Calcs'!$L$3*('BMP Calcs'!I367/12))*(MAX(Assignments!$E44,Assignments!$E52))*'BMP Calcs'!I174*2.72","v":{"$error":"#N/A"}},{"$f":"('WS Calcs'!$L$2*'WS Calcs'!$L$3*('BMP Calcs'!J367/12))*(MAX(Assignments!$E44,Assignments!$E52))*'BMP Calcs'!J174*2.72","v":{"$error":"#N/A"}},{"$f":"('WS Calcs'!$L$2*'WS Calcs'!$L$3*('BMP Calcs'!K367/12))*(MAX(Assignments!$E44,Assignments!$E52))*'BMP Calcs'!K174*2.72","v":{"$error":"#N/A"}},{"$f":"('WS Calcs'!$L$2*'WS Calcs'!$L$3*('BMP Calcs'!L367/12))*(MAX(Assignments!$E44,Assignments!$E52))*'BMP Calcs'!L174*2.72","v":{"$error":"#N/A"}},{"$f":"('WS Calcs'!$L$2*'WS Calcs'!$L$3*('BMP Calcs'!M367/12))*(MAX(Assignments!$E44,Assignments!$E52))*'BMP Calcs'!M174*2.72","v":{"$error":"#N/A"}},{"$f":"('WS Calcs'!$L$2*'WS Calcs'!$L$3*('BMP Calcs'!N367/12))*(MAX(Assignments!$E44,Assignments!$E52))*'BMP Calcs'!N174*2.72","v":{"$error":"#N/A"}},{"$f":"('WS Calcs'!$L$2*'WS Calcs'!$L$3*('BMP Calcs'!O367/12))*(MAX(Assignments!$E44,Assignments!$E52))*'BMP Calcs'!O174*2.72","v":{"$error":"#N/A"}},{"$f":"('WS Calcs'!$L$2*'WS Calcs'!$L$3*('BMP Calcs'!P367/12))*(MAX(Assignments!$E44,Assignments!$E52))*'BMP Calcs'!P174*2.72","v":{"$error":"#N/A"}},{"$f":"('WS Calcs'!$L$2*'WS Calcs'!$L$3*('BMP Calcs'!Q367/12))*(MAX(Assignments!$E44,Assignments!$E52))*'BMP Calcs'!Q174*2.72","v":{"$error":"#N/A"}},{"$f":"('WS Calcs'!$L$2*'WS Calcs'!$L$3*('BMP Calcs'!R367/12))*(MAX(Assignments!$E44,Assignments!$E52))*'BMP Calcs'!R174*2.72","v":{"$error":"#N/A"}},{"$f":"('WS Calcs'!$L$2*'WS Calcs'!$L$3*('BMP Calcs'!S367/12))*(MAX(Assignments!$E44,Assignments!$E52))*'BMP Calcs'!S174*2.72","v":{"$error":"#N/A"}},{"$f":"('WS Calcs'!$L$2*'WS Calcs'!$L$3*('BMP Calcs'!T367/12))*(MAX(Assignments!$E44,Assignments!$E52))*'BMP Calcs'!T174*2.72","v":{"$error":"#N/A"}},{"$f":"('WS Calcs'!$L$2*'WS Calcs'!$L$3*('BMP Calcs'!U367/12))*(MAX(Assignments!$E44,Assignments!$E52))*'BMP Calcs'!U174*2.72","v":{"$error":"#N/A"}},{"$f":"('WS Calcs'!$L$2*'WS Calcs'!$L$3*('BMP Calcs'!V367/12))*(MAX(Assignments!$E44,Assignments!$E52))*'BMP Calcs'!V174*2.72","v":{"$error":"#N/A"}},{"$f":"('WS Calcs'!$L$2*'WS Calcs'!$L$3*('BMP Calcs'!W367/12))*(MAX(Assignments!$E44,Assignments!$E52))*'BMP Calcs'!W174*2.72","v":{"$error":"#N/A"}},{"$f":"('WS Calcs'!$L$2*'WS Calcs'!$L$3*('BMP Calcs'!X367/12))*(MAX(Assignments!$E44,Assignments!$E52))*'BMP Calcs'!X174*2.72","v":{"$error":"#N/A"}},{"$f":"('WS Calcs'!$L$2*'WS Calcs'!$L$3*('BMP Calcs'!Y367/12))*(MAX(Assignments!$E44,Assignments!$E52))*'BMP Calcs'!Y174*2.72","v":{"$error":"#N/A"}},{"$f":"('WS Calcs'!$L$2*'WS Calcs'!$L$3*('BMP Calcs'!Z367/12))*(MAX(Assignments!$E44,Assignments!$E52))*'BMP Calcs'!Z174*2.72","v":{"$error":"#N/A"}},null,null,{"$f":"('WS Calcs'!$L$2*'WS Calcs'!$L$3*('BMP Calcs'!AC367/12))*(MAX(Assignments!$E44,Assignments!$E52))*'BMP Calcs'!AC174*2.72","v":{"$error":"#N/A"}},{"$f":"('WS Calcs'!$L$2*'WS Calcs'!$L$3*('BMP Calcs'!AD367/12))*(MAX(Assignments!$E44,Assignments!$E52))*'BMP Calcs'!AD174*2.72","v":{"$error":"#N/A"}}]
[null,"     ¼-ac lots (Built after 1995)",{"$f":"('WS Calcs'!$L$2*'WS Calcs'!$L$3*('BMP Calcs'!C368/12))*Assignments!$E44*'BMP Calcs'!C175*2.72","v":{"$error":"#N/A"}},{"$f":"('WS Calcs'!$L$2*'WS Calcs'!$L$3*('BMP Calcs'!D368/12))*Assignments!$E44*'BMP Calcs'!D175*2.72","v":{"$error":"#N/A"}},{"$f":"('WS Calcs'!$L$2*'WS Calcs'!$L$3*('BMP Calcs'!E368/12))*Assignments!$E44*'BMP Calcs'!E175*2.72","v":{"$error":"#N/A"}},{"$f":"('WS Calcs'!$L$2*'WS Calcs'!$L$3*('BMP Calcs'!F368/12))*Assignments!$E44*'BMP Calcs'!F175*2.72","v":{"$error":"#N/A"}},{"$f":"('WS Calcs'!$L$2*'WS Calcs'!$L$3*('BMP Calcs'!G368/12))*Assignments!$E44*'BMP Calcs'!G175*2.72","v":{"$error":"#N/A"}},{"$f":"('WS Calcs'!$L$2*'WS Calcs'!$L$3*('BMP Calcs'!H368/12))*Assignments!$E44*'BMP Calcs'!H175*2.72","v":{"$error":"#N/A"}},{"$f":"('WS Calcs'!$L$2*'WS Calcs'!$L$3*('BMP Calcs'!I368/12))*Assignments!$E44*'BMP Calcs'!I175*2.72","v":{"$error":"#N/A"}},{"$f":"('WS Calcs'!$L$2*'WS Calcs'!$L$3*('BMP Calcs'!J368/12))*Assignments!$E44*'BMP Calcs'!J175*2.72","v":{"$error":"#N/A"}},{"$f":"('WS Calcs'!$L$2*'WS Calcs'!$L$3*('BMP Calcs'!K368/12))*Assignments!$E44*'BMP Calcs'!K175*2.72","v":{"$error":"#N/A"}},{"$f":"('WS Calcs'!$L$2*'WS Calcs'!$L$3*('BMP Calcs'!L368/12))*Assignments!$E44*'BMP Calcs'!L175*2.72","v":{"$error":"#N/A"}},{"$f":"('WS Calcs'!$L$2*'WS Calcs'!$L$3*('BMP Calcs'!M368/12))*Assignments!$E44*'BMP Calcs'!M175*2.72","v":{"$error":"#N/A"}},{"$f":"('WS Calcs'!$L$2*'WS Calcs'!$L$3*('BMP Calcs'!N368/12))*Assignments!$E44*'BMP Calcs'!N175*2.72","v":{"$error":"#N/A"}},{"$f":"('WS Calcs'!$L$2*'WS Calcs'!$L$3*('BMP Calcs'!O368/12))*Assignments!$E44*'BMP Calcs'!O175*2.72","v":{"$error":"#N/A"}},{"$f":"('WS Calcs'!$L$2*'WS Calcs'!$L$3*('BMP Calcs'!P368/12))*Assignments!$E44*'BMP Calcs'!P175*2.72","v":{"$error":"#N/A"}},{"$f":"('WS Calcs'!$L$2*'WS Calcs'!$L$3*('BMP Calcs'!Q368/12))*Assignments!$E44*'BMP Calcs'!Q175*2.72","v":{"$error":"#N/A"}},{"$f":"('WS Calcs'!$L$2*'WS Calcs'!$L$3*('BMP Calcs'!R368/12))*Assignments!$E44*'BMP Calcs'!R175*2.72","v":{"$error":"#N/A"}},{"$f":"('WS Calcs'!$L$2*'WS Calcs'!$L$3*('BMP Calcs'!S368/12))*Assignments!$E44*'BMP Calcs'!S175*2.72","v":{"$error":"#N/A"}},{"$f":"('WS Calcs'!$L$2*'WS Calcs'!$L$3*('BMP Calcs'!T368/12))*Assignments!$E44*'BMP Calcs'!T175*2.72","v":{"$error":"#N/A"}},{"$f":"('WS Calcs'!$L$2*'WS Calcs'!$L$3*('BMP Calcs'!U368/12))*Assignments!$E44*'BMP Calcs'!U175*2.72","v":{"$error":"#N/A"}},{"$f":"('WS Calcs'!$L$2*'WS Calcs'!$L$3*('BMP Calcs'!V368/12))*Assignments!$E44*'BMP Calcs'!V175*2.72","v":{"$error":"#N/A"}},{"$f":"('WS Calcs'!$L$2*'WS Calcs'!$L$3*('BMP Calcs'!W368/12))*Assignments!$E44*'BMP Calcs'!W175*2.72","v":{"$error":"#N/A"}},{"$f":"('WS Calcs'!$L$2*'WS Calcs'!$L$3*('BMP Calcs'!X368/12))*Assignments!$E44*'BMP Calcs'!X175*2.72","v":{"$error":"#N/A"}},{"$f":"('WS Calcs'!$L$2*'WS Calcs'!$L$3*('BMP Calcs'!Y368/12))*Assignments!$E44*'BMP Calcs'!Y175*2.72","v":{"$error":"#N/A"}},null,null,null,{"$f":"('WS Calcs'!$L$2*'WS Calcs'!$L$3*('BMP Calcs'!AC368/12))*Assignments!$E47*'BMP Calcs'!AC175*2.72","v":{"$error":"#N/A"}},{"$f":"('WS Calcs'!$L$2*'WS Calcs'!$L$3*('BMP Calcs'!AD368/12))*Assignments!$E47*'BMP Calcs'!AD175*2.72","v":{"$error":"#N/A"}}]
[null,"     ¼-ac lots (Built before 1995)",{"$f":"('WS Calcs'!$L$2*'WS Calcs'!$L$3*('BMP Calcs'!C369/12))*Assignments!$E52*'BMP Calcs'!C176*2.72","v":{"$error":"#N/A"}},{"$f":"('WS Calcs'!$L$2*'WS Calcs'!$L$3*('BMP Calcs'!D369/12))*Assignments!$E52*'BMP Calcs'!D176*2.72","v":{"$error":"#N/A"}},{"$f":"('WS Calcs'!$L$2*'WS Calcs'!$L$3*('BMP Calcs'!E369/12))*Assignments!$E52*'BMP Calcs'!E176*2.72","v":{"$error":"#N/A"}},{"$f":"('WS Calcs'!$L$2*'WS Calcs'!$L$3*('BMP Calcs'!F369/12))*Assignments!$E52*'BMP Calcs'!F176*2.72","v":{"$error":"#N/A"}},{"$f":"('WS Calcs'!$L$2*'WS Calcs'!$L$3*('BMP Calcs'!G369/12))*Assignments!$E52*'BMP Calcs'!G176*2.72","v":{"$error":"#N/A"}},{"$f":"('WS Calcs'!$L$2*'WS Calcs'!$L$3*('BMP Calcs'!H369/12))*Assignments!$E52*'BMP Calcs'!H176*2.72","v":{"$error":"#N/A"}},{"$f":"('WS Calcs'!$L$2*'WS Calcs'!$L$3*('BMP Calcs'!I369/12))*Assignments!$E52*'BMP Calcs'!I176*2.72","v":{"$error":"#N/A"}},{"$f":"('WS Calcs'!$L$2*'WS Calcs'!$L$3*('BMP Calcs'!J369/12))*Assignments!$E52*'BMP Calcs'!J176*2.72","v":{"$error":"#N/A"}},{"$f":"('WS Calcs'!$L$2*'WS Calcs'!$L$3*('BMP Calcs'!K369/12))*Assignments!$E52*'BMP Calcs'!K176*2.72","v":{"$error":"#N/A"}},{"$f":"('WS Calcs'!$L$2*'WS Calcs'!$L$3*('BMP Calcs'!L369/12))*Assignments!$E52*'BMP Calcs'!L176*2.72","v":{"$error":"#N/A"}},{"$f":"('WS Calcs'!$L$2*'WS Calcs'!$L$3*('BMP Calcs'!M369/12))*Assignments!$E52*'BMP Calcs'!M176*2.72","v":{"$error":"#N/A"}},{"$f":"('WS Calcs'!$L$2*'WS Calcs'!$L$3*('BMP Calcs'!N369/12))*Assignments!$E52*'BMP Calcs'!N176*2.72","v":{"$error":"#N/A"}},{"$f":"('WS Calcs'!$L$2*'WS Calcs'!$L$3*('BMP Calcs'!O369/12))*Assignments!$E52*'BMP Calcs'!O176*2.72","v":{"$error":"#N/A"}},{"$f":"('WS Calcs'!$L$2*'WS Calcs'!$L$3*('BMP Calcs'!P369/12))*Assignments!$E52*'BMP Calcs'!P176*2.72","v":{"$error":"#N/A"}},{"$f":"('WS Calcs'!$L$2*'WS Calcs'!$L$3*('BMP Calcs'!Q369/12))*Assignments!$E52*'BMP Calcs'!Q176*2.72","v":{"$error":"#N/A"}},{"$f":"('WS Calcs'!$L$2*'WS Calcs'!$L$3*('BMP Calcs'!R369/12))*Assignments!$E52*'BMP Calcs'!R176*2.72","v":{"$error":"#N/A"}},{"$f":"('WS Calcs'!$L$2*'WS Calcs'!$L$3*('BMP Calcs'!S369/12))*Assignments!$E52*'BMP Calcs'!S176*2.72","v":{"$error":"#N/A"}},{"$f":"('WS Calcs'!$L$2*'WS Calcs'!$L$3*('BMP Calcs'!T369/12))*Assignments!$E52*'BMP Calcs'!T176*2.72","v":{"$error":"#N/A"}},{"$f":"('WS Calcs'!$L$2*'WS Calcs'!$L$3*('BMP Calcs'!U369/12))*Assignments!$E52*'BMP Calcs'!U176*2.72","v":{"$error":"#N/A"}},{"$f":"('WS Calcs'!$L$2*'WS Calcs'!$L$3*('BMP Calcs'!V369/12))*Assignments!$E52*'BMP Calcs'!V176*2.72","v":{"$error":"#N/A"}},{"$f":"('WS Calcs'!$L$2*'WS Calcs'!$L$3*('BMP Calcs'!W369/12))*Assignments!$E52*'BMP Calcs'!W176*2.72","v":{"$error":"#N/A"}},{"$f":"('WS Calcs'!$L$2*'WS Calcs'!$L$3*('BMP Calcs'!X369/12))*Assignments!$E52*'BMP Calcs'!X176*2.72","v":{"$error":"#N/A"}},{"$f":"('WS Calcs'!$L$2*'WS Calcs'!$L$3*('BMP Calcs'!Y369/12))*Assignments!$E52*'BMP Calcs'!Y176*2.72","v":{"$error":"#N/A"}},null,null,null,{"$f":"('WS Calcs'!$L$2*'WS Calcs'!$L$3*('BMP Calcs'!AC369/12))*Assignments!$E49*'BMP Calcs'!AC176*2.72","v":{"$error":"#N/A"}},{"$f":"('WS Calcs'!$L$2*'WS Calcs'!$L$3*('BMP Calcs'!AD369/12))*Assignments!$E49*'BMP Calcs'!AD176*2.72","v":{"$error":"#N/A"}}]
[null,"     ⅛-ac lots (New)",{"$f":"('WS Calcs'!$L$2*'WS Calcs'!$L$3*('BMP Calcs'!C370/12))*(MAX(Assignments!$E45,Assignments!$E53))*'BMP Calcs'!C177*2.72","v":{"$error":"#N/A"}},{"$f":"('WS Calcs'!$L$2*'WS Calcs'!$L$3*('BMP Calcs'!D370/12))*(MAX(Assignments!$E45,Assignments!$E53))*'BMP Calcs'!D177*2.72","v":{"$error":"#N/A"}},{"$f":"('WS Calcs'!$L$2*'WS Calcs'!$L$3*('BMP Calcs'!E370/12))*(MAX(Assignments!$E45,Assignments!$E53))*'BMP Calcs'!E177*2.72","v":{"$error":"#N/A"}},{"$f":"('WS Calcs'!$L$2*'WS Calcs'!$L$3*('BMP Calcs'!F370/12))*(MAX(Assignments!$E45,Assignments!$E53))*'BMP Calcs'!F177*2.72","v":{"$error":"#N/A"}},{"$f":"('WS Calcs'!$L$2*'WS Calcs'!$L$3*('BMP Calcs'!G370/12))*(MAX(Assignments!$E45,Assignments!$E53))*'BMP Calcs'!G177*2.72","v":{"$error":"#N/A"}},{"$f":"('WS Calcs'!$L$2*'WS Calcs'!$L$3*('BMP Calcs'!H370/12))*(MAX(Assignments!$E45,Assignments!$E53))*'BMP Calcs'!H177*2.72","v":{"$error":"#N/A"}},{"$f":"('WS Calcs'!$L$2*'WS Calcs'!$L$3*('BMP Calcs'!I370/12))*(MAX(Assignments!$E45,Assignments!$E53))*'BMP Calcs'!I177*2.72","v":{"$error":"#N/A"}},{"$f":"('WS Calcs'!$L$2*'WS Calcs'!$L$3*('BMP Calcs'!J370/12))*(MAX(Assignments!$E45,Assignments!$E53))*'BMP Calcs'!J177*2.72","v":{"$error":"#N/A"}},{"$f":"('WS Calcs'!$L$2*'WS Calcs'!$L$3*('BMP Calcs'!K370/12))*(MAX(Assignments!$E45,Assignments!$E53))*'BMP Calcs'!K177*2.72","v":{"$error":"#N/A"}},{"$f":"('WS Calcs'!$L$2*'WS Calcs'!$L$3*('BMP Calcs'!L370/12))*(MAX(Assignments!$E45,Assignments!$E53))*'BMP Calcs'!L177*2.72","v":{"$error":"#N/A"}},{"$f":"('WS Calcs'!$L$2*'WS Calcs'!$L$3*('BMP Calcs'!M370/12))*(MAX(Assignments!$E45,Assignments!$E53))*'BMP Calcs'!M177*2.72","v":{"$error":"#N/A"}},{"$f":"('WS Calcs'!$L$2*'WS Calcs'!$L$3*('BMP Calcs'!N370/12))*(MAX(Assignments!$E45,Assignments!$E53))*'BMP Calcs'!N177*2.72","v":{"$error":"#N/A"}},{"$f":"('WS Calcs'!$L$2*'WS Calcs'!$L$3*('BMP Calcs'!O370/12))*(MAX(Assignments!$E45,Assignments!$E53))*'BMP Calcs'!O177*2.72","v":{"$error":"#N/A"}},{"$f":"('WS Calcs'!$L$2*'WS Calcs'!$L$3*('BMP Calcs'!P370/12))*(MAX(Assignments!$E45,Assignments!$E53))*'BMP Calcs'!P177*2.72","v":{"$error":"#N/A"}},{"$f":"('WS Calcs'!$L$2*'WS Calcs'!$L$3*('BMP Calcs'!Q370/12))*(MAX(Assignments!$E45,Assignments!$E53))*'BMP Calcs'!Q177*2.72","v":{"$error":"#N/A"}},{"$f":"('WS Calcs'!$L$2*'WS Calcs'!$L$3*('BMP Calcs'!R370/12))*(MAX(Assignments!$E45,Assignments!$E53))*'BMP Calcs'!R177*2.72","v":{"$error":"#N/A"}},{"$f":"('WS Calcs'!$L$2*'WS Calcs'!$L$3*('BMP Calcs'!S370/12))*(MAX(Assignments!$E45,Assignments!$E53))*'BMP Calcs'!S177*2.72","v":{"$error":"#N/A"}},{"$f":"('WS Calcs'!$L$2*'WS Calcs'!$L$3*('BMP Calcs'!T370/12))*(MAX(Assignments!$E45,Assignments!$E53))*'BMP Calcs'!T177*2.72","v":{"$error":"#N/A"}},{"$f":"('WS Calcs'!$L$2*'WS Calcs'!$L$3*('BMP Calcs'!U370/12))*(MAX(Assignments!$E45,Assignments!$E53))*'BMP Calcs'!U177*2.72","v":{"$error":"#N/A"}},{"$f":"('WS Calcs'!$L$2*'WS Calcs'!$L$3*('BMP Calcs'!V370/12))*(MAX(Assignments!$E45,Assignments!$E53))*'BMP Calcs'!V177*2.72","v":{"$error":"#N/A"}},{"$f":"('WS Calcs'!$L$2*'WS Calcs'!$L$3*('BMP Calcs'!W370/12))*(MAX(Assignments!$E45,Assignments!$E53))*'BMP Calcs'!W177*2.72","v":{"$error":"#N/A"}},{"$f":"('WS Calcs'!$L$2*'WS Calcs'!$L$3*('BMP Calcs'!X370/12))*(MAX(Assignments!$E45,Assignments!$E53))*'BMP Calcs'!X177*2.72","v":{"$error":"#N/A"}},{"$f":"('WS Calcs'!$L$2*'WS Calcs'!$L$3*('BMP Calcs'!Y370/12))*(MAX(Assignments!$E45,Assignments!$E53))*'BMP Calcs'!Y177*2.72","v":{"$error":"#N/A"}},{"$f":"('WS Calcs'!$L$2*'WS Calcs'!$L$3*('BMP Calcs'!Z370/12))*(MAX(Assignments!$E45,Assignments!$E53))*'BMP Calcs'!Z177*2.72","v":{"$error":"#N/A"}},null,null,{"$f":"('WS Calcs'!$L$2*'WS Calcs'!$L$3*('BMP Calcs'!AC370/12))*(MAX(Assignments!$E45,Assignments!$E53))*'BMP Calcs'!AC177*2.72","v":{"$error":"#N/A"}},{"$f":"('WS Calcs'!$L$2*'WS Calcs'!$L$3*('BMP Calcs'!AD370/12))*(MAX(Assignments!$E45,Assignments!$E53))*'BMP Calcs'!AD177*2.72","v":{"$error":"#N/A"}}]
[null,"     ⅛-ac lots (Built after 1995)",{"$f":"('WS Calcs'!$L$2*'WS Calcs'!$L$3*('BMP Calcs'!C371/12))*Assignments!$E45*'BMP Calcs'!C178*2.72","v":{"$error":"#N/A"}},{"$f":"('WS Calcs'!$L$2*'WS Calcs'!$L$3*('BMP Calcs'!D371/12))*Assignments!$E45*'BMP Calcs'!D178*2.72","v":{"$error":"#N/A"}},{"$f":"('WS Calcs'!$L$2*'WS Calcs'!$L$3*('BMP Calcs'!E371/12))*Assignments!$E45*'BMP Calcs'!E178*2.72","v":{"$error":"#N/A"}},{"$f":"('WS Calcs'!$L$2*'WS Calcs'!$L$3*('BMP Calcs'!F371/12))*Assignments!$E45*'BMP Calcs'!F178*2.72","v":{"$error":"#N/A"}},{"$f":"('WS Calcs'!$L$2*'WS Calcs'!$L$3*('BMP Calcs'!G371/12))*Assignments!$E45*'BMP Calcs'!G178*2.72","v":{"$error":"#N/A"}},{"$f":"('WS Calcs'!$L$2*'WS Calcs'!$L$3*('BMP Calcs'!H371/12))*Assignments!$E45*'BMP Calcs'!H178*2.72","v":{"$error":"#N/A"}},{"$f":"('WS Calcs'!$L$2*'WS Calcs'!$L$3*('BMP Calcs'!I371/12))*Assignments!$E45*'BMP Calcs'!I178*2.72","v":{"$error":"#N/A"}},{"$f":"('WS Calcs'!$L$2*'WS Calcs'!$L$3*('BMP Calcs'!J371/12))*Assignments!$E45*'BMP Calcs'!J178*2.72","v":{"$error":"#N/A"}},{"$f":"('WS Calcs'!$L$2*'WS Calcs'!$L$3*('BMP Calcs'!K371/12))*Assignments!$E45*'BMP Calcs'!K178*2.72","v":{"$error":"#N/A"}},{"$f":"('WS Calcs'!$L$2*'WS Calcs'!$L$3*('BMP Calcs'!L371/12))*Assignments!$E45*'BMP Calcs'!L178*2.72","v":{"$error":"#N/A"}},{"$f":"('WS Calcs'!$L$2*'WS Calcs'!$L$3*('BMP Calcs'!M371/12))*Assignments!$E45*'BMP Calcs'!M178*2.72","v":{"$error":"#N/A"}},{"$f":"('WS Calcs'!$L$2*'WS Calcs'!$L$3*('BMP Calcs'!N371/12))*Assignments!$E45*'BMP Calcs'!N178*2.72","v":{"$error":"#N/A"}},{"$f":"('WS Calcs'!$L$2*'WS Calcs'!$L$3*('BMP Calcs'!O371/12))*Assignments!$E45*'BMP Calcs'!O178*2.72","v":{"$error":"#N/A"}},{"$f":"('WS Calcs'!$L$2*'WS Calcs'!$L$3*('BMP Calcs'!P371/12))*Assignments!$E45*'BMP Calcs'!P178*2.72","v":{"$error":"#N/A"}},{"$f":"('WS Calcs'!$L$2*'WS Calcs'!$L$3*('BMP Calcs'!Q371/12))*Assignments!$E45*'BMP Calcs'!Q178*2.72","v":{"$error":"#N/A"}},{"$f":"('WS Calcs'!$L$2*'WS Calcs'!$L$3*('BMP Calcs'!R371/12))*Assignments!$E45*'BMP Calcs'!R178*2.72","v":{"$error":"#N/A"}},{"$f":"('WS Calcs'!$L$2*'WS Calcs'!$L$3*('BMP Calcs'!S371/12))*Assignments!$E45*'BMP Calcs'!S178*2.72","v":{"$error":"#N/A"}},{"$f":"('WS Calcs'!$L$2*'WS Calcs'!$L$3*('BMP Calcs'!T371/12))*Assignments!$E45*'BMP Calcs'!T178*2.72","v":{"$error":"#N/A"}},{"$f":"('WS Calcs'!$L$2*'WS Calcs'!$L$3*('BMP Calcs'!U371/12))*Assignments!$E45*'BMP Calcs'!U178*2.72","v":{"$error":"#N/A"}},{"$f":"('WS Calcs'!$L$2*'WS Calcs'!$L$3*('BMP Calcs'!V371/12))*Assignments!$E45*'BMP Calcs'!V178*2.72","v":{"$error":"#N/A"}},{"$f":"('WS Calcs'!$L$2*'WS Calcs'!$L$3*('BMP Calcs'!W371/12))*Assignments!$E45*'BMP Calcs'!W178*2.72","v":{"$error":"#N/A"}},{"$f":"('WS Calcs'!$L$2*'WS Calcs'!$L$3*('BMP Calcs'!X371/12))*Assignments!$E45*'BMP Calcs'!X178*2.72","v":{"$error":"#N/A"}},{"$f":"('WS Calcs'!$L$2*'WS Calcs'!$L$3*('BMP Calcs'!Y371/12))*Assignments!$E45*'BMP Calcs'!Y178*2.72","v":{"$error":"#N/A"}},null,null,null,{"$f":"('WS Calcs'!$L$2*'WS Calcs'!$L$3*('BMP Calcs'!AC371/12))*Assignments!$E50*'BMP Calcs'!AC178*2.72","v":{"$error":"#N/A"}},{"$f":"('WS Calcs'!$L$2*'WS Calcs'!$L$3*('BMP Calcs'!AD371/12))*Assignments!$E50*'BMP Calcs'!AD178*2.72","v":{"$error":"#N/A"}}]
[null,"     ⅛-ac lots (Built before 1995)",{"$f":"('WS Calcs'!$L$2*'WS Calcs'!$L$3*('BMP Calcs'!C372/12))*Assignments!$E53*'BMP Calcs'!C179*2.72","v":{"$error":"#N/A"}},{"$f":"('WS Calcs'!$L$2*'WS Calcs'!$L$3*('BMP Calcs'!D372/12))*Assignments!$E53*'BMP Calcs'!D179*2.72","v":{"$error":"#N/A"}},{"$f":"('WS Calcs'!$L$2*'WS Calcs'!$L$3*('BMP Calcs'!E372/12))*Assignments!$E53*'BMP Calcs'!E179*2.72","v":{"$error":"#N/A"}},{"$f":"('WS Calcs'!$L$2*'WS Calcs'!$L$3*('BMP Calcs'!F372/12))*Assignments!$E53*'BMP Calcs'!F179*2.72","v":{"$error":"#N/A"}},{"$f":"('WS Calcs'!$L$2*'WS Calcs'!$L$3*('BMP Calcs'!G372/12))*Assignments!$E53*'BMP Calcs'!G179*2.72","v":{"$error":"#N/A"}},{"$f":"('WS Calcs'!$L$2*'WS Calcs'!$L$3*('BMP Calcs'!H372/12))*Assignments!$E53*'BMP Calcs'!H179*2.72","v":{"$error":"#N/A"}},{"$f":"('WS Calcs'!$L$2*'WS Calcs'!$L$3*('BMP Calcs'!I372/12))*Assignments!$E53*'BMP Calcs'!I179*2.72","v":{"$error":"#N/A"}},{"$f":"('WS Calcs'!$L$2*'WS Calcs'!$L$3*('BMP Calcs'!J372/12))*Assignments!$E53*'BMP Calcs'!J179*2.72","v":{"$error":"#N/A"}},{"$f":"('WS Calcs'!$L$2*'WS Calcs'!$L$3*('BMP Calcs'!K372/12))*Assignments!$E53*'BMP Calcs'!K179*2.72","v":{"$error":"#N/A"}},{"$f":"('WS Calcs'!$L$2*'WS Calcs'!$L$3*('BMP Calcs'!L372/12))*Assignments!$E53*'BMP Calcs'!L179*2.72","v":{"$error":"#N/A"}},{"$f":"('WS Calcs'!$L$2*'WS Calcs'!$L$3*('BMP Calcs'!M372/12))*Assignments!$E53*'BMP Calcs'!M179*2.72","v":{"$error":"#N/A"}},{"$f":"('WS Calcs'!$L$2*'WS Calcs'!$L$3*('BMP Calcs'!N372/12))*Assignments!$E53*'BMP Calcs'!N179*2.72","v":{"$error":"#N/A"}},{"$f":"('WS Calcs'!$L$2*'WS Calcs'!$L$3*('BMP Calcs'!O372/12))*Assignments!$E53*'BMP Calcs'!O179*2.72","v":{"$error":"#N/A"}},{"$f":"('WS Calcs'!$L$2*'WS Calcs'!$L$3*('BMP Calcs'!P372/12))*Assignments!$E53*'BMP Calcs'!P179*2.72","v":{"$error":"#N/A"}},{"$f":"('WS Calcs'!$L$2*'WS Calcs'!$L$3*('BMP Calcs'!Q372/12))*Assignments!$E53*'BMP Calcs'!Q179*2.72","v":{"$error":"#N/A"}},{"$f":"('WS Calcs'!$L$2*'WS Calcs'!$L$3*('BMP Calcs'!R372/12))*Assignments!$E53*'BMP Calcs'!R179*2.72","v":{"$error":"#N/A"}},{"$f":"('WS Calcs'!$L$2*'WS Calcs'!$L$3*('BMP Calcs'!S372/12))*Assignments!$E53*'BMP Calcs'!S179*2.72","v":{"$error":"#N/A"}},{"$f":"('WS Calcs'!$L$2*'WS Calcs'!$L$3*('BMP Calcs'!T372/12))*Assignments!$E53*'BMP Calcs'!T179*2.72","v":{"$error":"#N/A"}},{"$f":"('WS Calcs'!$L$2*'WS Calcs'!$L$3*('BMP Calcs'!U372/12))*Assignments!$E53*'BMP Calcs'!U179*2.72","v":{"$error":"#N/A"}},{"$f":"('WS Calcs'!$L$2*'WS Calcs'!$L$3*('BMP Calcs'!V372/12))*Assignments!$E53*'BMP Calcs'!V179*2.72","v":{"$error":"#N/A"}},{"$f":"('WS Calcs'!$L$2*'WS Calcs'!$L$3*('BMP Calcs'!W372/12))*Assignments!$E53*'BMP Calcs'!W179*2.72","v":{"$error":"#N/A"}},{"$f":"('WS Calcs'!$L$2*'WS Calcs'!$L$3*('BMP Calcs'!X372/12))*Assignments!$E53*'BMP Calcs'!X179*2.72","v":{"$error":"#N/A"}},{"$f":"('WS Calcs'!$L$2*'WS Calcs'!$L$3*('BMP Calcs'!Y372/12))*Assignments!$E53*'BMP Calcs'!Y179*2.72","v":{"$error":"#N/A"}},null,null,null,{"$f":"('WS Calcs'!$L$2*'WS Calcs'!$L$3*('BMP Calcs'!AC372/12))*Assignments!$E51*'BMP Calcs'!AC179*2.72","v":{"$error":"#N/A"}},{"$f":"('WS Calcs'!$L$2*'WS Calcs'!$L$3*('BMP Calcs'!AD372/12))*Assignments!$E51*'BMP Calcs'!AD179*2.72","v":{"$error":"#N/A"}}]
[null,"     Townhomes (New)",{"$f":"('WS Calcs'!$L$2*'WS Calcs'!$L$3*('BMP Calcs'!C373/12))*(MAX(Assignments!$E46,Assignments!$E54))*'BMP Calcs'!C180*2.72","v":{"$error":"#N/A"}},{"$f":"('WS Calcs'!$L$2*'WS Calcs'!$L$3*('BMP Calcs'!D373/12))*(MAX(Assignments!$E46,Assignments!$E54))*'BMP Calcs'!D180*2.72","v":{"$error":"#N/A"}},{"$f":"('WS Calcs'!$L$2*'WS Calcs'!$L$3*('BMP Calcs'!E373/12))*(MAX(Assignments!$E46,Assignments!$E54))*'BMP Calcs'!E180*2.72","v":{"$error":"#N/A"}},{"$f":"('WS Calcs'!$L$2*'WS Calcs'!$L$3*('BMP Calcs'!F373/12))*(MAX(Assignments!$E46,Assignments!$E54))*'BMP Calcs'!F180*2.72","v":{"$error":"#N/A"}},{"$f":"('WS Calcs'!$L$2*'WS Calcs'!$L$3*('BMP Calcs'!G373/12))*(MAX(Assignments!$E46,Assignments!$E54))*'BMP Calcs'!G180*2.72","v":{"$error":"#N/A"}},{"$f":"('WS Calcs'!$L$2*'WS Calcs'!$L$3*('BMP Calcs'!H373/12))*(MAX(Assignments!$E46,Assignments!$E54))*'BMP Calcs'!H180*2.72","v":{"$error":"#N/A"}},{"$f":"('WS Calcs'!$L$2*'WS Calcs'!$L$3*('BMP Calcs'!I373/12))*(MAX(Assignments!$E46,Assignments!$E54))*'BMP Calcs'!I180*2.72","v":{"$error":"#N/A"}},{"$f":"('WS Calcs'!$L$2*'WS Calcs'!$L$3*('BMP Calcs'!J373/12))*(MAX(Assignments!$E46,Assignments!$E54))*'BMP Calcs'!J180*2.72","v":{"$error":"#N/A"}},{"$f":"('WS Calcs'!$L$2*'WS Calcs'!$L$3*('BMP Calcs'!K373/12))*(MAX(Assignments!$E46,Assignments!$E54))*'BMP Calcs'!K180*2.72","v":{"$error":"#N/A"}},{"$f":"('WS Calcs'!$L$2*'WS Calcs'!$L$3*('BMP Calcs'!L373/12))*(MAX(Assignments!$E46,Assignments!$E54))*'BMP Calcs'!L180*2.72","v":{"$error":"#N/A"}},{"$f":"('WS Calcs'!$L$2*'WS Calcs'!$L$3*('BMP Calcs'!M373/12))*(MAX(Assignments!$E46,Assignments!$E54))*'BMP Calcs'!M180*2.72","v":{"$error":"#N/A"}},{"$f":"('WS Calcs'!$L$2*'WS Calcs'!$L$3*('BMP Calcs'!N373/12))*(MAX(Assignments!$E46,Assignments!$E54))*'BMP Calcs'!N180*2.72","v":{"$error":"#N/A"}},{"$f":"('WS Calcs'!$L$2*'WS Calcs'!$L$3*('BMP Calcs'!O373/12))*(MAX(Assignments!$E46,Assignments!$E54))*'BMP Calcs'!O180*2.72","v":{"$error":"#N/A"}},{"$f":"('WS Calcs'!$L$2*'WS Calcs'!$L$3*('BMP Calcs'!P373/12))*(MAX(Assignments!$E46,Assignments!$E54))*'BMP Calcs'!P180*2.72","v":{"$error":"#N/A"}},{"$f":"('WS Calcs'!$L$2*'WS Calcs'!$L$3*('BMP Calcs'!Q373/12))*(MAX(Assignments!$E46,Assignments!$E54))*'BMP Calcs'!Q180*2.72","v":{"$error":"#N/A"}},{"$f":"('WS Calcs'!$L$2*'WS Calcs'!$L$3*('BMP Calcs'!R373/12))*(MAX(Assignments!$E46,Assignments!$E54))*'BMP Calcs'!R180*2.72","v":{"$error":"#N/A"}},{"$f":"('WS Calcs'!$L$2*'WS Calcs'!$L$3*('BMP Calcs'!S373/12))*(MAX(Assignments!$E46,Assignments!$E54))*'BMP Calcs'!S180*2.72","v":{"$error":"#N/A"}},{"$f":"('WS Calcs'!$L$2*'WS Calcs'!$L$3*('BMP Calcs'!T373/12))*(MAX(Assignments!$E46,Assignments!$E54))*'BMP Calcs'!T180*2.72","v":{"$error":"#N/A"}},{"$f":"('WS Calcs'!$L$2*'WS Calcs'!$L$3*('BMP Calcs'!U373/12))*(MAX(Assignments!$E46,Assignments!$E54))*'BMP Calcs'!U180*2.72","v":{"$error":"#N/A"}},{"$f":"('WS Calcs'!$L$2*'WS Calcs'!$L$3*('BMP Calcs'!V373/12))*(MAX(Assignments!$E46,Assignments!$E54))*'BMP Calcs'!V180*2.72","v":{"$error":"#N/A"}},{"$f":"('WS Calcs'!$L$2*'WS Calcs'!$L$3*('BMP Calcs'!W373/12))*(MAX(Assignments!$E46,Assignments!$E54))*'BMP Calcs'!W180*2.72","v":{"$error":"#N/A"}},{"$f":"('WS Calcs'!$L$2*'WS Calcs'!$L$3*('BMP Calcs'!X373/12))*(MAX(Assignments!$E46,Assignments!$E54))*'BMP Calcs'!X180*2.72","v":{"$error":"#N/A"}},{"$f":"('WS Calcs'!$L$2*'WS Calcs'!$L$3*('BMP Calcs'!Y373/12))*(MAX(Assignments!$E46,Assignments!$E54))*'BMP Calcs'!Y180*2.72","v":{"$error":"#N/A"}},{"$f":"('WS Calcs'!$L$2*'WS Calcs'!$L$3*('BMP Calcs'!Z373/12))*(MAX(Assignments!$E46,Assignments!$E54))*'BMP Calcs'!Z180*2.72","v":{"$error":"#N/A"}},null,null,{"$f":"('WS Calcs'!$L$2*'WS Calcs'!$L$3*('BMP Calcs'!AC373/12))*(MAX(Assignments!$E46,Assignments!$E54))*'BMP Calcs'!AC180*2.72","v":{"$error":"#N/A"}},{"$f":"('WS Calcs'!$L$2*'WS Calcs'!$L$3*('BMP Calcs'!AD373/12))*(MAX(Assignments!$E46,Assignments!$E54))*'BMP Calcs'!AD180*2.72","v":{"$error":"#N/A"}}]
[null,"     Townhomes (Built after 1995)",{"$f":"('WS Calcs'!$L$2*'WS Calcs'!$L$3*('BMP Calcs'!C374/12))*Assignments!$E46*'BMP Calcs'!C181*2.72","v":{"$error":"#N/A"}},{"$f":"('WS Calcs'!$L$2*'WS Calcs'!$L$3*('BMP Calcs'!D374/12))*Assignments!$E46*'BMP Calcs'!D181*2.72","v":{"$error":"#N/A"}},{"$f":"('WS Calcs'!$L$2*'WS Calcs'!$L$3*('BMP Calcs'!E374/12))*Assignments!$E46*'BMP Calcs'!E181*2.72","v":{"$error":"#N/A"}},{"$f":"('WS Calcs'!$L$2*'WS Calcs'!$L$3*('BMP Calcs'!F374/12))*Assignments!$E46*'BMP Calcs'!F181*2.72","v":{"$error":"#N/A"}},{"$f":"('WS Calcs'!$L$2*'WS Calcs'!$L$3*('BMP Calcs'!G374/12))*Assignments!$E46*'BMP Calcs'!G181*2.72","v":{"$error":"#N/A"}},{"$f":"('WS Calcs'!$L$2*'WS Calcs'!$L$3*('BMP Calcs'!H374/12))*Assignments!$E46*'BMP Calcs'!H181*2.72","v":{"$error":"#N/A"}},{"$f":"('WS Calcs'!$L$2*'WS Calcs'!$L$3*('BMP Calcs'!I374/12))*Assignments!$E46*'BMP Calcs'!I181*2.72","v":{"$error":"#N/A"}},{"$f":"('WS Calcs'!$L$2*'WS Calcs'!$L$3*('BMP Calcs'!J374/12))*Assignments!$E46*'BMP Calcs'!J181*2.72","v":{"$error":"#N/A"}},{"$f":"('WS Calcs'!$L$2*'WS Calcs'!$L$3*('BMP Calcs'!K374/12))*Assignments!$E46*'BMP Calcs'!K181*2.72","v":{"$error":"#N/A"}},{"$f":"('WS Calcs'!$L$2*'WS Calcs'!$L$3*('BMP Calcs'!L374/12))*Assignments!$E46*'BMP Calcs'!L181*2.72","v":{"$error":"#N/A"}},{"$f":"('WS Calcs'!$L$2*'WS Calcs'!$L$3*('BMP Calcs'!M374/12))*Assignments!$E46*'BMP Calcs'!M181*2.72","v":{"$error":"#N/A"}},{"$f":"('WS Calcs'!$L$2*'WS Calcs'!$L$3*('BMP Calcs'!N374/12))*Assignments!$E46*'BMP Calcs'!N181*2.72","v":{"$error":"#N/A"}},{"$f":"('WS Calcs'!$L$2*'WS Calcs'!$L$3*('BMP Calcs'!O374/12))*Assignments!$E46*'BMP Calcs'!O181*2.72","v":{"$error":"#N/A"}},{"$f":"('WS Calcs'!$L$2*'WS Calcs'!$L$3*('BMP Calcs'!P374/12))*Assignments!$E46*'BMP Calcs'!P181*2.72","v":{"$error":"#N/A"}},{"$f":"('WS Calcs'!$L$2*'WS Calcs'!$L$3*('BMP Calcs'!Q374/12))*Assignments!$E46*'BMP Calcs'!Q181*2.72","v":{"$error":"#N/A"}},{"$f":"('WS Calcs'!$L$2*'WS Calcs'!$L$3*('BMP Calcs'!R374/12))*Assignments!$E46*'BMP Calcs'!R181*2.72","v":{"$error":"#N/A"}},{"$f":"('WS Calcs'!$L$2*'WS Calcs'!$L$3*('BMP Calcs'!S374/12))*Assignments!$E46*'BMP Calcs'!S181*2.72","v":{"$error":"#N/A"}},{"$f":"('WS Calcs'!$L$2*'WS Calcs'!$L$3*('BMP Calcs'!T374/12))*Assignments!$E46*'BMP Calcs'!T181*2.72","v":{"$error":"#N/A"}},{"$f":"('WS Calcs'!$L$2*'WS Calcs'!$L$3*('BMP Calcs'!U374/12))*Assignments!$E46*'BMP Calcs'!U181*2.72","v":{"$error":"#N/A"}},{"$f":"('WS Calcs'!$L$2*'WS Calcs'!$L$3*('BMP Calcs'!V374/12))*Assignments!$E46*'BMP Calcs'!V181*2.72","v":{"$error":"#N/A"}},{"$f":"('WS Calcs'!$L$2*'WS Calcs'!$L$3*('BMP Calcs'!W374/12))*Assignments!$E46*'BMP Calcs'!W181*2.72","v":{"$error":"#N/A"}},{"$f":"('WS Calcs'!$L$2*'WS Calcs'!$L$3*('BMP Calcs'!X374/12))*Assignments!$E46*'BMP Calcs'!X181*2.72","v":{"$error":"#N/A"}},{"$f":"('WS Calcs'!$L$2*'WS Calcs'!$L$3*('BMP Calcs'!Y374/12))*Assignments!$E46*'BMP Calcs'!Y181*2.72","v":{"$error":"#N/A"}},null,null,null,{"$f":"('WS Calcs'!$L$2*'WS Calcs'!$L$3*('BMP Calcs'!AC374/12))*Assignments!$E52*'BMP Calcs'!AC181*2.72","v":{"$error":"#N/A"}},{"$f":"('WS Calcs'!$L$2*'WS Calcs'!$L$3*('BMP Calcs'!AD374/12))*Assignments!$E52*'BMP Calcs'!AD181*2.72","v":{"$error":"#N/A"}}]
[null,"     Townhomes (Built before 1995)",{"$f":"('WS Calcs'!$L$2*'WS Calcs'!$L$3*('BMP Calcs'!C375/12))*Assignments!$E54*'BMP Calcs'!C182*2.72","v":{"$error":"#N/A"}},{"$f":"('WS Calcs'!$L$2*'WS Calcs'!$L$3*('BMP Calcs'!D375/12))*Assignments!$E54*'BMP Calcs'!D182*2.72","v":{"$error":"#N/A"}},{"$f":"('WS Calcs'!$L$2*'WS Calcs'!$L$3*('BMP Calcs'!E375/12))*Assignments!$E54*'BMP Calcs'!E182*2.72","v":{"$error":"#N/A"}},{"$f":"('WS Calcs'!$L$2*'WS Calcs'!$L$3*('BMP Calcs'!F375/12))*Assignments!$E54*'BMP Calcs'!F182*2.72","v":{"$error":"#N/A"}},{"$f":"('WS Calcs'!$L$2*'WS Calcs'!$L$3*('BMP Calcs'!G375/12))*Assignments!$E54*'BMP Calcs'!G182*2.72","v":{"$error":"#N/A"}},{"$f":"('WS Calcs'!$L$2*'WS Calcs'!$L$3*('BMP Calcs'!H375/12))*Assignments!$E54*'BMP Calcs'!H182*2.72","v":{"$error":"#N/A"}},{"$f":"('WS Calcs'!$L$2*'WS Calcs'!$L$3*('BMP Calcs'!I375/12))*Assignments!$E54*'BMP Calcs'!I182*2.72","v":{"$error":"#N/A"}},{"$f":"('WS Calcs'!$L$2*'WS Calcs'!$L$3*('BMP Calcs'!J375/12))*Assignments!$E54*'BMP Calcs'!J182*2.72","v":{"$error":"#N/A"}},{"$f":"('WS Calcs'!$L$2*'WS Calcs'!$L$3*('BMP Calcs'!K375/12))*Assignments!$E54*'BMP Calcs'!K182*2.72","v":{"$error":"#N/A"}},{"$f":"('WS Calcs'!$L$2*'WS Calcs'!$L$3*('BMP Calcs'!L375/12))*Assignments!$E54*'BMP Calcs'!L182*2.72","v":{"$error":"#N/A"}},{"$f":"('WS Calcs'!$L$2*'WS Calcs'!$L$3*('BMP Calcs'!M375/12))*Assignments!$E54*'BMP Calcs'!M182*2.72","v":{"$error":"#N/A"}},{"$f":"('WS Calcs'!$L$2*'WS Calcs'!$L$3*('BMP Calcs'!N375/12))*Assignments!$E54*'BMP Calcs'!N182*2.72","v":{"$error":"#N/A"}},{"$f":"('WS Calcs'!$L$2*'WS Calcs'!$L$3*('BMP Calcs'!O375/12))*Assignments!$E54*'BMP Calcs'!O182*2.72","v":{"$error":"#N/A"}},{"$f":"('WS Calcs'!$L$2*'WS Calcs'!$L$3*('BMP Calcs'!P375/12))*Assignments!$E54*'BMP Calcs'!P182*2.72","v":{"$error":"#N/A"}},{"$f":"('WS Calcs'!$L$2*'WS Calcs'!$L$3*('BMP Calcs'!Q375/12))*Assignments!$E54*'BMP Calcs'!Q182*2.72","v":{"$error":"#N/A"}},{"$f":"('WS Calcs'!$L$2*'WS Calcs'!$L$3*('BMP Calcs'!R375/12))*Assignments!$E54*'BMP Calcs'!R182*2.72","v":{"$error":"#N/A"}},{"$f":"('WS Calcs'!$L$2*'WS Calcs'!$L$3*('BMP Calcs'!S375/12))*Assignments!$E54*'BMP Calcs'!S182*2.72","v":{"$error":"#N/A"}},{"$f":"('WS Calcs'!$L$2*'WS Calcs'!$L$3*('BMP Calcs'!T375/12))*Assignments!$E54*'BMP Calcs'!T182*2.72","v":{"$error":"#N/A"}},{"$f":"('WS Calcs'!$L$2*'WS Calcs'!$L$3*('BMP Calcs'!U375/12))*Assignments!$E54*'BMP Calcs'!U182*2.72","v":{"$error":"#N/A"}},{"$f":"('WS Calcs'!$L$2*'WS Calcs'!$L$3*('BMP Calcs'!V375/12))*Assignments!$E54*'BMP Calcs'!V182*2.72","v":{"$error":"#N/A"}},{"$f":"('WS Calcs'!$L$2*'WS Calcs'!$L$3*('BMP Calcs'!W375/12))*Assignments!$E54*'BMP Calcs'!W182*2.72","v":{"$error":"#N/A"}},{"$f":"('WS Calcs'!$L$2*'WS Calcs'!$L$3*('BMP Calcs'!X375/12))*Assignments!$E54*'BMP Calcs'!X182*2.72","v":{"$error":"#N/A"}},{"$f":"('WS Calcs'!$L$2*'WS Calcs'!$L$3*('BMP Calcs'!Y375/12))*Assignments!$E54*'BMP Calcs'!Y182*2.72","v":{"$error":"#N/A"}},null,null,null,{"$f":"('WS Calcs'!$L$2*'WS Calcs'!$L$3*('BMP Calcs'!AC375/12))*Assignments!$E53*'BMP Calcs'!AC182*2.72","v":{"$error":"#N/A"}},{"$f":"('WS Calcs'!$L$2*'WS Calcs'!$L$3*('BMP Calcs'!AD375/12))*Assignments!$E53*'BMP Calcs'!AD182*2.72","v":{"$error":"#N/A"}}]
[null,"     Multi-family (New)",{"$f":"('WS Calcs'!$L$2*'WS Calcs'!$L$3*('BMP Calcs'!C376/12))*(MAX(Assignments!$E47,Assignments!$E55))*'BMP Calcs'!C183*2.72","v":{"$error":"#N/A"}},{"$f":"('WS Calcs'!$L$2*'WS Calcs'!$L$3*('BMP Calcs'!D376/12))*(MAX(Assignments!$E47,Assignments!$E55))*'BMP Calcs'!D183*2.72","v":{"$error":"#N/A"}},{"$f":"('WS Calcs'!$L$2*'WS Calcs'!$L$3*('BMP Calcs'!E376/12))*(MAX(Assignments!$E47,Assignments!$E55))*'BMP Calcs'!E183*2.72","v":{"$error":"#N/A"}},{"$f":"('WS Calcs'!$L$2*'WS Calcs'!$L$3*('BMP Calcs'!F376/12))*(MAX(Assignments!$E47,Assignments!$E55))*'BMP Calcs'!F183*2.72","v":{"$error":"#N/A"}},{"$f":"('WS Calcs'!$L$2*'WS Calcs'!$L$3*('BMP Calcs'!G376/12))*(MAX(Assignments!$E47,Assignments!$E55))*'BMP Calcs'!G183*2.72","v":{"$error":"#N/A"}},{"$f":"('WS Calcs'!$L$2*'WS Calcs'!$L$3*('BMP Calcs'!H376/12))*(MAX(Assignments!$E47,Assignments!$E55))*'BMP Calcs'!H183*2.72","v":{"$error":"#N/A"}},{"$f":"('WS Calcs'!$L$2*'WS Calcs'!$L$3*('BMP Calcs'!I376/12))*(MAX(Assignments!$E47,Assignments!$E55))*'BMP Calcs'!I183*2.72","v":{"$error":"#N/A"}},{"$f":"('WS Calcs'!$L$2*'WS Calcs'!$L$3*('BMP Calcs'!J376/12))*(MAX(Assignments!$E47,Assignments!$E55))*'BMP Calcs'!J183*2.72","v":{"$error":"#N/A"}},{"$f":"('WS Calcs'!$L$2*'WS Calcs'!$L$3*('BMP Calcs'!K376/12))*(MAX(Assignments!$E47,Assignments!$E55))*'BMP Calcs'!K183*2.72","v":{"$error":"#N/A"}},{"$f":"('WS Calcs'!$L$2*'WS Calcs'!$L$3*('BMP Calcs'!L376/12))*(MAX(Assignments!$E47,Assignments!$E55))*'BMP Calcs'!L183*2.72","v":{"$error":"#N/A"}},{"$f":"('WS Calcs'!$L$2*'WS Calcs'!$L$3*('BMP Calcs'!M376/12))*(MAX(Assignments!$E47,Assignments!$E55))*'BMP Calcs'!M183*2.72","v":{"$error":"#N/A"}},{"$f":"('WS Calcs'!$L$2*'WS Calcs'!$L$3*('BMP Calcs'!N376/12))*(MAX(Assignments!$E47,Assignments!$E55))*'BMP Calcs'!N183*2.72","v":{"$error":"#N/A"}},{"$f":"('WS Calcs'!$L$2*'WS Calcs'!$L$3*('BMP Calcs'!O376/12))*(MAX(Assignments!$E47,Assignments!$E55))*'BMP Calcs'!O183*2.72","v":{"$error":"#N/A"}},{"$f":"('WS Calcs'!$L$2*'WS Calcs'!$L$3*('BMP Calcs'!P376/12))*(MAX(Assignments!$E47,Assignments!$E55))*'BMP Calcs'!P183*2.72","v":{"$error":"#N/A"}},{"$f":"('WS Calcs'!$L$2*'WS Calcs'!$L$3*('BMP Calcs'!Q376/12))*(MAX(Assignments!$E47,Assignments!$E55))*'BMP Calcs'!Q183*2.72","v":{"$error":"#N/A"}},{"$f":"('WS Calcs'!$L$2*'WS Calcs'!$L$3*('BMP Calcs'!R376/12))*(MAX(Assignments!$E47,Assignments!$E55))*'BMP Calcs'!R183*2.72","v":{"$error":"#N/A"}},{"$f":"('WS Calcs'!$L$2*'WS Calcs'!$L$3*('BMP Calcs'!S376/12))*(MAX(Assignments!$E47,Assignments!$E55))*'BMP Calcs'!S183*2.72","v":{"$error":"#N/A"}},{"$f":"('WS Calcs'!$L$2*'WS Calcs'!$L$3*('BMP Calcs'!T376/12))*(MAX(Assignments!$E47,Assignments!$E55))*'BMP Calcs'!T183*2.72","v":{"$error":"#N/A"}},{"$f":"('WS Calcs'!$L$2*'WS Calcs'!$L$3*('BMP Calcs'!U376/12))*(MAX(Assignments!$E47,Assignments!$E55))*'BMP Calcs'!U183*2.72","v":{"$error":"#N/A"}},{"$f":"('WS Calcs'!$L$2*'WS Calcs'!$L$3*('BMP Calcs'!V376/12))*(MAX(Assignments!$E47,Assignments!$E55))*'BMP Calcs'!V183*2.72","v":{"$error":"#N/A"}},{"$f":"('WS Calcs'!$L$2*'WS Calcs'!$L$3*('BMP Calcs'!W376/12))*(MAX(Assignments!$E47,Assignments!$E55))*'BMP Calcs'!W183*2.72","v":{"$error":"#N/A"}},{"$f":"('WS Calcs'!$L$2*'WS Calcs'!$L$3*('BMP Calcs'!X376/12))*(MAX(Assignments!$E47,Assignments!$E55))*'BMP Calcs'!X183*2.72","v":{"$error":"#N/A"}},{"$f":"('WS Calcs'!$L$2*'WS Calcs'!$L$3*('BMP Calcs'!Y376/12))*(MAX(Assignments!$E47,Assignments!$E55))*'BMP Calcs'!Y183*2.72","v":{"$error":"#N/A"}},{"$f":"('WS Calcs'!$L$2*'WS Calcs'!$L$3*('BMP Calcs'!Z376/12))*(MAX(Assignments!$E47,Assignments!$E55))*'BMP Calcs'!Z183*2.72","v":{"$error":"#N/A"}},null,null,{"$f":"('WS Calcs'!$L$2*'WS Calcs'!$L$3*('BMP Calcs'!AC376/12))*(MAX(Assignments!$E47,Assignments!$E55))*'BMP Calcs'!AC183*2.72","v":{"$error":"#N/A"}},{"$f":"('WS Calcs'!$L$2*'WS Calcs'!$L$3*('BMP Calcs'!AD376/12))*(MAX(Assignments!$E47,Assignments!$E55))*'BMP Calcs'!AD183*2.72","v":{"$error":"#N/A"}}]
[null,"     Multi-family (Built after 1995)",{"$f":"('WS Calcs'!$L$2*'WS Calcs'!$L$3*('BMP Calcs'!C377/12))*Assignments!$E47*'BMP Calcs'!C184*2.72","v":{"$error":"#N/A"}},{"$f":"('WS Calcs'!$L$2*'WS Calcs'!$L$3*('BMP Calcs'!D377/12))*Assignments!$E47*'BMP Calcs'!D184*2.72","v":{"$error":"#N/A"}},{"$f":"('WS Calcs'!$L$2*'WS Calcs'!$L$3*('BMP Calcs'!E377/12))*Assignments!$E47*'BMP Calcs'!E184*2.72","v":{"$error":"#N/A"}},{"$f":"('WS Calcs'!$L$2*'WS Calcs'!$L$3*('BMP Calcs'!F377/12))*Assignments!$E47*'BMP Calcs'!F184*2.72","v":{"$error":"#N/A"}},{"$f":"('WS Calcs'!$L$2*'WS Calcs'!$L$3*('BMP Calcs'!G377/12))*Assignments!$E47*'BMP Calcs'!G184*2.72","v":{"$error":"#N/A"}},{"$f":"('WS Calcs'!$L$2*'WS Calcs'!$L$3*('BMP Calcs'!H377/12))*Assignments!$E47*'BMP Calcs'!H184*2.72","v":{"$error":"#N/A"}},{"$f":"('WS Calcs'!$L$2*'WS Calcs'!$L$3*('BMP Calcs'!I377/12))*Assignments!$E47*'BMP Calcs'!I184*2.72","v":{"$error":"#N/A"}},{"$f":"('WS Calcs'!$L$2*'WS Calcs'!$L$3*('BMP Calcs'!J377/12))*Assignments!$E47*'BMP Calcs'!J184*2.72","v":{"$error":"#N/A"}},{"$f":"('WS Calcs'!$L$2*'WS Calcs'!$L$3*('BMP Calcs'!K377/12))*Assignments!$E47*'BMP Calcs'!K184*2.72","v":{"$error":"#N/A"}},{"$f":"('WS Calcs'!$L$2*'WS Calcs'!$L$3*('BMP Calcs'!L377/12))*Assignments!$E47*'BMP Calcs'!L184*2.72","v":{"$error":"#N/A"}},{"$f":"('WS Calcs'!$L$2*'WS Calcs'!$L$3*('BMP Calcs'!M377/12))*Assignments!$E47*'BMP Calcs'!M184*2.72","v":{"$error":"#N/A"}},{"$f":"('WS Calcs'!$L$2*'WS Calcs'!$L$3*('BMP Calcs'!N377/12))*Assignments!$E47*'BMP Calcs'!N184*2.72","v":{"$error":"#N/A"}},{"$f":"('WS Calcs'!$L$2*'WS Calcs'!$L$3*('BMP Calcs'!O377/12))*Assignments!$E47*'BMP Calcs'!O184*2.72","v":{"$error":"#N/A"}},{"$f":"('WS Calcs'!$L$2*'WS Calcs'!$L$3*('BMP Calcs'!P377/12))*Assignments!$E47*'BMP Calcs'!P184*2.72","v":{"$error":"#N/A"}},{"$f":"('WS Calcs'!$L$2*'WS Calcs'!$L$3*('BMP Calcs'!Q377/12))*Assignments!$E47*'BMP Calcs'!Q184*2.72","v":{"$error":"#N/A"}},{"$f":"('WS Calcs'!$L$2*'WS Calcs'!$L$3*('BMP Calcs'!R377/12))*Assignments!$E47*'BMP Calcs'!R184*2.72","v":{"$error":"#N/A"}},{"$f":"('WS Calcs'!$L$2*'WS Calcs'!$L$3*('BMP Calcs'!S377/12))*Assignments!$E47*'BMP Calcs'!S184*2.72","v":{"$error":"#N/A"}},{"$f":"('WS Calcs'!$L$2*'WS Calcs'!$L$3*('BMP Calcs'!T377/12))*Assignments!$E47*'BMP Calcs'!T184*2.72","v":{"$error":"#N/A"}},{"$f":"('WS Calcs'!$L$2*'WS Calcs'!$L$3*('BMP Calcs'!U377/12))*Assignments!$E47*'BMP Calcs'!U184*2.72","v":{"$error":"#N/A"}},{"$f":"('WS Calcs'!$L$2*'WS Calcs'!$L$3*('BMP Calcs'!V377/12))*Assignments!$E47*'BMP Calcs'!V184*2.72","v":{"$error":"#N/A"}},{"$f":"('WS Calcs'!$L$2*'WS Calcs'!$L$3*('BMP Calcs'!W377/12))*Assignments!$E47*'BMP Calcs'!W184*2.72","v":{"$error":"#N/A"}},{"$f":"('WS Calcs'!$L$2*'WS Calcs'!$L$3*('BMP Calcs'!X377/12))*Assignments!$E47*'BMP Calcs'!X184*2.72","v":{"$error":"#N/A"}},{"$f":"('WS Calcs'!$L$2*'WS Calcs'!$L$3*('BMP Calcs'!Y377/12))*Assignments!$E47*'BMP Calcs'!Y184*2.72","v":{"$error":"#N/A"}},null,null,null,{"$f":"('WS Calcs'!$L$2*'WS Calcs'!$L$3*('BMP Calcs'!AC377/12))*Assignments!$E54*'BMP Calcs'!AC184*2.72","v":{"$error":"#N/A"}},{"$f":"('WS Calcs'!$L$2*'WS Calcs'!$L$3*('BMP Calcs'!AD377/12))*Assignments!$E54*'BMP Calcs'!AD184*2.72","v":{"$error":"#N/A"}}]
[null,"     Multi-family (Built before 1995)",{"$f":"('WS Calcs'!$L$2*'WS Calcs'!$L$3*('BMP Calcs'!C378/12))*Assignments!$E55*'BMP Calcs'!C185*2.72","v":{"$error":"#N/A"}},{"$f":"('WS Calcs'!$L$2*'WS Calcs'!$L$3*('BMP Calcs'!D378/12))*Assignments!$E55*'BMP Calcs'!D185*2.72","v":{"$error":"#N/A"}},{"$f":"('WS Calcs'!$L$2*'WS Calcs'!$L$3*('BMP Calcs'!E378/12))*Assignments!$E55*'BMP Calcs'!E185*2.72","v":{"$error":"#N/A"}},{"$f":"('WS Calcs'!$L$2*'WS Calcs'!$L$3*('BMP Calcs'!F378/12))*Assignments!$E55*'BMP Calcs'!F185*2.72","v":{"$error":"#N/A"}},{"$f":"('WS Calcs'!$L$2*'WS Calcs'!$L$3*('BMP Calcs'!G378/12))*Assignments!$E55*'BMP Calcs'!G185*2.72","v":{"$error":"#N/A"}},{"$f":"('WS Calcs'!$L$2*'WS Calcs'!$L$3*('BMP Calcs'!H378/12))*Assignments!$E55*'BMP Calcs'!H185*2.72","v":{"$error":"#N/A"}},{"$f":"('WS Calcs'!$L$2*'WS Calcs'!$L$3*('BMP Calcs'!I378/12))*Assignments!$E55*'BMP Calcs'!I185*2.72","v":{"$error":"#N/A"}},{"$f":"('WS Calcs'!$L$2*'WS Calcs'!$L$3*('BMP Calcs'!J378/12))*Assignments!$E55*'BMP Calcs'!J185*2.72","v":{"$error":"#N/A"}},{"$f":"('WS Calcs'!$L$2*'WS Calcs'!$L$3*('BMP Calcs'!K378/12))*Assignments!$E55*'BMP Calcs'!K185*2.72","v":{"$error":"#N/A"}},{"$f":"('WS Calcs'!$L$2*'WS Calcs'!$L$3*('BMP Calcs'!L378/12))*Assignments!$E55*'BMP Calcs'!L185*2.72","v":{"$error":"#N/A"}},{"$f":"('WS Calcs'!$L$2*'WS Calcs'!$L$3*('BMP Calcs'!M378/12))*Assignments!$E55*'BMP Calcs'!M185*2.72","v":{"$error":"#N/A"}},{"$f":"('WS Calcs'!$L$2*'WS Calcs'!$L$3*('BMP Calcs'!N378/12))*Assignments!$E55*'BMP Calcs'!N185*2.72","v":{"$error":"#N/A"}},{"$f":"('WS Calcs'!$L$2*'WS Calcs'!$L$3*('BMP Calcs'!O378/12))*Assignments!$E55*'BMP Calcs'!O185*2.72","v":{"$error":"#N/A"}},{"$f":"('WS Calcs'!$L$2*'WS Calcs'!$L$3*('BMP Calcs'!P378/12))*Assignments!$E55*'BMP Calcs'!P185*2.72","v":{"$error":"#N/A"}},{"$f":"('WS Calcs'!$L$2*'WS Calcs'!$L$3*('BMP Calcs'!Q378/12))*Assignments!$E55*'BMP Calcs'!Q185*2.72","v":{"$error":"#N/A"}},{"$f":"('WS Calcs'!$L$2*'WS Calcs'!$L$3*('BMP Calcs'!R378/12))*Assignments!$E55*'BMP Calcs'!R185*2.72","v":{"$error":"#N/A"}},{"$f":"('WS Calcs'!$L$2*'WS Calcs'!$L$3*('BMP Calcs'!S378/12))*Assignments!$E55*'BMP Calcs'!S185*2.72","v":{"$error":"#N/A"}},{"$f":"('WS Calcs'!$L$2*'WS Calcs'!$L$3*('BMP Calcs'!T378/12))*Assignments!$E55*'BMP Calcs'!T185*2.72","v":{"$error":"#N/A"}},{"$f":"('WS Calcs'!$L$2*'WS Calcs'!$L$3*('BMP Calcs'!U378/12))*Assignments!$E55*'BMP Calcs'!U185*2.72","v":{"$error":"#N/A"}},{"$f":"('WS Calcs'!$L$2*'WS Calcs'!$L$3*('BMP Calcs'!V378/12))*Assignments!$E55*'BMP Calcs'!V185*2.72","v":{"$error":"#N/A"}},{"$f":"('WS Calcs'!$L$2*'WS Calcs'!$L$3*('BMP Calcs'!W378/12))*Assignments!$E55*'BMP Calcs'!W185*2.72","v":{"$error":"#N/A"}},{"$f":"('WS Calcs'!$L$2*'WS Calcs'!$L$3*('BMP Calcs'!X378/12))*Assignments!$E55*'BMP Calcs'!X185*2.72","v":{"$error":"#N/A"}},{"$f":"('WS Calcs'!$L$2*'WS Calcs'!$L$3*('BMP Calcs'!Y378/12))*Assignments!$E55*'BMP Calcs'!Y185*2.72","v":{"$error":"#N/A"}},null,null,null,{"$f":"('WS Calcs'!$L$2*'WS Calcs'!$L$3*('BMP Calcs'!AC378/12))*Assignments!$E55*'BMP Calcs'!AC185*2.72","v":{"$error":"#N/A"}},{"$f":"('WS Calcs'!$L$2*'WS Calcs'!$L$3*('BMP Calcs'!AD378/12))*Assignments!$E55*'BMP Calcs'!AD185*2.72","v":{"$error":"#N/A"}}]
[null,"     Custom Lot Size (New)",{"$f":"IF(C186>0,('WS Calcs'!$L$2*'WS Calcs'!$L$3*('BMP Calcs'!C379/12))*'WS Calcs'!$E$43)*'BMP Calcs'!C186*2.72","v":0},{"$f":"IF(D186>0,('WS Calcs'!$L$2*'WS Calcs'!$L$3*('BMP Calcs'!D379/12))*'WS Calcs'!$E$43)*'BMP Calcs'!D186*2.72","v":0},{"$f":"IF(E186>0,('WS Calcs'!$L$2*'WS Calcs'!$L$3*('BMP Calcs'!E379/12))*'WS Calcs'!$E$43)*'BMP Calcs'!E186*2.72","v":0},{"$f":"IF(F186>0,('WS Calcs'!$L$2*'WS Calcs'!$L$3*('BMP Calcs'!F379/12))*'WS Calcs'!$E$43)*'BMP Calcs'!F186*2.72","v":0},{"$f":"IF(G186>0,('WS Calcs'!$L$2*'WS Calcs'!$L$3*('BMP Calcs'!G379/12))*'WS Calcs'!$E$43)*'BMP Calcs'!G186*2.72","v":0},{"$f":"IF(H186>0,('WS Calcs'!$L$2*'WS Calcs'!$L$3*('BMP Calcs'!H379/12))*'WS Calcs'!$E$43)*'BMP Calcs'!H186*2.72","v":0},{"$f":"IF(I186>0,('WS Calcs'!$L$2*'WS Calcs'!$L$3*('BMP Calcs'!I379/12))*'WS Calcs'!$E$43)*'BMP Calcs'!I186*2.72","v":0},{"$f":"IF(J186>0,('WS Calcs'!$L$2*'WS Calcs'!$L$3*('BMP Calcs'!J379/12))*'WS Calcs'!$E$43)*'BMP Calcs'!J186*2.72","v":0},{"$f":"IF(K186>0,('WS Calcs'!$L$2*'WS Calcs'!$L$3*('BMP Calcs'!K379/12))*'WS Calcs'!$E$43)*'BMP Calcs'!K186*2.72","v":0},{"$f":"IF(L186>0,('WS Calcs'!$L$2*'WS Calcs'!$L$3*('BMP Calcs'!L379/12))*'WS Calcs'!$E$43)*'BMP Calcs'!L186*2.72","v":0},{"$f":"IF(M186>0,('WS Calcs'!$L$2*'WS Calcs'!$L$3*('BMP Calcs'!M379/12))*'WS Calcs'!$E$43)*'BMP Calcs'!M186*2.72","v":0},{"$f":"IF(N186>0,('WS Calcs'!$L$2*'WS Calcs'!$L$3*('BMP Calcs'!N379/12))*'WS Calcs'!$E$43)*'BMP Calcs'!N186*2.72","v":0},{"$f":"IF(O186>0,('WS Calcs'!$L$2*'WS Calcs'!$L$3*('BMP Calcs'!O379/12))*'WS Calcs'!$E$43)*'BMP Calcs'!O186*2.72","v":0},{"$f":"IF(P186>0,('WS Calcs'!$L$2*'WS Calcs'!$L$3*('BMP Calcs'!P379/12))*'WS Calcs'!$E$43)*'BMP Calcs'!P186*2.72","v":0},{"$f":"IF(Q186>0,('WS Calcs'!$L$2*'WS Calcs'!$L$3*('BMP Calcs'!Q379/12))*'WS Calcs'!$E$43)*'BMP Calcs'!Q186*2.72","v":0},{"$f":"IF(R186>0,('WS Calcs'!$L$2*'WS Calcs'!$L$3*('BMP Calcs'!R379/12))*'WS Calcs'!$E$43)*'BMP Calcs'!R186*2.72","v":0},{"$f":"IF(S186>0,('WS Calcs'!$L$2*'WS Calcs'!$L$3*('BMP Calcs'!S379/12))*'WS Calcs'!$E$43)*'BMP Calcs'!S186*2.72","v":0},{"$f":"IF(T186>0,('WS Calcs'!$L$2*'WS Calcs'!$L$3*('BMP Calcs'!T379/12))*'WS Calcs'!$E$43)*'BMP Calcs'!T186*2.72","v":0},{"$f":"IF(U186>0,('WS Calcs'!$L$2*'WS Calcs'!$L$3*('BMP Calcs'!U379/12))*'WS Calcs'!$E$43)*'BMP Calcs'!U186*2.72","v":0},{"$f":"IF(V186>0,('WS Calcs'!$L$2*'WS Calcs'!$L$3*('BMP Calcs'!V379/12))*'WS Calcs'!$E$43)*'BMP Calcs'!V186*2.72","v":0},{"$f":"IF(W186>0,('WS Calcs'!$L$2*'WS Calcs'!$L$3*('BMP Calcs'!W379/12))*'WS Calcs'!$E$43)*'BMP Calcs'!W186*2.72","v":0},{"$f":"IF(X186>0,('WS Calcs'!$L$2*'WS Calcs'!$L$3*('BMP Calcs'!X379/12))*'WS Calcs'!$E$43)*'BMP Calcs'!X186*2.72","v":0},{"$f":"IF(Y186>0,('WS Calcs'!$L$2*'WS Calcs'!$L$3*('BMP Calcs'!Y379/12))*'WS Calcs'!$E$43)*'BMP Calcs'!Y186*2.72","v":0},{"$f":"IF(Z186>0,('WS Calcs'!$L$2*'WS Calcs'!$L$3*('BMP Calcs'!Z379/12))*'WS Calcs'!$E$43)*'BMP Calcs'!Z186*2.72","v":0},null,null,{"$f":"IF(AC186>0,('WS Calcs'!$L$2*'WS Calcs'!$L$3*('BMP Calcs'!AC379/12))*'WS Calcs'!$E$43)*'BMP Calcs'!AC186*2.72","v":0},{"$f":"IF(AD186>0,('WS Calcs'!$L$2*'WS Calcs'!$L$3*('BMP Calcs'!AD379/12))*'WS Calcs'!$E$43)*'BMP Calcs'!AD186*2.72","v":0}]
[null,"     Custom Lot Size (Built after 1995)",{"$f":"IF('2. BMP Characteristics'!E95<>0,('WS Calcs'!$L$2*'WS Calcs'!$L$3*('BMP Calcs'!C380/12))*Assignments!$E48*'BMP Calcs'!C187*2.72,0)","v":0},{"$f":"IF('2. BMP Characteristics'!G95<>0,('WS Calcs'!$L$2*'WS Calcs'!$L$3*('BMP Calcs'!D380/12))*Assignments!$E48*'BMP Calcs'!D187*2.72,0)","v":0},{"$f":"IF('2. BMP Characteristics'!I95<>0,('WS Calcs'!$L$2*'WS Calcs'!$L$3*('BMP Calcs'!E380/12))*Assignments!$E48*'BMP Calcs'!E187*2.72,0)","v":0},{"$f":"('WS Calcs'!$L$2*'WS Calcs'!$L$3*('BMP Calcs'!F380/12))*Assignments!$E48*'BMP Calcs'!F187*2.72","v":{"$error":"#N/A"}},{"$f":"IF('2. BMP Characteristics'!L95<>0,('WS Calcs'!$L$2*'WS Calcs'!$L$3*('BMP Calcs'!G380/12))*Assignments!$E48*'BMP Calcs'!G187*2.72,0)","v":0},{"$f":"IF('2. BMP Characteristics'!N95<>0,('WS Calcs'!$L$2*'WS Calcs'!$L$3*('BMP Calcs'!H380/12))*Assignments!$E48*'BMP Calcs'!H187*2.72,0)","v":0},{"$f":"IF('2. BMP Characteristics'!P95<>0,('WS Calcs'!$L$2*'WS Calcs'!$L$3*('BMP Calcs'!I380/12))*Assignments!$E48*'BMP Calcs'!I187*2.72,0)","v":0},{"$f":"('WS Calcs'!$L$2*'WS Calcs'!$L$3*('BMP Calcs'!J380/12))*Assignments!$E48*'BMP Calcs'!J187*2.72","v":{"$error":"#N/A"}},{"$f":"IF('2. BMP Characteristics'!S95<>0,('WS Calcs'!$L$2*'WS Calcs'!$L$3*('BMP Calcs'!K380/12))*Assignments!$E48*'BMP Calcs'!K187*2.72,0)","v":0},{"$f":"IF('2. BMP Characteristics'!U95<>0,('WS Calcs'!$L$2*'WS Calcs'!$L$3*('BMP Calcs'!L380/12))*Assignments!$E48*'BMP Calcs'!L187*2.72,0)","v":0},{"$f":"IF('2. BMP Characteristics'!W95<>0,('WS Calcs'!$L$2*'WS Calcs'!$L$3*('BMP Calcs'!M380/12))*Assignments!$E48*'BMP Calcs'!M187*2.72,0)","v":0},{"$f":"('WS Calcs'!$L$2*'WS Calcs'!$L$3*('BMP Calcs'!N380/12))*Assignments!$E48*'BMP Calcs'!N187*2.72","v":{"$error":"#N/A"}},{"$f":"IF('2. BMP Characteristics'!Z95,('WS Calcs'!$L$2*'WS Calcs'!$L$3*('BMP Calcs'!O380/12))*Assignments!$E48*'BMP Calcs'!O187*2.72,0)","v":0},{"$f":"IF('2. BMP Characteristics'!AB95<>0,('WS Calcs'!$L$2*'WS Calcs'!$L$3*('BMP Calcs'!P380/12))*Assignments!$E48*'BMP Calcs'!P187*2.72,0)","v":0},{"$f":"IF('2. BMP Characteristics'!AD95,('WS Calcs'!$L$2*'WS Calcs'!$L$3*('BMP Calcs'!Q380/12))*Assignments!$E48*'BMP Calcs'!Q187*2.72,0)","v":0},{"$f":"('WS Calcs'!$L$2*'WS Calcs'!$L$3*('BMP Calcs'!R380/12))*Assignments!$E48*'BMP Calcs'!R187*2.72","v":{"$error":"#N/A"}},{"$f":"IF('2. BMP Characteristics'!AG95,('WS Calcs'!$L$2*'WS Calcs'!$L$3*('BMP Calcs'!S380/12))*Assignments!$E48*'BMP Calcs'!S187*2.72,0)","v":0},{"$f":"IF('2. BMP Characteristics'!AI95<>0,('WS Calcs'!$L$2*'WS Calcs'!$L$3*('BMP Calcs'!T380/12))*Assignments!$E48*'BMP Calcs'!T187*2.72,0)","v":0},{"$f":"IF('2. BMP Characteristics'!AK95<>0,('WS Calcs'!$L$2*'WS Calcs'!$L$3*('BMP Calcs'!U380/12))*Assignments!$E48*'BMP Calcs'!U187*2.72,0)","v":0},{"$f":"('WS Calcs'!$L$2*'WS Calcs'!$L$3*('BMP Calcs'!V380/12))*Assignments!$E48*'BMP Calcs'!V187*2.72","v":{"$error":"#N/A"}},{"$f":"IF('2. BMP Characteristics'!AN95<>0,('WS Calcs'!$L$2*'WS Calcs'!$L$3*('BMP Calcs'!W380/12))*Assignments!$E48*'BMP Calcs'!W187*2.72,0)","v":0},{"$f":"IF('2. BMP Characteristics'!AP95<>0,('WS Calcs'!$L$2*'WS Calcs'!$L$3*('BMP Calcs'!X380/12))*Assignments!$E48*'BMP Calcs'!X187*2.72,0)","v":0},{"$f":"IF('2. BMP Characteristics'!AR95<>0,('WS Calcs'!$L$2*'WS Calcs'!$L$3*('BMP Calcs'!Y380/12))*Assignments!$E48*'BMP Calcs'!Y187*2.72,0)","v":0},{"$f":"('WS Calcs'!$L$2*'WS Calcs'!$L$3*('BMP Calcs'!Z380/12))*Assignments!$E48*'BMP Calcs'!Z187*2.72","v":{"$error":"#N/A"}},null,null,{"$f":"IF('2. BMP Characteristics'!AV95<>0,('WS Calcs'!$L$2*'WS Calcs'!$L$3*('BMP Calcs'!AC380/12))*Assignments!$E48*'BMP Calcs'!AC187*2.72,0)","v":0},{"$f":"IF('2. BMP Characteristics'!AW95<>0,('WS Calcs'!$L$2*'WS Calcs'!$L$3*('BMP Calcs'!AD380/12))*Assignments!$E48*'BMP Calcs'!AD187*2.72,0)","v":0}]
[null,"     Custom Lot Size (Built before 1995)",{"$f":"IF('2. BMP Characteristics'!E96<>0,('WS Calcs'!$L$2*'WS Calcs'!$L$3*('BMP Calcs'!C381/12))*Assignments!$E56*'BMP Calcs'!C188*2.72,0)","v":0},{"$f":"IF('2. BMP Characteristics'!G96<>0,('WS Calcs'!$L$2*'WS Calcs'!$L$3*('BMP Calcs'!D381/12))*Assignments!$E56*'BMP Calcs'!D188*2.72,0)","v":0},{"$f":"IF('2. BMP Characteristics'!I96<>0,('WS Calcs'!$L$2*'WS Calcs'!$L$3*('BMP Calcs'!E381/12))*Assignments!$E56*'BMP Calcs'!E188*2.72,0)","v":0},{"$f":"('WS Calcs'!$L$2*'WS Calcs'!$L$3*('BMP Calcs'!F381/12))*Assignments!$E56*'BMP Calcs'!F188*2.72","v":{"$error":"#N/A"}},{"$f":"IF('2. BMP Characteristics'!L96<>0,('WS Calcs'!$L$2*'WS Calcs'!$L$3*('BMP Calcs'!G381/12))*Assignments!$E56*'BMP Calcs'!G188*2.72,0)","v":0},{"$f":"IF('2. BMP Characteristics'!N96<>0,('WS Calcs'!$L$2*'WS Calcs'!$L$3*('BMP Calcs'!H381/12))*Assignments!$E56*'BMP Calcs'!H188*2.72,0)","v":0},{"$f":"IF('2. BMP Characteristics'!P96<>0,('WS Calcs'!$L$2*'WS Calcs'!$L$3*('BMP Calcs'!I381/12))*Assignments!$E56*'BMP Calcs'!I188*2.72,0)","v":0},{"$f":"('WS Calcs'!$L$2*'WS Calcs'!$L$3*('BMP Calcs'!J381/12))*Assignments!$E56*'BMP Calcs'!J188*2.72","v":{"$error":"#N/A"}},{"$f":"IF('2. BMP Characteristics'!S96<>0,('WS Calcs'!$L$2*'WS Calcs'!$L$3*('BMP Calcs'!K381/12))*Assignments!$E56*'BMP Calcs'!K188*2.72,0)","v":0},{"$f":"IF('2. BMP Characteristics'!U96<>0,('WS Calcs'!$L$2*'WS Calcs'!$L$3*('BMP Calcs'!L381/12))*Assignments!$E56*'BMP Calcs'!L188*2.72,0)","v":0},{"$f":"IF('2. BMP Characteristics'!W96<>0,('WS Calcs'!$L$2*'WS Calcs'!$L$3*('BMP Calcs'!M381/12))*Assignments!$E56*'BMP Calcs'!M188*2.72,0)","v":0},{"$f":"('WS Calcs'!$L$2*'WS Calcs'!$L$3*('BMP Calcs'!N381/12))*Assignments!$E56*'BMP Calcs'!N188*2.72","v":{"$error":"#N/A"}},{"$f":"IF('2. BMP Characteristics'!Z96<>0,('WS Calcs'!$L$2*'WS Calcs'!$L$3*('BMP Calcs'!O381/12))*Assignments!$E56*'BMP Calcs'!O188*2.72,0)","v":0},{"$f":"IF('2. BMP Characteristics'!AB96<>0,('WS Calcs'!$L$2*'WS Calcs'!$L$3*('BMP Calcs'!P381/12))*Assignments!$E56*'BMP Calcs'!P188*2.72,0)","v":0},{"$f":"IF('2. BMP Characteristics'!AD96<>0,('WS Calcs'!$L$2*'WS Calcs'!$L$3*('BMP Calcs'!Q381/12))*Assignments!$E56*'BMP Calcs'!Q188*2.72,0)","v":0},{"$f":"('WS Calcs'!$L$2*'WS Calcs'!$L$3*('BMP Calcs'!R381/12))*Assignments!$E56*'BMP Calcs'!R188*2.72","v":{"$error":"#N/A"}},{"$f":"IF('2. BMP Characteristics'!AG96<>0,('WS Calcs'!$L$2*'WS Calcs'!$L$3*('BMP Calcs'!S381/12))*Assignments!$E56*'BMP Calcs'!S188*2.72,0)","v":0},{"$f":"IF('2. BMP Characteristics'!AI96<>0,('WS Calcs'!$L$2*'WS Calcs'!$L$3*('BMP Calcs'!T381/12))*Assignments!$E56*'BMP Calcs'!T188*2.72,0)","v":0},{"$f":"IF('2. BMP Characteristics'!AK96<>0,('WS Calcs'!$L$2*'WS Calcs'!$L$3*('BMP Calcs'!U381/12))*Assignments!$E56*'BMP Calcs'!U188*2.72,0)","v":0},{"$f":"('WS Calcs'!$L$2*'WS Calcs'!$L$3*('BMP Calcs'!V381/12))*Assignments!$E56*'BMP Calcs'!V188*2.72","v":{"$error":"#N/A"}},{"$f":"IF('2. BMP Characteristics'!AN96<>0,('WS Calcs'!$L$2*'WS Calcs'!$L$3*('BMP Calcs'!W381/12))*Assignments!$E56*'BMP Calcs'!W188*2.72,0)","v":0},{"$f":"IF('2. BMP Characteristics'!AP96<>0,('WS Calcs'!$L$2*'WS Calcs'!$L$3*('BMP Calcs'!X381/12))*Assignments!$E56*'BMP Calcs'!X188*2.72,0)","v":0},{"$f":"IF('2. BMP Characteristics'!AR96<>0,('WS Calcs'!$L$2*'WS Calcs'!$L$3*('BMP Calcs'!Y381/12))*Assignments!$E56*'BMP Calcs'!Y188*2.72,0)","v":0},{"$f":"('WS Calcs'!$L$2*'WS Calcs'!$L$3*('BMP Calcs'!Z381/12))*Assignments!$E56*'BMP Calcs'!Z188*2.72","v":{"$error":"#N/A"}},null,null,{"$f":"IF('2. BMP Characteristics'!AV96<>0,('WS Calcs'!$L$2*'WS Calcs'!$L$3*('BMP Calcs'!AC381/12))*Assignments!$E56*'BMP Calcs'!AC188*2.72,0)","v":0},{"$f":"IF('2. BMP Characteristics'!AW96<>0,('WS Calcs'!$L$2*'WS Calcs'!$L$3*('BMP Calcs'!AD381/12))*Assignments!$E56*'BMP Calcs'!AD188*2.72,0)","v":0}]
[null,"     Roadway",{"$f":"('WS Calcs'!$L$2*'WS Calcs'!$L$3*('BMP Calcs'!C382/12))*Assignments!$E57*'BMP Calcs'!C189*2.72","v":{"$error":"#N/A"}},{"$f":"('WS Calcs'!$L$2*'WS Calcs'!$L$3*('BMP Calcs'!D382/12))*Assignments!$E57*'BMP Calcs'!D189*2.72","v":{"$error":"#N/A"}},{"$f":"('WS Calcs'!$L$2*'WS Calcs'!$L$3*('BMP Calcs'!E382/12))*Assignments!$E57*'BMP Calcs'!E189*2.72","v":{"$error":"#N/A"}},null,{"$f":"('WS Calcs'!$L$2*'WS Calcs'!$L$3*('BMP Calcs'!G382/12))*Assignments!$E57*'BMP Calcs'!G189*2.72","v":{"$error":"#N/A"}},{"$f":"('WS Calcs'!$L$2*'WS Calcs'!$L$3*('BMP Calcs'!H382/12))*Assignments!$E57*'BMP Calcs'!H189*2.72","v":{"$error":"#N/A"}},{"$f":"('WS Calcs'!$L$2*'WS Calcs'!$L$3*('BMP Calcs'!I382/12))*Assignments!$E57*'BMP Calcs'!I189*2.72","v":{"$error":"#N/A"}},null,{"$f":"('WS Calcs'!$L$2*'WS Calcs'!$L$3*('BMP Calcs'!K382/12))*Assignments!$E57*'BMP Calcs'!K189*2.72","v":{"$error":"#N/A"}},{"$f":"('WS Calcs'!$L$2*'WS Calcs'!$L$3*('BMP Calcs'!L382/12))*Assignments!$E57*'BMP Calcs'!L189*2.72","v":{"$error":"#N/A"}},{"$f":"('WS Calcs'!$L$2*'WS Calcs'!$L$3*('BMP Calcs'!M382/12))*Assignments!$E57*'BMP Calcs'!M189*2.72","v":{"$error":"#N/A"}},null,{"$f":"('WS Calcs'!$L$2*'WS Calcs'!$L$3*('BMP Calcs'!O382/12))*Assignments!$E57*'BMP Calcs'!O189*2.72","v":{"$error":"#N/A"}},{"$f":"('WS Calcs'!$L$2*'WS Calcs'!$L$3*('BMP Calcs'!P382/12))*Assignments!$E57*'BMP Calcs'!P189*2.72","v":{"$error":"#N/A"}},{"$f":"('WS Calcs'!$L$2*'WS Calcs'!$L$3*('BMP Calcs'!Q382/12))*Assignments!$E57*'BMP Calcs'!Q189*2.72","v":{"$error":"#N/A"}},null,{"$f":"('WS Calcs'!$L$2*'WS Calcs'!$L$3*('BMP Calcs'!S382/12))*Assignments!$E57*'BMP Calcs'!S189*2.72","v":{"$error":"#N/A"}},{"$f":"('WS Calcs'!$L$2*'WS Calcs'!$L$3*('BMP Calcs'!T382/12))*Assignments!$E57*'BMP Calcs'!T189*2.72","v":{"$error":"#N/A"}},{"$f":"('WS Calcs'!$L$2*'WS Calcs'!$L$3*('BMP Calcs'!U382/12))*Assignments!$E57*'BMP Calcs'!U189*2.72","v":{"$error":"#N/A"}},null,{"$f":"('WS Calcs'!$L$2*'WS Calcs'!$L$3*('BMP Calcs'!W382/12))*Assignments!$E57*'BMP Calcs'!W189*2.72","v":{"$error":"#N/A"}},{"$f":"('WS Calcs'!$L$2*'WS Calcs'!$L$3*('BMP Calcs'!X382/12))*Assignments!$E57*'BMP Calcs'!X189*2.72","v":{"$error":"#N/A"}},{"$f":"('WS Calcs'!$L$2*'WS Calcs'!$L$3*('BMP Calcs'!Y382/12))*Assignments!$E57*'BMP Calcs'!Y189*2.72","v":{"$error":"#N/A"}},null,null,null,{"$f":"('WS Calcs'!$L$2*'WS Calcs'!$L$3*('BMP Calcs'!AC382/12))*Assignments!$E57*'BMP Calcs'!AC189*2.72","v":{"$error":"#N/A"}},{"$f":"('WS Calcs'!$L$2*'WS Calcs'!$L$3*('BMP Calcs'!AD382/12))*Assignments!$E57*'BMP Calcs'!AD189*2.72","v":{"$error":"#N/A"}}]
[null,"     Driveway",{"$f":"('WS Calcs'!$L$2*'WS Calcs'!$L$3*('BMP Calcs'!C383/12))*Assignments!$E58*'BMP Calcs'!C190*2.72","v":{"$error":"#N/A"}},{"$f":"('WS Calcs'!$L$2*'WS Calcs'!$L$3*('BMP Calcs'!D383/12))*Assignments!$E58*'BMP Calcs'!D190*2.72","v":{"$error":"#N/A"}},{"$f":"('WS Calcs'!$L$2*'WS Calcs'!$L$3*('BMP Calcs'!E383/12))*Assignments!$E58*'BMP Calcs'!E190*2.72","v":{"$error":"#N/A"}},null,{"$f":"('WS Calcs'!$L$2*'WS Calcs'!$L$3*('BMP Calcs'!G383/12))*Assignments!$E58*'BMP Calcs'!G190*2.72","v":{"$error":"#N/A"}},{"$f":"('WS Calcs'!$L$2*'WS Calcs'!$L$3*('BMP Calcs'!H383/12))*Assignments!$E58*'BMP Calcs'!H190*2.72","v":{"$error":"#N/A"}},{"$f":"('WS Calcs'!$L$2*'WS Calcs'!$L$3*('BMP Calcs'!I383/12))*Assignments!$E58*'BMP Calcs'!I190*2.72","v":{"$error":"#N/A"}},null,{"$f":"('WS Calcs'!$L$2*'WS Calcs'!$L$3*('BMP Calcs'!K383/12))*Assignments!$E58*'BMP Calcs'!K190*2.72","v":{"$error":"#N/A"}},{"$f":"('WS Calcs'!$L$2*'WS Calcs'!$L$3*('BMP Calcs'!L383/12))*Assignments!$E58*'BMP Calcs'!L190*2.72","v":{"$error":"#N/A"}},{"$f":"('WS Calcs'!$L$2*'WS Calcs'!$L$3*('BMP Calcs'!M383/12))*Assignments!$E58*'BMP Calcs'!M190*2.72","v":{"$error":"#N/A"}},null,{"$f":"('WS Calcs'!$L$2*'WS Calcs'!$L$3*('BMP Calcs'!O383/12))*Assignments!$E58*'BMP Calcs'!O190*2.72","v":{"$error":"#N/A"}},{"$f":"('WS Calcs'!$L$2*'WS Calcs'!$L$3*('BMP Calcs'!P383/12))*Assignments!$E58*'BMP Calcs'!P190*2.72","v":{"$error":"#N/A"}},{"$f":"('WS Calcs'!$L$2*'WS Calcs'!$L$3*('BMP Calcs'!Q383/12))*Assignments!$E58*'BMP Calcs'!Q190*2.72","v":{"$error":"#N/A"}},null,{"$f":"('WS Calcs'!$L$2*'WS Calcs'!$L$3*('BMP Calcs'!S383/12))*Assignments!$E58*'BMP Calcs'!S190*2.72","v":{"$error":"#N/A"}},{"$f":"('WS Calcs'!$L$2*'WS Calcs'!$L$3*('BMP Calcs'!T383/12))*Assignments!$E58*'BMP Calcs'!T190*2.72","v":{"$error":"#N/A"}},{"$f":"('WS Calcs'!$L$2*'WS Calcs'!$L$3*('BMP Calcs'!U383/12))*Assignments!$E58*'BMP Calcs'!U190*2.72","v":{"$error":"#N/A"}},null,{"$f":"('WS Calcs'!$L$2*'WS Calcs'!$L$3*('BMP Calcs'!W383/12))*Assignments!$E58*'BMP Calcs'!W190*2.72","v":{"$error":"#N/A"}},{"$f":"('WS Calcs'!$L$2*'WS Calcs'!$L$3*('BMP Calcs'!X383/12))*Assignments!$E58*'BMP Calcs'!X190*2.72","v":{"$error":"#N/A"}},{"$f":"('WS Calcs'!$L$2*'WS Calcs'!$L$3*('BMP Calcs'!Y383/12))*Assignments!$E58*'BMP Calcs'!Y190*2.72","v":{"$error":"#N/A"}},null,null,null,{"$f":"('WS Calcs'!$L$2*'WS Calcs'!$L$3*('BMP Calcs'!AC383/12))*Assignments!$E58*'BMP Calcs'!AC190*2.72","v":{"$error":"#N/A"}},{"$f":"('WS Calcs'!$L$2*'WS Calcs'!$L$3*('BMP Calcs'!AD383/12))*Assignments!$E58*'BMP Calcs'!AD190*2.72","v":{"$error":"#N/A"}}]
[null,"     Parking lot",{"$f":"('WS Calcs'!$L$2*'WS Calcs'!$L$3*('BMP Calcs'!C384/12))*Assignments!$E59*'BMP Calcs'!C191*2.72","v":{"$error":"#N/A"}},{"$f":"('WS Calcs'!$L$2*'WS Calcs'!$L$3*('BMP Calcs'!D384/12))*Assignments!$E59*'BMP Calcs'!D191*2.72","v":{"$error":"#N/A"}},{"$f":"('WS Calcs'!$L$2*'WS Calcs'!$L$3*('BMP Calcs'!E384/12))*Assignments!$E59*'BMP Calcs'!E191*2.72","v":{"$error":"#N/A"}},null,{"$f":"('WS Calcs'!$L$2*'WS Calcs'!$L$3*('BMP Calcs'!G384/12))*Assignments!$E59*'BMP Calcs'!G191*2.72","v":{"$error":"#N/A"}},{"$f":"('WS Calcs'!$L$2*'WS Calcs'!$L$3*('BMP Calcs'!H384/12))*Assignments!$E59*'BMP Calcs'!H191*2.72","v":{"$error":"#N/A"}},{"$f":"('WS Calcs'!$L$2*'WS Calcs'!$L$3*('BMP Calcs'!I384/12))*Assignments!$E59*'BMP Calcs'!I191*2.72","v":{"$error":"#N/A"}},null,{"$f":"('WS Calcs'!$L$2*'WS Calcs'!$L$3*('BMP Calcs'!K384/12))*Assignments!$E59*'BMP Calcs'!K191*2.72","v":{"$error":"#N/A"}},{"$f":"('WS Calcs'!$L$2*'WS Calcs'!$L$3*('BMP Calcs'!L384/12))*Assignments!$E59*'BMP Calcs'!L191*2.72","v":{"$error":"#N/A"}},{"$f":"('WS Calcs'!$L$2*'WS Calcs'!$L$3*('BMP Calcs'!M384/12))*Assignments!$E59*'BMP Calcs'!M191*2.72","v":{"$error":"#N/A"}},null,{"$f":"('WS Calcs'!$L$2*'WS Calcs'!$L$3*('BMP Calcs'!O384/12))*Assignments!$E59*'BMP Calcs'!O191*2.72","v":{"$error":"#N/A"}},{"$f":"('WS Calcs'!$L$2*'WS Calcs'!$L$3*('BMP Calcs'!P384/12))*Assignments!$E59*'BMP Calcs'!P191*2.72","v":{"$error":"#N/A"}},{"$f":"('WS Calcs'!$L$2*'WS Calcs'!$L$3*('BMP Calcs'!Q384/12))*Assignments!$E59*'BMP Calcs'!Q191*2.72","v":{"$error":"#N/A"}},null,{"$f":"('WS Calcs'!$L$2*'WS Calcs'!$L$3*('BMP Calcs'!S384/12))*Assignments!$E59*'BMP Calcs'!S191*2.72","v":{"$error":"#N/A"}},{"$f":"('WS Calcs'!$L$2*'WS Calcs'!$L$3*('BMP Calcs'!T384/12))*Assignments!$E59*'BMP Calcs'!T191*2.72","v":{"$error":"#N/A"}},{"$f":"('WS Calcs'!$L$2*'WS Calcs'!$L$3*('BMP Calcs'!U384/12))*Assignments!$E59*'BMP Calcs'!U191*2.72","v":{"$error":"#N/A"}},null,{"$f":"('WS Calcs'!$L$2*'WS Calcs'!$L$3*('BMP Calcs'!W384/12))*Assignments!$E59*'BMP Calcs'!W191*2.72","v":{"$error":"#N/A"}},{"$f":"('WS Calcs'!$L$2*'WS Calcs'!$L$3*('BMP Calcs'!X384/12))*Assignments!$E59*'BMP Calcs'!X191*2.72","v":{"$error":"#N/A"}},{"$f":"('WS Calcs'!$L$2*'WS Calcs'!$L$3*('BMP Calcs'!Y384/12))*Assignments!$E59*'BMP Calcs'!Y191*2.72","v":{"$error":"#N/A"}},null,null,null,{"$f":"('WS Calcs'!$L$2*'WS Calcs'!$L$3*('BMP Calcs'!AC384/12))*Assignments!$E59*'BMP Calcs'!AC191*2.72","v":{"$error":"#N/A"}},{"$f":"('WS Calcs'!$L$2*'WS Calcs'!$L$3*('BMP Calcs'!AD384/12))*Assignments!$E59*'BMP Calcs'!AD191*2.72","v":{"$error":"#N/A"}}]
[null,"     Roof",{"$f":"('WS Calcs'!$L$2*'WS Calcs'!$L$3*('BMP Calcs'!C385/12))*Assignments!$E60*'BMP Calcs'!C192*2.72","v":{"$error":"#N/A"}},{"$f":"('WS Calcs'!$L$2*'WS Calcs'!$L$3*('BMP Calcs'!D385/12))*Assignments!$E60*'BMP Calcs'!D192*2.72","v":{"$error":"#N/A"}},{"$f":"('WS Calcs'!$L$2*'WS Calcs'!$L$3*('BMP Calcs'!E385/12))*Assignments!$E60*'BMP Calcs'!E192*2.72","v":{"$error":"#N/A"}},null,{"$f":"('WS Calcs'!$L$2*'WS Calcs'!$L$3*('BMP Calcs'!G385/12))*Assignments!$E60*'BMP Calcs'!G192*2.72","v":{"$error":"#N/A"}},{"$f":"('WS Calcs'!$L$2*'WS Calcs'!$L$3*('BMP Calcs'!H385/12))*Assignments!$E60*'BMP Calcs'!H192*2.72","v":{"$error":"#N/A"}},{"$f":"('WS Calcs'!$L$2*'WS Calcs'!$L$3*('BMP Calcs'!I385/12))*Assignments!$E60*'BMP Calcs'!I192*2.72","v":{"$error":"#N/A"}},null,{"$f":"('WS Calcs'!$L$2*'WS Calcs'!$L$3*('BMP Calcs'!K385/12))*Assignments!$E60*'BMP Calcs'!K192*2.72","v":{"$error":"#N/A"}},{"$f":"('WS Calcs'!$L$2*'WS Calcs'!$L$3*('BMP Calcs'!L385/12))*Assignments!$E60*'BMP Calcs'!L192*2.72","v":{"$error":"#N/A"}},{"$f":"('WS Calcs'!$L$2*'WS Calcs'!$L$3*('BMP Calcs'!M385/12))*Assignments!$E60*'BMP Calcs'!M192*2.72","v":{"$error":"#N/A"}},null,{"$f":"('WS Calcs'!$L$2*'WS Calcs'!$L$3*('BMP Calcs'!O385/12))*Assignments!$E60*'BMP Calcs'!O192*2.72","v":{"$error":"#N/A"}},{"$f":"('WS Calcs'!$L$2*'WS Calcs'!$L$3*('BMP Calcs'!P385/12))*Assignments!$E60*'BMP Calcs'!P192*2.72","v":{"$error":"#N/A"}},{"$f":"('WS Calcs'!$L$2*'WS Calcs'!$L$3*('BMP Calcs'!Q385/12))*Assignments!$E60*'BMP Calcs'!Q192*2.72","v":{"$error":"#N/A"}},null,{"$f":"('WS Calcs'!$L$2*'WS Calcs'!$L$3*('BMP Calcs'!S385/12))*Assignments!$E60*'BMP Calcs'!S192*2.72","v":{"$error":"#N/A"}},{"$f":"('WS Calcs'!$L$2*'WS Calcs'!$L$3*('BMP Calcs'!T385/12))*Assignments!$E60*'BMP Calcs'!T192*2.72","v":{"$error":"#N/A"}},{"$f":"('WS Calcs'!$L$2*'WS Calcs'!$L$3*('BMP Calcs'!U385/12))*Assignments!$E60*'BMP Calcs'!U192*2.72","v":{"$error":"#N/A"}},null,{"$f":"('WS Calcs'!$L$2*'WS Calcs'!$L$3*('BMP Calcs'!W385/12))*Assignments!$E60*'BMP Calcs'!W192*2.72","v":{"$error":"#N/A"}},{"$f":"('WS Calcs'!$L$2*'WS Calcs'!$L$3*('BMP Calcs'!X385/12))*Assignments!$E60*'BMP Calcs'!X192*2.72","v":{"$error":"#N/A"}},{"$f":"('WS Calcs'!$L$2*'WS Calcs'!$L$3*('BMP Calcs'!Y385/12))*Assignments!$E60*'BMP Calcs'!Y192*2.72","v":{"$error":"#N/A"}},null,null,null,{"$f":"('WS Calcs'!$L$2*'WS Calcs'!$L$3*('BMP Calcs'!AC385/12))*Assignments!$E60*'BMP Calcs'!AC192*2.72","v":{"$error":"#N/A"}},{"$f":"('WS Calcs'!$L$2*'WS Calcs'!$L$3*('BMP Calcs'!AD385/12))*Assignments!$E60*'BMP Calcs'!AD192*2.72","v":{"$error":"#N/A"}}]
[null,"     Sidewalk",{"$f":"('WS Calcs'!$L$2*'WS Calcs'!$L$3*('BMP Calcs'!C386/12))*Assignments!$E61*'BMP Calcs'!C193*2.72","v":{"$error":"#N/A"}},{"$f":"('WS Calcs'!$L$2*'WS Calcs'!$L$3*('BMP Calcs'!D386/12))*Assignments!$E61*'BMP Calcs'!D193*2.72","v":{"$error":"#N/A"}},{"$f":"('WS Calcs'!$L$2*'WS Calcs'!$L$3*('BMP Calcs'!E386/12))*Assignments!$E61*'BMP Calcs'!E193*2.72","v":{"$error":"#N/A"}},null,{"$f":"('WS Calcs'!$L$2*'WS Calcs'!$L$3*('BMP Calcs'!G386/12))*Assignments!$E61*'BMP Calcs'!G193*2.72","v":{"$error":"#N/A"}},{"$f":"('WS Calcs'!$L$2*'WS Calcs'!$L$3*('BMP Calcs'!H386/12))*Assignments!$E61*'BMP Calcs'!H193*2.72","v":{"$error":"#N/A"}},{"$f":"('WS Calcs'!$L$2*'WS Calcs'!$L$3*('BMP Calcs'!I386/12))*Assignments!$E61*'BMP Calcs'!I193*2.72","v":{"$error":"#N/A"}},null,{"$f":"('WS Calcs'!$L$2*'WS Calcs'!$L$3*('BMP Calcs'!K386/12))*Assignments!$E61*'BMP Calcs'!K193*2.72","v":{"$error":"#N/A"}},{"$f":"('WS Calcs'!$L$2*'WS Calcs'!$L$3*('BMP Calcs'!L386/12))*Assignments!$E61*'BMP Calcs'!L193*2.72","v":{"$error":"#N/A"}},{"$f":"('WS Calcs'!$L$2*'WS Calcs'!$L$3*('BMP Calcs'!M386/12))*Assignments!$E61*'BMP Calcs'!M193*2.72","v":{"$error":"#N/A"}},null,{"$f":"('WS Calcs'!$L$2*'WS Calcs'!$L$3*('BMP Calcs'!O386/12))*Assignments!$E61*'BMP Calcs'!O193*2.72","v":{"$error":"#N/A"}},{"$f":"('WS Calcs'!$L$2*'WS Calcs'!$L$3*('BMP Calcs'!P386/12))*Assignments!$E61*'BMP Calcs'!P193*2.72","v":{"$error":"#N/A"}},{"$f":"('WS Calcs'!$L$2*'WS Calcs'!$L$3*('BMP Calcs'!Q386/12))*Assignments!$E61*'BMP Calcs'!Q193*2.72","v":{"$error":"#N/A"}},null,{"$f":"('WS Calcs'!$L$2*'WS Calcs'!$L$3*('BMP Calcs'!S386/12))*Assignments!$E61*'BMP Calcs'!S193*2.72","v":{"$error":"#N/A"}},{"$f":"('WS Calcs'!$L$2*'WS Calcs'!$L$3*('BMP Calcs'!T386/12))*Assignments!$E61*'BMP Calcs'!T193*2.72","v":{"$error":"#N/A"}},{"$f":"('WS Calcs'!$L$2*'WS Calcs'!$L$3*('BMP Calcs'!U386/12))*Assignments!$E61*'BMP Calcs'!U193*2.72","v":{"$error":"#N/A"}},null,{"$f":"('WS Calcs'!$L$2*'WS Calcs'!$L$3*('BMP Calcs'!W386/12))*Assignments!$E61*'BMP Calcs'!W193*2.72","v":{"$error":"#N/A"}},{"$f":"('WS Calcs'!$L$2*'WS Calcs'!$L$3*('BMP Calcs'!X386/12))*Assignments!$E61*'BMP Calcs'!X193*2.72","v":{"$error":"#N/A"}},{"$f":"('WS Calcs'!$L$2*'WS Calcs'!$L$3*('BMP Calcs'!Y386/12))*Assignments!$E61*'BMP Calcs'!Y193*2.72","v":{"$error":"#N/A"}},null,null,null,{"$f":"('WS Calcs'!$L$2*'WS Calcs'!$L$3*('BMP Calcs'!AC386/12))*Assignments!$E61*'BMP Calcs'!AC193*2.72","v":{"$error":"#N/A"}},{"$f":"('WS Calcs'!$L$2*'WS Calcs'!$L$3*('BMP Calcs'!AD386/12))*Assignments!$E61*'BMP Calcs'!AD193*2.72","v":{"$error":"#N/A"}}]
[null,"     Lawn",{"$f":"('WS Calcs'!$L$2*'WS Calcs'!$L$3*('BMP Calcs'!C387/12))*Assignments!$E62*'BMP Calcs'!C194*2.72","v":{"$error":"#N/A"}},{"$f":"('WS Calcs'!$L$2*'WS Calcs'!$L$3*('BMP Calcs'!D387/12))*Assignments!$E62*'BMP Calcs'!D194*2.72","v":{"$error":"#N/A"}},{"$f":"('WS Calcs'!$L$2*'WS Calcs'!$L$3*('BMP Calcs'!E387/12))*Assignments!$E62*'BMP Calcs'!E194*2.72","v":{"$error":"#N/A"}},null,{"$f":"('WS Calcs'!$L$2*'WS Calcs'!$L$3*('BMP Calcs'!G387/12))*Assignments!$E62*'BMP Calcs'!G194*2.72","v":{"$error":"#N/A"}},{"$f":"('WS Calcs'!$L$2*'WS Calcs'!$L$3*('BMP Calcs'!H387/12))*Assignments!$E62*'BMP Calcs'!H194*2.72","v":{"$error":"#N/A"}},{"$f":"('WS Calcs'!$L$2*'WS Calcs'!$L$3*('BMP Calcs'!I387/12))*Assignments!$E62*'BMP Calcs'!I194*2.72","v":{"$error":"#N/A"}},null,{"$f":"('WS Calcs'!$L$2*'WS Calcs'!$L$3*('BMP Calcs'!K387/12))*Assignments!$E62*'BMP Calcs'!K194*2.72","v":{"$error":"#N/A"}},{"$f":"('WS Calcs'!$L$2*'WS Calcs'!$L$3*('BMP Calcs'!L387/12))*Assignments!$E62*'BMP Calcs'!L194*2.72","v":{"$error":"#N/A"}},{"$f":"('WS Calcs'!$L$2*'WS Calcs'!$L$3*('BMP Calcs'!M387/12))*Assignments!$E62*'BMP Calcs'!M194*2.72","v":{"$error":"#N/A"}},null,{"$f":"('WS Calcs'!$L$2*'WS Calcs'!$L$3*('BMP Calcs'!O387/12))*Assignments!$E62*'BMP Calcs'!O194*2.72","v":{"$error":"#N/A"}},{"$f":"('WS Calcs'!$L$2*'WS Calcs'!$L$3*('BMP Calcs'!P387/12))*Assignments!$E62*'BMP Calcs'!P194*2.72","v":{"$error":"#N/A"}},{"$f":"('WS Calcs'!$L$2*'WS Calcs'!$L$3*('BMP Calcs'!Q387/12))*Assignments!$E62*'BMP Calcs'!Q194*2.72","v":{"$error":"#N/A"}},null,{"$f":"('WS Calcs'!$L$2*'WS Calcs'!$L$3*('BMP Calcs'!S387/12))*Assignments!$E62*'BMP Calcs'!S194*2.72","v":{"$error":"#N/A"}},{"$f":"('WS Calcs'!$L$2*'WS Calcs'!$L$3*('BMP Calcs'!T387/12))*Assignments!$E62*'BMP Calcs'!T194*2.72","v":{"$error":"#N/A"}},{"$f":"('WS Calcs'!$L$2*'WS Calcs'!$L$3*('BMP Calcs'!U387/12))*Assignments!$E62*'BMP Calcs'!U194*2.72","v":{"$error":"#N/A"}},null,{"$f":"('WS Calcs'!$L$2*'WS Calcs'!$L$3*('BMP Calcs'!W387/12))*Assignments!$E62*'BMP Calcs'!W194*2.72","v":{"$error":"#N/A"}},{"$f":"('WS Calcs'!$L$2*'WS Calcs'!$L$3*('BMP Calcs'!X387/12))*Assignments!$E62*'BMP Calcs'!X194*2.72","v":{"$error":"#N/A"}},{"$f":"('WS Calcs'!$L$2*'WS Calcs'!$L$3*('BMP Calcs'!Y387/12))*Assignments!$E62*'BMP Calcs'!Y194*2.72","v":{"$error":"#N/A"}},null,null,null,{"$f":"('WS Calcs'!$L$2*'WS Calcs'!$L$3*('BMP Calcs'!AC387/12))*Assignments!$E62*'BMP Calcs'!AC194*2.72","v":{"$error":"#N/A"}},{"$f":"('WS Calcs'!$L$2*'WS Calcs'!$L$3*('BMP Calcs'!AD387/12))*Assignments!$E62*'BMP Calcs'!AD194*2.72","v":{"$error":"#N/A"}}]
[null,"     Managed pervious",{"$f":"('WS Calcs'!$L$2*'WS Calcs'!$L$3*('BMP Calcs'!C388/12))*Assignments!$E63*'BMP Calcs'!C195*2.72","v":{"$error":"#N/A"}},{"$f":"('WS Calcs'!$L$2*'WS Calcs'!$L$3*('BMP Calcs'!D388/12))*Assignments!$E63*'BMP Calcs'!D195*2.72","v":{"$error":"#N/A"}},{"$f":"('WS Calcs'!$L$2*'WS Calcs'!$L$3*('BMP Calcs'!E388/12))*Assignments!$E63*'BMP Calcs'!E195*2.72","v":{"$error":"#N/A"}},null,{"$f":"('WS Calcs'!$L$2*'WS Calcs'!$L$3*('BMP Calcs'!G388/12))*Assignments!$E63*'BMP Calcs'!G195*2.72","v":{"$error":"#N/A"}},{"$f":"('WS Calcs'!$L$2*'WS Calcs'!$L$3*('BMP Calcs'!H388/12))*Assignments!$E63*'BMP Calcs'!H195*2.72","v":{"$error":"#N/A"}},{"$f":"('WS Calcs'!$L$2*'WS Calcs'!$L$3*('BMP Calcs'!I388/12))*Assignments!$E63*'BMP Calcs'!I195*2.72","v":{"$error":"#N/A"}},null,{"$f":"('WS Calcs'!$L$2*'WS Calcs'!$L$3*('BMP Calcs'!K388/12))*Assignments!$E63*'BMP Calcs'!K195*2.72","v":{"$error":"#N/A"}},{"$f":"('WS Calcs'!$L$2*'WS Calcs'!$L$3*('BMP Calcs'!L388/12))*Assignments!$E63*'BMP Calcs'!L195*2.72","v":{"$error":"#N/A"}},{"$f":"('WS Calcs'!$L$2*'WS Calcs'!$L$3*('BMP Calcs'!M388/12))*Assignments!$E63*'BMP Calcs'!M195*2.72","v":{"$error":"#N/A"}},null,{"$f":"('WS Calcs'!$L$2*'WS Calcs'!$L$3*('BMP Calcs'!O388/12))*Assignments!$E63*'BMP Calcs'!O195*2.72","v":{"$error":"#N/A"}},{"$f":"('WS Calcs'!$L$2*'WS Calcs'!$L$3*('BMP Calcs'!P388/12))*Assignments!$E63*'BMP Calcs'!P195*2.72","v":{"$error":"#N/A"}},{"$f":"('WS Calcs'!$L$2*'WS Calcs'!$L$3*('BMP Calcs'!Q388/12))*Assignments!$E63*'BMP Calcs'!Q195*2.72","v":{"$error":"#N/A"}},null,{"$f":"('WS Calcs'!$L$2*'WS Calcs'!$L$3*('BMP Calcs'!S388/12))*Assignments!$E63*'BMP Calcs'!S195*2.72","v":{"$error":"#N/A"}},{"$f":"('WS Calcs'!$L$2*'WS Calcs'!$L$3*('BMP Calcs'!T388/12))*Assignments!$E63*'BMP Calcs'!T195*2.72","v":{"$error":"#N/A"}},{"$f":"('WS Calcs'!$L$2*'WS Calcs'!$L$3*('BMP Calcs'!U388/12))*Assignments!$E63*'BMP Calcs'!U195*2.72","v":{"$error":"#N/A"}},null,{"$f":"('WS Calcs'!$L$2*'WS Calcs'!$L$3*('BMP Calcs'!W388/12))*Assignments!$E63*'BMP Calcs'!W195*2.72","v":{"$error":"#N/A"}},{"$f":"('WS Calcs'!$L$2*'WS Calcs'!$L$3*('BMP Calcs'!X388/12))*Assignments!$E63*'BMP Calcs'!X195*2.72","v":{"$error":"#N/A"}},{"$f":"('WS Calcs'!$L$2*'WS Calcs'!$L$3*('BMP Calcs'!Y388/12))*Assignments!$E63*'BMP Calcs'!Y195*2.72","v":{"$error":"#N/A"}},null,null,null,{"$f":"('WS Calcs'!$L$2*'WS Calcs'!$L$3*('BMP Calcs'!AC388/12))*Assignments!$E63*'BMP Calcs'!AC195*2.72","v":{"$error":"#N/A"}},{"$f":"('WS Calcs'!$L$2*'WS Calcs'!$L$3*('BMP Calcs'!AD388/12))*Assignments!$E63*'BMP Calcs'!AD195*2.72","v":{"$error":"#N/A"}}]
[null,"     Woods",{"$f":"('WS Calcs'!$L$2*'WS Calcs'!$L$3*('BMP Calcs'!C389/12))*Assignments!$E64*'BMP Calcs'!C196*2.72","v":{"$error":"#N/A"}},{"$f":"('WS Calcs'!$L$2*'WS Calcs'!$L$3*('BMP Calcs'!D389/12))*Assignments!$E64*'BMP Calcs'!D196*2.72","v":{"$error":"#N/A"}},{"$f":"('WS Calcs'!$L$2*'WS Calcs'!$L$3*('BMP Calcs'!E389/12))*Assignments!$E64*'BMP Calcs'!E196*2.72","v":{"$error":"#N/A"}},null,{"$f":"('WS Calcs'!$L$2*'WS Calcs'!$L$3*('BMP Calcs'!G389/12))*Assignments!$E64*'BMP Calcs'!G196*2.72","v":{"$error":"#N/A"}},{"$f":"('WS Calcs'!$L$2*'WS Calcs'!$L$3*('BMP Calcs'!H389/12))*Assignments!$E64*'BMP Calcs'!H196*2.72","v":{"$error":"#N/A"}},{"$f":"('WS Calcs'!$L$2*'WS Calcs'!$L$3*('BMP Calcs'!I389/12))*Assignments!$E64*'BMP Calcs'!I196*2.72","v":{"$error":"#N/A"}},null,{"$f":"('WS Calcs'!$L$2*'WS Calcs'!$L$3*('BMP Calcs'!K389/12))*Assignments!$E64*'BMP Calcs'!K196*2.72","v":{"$error":"#N/A"}},{"$f":"('WS Calcs'!$L$2*'WS Calcs'!$L$3*('BMP Calcs'!L389/12))*Assignments!$E64*'BMP Calcs'!L196*2.72","v":{"$error":"#N/A"}},{"$f":"('WS Calcs'!$L$2*'WS Calcs'!$L$3*('BMP Calcs'!M389/12))*Assignments!$E64*'BMP Calcs'!M196*2.72","v":{"$error":"#N/A"}},null,{"$f":"('WS Calcs'!$L$2*'WS Calcs'!$L$3*('BMP Calcs'!O389/12))*Assignments!$E64*'BMP Calcs'!O196*2.72","v":{"$error":"#N/A"}},{"$f":"('WS Calcs'!$L$2*'WS Calcs'!$L$3*('BMP Calcs'!P389/12))*Assignments!$E64*'BMP Calcs'!P196*2.72","v":{"$error":"#N/A"}},{"$f":"('WS Calcs'!$L$2*'WS Calcs'!$L$3*('BMP Calcs'!Q389/12))*Assignments!$E64*'BMP Calcs'!Q196*2.72","v":{"$error":"#N/A"}},null,{"$f":"('WS Calcs'!$L$2*'WS Calcs'!$L$3*('BMP Calcs'!S389/12))*Assignments!$E64*'BMP Calcs'!S196*2.72","v":{"$error":"#N/A"}},{"$f":"('WS Calcs'!$L$2*'WS Calcs'!$L$3*('BMP Calcs'!T389/12))*Assignments!$E64*'BMP Calcs'!T196*2.72","v":{"$error":"#N/A"}},{"$f":"('WS Calcs'!$L$2*'WS Calcs'!$L$3*('BMP Calcs'!U389/12))*Assignments!$E64*'BMP Calcs'!U196*2.72","v":{"$error":"#N/A"}},null,{"$f":"('WS Calcs'!$L$2*'WS Calcs'!$L$3*('BMP Calcs'!W389/12))*Assignments!$E64*'BMP Calcs'!W196*2.72","v":{"$error":"#N/A"}},{"$f":"('WS Calcs'!$L$2*'WS Calcs'!$L$3*('BMP Calcs'!X389/12))*Assignments!$E64*'BMP Calcs'!X196*2.72","v":{"$error":"#N/A"}},{"$f":"('WS Calcs'!$L$2*'WS Calcs'!$L$3*('BMP Calcs'!Y389/12))*Assignments!$E64*'BMP Calcs'!Y196*2.72","v":{"$error":"#N/A"}},null,null,null,{"$f":"('WS Calcs'!$L$2*'WS Calcs'!$L$3*('BMP Calcs'!AC389/12))*Assignments!$E64*'BMP Calcs'!AC196*2.72","v":{"$error":"#N/A"}},{"$f":"('WS Calcs'!$L$2*'WS Calcs'!$L$3*('BMP Calcs'!AD389/12))*Assignments!$E64*'BMP Calcs'!AD196*2.72","v":{"$error":"#N/A"}}]
[null,"LAND TAKEN UP BY BMP",{"$f":"('WS Calcs'!$L$2*'WS Calcs'!$L$3*('BMP Calcs'!C390/12))*Assignments!$E65*'BMP Calcs'!C197*2.72","v":{"$error":"#N/A"}},{"$f":"('WS Calcs'!$L$2*'WS Calcs'!$L$3*('BMP Calcs'!D390/12))*Assignments!$E65*'BMP Calcs'!D197*2.72","v":{"$error":"#N/A"}},{"$f":"('WS Calcs'!$L$2*'WS Calcs'!$L$3*('BMP Calcs'!E390/12))*Assignments!$E65*'BMP Calcs'!E197*2.72","v":{"$error":"#N/A"}},null,{"$f":"('WS Calcs'!$L$2*'WS Calcs'!$L$3*('BMP Calcs'!G390/12))*Assignments!$E65*'BMP Calcs'!G197*2.72","v":{"$error":"#N/A"}},{"$f":"('WS Calcs'!$L$2*'WS Calcs'!$L$3*('BMP Calcs'!H390/12))*Assignments!$E65*'BMP Calcs'!H197*2.72","v":{"$error":"#N/A"}},{"$f":"('WS Calcs'!$L$2*'WS Calcs'!$L$3*('BMP Calcs'!I390/12))*Assignments!$E65*'BMP Calcs'!I197*2.72","v":{"$error":"#N/A"}},null,{"$f":"('WS Calcs'!$L$2*'WS Calcs'!$L$3*('BMP Calcs'!K390/12))*Assignments!$E65*'BMP Calcs'!K197*2.72","v":{"$error":"#N/A"}},{"$f":"('WS Calcs'!$L$2*'WS Calcs'!$L$3*('BMP Calcs'!L390/12))*Assignments!$E65*'BMP Calcs'!L197*2.72","v":{"$error":"#N/A"}},{"$f":"('WS Calcs'!$L$2*'WS Calcs'!$L$3*('BMP Calcs'!M390/12))*Assignments!$E65*'BMP Calcs'!M197*2.72","v":{"$error":"#N/A"}},null,{"$f":"('WS Calcs'!$L$2*'WS Calcs'!$L$3*('BMP Calcs'!O390/12))*Assignments!$E65*'BMP Calcs'!O197*2.72","v":{"$error":"#N/A"}},{"$f":"('WS Calcs'!$L$2*'WS Calcs'!$L$3*('BMP Calcs'!P390/12))*Assignments!$E65*'BMP Calcs'!P197*2.72","v":{"$error":"#N/A"}},{"$f":"('WS Calcs'!$L$2*'WS Calcs'!$L$3*('BMP Calcs'!Q390/12))*Assignments!$E65*'BMP Calcs'!Q197*2.72","v":{"$error":"#N/A"}},null,{"$f":"('WS Calcs'!$L$2*'WS Calcs'!$L$3*('BMP Calcs'!S390/12))*Assignments!$E65*'BMP Calcs'!S197*2.72","v":{"$error":"#N/A"}},{"$f":"('WS Calcs'!$L$2*'WS Calcs'!$L$3*('BMP Calcs'!T390/12))*Assignments!$E65*'BMP Calcs'!T197*2.72","v":{"$error":"#N/A"}},{"$f":"('WS Calcs'!$L$2*'WS Calcs'!$L$3*('BMP Calcs'!U390/12))*Assignments!$E65*'BMP Calcs'!U197*2.72","v":{"$error":"#N/A"}},null,{"$f":"('WS Calcs'!$L$2*'WS Calcs'!$L$3*('BMP Calcs'!W390/12))*Assignments!$E65*'BMP Calcs'!W197*2.72","v":{"$error":"#N/A"}},{"$f":"('WS Calcs'!$L$2*'WS Calcs'!$L$3*('BMP Calcs'!X390/12))*Assignments!$E65*'BMP Calcs'!X197*2.72","v":{"$error":"#N/A"}},{"$f":"('WS Calcs'!$L$2*'WS Calcs'!$L$3*('BMP Calcs'!Y390/12))*Assignments!$E65*'BMP Calcs'!Y197*2.72","v":{"$error":"#N/A"}},null,null,null,{"$f":"('WS Calcs'!$L$2*'WS Calcs'!$L$3*('BMP Calcs'!AC390/12))*Assignments!$E65*'BMP Calcs'!AC197*2.72","v":{"$error":"#N/A"}},{"$f":"('WS Calcs'!$L$2*'WS Calcs'!$L$3*('BMP Calcs'!AD390/12))*Assignments!$E65*'BMP Calcs'!AD197*2.72","v":{"$error":"#N/A"}}]
[null,null,null,null,null,null,null,null,null,null,null,null,null,null,null,null,null,null,null,null,null,null,null,null,null,null,null,null,"TOTAL",{"$f":"SUM(AD589:AD650)","v":{"$error":"#N/A"}}]
[]
[null,"TOTAL PHOSPHORUS\nEMC","TP (mg/L)","TP (mg/L)","TP (mg/L)",null,"TP (mg/L)","TP (mg/L)","TP (mg/L)",null,"TP (mg/L)","TP (mg/L)","TP (mg/L)",null,"TP (mg/L)","TP (mg/L)","TP (mg/L)",null,"TP (mg/L)","TP (mg/L)","TP (mg/L)",null,"TP (mg/L)","TP (mg/L)","TP (mg/L)",null,null,null,"TP (mg/L)","TP (mg/L)"]
[null,"COMMERCIAL"]
[null,"     Parking lot",{"$f":"Assignments!E13","v":0.16},{"$f":"C655","v":0.16},{"$f":"C655","v":0.16},null,{"$f":"C655","v":0.16},{"$f":"C655","v":0.16},{"$f":"C655","v":0.16},null,{"$f":"C655","v":0.16},{"$f":"C655","v":0.16},{"$f":"C655","v":0.16},null,{"$f":"C655","v":0.16},{"$f":"C655","v":0.16},{"$f":"C655","v":0.16},null,{"$f":"C655","v":0.16},{"$f":"C655","v":0.16},{"$f":"C655","v":0.16},null,{"$f":"C655","v":0.16},{"$f":"C655","v":0.16},{"$f":"C655","v":0.16},{"$f":"D655","v":0.16},null,null,{"$f":"G655","v":0.16},{"$f":"AC655","v":0.16}]
[null,"     Roof",{"$f":"Assignments!E14","v":0.15},0.15,0.15,null,0.15,0.15,0.15,null,0.15,0.15,0.15,null,0.15,0.15,0.15,null,0.15,0.15,0.15,null,0.15,0.15,0.15,null,null,null,0.15,{"$f":"AC656","v":0.15}]
[null,"INDUSTRIAL",{"$f":"Assignments!E15","v":0},0,0,null,0,0,0,null,0,0,0,null,0,0,0,null,0,0,0,null,0,0,0,null,null,null,0,0]
[null,"     Parking lot",{"$f":"Assignments!E16","v":0.39},0.39,0.39,null,0.39,0.39,0.39,null,0.39,0.39,0.39,null,0.39,0.39,0.39,null,0.39,0.39,0.39,null,0.39,0.39,0.39,null,null,null,0.39,0.39]
[null,"     Roof",{"$f":"Assignments!E17","v":0.15},0.15,0.15,null,0.15,0.15,0.15,null,0.15,0.15,0.15,null,0.15,0.15,0.15,null,0.15,0.15,0.15,null,0.15,0.15,0.15,null,null,null,0.15,0.15]
[null,"     Access road",{"$f":"Assignments!E18","v":0.34},0.34,0.34,null,0.34,0.34,0.34,null,0.34,0.34,0.34,null,0.34,0.34,0.34,null,0.34,0.34,0.34,null,0.34,0.34,0.34,null,null,null,0.34,0.34]
[null,"     Impervious, uncovered storage",{"$f":"Assignments!E19","v":0.34},{"$f":"C661","v":0.34},{"$f":"C661","v":0.34},null,{"$f":"C661","v":0.34},{"$f":"C661","v":0.34},{"$f":"C661","v":0.34},null,{"$f":"C661","v":0.34},{"$f":"C661","v":0.34},{"$f":"C661","v":0.34},null,{"$f":"C661","v":0.34},{"$f":"C661","v":0.34},{"$f":"C661","v":0.34},null,{"$f":"C661","v":0.34},{"$f":"C661","v":0.34},{"$f":"C661","v":0.34},null,{"$f":"C661","v":0.34},{"$f":"C661","v":0.34},{"$f":"C661","v":0.34},null,null,null,{"$f":"G661","v":0.34},{"$f":"AC661","v":0.34}]
[null,"     Pervious, uncovered storage",{"$f":"Assignments!E20","v":0.25},0.25,0.25,null,0.25,0.25,0.25,null,0.25,0.25,0.25,null,0.25,0.25,0.25,null,0.25,0.25,0.25,null,0.25,0.25,0.25,null,null,null,0.25,0.25]
[null,"TRANSPORTATION",{"$f":"Assignments!E21","v":0},0,0,null,0,0,0,null,0,0,0,null,0,0,0,null,0,0,0,null,0,0,0,null,null,null,0,0]
[null,"     Primary road EOP",{"$f":"Assignments!E22","v":0.08},0.08,0.08,null,0.08,0.08,0.08,null,0.08,0.08,0.08,null,0.08,0.08,0.08,null,0.08,0.08,0.08,null,0.08,0.08,0.08,null,null,null,0.08,0.08]
[null,"     Secondary road EOP",{"$f":"Assignments!E23","v":0.1},0.1,0.1,null,0.1,0.1,0.1,null,0.1,0.1,0.1,null,0.1,0.1,0.1,null,0.1,0.1,0.1,null,0.1,0.1,0.1,null,null,null,0.1,0.1]
[null,"     Bridge EOP",{"$f":"Assignments!E24","v":0.17},0.17,0.17,null,0.17,0.17,0.17,null,0.17,0.17,0.17,null,0.17,0.17,0.17,null,0.17,0.17,0.17,null,0.17,0.17,0.17,null,null,null,0.17,0.17]
[null,"     Sidewalk",{"$f":"Assignments!E25","v":1.1599999999999999},1.1599999999999999,1.1599999999999999,null,1.1599999999999999,1.1599999999999999,1.1599999999999999,null,1.1599999999999999,1.1599999999999999,1.1599999999999999,null,1.1599999999999999,1.1599999999999999,1.1599999999999999,null,1.1599999999999999,1.1599999999999999,1.1599999999999999,null,1.1599999999999999,1.1599999999999999,1.1599999999999999,null,null,null,1.1599999999999999,1.1599999999999999]
[null,"REST AREA",{"$f":"Assignments!E26","v":0},0,0,null,0,0,0,null,0,0,0,null,0,0,0,null,0,0,0,null,0,0,0,null,null,null,0,0]
[null,"     Parking lot (car)",{"$f":"Assignments!E27","v":0.48},0.48,0.48,null,0.48,0.48,0.48,null,0.48,0.48,0.48,null,0.48,0.48,0.48,null,0.48,0.48,0.48,null,0.48,0.48,0.48,null,null,null,0.48,0.48]
[null,"     Parking lot (truck)",{"$f":"Assignments!E28","v":1.38},1.38,1.38,null,1.38,1.38,1.38,null,1.38,1.38,1.38,null,1.38,1.38,1.38,null,1.38,1.38,1.38,null,1.38,1.38,1.38,null,null,null,1.38,1.38]
[null,"     Roof",{"$f":"Assignments!E29","v":0.15},0.15,0.15,null,0.15,0.15,0.15,null,0.15,0.15,0.15,null,0.15,0.15,0.15,null,0.15,0.15,0.15,null,0.15,0.15,0.15,null,null,null,0.15,0.15]
[null,"MISC. PERVIOUS",{"$f":"Assignments!E30","v":0},0,0,null,0,0,0,null,0,0,0,null,0,0,0,null,0,0,0,null,0,0,0,null,null,null,0,0]
[null,"     Managed lawn (fertilized)",{"$f":"Assignments!E31","v":0.59},0.59,0.59,null,0.59,0.59,0.59,null,0.59,0.59,0.59,null,0.59,0.59,0.59,null,0.59,0.59,0.59,null,0.59,0.59,0.59,null,null,null,0.59,0.59]
[null,"     Open space (unfertilized)",{"$f":"Assignments!E32","v":0.25},0.25,0.25,null,0.25,0.25,0.25,null,0.25,0.25,0.25,null,0.25,0.25,0.25,null,0.25,0.25,0.25,null,0.25,0.25,0.25,null,null,null,0.25,0.25]
[null,"     Open/Landscaped",{"$f":"Assignments!E33","v":0.44},0.44,0.44,null,0.44,0.44,0.44,null,0.44,0.44,0.44,null,0.44,0.44,0.44,null,0.44,0.44,0.44,null,0.44,0.44,0.44,null,null,null,0.44,0.44]
[null,"     Agriculture (crop)",{"$f":"Assignments!E34","v":1.23},1.23,1.23,null,1.23,1.23,1.23,null,1.23,1.23,1.23,null,1.23,1.23,1.23,null,1.23,1.23,1.23,null,1.23,1.23,1.23,null,null,null,1.23,1.23]
[null,"     Agriculture (pasture)",{"$f":"Assignments!E35","v":1.56},1.56,1.56,null,1.56,1.56,1.56,null,1.56,1.56,1.56,null,1.56,1.56,1.56,null,1.56,1.56,1.56,null,1.56,1.56,1.56,null,null,null,1.56,1.56]
[null,"     Forest",{"$f":"Assignments!E36","v":0.25},0.25,0.25,null,0.25,0.25,0.25,null,0.25,0.25,0.25,null,0.25,0.25,0.25,null,0.25,0.25,0.25,null,0.25,0.25,0.25,null,null,null,0.25,0.25]
[null,"UNSPECIFIED LAND USE",{"$f":"Assignments!E37","v":0},0,0,null,0,0,0,null,0,0,0,null,0,0,0,null,0,0,0,null,0,0,0,null,null,null,0,0]
[null,"     Blank 1",{"$f":"IF(Assignments!E38=\"NA\",0,Assignments!E38)","v":0},0,0,null,0,0,0,null,0,0,0,null,0,0,0,null,0,0,0,null,0,0,0,null,null,null,0,0]
[null,"     Blank 2",{"$f":"IF(Assignments!E39=\"NA\",0,Assignments!E39)","v":0},0,0,null,0,0,0,null,0,0,0,null,0,0,0,null,0,0,0,null,0,0,0,null,null,null,0,0]
[null,"RESIDENTIAL",{"$f":"Assignments!E40","v":0},0,0,null,0,0,0,null,0,0,0,null,0,0,0,null,0,0,0,null,0,0,0,null,null,null,0,0]
[null,"     2-ac lots (New)",{"$f":"MAX(C684:C685)","v":0.43776989999999999},{"$f":"C683","v":0.43776989999999999},{"$f":"C683","v":0.43776989999999999},null,{"$f":"C683","v":0.43776989999999999},{"$f":"C683","v":0.43776989999999999},{"$f":"C683","v":0.43776989999999999},null,{"$f":"C683","v":0.43776989999999999},{"$f":"C683","v":0.43776989999999999},{"$f":"C683","v":0.43776989999999999},null,{"$f":"C683","v":0.43776989999999999},{"$f":"C683","v":0.43776989999999999},{"$f":"C683","v":0.43776989999999999},null,{"$f":"C683","v":0.43776989999999999},{"$f":"C683","v":0.43776989999999999},{"$f":"C683","v":0.43776989999999999},null,{"$f":"C683","v":0.43776989999999999},{"$f":"C683","v":0.43776989999999999},{"$f":"C683","v":0.43776989999999999},null,null,null,0.43776989999999999,0.43776989999999999]
[null,"     2-ac lots (Built after 1995)",{"$f":"Assignments!E41","v":0.43776989999999999},0.43776989999999999,0.43776989999999999,null,0.43776989999999999,0.43776989999999999,0.43776989999999999,null,0.43776989999999999,0.43776989999999999,0.43776989999999999,null,0.43776989999999999,0.43776989999999999,0.43776989999999999,null,0.43776989999999999,0.43776989999999999,0.43776989999999999,null,0.43776989999999999,0.43776989999999999,0.43776989999999999,null,null,null,0.43776989999999999,0.43776989999999999]
[null,"     2-ac lots (Built before 1995)",{"$f":"Assignments!E49","v":0.434062},0.434062,0.434062,null,0.434062,0.434062,0.434062,null,0.434062,0.434062,0.434062,null,0.434062,0.434062,0.434062,null,0.434062,0.434062,0.434062,null,0.434062,0.434062,0.434062,null,null,null,0.434062,0.434062]
[null,"     1-ac lots (New)",{"$f":"MAX(C687:C688)","v":0.42966355000000001},0.42966355000000001,0.42966355000000001,null,0.42966355000000001,0.42966355000000001,0.42966355000000001,null,0.42966355000000001,0.42966355000000001,0.42966355000000001,null,0.42966355000000001,0.42966355000000001,0.42966355000000001,null,0.42966355000000001,0.42966355000000001,0.42966355000000001,null,0.42966355000000001,0.42966355000000001,0.42966355000000001,null,null,null,0.42966355000000001,0.42966355000000001]
[null,"     1-ac lots (Built after 1995)",{"$f":"Assignments!E42","v":0.42577644999999997},0.42577644999999997,0.42577644999999997,null,0.42577644999999997,0.42577644999999997,0.42577644999999997,null,0.42577644999999997,0.42577644999999997,0.42577644999999997,null,0.42577644999999997,0.42577644999999997,0.42577644999999997,null,0.42577644999999997,0.42577644999999997,0.42577644999999997,null,0.42577644999999997,0.42577644999999997,0.42577644999999997,null,null,null,0.42577644999999997,0.42577644999999997]
[null,"     1-ac lots (Built before 1995)",{"$f":"Assignments!E50","v":0.42966355000000001},0.42966355000000001,0.42966355000000001,null,0.42966355000000001,0.42966355000000001,0.42966355000000001,null,0.42966355000000001,0.42966355000000001,0.42966355000000001,null,0.42966355000000001,0.42966355000000001,0.42966355000000001,null,0.42966355000000001,0.42966355000000001,0.42966355000000001,null,0.42966355000000001,0.42966355000000001,0.42966355000000001,null,null,null,0.42966355000000001,0.42966355000000001]
[null,"     ½-ac lots (New)",{"$f":"MAX(C690:C691)","v":0.43118692999999997},0.43118692999999997,0.43118692999999997,null,0.43118692999999997,0.43118692999999997,0.43118692999999997,null,0.43118692999999997,0.43118692999999997,0.43118692999999997,null,0.43118692999999997,0.43118692999999997,0.43118692999999997,null,0.43118692999999997,0.43118692999999997,0.43118692999999997,null,0.43118692999999997,0.43118692999999997,0.43118692999999997,null,null,null,0.43118692999999997,0.43118692999999997]
[null,"     ½-ac lots (Built after 1995)",{"$f":"Assignments!E43","v":0.42787306999999997},0.42787306999999997,0.42787306999999997,null,0.42787306999999997,0.42787306999999997,0.42787306999999997,null,0.42787306999999997,0.42787306999999997,0.42787306999999997,null,0.42787306999999997,0.42787306999999997,0.42787306999999997,null,0.42787306999999997,0.42787306999999997,0.42787306999999997,null,0.42787306999999997,0.42787306999999997,0.42787306999999997,null,null,null,0.42787306999999997,0.42787306999999997]
[null,"     ½-ac lots (Built before 1995)",{"$f":"Assignments!E51","v":0.43118692999999997},0.43118692999999997,0.43118692999999997,null,0.43118692999999997,0.43118692999999997,0.43118692999999997,null,0.43118692999999997,0.43118692999999997,0.43118692999999997,null,0.43118692999999997,0.43118692999999997,0.43118692999999997,null,0.43118692999999997,0.43118692999999997,0.43118692999999997,null,0.43118692999999997,0.43118692999999997,0.43118692999999997,null,null,null,0.43118692999999997,0.43118692999999997]
[null,"     ¼-ac lots (New)",{"$f":"MAX(C693:C694)","v":0.42826586},0.42826586,0.42826586,null,0.42826586,0.42826586,0.42826586,null,0.42826586,0.42826586,0.42826586,null,0.42826586,0.42826586,0.42826586,null,0.42826586,0.42826586,0.42826586,null,0.42826586,0.42826586,0.42826586,null,null,null,0.42826586,0.42826586]
[null,"     ¼-ac lots (Built after 1995)",{"$f":"Assignments!E44","v":0.42385414000000005},0.42385414000000005,0.42385414000000005,null,0.42385414000000005,0.42385414000000005,0.42385414000000005,null,0.42385414000000005,0.42385414000000005,0.42385414000000005,null,0.42385414000000005,0.42385414000000005,0.42385414000000005,null,0.42385414000000005,0.42385414000000005,0.42385414000000005,null,0.42385414000000005,0.42385414000000005,0.42385414000000005,null,null,null,0.42385414000000005,0.42385414000000005]
[null,"     ¼-ac lots (Built before 1995)",{"$f":"Assignments!E52","v":0.42826586},0.42826586,0.42826586,null,0.42826586,0.42826586,0.42826586,null,0.42826586,0.42826586,0.42826586,null,0.42826586,0.42826586,0.42826586,null,0.42826586,0.42826586,0.42826586,null,0.42826586,0.42826586,0.42826586,null,null,null,0.42826586,0.42826586]
[null,"     ⅛-ac lots (New)",{"$f":"MAX(C696:C697)","v":0.42980355999999997},0.42980355999999997,0.42980355999999997,null,0.42980355999999997,0.42980355999999997,0.42980355999999997,null,0.42980355999999997,0.42980355999999997,0.42980355999999997,null,0.42980355999999997,0.42980355999999997,0.42980355999999997,null,0.42980355999999997,0.42980355999999997,0.42980355999999997,null,0.42980355999999997,0.42980355999999997,0.42980355999999997,null,null,null,0.42980355999999997,0.42980355999999997]
[null,"     ⅛-ac lots (Built after 1995)",{"$f":"Assignments!E45","v":0.42785644},0.42785644,0.42785644,null,0.42785644,0.42785644,0.42785644,null,0.42785644,0.42785644,0.42785644,null,0.42785644,0.42785644,0.42785644,null,0.42785644,0.42785644,0.42785644,null,0.42785644,0.42785644,0.42785644,null,null,null,0.42785644,0.42785644]
[null,"     ⅛-ac lots (Built before 1995)",{"$f":"Assignments!E53","v":0.42980355999999997},0.42980355999999997,0.42980355999999997,null,0.42980355999999997,0.42980355999999997,0.42980355999999997,null,0.42980355999999997,0.42980355999999997,0.42980355999999997,null,0.42980355999999997,0.42980355999999997,0.42980355999999997,null,0.42980355999999997,0.42980355999999997,0.42980355999999997,null,0.42980355999999997,0.42980355999999997,0.42980355999999997,null,null,null,0.42980355999999997,0.42980355999999997]
[null,"     Townhomes (New)",{"$f":"MAX(C699:C700)","v":0.41774309999999998},0.41774309999999998,0.41774309999999998,null,0.41774309999999998,0.41774309999999998,0.41774309999999998,null,0.41774309999999998,0.41774309999999998,0.41774309999999998,null,0.41774309999999998,0.41774309999999998,0.41774309999999998,null,0.41774309999999998,0.41774309999999998,0.41774309999999998,null,0.41774309999999998,0.41774309999999998,0.41774309999999998,null,null,null,0.41774309999999998,0.41774309999999998]
[null,"     Townhomes (Built after 1995)",{"$f":"Assignments!E46","v":0.41774309999999998},0.41774309999999998,0.41774309999999998,null,0.41774309999999998,0.41774309999999998,0.41774309999999998,null,0.41774309999999998,0.41774309999999998,0.41774309999999998,null,0.41774309999999998,0.41774309999999998,0.41774309999999998,null,0.41774309999999998,0.41774309999999998,0.41774309999999998,null,0.41774309999999998,0.41774309999999998,0.41774309999999998,null,null,null,0.41774309999999998,0.41774309999999998]
[null,"     Townhomes (Built before 1995)",{"$f":"Assignments!E54","v":0.41767690000000002},0.41767690000000002,0.41767690000000002,null,0.41767690000000002,0.41767690000000002,0.41767690000000002,null,0.41767690000000002,0.41767690000000002,0.41767690000000002,null,0.41767690000000002,0.41767690000000002,0.41767690000000002,null,0.41767690000000002,0.41767690000000002,0.41767690000000002,null,0.41767690000000002,0.41767690000000002,0.41767690000000002,null,null,null,0.41767690000000002,0.41767690000000002]
[null,"     Multi-family (New)",{"$f":"MAX(C702:C703)","v":0.40799817999999999},0.40799817999999999,0.40799817999999999,null,0.40799817999999999,0.40799817999999999,0.40799817999999999,null,0.40799817999999999,0.40799817999999999,0.40799817999999999,null,0.40799817999999999,0.40799817999999999,0.40799817999999999,null,0.40799817999999999,0.40799817999999999,0.40799817999999999,null,0.40799817999999999,0.40799817999999999,0.40799817999999999,null,null,null,0.40799817999999999,0.40799817999999999]
[null,"     Multi-family (Built after 1995)",{"$f":"Assignments!E47","v":0.40799817999999999},0.40799817999999999,0.40799817999999999,null,0.40799817999999999,0.40799817999999999,0.40799817999999999,null,0.40799817999999999,0.40799817999999999,0.40799817999999999,null,0.40799817999999999,0.40799817999999999,0.40799817999999999,null,0.40799817999999999,0.40799817999999999,0.40799817999999999,null,0.40799817999999999,0.40799817999999999,0.40799817999999999,null,null,null,0.40799817999999999,0.40799817999999999]
[null,"     Multi-family (Built before 1995)",{"$f":"Assignments!E55","v":0.40790181999999997},0.40790181999999997,0.40790181999999997,null,0.40790181999999997,0.40790181999999997,0.40790181999999997,null,0.40790181999999997,0.40790181999999997,0.40790181999999997,null,0.40790181999999997,0.40790181999999997,0.40790181999999997,null,0.40790181999999997,0.40790181999999997,0.40790181999999997,null,0.40790181999999997,0.40790181999999997,0.40790181999999997,null,null,null,0.40790181999999997,0.40790181999999997]
[null,"     Custom Lot Size (New)",{"$f":"'WS Calcs'!E43","v":0},0,0,null,0,0,0,null,0,0,0,null,0,0,0,null,0,0,0,null,0,0,0,null,null,null,0,0]
[null,"     Custom Lot Size (Built after 1995)",{"$f":"IF('2. BMP Characteristics'!E95<>0, Assignments!E48,0)","v":0},{"$f":"IF('2. BMP Characteristics'!G95<>0, Assignments!E48,0)","v":0},{"$f":"IF('2. BMP Characteristics'!I95<>0, Assignments!E48,0)","v":0},null,{"$f":"IF('2. BMP Characteristics'!L95<>0, Assignments!E48,0)","v":0},{"$f":"IF('2. BMP Characteristics'!N95<>0, Assignments!E48,0)","v":0},{"$f":"IF('2. BMP Characteristics'!P95<>0, Assignments!E48,0)","v":0},null,{"$f":"IF('2. BMP Characteristics'!S95<>0, Assignments!E48,0)","v":0},{"$f":"IF('2. BMP Characteristics'!U95<>0, Assignments!E48,0)","v":0},{"$f":"IF('2. BMP Characteristics'!W95<>0, Assignments!E48,0)","v":0},null,{"$f":"IF('2. BMP Characteristics'!Z95<>0, Assignments!E48,0)","v":0},{"$f":"IF('2. BMP Characteristics'!AB95<>0, Assignments!E48,0)","v":0},{"$f":"IF('2. BMP Characteristics'!AD95<>0, Assignments!E48,0)","v":0},null,{"$f":"IF('2. BMP Characteristics'!AG95<>0, Assignments!E48,0)","v":0},{"$f":"IF('2. BMP Characteristics'!AI95<>0, Assignments!E48,0)","v":0},{"$f":"IF('2. BMP Characteristics'!AK95<>0, Assignments!E48,0)","v":0},null,{"$f":"IF('2. BMP Characteristics'!AN95<>0, Assignments!E48,0)","v":0},{"$f":"IF('2. BMP Characteristics'!AP95<>0, Assignments!E48,0)","v":0},{"$f":"IF('2. BMP Characteristics'!AR95<>0, Assignments!E48,0)","v":0},null,null,null,0,0]
[null,"     Custom Lot Size (Built before 1995)",{"$f":"IF('2. BMP Characteristics'!E96<>0,Assignments!E56,0)","v":0},{"$f":"IF('2. BMP Characteristics'!G96<>0,Assignments!E56,0)","v":0},{"$f":"IF('2. BMP Characteristics'!I96<>0,Assignments!E56,0)","v":0},null,{"$f":"IF('2. BMP Characteristics'!L96<>0,Assignments!E56,0)","v":0},{"$f":"IF('2. BMP Characteristics'!N96<>0,Assignments!E56,0)","v":0},{"$f":"IF('2. BMP Characteristics'!P96<>0,Assignments!E56,0)","v":0},null,{"$f":"IF('2. BMP Characteristics'!S96<>0,Assignments!E56,0)","v":0},{"$f":"IF('2. BMP Characteristics'!U96<>0,Assignments!E56,0)","v":0},{"$f":"IF('2. BMP Characteristics'!W96<>0,Assignments!E56,0)","v":0},null,{"$f":"IF('2. BMP Characteristics'!Z96<>0,Assignments!E56,0)","v":0},{"$f":"IF('2. BMP Characteristics'!AB96<>0,Assignments!E56,0)","v":0},{"$f":"IF('2. BMP Characteristics'!AD96<>0,Assignments!E56,0)","v":0},null,{"$f":"IF('2. BMP Characteristics'!AG96<>0,Assignments!E56,0)","v":0},{"$f":"IF('2. BMP Characteristics'!AI96<>0,Assignments!E56,0)","v":0},{"$f":"IF('2. BMP Characteristics'!AK96<>0,Assignments!E56,0)","v":0},null,{"$f":"IF('2. BMP Characteristics'!AN96<>0,Assignments!E56,0)","v":0},{"$f":"IF('2. BMP Characteristics'!AP96<>0,Assignments!E56,0)","v":0},{"$f":"IF('2. BMP Characteristics'!AR96<>0,Assignments!E56,0)","v":0},null,null,null,0,0]
[null,"     Roadway",{"$f":"Assignments!E57","v":0.52},0.52,0.52,null,0.52,0.52,0.52,null,0.52,0.52,0.52,null,0.52,0.52,0.52,null,0.52,0.52,0.52,null,0.52,0.52,0.52,null,null,null,0.52,0.52]
[null,"     Driveway",{"$f":"Assignments!E58","v":0.39},0.39,0.39,null,0.39,0.39,0.39,null,0.39,0.39,0.39,null,0.39,0.39,0.39,null,0.39,0.39,0.39,null,0.39,0.39,0.39,null,null,null,0.39,0.39]
[null,"     Parking lot",{"$f":"Assignments!E59","v":0.39},0.39,0.39,null,0.39,0.39,0.39,null,0.39,0.39,0.39,null,0.39,0.39,0.39,null,0.39,0.39,0.39,null,0.39,0.39,0.39,null,null,null,0.39,0.39]
[null,"     Roof",{"$f":"Assignments!E60","v":0.15},0.15,0.15,null,0.15,0.15,0.15,null,0.15,0.15,0.15,null,0.15,0.15,0.15,null,0.15,0.15,0.15,null,0.15,0.15,0.15,null,null,null,0.15,0.15]
[null,"     Sidewalk",{"$f":"Assignments!E61","v":1.1599999999999999},1.1599999999999999,1.1599999999999999,null,1.1599999999999999,1.1599999999999999,1.1599999999999999,null,1.1599999999999999,1.1599999999999999,1.1599999999999999,null,1.1599999999999999,1.1599999999999999,1.1599999999999999,null,1.1599999999999999,1.1599999999999999,1.1599999999999999,null,1.1599999999999999,1.1599999999999999,1.1599999999999999,null,null,null,1.1599999999999999,1.1599999999999999]
[null,"     Lawn",{"$f":"Assignments!E62","v":0.44},0.44,0.44,null,0.44,0.44,0.44,null,0.44,0.44,0.44,null,0.44,0.44,0.44,null,0.44,0.44,0.44,null,0.44,0.44,0.44,null,null,null,0.44,0.44]
[null,"     Managed pervious",{"$f":"Assignments!E63","v":0.59},0.59,0.59,null,0.59,0.59,0.59,null,0.59,0.59,0.59,null,0.59,0.59,0.59,null,0.59,0.59,0.59,null,0.59,0.59,0.59,null,null,null,0.59,0.59]
[null,"     Woods",{"$f":"Assignments!E64","v":0.25},0.25,0.25,null,0.25,0.25,0.25,null,0.25,0.25,0.25,null,0.25,0.25,0.25,null,0.25,0.25,0.25,null,0.25,0.25,0.25,null,null,null,0.25,0.25]
[null,"LAND TAKEN UP BY BMP",{"$f":"Assignments!E65","v":0.15},{"$f":"C715","v":0.15},{"$f":"C715","v":0.15},null,{"$f":"C715","v":0.15},{"$f":"C715","v":0.15},{"$f":"C715","v":0.15},null,{"$f":"C715","v":0.15},{"$f":"C715","v":0.15},{"$f":"C715","v":0.15},null,{"$f":"C715","v":0.15},{"$f":"C715","v":0.15},{"$f":"C715","v":0.15},null,{"$f":"C715","v":0.15},{"$f":"C715","v":0.15},{"$f":"C715","v":0.15},null,{"$f":"C715","v":0.15},{"$f":"C715","v":0.15},{"$f":"C715","v":0.15},null,null,null,{"$f":"G715","v":0.15},0.15]
[null,"Composite TP EMC:",{"$f":"(C655*C266)+(C656*C267)+(C658*C269)+(C659*C270)+(C660*C271)+(C664*C275)+(C665*C276)+(C666*C277)+(C667*C278)+(C673*C284)+(C674*C285)+(C678*C289)+(C684*C295)+(C685*C296)+(C687*C298)+(C688*C299)+(C690*C301)+(C691*C302)+(C693*C304)+(C694*C305)+(C696*C307)+(C697*C308)+(C699*C310)+(C700*C311)+(C702*C313)+(C703*C314)+(C707*C318)+(C708*C319)+(C709*C320)+(C710*C321)+(C711*C322)+(C712*C323)+(C713*C324)+(C714*C325)+(C683*C294)+(C297*C686)+(C689*C300)+(C303*C692)+(C695*C306)+(C698*C309)+(C312*C701)+(C704*C315)+(C316*C705)+(C317*C706)+(C715*C326)+(C272*C661)+(C273*C662)+(C280*C669)+(C281*C670)+(C282*C671)+(C286*C675)+(C287*C676)+(C288*C677)+(C291*C680)+(C292*C681)","v":0},{"$f":"(D655*D266)+(D656*D267)+(D658*D269)+(D659*D270)+(D660*D271)+(D664*D275)+(D665*D276)+(D666*D277)+(D667*D278)+(D673*D284)+(D674*D285)+(D678*D289)+(D684*D295)+(D685*D296)+(D687*D298)+(D688*D299)+(D690*D301)+(D691*D302)+(D693*D304)+(D694*D305)+(D696*D307)+(D697*D308)+(D699*D310)+(D700*D311)+(D702*D313)+(D703*D314)+(D707*D318)+(D708*D319)+(D709*D320)+(D710*D321)+(D711*D322)+(D712*D323)+(D713*D324)+(D714*D325)+(D683*D294)+(D297*D686)+(D689*D300)+(D303*D692)+(D695*D306)+(D698*D309)+(D312*D701)+(D704*D315)+(D316*D705)+(D317*D706)+(D715*D326)+(D272*D661)+(D273*D662)+(D280*D669)+(D281*D670)+(D282*D671)+(D286*D675)+(D287*D676)+(D288*D677)+(D291*D680)+(D292*D681)","v":0},0,0,0,0,0,0,0,0,0,0,0,0,0,0,0,0,0,0,0,0,0,{"$f":"(Z655*Z266)+(Z656*Z267)+(Z658*Z269)+(Z659*Z270)+(Z660*Z271)+(Z664*Z275)+(Z665*Z276)+(Z666*Z277)+(Z667*Z278)+(Z673*Z284)+(Z674*Z285)+(Z678*Z289)+(Z684*Z295)+(Z685*Z296)+(Z687*Z298)+(Z688*Z299)+(Z690*Z301)+(Z691*Z302)+(Z693*Z304)+(Z694*Z305)+(Z696*Z307)+(Z697*Z308)+(Z699*Z310)+(Z700*Z311)+(Z702*Z313)+(Z703*Z314)+(Z707*Z318)+(Z708*Z319)+(Z709*Z320)+(Z710*Z321)+(Z711*Z322)+(Z712*Z323)+(Z713*Z324)+(Z714*Z325)+(Z683*Z294)+(Z297*Z686)+(Z689*Z300)+(Z303*Z692)+(Z695*Z306)+(Z698*Z309)+(Z312*Z701)+(Z704*Z315)+(Z316*Z705)+(Z317*Z706)+(Z715*Z326)+(Z272*Z661)+(Z273*Z662)+(Z280*Z669)+(Z281*Z670)+(Z282*Z671)+(Z286*Z675)+(Z287*Z676)+(Z288*Z677)+(Z291*Z680)+(Z292*Z681)","v":0},null,null,{"$f":"(AC655*AC266)+(AC656*AC267)+(AC658*AC269)+(AC659*AC270)+(AC660*AC271)+(AC664*AC275)+(AC665*AC276)+(AC666*AC277)+(AC667*AC278)+(AC673*AC284)+(AC674*AC285)+(AC678*AC289)+(AC684*AC295)+(AC685*AC296)+(AC687*AC298)+(AC688*AC299)+(AC690*AC301)+(AC691*AC302)+(AC693*AC304)+(AC694*AC305)+(AC696*AC307)+(AC697*AC308)+(AC699*AC310)+(AC700*AC311)+(AC702*AC313)+(AC703*AC314)+(AC707*AC318)+(AC708*AC319)+(AC709*AC320)+(AC710*AC321)+(AC711*AC322)+(AC712*AC323)+(AC713*AC324)+(AC714*AC325)+(AC683*AC294)+(AC297*AC686)+(AC689*AC300)+(AC303*AC692)+(AC695*AC306)+(AC698*AC309)+(AC312*AC701)+(AC704*AC315)+(AC316*AC705)+(AC317*AC706)+(AC715*AC326)+(AC272*AC661)+(AC273*AC662)+(AC280*AC669)+(AC281*AC670)+(AC282*AC671)+(AC286*AC675)+(AC287*AC676)+(AC288*AC677)+(AC291*AC680)+(AC292*AC681)","v":{"$error":"#DIV/0!"}},{"$f":"(AD655*AD266)+(AD656*AD267)+(AD658*AD269)+(AD659*AD270)+(AD660*AD271)+(AD664*AD275)+(AD665*AD276)+(AD666*AD277)+(AD667*AD278)+(AD673*AD284)+(AD674*AD285)+(AD678*AD289)+(AD684*AD295)+(AD685*AD296)+(AD687*AD298)+(AD688*AD299)+(AD690*AD301)+(AD691*AD302)+(AD693*AD304)+(AD694*AD305)+(AD696*AD307)+(AD697*AD308)+(AD699*AD310)+(AD700*AD311)+(AD702*AD313)+(AD703*AD314)+(AD707*AD318)+(AD708*AD319)+(AD709*AD320)+(AD710*AD321)+(AD711*AD322)+(AD712*AD323)+(AD713*AD324)+(AD714*AD325)+(AD683*AD294)+(AD297*AD686)+(AD689*AD300)+(AD303*AD692)+(AD695*AD306)+(AD698*AD309)+(AD312*AD701)+(AD704*AD315)+(AD316*AD705)+(AD317*AD706)+(AD715*AD326)+(AD272*AD661)+(AD273*AD662)+(AD280*AD669)+(AD281*AD670)+(AD282*AD671)+(AD286*AD675)+(AD287*AD676)+(AD288*AD677)+(AD291*AD680)+(AD292*AD681)","v":{"$error":"#N/A"}}]

{"sheet":"Watershed Reset","index":7,"n_rows":67,"n_cols":18,"rows_kept":67,"cut":false,"hidden":true,"merged":[[95,2,96,2],[95,3,96,3],[95,4,96,4],[58,16,59,17],[60,11,61,15],[60,16,61,17],[66,2,69,6],[93,2,94,2],[93,3,94,3],[93,4,94,4],[58,2,58,6],[58,11,59,15],[50,11,50,12],[51,11,51,12],[55,2,55,6],[55,11,55,17],[56,11,57,15],[56,16,57,17],[49,11,49,12],[40,11,40,12],[41,11,41,12],[42,11,42,12],[43,11,43,12],[44,11,44,12],[45,11,45,12],[46,11,46,12],[48,2,48,6],[47,11,47,12],[48,11,48,12],[39,2,39,6],[25,1,25,7],[25,10,25,18],[27,2,28,2],[27,3,29,3],[27,4,29,4],[27,5,29,5],[27,6,29,6],[27,12,29,12],[27,13,29,13],[27,14,29,14],[27,15,29,15],[27,16,29,16],[27,17,29,17],[30,2,30,6],[33,2,33,6],[21,2,21,3],[21,4,21,6],[21,11,21,13],[21,14,21,17],[22,2,22,3],[22,4,22,6],[22,11,22,13],[22,14,22,17],[16,1,16,18],[17,1,17,18],[18,1,18,18],[20,2,20,3],[20,4,20,6],[20,11,20,13],[20,14,20,17],[15,1,15,18],[3,1,3,2],[4,1,4,17],[5,1,5,15],[6,1,6,17],[7,1,7,15],[8,1,8,17],[9,1,9,18],[10,1,10,17],[12,1,12,2],[13,1,13,18],[14,1,14,18]]}
[]
[null,"Watershed Characteristics"]
[]
[null,"Instructions"]
[null,"     1. Select your physiographic/geologic region. (see map on 'instructions' page)"]
[null,"     2. Enter the area of the entire development in square feet (ft2)."]
[null,"     3. Select the location that is most representative of the site's precipitation characteristics. (see map on 'instructions' page)"]
[null,"     4. For each applicable land use, enter the total area of that land use that lies within the development under pre-development conditions."]
[null,"     5. For each applicable land use, enter the total area of that land use that lies within the development under post-development conditions, before BMP implementation."]
[null,"     6. Ensure that the sum of pre- and post-development areas entered equal the orginal development area. "]
[null,"     7. Continue to \"BMP Characteristics\" tab."]
[]
[null,"Additional Guidelines"]
[null,"     - For non-residential watersheds, indicate acreages of each land use type in Column 1 for both pre- and post-development conditions."]
[null,"     - For residential watersheds, complete the required information in Column 2 for both pre- and post-development conditions. "]
[null,"     - If a given land use is not present in the given watershed, leave the cell blank or enter a zero."]
[null,"     - Ensure that land use areas entered for both pre- and post-development conditions match the total development area entered in cell O21."]
[null,"     - Residential areas may be entered by average lot size (column, part A), or may be separated into individual land uses (column 2, part B) -- do NOT list out individual land uses within an \n        area already described by lot size. "]
[null,"     - Unless runoff flowing onto the development from offsite is routed separately around or through the site, the offsite catchment area draining in must be included in the acreage\n        values of the appropriate land use(s) and treated."]
[]
[null,null,"Physiographic/Geologic Region:",null,null,null,null,null,null,null,null,"Total Development Area (ft2): "]
[null,null,"Soil Hydrologic Group",null,null,null,null,null,null,null,null,"Development Name:"]
[null,null,"Precipitation location:",null,null,null,null,null,null,null,null,"Model Prepared By: "]
[]
[]
[null,"COLUMN 1 -- NON-RESIDENTIAL LAND USES",null,null,null,null,null,null,null,null,"COLUMN 2 -- RESIDENTIAL LAND USES"]
[]
[null,null,null,"TN EMC\n(mg/L)","TP EMC\n(mg/L)","Pre-\nDevelopment\n(ft2)","Post-\nDevelopment\n(ft2)",null,null,null,null,null,"Custom Lot Size (ac)","Age\n(yrs)","TN EMC\n(mg/L)","TP EMC\n(mg/L)","Pre-\nDevelopment\n(ft2)","Post-\nDevelopment\n(ft2)"]
[]
[]
[null,null,"COMMERCIAL",null,null,null,null,null,null,null,null,"PART A"]
[null,null,"     Parking lot",{"$f":"Assignments!D13","v":1.44},{"$f":"Assignments!E13","v":0.16},null,null,null,null,null,null,"     ⅛-ac lots","--",null,{"$f":"IF(N32=\"After 1995\",Assignments!Q29,(IF(N32=\"Before 1995\",Assignments!Q62,IF(N32=\"New\",MAX(Assignments!Q29,Assignments!Q62),\"--\"))))","v":"--"},{"$f":"IF(N32=\"After 1995\",Assignments!Q18,(IF(N32=\"Before 1995\",Assignments!Q51,IF(N32=\"New\",MAX(Assignments!Q18,Assignments!Q51),\"--\"))))","v":"--"}]
[null,null,"     Roof",{"$f":"Assignments!D14","v":1.08},{"$f":"Assignments!E14","v":0.15},null,null,null,null,null,null,"     ¼-ac lots ","--",null,{"$f":"IF(N33=\"After 1995\",Assignments!Q28,(IF(N33=\"Before 1995\",Assignments!Q61,IF(N33=\"New\",MAX(Assignments!Q28,Assignments!Q61),\"--\"))))","v":"--"},{"$f":"IF(N33=\"After 1995\",Assignments!Q17,(IF(N33=\"Before 1995\",Assignments!Q50,IF(N33=\"New\",MAX(Assignments!Q17,Assignments!Q50),\"--\"))))","v":"--"}]
[null,null,"INDUSTRIAL",null,null,null,null,null,null,null,null,"     ½-ac lots","--",null,{"$f":"IF(N34=\"After 1995\",Assignments!Q27,(IF(N34=\"Before 1995\",Assignments!Q60,IF(N34=\"New\",MAX(Assignments!Q27,Assignments!Q60),\"--\"))))","v":"--"},{"$f":"IF(N34=\"After 1995\",Assignments!Q16,(IF(N34=\"Before 1995\",Assignments!Q49,IF(N34=\"New\",MAX(Assignments!Q16,Assignments!Q49),\"--\"))))","v":"--"}]
[null,null,"     Parking lot",{"$f":"Assignments!D16","v":1.44},{"$f":"Assignments!E16","v":0.39},null,null,null,null,null,null,"     1-ac lots","--",null,{"$f":"IF(N35=\"After 1995\",Assignments!Q26,(IF(N35=\"Before 1995\",Assignments!Q59,IF(N35=\"New\",MAX(Assignments!Q26, Assignments!Q59),\"--\"))))","v":"--"},{"$f":"IF(N35=\"After 1995\",Assignments!Q15,(IF(N35=\"Before 1995\",Assignments!Q48,IF(N35=\"New\",MAX(Assignments!Q15,Assignments!Q48),\"--\"))))","v":"--"}]
[null,null,"     Roof",{"$f":"Assignments!D17","v":1.08},{"$f":"Assignments!E17","v":0.15},null,null,null,null,null,null,"     2-ac lots","--",null,{"$f":"IF(N36=\"After 1995\",Assignments!Q25,(IF(N36=\"Before 1995\",Assignments!Q58,IF(N36=\"New\",MAX(Assignments!Q25,Assignments!Q58),\"--\"))))","v":"--"},{"$f":"IF(N36=\"After 1995\",Assignments!Q14,(IF(N36=\"Before 1995\",Assignments!Q47,IF(N36=\"New\",MAX(Assignments!Q14,Assignments!Q47),\"--\"))))","v":"--"}]
[null,null,"     Access road",{"$f":"Assignments!D18","v":1.72},{"$f":"Assignments!E18","v":0.34},null,null,null,null,null,null,"     Multi-family","--",null,{"$f":"IF(N37=\"After 1995\",Assignments!Q31,(IF(N37=\"Before 1995\",Assignments!Q64,IF(N37=\"New\",MAX(Assignments!Q31,Assignments!Q64),\"--\"))))","v":"--"},{"$f":"IF(N37=\"After 1995\",Assignments!Q20,(IF(N37=\"Before 1995\",Assignments!Q53,IF(N37=\"New\",MAX(Assignments!Q20,Assignments!Q53),\"--\"))))","v":"--"}]
[null,null,"     Impervious, uncovered storage",{"$f":"Assignments!D19","v":1.72},{"$f":"Assignments!E19","v":0.34},null,null,null,null,null,null,"     Townhomes","--",null,{"$f":"IF(N38=\"Before 1995\",Assignments!Q30,(IF(N38=\"After 1995\",Assignments!Q63,IF(N38=\"New\",MAX(Assignments!Q30,Assignments!Q63),\"--\"))))","v":"--"},{"$f":"IF(N38=\"After 1995\",Assignments!Q19,(IF(N38=\"Before 1995\",Assignments!Q52,IF(N38=\"New\",MAX(Assignments!Q19,Assignments!Q52),\"--\"))))","v":"--"}]
[null,null,"     Pervious, uncovered storage",{"$f":"Assignments!D20","v":1.47},{"$f":"Assignments!E20","v":0.25},null,null,null,null,null,null,"     Custom Lot Size",null,null,{"$f":"IF(M39<>0,'WS Calcs'!C77,\"--\")","v":"--"},{"$f":"IF(M39<>0,'WS Calcs'!C78,\"--\")","v":"--"}]
[null,null,"TRANSPORTATION",null,null,null,null,null,null,null,null,"PART B"]
[null,null,"     Primary road EOP",{"$f":"Assignments!D22","v":1.46},{"$f":"Assignments!E22","v":0.08},null,null,null,null,null,null,"     Roadway",null,"--",{"$f":"Assignments!D57","v":1.4},{"$f":"Assignments!E57","v":0.52}]
[null,null,"     Secondary road EOP",{"$f":"Assignments!D23","v":0.54},{"$f":"Assignments!E23","v":0.1},null,null,null,null,null,null,"     Driveway",null,1,{"$f":"Assignments!D58","v":1.44},{"$f":"Assignments!E58","v":0.39}]
[null,null,"     Bridge EOP",{"$f":"Assignments!D24","v":0.98},{"$f":"Assignments!E24","v":0.17},null,null,null,null,null,null,"     Parking lot",null,"--",{"$f":"Assignments!D59","v":1.44},{"$f":"Assignments!E59","v":0.39}]
[null,null,"     Sidewalk",{"$f":"Assignments!D25","v":1.4},{"$f":"Assignments!E25","v":1.1599999999999999},null,null,null,null,null,null,"     Roof",null,"--",{"$f":"Assignments!D60","v":1.08},{"$f":"Assignments!E60","v":0.15}]
[null,null,"REST AREA",null,null,null,null,null,null,null,null,"     Sidewalk/Patio",null,"--",{"$f":"Assignments!D61","v":1.4},{"$f":"Assignments!E61","v":1.1599999999999999}]
[null,null,"     Parking lot (car)",{"$f":"Assignments!D27","v":2.13},{"$f":"Assignments!E27","v":0.48},null,null,null,null,null,null,"     Lawn",null,"--",{"$f":"Assignments!D62","v":2.2400000000000002},{"$f":"Assignments!E62","v":0.44}]
[null,null,"     Parking lot (truck)",{"$f":"Assignments!D28","v":3.21},{"$f":"Assignments!E28","v":1.38},null,null,null,null,null,null,"     Managed pervious",null,"--",{"$f":"Assignments!D63","v":3.06},{"$f":"Assignments!E63","v":0.59}]
[null,null,"     Roof",{"$f":"Assignments!D29","v":1.08},{"$f":"Assignments!E29","v":0.15},null,null,null,null,null,null,"     Forest",null,"--",{"$f":"Assignments!D64","v":1.47},{"$f":"Assignments!E64","v":0.25}]
[null,null,"PERVIOUS",null,null,null,null,null,null,null,null,"     Natural wetland*",null,"--","--","--"]
[null,null,"     Managed lawn (fertilized)",{"$f":"Assignments!D31","v":3.06},{"$f":"Assignments!E31","v":0.59},null,null,null,null,null,null,"     Riparian buffer*",null,"--","--","--"]
[null,null,"     Open space (unfertilized)",{"$f":"Assignments!D32","v":1.47},{"$f":"Assignments!E32","v":0.25},null,null,null,null,null,null,"     Open water*",null,"--","--","--"]
[null,null,"     Open/Landscaped",{"$f":"Assignments!D33","v":2.2400000000000002},{"$f":"Assignments!E33","v":0.44},null,null,null,null,null,null,"LAND TAKEN UP BY BMPs",null,"--",{"$f":"Assignments!D65","v":1.08},{"$f":"Assignments!E65","v":0.15}]
[null,null,"     Agriculture (crop)",{"$f":"Assignments!D34","v":4.2300000000000004},{"$f":"Assignments!E34","v":1.23}]
[null,null,"     Agriculture (animal)",{"$f":"Assignments!D35","v":3.61},{"$f":"Assignments!E35","v":1.56}]
[null,null,"     Forest",{"$f":"Assignments!D36","v":1.47},{"$f":"Assignments!E36","v":0.25}]
[null,null,"UNSPECIFIED LAND USE",null,null,null,null,null,null,null,null,"LAND USE AREA CHECK"]
[null,null,"     Blank 1",{"$f":"Assignments!D38","v":"NA"},{"$f":"Assignments!E38","v":"NA"},null,null,null,null,null,null,"Total Development Area Entered (ft2):",null,null,null,null,{"$f":"O21","v":0}]
[null,null,"     Blank 2",{"$f":"Assignments!D39","v":"NA"},{"$f":"Assignments!E39","v":"NA"}]
[null,null,"JURISDICTIONAL LANDS*",null,null,null,null,null,null,null,null,"Total Pre-Development Calculated Area (ft2):",null,null,null,null,{"$f":"SUM(F32:F33,F35:F37,F41:F44,F50:F55,Q32:Q39,Q41:Q52,F60:F63)","v":0}]
[null,null,"     Natural wetland","--","--"]
[null,null,"     Riparian buffer","--","--",null,null,null,null,null,null,"Total Post-Development Calculated Area (ft2):",null,null,null,null,{"$f":"SUM(G32:G33,G35:G37,G41:G44,G50:G55,R32:R39,R41:R52,G60:G63)","v":0}]
[null,null,"     Open water","--","--"]
[null,null,"LAND TAKEN UP BY BMPs",{"$f":"Assignments!D65","v":1.08},{"$f":"Assignments!E65","v":0.15}]
[]
[null,null,"*Jurisdictional land uses are not included in nutrient/flow calculations."]
[]
[null,null,{"$f":"IF(Q57<>O21, \"Total pre-development land use areas do not sum to equal entered development size!!!\", IF(Q59<>O21, \"Total post-development land use areas do not sum to equal entered development size!!!\", IF(Q61<>O21, \"Land use areas entered for pre-development conditions do not sum to equal areas entered for post-development conditions!!!\", \"\")))","v":""}]

{"sheet":"BMP Reset","index":8,"n_rows":108,"n_cols":52,"rows_kept":108,"cut":false,"hidden":true,"merged":[[39,47,42,47],[39,51,42,51],[107,4,107,8],[107,11,107,15],[107,18,107,22],[107,25,107,29],[107,32,107,36],[107,39,107,43],[39,41,42,41],[39,43,42,43],[39,36,42,36],[39,39,42,39],[32,47,36,51],[39,1,42,1],[39,4,42,4],[39,6,42,6],[39,8,42,8],[39,11,42,11],[39,13,42,13],[39,15,42,15],[39,18,42,18],[39,20,42,20],[39,22,42,22],[39,25,42,25],[39,27,42,27],[39,29,42,29],[39,32,42,32],[39,34,42,34],[24,25,24,29],[24,32,24,36],[24,39,24,43],[26,47,26,51],[31,4,31,43],[24,4,24,8],[24,11,24,15],[24,18,24,22],[18,30,18,35],[18,36,18,38],[18,39,18,40],[19,30,19,35],[19,36,19,38],[19,39,19,40],[15,30,15,35],[15,36,15,38],[15,39,15,40],[16,1,17,25],[21,30,21,35],[21,36,21,38],[21,39,21,40],[20,30,20,35],[20,36,20,38],[20,39,20,40],[16,30,16,35],[16,36,16,38],[16,39,16,40],[17,30,17,35],[17,36,17,38],[17,39,17,40],[13,30,13,35],[13,36,13,38],[13,39,13,40],[14,30,14,35],[14,36,14,38],[14,39,14,40],[11,1,11,27],[11,30,11,35],[11,36,11,38],[11,39,11,40],[12,30,12,35],[12,36,12,38],[12,39,12,40],[9,30,9,35],[9,36,9,38],[9,39,9,40],[10,30,10,35],[10,36,10,38],[10,39,10,40],[7,30,7,35],[7,36,7,38],[7,39,7,40],[8,30,8,35],[8,36,8,38],[8,39,8,40],[5,30,5,35],[5,36,5,38],[5,39,5,40],[6,30,6,35],[6,36,6,38],[6,39,6,40],[1,30,1,41],[2,30,4,34],[2,35,4,35],[2,36,4,38],[2,39,4,39],[2,41,4,41]]}
[]
[null,"BMP Characteristics",null,null,null,null,null,null,null,null,null,null,null,null,null,null,null,null,null,null,null,null,null,null,null,null,null,null,null,null,"BMP DETAILS"]
[null,null,null,null,null,null,null,null,null,null,null,null,null,null,null,null,null,null,null,null,null,null,null,null,null,null,null,null,null,null,"BMP",null,null,null,null,null,"Volume Reduction (%)",null,null,"TN Effluent Concen. (mg/L)",null,"TP Effluent Concen. (mg/L)"]
[null,"Instructions"]
[null,"     1. Select the type of BMP for each catchment."]
[null,"     2. Enter the area of each land use type in the contributing drainage area for each BMP. ",null,null,null,null,null,null,null,null,null,null,null,null,null,null,null,null,null,null,null,null,null,null,null,null,null,null,null,null,"Bioembankment",null,null,null,null,null,{"$f":"VLOOKUP(Assignments!AB3,Assignments!$V$23:$AA$118,4,FALSE)","v":{"$error":"#N/A"}},null,null,{"$f":"Assignments!C69","v":"NA"},null,{"$f":"Assignments!D69","v":"NA"}]
[null,"     3. Continue to \"Development Summary\" tab.",null,null,null,null,null,null,null,null,null,null,null,null,null,null,null,null,null,null,null,null,null,null,null,null,null,null,null,null,"Biofiltration Conveyance",null,null,null,null,null,{"$f":"VLOOKUP(Assignments!AB4,Assignments!$V$23:$AA$118,4,FALSE)","v":{"$error":"#N/A"}},null,null,{"$f":"Assignments!C70","v":"NA"},null,{"$f":"Assignments!D70","v":"NA"}]
[null,null,null,null,null,null,null,null,null,null,null,null,null,null,null,null,null,null,null,null,null,null,null,null,null,null,null,null,null,null,"Bioretention with IWS",null,null,null,null,null,{"$f":"VLOOKUP(Assignments!AB5,Assignments!$V$23:$AA$118,4,FALSE)","v":{"$error":"#N/A"}},null,null,{"$f":"Assignments!C71","v":0.56999999999999995},null,{"$f":"Assignments!D71","v":7.0000000000000007E-2}]
[null,"Additional Guidelines",null,null,null,null,null,null,null,null,null,null,null,null,null,null,null,null,null,null,null,null,null,null,null,null,null,null,null,null,"Bioretention without IWS",null,null,null,null,null,{"$f":"VLOOKUP(Assignments!AB6,Assignments!$V$23:$AA$118,4,FALSE)","v":{"$error":"#N/A"}},null,null,{"$f":"Assignments!C72","v":0.79},null,{"$f":"Assignments!D72","v":0.17}]
[null,"     - This spreadsheet allows the development to be divided into as many as 6 smaller catchments. ",null,null,null,null,null,null,null,null,null,null,null,null,null,null,null,null,null,null,null,null,null,null,null,null,null,null,null,null,"Dry Detention Basin",null,null,null,null,null,{"$f":"VLOOKUP(Assignments!AB7,Assignments!$V$23:$AA$118,4,FALSE)","v":{"$error":"#N/A"}},null,null,{"$f":"Assignments!C73","v":1.58},null,{"$f":"Assignments!D73","v":0.22}]
[null,"     - BMPs 1, 2, and 3 for a given catchment are assumed to operate in series, with the outflow from 1 serving as the inflow to 2, etc. ",null,null,null,null,null,null,null,null,null,null,null,null,null,null,null,null,null,null,null,null,null,null,null,null,null,null,null,null,"Grassed Swale",null,null,null,null,null,{"$f":"VLOOKUP(Assignments!AB8,Assignments!$V$23:$AA$118,4,FALSE)","v":{"$error":"#N/A"}},null,null,{"$f":"Assignments!C74","v":1.08},null,{"$f":"Assignments!D74","v":0.15}]
[null,"     - If the outflow from an entire catchment (including outflow from selected BMPs) drains to another BMP, indicate this in the drop down menu below the BMP type and leave all cells for individual land uses blank. ",null,null,null,null,null,null,null,null,null,null,null,null,null,null,null,null,null,null,null,null,null,null,null,null,null,null,null,null,"Green Roof",null,null,null,null,null,{"$f":"VLOOKUP(Assignments!AB9,Assignments!$V$23:$AA$118,4,FALSE)","v":{"$error":"#N/A"}},null,null,{"$f":"Assignments!C75","v":0},null,{"$f":"Assignments!D75","v":0}]
[null,"     - Not all BMP or catchments must be utilized. Simply leave fields blank in the columns not needed.",null,null,null,null,null,null,null,null,null,null,null,null,null,null,null,null,null,null,null,null,null,null,null,null,null,null,null,null,"Infiltration Basin",null,null,null,null,null,{"$f":"VLOOKUP(Assignments!AB10,Assignments!$V$23:$AA$118,4,FALSE)","v":{"$error":"#N/A"}},null,null,{"$f":"Assignments!C76","v":1.2},null,{"$f":"Assignments!D76","v":0.154}]
[null,"     - Leave cells blank or insert zeroes if a land use is not present in the area draining to the BMP.",null,null,null,null,null,null,null,null,null,null,null,null,null,null,null,null,null,null,null,null,null,null,null,null,null,null,null,null,"Level Spreader",null,null,null,null,null,{"$f":"VLOOKUP(Assignments!AB11,Assignments!$V$23:$AA$118,4,FALSE)","v":{"$error":"#N/A"}},null,null,{"$f":"Assignments!C77","v":"NA"},null,{"$f":"Assignments!D77","v":"NA"}]
[null,"     - For water harvesting BMPs, be sure to enter the percent volume reduction that will be achieved by your system.  Volume detention (catch-and-release mechanisms) will not be considered - only proven volume reductions are valid inputs. ",null,null,null,null,null,null,null,null,null,null,null,null,null,null,null,null,null,null,null,null,null,null,null,null,null,null,null,null,"Other",null,null,null,null,null,{"$f":"VLOOKUP(Assignments!AB12,Assignments!$V$23:$AA$118,4,FALSE)","v":{"$error":"#N/A"}},null,null,{"$f":"Assignments!C78","v":1.44},null,{"$f":"Assignments!D78","v":0.39}]
[null,"     - The BMP undersizing option should only be used for existing development or retrofit sites.",null,null,null,null,null,null,null,null,null,null,null,null,null,null,null,null,null,null,null,null,null,null,null,null,null,null,null,null,"Permeable Pavement",null,null,null,null,null,{"$f":"VLOOKUP(Assignments!AB13,Assignments!$V$23:$AA$118,4,FALSE)","v":{"$error":"#N/A"}},null,null,{"$f":"Assignments!C79","v":0.92},null,{"$f":"Assignments!D79","v":0.14000000000000001}]
[null,"     - Volume reduction efficiencies for undersized BMPs are calculated based on a 1:1 ratio (a BMP that is 60% smaller than the required design size is assigned a removal efficiency equal to 60% of the standard efficiency\n       value). Effluent concentrations remain the same as full-sized BMPs.",null,null,null,null,null,null,null,null,null,null,null,null,null,null,null,null,null,null,null,null,null,null,null,null,null,null,null,null,"Sand Filter",null,null,null,null,null,{"$f":"VLOOKUP(Assignments!AB14,Assignments!$V$23:$AA$118,4,FALSE)","v":{"$error":"#N/A"}},null,null,{"$f":"Assignments!C80","v":1.04},null,{"$f":"Assignments!D80","v":0.1}]
[null,null,null,null,null,null,null,null,null,null,null,null,null,null,null,null,null,null,null,null,null,null,null,null,null,null,null,null,null,null,"Stormwater Wetland",null,null,null,null,null,{"$f":"VLOOKUP(Assignments!AB15,Assignments!$V$23:$AA$118,4,FALSE)","v":{"$error":"#N/A"}},null,null,{"$f":"Assignments!C81","v":0.56999999999999995},null,{"$f":"Assignments!D81","v":0.11}]
[null,"     - IMPORTANT: for the land area calculation checks to occur, you MUST press enter after entering a value for area to be treated by a BMP (not just click on the next cell).",null,null,null,null,null,null,null,null,null,null,null,null,null,null,null,null,null,null,null,null,null,null,null,null,null,null,null,null,"Vegetated Filter Strip",null,null,null,null,null,{"$f":"VLOOKUP(Assignments!AB16,Assignments!$V$23:$AA$118,4,FALSE)","v":{"$error":"#N/A"}},null,null,{"$f":"Assignments!C82","v":"NA"},null,{"$f":"Assignments!D82","v":"NA"}]
[null,"     - See User's Manual for instructions on modeling oversized BMPs.",null,null,null,null,null,null,null,null,null,null,null,null,null,null,null,null,null,null,null,null,null,null,null,null,null,null,null,null,"Water Harvesting*",null,null,null,null,null,"user defined",null,null,{"$f":"Assignments!C83","v":1.08},null,{"$f":"Assignments!D83","v":0.15}]
[null,null,null,null,null,null,null,null,null,null,null,null,null,null,null,null,null,null,null,null,null,null,null,null,null,null,null,null,null,null,"Wet Detention Basin",null,null,null,null,null,{"$f":"VLOOKUP(Assignments!AB18,Assignments!$V$23:$AA$118,4,FALSE)","v":{"$error":"#N/A"}},null,null,{"$f":"Assignments!C84","v":1.01},null,{"$f":"Assignments!D84","v":0.113}]
[null,null,null,null,null,null,null,null,null,null,null,null,null,null,null,null,null,null,null,null,null,null,null,null,null,null,null,null,null,null,"Wooded Buffer",null,null,null,null,null,{"$f":"VLOOKUP(Assignments!AB19,Assignments!$V$23:$AA$118,4,FALSE)","v":{"$error":"#N/A"}},null,null,{"$f":"Assignments!C85","v":1.47},null,{"$f":"Assignments!D85","v":0.25}]
[]
[null,null,null,null,{"$f":"IF(AND(E27<>0,E107=0,E34=\"no\",E35=\"no\",E36=\"no\",E37=\"no\",E38=\"no\"),\"WARNING: A BMP is entered, but drainage areas are not defined.\",IF(AND(E27=0,OR(E33=\"yes\",E34=\"yes\",E35=\"yes\",E36=\"yes\",E37=\"yes\",E38=\"yes\")),\"WARNING: Catchment routing set to YES but no BMP is defined.\",\"\"))","v":""},null,{"$f":"IF(AND(E27=0,G27<>0,G107=0,G34=\"no\",G35=\"no\",G36=\"no\",G37=\"no\",G38=\"no\"),\"WARNING: A BMP is entered, but drainage areas are not defined.\",IF(AND(G27=0,OR(G33=\"yes\",G34=\"yes\",G35=\"yes\",G36=\"yes\",G37=\"yes\",G38=\"yes\")),\"WARNING: Catchment routing set to YES but no BMP is defined.\",\"\"))","v":""},null,{"$f":"IF(AND(G27=0,I27<>0,I107=0,I34=\"no\",I35=\"no\",I36=\"no\",I37=\"no\",I38=\"no\"),\"WARNING: A BMP is entered, but drainage areas are not defined.\",IF(AND(I27=0,OR(I33=\"yes\",I34=\"yes\",I35=\"yes\",I36=\"yes\",I37=\"yes\",I38=\"yes\")),\"WARNING: Catchment routing set to YES but no BMP is defined.\",\"\"))","v":""},null,null,{"$f":"IF(AND(L27<>0,L107=0,L33=\"no\",L35=\"no\",L36=\"no\",L37=\"no\",L38=\"no\"),\"WARNING: A BMP is entered, but drainage areas are not defined.\",IF(AND(L27=0,OR(L33=\"yes\",L34=\"yes\",L35=\"yes\",L36=\"yes\",L37=\"yes\",L38=\"yes\")),\"WARNING: Catchment routing set to YES but no BMP is defined.\",\"\"))","v":""},null,{"$f":"IF(AND(L27=0,N27<>0,N107=0,N33=\"no\",N35=\"no\",N36=\"no\",N37=\"no\",N38=\"no\"),\"WARNING: A BMP is entered, but drainage areas are not defined.\",IF(AND(N27=0,OR(N33=\"yes\",N34=\"yes\",N35=\"yes\",N36=\"yes\",N37=\"yes\",N38=\"yes\")),\"WARNING: Catchment routing set to YES but no BMP is defined.\",\"\"))","v":""},null,{"$f":"IF(AND(N27=0,P27<>0,P107=0,P33=\"no\",P35=\"no\",P36=\"no\",P37=\"no\",P38=\"no\"),\"WARNING: A BMP is entered, but drainage areas are not defined.\",IF(AND(P27=0,OR(P33=\"yes\",P34=\"yes\",P35=\"yes\",P36=\"yes\",P37=\"yes\",P38=\"yes\")),\"WARNING: Catchment routing set to YES but no BMP is defined.\",\"\"))","v":""},null,null,{"$f":"IF(AND(S27<>0,S107=0,S33=\"no\",S34=\"no\",S36=\"no\",S37=\"no\",S38=\"no\"),\"WARNING: A BMP is entered, but drainage areas are not defined.\",IF(AND(S27=0,OR(S33=\"yes\",S34=\"yes\",S35=\"yes\",S36=\"yes\",S37=\"yes\",S38=\"yes\")),\"WARNING: Catchment routing set to YES but no BMP is defined.\",\"\"))","v":""},null,{"$f":"IF(AND(S27=0,U27<>0,U107=0,U33=\"no\",U34=\"no\",U36=\"no\",U37=\"no\",U38=\"no\"),\"WARNING: A BMP is entered, but drainage areas are not defined.\",IF(AND(U27=0,OR(U33=\"yes\",U34=\"yes\",U35=\"yes\",U36=\"yes\",U37=\"yes\",U38=\"yes\")),\"WARNING: Catchment routing set to YES but no BMP is defined.\",\"\"))","v":""},null,{"$f":"IF(AND(U27=0,W27<>0,W107=0,W33=\"no\",W34=\"no\",W36=\"no\",W37=\"no\",W38=\"no\"),\"WARNING: A BMP is entered, but drainage areas are not defined.\",IF(AND(W27=0,OR(W33=\"yes\",W34=\"yes\",W35=\"yes\",W36=\"yes\",W37=\"yes\",W38=\"yes\")),\"WARNING: Catchment routing set to YES but no BMP is defined.\",\"\"))","v":""},null,null,{"$f":"IF(AND(Z27<>0,Z107=0,Z33=\"no\",Z34=\"no\",Z35=\"no\",Z37=\"no\",Z38=\"no\"),\"WARNING: A BMP is entered, but drainage areas are not defined.\",IF(AND(Z27=0,OR(Z33=\"yes\",Z34=\"yes\",Z35=\"yes\",Z36=\"yes\",Z37=\"yes\",Z38=\"yes\")),\"WARNING: Catchment routing set to YES but no BMP is defined.\",\"\"))","v":""},null,{"$f":"IF(AND(Z27=0,AB27<>0,AB107=0,AB33=\"no\",AB34=\"no\",AB35=\"no\",AB37=\"no\",AB38=\"no\"),\"WARNING: A BMP is entered, but drainage areas are not defined.\",IF(AND(AB27=0,OR(AB33=\"yes\",AB34=\"yes\",AB35=\"yes\",AB36=\"yes\",AB37=\"yes\",AB38=\"yes\")),\"WARNING: Catchment routing set to YES but no BMP is defined.\",\"\"))","v":""},null,{"$f":"IF(AND(AB27=0,AD27<>0,AD107=0,AD33=\"no\",AD34=\"no\",AD35=\"no\",AD37=\"no\",AD38=\"no\"),\"WARNING: A BMP is entered, but drainage areas are not defined.\",IF(AND(AD27=0,OR(AD33=\"yes\",AD34=\"yes\",AD35=\"yes\",AD36=\"yes\",AD37=\"yes\",AD38=\"yes\")),\"WARNING: Catchment routing set to YES but no BMP is defined.\",\"\"))","v":""},null,null,{"$f":"IF(AND(AG27<>0,AG107=0,AG33=\"no\",AG34=\"no\",AG35=\"no\",AG36=\"no\",AG38=\"no\"),\"WARNING: A BMP is entered, but drainage areas are not defined.\",IF(AND(AG27=0,OR(AG33=\"yes\",AG34=\"yes\",AG35=\"yes\",AG36=\"yes\",AG37=\"yes\",AG38=\"yes\")),\"WARNING: Catchment routing set to YES but no BMP is defined.\",\"\"))","v":""},null,{"$f":"IF(AND(AG27=0,AI27<>0,AI107=0,AI33=\"no\",AI34=\"no\",AI35=\"no\",AI36=\"no\",AI38=\"no\"),\"WARNING: A BMP is entered, but drainage areas are not defined.\",IF(AND(AI27=0,OR(AI33=\"yes\",AI34=\"yes\",AI35=\"yes\",AI36=\"yes\",AI37=\"yes\",AI38=\"yes\")),\"WARNING: Catchment routing set to YES but no BMP is defined.\",\"\"))","v":""},null,{"$f":"IF(AND(AI27=0,AK27<>0,AK107=0,AK33=\"no\",AK34=\"no\",AK35=\"no\",AK36=\"no\",AK38=\"no\"),\"WARNING: A BMP is entered, but drainage areas are not defined.\",IF(AND(AK27=0,OR(AK33=\"yes\",AK34=\"yes\",AK35=\"yes\",AK36=\"yes\",AK37=\"yes\",AK38=\"yes\")),\"WARNING: Catchment routing set to YES but no BMP is defined.\",\"\"))","v":""},null,null,{"$f":"IF(AND(AN27<>0,AN107=0,AN33=\"no\",AN34=\"no\",AN35=\"no\",AN36=\"no\",AN37=\"no\"),\"WARNING: A BMP is entered, but drainage areas are not defined.\",IF(AND(AN27=0,OR(AN33=\"yes\",AN34=\"yes\",AN35=\"yes\",AN36=\"yes\",AN37=\"yes\",AN38=\"yes\")),\"WARNING: Catchment routing set to YES but no BMP is defined.\",\"\"))","v":""},null,{"$f":"IF(AND(AN27=0,AP27<>0,AP107=0,AP33=\"no\",AP34=\"no\",AP35=\"no\",AP36=\"no\",AP37=\"no\"),\"WARNING: A BMP is entered, but drainage areas are not defined.\",IF(AND(AP27=0,OR(AP33=\"yes\",AP34=\"yes\",AP35=\"yes\",AP36=\"yes\",AP37=\"yes\",AP38=\"yes\")),\"WARNING: Catchment routing set to YES but no BMP is defined.\",\"\"))","v":""},null,{"$f":"IF(AND(AP27=0,AR27<>0,AR107=0,AR27=0,AR33=\"no\",AR34=\"no\",AR35=\"no\",AR36=\"no\",AR37=\"no\"),\"WARNING: A BMP is entered, but drainage areas are not defined.\",IF(AND(AR27=0,OR(AR33=\"yes\",AR34=\"yes\",AR35=\"yes\",AR36=\"yes\",AR37=\"yes\",AR38=\"yes\")),\"WARNING: Catchment routing set to YES but no BMP is defined.\",\"\"))","v":""}]
[null,null,null,null,"---------------------------    CATCHMENT 1    -----------------------------",null,null,null,null,null,null,"---------------------------    CATCHMENT 2    -----------------------------",null,null,null,null,null,null,"---------------------------    CATCHMENT 3    -----------------------------",null,null,null,null,null,null,"---------------------------    CATCHMENT 4    -----------------------------",null,null,null,null,null,null,"---------------------------    CATCHMENT 5    -----------------------------",null,null,null,null,null,null,"---------------------------    CATCHMENT 6    -----------------------------"]
[null,null,null,null,"BMP #1",null,"BMP #2",null,"BMP #3",null,null,"BMP #1",null,"BMP #2",null,"BMP #3",null,null,"BMP #1",null,"BMP #2",null,"BMP #3",null,null,"BMP #1",null,"BMP #2",null,"BMP #3",null,null,"BMP #1",null,"BMP #2",null,"BMP #3",null,null,"BMP #1",null,"BMP #2",null,"BMP #3"]
[null,"Type of BMP:"]
[]
[null,"If BMP is undersized, indicate the BMP's size relative to the design size required to capture the designated water quality depth (i.e. 0.75 = BMP is 75% of required design size):"]
[]
[null,"*For water harvesting BMP, enter percent volume reduction in decimal form."]
[null,null,null,null,"Does BMP accept the outflow from another Catchment? If so, indicate which one(s). (Land use areas entered below are in addition to the watershed areas treated by contributing catchment(s).)"]
[null,"Catchment 1:",null,null,"--",null,"--",null,"--",null,null,"no",null,"no",null,"no",null,null,"no",null,"no",null,"no",null,null,"no",null,"no",null,"no",null,null,"no",null,"no",null,"no",null,null,"no",null,"no",null,"no"]
[null,"Catchment 2:",null,null,"no",null,"no",null,"no",null,null,"--",null,"--",null,"--",null,null,"no",null,"no",null,"no",null,null,"no",null,"no",null,"no",null,null,"no",null,"no",null,"no",null,null,"no",null,"no",null,"no"]
[null,"Catchment 3:",null,null,"no",null,"no",null,"no",null,null,"no",null,"no",null,"no",null,null,"--",null,"--",null,"--",null,null,"no",null,"no",null,"no",null,null,"no",null,"no",null,"no",null,null,"no",null,"no",null,"no"]
[null,"Catchment 4:",null,null,"no",null,"no",null,"no",null,null,"no",null,"no",null,"no",null,null,"no",null,"no",null,"no",null,null,"--",null,"--",null,"--",null,null,"no",null,"no",null,"no",null,null,"no",null,"no",null,"no"]
[null,"Catchment 5:",null,null,"no",null,"no",null,"no",null,null,"no",null,"no",null,"no",null,null,"no",null,"no",null,"no",null,null,"no",null,"no",null,"no",null,null,"--",null,"--",null,"--",null,null,"no",null,"no",null,"no"]
[null,"Catchment 6:",null,null,"no",null,"no",null,"no",null,null,"no",null,"no",null,"no",null,null,"no",null,"no",null,"no",null,null,"no",null,"no",null,"no",null,null,"no",null,"no",null,"no",null,null,"--",null,"--",null,"--"]
[]
[null,"Drainage Area Land Use",null,null,"Area Treated\nby BMP\n(ft2)",null,"Area treated\nby BMP #2 that is not treated by BMP #1\n(ft2)",null,"Area treated\nby BMP #3 that is not treated by BMPs #1 or #2\n(ft2)",null,null,"Area Treated\nby BMP\n(ft2)",null,"Area treated\nby BMP #2 that is not treated by BMP #1\n(ft2)",null,"Area treated\nby BMP #3 that is not treated by BMPs #1 or #2\n(ft2)",null,null,"Area Treated\nby BMP\n(ft2)",null,"Area treated\nby BMP #2 that is not treated by BMP #1\n(ft2)",null,"Area treated\nby BMP #3 that is not treated by BMPs #1 or #2\n(ft2)",null,null,"Area Treated\nby BMP\n(ft2)",null,"Area treated\nby BMP #2 that is not treated by BMP #1\n(ft2)",null,"Area treated\nby BMP #3 that is not treated by BMPs #1 or #2\n(ft2)",null,null,"Area Treated\nby BMP\n(ft2)",null,"Area treated\nby BMP #2 that is not treated by BMP #1\n(ft2)",null,"Area treated\nby BMP #3 that is not treated by BMPs #1 or #2\n(ft2)",null,null,"Area Treated\nby BMP\n(ft2)",null,"Area treated\nby BMP #2 that is not treated by BMP #1\n(ft2)",null,"Area treated\nby BMP #3 that is not treated by BMPs #1 or #2\n(ft2)",null,null,null,"Total Land Use Area Treated By All BMPs\n(ft2)",null,null,null,"Allowable Total Land Use Area to be Treated Based on Post-Dev. Areas\n(ft2)"]
[]
[]
[]
[null,"COMMERCIAL"]
[null,"     Parking lot",null,null,null,null,null,null,null,null,null,null,null,null,null,null,null,null,null,null,null,null,null,null,null,null,null,null,null,null,null,null,null,null,null,null,null,null,null,null,null,null,null,null,null,null,null,{"$f":"SUM(AR45,AP45,AN45,AK45,AI45,AG45,AD45,AB45,Z45,W45,U45,S45,P45,N45,L45,I45,G45,E45)","v":0},null,null,null,{"$f":"'1. Watershed Characteristics'!G32","v":0}]
[null,"     Roof",null,null,null,null,null,null,null,null,null,null,null,null,null,null,null,null,null,null,null,null,null,null,null,null,null,null,null,null,null,null,null,null,null,null,null,null,null,null,null,null,null,null,null,null,null,{"$f":"SUM(AR46,AP46,AN46,AK46,AI46,AG46,AD46,AB46,Z46,W46,U46,S46,P46,N46,L46,I46,G46,E46)","v":0},null,null,null,{"$f":"'1. Watershed Characteristics'!G33","v":0}]
[null,"INDUSTRIAL"]
[null,"     Parking lot",null,null,null,null,null,null,null,null,null,null,null,null,null,null,null,null,null,null,null,null,null,null,null,null,null,null,null,null,null,null,null,null,null,null,null,null,null,null,null,null,null,null,null,null,null,{"$f":"SUM(AR48,AP48,AN48,AK48,AI48,AG48,AD48,AB48,Z48,W48,U48,S48,P48,N48,L48,I48,G48,E48)","v":0},null,null,null,{"$f":"'1. Watershed Characteristics'!G35","v":0}]
[null,"     Roof",null,null,null,null,null,null,null,null,null,null,null,null,null,null,null,null,null,null,null,null,null,null,null,null,null,null,null,null,null,null,null,null,null,null,null,null,null,null,null,null,null,null,null,null,null,{"$f":"SUM(AR49,AP49,AN49,AK49,AI49,AG49,AD49,AB49,Z49,W49,U49,S49,P49,N49,L49,I49,G49,E49)","v":0},null,null,null,{"$f":"'1. Watershed Characteristics'!G36","v":0}]
[null,"     Access road",null,null,null,null,null,null,null,null,null,null,null,null,null,null,null,null,null,null,null,null,null,null,null,null,null,null,null,null,null,null,null,null,null,null,null,null,null,null,null,null,null,null,null,null,null,{"$f":"SUM(AR50,AP50,AN50,AK50,AI50,AG50,AD50,AB50,Z50,W50,U50,S50,P50,N50,L50,I50,G50,E50)","v":0},null,null,null,{"$f":"'1. Watershed Characteristics'!G37","v":0}]
[null,"     Impervious, uncovered storage",null,null,null,null,null,null,null,null,null,null,null,null,null,null,null,null,null,null,null,null,null,null,null,null,null,null,null,null,null,null,null,null,null,null,null,null,null,null,null,null,null,null,null,null,null,{"$f":"SUM(AR51,AP51,AN51,AK51,AI51,AG51,AD51,AB51,Z51,W51,U51,S51,P51,N51,L51,I51,G51,E51)","v":0},null,null,null,{"$f":"'1. Watershed Characteristics'!G38","v":0}]
[null,"     Pervious, uncovered storage",null,null,null,null,null,null,null,null,null,null,null,null,null,null,null,null,null,null,null,null,null,null,null,null,null,null,null,null,null,null,null,null,null,null,null,null,null,null,null,null,null,null,null,null,null,0,null,null,null,{"$f":"'1. Watershed Characteristics'!G39","v":0}]
[null,"TRANSPORTATION"]
[null,"     Primary road EOP",null,null,null,null,null,null,null,null,null,null,null,null,null,null,null,null,null,null,null,null,null,null,null,null,null,null,null,null,null,null,null,null,null,null,null,null,null,null,null,null,null,null,null,null,null,0,null,null,null,{"$f":"'1. Watershed Characteristics'!G41","v":0}]
[null,"     Secondary road EOP",null,null,null,null,null,null,null,null,null,null,null,null,null,null,null,null,null,null,null,null,null,null,null,null,null,null,null,null,null,null,null,null,null,null,null,null,null,null,null,null,null,null,null,null,null,0,null,null,null,{"$f":"'1. Watershed Characteristics'!G42","v":0}]
[null,"     Bridge EOP",null,null,null,null,null,null,null,null,null,null,null,null,null,null,null,null,null,null,null,null,null,null,null,null,null,null,null,null,null,null,null,null,null,null,null,null,null,null,null,null,null,null,null,null,null,0,null,null,null,{"$f":"'1. Watershed Characteristics'!G43","v":0}]
[null,"     Sidewalk",null,null,null,null,null,null,null,null,null,null,null,null,null,null,null,null,null,null,null,null,null,null,null,null,null,null,null,null,null,null,null,null,null,null,null,null,null,null,null,null,null,null,null,null,null,0,null,null,null,{"$f":"'1. Watershed Characteristics'!G44","v":0}]
[null,"REST AREA"]
[null,"     Parking lot (car)",null,null,null,null,null,null,null,null,null,null,null,null,null,null,null,null,null,null,null,null,null,null,null,null,null,null,null,null,null,null,null,null,null,null,null,null,null,null,null,null,null,null,null,null,null,0,null,null,null,{"$f":"'1. Watershed Characteristics'!G46","v":0}]
[null,"     Parking lot (truck)",null,null,null,null,null,null,null,null,null,null,null,null,null,null,null,null,null,null,null,null,null,null,null,null,null,null,null,null,null,null,null,null,null,null,null,null,null,null,null,null,null,null,null,null,null,0,null,null,null,{"$f":"'1. Watershed Characteristics'!G47","v":0}]
[null,"     Roof",null,null,null,null,null,null,null,null,null,null,null,null,null,null,null,null,null,null,null,null,null,null,null,null,null,null,null,null,null,null,null,null,null,null,null,null,null,null,null,null,null,null,null,null,null,0,null,null,null,{"$f":"'1. Watershed Characteristics'!G48","v":0}]
[null,"MISC. PERVIOUS"]
[null,"     Managed lawn (fertilized)",null,null,null,null,null,null,null,null,null,null,null,null,null,null,null,null,null,null,null,null,null,null,null,null,null,null,null,null,null,null,null,null,null,null,null,null,null,null,null,null,null,null,null,null,null,0,null,null,null,{"$f":"'1. Watershed Characteristics'!G50","v":0}]
[null,"     Open space (unfertilized)",null,null,null,null,null,null,null,null,null,null,null,null,null,null,null,null,null,null,null,null,null,null,null,null,null,null,null,null,null,null,null,null,null,null,null,null,null,null,null,null,null,null,null,null,null,0,null,null,null,{"$f":"'1. Watershed Characteristics'!G51","v":0}]
[null,"     Open/Landscaped",null,null,null,null,null,null,null,null,null,null,null,null,null,null,null,null,null,null,null,null,null,null,null,null,null,null,null,null,null,null,null,null,null,null,null,null,null,null,null,null,null,null,null,null,null,0,null,null,null,{"$f":"'1. Watershed Characteristics'!G52","v":0}]
[null,"     Agriculture (crop)",null,null,null,null,null,null,null,null,null,null,null,null,null,null,null,null,null,null,null,null,null,null,null,null,null,null,null,null,null,null,null,null,null,null,null,null,null,null,null,null,null,null,null,null,null,0,null,null,null,{"$f":"'1. Watershed Characteristics'!G53","v":0}]
[null,"     Agriculture (animal)",null,null,null,null,null,null,null,null,null,null,null,null,null,null,null,null,null,null,null,null,null,null,null,null,null,null,null,null,null,null,null,null,null,null,null,null,null,null,null,null,null,null,null,null,null,0,null,null,null,{"$f":"'1. Watershed Characteristics'!G54","v":0}]
[null,"     Forest",null,null,null,null,null,null,null,null,null,null,null,null,null,null,null,null,null,null,null,null,null,null,null,null,null,null,null,null,null,null,null,null,null,null,null,null,null,null,null,null,null,null,null,null,null,0,null,null,null,{"$f":"'1. Watershed Characteristics'!G55","v":0}]
[null,"UNSPECIFIED LAND USE"]
[null,"     Blank 1",null,null,null,null,null,null,null,null,null,null,null,null,null,null,null,null,null,null,null,null,null,null,null,null,null,null,null,null,null,null,null,null,null,null,null,null,null,null,null,null,null,null,null,null,null,0,null,null,null,{"$f":"'1. Watershed Characteristics'!G57","v":0}]
[null,"     Blank 2",null,null,null,null,null,null,null,null,null,null,null,null,null,null,null,null,null,null,null,null,null,null,null,null,null,null,null,null,null,null,null,null,null,null,null,null,null,null,null,null,null,null,null,null,null,0,null,null,null,{"$f":"'1. Watershed Characteristics'!G58","v":0}]
[null,"RESIDENTIAL"]
[null,"     2-ac lots (New)",null,null,null,null,null,null,null,null,null,null,null,null,null,null,null,null,null,null,null,null,null,null,null,null,null,null,null,null,null,null,null,null,null,null,null,null,null,null,null,null,null,null,null,null,null,0,null,null,null,{"$f":"IF('1. Watershed Characteristics'!N36=\"New\",'1. Watershed Characteristics'!R36,0)","v":0}]
[null,"     2-ac lots (Built after 1995)",null,null,null,null,null,null,null,null,null,null,null,null,null,null,null,null,null,null,null,null,null,null,null,null,null,null,null,null,null,null,null,null,null,null,null,null,null,null,null,null,null,null,null,null,null,0,null,null,null,{"$f":"IF('1. Watershed Characteristics'!N36=\"After 1995\",'1. Watershed Characteristics'!R36,0)","v":0}]
[null,"     2-ac lots (Built before 1995)",null,null,null,null,null,null,null,null,null,null,null,null,null,null,null,null,null,null,null,null,null,null,null,null,null,null,null,null,null,null,null,null,null,null,null,null,null,null,null,null,null,null,null,null,null,0,null,null,null,{"$f":"IF('1. Watershed Characteristics'!N36=\"Before 1995\",'1. Watershed Characteristics'!R36,0)","v":0}]
[null,"     1-ac lots (New)",null,null,null,null,null,null,null,null,null,null,null,null,null,null,null,null,null,null,null,null,null,null,null,null,null,null,null,null,null,null,null,null,null,null,null,null,null,null,null,null,null,null,null,null,null,0,null,null,null,{"$f":"IF('1. Watershed Characteristics'!N35=\"New\",'1. Watershed Characteristics'!R35,0)","v":0}]
[null,"     1-ac lots (Built after 1995)",null,null,null,null,null,null,null,null,null,null,null,null,null,null,null,null,null,null,null,null,null,null,null,null,null,null,null,null,null,null,null,null,null,null,null,null,null,null,null,null,null,null,null,null,null,0,null,null,null,{"$f":"IF('1. Watershed Characteristics'!N35=\"After 1995\",'1. Watershed Characteristics'!R35,0)","v":0}]
[null,"     1-ac lots (Built before 1995)",null,null,null,null,null,null,null,null,null,null,null,null,null,null,null,null,null,null,null,null,null,null,null,null,null,null,null,null,null,null,null,null,null,null,null,null,null,null,null,null,null,null,null,null,null,0,null,null,null,{"$f":"IF('1. Watershed Characteristics'!N35=\"Before 1995\",'1. Watershed Characteristics'!R35,0)","v":0}]
[null,"     ½-ac lots (New)",null,null,null,null,null,null,null,null,null,null,null,null,null,null,null,null,null,null,null,null,null,null,null,null,null,null,null,null,null,null,null,null,null,null,null,null,null,null,null,null,null,null,null,null,null,0,null,null,null,{"$f":"IF('1. Watershed Characteristics'!N34=\"New\",'1. Watershed Characteristics'!R34,0)","v":0}]
[null,"     ½-ac lots (Built after 1995)",null,null,null,null,null,null,null,null,null,null,null,null,null,null,null,null,null,null,null,null,null,null,null,null,null,null,null,null,null,null,null,null,null,null,null,null,null,null,null,null,null,null,null,null,null,0,null,null,null,{"$f":"IF('1. Watershed Characteristics'!N34=\"After 1995\",'1. Watershed Characteristics'!R34,0)","v":0}]
[null,"     ½-ac lots (Built before 1995)",null,null,null,null,null,null,null,null,null,null,null,null,null,null,null,null,null,null,null,null,null,null,null,null,null,null,null,null,null,null,null,null,null,null,null,null,null,null,null,null,null,null,null,null,null,0,null,null,null,{"$f":"IF('1. Watershed Characteristics'!N34=\"Before 1995\",'1. Watershed Characteristics'!R34,0)","v":0}]
[null,"     ¼-ac lots (New)",null,null,null,null,null,null,null,null,null,null,null,null,null,null,null,null,null,null,null,null,null,null,null,null,null,null,null,null,null,null,null,null,null,null,null,null,null,null,null,null,null,null,null,null,null,0,null,null,null,{"$f":"IF('1. Watershed Characteristics'!N33=\"New\",'1. Watershed Characteristics'!R33,0)","v":0}]
[null,"     ¼-ac lots (Built after 1995)",null,null,null,null,null,null,null,null,null,null,null,null,null,null,null,null,null,null,null,null,null,null,null,null,null,null,null,null,null,null,null,null,null,null,null,null,null,null,null,null,null,null,null,null,null,0,null,null,null,{"$f":"IF('1. Watershed Characteristics'!N33=\"After 1995\",'1. Watershed Characteristics'!R33,0)","v":0}]
[null,"     ¼-ac lots (Built before 1995)",null,null,null,null,null,null,null,null,null,null,null,null,null,null,null,null,null,null,null,null,null,null,null,null,null,null,null,null,null,null,null,null,null,null,null,null,null,null,null,null,null,null,null,null,null,0,null,null,null,{"$f":"IF('1. Watershed Characteristics'!N33=\"Before 1995\",'1. Watershed Characteristics'!R33,0)","v":0}]
[null,"     ⅛-ac lots (New)",null,null,null,null,null,null,null,null,null,null,null,null,null,null,null,null,null,null,null,null,null,null,null,null,null,null,null,null,null,null,null,null,null,null,null,null,null,null,null,null,null,null,null,null,null,0,null,null,null,{"$f":"IF('1. Watershed Characteristics'!N32=\"New\",'1. Watershed Characteristics'!R32,0)","v":0}]
[null,"     ⅛-ac lots (Built after 1995)",null,null,null,null,null,null,null,null,null,null,null,null,null,null,null,null,null,null,null,null,null,null,null,null,null,null,null,null,null,null,null,null,null,null,null,null,null,null,null,null,null,null,null,null,null,0,null,null,null,{"$f":"IF('1. Watershed Characteristics'!N32=\"After 1995\",'1. Watershed Characteristics'!R32,0)","v":0}]
[null,"     ⅛-ac lots (Built before 1995)",null,null,null,null,null,null,null,null,null,null,null,null,null,null,null,null,null,null,null,null,null,null,null,null,null,null,null,null,null,null,null,null,null,null,null,null,null,null,null,null,null,null,null,null,null,0,null,null,null,{"$f":"IF('1. Watershed Characteristics'!N32=\"Before 1995\",'1. Watershed Characteristics'!R32,0)","v":0}]
[null,"     Townhomes (New)",null,null,null,null,null,null,null,null,null,null,null,null,null,null,null,null,null,null,null,null,null,null,null,null,null,null,null,null,null,null,null,null,null,null,null,null,null,null,null,null,null,null,null,null,null,0,null,null,null,{"$f":"IF('1. Watershed Characteristics'!N38=\"New\",'1. Watershed Characteristics'!R38,0)","v":0}]
[null,"     Townhomes (Built after 1995)",null,null,null,null,null,null,null,null,null,null,null,null,null,null,null,null,null,null,null,null,null,null,null,null,null,null,null,null,null,null,null,null,null,null,null,null,null,null,null,null,null,null,null,null,null,0,null,null,null,{"$f":"IF('1. Watershed Characteristics'!N38=\"After 1995\",'1. Watershed Characteristics'!R38,0)","v":0}]
[null,"     Townhomes (Built before 1995)",null,null,null,null,null,null,null,null,null,null,null,null,null,null,null,null,null,null,null,null,null,null,null,null,null,null,null,null,null,null,null,null,null,null,null,null,null,null,null,null,null,null,null,null,null,0,null,null,null,{"$f":"IF('1. Watershed Characteristics'!N38=\"Before 1995\",'1. Watershed Characteristics'!R38,0)","v":0}]
[null,"     Multi-family (New)",null,null,null,null,null,null,null,null,null,null,null,null,null,null,null,null,null,null,null,null,null,null,null,null,null,null,null,null,null,null,null,null,null,null,null,null,null,null,null,null,null,null,null,null,null,0,null,null,null,{"$f":"IF('1. Watershed Characteristics'!N37=\"New\",'1. Watershed Characteristics'!R37,0)","v":0}]
[null,"     Multi-family (Built after 1995)",null,null,null,null,null,null,null,null,null,null,null,null,null,null,null,null,null,null,null,null,null,null,null,null,null,null,null,null,null,null,null,null,null,null,null,null,null,null,null,null,null,null,null,null,null,0,null,null,null,{"$f":"IF('1. Watershed Characteristics'!N37=\"After 1995\",'1. Watershed Characteristics'!R37,0)","v":0}]
[null,"     Multi-family (Built before 1995)",null,null,null,null,null,null,null,null,null,null,null,null,null,null,null,null,null,null,null,null,null,null,null,null,null,null,null,null,null,null,null,null,null,null,null,null,null,null,null,null,null,null,null,null,null,0,null,null,null,{"$f":"IF('1. Watershed Characteristics'!N37=\"Before 1995\",'1. Watershed Characteristics'!R37,0)","v":0}]
[null,"     Custom Lot Size (New)",null,null,null,null,null,null,null,null,null,null,null,null,null,null,null,null,null,null,null,null,null,null,null,null,null,null,null,null,null,null,null,null,null,null,null,null,null,null,null,null,null,null,null,null,null,0,null,null,null,{"$f":"IF('1. Watershed Characteristics'!N39=\"New\",'1. Watershed Characteristics'!R39,0)","v":0}]
[null,"     Custom Lot Size (Built after 1995)",null,null,null,null,null,null,null,null,null,null,null,null,null,null,null,null,null,null,null,null,null,null,null,null,null,null,null,null,null,null,null,null,null,null,null,null,null,null,null,null,null,null,null,null,null,0,null,null,null,{"$f":"IF('1. Watershed Characteristics'!N39=\"After 1995\",'1. Watershed Characteristics'!R39,0)","v":0}]
[null,"     Custom Lot Size (Built before 1995)",null,null,null,null,null,null,null,null,null,null,null,null,null,null,null,null,null,null,null,null,null,null,null,null,null,null,null,null,null,null,null,null,null,null,null,null,null,null,null,null,null,null,null,null,null,0,null,null,null,{"$f":"IF('1. Watershed Characteristics'!N39=\"Before 1995\",'1. Watershed Characteristics'!R39,0)","v":0}]
[null,"     Roadway",null,null,null,null,null,null,null,null,null,null,null,null,null,null,null,null,null,null,null,null,null,null,null,null,null,null,null,null,null,null,null,null,null,null,null,null,null,null,null,null,null,null,null,null,null,0,null,null,null,{"$f":"'1. Watershed Characteristics'!R41","v":0}]
[null,"     Driveway",null,null,null,null,null,null,null,null,null,null,null,null,null,null,null,null,null,null,null,null,null,null,null,null,null,null,null,null,null,null,null,null,null,null,null,null,null,null,null,null,null,null,null,null,null,0,null,null,null,{"$f":"'1. Watershed Characteristics'!R42","v":0}]
[null,"     Parking lot",null,null,null,null,null,null,null,null,null,null,null,null,null,null,null,null,null,null,null,null,null,null,null,null,null,null,null,null,null,null,null,null,null,null,null,null,null,null,null,null,null,null,null,null,null,0,null,null,null,{"$f":"'1. Watershed Characteristics'!R43","v":0}]
[null,"     Roof",null,null,null,null,null,null,null,null,null,null,null,null,null,null,null,null,null,null,null,null,null,null,null,null,null,null,null,null,null,null,null,null,null,null,null,null,null,null,null,null,null,null,null,null,null,0,null,null,null,{"$f":"'1. Watershed Characteristics'!R44","v":0}]
[null,"     Sidewalk",null,null,null,null,null,null,null,null,null,null,null,null,null,null,null,null,null,null,null,null,null,null,null,null,null,null,null,null,null,null,null,null,null,null,null,null,null,null,null,null,null,null,null,null,null,0,null,null,null,{"$f":"'1. Watershed Characteristics'!R45","v":0}]
[null,"     Lawn",null,null,null,null,null,null,null,null,null,null,null,null,null,null,null,null,null,null,null,null,null,null,null,null,null,null,null,null,null,null,null,null,null,null,null,null,null,null,null,null,null,null,null,null,null,0,null,null,null,{"$f":"'1. Watershed Characteristics'!R46","v":0}]
[null,"     Managed pervious",null,null,null,null,null,null,null,null,null,null,null,null,null,null,null,null,null,null,null,null,null,null,null,null,null,null,null,null,null,null,null,null,null,null,null,null,null,null,null,null,null,null,null,null,null,0,null,null,null,{"$f":"'1. Watershed Characteristics'!R47","v":0}]
[null,"     Forest",null,null,null,null,null,null,null,null,null,null,null,null,null,null,null,null,null,null,null,null,null,null,null,null,null,null,null,null,null,null,null,null,null,null,null,null,null,null,null,null,null,null,null,null,null,0,null,null,null,{"$f":"'1. Watershed Characteristics'!R48","v":0}]
[null,"LAND TAKEN UP BY BMP",null,null,null,null,null,null,null,null,null,null,null,null,null,null,null,null,null,null,null,null,null,null,null,null,null,null,null,null,null,null,null,null,null,null,null,null,null,null,null,null,null,null,null,null,null,0,null,null,null,{"$f":"'1. Watershed Characteristics'!G74+'1. Watershed Characteristics'!R52","v":0}]
[]
[null,"TOTAL AREA TREATED BY BMP (ft2):",null,null,{"$f":"SUM(E73:E105,E63:E68,E54:E57,E48:E52,E45:E46,E59:E61,E70:E71)","v":0},{"$f":"SUM(F73:F105,F63:F68,F54:F57,F48:F52,F45:F46,F59:F61,F70:F71)","v":0},0,0,0,null,null,{"$f":"SUM(L73:L105,L63:L68,L54:L57,L48:L52,L45:L46,L59:L61,L70:L71)","v":0},{"$f":"SUM(M73:M105,M63:M68,M54:M57,M48:M52,M45:M46,M59:M61,M70:M71)","v":0},0,0,0,null,null,{"$f":"SUM(S73:S105,S63:S68,S54:S57,S48:S52,S45:S46,S59:S61,S70:S71)","v":0},{"$f":"SUM(T73:T105,T63:T68,T54:T57,T48:T52,T45:T46,T59:T61,T70:T71)","v":0},0,0,0,null,null,{"$f":"SUM(Z73:AA105,Z63:Z68,Z54:Z57,Z48:AA52,Z45:Z46,Z59:Z61,Z70:Z71)","v":0},{"$f":"SUM(AA73:AB105,AA63:AA68,AA54:AA57,AA48:AB52,AA45:AA46,AA59:AA61,AA70:AA71)","v":0},0,0,0,null,null,{"$f":"SUM(AG73:AG105,AG63:AG68,AG54:AG57,AG48:AG52,AG45:AG46,AG59:AG61,AG70:AG71)","v":0},{"$f":"SUM(AH73:AH105,AH63:AH68,AH54:AH57,AH48:AH52,AH45:AH46,AH59:AH61,AH70:AH71)","v":0},0,0,0,null,null,{"$f":"SUM(AN73:AO105,AN63:AN68,AN54:AN57,AN48:AN52,AN45:AN46,AN59:AN61,AN70:AN71)","v":0},{"$f":"SUM(AO73:AP105,AO63:AO68,AO54:AO57,AO48:AO52,AO45:AO46,AO59:AO61,AO70:AO71)","v":0},0,0,0]
[null,"TOTAL AREA TREATED BY SERIES (ft2):",null,null,{"$f":"SUM(E107:I107)","v":0},null,null,null,null,null,null,{"$f":"SUM(L107,N107,P107)","v":0},null,null,null,null,null,null,{"$f":"SUM(S107,U107,W107)","v":0},null,null,null,null,null,null,{"$f":"SUM(Z107,AB107,AD107)","v":0},null,null,null,null,null,null,{"$f":"SUM(AG107,AI107,AK107)","v":0},null,null,null,null,null,null,{"$f":"SUM(AN107:AR107)","v":0}]